{"text_format":"1","workbook":"xlsx","n_sheets":5,"sheets":["Composições","Comp.Aux1","Comp.Aux2","Orçamentária","BDI"],"not_rendered":{"charts":0,"images":3,"macros":1,"external_links":0,"defined_names":13,"comments":0,"pivot_tables":0},"unopened":[],"bounds":{"document_bytes":16777216,"sheet_cells":100000,"rows_first":2000,"rows_last":500,"rows_between":2000,"halvings":0,"cell_chars":16384,"cell_head_chars":4096},"cells_cut":0,"cells_raw":0,"read":"whole","date_system":"1900"}

{"sheet":"Composições","index":0,"n_rows":4970,"n_cols":10,"rows_kept":4970,"cut":false,"hidden":false,"merged":[[4788,0,4794,0],[4788,1,4794,1],[4795,0,4807,0],[4795,1,4807,1],[4775,0,4780,0],[4775,1,4780,1],[4781,0,4787,0],[4781,1,4787,1],[4716,0,4721,0],[4716,1,4721,1],[4722,0,4727,0],[4722,1,4727,1],[4728,0,4734,0],[4728,1,4734,1],[4735,0,4741,0],[4735,1,4741,1],[4742,0,4748,0],[4742,1,4748,1],[4749,0,4756,0],[4749,1,4756,1],[4757,0,4762,0],[4757,1,4762,1],[4763,0,4768,0],[4763,1,4768,1],[4769,0,4774,0],[4769,1,4774,1],[4662,0,4667,0],[4662,1,4667,1],[4668,0,4673,0],[4668,1,4673,1],[4674,0,4679,0],[4674,1,4679,1],[4680,0,4685,0],[4680,1,4685,1],[4686,0,4692,0],[4686,1,4692,1],[4693,0,4697,0],[4693,1,4697,1],[4698,0,4705,0],[4698,1,4705,1],[4706,0,4711,0],[4706,1,4711,1],[4712,0,4715,0],[4712,1,4715,1],[4603,0,4609,0],[4603,1,4609,1],[4610,0,4616,0],[4610,1,4616,1],[4617,0,4623,0],[4617,1,4623,1],[4624,0,4628,0],[4624,1,4628,1],[4629,0,4635,0],[4629,1,4635,1],[4636,1,4642,1],[4636,0,4642,0],[4643,0,4649,0],[4643,1,4649,1],[4650,0,4656,0],[4650,1,4656,1],[4657,0,4661,0],[4657,1,4661,1],[4539,0,4546,0],[4539,1,4546,1],[4547,0,4554,0],[4547,1,4554,1],[4555,0,4562,0],[4555,1,4562,1],[4563,0,4570,0],[4563,1,4570,1],[4507,0,4514,0],[4507,1,4514,1],[4571,0,4580,0],[4571,1,4580,1],[4581,0,4588,0],[4581,1,4588,1],[4589,0,4595,0],[4589,1,4595,1],[4596,0,4602,0],[4596,1,4602,1],[4472,0,4481,0],[4472,1,4481,1],[4482,0,4491,0],[4482,1,4491,1],[4492,0,4496,0],[4492,1,4496,1],[4497,0,4501,0],[4497,1,4501,1],[4502,0,4506,0],[4502,1,4506,1],[4515,0,4522,0],[4515,1,4522,1],[4523,0,4530,0],[4523,1,4530,1],[4531,0,4538,0],[4531,1,4538,1],[4456,0,4466,0],[4456,1,4466,1],[4467,0,4471,0],[4467,1,4471,1],[4430,0,4441,0],[4430,1,4441,1],[4442,0,4447,0],[4442,1,4447,1],[4448,0,4455,0],[4448,1,4455,1],[4407,0,4412,0],[4407,1,4412,1],[4413,0,4420,0],[4413,1,4420,1],[4421,0,4429,0],[4421,1,4429,1],[4381,0,4388,0],[4381,1,4388,1],[4389,0,4396,0],[4389,1,4396,1],[4397,0,4406,0],[4397,1,4406,1],[4355,0,4366,0],[4355,1,4366,1],[4367,0,4374,0],[4367,1,4374,1],[4375,0,4380,0],[4375,1,4380,1],[4332,0,4340,0],[4332,1,4340,1],[4341,0,4348,0],[4341,1,4348,1],[4349,0,4354,0],[4349,1,4354,1],[4293,0,4304,0],[4293,1,4304,1],[4305,0,4323,0],[4305,1,4323,1],[4324,0,4331,0],[4324,1,4331,1],[4269,0,4274,0],[4269,1,4274,1],[4275,0,4280,0],[4275,1,4280,1],[4281,0,4292,0],[4281,1,4292,1],[4250,0,4254,0],[4250,1,4254,1],[4255,0,4260,0],[4255,1,4260,1],[4261,0,4268,0],[4261,1,4268,1],[4231,0,4238,0],[4231,1,4238,1],[4239,0,4244,0],[4239,1,4244,1],[4245,0,4249,0],[4245,1,4249,1],[4197,0,4202,0],[4197,1,4202,1],[4203,0,4222,0],[4203,1,4222,1],[4223,0,4230,0],[4223,1,4230,1],[4164,0,4171,0],[4164,1,4171,1],[4172,0,4187,0],[4172,1,4187,1],[4188,0,4196,0],[4188,1,4196,1],[4134,0,4143,0],[4134,1,4143,1],[4144,0,4153,0],[4144,1,4153,1],[4154,0,4163,0],[4154,1,4163,1],[4108,0,4117,0],[4108,1,4117,1],[4118,0,4125,0],[4118,1,4125,1],[4126,0,4133,0],[4126,1,4133,1],[4081,0,4089,0],[4081,1,4089,1],[4090,0,4098,0],[4090,1,4098,1],[4099,0,4107,0],[4099,1,4107,1],[4055,0,4061,0],[4055,1,4061,1],[4062,0,4071,0],[4062,1,4071,1],[4072,0,4080,0],[4072,1,4080,1],[4003,0,4011,0],[4003,1,4011,1],[4012,0,4027,0],[4012,1,4027,1],[4028,0,4054,0],[4028,1,4054,1],[3980,0,3987,0],[3980,1,3987,1],[3988,0,3992,0],[3988,1,3992,1],[3993,0,4002,0],[3993,1,4002,1],[3967,0,3972,0],[3967,1,3972,1],[3973,0,3979,0],[3973,1,3979,1],[3943,0,3952,0],[3943,1,3952,1],[3953,0,3958,0],[3953,1,3958,1],[3959,0,3966,0],[3959,1,3966,1],[3925,0,3930,0],[3925,1,3930,1],[3931,0,3936,0],[3931,1,3936,1],[3937,0,3942,0],[3937,1,3942,1],[3907,0,3910,0],[3907,1,3910,1],[3911,0,3917,0],[3911,1,3917,1],[3918,0,3924,0],[3918,1,3924,1],[3878,0,3884,0],[3878,1,3884,1],[3885,0,3895,0],[3885,1,3895,1],[3896,0,3906,0],[3896,1,3906,1],[3852,0,3859,0],[3852,1,3859,1],[3860,0,3867,0],[3860,1,3867,1],[3868,0,3877,0],[3868,1,3877,1],[3833,0,3836,0],[3833,1,3836,1],[3837,0,3843,0],[3837,1,3843,1],[3844,0,3851,0],[3844,1,3851,1],[3814,0,3819,0],[3814,1,3819,1],[3820,0,3826,0],[3820,1,3826,1],[3827,0,3832,0],[3827,1,3832,1],[3790,0,3798,0],[3790,1,3798,1],[3799,0,3807,0],[3799,1,3807,1],[3808,0,3813,0],[3808,1,3813,1],[3763,0,3771,0],[3763,1,3771,1],[3772,0,3780,0],[3772,1,3780,1],[3781,0,3789,0],[3781,1,3789,1],[3746,0,3749,0],[3746,1,3749,1],[3750,0,3753,0],[3750,1,3753,1],[3754,0,3762,0],[3754,1,3762,1],[3715,0,3727,0],[3715,1,3727,1],[3728,0,3740,0],[3728,1,3740,1],[3741,0,3745,0],[3741,1,3745,1],[3692,0,3699,0],[3692,1,3699,1],[3700,0,3706,0],[3700,1,3706,1],[3707,0,3714,0],[3707,1,3714,1],[3669,0,3675,0],[3669,1,3675,1],[3676,0,3684,0],[3676,1,3684,1],[3685,0,3691,0],[3685,1,3691,1],[3651,0,3656,0],[3651,1,3656,1],[3657,0,3662,0],[3657,1,3662,1],[3663,0,3668,0],[3663,1,3668,1],[3613,0,3627,0],[3613,1,3627,1],[3628,0,3634,0],[3628,1,3634,1],[3635,0,3650,0],[3635,1,3650,1],[3584,0,3592,0],[3584,1,3592,1],[3593,0,3600,0],[3593,1,3600,1],[3601,0,3612,0],[3601,1,3612,1],[3558,0,3562,0],[3558,1,3562,1],[3563,0,3573,0],[3563,1,3573,1],[3574,0,3583,0],[3574,1,3583,1],[3544,0,3547,0],[3544,1,3547,1],[3548,0,3551,0],[3548,1,3551,1],[3552,0,3557,0],[3552,1,3557,1],[3522,0,3530,0],[3522,1,3530,1],[3531,0,3539,0],[3531,1,3539,1],[3540,0,3543,0],[3540,1,3543,1],[3503,0,3506,0],[3503,1,3506,1],[3507,0,3516,0],[3507,1,3516,1],[3517,0,3521,0],[3517,1,3521,1],[3467,0,3478,0],[3467,1,3478,1],[3479,0,3491,0],[3479,1,3491,1],[3492,0,3502,0],[3492,1,3502,1],[3438,0,3443,0],[3438,1,3443,1],[3444,0,3458,0],[3444,1,3458,1],[3459,0,3466,0],[3459,1,3466,1],[3421,0,3425,0],[3421,1,3425,1],[3426,0,3433,0],[3426,1,3433,1],[3434,0,3437,0],[3434,1,3437,1],[3400,0,3405,0],[3400,1,3405,1],[3406,0,3415,0],[3406,1,3415,1],[3416,0,3420,0],[3416,1,3420,1],[3379,0,3386,0],[3379,1,3386,1],[3387,0,3392,0],[3387,1,3392,1],[3393,0,3399,0],[3393,1,3399,1],[3359,0,3366,0],[3359,1,3366,1],[3367,0,3373,0],[3367,1,3373,1],[3374,0,3378,0],[3374,1,3378,1],[3331,0,3346,0],[3331,1,3346,1],[3347,0,3352,0],[3347,1,3352,1],[3353,0,3358,0],[3353,1,3358,1],[3295,0,3311,0],[3295,1,3311,1],[3312,0,3323,0],[3312,1,3323,1],[3324,0,3330,0],[3324,1,3330,1],[3262,0,3269,0],[3262,1,3269,1],[3270,0,3286,0],[3270,1,3286,1],[3287,0,3294,0],[3287,1,3294,1],[3237,0,3240,0],[3237,1,3240,1],[3241,0,3250,0],[3241,1,3250,1],[3251,0,3261,0],[3251,1,3261,1],[3223,0,3227,0],[3223,1,3227,1],[3228,0,3232,0],[3228,1,3232,1],[3233,0,3236,0],[3233,1,3236,1],[3204,0,3210,0],[3204,1,3210,1],[3211,0,3217,0],[3211,1,3217,1],[3218,0,3222,0],[3218,1,3222,1],[3189,0,3192,0],[3189,1,3192,1],[3193,0,3196,0],[3193,1,3196,1],[3197,0,3203,0],[3197,1,3203,1],[3176,0,3179,0],[3176,1,3179,1],[3180,0,3183,0],[3180,1,3183,1],[3184,0,3188,0],[3184,1,3188,1],[3155,0,3161,0],[3155,1,3161,1],[3162,0,3168,0],[3162,1,3168,1],[3169,0,3175,0],[3169,1,3175,1],[3135,0,3140,0],[3135,1,3140,1],[3141,0,3149,0],[3141,1,3149,1],[3150,0,3154,0],[3150,1,3154,1],[3115,0,3121,0],[3115,1,3121,1],[3122,0,3128,0],[3122,1,3128,1],[3129,0,3134,0],[3129,1,3134,1],[3094,0,3100,0],[3094,1,3100,1],[3101,0,3107,0],[3101,1,3107,1],[3108,0,3114,0],[3108,1,3114,1],[3073,0,3079,0],[3073,1,3079,1],[3080,0,3086,0],[3080,1,3086,1],[3087,0,3093,0],[3087,1,3093,1],[3054,0,3058,0],[3054,1,3058,1],[3059,0,3065,0],[3059,1,3065,1],[3066,0,3072,0],[3066,1,3072,1],[3032,0,3037,0],[3032,1,3037,1],[3038,0,3043,0],[3038,1,3043,1],[3044,0,3053,0],[3044,1,3053,1],[3006,0,3012,0],[3006,1,3012,1],[3013,0,3025,0],[3013,1,3025,1],[3026,0,3031,0],[3026,1,3031,1],[2989,0,2996,0],[2989,1,2996,1],[2997,0,3001,0],[2997,1,3001,1],[3002,0,3005,0],[3002,1,3005,1],[2970,0,2974,0],[2970,1,2974,1],[2975,0,2980,0],[2975,1,2980,1],[2981,0,2988,0],[2981,1,2988,1],[2951,0,2956,0],[2951,1,2956,1],[2957,0,2962,0],[2957,1,2962,1],[2963,0,2969,0],[2963,1,2969,1],[2931,0,2936,0],[2931,1,2936,1],[2937,0,2943,0],[2937,1,2943,1],[2944,0,2950,0],[2944,1,2950,1],[2916,0,2920,0],[2916,1,2920,1],[2921,0,2925,0],[2921,1,2925,1],[2926,0,2930,0],[2926,1,2930,1],[2901,0,2905,0],[2901,1,2905,1],[2906,0,2910,0],[2906,1,2910,1],[2911,0,2915,0],[2911,1,2915,1],[2886,0,2890,0],[2886,1,2890,1],[2891,0,2895,0],[2891,1,2895,1],[2896,0,2900,0],[2896,1,2900,1],[2866,0,2872,0],[2866,1,2872,1],[2873,0,2877,0],[2873,1,2877,1],[2878,0,2885,0],[2878,1,2885,1],[2849,0,2853,0],[2849,1,2853,1],[2854,0,2861,0],[2854,1,2861,1],[2862,0,2865,0],[2862,1,2865,1],[2831,0,2835,0],[2831,1,2835,1],[2836,0,2840,0],[2836,1,2840,1],[2841,0,2848,0],[2841,1,2848,1],[2816,0,2820,0],[2816,1,2820,1],[2821,0,2825,0],[2821,1,2825,1],[2826,0,2830,0],[2826,1,2830,1],[2801,0,2805,0],[2801,1,2805,1],[2806,0,2810,0],[2806,1,2810,1],[2811,0,2815,0],[2811,1,2815,1],[2784,0,2788,0],[2784,1,2788,1],[2789,0,2795,0],[2789,1,2795,1],[2796,0,2800,0],[2796,1,2800,1],[2769,0,2773,0],[2769,1,2773,1],[2774,0,2778,0],[2774,1,2778,1],[2779,0,2783,0],[2779,1,2783,1],[2754,0,2758,0],[2754,1,2758,1],[2759,0,2763,0],[2759,1,2763,1],[2764,0,2768,0],[2764,1,2768,1],[2739,0,2743,0],[2739,1,2743,1],[2744,0,2748,0],[2744,1,2748,1],[2749,0,2753,0],[2749,1,2753,1],[2715,0,2722,0],[2715,1,2722,1],[2723,0,2730,0],[2723,1,2730,1],[2731,0,2738,0],[2731,1,2738,1],[2694,0,2698,0],[2694,1,2698,1],[2699,0,2706,0],[2699,1,2706,1],[2707,0,2714,0],[2707,1,2714,1],[2673,0,2683,0],[2673,1,2683,1],[2684,0,2688,0],[2684,1,2688,1],[2689,0,2693,0],[2689,1,2693,1],[2658,0,2662,0],[2658,1,2662,1],[2663,0,2667,0],[2663,1,2667,1],[2668,0,2672,0],[2668,1,2672,1],[2643,0,2647,0],[2643,1,2647,1],[2648,0,2652,0],[2648,1,2652,1],[2653,0,2657,0],[2653,1,2657,1],[2626,0,2632,0],[2626,1,2632,1],[2633,0,2637,0],[2633,1,2637,1],[2638,0,2642,0],[2638,1,2642,1],[2611,0,2615,0],[2611,1,2615,1],[2616,0,2620,0],[2616,1,2620,1],[2621,0,2625,0],[2621,1,2625,1],[2580,0,2586,0],[2580,1,2586,1],[2587,0,2593,0],[2587,1,2593,1],[2604,0,2610,0],[2604,1,2610,1],[2594,0,2598,0],[2594,1,2598,1],[2599,0,2603,0],[2599,1,2603,1],[2562,0,2567,0],[2562,1,2567,1],[2568,0,2573,0],[2568,1,2573,1],[2574,0,2579,0],[2574,1,2579,1],[2544,0,2549,0],[2544,1,2549,1],[2550,0,2555,0],[2550,1,2555,1],[2556,0,2561,0],[2556,1,2561,1],[2526,0,2531,0],[2526,1,2531,1],[2532,0,2537,0],[2532,1,2537,1],[2538,0,2543,0],[2538,1,2543,1],[2510,0,2513,0],[2510,1,2513,1],[2514,0,2519,0],[2514,1,2519,1],[2520,0,2525,0],[2520,1,2525,1],[2498,0,2501,0],[2498,1,2501,1],[2502,0,2505,0],[2502,1,2505,1],[2506,0,2509,0],[2506,1,2509,1],[2486,0,2489,0],[2486,1,2489,1],[2490,0,2493,0],[2490,1,2493,1],[2494,0,2497,0],[2494,1,2497,1],[2474,0,2477,0],[2474,1,2477,1],[2478,0,2481,0],[2478,1,2481,1],[2482,0,2485,0],[2482,1,2485,1],[2458,0,2465,0],[2458,1,2465,1],[2466,0,2469,0],[2466,1,2469,1],[2470,0,2473,0],[2470,1,2473,1],[2438,0,2441,0],[2438,1,2441,1],[2442,0,2449,0],[2442,1,2449,1],[2450,0,2457,0],[2450,1,2457,1],[2426,0,2429,0],[2426,1,2429,1],[2430,0,2433,0],[2430,1,2433,1],[2434,0,2437,0],[2434,1,2437,1],[2414,0,2417,0],[2414,1,2417,1],[2418,0,2421,0],[2418,1,2421,1],[2422,0,2425,0],[2422,1,2425,1],[2395,0,2400,0],[2395,1,2400,1],[2401,0,2407,0],[2401,1,2407,1],[2408,0,2413,0],[2408,1,2413,1],[2374,0,2379,0],[2374,1,2379,1],[2380,0,2387,0],[2380,1,2387,1],[2388,0,2394,0],[2388,1,2394,1],[2359,0,2363,0],[2359,1,2363,1],[2364,0,2368,0],[2364,1,2368,1],[2369,0,2373,0],[2369,1,2373,1],[2341,0,2346,0],[2341,1,2346,1],[2347,0,2352,0],[2347,1,2352,1],[2353,0,2358,0],[2353,1,2358,1],[2321,0,2327,0],[2321,1,2327,1],[2328,0,2334,0],[2328,1,2334,1],[2335,0,2340,0],[2335,1,2340,1],[2285,0,2296,0],[2285,1,2296,1],[2297,0,2308,0],[2297,1,2308,1],[2309,0,2320,0],[2309,1,2320,1],[2255,0,2260,0],[2255,1,2260,1],[2261,0,2272,0],[2261,1,2272,1],[2273,0,2284,0],[2273,1,2284,1],[2227,0,2232,0],[2227,1,2232,1],[2233,0,2238,0],[2233,1,2238,1],[2239,0,2254,0],[2239,1,2254,1],[2209,0,2213,0],[2209,1,2213,1],[2214,0,2220,0],[2214,1,2220,1],[2221,0,2226,0],[2221,1,2226,1],[2185,0,2192,0],[2185,1,2192,1],[2193,0,2200,0],[2193,1,2200,1],[2201,0,2208,0],[2201,1,2208,1],[2161,0,2168,0],[2161,1,2168,1],[2169,0,2176,0],[2169,1,2176,1],[2177,0,2184,0],[2177,1,2184,1],[2139,0,2144,0],[2139,1,2144,1],[2145,0,2152,0],[2145,1,2152,1],[2153,0,2160,0],[2153,1,2160,1],[2121,0,2126,0],[2121,1,2126,1],[2127,0,2132,0],[2127,1,2132,1],[2133,0,2138,0],[2133,1,2138,1],[2099,0,2106,0],[2099,1,2106,1],[2107,0,2114,0],[2107,1,2114,1],[2115,0,2120,0],[2115,1,2120,1],[2075,0,2082,0],[2075,1,2082,1],[2083,0,2090,0],[2083,1,2090,1],[2091,0,2098,0],[2091,1,2098,1],[2051,0,2058,0],[2051,1,2058,1],[2059,0,2066,0],[2059,1,2066,1],[2067,0,2074,0],[2067,1,2074,1],[2027,0,2034,0],[2027,1,2034,1],[2035,0,2042,0],[2035,1,2042,1],[2043,0,2050,0],[2043,1,2050,1],[2007,0,2013,0],[2007,1,2013,1],[2014,0,2020,0],[2014,1,2020,1],[2021,0,2026,0],[2021,1,2026,1],[1985,0,1992,0],[1985,1,1992,1],[1993,0,1999,0],[1993,1,1999,1],[2000,0,2006,0],[2000,1,2006,1],[1963,0,1969,0],[1963,1,1969,1],[1970,0,1976,0],[1970,1,1976,1],[1977,0,1984,0],[1977,1,1984,1],[1946,0,1950,0],[1946,1,1950,1],[1951,0,1956,0],[1951,1,1956,1],[1957,0,1962,0],[1957,1,1962,1],[1930,0,1935,0],[1930,1,1935,1],[1936,0,1940,0],[1936,1,1940,1],[1941,0,1945,0],[1941,1,1945,1],[1915,0,1919,0],[1915,1,1919,1],[1920,0,1924,0],[1920,1,1924,1],[1925,0,1929,0],[1925,1,1929,1],[1897,0,1902,0],[1897,1,1902,1],[1903,0,1908,0],[1903,1,1908,1],[1909,0,1914,0],[1909,1,1914,1],[1879,0,1884,0],[1879,1,1884,1],[1885,0,1890,0],[1885,1,1890,1],[1891,0,1896,0],[1891,1,1896,1],[1861,0,1866,0],[1861,1,1866,1],[1867,0,1872,0],[1867,1,1872,1],[1873,0,1878,0],[1873,1,1878,1],[1843,0,1848,0],[1843,1,1848,1],[1849,0,1854,0],[1849,1,1854,1],[1855,0,1860,0],[1855,1,1860,1],[1824,0,1829,0],[1824,1,1829,1],[1830,0,1835,0],[1830,1,1835,1],[1836,0,1842,0],[1836,1,1842,1],[1808,0,1813,0],[1808,1,1813,1],[1814,0,1818,0],[1814,1,1818,1],[1819,0,1823,0],[1819,1,1823,1],[1787,0,1793,0],[1787,1,1793,1],[1794,0,1800,0],[1794,1,1800,1],[1801,0,1807,0],[1801,1,1807,1],[1766,0,1772,0],[1766,1,1772,1],[1773,0,1779,0],[1773,1,1779,1],[1780,0,1786,0],[1780,1,1786,1],[1737,0,1747,0],[1737,1,1747,1],[1748,0,1758,0],[1748,1,1758,1],[1759,0,1765,0],[1759,1,1765,1],[1707,0,1714,0],[1707,1,1714,1],[1715,0,1725,0],[1715,1,1725,1],[1726,0,1736,0],[1726,1,1736,1],[1687,0,1693,0],[1687,1,1693,1],[1694,0,1700,0],[1694,1,1700,1],[1701,0,1706,0],[1701,1,1706,1],[1671,0,1675,0],[1671,1,1675,1],[1676,0,1680,0],[1676,1,1680,1],[1681,0,1686,0],[1681,1,1686,1],[1654,0,1659,0],[1654,1,1659,1],[1660,0,1665,0],[1660,1,1665,1],[1666,0,1670,0],[1666,1,1670,1],[1637,0,1641,0],[1637,1,1641,1],[1642,0,1647,0],[1642,1,1647,1],[1648,0,1653,0],[1648,1,1653,1],[1620,0,1624,0],[1620,1,1624,1],[1625,0,1630,0],[1625,1,1630,1],[1631,0,1636,0],[1631,1,1636,1],[1601,0,1606,0],[1601,1,1606,1],[1607,0,1612,0],[1607,1,1612,1],[1613,0,1619,0],[1613,1,1619,1],[1573,0,1579,0],[1573,1,1579,1],[1580,0,1594,0],[1580,1,1594,1],[1595,0,1600,0],[1595,1,1600,1],[1552,0,1558,0],[1552,1,1558,1],[1559,0,1565,0],[1559,1,1565,1],[1566,0,1572,0],[1566,1,1572,1],[1528,0,1535,0],[1528,1,1535,1],[1536,0,1543,0],[1536,1,1543,1],[1544,0,1551,0],[1544,1,1551,1],[1497,0,1511,0],[1497,1,1511,1],[1512,0,1519,0],[1512,1,1519,1],[1520,0,1527,0],[1520,1,1527,1],[1452,0,1466,0],[1452,1,1466,1],[1467,0,1481,0],[1467,1,1481,1],[1482,0,1496,0],[1482,1,1496,1],[1407,0,1421,0],[1407,1,1421,1],[1422,0,1436,0],[1422,1,1436,1],[1437,0,1451,0],[1437,1,1451,1],[1388,0,1393,0],[1388,1,1393,1],[1394,0,1399,0],[1394,1,1399,1],[1400,0,1406,0],[1400,1,1406,1],[1370,0,1375,0],[1370,1,1375,1],[1376,0,1381,0],[1376,1,1381,1],[1382,0,1387,0],[1382,1,1387,1],[1351,0,1356,0],[1351,1,1356,1],[1357,0,1363,0],[1357,1,1363,1],[1364,0,1369,0],[1364,1,1369,1],[1332,0,1337,0],[1332,1,1337,1],[1338,0,1343,0],[1338,1,1343,1],[1344,0,1350,0],[1344,1,1350,1],[1312,0,1320,0],[1312,1,1320,1],[1321,0,1325,0],[1321,1,1325,1],[1326,0,1331,0],[1326,1,1331,1],[1290,0,1296,0],[1290,1,1296,1],[1297,0,1303,0],[1297,1,1303,1],[1304,0,1311,0],[1304,1,1311,1],[1270,0,1275,0],[1270,1,1275,1],[1276,0,1282,0],[1276,1,1282,1],[1283,0,1289,0],[1283,1,1289,1],[1249,0,1255,0],[1249,1,1255,1],[1256,0,1262,0],[1256,1,1262,1],[1263,0,1269,0],[1263,1,1269,1],[1228,0,1234,0],[1228,1,1234,1],[1235,0,1241,0],[1235,1,1241,1],[1242,0,1248,0],[1242,1,1248,1],[1207,0,1213,0],[1207,1,1213,1],[1214,0,1220,0],[1214,1,1220,1]],"merged_total":1392,"flags":["merged_cut"]}
[{"$f":"Orçamentária!A1","v":"Execução de serviços comuns de engenharia nas edificações do CASF"}]
["COMPOSIÇÕES DE CUSTO UNITÁRIO"]
[{"$f":"Orçamentária!A3","v":"Data: Outubro de 2020"}]
[]
["ITEM","DESCRIÇÃO","DISCRIMINAÇÃO DA COMPOSIÇÃO","UNIDADE","COEFICIENTE","CUSTO UNITÁRIO","CUSTO TOTAL","TOTAL DO SERVIÇO",null,"QTD"]
["SF-00001",{"$f":"INDEX(Orçamentária!A:B,MATCH(Composições!A6,Orçamentária!A:A,0),2)","v":"Engenheiro(a) /Arquiteto(a) júnior"},null,{"$f":"TRIM(INDEX(Orçamentária!C:C,MATCH(Composições!A6,Orçamentária!A:A,0),1))","v":"hh"},null,"",{"$f":"IF(ISNUMBER(F6),E6*F6,\"\")","v":""},null,null,3000]
[null,null,null,null,null,"","",null,null,3000]
[null,null,"Engenheiro civil de obra junior com encargos complementares","h",1,82.934999999999988,82.934999999999988,{"$f":"SUM(G8:G8)","v":82.934999999999988},null,3000]
[null,null,null,null,null,"","",null,null,3000]
["SF-00002",{"$f":"INDEX(Orçamentária!A:B,MATCH(Composições!A10,Orçamentária!A:A,0),2)","v":"Mestre de obras"},null,{"$f":"TRIM(INDEX(Orçamentária!C:C,MATCH(Composições!A10,Orçamentária!A:A,0),1))","v":"hh"},null,"","",null,null,6000]
[null,null,null,null,null,"","",null,null,6000]
[null,null,"Mestre de obras com encargos complementares","h",1,25.972999999999999,25.972999999999999,{"$f":"SUM(G12:G12)","v":25.972999999999999},null,6000]
[null,null,null,null,null,"","",null,null,6000]
["SF-00003",{"$f":"INDEX(Orçamentária!A:B,MATCH(Composições!A14,Orçamentária!A:A,0),2)","v":"Planejamento físico-financeiro"},null,{"$f":"TRIM(INDEX(Orçamentária!C:C,MATCH(Composições!A14,Orçamentária!A:A,0),1))","v":"un"},null,"","",null,null,0]
[null,null,null,null,null,"","",null,null,0]
[null,null,"Engenheiro Civil de Obra Pleno com encargos complementares","h",16,94.249499999999983,1507.9919999999997,{"$f":"SUM(G16:G16)","v":1507.9919999999997},null,0]
[null,null,null,null,null,"","",null,null,0]
["SF-00004",{"$f":"INDEX(Orçamentária!A:B,MATCH(Composições!A18,Orçamentária!A:A,0),2)","v":"Projetos de segurança do trabalho"},null,{"$f":"TRIM(INDEX(Orçamentária!C:C,MATCH(Composições!A18,Orçamentária!A:A,0),1))","v":"un"},null,"","",null,null,10]
[null,null,null,null,null,"","",null,null,10]
[null,null,"Engenheiro Civil Pleno com encargos complementares","h",20,94.572499999999991,1891.4499999999998,{"$f":"SUM(G20:G21)","v":2125.39},null,10]
[null,null,"Anotação de Responsabilidade Técnica","un",1,233.94,233.94,null,null,10]
[null,null,null,null,null,"","",null,null,10]
["SF-00005",{"$f":"INDEX(Orçamentária!A:B,MATCH(Composições!A23,Orçamentária!A:A,0),2)","v":"Demolição de alvenarias"},null,{"$f":"TRIM(INDEX(Orçamentária!C:C,MATCH(Composições!A23,Orçamentária!A:A,0),1))","v":"m3"},null,"","",null,null,100]
[null,null,null,null,null,"","",null,null,100]
[null,null,"Pedreiro com Encargos Complementares","h",0.22500000000000001,21.716999999999999,4.8863250000000003,{"$f":"SUM(G25:G26)","v":42.1447322},null,100]
[null,null,"Servente com Encargos Complementares","h",2.3248000000000002,16.026499999999999,37.258407200000001,null,null,100]
[null,null,null,null,null,"","",null,null,100]
["SF-00006",{"$f":"INDEX(Orçamentária!A:B,MATCH(Composições!A28,Orçamentária!A:A,0),2)","v":"Demolição de concreto simples"},null,{"$f":"TRIM(INDEX(Orçamentária!C:C,MATCH(Composições!A28,Orçamentária!A:A,0),1))","v":"m3"},null,"","",null,null,20]
[null,null,null,null,null,"","",null,null,20]
[null,null,"Pedreiro com Encargos Complementares","h",1.3,21.716999999999999,28.232099999999999,{"$f":"SUM(G30:G31)","v":236.57659999999998},null,20]
[null,null,"Servente com Encargos Complementares","h",13,16.026499999999999,208.34449999999998,null,null,20]
[null,null,null,null,null,"","",null,null,20]
["SF-00007",{"$f":"INDEX(Orçamentária!A:B,MATCH(Composições!A33,Orçamentária!A:A,0),2)","v":"Demolição de contrapiso"},null,{"$f":"TRIM(INDEX(Orçamentária!C:C,MATCH(Composições!A33,Orçamentária!A:A,0),1))","v":"m2"},null,"","",null,null,400]
[null,null,null,null,null,"","",null,null,400]
[null,null,"Servente com Encargos Complementares","h",0.7,16.026499999999999,11.218549999999999,{"$f":"SUM(G35:G35)","v":11.218549999999999},null,400]
[null,null,null,null,null,"","",null,null,400]
["SF-00008",{"$f":"INDEX(Orçamentária!A:B,MATCH(Composições!A37,Orçamentária!A:A,0),2)","v":"Demolição de fechamento ou parede em gesso acartonado"},null,{"$f":"TRIM(INDEX(Orçamentária!C:C,MATCH(Composições!A37,Orçamentária!A:A,0),1))","v":"m2"},null,"","",null,null,200]
[null,null,null,null,null,"","",null,null,200]
[null,null,"Montador de estrutura metálica com encargos complementares","h",0.1186,16.596499999999999,1.9683448999999997,{"$f":"SUM(G39:G40)","v":5.7009167499999993},null,200]
[null,null,"Servente com Encargos Complementares","h",0.2329,16.026499999999999,3.7325718499999998,null,null,200]
[null,null,null,null,null,"","",null,null,200]
["SF-00009",{"$f":"INDEX(Orçamentária!A:B,MATCH(Composições!A42,Orçamentária!A:A,0),2)","v":"Demolição de forro de gesso"},null,{"$f":"TRIM(INDEX(Orçamentária!C:C,MATCH(Composições!A42,Orçamentária!A:A,0),1))","v":"m2"},null,"","",null,null,3000]
[null,null,null,null,null,"","",null,null,3000]
[null,null,"Montador de estrutura metálica com encargos complementares","h",2.58E-2,16.596499999999999,0.42818969999999995,{"$f":"SUM(G44:G45)","v":1.2407332499999999},null,3000]
[null,null,"Servente com Encargos Complementares","h",5.0700000000000002E-2,16.026499999999999,0.81254355,null,null,3000]
[null,null,null,null,null,"","",null,null,3000]
["SF-00010",{"$f":"INDEX(Orçamentária!A:B,MATCH(Composições!A47,Orçamentária!A:A,0),2)","v":"Demolição de infraestrutura elétrica (eletrodutos, eletrocalhas, cabos)"},null,{"$f":"TRIM(INDEX(Orçamentária!C:C,MATCH(Composições!A47,Orçamentária!A:A,0),1))","v":"m"},null,"","",null,null,4000]
[null,null,null,null,null,"","",null,null,4000]
[null,null,"Eletricista com encargos complementares","h",{"$f":"ROUND(0.0096*5,4)","v":4.8000000000000001E-2},21.916499999999999,1.051992,{"$f":"SUM(G49:G50)","v":2.5584829999999998},null,4000]
[null,null,"Servente com Encargos Complementares","h",{"$f":"ROUND(0.0188*5,4)","v":9.4E-2},16.026499999999999,1.5064909999999998,null,null,4000]
[null,null,null,null,null,"","",null,null,4000]
["SF-00011",{"$f":"INDEX(Orçamentária!A:B,MATCH(Composições!A52,Orçamentária!A:A,0),2)","v":"Demolição de revestimento cerâmico, granito, mármore ou granitina"},null,{"$f":"TRIM(INDEX(Orçamentária!C:C,MATCH(Composições!A52,Orçamentária!A:A,0),1))","v":"m2"},null,"","",null,null,340]
[null,null,null,null,null,"","",null,null,340]
[null,null,"Martelete ou rompedor pneumático manual, 28 kg, com silenciador - CHP diurno. AF_07/2016","chp",6.9900000000000004E-2,19.788499999999999,1.38321615,{"$f":"SUM(G54:G57)","v":9.3210352000000007},null,340]
[null,null,"Martelete ou rompedor pneumático manual, 28 kg, com silenciador - CHI diurno. AF_07/2016","chi",4.82E-2,18.477499999999999,0.8906155,null,null,340]
[null,null,"Azulejista ou ladrilhista com encargos complementares","h",0.1055,21.650499999999997,2.2841277499999997,null,null,340]
[null,null,"Servente com Encargos Complementares","h",0.29720000000000002,16.026499999999999,4.7630758000000002,null,null,340]
[null,null,null,null,null,"","",null,null,340]
["SF-00012",{"$f":"INDEX(Orçamentária!A:B,MATCH(Composições!A59,Orçamentária!A:A,0),2)","v":"Demolição de revestimento em argamassa"},null,{"$f":"TRIM(INDEX(Orçamentária!C:C,MATCH(Composições!A59,Orçamentária!A:A,0),1))","v":"m2"},null,"","",null,null,1000]
[null,null,null,null,null,"","",null,null,1000]
[null,null,"Pedreiro com Encargos Complementares","h",3.7400000000000003E-2,21.716999999999999,0.81221580000000004,{"$f":"SUM(G61:G62)","v":2.4998062499999998},null,1000]
[null,null,"Servente com Encargos Complementares","h",0.1053,16.026499999999999,1.6875904499999999,null,null,1000]
[null,null,null,null,null,"","",null,null,1000]
["SF-00013",{"$f":"INDEX(Orçamentária!A:B,MATCH(Composições!A64,Orçamentária!A:A,0),2)","v":"Demolição de tubulação hidrossanitária embutida com conexões e acessórios"},null,{"$f":"TRIM(INDEX(Orçamentária!C:C,MATCH(Composições!A64,Orçamentária!A:A,0),1))","v":"m"},null,"","",null,null,100]
[null,null,null,null,null,"","",null,null,100]
[null,null,"Encanador ou Bombeiro Hidráulico com Encargos Complementares","h",7.1000000000000004E-3,21.308499999999999,0.15129034999999999,{"$f":"SUM(G66:G67)","v":0.37566135},null,100]
[null,null,"Servente com Encargos Complementares","h",1.4E-2,16.026499999999999,0.22437099999999999,null,null,100]
[null,null,null,null,null,"","",null,null,100]
["SF-00014",{"$f":"INDEX(Orçamentária!A:B,MATCH(Composições!A69,Orçamentária!A:A,0),2)","v":"Demolição em concreto armado"},null,{"$f":"TRIM(INDEX(Orçamentária!C:C,MATCH(Composições!A69,Orçamentária!A:A,0),1))","v":"m3"},null,"","",null,null,10]
[null,null,null,null,null,"",{"$f":"IF(ISNUMBER(F70),E70*F70,\"\")","v":""},null,null,10]
[null,null,"Martelete ou rompedor pneumático manual, 28 kg, com silenciador - CHP diurno. AF_07/2016","chp",3.2467999999999999,19.788499999999999,64.249301799999998,{"$f":"SUM(G71:G75)","v":212.41722125000001},null,10]
[null,null,"Martelete ou rompedor pneumático manual, 28 kg, com silenciador - CHI diurno. AF_07/2016","chi",0.92020000000000002,18.477499999999999,17.002995500000001,null,null,10]
[null,null,"CABO DE ACO GALVANIZADO, DIAMETRO 9,53 MM (3/8\"), COM ALMA DE FIBRA 6 X 25 F","kg",0.28349999999999997,42.009,11.909551499999999,null,null,10]
[null,null,"Pedreiro com Encargos Complementares","h",0.63660000000000005,21.716999999999999,13.8250422,null,null,10]
[null,null,"Servente com Encargos Complementares","h",6.5785,16.026499999999999,105.43033025,null,null,10]
[null,null,null,null,null,"","",null,null,10]
["SF-00016",{"$f":"INDEX(Orçamentária!A:B,MATCH(Composições!A77,Orçamentária!A:A,0),2)","v":"Remoção de armários"},null,{"$f":"TRIM(INDEX(Orçamentária!C:C,MATCH(Composições!A77,Orçamentária!A:A,0),1))","v":"m2"},null,"","",null,null,240]
[null,null,null,null,null,"","",null,null,240]
[null,null,"Carpinteiro de esquadria com encargos complementares","h",0.35,21.612500000000001,7.5643750000000001,{"$f":"SUM(G79:G80)","v":13.173649999999999},null,240]
[null,null,"Servente com Encargos Complementares","h",0.35,16.026499999999999,5.6092749999999993,null,null,240]
[null,null,null,null,null,"","",null,null,240]
["SF-00017",{"$f":"INDEX(Orçamentária!A:B,MATCH(Composições!A82,Orçamentária!A:A,0),2)","v":"Remoção de bancadas"},null,{"$f":"TRIM(INDEX(Orçamentária!C:C,MATCH(Composições!A82,Orçamentária!A:A,0),1))","v":"m2"},null,"","",null,null,40]
[null,null,null,null,null,"","",null,null,40]
[null,null,"Pedreiro com Encargos Complementares","h",0.15,21.716999999999999,3.2575499999999997,{"$f":"SUM(G84:G85)","v":19.284049999999997},null,40]
[null,null,"Servente com Encargos Complementares","h",1,16.026499999999999,16.026499999999999,null,null,40]
[null,null,null,null,null,"","",null,null,40]
["SF-00018",{"$f":"INDEX(Orçamentária!A:B,MATCH(Composições!A87,Orçamentária!A:A,0),2)","v":"Remoção de batentes de madeira"},null,{"$f":"TRIM(INDEX(Orçamentária!C:C,MATCH(Composições!A87,Orçamentária!A:A,0),1))","v":"un"},null,"","",null,null,50]
[null,null,null,null,null,"","",null,null,50]
[null,null,"Pedreiro com Encargos Complementares","h",{"$f":"0.08/2","v":0.04},21.716999999999999,0.86868000000000001,{"$f":"SUM(G89:G90)","v":7.27928},null,50]
[null,null,"Servente com Encargos Complementares","h",{"$f":"0.8/2","v":0.4},16.026499999999999,6.4105999999999996,null,null,50]
[null,null,null,null,null,"","",null,null,50]
["SF-00019",{"$f":"INDEX(Orçamentária!A:B,MATCH(Composições!A92,Orçamentária!A:A,0),2)","v":"Remoção de canaleta em alumínio"},null,{"$f":"TRIM(INDEX(Orçamentária!C:C,MATCH(Composições!A92,Orçamentária!A:A,0),1))","v":"m"},null,"","",null,null,200]
[null,null,null,null,null,"","",null,null,200]
[null,null,"Eletricista com encargos complementares","h",{"$f":"0.75*0.1","v":7.5000000000000011E-2},21.916499999999999,1.6437375000000001,{"$f":"SUM(G94:G95)","v":4.0477125000000003},null,200]
[null,null,"Servente com Encargos Complementares","h",{"$f":"0.75*0.2","v":0.15000000000000002},16.026499999999999,2.403975,null,null,200]
[null,null,null,null,null,"","",null,null,200]
["SF-00020",{"$f":"INDEX(Orçamentária!A:B,MATCH(Composições!A97,Orçamentária!A:A,0),2)","v":"Remoção de carpete"},null,{"$f":"TRIM(INDEX(Orçamentária!C:C,MATCH(Composições!A97,Orçamentária!A:A,0),1))","v":"m2"},null,"","",null,null,300]
[null,null,null,null,null,"","",null,null,300]
[null,null,"Pedreiro com Encargos Complementares","h",0.01,21.716999999999999,0.21717,{"$f":"SUM(G99:G100)","v":1.81982},null,300]
[null,null,"Servente com Encargos Complementares","h",0.1,16.026499999999999,1.6026499999999999,null,null,300]
[null,null,null,null,null,"","",null,null,300]
["SF-00021",{"$f":"INDEX(Orçamentária!A:B,MATCH(Composições!A102,Orçamentária!A:A,0),2)","v":"Remoção de cortinas"},null,{"$f":"TRIM(INDEX(Orçamentária!C:C,MATCH(Composições!A102,Orçamentária!A:A,0),1))","v":"m"},null,"","",null,null,50]
[null,null,null,null,null,"","",null,null,50]
[null,null,"Ajudante especializado com encargos complementares","h",{"$f":"ROUND(1/6,4)","v":0.16669999999999999},19.066499999999998,3.1783855499999993,{"$f":"SUM(G104:G104)","v":3.1783855499999993},null,50]
[null,null,null,null,null,"","",null,null,50]
["SF-00022",{"$f":"INDEX(Orçamentária!A:B,MATCH(Composições!A106,Orçamentária!A:A,0),2)","v":"Remoção de difusores, grelhas e acessórios de climatização"},null,{"$f":"TRIM(INDEX(Orçamentária!C:C,MATCH(Composições!A106,Orçamentária!A:A,0),1))","v":"un"},null,"","",null,null,120]
[null,null,null,null,null,"","",null,null,120]
[null,null,"Ajudante de operação em geral com encargos complementares","h",0.6,17.128499999999999,10.277099999999999,{"$f":"SUM(G108:G109)","v":19.892999999999997},null,120]
[null,null,"Servente com Encargos Complementares","h",0.6,16.026499999999999,9.6158999999999981,null,null,120]
[null,null,null,null,null,"","",null,null,120]
["SF-00023",{"$f":"INDEX(Orçamentária!A:B,MATCH(Composições!A111,Orçamentária!A:A,0),2)","v":"Remoção de divisória de mármore ou granito"},null,{"$f":"TRIM(INDEX(Orçamentária!C:C,MATCH(Composições!A111,Orçamentária!A:A,0),1))","v":"m2"},null,"","",null,null,40]
[null,null,null,null,null,"","",null,null,40]
[null,null,"Marmorista/graniteiro com encargos complementares","h",0.6,18.078500000000002,10.847100000000001,{"$f":"SUM(G113:G114)","v":30.078899999999997},null,40]
[null,null,"Servente com Encargos Complementares","h",1.2,16.026499999999999,19.231799999999996,null,null,40]
[null,null,null,null,null,"","",null,null,40]
["SF-00024",{"$f":"INDEX(Orçamentária!A:B,MATCH(Composições!A116,Orçamentária!A:A,0),2)","v":"Remoção de divisórias de MDF e gesso acartonado"},null,{"$f":"TRIM(INDEX(Orçamentária!C:C,MATCH(Composições!A116,Orçamentária!A:A,0),1))","v":"m2"},null,"","",null,null,1500]
[null,null,null,null,null,"","",null,null,1500]
[null,null,"Carpinteiro de esquadria com encargos complementares","h",1.2,21.612500000000001,25.934999999999999,{"$f":"SUM(G118:G118)","v":25.934999999999999},null,1500]
[null,null,null,null,null,"","",null,null,1500]
["SF-00025",{"$f":"INDEX(Orçamentária!A:B,MATCH(Composições!A120,Orçamentária!A:A,0),2)","v":"Remoção de dutos/tubulações"},null,{"$f":"TRIM(INDEX(Orçamentária!C:C,MATCH(Composições!A120,Orçamentária!A:A,0),1))","v":"m"},null,"","",null,null,1500]
[null,null,null,null,null,"","",null,null,1500]
[null,null,"Encanador ou Bombeiro Hidráulico com Encargos Complementares","h",0.17499999999999999,21.308499999999999,3.7289874999999997,{"$f":"SUM(G122:G123)","v":8.5369374999999987},null,1500]
[null,null,"Servente com Encargos Complementares","h",0.3,16.026499999999999,4.8079499999999991,null,null,1500]
[null,null,null,null,null,"","",null,null,1500]
["SF-00026",{"$f":"INDEX(Orçamentária!A:B,MATCH(Composições!A125,Orçamentária!A:A,0),2)","v":"Remoção de esquadrias metálicas"},null,{"$f":"TRIM(INDEX(Orçamentária!C:C,MATCH(Composições!A125,Orçamentária!A:A,0),1))","v":"m2"},null,"","",null,null,70]
[null,null,null,null,null,"","",null,null,70]
[null,null,"Pedreiro com Encargos Complementares","h",0.05,21.716999999999999,1.08585,{"$f":"SUM(G127:G128)","v":9.0991},null,70]
[null,null,"Servente com Encargos Complementares","h",0.5,16.026499999999999,8.0132499999999993,null,null,70]
[null,null,null,null,null,"","",null,null,70]
["SF-00027",{"$f":"INDEX(Orçamentária!A:B,MATCH(Composições!A130,Orçamentária!A:A,0),2)","v":"Remoção de exaustor"},null,{"$f":"TRIM(INDEX(Orçamentária!C:C,MATCH(Composições!A130,Orçamentária!A:A,0),1))","v":"un"},null,"","",null,null,15]
[null,null,null,null,null,"","",null,null,15]
[null,null,"Eletricista com encargos complementares","h",0.3,21.916499999999999,6.5749499999999994,{"$f":"SUM(G132:G132)","v":6.5749499999999994},null,15]
[null,null,null,null,null,"","",null,null,15]
["SF-00028",{"$f":"INDEX(Orçamentária!A:B,MATCH(Composições!A134,Orçamentária!A:A,0),2)","v":"Remoção de fechadura/puxador de porta"},null,{"$f":"TRIM(INDEX(Orçamentária!C:C,MATCH(Composições!A134,Orçamentária!A:A,0),1))","v":"un"},null,"",{"$f":"IF(ISNUMBER(F134),E134*F134,\"\")","v":""},null,null,101]
[null,null,null,null,null,"","",null,null,101]
[null,null,"Carpinteiro de esquadria com encargos complementares","h",{"$f":"0.25","v":0.25},21.612500000000001,5.4031250000000002,{"$f":"SUM(G136:G136)","v":5.4031250000000002},null,101]
[null,null,null,null,null,"","",null,null,101]
["SF-00029",{"$f":"INDEX(Orçamentária!A:B,MATCH(Composições!A138,Orçamentária!A:A,0),2)","v":"Remoção de folha de porta e dobradiças"},null,{"$f":"TRIM(INDEX(Orçamentária!C:C,MATCH(Composições!A138,Orçamentária!A:A,0),1))","v":"un"},null,"","",null,null,82]
[null,null,null,null,null,"","",null,null,82]
[null,null,"Pedreiro com Encargos Complementares","h",0.13150000000000001,21.716999999999999,2.8557855000000001,{"$f":"SUM(G140:G141)","v":6.9938278},null,82]
[null,null,"Servente com Encargos Complementares","h",0.25819999999999999,16.026499999999999,4.1380422999999995,null,null,82]
[null,null,null,null,null,"","",null,null,82]
["SF-00030",{"$f":"INDEX(Orçamentária!A:B,MATCH(Composições!A143,Orçamentária!A:A,0),2)","v":"Remoção de laminado melamínico (LDAP), em PVC ou vinílico"},null,{"$f":"TRIM(INDEX(Orçamentária!C:C,MATCH(Composições!A143,Orçamentária!A:A,0),1))","v":"m2"},null,"","",null,null,1000]
[null,null,null,null,null,"","",null,null,1000]
[null,null,"Pedreiro com Encargos Complementares","h",0.09,21.716999999999999,1.9545299999999999,{"$f":"SUM(G145:G146)","v":16.37838},null,1000]
[null,null,"Servente com Encargos Complementares","h",0.9,16.026499999999999,14.42385,null,null,1000]
[null,null,null,null,null,"","",null,null,1000]
["SF-00031",{"$f":"INDEX(Orçamentária!A:B,MATCH(Composições!A148,Orçamentária!A:A,0),2)","v":"Remoção de louças"},null,{"$f":"TRIM(INDEX(Orçamentária!C:C,MATCH(Composições!A148,Orçamentária!A:A,0),1))","v":"un"},null,"","",null,null,80]
[null,null,null,null,null,"","",null,null,80]
[null,null,"Encanador ou Bombeiro Hidráulico com Encargos Complementares","h",0.17549999999999999,21.308499999999999,3.7396417499999997,{"$f":"SUM(G150:G151)","v":9.2655789499999983},null,80]
[null,null,"Servente com Encargos Complementares","h",0.3448,16.026499999999999,5.5259371999999995,null,null,80]
[null,null,null,null,null,"","",null,null,80]
["SF-00032",{"$f":"INDEX(Orçamentária!A:B,MATCH(Composições!A153,Orçamentária!A:A,0),2)","v":"Remoção de luminária"},null,{"$f":"TRIM(INDEX(Orçamentária!C:C,MATCH(Composições!A153,Orçamentária!A:A,0),1))","v":"un"},null,"","",null,null,500]
[null,null,null,null,null,"","",null,null,500]
[null,null,"Eletricista com encargos complementares","h",{"$f":"0.0183*5","v":9.1499999999999998E-2},21.916499999999999,2.0053597499999998,{"$f":"SUM(G155:G156)","v":4.8821164999999995},null,500]
[null,null,"Servente com Encargos Complementares","h",{"$f":"0.0359*5","v":0.17949999999999999},16.026499999999999,2.8767567499999998,null,null,500]
[null,null,null,null,null,"","",null,null,500]
[null,null,"Obs.: Remoção com reaproveitamento",null,null,"","",null,null,500]
[null,null,null,null,null,"","",null,null,500]
["SF-00033",{"$f":"INDEX(Orçamentária!A:B,MATCH(Composições!A160,Orçamentária!A:A,0),2)","v":"Remoção de metais e acessórios"},null,{"$f":"TRIM(INDEX(Orçamentária!C:C,MATCH(Composições!A160,Orçamentária!A:A,0),1))","v":"un"},null,"","",null,null,300]
[null,null,null,null,null,"","",null,null,300]
[null,null,"Encanador ou Bombeiro Hidráulico com Encargos Complementares","h",0.128,21.308499999999999,2.7274879999999997,{"$f":"SUM(G162:G163)","v":6.7565501000000001},null,300]
[null,null,"Servente com Encargos Complementares","h",0.25140000000000001,16.026499999999999,4.0290621,null,null,300]
[null,null,null,null,null,"","",null,null,300]
["SF-00034",{"$f":"INDEX(Orçamentária!A:B,MATCH(Composições!A165,Orçamentária!A:A,0),2)","v":"Remoção de painéis de vidro temperado"},null,{"$f":"TRIM(INDEX(Orçamentária!C:C,MATCH(Composições!A165,Orçamentária!A:A,0),1))","v":"m2"},null,"","",null,null,586]
[null,null,null,null,null,"","",null,null,586]
[null,null,"Servente com Encargos Complementares","h",0.35,16.026499999999999,5.6092749999999993,{"$f":"SUM(G167:G168)","v":13.210224999999998},null,586]
[null,null,"Pedreiro com Encargos Complementares","h",0.35,21.716999999999999,7.6009499999999992,null,null,586]
[null,null,null,null,null,"","",null,null,586]
["SF-00035",{"$f":"INDEX(Orçamentária!A:B,MATCH(Composições!A170,Orçamentária!A:A,0),2)","v":"Remoção de película"},null,{"$f":"TRIM(INDEX(Orçamentária!C:C,MATCH(Composições!A170,Orçamentária!A:A,0),1))","v":"m2"},null,"","",null,null,196]
[null,null,null,null,null,"","",null,null,196]
[null,null,"Vidraceiro com encargos complementares","h",0.4,20.177999999999997,8.0711999999999993,{"$f":"SUM(G172:G172)","v":8.0711999999999993},null,196]
[null,null,null,null,null,"","",null,null,196]
["SF-00036",{"$f":"INDEX(Orçamentária!A:B,MATCH(Composições!A174,Orçamentária!A:A,0),2)","v":"Remoção de persianas"},null,{"$f":"TRIM(INDEX(Orçamentária!C:C,MATCH(Composições!A174,Orçamentária!A:A,0),1))","v":"m"},null,"","",null,null,400]
[null,null,null,null,null,"","",null,null,400]
[null,null,"Ajudante especializado com encargos complementares","h",{"$f":"ROUND(1/6,4)","v":0.16669999999999999},19.066499999999998,3.1783855499999993,{"$f":"SUM(G176:G176)","v":3.1783855499999993},null,400]
[null,null,null,null,null,"","",null,null,400]
["SF-00037",{"$f":"INDEX(Orçamentária!A:B,MATCH(Composições!A178,Orçamentária!A:A,0),2)","v":"Remoção de pintura ou textura"},null,{"$f":"TRIM(INDEX(Orçamentária!C:C,MATCH(Composições!A178,Orçamentária!A:A,0),1))","v":"m2"},null,"","",null,null,4000]
[null,null,null,null,null,"","",null,null,4000]
[null,null,"Servente com Encargos Complementares","h",0.4,16.026499999999999,6.4105999999999996,{"$f":"SUM(G180:G180)","v":6.4105999999999996},null,4000]
[null,null,null,null,null,"","",null,null,4000]
["SF-00038",{"$f":"INDEX(Orçamentária!A:B,MATCH(Composições!A182,Orçamentária!A:A,0),2)","v":"Remoção de placas de forro"},null,{"$f":"TRIM(INDEX(Orçamentária!C:C,MATCH(Composições!A182,Orçamentária!A:A,0),1))","v":"m2"},null,"","",null,null,500]
[null,null,null,null,null,"","",null,null,500]
[null,null,"Montador de estrutura metálica com encargos complementares","h",{"$f":"0.0258*3","v":7.7399999999999997E-2},16.596499999999999,1.2845690999999999,{"$f":"SUM(G184:G185)","v":3.7221997499999997},null,500]
[null,null,"Servente com Encargos Complementares","h",{"$f":"0.0507*3","v":0.15210000000000001},16.026499999999999,2.43763065,null,null,500]
[null,null,null,null,null,"","",null,null,500]
[null,null,"Obs.: remoção com reaproveitamento",null,null,"","",null,null,500]
[null,null,null,null,null,"","",null,null,500]
["SF-00039",{"$f":"INDEX(Orçamentária!A:B,MATCH(Composições!A189,Orçamentária!A:A,0),2)","v":"Remoção de quadros de elétricos ou de telecomunicações"},null,{"$f":"TRIM(INDEX(Orçamentária!C:C,MATCH(Composições!A189,Orçamentária!A:A,0),1))","v":"un"},null,"","",null,null,30]
[null,null,null,null,null,"","",null,null,30]
[null,null,"Auxiliar de eletricista com encargos complementares","h",0.5,17.042999999999999,8.5214999999999996,{"$f":"SUM(G191:G194)","v":57.223249999999993},null,30]
[null,null,"Eletricista com encargos complementares","h",0.5,21.916499999999999,10.95825,null,null,30]
[null,null,"Pedreiro com Encargos Complementares","h",1,21.716999999999999,21.716999999999999,null,null,30]
[null,null,"Servente com Encargos Complementares","h",1,16.026499999999999,16.026499999999999,null,null,30]
[null,null,null,null,null,"","",null,null,30]
["SF-00040",{"$f":"INDEX(Orçamentária!A:B,MATCH(Composições!A196,Orçamentária!A:A,0),2)","v":"Remoção de revestimento acústico"},null,{"$f":"TRIM(INDEX(Orçamentária!C:C,MATCH(Composições!A196,Orçamentária!A:A,0),1))","v":"m2"},null,"","",null,null,300]
[null,null,null,null,null,"","",null,null,300]
[null,null,"Servente com Encargos Complementares","h",0.2,16.026499999999999,{"$f":"IF(ISNUMBER(F198),E198*F198,\"\")","v":3.2052999999999998},{"$f":"SUM(G198:G198)","v":3.2052999999999998},null,300]
[null,null,null,null,null,"","",null,null,300]
["SF-00041",{"$f":"INDEX(Orçamentária!A:B,MATCH(Composições!A200,Orçamentária!A:A,0),2)","v":"Remoção de rodapé/rodabanca de mármore ou granito"},null,{"$f":"TRIM(INDEX(Orçamentária!C:C,MATCH(Composições!A200,Orçamentária!A:A,0),1))","v":"m"},null,"","",null,null,350]
[null,null,null,null,null,"","",null,null,350]
[null,null,"Servente com Encargos Complementares","h",{"$f":"0.437*0.2","v":8.7400000000000005E-2},16.026499999999999,1.4007160999999999,{"$f":"SUM(G202:G202)","v":1.4007160999999999},null,350]
[null,null,null,null,null,"","",null,null,350]
["SF-00042",{"$f":"INDEX(Orçamentária!A:B,MATCH(Composições!A204,Orçamentária!A:A,0),2)","v":"Remoção de rodapés de madeira"},null,{"$f":"TRIM(INDEX(Orçamentária!C:C,MATCH(Composições!A204,Orçamentária!A:A,0),1))","v":"m2"},null,"","",null,null,10]
[null,null,null,null,null,"","",null,null,10]
[null,null,"Carpinteiro de formas com encargos complementares","h",0.25,21.5745,5.3936250000000001,{"$f":"SUM(G206:G207)","v":5.7942875000000003},null,10]
[null,null,"Servente com Encargos Complementares","h",2.5000000000000001E-2,16.026499999999999,0.40066249999999998,null,null,10]
[null,null,null,null,null,"","",null,null,10]
["SF-00043",{"$f":"INDEX(Orçamentária!A:B,MATCH(Composições!A209,Orçamentária!A:A,0),2)","v":"Remoção de soleira de mármore ou granito"},null,{"$f":"TRIM(INDEX(Orçamentária!C:C,MATCH(Composições!A209,Orçamentária!A:A,0),1))","v":"m"},null,"","",null,null,20]
[null,null,null,null,null,"","",null,null,20]
[null,null,"Servente com Encargos Complementares","h",0.55000000000000004,16.026499999999999,8.8145749999999996,{"$f":"SUM(G211:G211)","v":8.8145749999999996},null,20]
[null,null,null,null,null,"","",null,null,20]
["SF-00044",{"$f":"INDEX(Orçamentária!A:B,MATCH(Composições!A213,Orçamentária!A:A,0),2)","v":"Remoção de split/fancolete/ACJ (equipamento unitário)"},null,{"$f":"TRIM(INDEX(Orçamentária!C:C,MATCH(Composições!A213,Orçamentária!A:A,0),1))","v":"un"},null,"","",null,null,150]
[null,null,null,null,null,"","",null,null,150]
[null,null,"Montador eletromecãnico com encargos complementares","h",1,22.704999999999998,22.704999999999998,{"$f":"SUM(G215:G216)","v":39.833500000000001},null,150]
[null,null,"Ajudante de operação em geral com encargos complementares","h",1,17.128499999999999,17.128499999999999,null,null,150]
[null,null,null,null,null,"","",null,null,150]
["SF-00045",{"$f":"INDEX(Orçamentária!A:B,MATCH(Composições!A218,Orçamentária!A:A,0),2)","v":"Remoção de vidro comum / espelho"},null,{"$f":"TRIM(INDEX(Orçamentária!C:C,MATCH(Composições!A218,Orçamentária!A:A,0),1))","v":"m2"},null,"","",null,null,60]
[null,null,null,null,null,"","",null,null,60]
[null,null,"Servente com Encargos Complementares","h",0.2,16.026499999999999,3.2052999999999998,{"$f":"SUM(G220:G221)","v":13.294299999999998},null,60]
[null,null,"Vidraceiro com encargos complementares","h",0.5,20.177999999999997,10.088999999999999,null,null,60]
[null,null,null,null,null,"","",null,null,60]
["SF-00046",{"$f":"INDEX(Orçamentária!A:B,MATCH(Composições!A223,Orçamentária!A:A,0),2)","v":"Retirada de entulhos"},null,{"$f":"TRIM(INDEX(Orçamentária!C:C,MATCH(Composições!A223,Orçamentária!A:A,0),1))","v":"m3"},null,"","",null,null,410]
[null,null,null,null,null,"","",null,null,410]
[null,null,"Servente com Encargos Complementares","h",1,16.026499999999999,16.026499999999999,{"$f":"SUM(G225:G225)","v":16.026499999999999},null,410]
[null,null,null,null,null,"","",null,null,410]
["SF-00048",{"$f":"INDEX(Orçamentária!A:B,MATCH(Composições!A227,Orçamentária!A:A,0),2)","v":"Andaime fachadeiro"},null,{"$f":"TRIM(INDEX(Orçamentária!C:C,MATCH(Composições!A227,Orçamentária!A:A,0),1))","v":"m2 x mês"},null,"","",null,null,400]
[null,null,null,null,null,"","",null,null,400]
[null,null,"LOCACAO DE ANDAIME METALICO TIPO FACHADEIRO, LARGURA DE 1,20 M, ALTURA POR PECA DE 2,0 M, INCLUINDO SAPATAS E ITENS NECESSARIOS A INSTALACAO","M2XMES",1,3.7905000000000002,3.7905000000000002,{"$f":"SUM(G229:G229)","v":3.7905000000000002},null,400]
[null,null,null,null,null,"","",null,null,400]
["SF-00049",{"$f":"INDEX(Orçamentária!A:B,MATCH(Composições!A231,Orçamentária!A:A,0),2)","v":"Andaime tubular (aluguel/mês)"},null,{"$f":"TRIM(INDEX(Orçamentária!C:C,MATCH(Composições!A231,Orçamentária!A:A,0),1))","v":"m x mês"},null,"","",null,null,70]
[null,null,null,null,null,"","",null,null,70]
[null,null,"LOCACAO DE ANDAIME METALICO TUBULAR DE ENCAIXE, TIPO DE TORRE, COM LARGURA DE 1 ATE 1,5 M E ALTURA DE *1,00* M","MXMES",1,11.399999999999999,11.399999999999999,{"$f":"SUM(G233:G233)","v":11.399999999999999},null,70]
[null,null,null,null,null,"","",null,null,70]
["SF-00051",{"$f":"INDEX(Orçamentária!A:B,MATCH(Composições!A235,Orçamentária!A:A,0),2)","v":"Corda de poliamida 12 mm tipo bombeiro, para trabalho em altura"},null,{"$f":"TRIM(INDEX(Orçamentária!C:C,MATCH(Composições!A235,Orçamentária!A:A,0),1))","v":"m"},null,"","",null,null,84]
[null,null,null,null,null,"","",null,null,84]
[null,null,"CORDA DE POLIAMIDA 12 MM TIPO BOMBEIRO, PARA TRABALHO EM ALTURA","100m",0.01,441.97800000000001,4.4197800000000003,{"$f":"SUM(G237:G237)","v":4.4197800000000003},null,84]
[null,null,null,null,null,"","",null,null,84]
["SF-00057",{"$f":"INDEX(Orçamentária!A:B,MATCH(Composições!A239,Orçamentária!A:A,0),2)","v":"Isolamento de obra com tela plástica com malha de 5mm e estrutura de madeira pontaleteada"},null,{"$f":"TRIM(INDEX(Orçamentária!C:C,MATCH(Composições!A239,Orçamentária!A:A,0),1))","v":"m2"},null,"","",null,null,200]
[null,null,null,null,null,"","",null,null,200]
[null,null,"Servente com Encargos Complementares","h",0.15,16.026499999999999,2.4039749999999995,{"$f":"SUM(G241:G245)","v":17.603499999999997},null,200]
[null,null,"Carpinteiro de formas com encargos complementares","h",0.3,21.5745,6.4723499999999996,null,null,200]
[null,null,"PONTALETE DE MADEIRA NAO APARELHADA *7,5 X 7,5* CM (3 X 3 \") PINUS, MISTA OU EQUIVALENTE DA REGIAO","m",1.5,3.6859999999999999,5.5289999999999999,null,null,200]
[null,null,"Prego de aco polido com cabeca 18 x 27 (2 1/2 x 10)","kg",0.1,11.114999999999998,1.1114999999999999,null,null,200]
[null,null,"TELA PLASTICA LARANJA, TIPO TAPUME PARA SINALIZACAO, MALHA RETANGULAR, ROLO 1.20 X 50 M (L X C)","m",1.1499999999999999,1.8144999999999998,2.0866749999999996,null,null,200]
[null,null,null,null,null,"","",null,null,200]
["SF-00070",{"$f":"INDEX(Orçamentária!A:B,MATCH(Composições!A247,Orçamentária!A:A,0),2)","v":"Tapume"},null,{"$f":"TRIM(INDEX(Orçamentária!C:C,MATCH(Composições!A247,Orçamentária!A:A,0),1))","v":"m2"},null,"","",null,null,300]
[null,null,null,null,null,"","",null,null,300]
[null,null,"Carpinteiro de formas com encargos complementares","h",0.4,21.5745,8.6298000000000012,{"$f":"SUM(G249:G260)","v":67.053821499999998},null,300]
[null,null,"Servente com Encargos Complementares","h",0.4,16.026499999999999,6.4105999999999996,null,null,300]
[null,null,"Chapa de madeira compensada resinada 1,10 x 2,20 m # 6 mm","m2",1.1000000000000001,11.475999999999999,12.6236,null,null,300]
[null,null,"PONTALETE DE MADEIRA NAO APARELHADA *7,5 X 7,5* CM (3 X 3 \") PINUS, MISTA OU EQUIVALENTE DA REGIAO","m",1.6,3.6859999999999999,5.8976000000000006,null,null,300]
[null,null,"SARRAFO DE MADEIRA NAO APARELHADA *2,5 X 10 CM, MACARANDUBA, ANGELIM OU EQUIVALENTE DA REGIAO","m",1.65,8.7495000000000012,14.436675000000001,null,null,300]
[null,null,"TABUA DE MADEIRA NAO APARELHADA *2,5 X 30* CM, CEDRINHO OU EQUIVALENTE DA REGIAO","m",0.5,14.554,7.2770000000000001,null,null,300]
[null,null,"PREGO DE ACO POLIDO COM CABECA 18 X 30 (2 3/4 X 10)","kg",0.1,11.305,1.1305000000000001,null,null,300]
[null,null,"Ajudante de pintor com encargos complementares","h",1.5E-3,18.2685,2.740275E-2,null,null,300]
[null,null,"Pintor com encargos complementares","h",0.4,22.762,9.1048000000000009,null,null,300]
[null,null,"Oleo de linhaca","L",2.2499999999999999E-2,16.368500000000001,0.36829125000000001,null,null,300]
[null,null,"Cal hidratada para pintura","kg",0.6,1.2635000000000001,0.7581,null,null,300]
[null,null,"Pigmento em po para argamassas, cimentos e outros","kg",1.4999999999999999E-2,25.963499999999996,0.38945249999999992,null,null,300]
[null,null,null,null,null,"","",null,null,300]
["SF-00073",{"$f":"INDEX(Orçamentária!A:B,MATCH(Composições!A262,Orçamentária!A:A,0),2)","v":"Limpeza final de obra"},null,{"$f":"TRIM(INDEX(Orçamentária!C:C,MATCH(Composições!A262,Orçamentária!A:A,0),1))","v":"m2"},null,"",{"$f":"IF(ISNUMBER(F262),E262*F262,\"\")","v":""},null,null,10000]
[null,null,null,null,null,"","",null,null,10000]
[null,null,"Servente com Encargos Complementares","h",2.5000000000000001E-2,16.026499999999999,0.40066249999999998,{"$f":"SUM(G264:G265)","v":1.9552329999999998},null,10000]
[null,null,"Servente com Encargos Complementares","h",9.7000000000000003E-2,16.026499999999999,1.5545704999999999,null,null,10000]
[null,null,null,null,null,"","",null,null,10000]
["SF-00074",{"$f":"INDEX(Orçamentária!A:B,MATCH(Composições!A267,Orçamentária!A:A,0),2)","v":"Abertura/fechamento rasgo em alvenaria"},null,{"$f":"TRIM(INDEX(Orçamentária!C:C,MATCH(Composições!A267,Orçamentária!A:A,0),1))","v":"m"},null,"","",null,null,3000]
[null,null,null,null,null,"","",null,null,3000]
[null,null,"Auxiliar de eletricista com encargos complementares","h",3.4000000000000002E-2,17.042999999999999,0.57946200000000003,{"$f":"SUM(G269:G273)","v":16.031945885098498},null,3000]
[null,null,"Eletricista com encargos complementares","h",0.216,21.916499999999999,4.7339639999999994,null,null,3000]
[null,null,"Auxiliar de encanador ou bombeiro hidráulico com encargos complementares","h",5.5E-2,16.596499999999999,0.91280749999999999,null,null,3000]
[null,null,"Encanador ou Bombeiro Hidráulico com Encargos Complementares","h",0.39100000000000001,21.308499999999999,8.3316234999999992,null,null,3000]
[null,null,"ARGAMASSA TRAÇO 1:3 (EM VOLUME DE CIMENTO E AREIA MÉDIA ÚMIDA), PREPARO MANUAL. AF_08/2019","m3",3.0000000000000001E-3,491.36296169949998,1.4740888850984999,null,null,3000]
[null,null,null,null,null,"","",null,null,3000]
["SF-00075",{"$f":"INDEX(Orçamentária!A:B,MATCH(Composições!A275,Orçamentária!A:A,0),2)","v":"Furo em concreto de até 75mm de diâmetro"},null,{"$f":"TRIM(INDEX(Orçamentária!C:C,MATCH(Composições!A275,Orçamentária!A:A,0),1))","v":"un"},null,"","",null,null,25]
[null,null,null,null,null,"","",null,null,25]
[null,null,"Martelete ou rompedor pneumático manual, 28 kg, com silenciador - CHP diurno. AF_07/2016","chp",0.58699999999999997,19.788499999999999,11.615849499999999,{"$f":"SUM(G277:G280)","v":80.310653500000001},null,25]
[null,null,"Martelete ou rompedor pneumático manual, 28 kg, com silenciador - CHI diurno. AF_07/2016","chi",1.29,18.477499999999999,23.835975000000001,null,null,25]
[null,null,"Auxiliar de encanador ou bombeiro hidráulico com encargos complementares","h",0.29299999999999998,16.596499999999999,4.8627744999999996,null,null,25]
[null,null,"Encanador ou Bombeiro Hidráulico com Encargos Complementares","h",1.877,21.308499999999999,39.9960545,null,null,25]
[null,null,null,null,null,"","",null,null,25]
["SF-00076",{"$f":"INDEX(Orçamentária!A:B,MATCH(Composições!A282,Orçamentária!A:A,0),2)","v":"Furo em concreto para diâmetros maiores que 75mm"},null,{"$f":"TRIM(INDEX(Orçamentária!C:C,MATCH(Composições!A282,Orçamentária!A:A,0),1))","v":"un"},null,"","",null,null,40]
[null,null,null,null,null,"","",null,null,40]
[null,null,"Martelete ou rompedor pneumático manual, 28 kg, com silenciador - CHP diurno. AF_07/2016","chp",0.75,19.788499999999999,14.841374999999999,{"$f":"SUM(G284:G287)","v":102.57397949999998},null,40]
[null,null,"Martelete ou rompedor pneumático manual, 28 kg, com silenciador - CHI diurno. AF_07/2016","chi",1.647,18.477499999999999,30.432442500000001,null,null,40]
[null,null,"Auxiliar de encanador ou bombeiro hidráulico com encargos complementares","h",0.375,16.596499999999999,6.2236874999999996,null,null,40]
[null,null,"Encanador ou Bombeiro Hidráulico com Encargos Complementares","h",2.3969999999999998,21.308499999999999,51.076474499999989,null,null,40]
[null,null,null,null,null,"","",null,null,40]
["SF-00077",{"$f":"INDEX(Orçamentária!A:B,MATCH(Composições!A289,Orçamentária!A:A,0),2)","v":"Concreto virado em betoneira, fck = 15 MPa"},null,{"$f":"TRIM(INDEX(Orçamentária!C:C,MATCH(Composições!A289,Orçamentária!A:A,0),1))","v":"m3"},null,"","",null,null,10]
[null,null,null,null,null,"","",null,null,10]
[null,null,"LANÇAMENTO COM USO DE BALDES, ADENSAMENTO E ACABAMENTO DE CONCRETO EM ESTRUTURAS. AF_12/2015","m3",1,169.88637199999999,169.88637199999999,{"$f":"SUM(G291:G300)","v":522.69809391640001},null,10]
[null,null,"Areia media - posto jazida/fornecedor (retirado na jazida, sem transporte)","m3",0.80500000000000005,93.8125,75.519062500000004,null,null,10]
[null,null,"Cimento Portland composto CP II-32","kg",273.06,0.44649999999999995,121.92128999999998,null,null,10]
[null,null,"Pedra britada n. 1 (9,5 a 19 mm) posto pedreira/fornecedor, sem frete","m3",0.57899999999999996,76,44.003999999999998,null,null,10]
[null,null,"Operador de betoneira estacionária/misturador com encargos complementares","h",1.47,16.245000000000001,23.88015,null,null,10]
[null,null,"Servente com Encargos Complementares","h",2.33,16.026499999999999,37.341744999999996,null,null,10]
[null,null,"BETONEIRA CAPACIDADE NOMINAL DE 400 L, CAPACIDADE DE MISTURA 280 L, MOTOR ELÉTRICO TRIFÁSICO POTÊNCIA DE 2 CV, SEM CARREGADOR - CHP DIURNO. AF_10/2014","chp",0.76,1.121,0.85196000000000005,null,null,10]
[null,null,"BETONEIRA CAPACIDADE NOMINAL DE 400 L, CAPACIDADE DE MISTURA 280 L, MOTOR ELÉTRICO TRIFÁSICO POTÊNCIA DE 2 CV, SEM CARREGADOR - CHI DIURNO. AF_10/2014","chi",0.71,0.22799999999999998,0.16187999999999997,null,null,10]
[null,null,"CARGA, MANOBRA E DESCARGA DE SOLOS E MATERIAIS GRANULARES EM CAMINHÃO BASCULANTE 6 M³ - CARGA COM PÁ CARREGADEIRA (CAÇAMBA DE 1,7 A 2,8 M³ / 128 HP) E DESCARGA LIVRE (UNIDADE: M3). AF_07/2020","M3",{"$f":"1*(E292+E294)","v":1.3839999999999999},4.7457088499999998,6.5680610483999988,null,null,10]
[null,null,"TRANSPORTE COM CAMINHÃO BASCULANTE DE 6 M3, EM VIA URBANA PAVIMENTADA, DMT ATÉ 30 KM (UNIDADE: M3xKM). AF_01/2018","M3xKM",{"$f":"(E292+E294)*20","v":27.68},1.5377013499999996,42.563573367999986,null,null,10]
[null,null,null,null,null,"","",null,null,10]
[null,null,"Obs.: Considerando fornecedor de areia e brita a 20 km do Senado Federal.",null,null,"","",null,null,10]
[null,null,null,null,null,"","",null,null,10]
["SF-00078",{"$f":"INDEX(Orçamentária!A:B,MATCH(Composições!A304,Orçamentária!A:A,0),2)","v":"Concreto virado em betoneira, fck = 25MPa"},null,{"$f":"TRIM(INDEX(Orçamentária!C:C,MATCH(Composições!A304,Orçamentária!A:A,0),1))","v":"m3"},null,"","",null,null,10]
[null,null,null,null,null,"","",null,null,10]
[null,null,"LANÇAMENTO COM USO DE BALDES, ADENSAMENTO E ACABAMENTO DE CONCRETO EM ESTRUTURAS. AF_12/2015","m3",1,169.88637199999999,169.88637199999999,{"$f":"SUM(G306:G315)","v":553.16769687859994},null,10]
[null,null,"Areia media - posto jazida/fornecedor (retirado na jazida, sem transporte)","m3",0.72299999999999998,93.8125,67.826437499999997,null,null,10]
[null,null,"Cimento Portland composto CP II-32","kg",362.66,0.44649999999999995,161.92768999999998,null,null,10]
[null,null,"Pedra britada n. 1 (9,5 a 19 mm) posto pedreira/fornecedor, sem frete","m3",0.59299999999999997,76,45.067999999999998,null,null,10]
[null,null,"Servente com Encargos Complementares","h",{"$f":"2.31","v":2.31},16.026499999999999,37.021214999999998,null,null,10]
[null,null,"Operador de betoneira estacionária/misturador com encargos complementares","h",1.46,16.245000000000001,23.717700000000001,null,null,10]
[null,null,"BETONEIRA CAPACIDADE NOMINAL DE 400 L, CAPACIDADE DE MISTURA 280 L, MOTOR ELÉTRICO TRIFÁSICO POTÊNCIA DE 2 CV, SEM CARREGADOR - CHP DIURNO. AF_10/2014","chp",0.75,1.121,0.84075,null,null,10]
[null,null,"BETONEIRA CAPACIDADE NOMINAL DE 400 L, CAPACIDADE DE MISTURA 280 L, MOTOR ELÉTRICO TRIFÁSICO POTÊNCIA DE 2 CV, SEM CARREGADOR - CHI DIURNO. AF_10/2014","chi",0.71,0.22799999999999998,0.16187999999999997,null,null,10]
[null,null,"CARGA, MANOBRA E DESCARGA DE SOLOS E MATERIAIS GRANULARES EM CAMINHÃO BASCULANTE 6 M³ - CARGA COM PÁ CARREGADEIRA (CAÇAMBA DE 1,7 A 2,8 M³ / 128 HP) E DESCARGA LIVRE (UNIDADE: M3). AF_07/2020","M3",{"$f":"1*(E307+E309)","v":1.3159999999999998},4.7457088499999998,6.2453528465999986,null,null,10]
[null,null,"TRANSPORTE COM CAMINHÃO BASCULANTE DE 6 M3, EM VIA URBANA PAVIMENTADA, DMT ATÉ 30 KM (UNIDADE: M3xKM). AF_01/2018","M3xKM",{"$f":"(E307+E309)*20","v":26.319999999999997},1.5377013499999996,40.472299531999987,null,null,10]
[null,null,null,null,null,"","",null,null,10]
[null,null,"Obs.: Considerando fornecedor de areia e brita a 20 km do Senado Federal.",null,null,"","",null,null,10]
[null,null,null,null,null,"","",null,null,10]
["SF-00079",{"$f":"INDEX(Orçamentária!A:B,MATCH(Composições!A319,Orçamentária!A:A,0),2)","v":"Escoramento metálico"},null,{"$f":"TRIM(INDEX(Orçamentária!C:C,MATCH(Composições!A319,Orçamentária!A:A,0),1))","v":"m2 x mês"},null,"","",null,null,100]
[null,null,null,null,null,"","",null,null,100]
[null,null,"LOCACAO DE ESCORA METALICA TELESCOPICA, COM ALTURA REGULAVEL DE *1,80* A *3,20*M, COM CAPACIDADE DE CARGA DE NO MINIMO 1000 KGF (10 KN), INCLUSO TRIPE E FORCADO","MES",0.85,5.2154999999999996,4.4331749999999994,{"$f":"SUM(G321:G323)","v":12.122475},null,100]
[null,null,"Ajudante de carpinteiro com encargos complementares","h",0.2,18.173499999999997,3.6346999999999996,null,null,100]
[null,null,"PONTALETE DE MADEIRA NAO APARELHADA *7,5 X 7,5* CM (3 X 3 \") PINUS, MISTA OU EQUIVALENTE DA REGIAO","m",1.1000000000000001,3.6859999999999999,4.0546000000000006,null,null,100]
[null,null,null,null,null,"","",null,null,100]
["SF-00080",{"$f":"INDEX(Orçamentária!A:B,MATCH(Composições!A325,Orçamentária!A:A,0),2)","v":"Estrutura metálica em aço"},null,{"$f":"TRIM(INDEX(Orçamentária!C:C,MATCH(Composições!A325,Orçamentária!A:A,0),1))","v":"kg"},null,"","",null,null,0]
[null,null,null,null,null,"",{"$f":"IF(ISNUMBER(F326),E326*F326,\"\")","v":""},null,null,0]
[null,null,"ACETILENO (RECARGA PARA CILINDRO DE CONJUNTO OXICORTE GRANDE)","kg",0.01,42.217999999999996,0.42218,{"$f":"SUM(G327:G338)","v":10.853227500000001},null,0]
[null,null,"CANTONEIRA ACO ABAS IGUAIS (QUALQUER BITOLA), ESPESSURA ENTRE 1/8\" E 1/4\"","kg",0.27,4.8354999999999997,1.305585,null,null,0]
[null,null,"Chapa de aco USI-SAC 350, de (2,44x6)m, com espessura de 1/2\"","kg",0.33,0,0,null,null,0]
[null,null,"ELETRODO REVESTIDO AWS - E7018, DIAMETRO IGUAL A 4,00 MM","kg",2.5000000000000001E-2,16.862500000000001,0.42156250000000006,null,null,0]
[null,null,"OXIGENIO, RECARGA PARA CILINDRO DE CONJUNTO OXICORTE GRANDE","m3",0.05,9.2530000000000001,0.46265000000000001,null,null,0]
[null,null,"Perfil \"H\" de aco carbono, padrao americano, de (6\"x6\")","kg",0.4,0,0,null,null,0]
[null,null,"Montador de estrutura metálica com encargos complementares","h",{"$f":"0.2+0.2","v":0.4},16.596499999999999,6.6386000000000003,null,null,0]
[null,null,"Servente com Encargos Complementares","h",0.1,16.026499999999999,1.6026499999999999,null,null,0]
[null,null,"Perda em perfil de aco carbono tipo \"H\", de 6\"x6\" - 5% - equivalente ao elementar MAT095450","kg",0.05,0,0,null,null,0]
[null,null,"Repintura interna ou externa sobre ferro, inclusive lixamento, limpeza, demao de tinta anti oxido Ferroloide ou equivalente e outra de tinta alquidica esmaltada Condor ou equivalente.","m2",0.05,0,0,null,null,0]
[null,null,"Retificador de solda, eletrico, de 430A. Custo horario corrido.","h",2.5000000000000001E-2,0,0,null,null,0]
[null,null,"Talha Guincho manual de 10Kg, sem operador, com as seguintes especificacoes minimas: capacidade de icamento de 1500Kg e de tracao de 1800Kg, cabo de aco com curso ilimitado, alavanca, gancho e carretel. Custo horario corrido.","h",0.5,0,0,null,null,0]
[null,null,null,null,null,"","",null,null,0]
["SF-00081",{"$f":"INDEX(Orçamentária!A:B,MATCH(Composições!A340,Orçamentária!A:A,0),2)","v":"Forma para estruturas de concreto"},null,{"$f":"TRIM(INDEX(Orçamentária!C:C,MATCH(Composições!A340,Orçamentária!A:A,0),1))","v":"m2"},null,"","",null,null,100]
[null,null,null,null,null,"","",null,null,100]
[null,null,"DESMOLDANTE PROTETOR PARA FORMAS DE MADEIRA, DE BASE OLEOSA EMULSIONADA EM AGUA","L",0.01,4.8925000000000001,4.8925000000000003E-2,{"$f":"SUM(G342:G348)","v":111.59962474},null,100]
[null,null,"TABUA DE MADEIRA NAO APARELHADA *2,5 X 20* CM, CEDRINHO OU EQUIVALENTE DA REGIAO","M",0.47399999999999998,9.9559999999999995,4.7191439999999991,null,null,100]
[null,null,"PREGO DE ACO POLIDO COM CABECA DUPLA 17 X 27 (2 1/2 X 11)","KG",4.9000000000000002E-2,13.955499999999999,0.68381950000000002,null,null,100]
[null,null,"AJUDANTE DE CARPINTEIRO COM ENCARGOS COMPLEMENTARES","H",0.20499999999999999,18.173499999999997,3.725567499999999,null,null,100]
[null,null,"CARPINTEIRO DE FORMAS COM ENCARGOS COMPLEMENTARES","H",1.1200000000000001,21.5745,24.163440000000001,null,null,100]
[null,null,"FABRICAÇÃO DE FÔRMA PARA VIGAS, EM CHAPA DE MADEIRA COMPENSADA RESINADA, E = 17 MM. AF_09/2020","M2",0.621,72.795687999999998,45.206122248,null,null,100]
[null,null,"FABRICAÇÃO DE ESCORAS DE VIGA DO TIPO GARFO, EM MADEIRA. AF_09/2020","M",1.8160000000000001,18.200774499999998,33.052606491999995,null,null,100]
[null,null,null,null,null,"","",null,null,100]
["SF-00082",{"$f":"INDEX(Orçamentária!A:B,MATCH(Composições!A350,Orçamentária!A:A,0),2)","v":"Verga/contraverga/cinta em bloco de concreto canaleta 11,5 x 19 x 39 cm"},null,{"$f":"TRIM(INDEX(Orçamentária!C:C,MATCH(Composições!A350,Orçamentária!A:A,0),1))","v":"m"},null,"","",null,null,50]
[null,null,null,null,null,"","",null,null,50]
[null,null,"Servente com Encargos Complementares","h",0.4,16.026499999999999,6.4105999999999996,{"$f":"SUM(G352:G360)","v":25.579284717},null,50]
[null,null,"Pedreiro Com Encargos Complementares","h",0.3,21.716999999999999,6.5150999999999994,null,null,50]
[null,null,"Areia media - posto jazida/fornecedor (retirado na jazida, sem transporte)","m3",0.01,93.8125,0.93812499999999999,null,null,50]
[null,null,"Pedra britada n. 2 (19 a 38 mm) posto pedreira/fornecedor, sem frete","m3",0.01,76,0.76,null,null,50]
[null,null,"Cimento Portland composto CP II-32","kg",2.0099999999999998,0.44649999999999995,0.89746499999999985,null,null,50]
[null,null,"Bloco de concreto tipo canaleta 11,5 x 19 x 39 cm","un ",2.5,2.6315,6.5787499999999994,null,null,50]
[null,null,"Aco CA-50, 10,0 mm, vergalhao","kg",0.5,5.5385,2.76925,null,null,50]
[null,null,"CARGA, MANOBRA E DESCARGA DE SOLOS E MATERIAIS GRANULARES EM CAMINHÃO BASCULANTE 6 M³ - CARGA COM PÁ CARREGADEIRA (CAÇAMBA DE 1,7 A 2,8 M³ / 128 HP) E DESCARGA LIVRE (UNIDADE: M3). AF_07/2020","M3",{"$f":"1*(E354+E355)","v":0.02},4.7457088499999998,9.4914177000000002E-2,null,null,50]
[null,null,"TRANSPORTE COM CAMINHÃO BASCULANTE DE 6 M3, EM VIA URBANA PAVIMENTADA, DMT ATÉ 30 KM (UNIDADE: M3xKM). AF_01/2018","M3xKM",{"$f":"(E354+E355)*20","v":0.4},1.5377013499999996,0.6150805399999999,null,null,50]
[null,null,null,null,null,"","",null,null,50]
[null,null,"Obs.: Considerando fornecedor de areia e brita a 20 km do Senado Federal.",null,null,"","",null,null,50]
[null,null,null,null,null,"","",null,null,50]
["SF-00083",{"$f":"INDEX(Orçamentária!A:B,MATCH(Composições!A364,Orçamentária!A:A,0),2)","v":"Impermeabilização de superfície com revestimento bicomponente semi flexível"},null,{"$f":"TRIM(INDEX(Orçamentária!C:C,MATCH(Composições!A364,Orçamentária!A:A,0),1))","v":"m2"},null,"","",null,null,500]
[null,null,null,null,null,"","",null,null,500]
[null,null,"Argamassa polimerica impermeabilizante semiflexivel, bicomponente (membrana impermeabilizante acrilica)","kg",3.2,2.3275000000000001,7.4480000000000004,{"$f":"SUM(G366:G368)","v":21.060625999999999},null,500]
[null,null,"Ajudante especializado com encargos complementares","h",0.108,19.066499999999998,2.0591819999999998,null,null,500]
[null,null,"Impermeabilizador com encargos complementares","h",0.53200000000000003,21.716999999999999,11.553444000000001,null,null,500]
[null,null,null,null,null,"","",null,null,500]
["SF-00084",{"$f":"INDEX(Orçamentária!A:B,MATCH(Composições!A370,Orçamentária!A:A,0),2)","v":"Alvenaria de vedação"},null,{"$f":"TRIM(INDEX(Orçamentária!C:C,MATCH(Composições!A370,Orçamentária!A:A,0),1))","v":"m2"},null,"","",null,null,500]
[null,null,null,null,null,"","",null,null,500]
[null,null,"BLOCO CERAMICO VAZADO PARA ALVENARIA DE VEDACAO, DE 9 X 19 X 19 CM (L X A X C)","mil",2.7900000000000001E-2,690.96349999999995,19.277881650000001,{"$f":"SUM(G372:G377)","v":65.240160383158809},null,500]
[null,null,"Tela de aco soldada galvanizada/zincada para alvenaria, fio D = *1,20 a 1,70* mm, malha 15 x 15 mm, (C x L) *50 x 7,5* cm","m",0.42,1.6909999999999998,0.71021999999999985,null,null,500]
[null,null,"Pino de aco com furo, haste = 27 mm (acao direta)","cento",5.0000000000000001E-3,32.423500000000004,0.16211750000000003,null,null,500]
[null,null,"ARGAMASSA TRAÇO 1:2:8 (EM VOLUME DE CIMENTO, CAL E AREIA MÉDIA ÚMIDA) PARA EMBOÇO/MASSA ÚNICA/ASSENTAMENTO DE ALVENARIA DE VEDAÇÃO, PREPARO MECÂNICO COM BETONEIRA 400 L. AF_08/2019","m3",9.7999999999999997E-3,444.84680950599989,4.3594987331587989,null,null,500]
[null,null,"Pedreiro com Encargos Complementares","h",1.37,21.716999999999999,29.752290000000002,null,null,500]
[null,null,"Servente com Encargos Complementares","h",0.68500000000000005,16.026499999999999,10.9781525,null,null,500]
[null,null,null,null,null,"","",null,null,500]
["SF-00085",{"$f":"INDEX(Orçamentária!A:B,MATCH(Composições!A379,Orçamentária!A:A,0),2)","v":"Fechamento ou shaft em gesso acartonado tipo drywall"},null,{"$f":"TRIM(INDEX(Orçamentária!C:C,MATCH(Composições!A379,Orçamentária!A:A,0),1))","v":"m2"},null,"","",null,null,50]
[null,null,null,null,null,"","",null,null,50]
[null,null,"Pino de aco com arruela conica, diametro arruela = *23* mm e Comp haste = *27* mm (acao indireta)","cento",2.4299999999999999E-2,37.715000000000003,0.91647450000000008,{"$f":"SUM(G381:G391)","v":47.762047049999993},null,50]
[null,null,"Chapa de gesso acartonado, Standard (ST), cor branca, E = 12,5 mm, 1200 x 2400 mm (L x C)","m2",1.0529999999999999,20.177999999999997,21.247433999999995,null,null,50]
[null,null,"Perfil guia, formato U, em aco zincado, para estrutura parede drywall, E = 0,5 mm, 70 x 3000 mm (L x C)","m",0.76039999999999996,4.18,3.1784719999999997,null,null,50]
[null,null,"Perfil montante, formato C, em aco zincado, para estrutura parede drywall, E = 0,5 mm, 70 x 3000 mm (L x C)","m",1.9910000000000001,4.75,9.4572500000000002,null,null,50]
[null,null,"Fita de papel microperfurado, 50 x 150 mm, para tratamento de juntas de chapa de gesso para drywall","m",1.2513000000000001,0.22799999999999998,0.28529640000000001,null,null,50]
[null,null,"Fita de papel reforcada com lamina de metal para reforco de cantos de chapa de gesso para drywall","m",0.74070000000000003,2.9830000000000001,2.2095081000000003,null,null,50]
[null,null,"Massa de rejunte em po para drywall, a base de gesso, secagem rapida, para tratamento de juntas de chapa de gesso (com adicao de agua)","kg",0.51639999999999997,4.0089999999999995,2.0702475999999996,null,null,50]
[null,null,"Parafuso dry wall, em aco fosfatizado, cabeca trombeta e ponta agulha (TA), comprimento 25 mm","un",10.0039,7.5999999999999998E-2,0.76029639999999998,null,null,50]
[null,null,"Parafuso dry wall, em aco zincado, cabeca lentilha e ponta broca (LB), largura 4,2 mm, comprimento 13 mm","un",0.80759999999999998,0.18049999999999999,0.14577179999999998,null,null,50]
[null,null,"Montador de estrutura metálica com encargos complementares","h",0.36359999999999998,16.596499999999999,{"$f":"IF(ISNUMBER(F390),E390*F390,\"\")","v":6.0344873999999988},null,null,50]
[null,null,"Servente com Encargos Complementares","h",9.0899999999999995E-2,16.026499999999999,1.4568088499999998,null,null,50]
[null,null,null,null,null,"","",null,null,50]
["SF-00086",{"$f":"INDEX(Orçamentária!A:B,MATCH(Composições!A393,Orçamentária!A:A,0),2)","v":"Fixação (encunhamento) de Alvenaria de Vedação"},null,{"$f":"TRIM(INDEX(Orçamentária!C:C,MATCH(Composições!A393,Orçamentária!A:A,0),1))","v":"m"},null,"","",null,null,300]
[null,null,null,null,null,"","",null,null,300]
[null,null,"TIJOLO CERAMICO MACICO COMUM *5 X 10 X 20* CM (L X A X C)","un",11.2,0.58899999999999997,6.5967999999999991,{"$f":"SUM(G395:G398)","v":22.012979986007597},null,300]
[null,null,"ARGAMASSA TRAÇO 1:2:9 (EM VOLUME DE CIMENTO, CAL E AREIA MÉDIA ÚMIDA) PARA EMBOÇO/MASSA ÚNICA/ASSENTAMENTO DE ALVENARIA DE VEDAÇÃO, PREPARO MECÂNICO COM BETONEIRA 600 L. AF_08/2019","m3",5.1999999999999998E-3,428.66884346299986,2.2290779860075993,null,null,300]
[null,null,"Pedreiro com Encargos Complementares","h",0.52900000000000003,21.716999999999999,11.488293000000001,null,null,300]
[null,null,"Servente com Encargos Complementares","h",0.106,16.026499999999999,1.6988089999999998,null,null,300]
[null,null,null,null,null,"","",null,null,300]
["SF-00087",{"$f":"INDEX(Orçamentária!A:B,MATCH(Composições!A400,Orçamentária!A:A,0),2)","v":"Parede em gesso acartonado (drywall)"},null,{"$f":"TRIM(INDEX(Orçamentária!C:C,MATCH(Composições!A400,Orçamentária!A:A,0),1))","v":"m2"},null,"","",null,null,1000]
[null,null,null,null,null,"","",null,null,1000]
[null,null,"Pino De Aco Com Arruela Conica, Diametro Arruela = *23* Mm E Comp Haste = *27* Mm (Acao Indireta)","cento",2.4299999999999999E-2,37.715000000000003,0.91647450000000008,{"$f":"SUM(G402:G412)","v":75.859881650000005},null,1000]
[null,null,"Chapa De Gesso Acartonado, Standard (St), Cor Branca, E = 12,5 Mm, 1200 X 2400 Mm (L X C)","m2",2.1059999999999999,20.177999999999997,42.49486799999999,null,null,1000]
[null,null,"Perfil Guia, Formato U, Em Aco Zincado, Para Estrutura Parede Drywall, E = 0,5 Mm, 70 X 3000 Mm (L X C)","m",0.76039999999999996,4.18,3.1784719999999997,null,null,1000]
[null,null,"Perfil Montante, Formato C, Em Aco Zincado, Para Estrutura Parede Drywall, E = 0,5 Mm, 70 X 3000 Mm (L X C)","m",1.9910000000000001,4.75,9.4572500000000002,null,null,1000]
[null,null,"Fita De Papel Microperfurado, 50 X 150 Mm, Para Tratamento De Juntas De Chapa De Gesso Para Drywall","m",2.5026999999999999,0.22799999999999998,0.57061559999999989,null,null,1000]
[null,null,"Fita De Papel Reforcada Com Lamina De Metal Para Reforco De Cantos De Chapa De Gesso Para Drywall","m",0.74070000000000003,2.9830000000000001,2.2095081000000003,null,null,1000]
[null,null,"Massa De Rejunte Em Po Para Drywall, A Base De Gesso, Secagem Rapida, Para Tratamento De Juntas De Chapa De Gesso (Com Adicao De Agua)","kg",1.0327,4.0089999999999995,4.1400942999999994,null,null,1000]
[null,null,"Parafuso Dry Wall, Em Aco Fosfatizado, Cabeca Trombeta E Ponta Agulha (Ta), Comprimento 25 Mm","un",20.0077,7.5999999999999998E-2,1.5205852,null,null,1000]
[null,null,"Parafuso Dry Wall, Em Aco Zincado, Cabeca Lentilha E Ponta Broca (Lb), Largura 4,2 Mm, Comprimento 13 Mm","un",0.80759999999999998,0.18049999999999999,0.14577179999999998,null,null,1000]
[null,null,"Montador de estrutura metálica com encargos complementares","h",0.54490000000000005,16.596499999999999,9.0434328500000003,null,null,1000]
[null,null,"Servente com Encargos Complementares","h",0.13619999999999999,16.026499999999999,2.1828092999999997,null,null,1000]
[null,null,null,null,null,"","",null,null,1000]
["SF-00088",{"$f":"INDEX(Orçamentária!A:B,MATCH(Composições!A414,Orçamentária!A:A,0),2)","v":"Reparos superficiais em painéis de gesso acartonado"},null,{"$f":"TRIM(INDEX(Orçamentária!C:C,MATCH(Composições!A414,Orçamentária!A:A,0),1))","v":"m2"},null,"","",null,null,20]
[null,null,null,null,null,"","",null,null,20]
[null,null,"Fita De Papel Microperfurado, 50 X 150 Mm, Para Tratamento De Juntas De Chapa De Gesso Para Drywall","m",1.2513000000000001,0.22799999999999998,0.28529640000000001,{"$f":"SUM(G416:G419)","v":5.386325199999999},null,20]
[null,null,"Massa De Rejunte Em Po Para Drywall, A Base De Gesso, Secagem Rapida, Para Tratamento De Juntas De Chapa De Gesso (Com Adicao De Agua)","kg",0.51639999999999997,4.0089999999999995,2.0702475999999996,null,null,20]
[null,null,"Montador de estrutura metálica com encargos complementares","h",{"$f":"0.3636/3","v":0.12119999999999999},16.596499999999999,2.0114957999999996,null,null,20]
[null,null,"Servente com Encargos Complementares","h",{"$f":"ROUND(0.0909*0.7,4)","v":6.3600000000000004E-2},16.026499999999999,1.0192854,null,null,20]
[null,null,null,null,null,"","",null,null,20]
["SF-00089",{"$f":"INDEX(Orçamentária!A:B,MATCH(Composições!A421,Orçamentária!A:A,0),2)","v":"Sóculo h=10 cm"},null,{"$f":"TRIM(INDEX(Orçamentária!C:C,MATCH(Composições!A421,Orçamentária!A:A,0),1))","v":"m2"},null,"","",null,null,40]
[null,null,null,null,null,"","",null,null,40]
[null,null,"Tela de aco soldada galvanizada/zincada para alvenaria, fio D = *1,20 a 1,70* mm, malha 15 x 15 mm, (C x L) *50 x 7,5* cm","m",0.78500000000000003,1.6909999999999998,1.3274349999999999,{"$f":"SUM(G423:G431)","v":69.784052761340178},null,40]
[null,null,"Pino de aco com furo, haste = 27 mm (acao direta)","cento",9.4000000000000004E-3,32.423500000000004,0.30478090000000008,null,null,40]
[null,null,"Bloco ceramico de vedacao com furos na vertical, 9 x 19 x 39 cm - 4,5 MPa (NBR 15270)","un",13.35,1.7859999999999998,23.843099999999996,null,null,40]
[null,null,"ARGAMASSA TRAÇO 1:2:8 (EM VOLUME DE CIMENTO, CAL E AREIA MÉDIA ÚMIDA) PARA EMBOÇO/MASSA ÚNICA/ASSENTAMENTO DE ALVENARIA DE VEDAÇÃO, PREPARO MECÂNICO COM BETONEIRA 400 L. AF_08/2019","m3",1.04E-2,444.84680950599989,4.6264068188623986,null,null,40]
[null,null,"Pedreiro com Encargos Complementares","h",0.59,21.716999999999999,12.813029999999998,null,null,40]
[null,null,"Servente com Encargos Complementares","h",0.29499999999999998,16.026499999999999,4.7278174999999996,null,null,40]
[null,null,"ARGAMASSA TRAÇO 1:2:8 (EM VOLUME DE CIMENTO, CAL E AREIA MÉDIA ÚMIDA) PARA EMBOÇO/MASSA ÚNICA/ASSENTAMENTO DE ALVENARIA DE VEDAÇÃO, PREPARO MECÂNICO COM BETONEIRA 400 L. AF_08/2019","m3",2.1299999999999999E-2,444.84680950599989,9.4752370424777972,null,null,40]
[null,null,"Pedreiro com Encargos Complementares","h",0.46,21.716999999999999,9.9898199999999999,null,null,40]
[null,null,"Servente com Encargos Complementares","h",0.16700000000000001,16.026499999999999,2.6764255000000001,null,null,40]
[null,null,null,null,null,"","",null,null,40]
["SF-00090",{"$f":"INDEX(Orçamentária!A:B,MATCH(Composições!A433,Orçamentária!A:A,0),2)","v":"Chapisco colante industrializado em vigas e pilares"},null,{"$f":"TRIM(INDEX(Orçamentária!C:C,MATCH(Composições!A433,Orçamentária!A:A,0),1))","v":"m2"},null,"","",null,null,40]
[null,null,null,null,null,"","",null,null,40]
[null,null,"ARGAMASSA INDUSTRIALIZADA PARA CHAPISCO COLANTE, PREPARO COM MISTURADOR DE EIXO HORIZONTAL DE 300 KG. AF_08/2019","m3",3.2000000000000002E-3,1719.8185350000001,5.503419312000001,{"$f":"SUM(G435:G437)","v":8.791489962},null,40]
[null,null,"Pedreiro com Encargos Complementares","h",0.14099999999999999,21.716999999999999,3.0620969999999996,null,null,40]
[null,null,"Servente com Encargos Complementares","h",1.41E-2,16.026499999999999,0.22597364999999997,null,null,40]
[null,null,null,null,null,"","",null,null,40]
["SF-00091",{"$f":"INDEX(Orçamentária!A:B,MATCH(Composições!A439,Orçamentária!A:A,0),2)","v":"Chapisco com argamassa traço 1:3"},null,{"$f":"TRIM(INDEX(Orçamentária!C:C,MATCH(Composições!A439,Orçamentária!A:A,0),1))","v":"m2"},null,"","",null,null,1000]
[null,null,null,null,null,"","",null,null,1000]
[null,null,"ARGAMASSA TRAÇO 1:3 (EM VOLUME DE CIMENTO E AREIA GROSSA ÚMIDA) PARA CHAPISCO CONVENCIONAL, PREPARO MANUAL. AF_08/2019","m3",4.1999999999999997E-3,510.27532097900001,2.1431563481118001,{"$f":"SUM(G441:G443)","v":3.7755318481118003},null,1000]
[null,null,"Pedreiro com Encargos Complementares","h",7.0000000000000007E-2,21.716999999999999,1.5201900000000002,null,null,1000]
[null,null,"Servente com Encargos Complementares","h",7.0000000000000001E-3,16.026499999999999,0.11218549999999999,null,null,1000]
[null,null,null,null,null,"","",null,null,1000]
["SF-00092",{"$f":"INDEX(Orçamentária!A:B,MATCH(Composições!A445,Orçamentária!A:A,0),2)","v":"Gesso cola"},null,{"$f":"TRIM(INDEX(Orçamentária!C:C,MATCH(Composições!A445,Orçamentária!A:A,0),1))","v":"m2"},null,"","",null,null,440]
[null,null,null,null,null,"","",null,null,440]
[null,null,"Gesseiro com encargos complementares","h",0.4,21.612500000000001,8.6450000000000014,{"$f":"SUM(G447:G449)","v":12.874620000000002},null,440]
[null,null,"Servente com Encargos Complementares","h",0.08,16.026499999999999,1.2821199999999999,null,null,440]
[null,null,"Gesso cola","kg",0.75,3.93,2.9475000000000002,null,null,440]
[null,null,null,null,null,"","",null,null,440]
[null,null,"Obs.: Fonte para o coeficiente do gesso (0,75 kg/m2) : http://www.gessotrevo.com.br/gesso_cola.php - acesso em 16/08/18",null,null,"","",null,null,440]
[null,null,null,null,null,"","",null,null,440]
["SF-00093",{"$f":"INDEX(Orçamentária!A:B,MATCH(Composições!A453,Orçamentária!A:A,0),2)","v":"Reboco com argamassa industrializada e=2,0 cm"},null,{"$f":"TRIM(INDEX(Orçamentária!C:C,MATCH(Composições!A453,Orçamentária!A:A,0),1))","v":"m2"},null,"","",null,null,1000]
[null,null,null,null,null,"",{"$f":"IF(ISNUMBER(F454),E454*F454,\"\")","v":""},null,null,1000]
[null,null,"Argamassa industrializada multiuso, para revestimento interno e externo e assentamento de blocos diversos","kg",{"$f":"1890*0.02","v":37.800000000000004},0.44649999999999995,16.877700000000001,{"$f":"SUM(G455:G458)","v":32.783669699999997},null,1000]
[null,null,"Servente com Encargos Complementares","h",{"$f":"12.59*0.02","v":0.25180000000000002},16.026499999999999,4.0354726999999997,null,null,1000]
[null,null,"Pedreiro com Encargos Complementares","h",0.43,21.716999999999999,9.3383099999999999,null,null,1000]
[null,null,"Servente com Encargos Complementares","h",{"$f":"0.158","v":0.158},16.026499999999999,2.532187,null,null,1000]
[null,null,null,null,null,"","",null,null,1000]
[null,null,"Obs.: Rendimento de argamassa obtido como referência no SINAPI e no link abaixo. Extrato: \"Revestimento: Em média 17,0 a 19,5 Kg/m2  para cada 1,0 cm de espessura, variando em função da aplicação\".",null,null,"","",null,null,1000]
[null,null,"https://s3.amazonaws.com/mapa-da-obra-producao/wp-content/uploads/2015/12/2101-matrix-revestimento-interno.pdf",null,null,"","",null,null,1000]
[null,null,null,null,null,"","",null,null,1000]
["SF-00094",{"$f":"INDEX(Orçamentária!A:B,MATCH(Composições!A463,Orçamentária!A:A,0),2)","v":"Regularização com argamassa industrializada e=0,5 cm"},null,{"$f":"TRIM(INDEX(Orçamentária!C:C,MATCH(Composições!A463,Orçamentária!A:A,0),1))","v":"m2"},null,"","",null,null,200]
[null,null,null,null,null,"","",null,null,200]
[null,null,"Argamassa industrializada multiuso, para revestimento interno e externo e assentamento de blocos diversos","kg",{"$f":"1890*0.005","v":9.4500000000000011},0.44649999999999995,4.2194250000000002,{"$f":"SUM(G465:G468)","v":11.376856574999998},null,200]
[null,null,"Servente com Encargos Complementares","h",{"$f":"12.59*0.005","v":6.2950000000000006E-2},16.026499999999999,1.0088681749999999,null,null,200]
[null,null,"Pedreiro com Encargos Complementares","h",{"$f":"0.31*0.7","v":0.217},21.716999999999999,4.7125889999999995,null,null,200]
[null,null,"Servente com Encargos Complementares","h",{"$f":"0.128*0.7","v":8.9599999999999999E-2},16.026499999999999,1.4359743999999999,null,null,200]
[null,null,null,null,null,"","",null,null,200]
["SF-00095",{"$f":"INDEX(Orçamentária!A:B,MATCH(Composições!A470,Orçamentária!A:A,0),2)","v":"Tratamento de trincas superficiais"},null,{"$f":"TRIM(INDEX(Orçamentária!C:C,MATCH(Composições!A470,Orçamentária!A:A,0),1))","v":"m"},null,"","",null,null,100]
[null,null,null,null,null,"","",null,null,100]
[null,null,"Servente com Encargos Complementares","h",0.6,16.026499999999999,9.6158999999999981,{"$f":"SUM(G472:G476)","v":21.897359399999999},null,100]
[null,null,"Pedreiro com Encargos Complementares","h",0.155,21.716999999999999,3.3661349999999999,null,null,100]
[null,null,"Tela de poliéster adesiva largura 150mm e reforço central de 50mm","m",1.05,3.61,3.7905000000000002,null,null,100]
[null,null,"RESINA ACRILICA BASE AGUA - COR BRANCA","L",{"$f":"ROUND(1*0.15/(165/18),4)","v":1.6400000000000001E-2},22.971,0.37672440000000001,null,null,100]
[null,null,"SELANTE A BASE DE RESINAS ACRILICAS PARA TRINCAS","kg",{"$f":"1/5","v":0.2},23.740499999999997,4.7481,null,null,100]
[null,null,null,null,null,"","",null,null,100]
[null,null,"Obs.: Rendimento da resina e do selante de acordo com recomendações do fabricante (Bautech). Consumo médio. Selante: 5 m por kg. Resina: 165 m2 por embalagem de 18 L.",null,null,"","",null,null,100]
[null,null,"http://www.bautechbrasil.com.br/produtos/selantes-especiais/bautech-selante-acr%C3%ADlico",null,null,"","",null,null,100]
[null,null,"http://www.bautechbrasil.com.br/produtos/pinturas-especiais-e-complementos/bautech-resina-acr%C3%ADlica-multiuso",null,null,"","",null,null,100]
[null,null,null,null,null,"","",null,null,100]
["SF-00096",{"$f":"INDEX(Orçamentária!A:B,MATCH(Composições!A482,Orçamentária!A:A,0),2)","v":"Aplicação de fundo selador base água"},null,{"$f":"TRIM(INDEX(Orçamentária!C:C,MATCH(Composições!A482,Orçamentária!A:A,0),1))","v":"m2"},null,"","",null,null,5400]
[null,null,null,null,null,"","",null,null,5400]
[null,null,"Pintor com encargos complementares","h",0.106,22.762,2.4127719999999999,{"$f":"SUM(G484:G486)","v":4.0886874999999998},null,5400]
[null,null,"Servente com Encargos Complementares","h",2.7E-2,16.026499999999999,0.43271549999999998,null,null,5400]
[null,null,"Fundo selador a base d'água","L",0.16,7.77,1.2431999999999999,null,null,5400]
[null,null,null,null,null,"","",null,null,5400]
["SF-00097",{"$f":"INDEX(Orçamentária!A:B,MATCH(Composições!A488,Orçamentária!A:A,0),2)","v":"Fundo anticorrosivo e de aderência (base água)"},null,{"$f":"TRIM(INDEX(Orçamentária!C:C,MATCH(Composições!A488,Orçamentária!A:A,0),1))","v":"m2"},null,"","",null,null,400]
[null,null,null,null,null,"","",null,null,400]
[null,null,"Pintor com encargos complementares","h",{"$f":"2*0.2149","v":0.42980000000000002},22.762,9.783107600000001,{"$f":"SUM(G490:G491)","v":15.035907600000002},null,400]
[null,null,"Fundo anticorrosivo e de aderência a base de água","L",{"$f":"2*(3.6/45)","v":0.16},32.83,5.2527999999999997,null,null,400]
[null,null,null,null,null,"","",null,null,400]
[null,null,"Obs.: Rendimento do fundo obtido de acordo com recomendação do fabricante. Consumo médio. ",null,null,"","",null,null,400]
[null,null,"https://www.sherwin-williams.com.br/produto-detalhe/metalatex-eco-complementos",null,null,"","",null,null,400]
[null,null,"https://www.suvinil.com.br/upload/78d22676-91b1-4086-99ad-4258fadd7b08-suvinil-fundo-seca-rapidomaio2018.pdf",null,null,"","",null,null,400]
["SF-00098",{"$f":"INDEX(Orçamentária!A:B,MATCH(Composições!A496,Orçamentária!A:A,0),2)","v":"Massa acrílica"},null,{"$f":"TRIM(INDEX(Orçamentária!C:C,MATCH(Composições!A496,Orçamentária!A:A,0),1))","v":"m2"},null,"","",null,null,1000]
[null,null,null,null,null,"","",null,null,1000]
[null,null,"Lixa em folha para parede ou madeira, numero 120 (cor vermelha)","un",0.1,0.64600000000000002,6.4600000000000005E-2,{"$f":"SUM(G498:G501)","v":16.278145500000001},null,1000]
[null,null,"Massa acrilica para paredes interior/exterior","gl",0.24399999999999999,29.839499999999997,7.2808379999999993,null,null,1000]
[null,null,"Pintor com encargos complementares","h",0.33400000000000002,22.762,7.6025080000000003,null,null,1000]
[null,null,"Servente com Encargos Complementares","h",8.3000000000000004E-2,16.026499999999999,1.3301995,null,null,1000]
[null,null,null,null,null,"","",null,null,1000]
["SF-00099",{"$f":"INDEX(Orçamentária!A:B,MATCH(Composições!A503,Orçamentária!A:A,0),2)","v":"Massa corrida"},null,{"$f":"TRIM(INDEX(Orçamentária!C:C,MATCH(Composições!A503,Orçamentária!A:A,0),1))","v":"m2"},null,"","",null,null,3000]
[null,null,null,null,null,"","",null,null,3000]
[null,null,"Lixa em folha para parede ou madeira, numero 120 (cor vermelha)","un",0.1,0.64600000000000002,6.4600000000000005E-2,{"$f":"SUM(G505:G508)","v":12.635437000000001},null,3000]
[null,null,"Massa corrida PVA para paredes internas","18L",4.8899999999999999E-2,74.48,3.6420720000000002,null,null,3000]
[null,null,"Pintor com encargos complementares","h",0.312,22.762,7.1017440000000001,null,null,3000]
[null,null,"Servente com Encargos Complementares","h",0.114,16.026499999999999,1.827021,null,null,3000]
[null,null,null,null,null,"","",null,null,3000]
["SF-00100",{"$f":"INDEX(Orçamentária!A:B,MATCH(Composições!A510,Orçamentária!A:A,0),2)","v":"Pintura com tinta látex acrílica Premium (paredes)"},null,{"$f":"TRIM(INDEX(Orçamentária!C:C,MATCH(Composições!A510,Orçamentária!A:A,0),1))","v":"m2"},null,"","",null,null,9000]
[null,null,null,null,null,"","",null,null,9000]
[null,null,"Pintor com encargos complementares","h",0.187,22.762,4.256494,{"$f":"SUM(G512:G514)","v":11.9082025},null,9000]
[null,null,"Servente com Encargos Complementares","h",6.9000000000000006E-2,16.026499999999999,1.1058285000000001,null,null,9000]
[null,null,"Tinta acrilica premium, cor branco fosco","L",0.33,19.835999999999999,6.5458799999999995,null,null,9000]
[null,null,null,null,null,"","",null,null,9000]
["SF-00101",{"$f":"INDEX(Orçamentária!A:B,MATCH(Composições!A516,Orçamentária!A:A,0),2)","v":"Pintura em verniz sintético"},null,{"$f":"TRIM(INDEX(Orçamentária!C:C,MATCH(Composições!A516,Orçamentária!A:A,0),1))","v":"m2"},null,"","",null,null,300]
[null,null,null,null,null,"","",null,null,300]
[null,null,"Lixa em folha para parede ou madeira, numero 120 (cor vermelha)","un",1,0.64600000000000002,{"$f":"IF(ISNUMBER(F518),E518*F518,\"\")","v":0.64600000000000002},{"$f":"SUM(G518:G521)","v":18.074149999999999},null,300]
[null,null,"Verniz a base de água para madeira","L",{"$f":"ROUND(3*3.6/100,4)","v":0.108},32.549999999999997,3.5153999999999996,null,null,300]
[null,null,"Pintor com encargos complementares","h",0.4,22.762,9.1048000000000009,null,null,300]
[null,null,"Servente com Encargos Complementares","h",0.3,16.026499999999999,4.8079499999999991,null,null,300]
[null,null,null,null,null,null,null,null,null,300]
[null,null,"Obs: considerando rendimento informado na especificação técnica de produto equivalente da Suvinil (Lata de 3,6L rende até 100 m²/demão).",null,null,null,null,null,null,300]
[null,null,null,null,null,"",{"$f":"IF(ISNUMBER(F524),E524*F524,\"\")","v":""},null,null,300]
["SF-00102",{"$f":"INDEX(Orçamentária!A:B,MATCH(Composições!A525,Orçamentária!A:A,0),2)","v":"Pintura esmalte acetinado (metais e madeiras)"},null,{"$f":"TRIM(INDEX(Orçamentária!C:C,MATCH(Composições!A525,Orçamentária!A:A,0),1))","v":"m2"},null,"","",null,null,500]
[null,null,null,null,null,"","",null,null,500]
[null,null,"Pintor com encargos complementares","h",0.4,22.762,9.1048000000000009,{"$f":"SUM(G527:G530)","v":16.419059999999998},null,500]
[null,null,"Servente com Encargos Complementares","h",0.2,16.026499999999999,3.2052999999999998,null,null,500]
[null,null,"Lixa em folha para parede ou madeira, numero 120 (cor vermelha)","un",0.4,0.64600000000000002,0.25840000000000002,null,null,500]
[null,null,"Tinta esmalte sintetico a base de água","L",{"$f":"ROUND(3*3.6/75,4)","v":0.14399999999999999},26.74,3.8505599999999993,null,null,500]
[null,null,null,null,null,null,null,null,null,500]
[null,null,"Obs: considerando rendimento informado na especificação técnica de um dos produtos indicados como referência comercial (Lata de 3,6L rende até 75 m²/demão).",null,null,null,null,null,null,500]
[null,null,null,null,null,"",{"$f":"IF(ISNUMBER(F533),E533*F533,\"\")","v":""},null,null,500]
["SF-00103",{"$f":"INDEX(Orçamentária!A:B,MATCH(Composições!A534,Orçamentária!A:A,0),2)","v":"Pintura tinta látex acrílica standard (tetos)"},null,{"$f":"TRIM(INDEX(Orçamentária!C:C,MATCH(Composições!A534,Orçamentária!A:A,0),1))","v":"m2"},null,"","",null,null,6000]
[null,null,null,null,null,"","",null,null,6000]
[null,null,"Pintor com encargos complementares","h",0.24399999999999999,22.762,5.553928,{"$f":"SUM(G536:G538)","v":13.526166499999999},null,6000]
[null,null,"Servente com Encargos Complementares","h",8.8999999999999996E-2,16.026499999999999,1.4263584999999999,null,null,6000]
[null,null,"Tinta acrilica premium, cor branco fosco","L",0.33,19.835999999999999,6.5458799999999995,null,null,6000]
[null,null,null,null,null,"","",null,null,6000]
["SF-00104",{"$f":"INDEX(Orçamentária!A:B,MATCH(Composições!A540,Orçamentária!A:A,0),2)","v":"Cerâmica para revestimento de superfícies internas ou externas – Linha Administrativa"},null,{"$f":"TRIM(INDEX(Orçamentária!C:C,MATCH(Composições!A540,Orçamentária!A:A,0),1))","v":"m2"},null,"","",null,null,150]
[null,null,null,null,null,"","",null,null,150]
[null,null,"REVESTIMENTO EM CERAMICA ESMALTADA EXTRA, PEI MAIOR OU IGUAL 4, FORMATO MAIOR A 2025 CM2","m2",1.08,34.988499999999995,37.787579999999998,{"$f":"SUM(G542:G546)","v":63.039529999999999},null,150]
[null,null,"Argamassa colante AC II","kg",6.14,0.76,4.6663999999999994,null,null,150]
[null,null,"Rejunte cimenticio, qualquer cor","kg",0.22,2.3939999999999997,0.52667999999999993,null,null,150]
[null,null,"Azulejista ou ladrilhista com encargos complementares","h",0.66,21.650499999999997,14.28933,null,null,150]
[null,null,"Servente com Encargos Complementares","h",0.36,16.026499999999999,5.7695399999999992,null,null,150]
[null,null,null,null,null,"","",null,null,150]
["SF-00105",{"$f":"INDEX(Orçamentária!A:B,MATCH(Composições!A548,Orçamentária!A:A,0),2)","v":"Contrapiso em argamassa"},null,{"$f":"TRIM(INDEX(Orçamentária!C:C,MATCH(Composições!A548,Orçamentária!A:A,0),1))","v":"m2"},null,"","",null,null,60]
[null,null,null,null,null,"","",null,null,60]
[null,null,"ARGAMASSA TRAÇO 1:4 (EM VOLUME DE CIMENTO E AREIA MÉDIA ÚMIDA) PARA CONTRAPISO, PREPARO MANUAL. AF_08/2019","m3",5.2999999999999999E-2,554.16629209749988,29.370813481167492,{"$f":"SUM(G550:G554)","v":45.251820981167484},null,60]
[null,null,"Pedreiro com Encargos Complementares","h",0.36,21.716999999999999,7.8181199999999995,null,null,60]
[null,null,"Servente com Encargos Complementares","h",0.18,16.026499999999999,2.8847699999999996,null,null,60]
[null,null,"Cimento Portland composto CP II-32","kg",0.5,0.44649999999999995,0.22324999999999998,null,null,60]
[null,null,"Aditivo adesivo liquido para argamassas de revestimentos cimenticios","L",0.435,11.390499999999999,4.9548674999999998,null,null,60]
[null,null,null,null,null,"","",null,null,60]
["SF-00106",{"$f":"INDEX(Orçamentária!A:B,MATCH(Composições!A556,Orçamentária!A:A,0),2)","v":"Contrapiso em argamassa (e=2cm) ou Regularização de contrapiso existente"},null,{"$f":"TRIM(INDEX(Orçamentária!C:C,MATCH(Composições!A556,Orçamentária!A:A,0),1))","v":"m2"},null,"","",null,null,550]
[null,null,null,null,null,"","",null,null,550]
[null,null,"Cimento Portland composto CP II-32","kg",0.5,0.44649999999999995,0.22324999999999998,{"$f":"SUM(G558:G562)","v":30.979045055022489},null,550]
[null,null,"Aditivo adesivo liquido para argamassas de revestimentos cimenticios","L",0.435,11.390499999999999,4.9548674999999998,null,null,550]
[null,null,"ARGAMASSA TRAÇO 1:4 (EM VOLUME DE CIMENTO E AREIA MÉDIA ÚMIDA) PARA CONTRAPISO, PREPARO MANUAL. AF_08/2019","m3",3.1E-2,554.16629209749988,17.179155055022495,null,null,550]
[null,null,"Pedreiro com Encargos Complementares","h",0.28999999999999998,21.716999999999999,6.2979299999999991,null,null,550]
[null,null,"Servente com Encargos Complementares","h",0.14499999999999999,16.026499999999999,2.3238424999999996,null,null,550]
[null,null,null,null,null,"","",null,null,550]
["SF-00107",{"$f":"INDEX(Orçamentária!A:B,MATCH(Composições!A564,Orçamentária!A:A,0),2)","v":"Granito cinza andorinha para piso"},null,{"$f":"TRIM(INDEX(Orçamentária!C:C,MATCH(Composições!A564,Orçamentária!A:A,0),1))","v":"m2"},null,"","",null,null,800]
[null,null,null,null,null,"","",null,null,800]
[null,null,"Argamassa colante tipo AC III","kg",8.6199999999999992,1.254,10.809479999999999,{"$f":"SUM(G566:G570)","v":220.63083899999998},null,800]
[null,null,"Marmorista/graniteiro com encargos complementares","h",1.1879999999999999,18.078500000000002,21.477258000000003,null,null,800]
[null,null,"Servente com Encargos Complementares","h",0.59399999999999997,16.026499999999999,9.519740999999998,null,null,800]
[null,null,"Rejunte cimenticio, qualquer cor","kg",0.14000000000000001,2.3939999999999997,0.33516000000000001,null,null,800]
[null,null,"Granito Cinza Andorinha, com 20 mm de espessura, para piso","m2",1.1599999999999999,153.87,178.48919999999998,null,null,800]
[null,null,null,null,null,"","",null,null,800]
["SF-00108",{"$f":"INDEX(Orçamentária!A:B,MATCH(Composições!A572,Orçamentária!A:A,0),2)","v":"Granito Cinza Andorinha para rodapé"},null,{"$f":"TRIM(INDEX(Orçamentária!C:C,MATCH(Composições!A572,Orçamentária!A:A,0),1))","v":"m2"},null,"","",null,null,200]
[null,null,null,null,null,"","",null,null,200]
[null,null,"Granito Cinza Andorinha, com 20 mm de espessura e 70 mm de altura, para rodapé","m",{"$f":"ROUND(1.04/0.07,4)","v":14.857100000000001},34.5,512.56995000000006,{"$f":"SUM(G574:G578)","v":604.33917100000008},null,200]
[null,null,"Argamassa colante tipo AC III","kg",{"$f":"ROUND(0.8614/0.1,4)","v":8.6140000000000008},1.254,10.801956000000001,null,null,200]
[null,null,"Marmorista/graniteiro com encargos complementares","h",{"$f":"0.299/0.1","v":2.9899999999999998},18.078500000000002,54.054715000000002,null,null,200]
[null,null,"Servente com Encargos Complementares","h",{"$f":"0.15/0.1","v":1.4999999999999998},16.026499999999999,24.039749999999994,null,null,200]
[null,null,"Rejunte cimenticio, qualquer cor","kg",{"$f":"0.12/0.1","v":1.2},2.3939999999999997,2.8727999999999994,null,null,200]
[null,null,null,null,null,"","",null,null,200]
[null,null,"Obs: na pesquisa de preços do insumo, considerou-se 1 m de polimento a cada metro de rodapé.",null,null,"","",null,null,200]
[null,null,null,null,null,"","",null,null,200]
["SF-00109",{"$f":"INDEX(Orçamentária!A:B,MATCH(Composições!A582,Orçamentária!A:A,0),2)","v":"Granito Cinza Andorinha para soleira e peitoril"},null,{"$f":"TRIM(INDEX(Orçamentária!C:C,MATCH(Composições!A582,Orçamentária!A:A,0),1))","v":"m2"},null,"","",null,null,20]
[null,null,null,null,null,"","",null,null,20]
[null,null,"Granito Cinza Andorinha, com 20 mm de espessura e 150 mm de altura, para soleira e peitoril","m",{"$f":"ROUND(1/0.15,4)","v":6.6666999999999996},45.28,301.86817600000001,{"$f":"SUM(G584:G587)","v":407.74767195000004},null,20]
[null,null,"Argamassa colante tipo AC III","kg",{"$f":"1.29/0.15","v":8.6000000000000014},1.254,10.784400000000002,null,null,20]
[null,null,"Marmorista/graniteiro com encargos complementares","h",{"$f":"ROUND(0.547/0.15,4)","v":3.6467000000000001},18.078500000000002,65.926865950000007,null,null,20]
[null,null,"Servente com Encargos Complementares","h",{"$f":"ROUND(0.273/0.15,4)","v":1.82},16.026499999999999,29.168229999999998,null,null,20]
[null,null,null,null,null,"","",null,null,20]
[null,null,"Obs: na pesquisa de preços do insumo, considerou-se 1 m de polimento a cada metro de soleira.",null,null,"","",null,null,20]
[null,null,null,null,null,"","",null,null,20]
["SF-00110",{"$f":"INDEX(Orçamentária!A:B,MATCH(Composições!A591,Orçamentária!A:A,0),2)","v":"Granito Preto São Gabriel para piso"},null,{"$f":"TRIM(INDEX(Orçamentária!C:C,MATCH(Composições!A591,Orçamentária!A:A,0),1))","v":"m2"},null,"","",null,null,30]
[null,null,null,null,null,"","",null,null,30]
[null,null,"Argamassa colante tipo AC III","kg",8.6199999999999992,1.254,10.809479999999999,{"$f":"SUM(G593:G597)","v":299.696439},null,30]
[null,null,"Marmorista/graniteiro com encargos complementares","h",1.1879999999999999,18.078500000000002,21.477258000000003,null,null,30]
[null,null,"Servente com Encargos Complementares","h",0.59399999999999997,16.026499999999999,9.519740999999998,null,null,30]
[null,null,"Rejunte cimenticio, qualquer cor","kg",0.14000000000000001,2.3939999999999997,0.33516000000000001,null,null,30]
[null,null,"Granito Preto São Gabriel, com 20 mm de espessura, para piso","m2",1.1599999999999999,222.03,{"$f":"IF(ISNUMBER(F597),E597*F597,\"\")","v":257.5548},null,null,30]
[null,null,null,null,null,"","",null,null,30]
["SF-00111",{"$f":"INDEX(Orçamentária!A:B,MATCH(Composições!A599,Orçamentária!A:A,0),2)","v":"Granito Preto São Gabriel para rodapé"},null,{"$f":"TRIM(INDEX(Orçamentária!C:C,MATCH(Composições!A599,Orçamentária!A:A,0),1))","v":"m2"},null,"","",null,null,3]
[null,null,null,null,null,"","",null,null,3]
[null,null,"Granito Preto São Gabriel, com 20 mm de espessura e 70 mm de altura, para rodapé","m",{"$f":"ROUND(1.04/0.07,2)","v":14.86},38.75,575.82499999999993,{"$f":"SUM(G601:G605)","v":667.59422099999995},null,3]
[null,null,"Argamassa colante tipo AC III","kg",{"$f":"ROUND(0.8614/0.1,4)","v":8.6140000000000008},1.254,10.801956000000001,null,null,3]
[null,null,"Marmorista/graniteiro com encargos complementares","h",{"$f":"0.299/0.1","v":2.9899999999999998},18.078500000000002,54.054715000000002,null,null,3]
[null,null,"Servente com Encargos Complementares","h",{"$f":"0.15/0.1","v":1.4999999999999998},16.026499999999999,24.039749999999994,null,null,3]
[null,null,"Rejunte cimenticio, qualquer cor","kg",{"$f":"0.12/0.1","v":1.2},2.3939999999999997,2.8727999999999994,null,null,3]
[null,null,null,null,null,"","",null,null,3]
[null,null,"Obs: na pesquisa de preços do insumo, considerou-se 1 m de polimento a cada metro de rodapé.",null,null,"","",null,null,3]
[null,null,null,null,null,"","",null,null,3]
["SF-00112",{"$f":"INDEX(Orçamentária!A:B,MATCH(Composições!A609,Orçamentária!A:A,0),2)","v":"Granito Preto São Gabriel para soleira e peitoril"},null,{"$f":"TRIM(INDEX(Orçamentária!C:C,MATCH(Composições!A609,Orçamentária!A:A,0),1))","v":"m2"},null,"","",null,null,2]
[null,null,null,null,null,"","",null,null,2]
[null,null,"Granito Preto São Gabriel, com 20 mm de espessura e 150 mm de altura, para soleira e peitoril","m",{"$f":"ROUND(1/0.15,4)","v":6.6666999999999996},54,360.0018,{"$f":"SUM(G611:G614)","v":465.88129594999998},null,2]
[null,null,"Argamassa colante tipo AC III","kg",{"$f":"ROUND(1.29/0.15,4)","v":8.6},1.254,10.7844,null,null,2]
[null,null,"Marmorista/graniteiro com encargos complementares","h",{"$f":"ROUND(0.547/0.15,4)","v":3.6467000000000001},18.078500000000002,65.926865950000007,null,null,2]
[null,null,"Servente com Encargos Complementares","h",{"$f":"ROUND(0.273/0.15,4)","v":1.82},16.026499999999999,29.168229999999998,null,null,2]
[null,null,null,null,null,"","",null,null,2]
[null,null,"Obs: na pesquisa de preços do insumo, considerou-se 1 m de polimento a cada metro de soleira.",null,null,"","",null,null,2]
[null,null,null,null,null,"","",null,null,2]
["SF-00113",{"$f":"INDEX(Orçamentária!A:B,MATCH(Composições!A618,Orçamentária!A:A,0),2)","v":"Instalação de rodapé de madeira reaproveitado"},null,{"$f":"TRIM(INDEX(Orçamentária!C:C,MATCH(Composições!A618,Orçamentária!A:A,0),1))","v":"m"},null,"","",null,null,70]
[null,null,null,null,null,"","",null,null,70]
[null,null,"COLA BRANCA BASE PVA","L",4.0300000000000002E-2,16.34,0.65850200000000003,{"$f":"SUM(G620:G622)","v":12.253292850000001},null,70]
[null,null,"SERVENTE COM ENCARGOS COMPLEMENTARES","H",0.15140000000000001,16.026499999999999,2.4264120999999998,null,null,70]
[null,null,"TAQUEADOR OU TAQUEIRO COM ENCARGOS COMPLEMENTARES","H",0.36349999999999999,25.2225,9.1683787500000005,null,null,70]
[null,null,null,null,null,"","",null,null,70]
["SF-00114",{"$f":"INDEX(Orçamentária!A:B,MATCH(Composições!A624,Orçamentária!A:A,0),2)","v":"Mármore Bege Bahia para piso e parede"},null,{"$f":"TRIM(INDEX(Orçamentária!C:C,MATCH(Composições!A624,Orçamentária!A:A,0),1))","v":"m2"},null,"","",null,null,10]
[null,null,null,null,null,"","",null,null,10]
[null,null,"Argamassa colante tipo AC III","kg",8.6199999999999992,1.254,10.809479999999999,{"$f":"SUM(G626:G630)","v":276.90243899999996},null,10]
[null,null,"Marmorista/graniteiro com encargos complementares","h",1.1879999999999999,18.078500000000002,21.477258000000003,null,null,10]
[null,null,"Servente com Encargos Complementares","h",0.59399999999999997,16.026499999999999,9.519740999999998,null,null,10]
[null,null,"Rejunte cimenticio, qualquer cor","kg",0.14000000000000001,2.3939999999999997,0.33516000000000001,null,null,10]
[null,null,"Mármore Bege Bahia, com 20 mm de espessura, para piso e parede","m2",1.1599999999999999,202.38,234.76079999999999,null,null,10]
[null,null,null,null,null,"","",null,null,10]
["SF-00115",{"$f":"INDEX(Orçamentária!A:B,MATCH(Composições!A632,Orçamentária!A:A,0),2)","v":"Mármore Branco Especial para piso e parede"},null,{"$f":"TRIM(INDEX(Orçamentária!C:C,MATCH(Composições!A632,Orçamentária!A:A,0),1))","v":"m2"},null,"","",null,null,40]
[null,null,null,null,null,"","",null,null,40]
[null,null,"Argamassa colante tipo AC III","kg",8.6199999999999992,1.254,10.809479999999999,{"$f":"SUM(G634:G638)","v":378.54163899999998},null,40]
[null,null,"Marmorista/graniteiro com encargos complementares","h",1.1879999999999999,18.078500000000002,21.477258000000003,null,null,40]
[null,null,"Servente com Encargos Complementares","h",0.59399999999999997,16.026499999999999,9.519740999999998,null,null,40]
[null,null,"Rejunte cimenticio, qualquer cor","kg",0.14000000000000001,2.3939999999999997,0.33516000000000001,null,null,40]
[null,null,"Mármore Branco Especial, com 20 mm de espessura, para piso e parede","m2",1.1599999999999999,290,336.4,null,null,40]
[null,null,null,null,null,"","",null,null,40]
["SF-00116",{"$f":"INDEX(Orçamentária!A:B,MATCH(Composições!A640,Orçamentária!A:A,0),2)","v":"Rodapé de madeira"},null,{"$f":"TRIM(INDEX(Orçamentária!C:C,MATCH(Composições!A640,Orçamentária!A:A,0),1))","v":"m"},null,"","",null,null,70]
[null,null,null,null,null,"","",null,null,70]
[null,null,"RODAPE DE MADEIRA MACICA CUMARU/IPE CHAMPANHE OU EQUIVALENTE DA REGIAO, *1,5 X 7 CM","M",1.0349999999999999,9.6234999999999999,9.9603224999999984,{"$f":"SUM(G642:G645)","v":22.213615349999998},null,70]
[null,null,"COLA BRANCA BASE PVA","L",4.0300000000000002E-2,16.34,0.65850200000000003,null,null,70]
[null,null,"SERVENTE COM ENCARGOS COMPLEMENTARES","H",0.15140000000000001,16.026499999999999,2.4264120999999998,null,null,70]
[null,null,"TAQUEADOR OU TAQUEIRO COM ENCARGOS COMPLEMENTARES","H",0.36349999999999999,25.2225,9.1683787500000005,null,null,70]
[null,null,null,null,null,"","",null,null,70]
["SF-00117",{"$f":"INDEX(Orçamentária!A:B,MATCH(Composições!A647,Orçamentária!A:A,0),2)","v":"Acabamento abaulado em placas de granito ou mármore reaproveitadas"},null,{"$f":"TRIM(INDEX(Orçamentária!C:C,MATCH(Composições!A647,Orçamentária!A:A,0),1))","v":"m"},null,"","",null,null,20]
[null,null,null,null,null,"","",null,null,20]
[null,null,"Marmorista/graniteiro com encargos complementares","h",2,18.078500000000002,36.157000000000004,{"$f":"SUM(G649:G649)","v":36.157000000000004},null,20]
[null,null,null,null,null,"","",null,null,20]
["SF-00118",{"$f":"INDEX(Orçamentária!A:B,MATCH(Composições!A651,Orçamentária!A:A,0),2)","v":"Acabamento em meia esquadria em placas de granito ou mármore reaproveitadas"},null,{"$f":"TRIM(INDEX(Orçamentária!C:C,MATCH(Composições!A651,Orçamentária!A:A,0),1))","v":"m"},null,"","",null,null,20]
[null,null,null,null,null,"","",null,null,20]
[null,null,"Marmorista/graniteiro com encargos complementares","h",1.75,18.078500000000002,31.637375000000002,{"$f":"SUM(G653:G653)","v":31.637375000000002},null,20]
[null,null,null,null,null,"","",null,null,20]
["SF-00119",{"$f":"INDEX(Orçamentária!A:B,MATCH(Composições!A655,Orçamentária!A:A,0),2)","v":"Acabamento reto em placas de granito ou mármore reaproveitadas"},null,{"$f":"TRIM(INDEX(Orçamentária!C:C,MATCH(Composições!A655,Orçamentária!A:A,0),1))","v":"m"},null,"","",null,null,20]
[null,null,null,null,null,"","",null,null,20]
[null,null,"Marmorista/graniteiro com encargos complementares","h",1,18.078500000000002,18.078500000000002,{"$f":"SUM(G657:G657)","v":18.078500000000002},null,20]
[null,null,null,null,null,"","",null,null,20]
["SF-00120",{"$f":"INDEX(Orçamentária!A:B,MATCH(Composições!A659,Orçamentária!A:A,0),2)","v":"Corte de peça de granito ou mármore reaproveitada"},null,{"$f":"TRIM(INDEX(Orçamentária!C:C,MATCH(Composições!A659,Orçamentária!A:A,0),1))","v":"m"},null,"","",null,null,20]
[null,null,null,null,null,"","",null,null,20]
[null,null,"Marmorista/graniteiro com encargos complementares","h",1.25,18.078500000000002,{"$f":"IF(ISNUMBER(F661),E661*F661,\"\")","v":22.598125000000003},{"$f":"SUM(G661:G661)","v":22.598125000000003},null,20]
[null,null,null,null,null,"","",null,null,20]
["SF-00121",{"$f":"INDEX(Orçamentária!A:B,MATCH(Composições!A663,Orçamentária!A:A,0),2)","v":"Corte em placas de granito ou mármore reaproveitadas, para instalação de cubas"},null,{"$f":"TRIM(INDEX(Orçamentária!C:C,MATCH(Composições!A663,Orçamentária!A:A,0),1))","v":"un"},null,"","",null,null,20]
[null,null,null,null,null,"","",null,null,20]
[null,null,"ABERTURA PARA ENCAIXE DE CUBA OU LAVATORIO EM BANCADA DE MARMORE/ GRANITO OU OUTRO TIPO DE PEDRA NATURAL","un",1,69.597000000000008,69.597000000000008,{"$f":"SUM(G665:G665)","v":69.597000000000008},null,20]
[null,null,null,null,null,"","",null,null,20]
["SF-00122",{"$f":"INDEX(Orçamentária!A:B,MATCH(Composições!A667,Orçamentária!A:A,0),2)","v":"Furo em placas de granito ou mármore reaproveitadas, para instalação de torneira ou misturador"},null,{"$f":"TRIM(INDEX(Orçamentária!C:C,MATCH(Composições!A667,Orçamentária!A:A,0),1))","v":"un"},null,"","",null,null,20]
[null,null,null,null,null,"","",null,null,20]
[null,null,"FURO PARA TORNEIRA OU OUTROS ACESSORIOS  EM BANCADA DE MARMORE/ GRANITO OU OUTRO TIPO DE PEDRA NATURAL","un",1,10.430999999999999,10.430999999999999,{"$f":"SUM(G669:G669)","v":10.430999999999999},null,20]
[null,null,null,null,null,"","",null,null,20]
["SF-00123",{"$f":"INDEX(Orçamentária!A:B,MATCH(Composições!A671,Orçamentária!A:A,0),2)","v":"Granito Cinza Andorinha 20mm para rodabancada"},null,{"$f":"TRIM(INDEX(Orçamentária!C:C,MATCH(Composições!A671,Orçamentária!A:A,0),1))","v":"m2"},null,"","",null,null,120]
[null,null,null,null,null,"","",null,null,120]
[null,null,"Granito Cinza Andorinha ou equivalente, com 20 mm de espessura e 150 mm de altura, polido, para rodabancada","m",{"$f":"ROUND(1.04/0.15,4)","v":6.9333},45.05,312.34516500000001,{"$f":"SUM(G673:G677)","v":373.52408485000007},null,120]
[null,null,"Argamassa colante tipo AC III","kg",{"$f":"ROUND(0.8614/0.15,4)","v":5.7427000000000001},1.254,7.2013458000000004,null,null,120]
[null,null,"Marmorista/graniteiro com encargos complementares","h",{"$f":"ROUND(0.299/0.15,4)","v":1.9933000000000001},18.078500000000002,36.035874050000004,null,null,120]
[null,null,"Servente com Encargos Complementares","h",{"$f":"0.15/0.15","v":1},16.026499999999999,16.026499999999999,null,null,120]
[null,null,"Rejunte cimenticio, qualquer cor","kg",{"$f":"0.12/0.15","v":0.8},2.3939999999999997,1.9151999999999998,null,null,120]
[null,null,null,null,null,"","",null,null,120]
["SF-00124",{"$f":"INDEX(Orçamentária!A:B,MATCH(Composições!A679,Orçamentária!A:A,0),2)","v":"Granito Cinza Andorinha 20mm para bancadas"},null,{"$f":"TRIM(INDEX(Orçamentária!C:C,MATCH(Composições!A679,Orçamentária!A:A,0),1))","v":"m2"},null,"","",null,null,50]
[null,null,null,null,null,"","",null,null,50]
[null,null,"MASSA PLASTICA PARA MARMORE/GRANITO","KG",{"$f":"ROUND(0.5228/(1.5*0.6),4)","v":0.58089999999999997},25.412499999999998,14.762121249999998,{"$f":"SUM(G681:G687)","v":367.49330239999995},null,50]
[null,null,"BUCHA DE NYLON SEM ABA S10, COM PARAFUSO DE 6,10 X 65 MM EM ACO ZINCADO COM ROSCA SOBERBA, CABECA CHATA E FENDA PHILLIPS","UN",{"$f":"ROUND(6/(1.5*0.6),4)","v":6.6666999999999996},0.874,5.8266957999999995,null,null,50]
[null,null,"Granito Cinza Andorinha, com 20 mm de espessura, polido, para bancadas, com testeira com acabamento em meia esquadria","M2",{"$f":"ROUND(1.005/(1.5*0.6),4)","v":1.1167},242.7,271.02308999999997,null,null,50]
[null,null,"REJUNTE EPOXI, QUALQUER COR","KG",{"$f":"ROUND(0.0211/(1.5*0.6),4)","v":2.3400000000000001E-2},50.511499999999998,1.1819690999999999,null,null,50]
[null,null,"SUPORTE MAO-FRANCESA EM ACO, ABAS IGUAIS 40 CM, CAPACIDADE MINIMA 70 KG, BRANCO","UN",{"$f":"ROUND(2/(1.5*0.6),4)","v":2.2222},12.226499999999998,27.169728299999996,null,null,50]
[null,null,"MARMORISTA/GRANITEIRO COM ENCARGOS COMPLEMENTARES","H",{"$f":"ROUND(1.4944/(1.5*0.6),4)","v":1.6604000000000001},18.078500000000002,30.017541400000006,null,null,50]
[null,null,"SERVENTE COM ENCARGOS COMPLEMENTARES","H",{"$f":"ROUND(0.9834/(1.5*0.6),4)","v":1.0927},16.026499999999999,17.51215655,null,null,50]
[null,null,null,null,null,"","",null,null,50]
["SF-00125",{"$f":"INDEX(Orçamentária!A:B,MATCH(Composições!A689,Orçamentária!A:A,0),2)","v":"Granito Cinza Andorinha 20mm para divisória"},null,{"$f":"TRIM(INDEX(Orçamentária!C:C,MATCH(Composições!A689,Orçamentária!A:A,0),1))","v":"m2"},null,"","",null,null,100]
[null,null,null,null,null,"","",null,null,100]
[null,null,"Cimento branco","kg",0.7,2.6599999999999997,1.8619999999999997,{"$f":"SUM(G691:G695)","v":367.55293051684077},null,100]
[null,null,"Granito Cinza Andorinha ou equivalente, com 20 mm de espessura, polido em todas as faces aparentes, para divisórias","m2",1,240.55,240.55,null,null,100]
[null,null,"Marmorista/graniteiro com encargos complementares","h",4.8,18.078500000000002,86.776800000000009,null,null,100]
[null,null,"Servente com Encargos Complementares","h",2.2999999999999998,16.026499999999999,36.860949999999995,null,null,100]
[null,null,"ARGAMASSA TRAÇO 1:4 (EM VOLUME DE CIMENTO E AREIA MÉDIA ÚMIDA), PREPARO MANUAL. AF_08/2019","m3",3.3E-3,455.50924752750001,1.5031805168407499,null,null,100]
[null,null,null,null,null,"","",null,null,100]
["SF-00126",{"$f":"INDEX(Orçamentária!A:B,MATCH(Composições!A697,Orçamentária!A:A,0),2)","v":"Granito Preto São Gabriel 20mm para rodabancada"},null,{"$f":"TRIM(INDEX(Orçamentária!C:C,MATCH(Composições!A697,Orçamentária!A:A,0),1))","v":"m2"},null,"","",null,null,30]
[null,null,null,null,null,"","",null,null,30]
[null,null,"Granito Preto São Gabriel ou equivalente, com 20 mm de espessura e 150 mm de altura, polido, para rodabancada","m",{"$f":"ROUND(1.04/0.15,4)","v":6.9333},53,367.4649,{"$f":"SUM(G699:G703)","v":428.64381985000006},null,30]
[null,null,"Argamassa colante tipo AC III","kg",{"$f":"ROUND(0.8614/0.15,4)","v":5.7427000000000001},1.254,7.2013458000000004,null,null,30]
[null,null,"Marmorista/graniteiro com encargos complementares","h",{"$f":"ROUND(0.299/0.15,4)","v":1.9933000000000001},18.078500000000002,36.035874050000004,null,null,30]
[null,null,"Servente com Encargos Complementares","h",{"$f":"0.15/0.15","v":1},16.026499999999999,16.026499999999999,null,null,30]
[null,null,"Rejunte cimenticio, qualquer cor","kg",{"$f":"0.12/0.15","v":0.8},2.3939999999999997,1.9151999999999998,null,null,30]
[null,null,null,null,null,"","",null,null,30]
["SF-00127",{"$f":"INDEX(Orçamentária!A:B,MATCH(Composições!A705,Orçamentária!A:A,0),2)","v":"Granito Preto São Gabriel 20mm para bancadas"},null,{"$f":"TRIM(INDEX(Orçamentária!C:C,MATCH(Composições!A705,Orçamentária!A:A,0),1))","v":"m2"},null,"","",null,null,8]
[null,null,null,null,null,"","",null,null,8]
[null,null,"MASSA PLASTICA PARA MARMORE/GRANITO","KG",{"$f":"ROUND(0.5228/(1.5*0.6),4)","v":0.58089999999999997},25.412499999999998,14.762121249999998,{"$f":"SUM(G707:G713)","v":464.18835540000003},null,8]
[null,null,"BUCHA DE NYLON SEM ABA S10, COM PARAFUSO DE 6,10 X 65 MM EM ACO ZINCADO COM ROSCA SOBERBA, CABECA CHATA E FENDA PHILLIPS","UN",{"$f":"ROUND(6/(1.5*0.6),4)","v":6.6666999999999996},0.874,5.8266957999999995,null,null,8]
[null,null,"Granito Preto São Gabriel ou equivalente, com 20 mm de espessura, polido, com testeira para acabamento em meia esquadria, para bancadas","M2",{"$f":"ROUND(1.005/(1.5*0.6),4)","v":1.1167},329.29,367.71814300000005,null,null,8]
[null,null,"REJUNTE EPOXI, QUALQUER COR","KG",{"$f":"ROUND(0.0211/(1.5*0.6),4)","v":2.3400000000000001E-2},50.511499999999998,1.1819690999999999,null,null,8]
[null,null,"SUPORTE MAO-FRANCESA EM ACO, ABAS IGUAIS 40 CM, CAPACIDADE MINIMA 70 KG, BRANCO","UN",{"$f":"ROUND(2/(1.5*0.6),4)","v":2.2222},12.226499999999998,27.169728299999996,null,null,8]
[null,null,"MARMORISTA/GRANITEIRO COM ENCARGOS COMPLEMENTARES","H",{"$f":"ROUND(1.4944/(1.5*0.6),4)","v":1.6604000000000001},18.078500000000002,30.017541400000006,null,null,8]
[null,null,"SERVENTE COM ENCARGOS COMPLEMENTARES","H",{"$f":"ROUND(0.9834/(1.5*0.6),4)","v":1.0927},16.026499999999999,17.51215655,null,null,8]
[null,null,null,null,null,"","",null,null,8]
["SF-00128",{"$f":"INDEX(Orçamentária!A:B,MATCH(Composições!A715,Orçamentária!A:A,0),2)","v":"Instalação de bancada de granito ou mármore reaproveitada"},null,{"$f":"TRIM(INDEX(Orçamentária!C:C,MATCH(Composições!A715,Orçamentária!A:A,0),1))","v":"m2"},null,"","",null,null,30]
[null,null,null,null,null,"","",null,null,30]
[null,null,"MASSA PLASTICA PARA MARMORE/GRANITO","KG",{"$f":"ROUND(0.5228/(1.5*0.6),4)","v":0.58089999999999997},25.412499999999998,14.762121249999998,{"$f":"SUM(G717:G722)","v":96.470212399999994},null,30]
[null,null,"BUCHA DE NYLON SEM ABA S10, COM PARAFUSO DE 6,10 X 65 MM EM ACO ZINCADO COM ROSCA SOBERBA, CABECA CHATA E FENDA PHILLIPS","UN",{"$f":"ROUND(6/(1.5*0.6),4)","v":6.6666999999999996},0.874,5.8266957999999995,null,null,30]
[null,null,"REJUNTE EPOXI, QUALQUER COR","KG",{"$f":"ROUND(0.0211/(1.5*0.6),4)","v":2.3400000000000001E-2},50.511499999999998,1.1819690999999999,null,null,30]
[null,null,"SUPORTE MAO-FRANCESA EM ACO, ABAS IGUAIS 40 CM, CAPACIDADE MINIMA 70 KG, BRANCO","UN",{"$f":"ROUND(2/(1.5*0.6),4)","v":2.2222},12.226499999999998,27.169728299999996,null,null,30]
[null,null,"MARMORISTA/GRANITEIRO COM ENCARGOS COMPLEMENTARES","H",{"$f":"ROUND(1.4944/(1.5*0.6),4)","v":1.6604000000000001},18.078500000000002,30.017541400000006,null,null,30]
[null,null,"SERVENTE COM ENCARGOS COMPLEMENTARES","H",{"$f":"ROUND(0.9834/(1.5*0.6),4)","v":1.0927},16.026499999999999,17.51215655,null,null,30]
[null,null,null,null,null,"","",null,null,30]
["SF-00129",{"$f":"INDEX(Orçamentária!A:B,MATCH(Composições!A724,Orçamentária!A:A,0),2)","v":"Instalação de rodapé reaproveitado, de mármore ou granito"},null,{"$f":"TRIM(INDEX(Orçamentária!C:C,MATCH(Composições!A724,Orçamentária!A:A,0),1))","v":"m2"},null,"","",null,null,20]
[null,null,null,null,null,"",{"$f":"IF(ISNUMBER(F725),E725*F725,\"\")","v":""},null,null,20]
[null,null,"Argamassa colante tipo AC III","kg",{"$f":"0.8614","v":0.86140000000000005},1.254,1.0801956000000001,{"$f":"SUM(G726:G729)","v":9.1769220999999987},null,20]
[null,null,"Marmorista/graniteiro com encargos complementares","h",{"$f":"0.299","v":0.29899999999999999},18.078500000000002,5.4054715,null,null,20]
[null,null,"Servente com Encargos Complementares","h",{"$f":"0.15","v":0.15},16.026499999999999,2.4039749999999995,null,null,20]
[null,null,"Rejunte cimenticio, qualquer cor","kg",{"$f":"0.12","v":0.12},2.3939999999999997,0.28727999999999992,null,null,20]
[null,null,null,null,null,"","",null,null,20]
["SF-00130",{"$f":"INDEX(Orçamentária!A:B,MATCH(Composições!A731,Orçamentária!A:A,0),2)","v":"Instalação de soleira ou peitoril, de mármore ou granito, reaproveitados"},null,{"$f":"TRIM(INDEX(Orçamentária!C:C,MATCH(Composições!A731,Orçamentária!A:A,0),1))","v":"m2"},null,"","",null,null,10]
[null,null,null,null,null,"","",null,null,10]
[null,null,"Marmorista/graniteiro com encargos complementares","h",1.1879999999999999,18.078500000000002,21.477258000000003,{"$f":"SUM(G733:G735)","v":41.806479000000003},null,10]
[null,null,"Servente com Encargos Complementares","h",0.59399999999999997,16.026499999999999,9.519740999999998,null,null,10]
[null,null,"Argamassa colante tipo AC III","kg",8.6199999999999992,1.254,10.809479999999999,null,null,10]
[null,null,null,null,null,"","",null,null,10]
["SF-00131",{"$f":"INDEX(Orçamentária!A:B,MATCH(Composições!A737,Orçamentária!A:A,0),2)","v":"Mármore Branco Especial 20mm para rodabancada"},null,{"$f":"TRIM(INDEX(Orçamentária!C:C,MATCH(Composições!A737,Orçamentária!A:A,0),1))","v":"m2"},null,"","",null,null,1]
[null,null,null,null,null,"","",null,null,1]
[null,null,"Mármore Branco Especial, com 20 mm de espessura e 150 mm de altura, polido, para rodabancada","m",{"$f":"ROUND(1.04/0.15,4)","v":6.9333},57.07,395.68343099999998,{"$f":"SUM(G739:G743)","v":437.82506999999998},null,1]
[null,null,"Argamassa colante tipo AC III","kg",8.6199999999999992,1.254,10.809479999999999,null,null,1]
[null,null,"Marmorista/graniteiro com encargos complementares","h",1.1879999999999999,18.078500000000002,21.477258000000003,null,null,1]
[null,null,"Servente com Encargos Complementares","h",0.59399999999999997,16.026499999999999,9.519740999999998,null,null,1]
[null,null,"Rejunte cimenticio, qualquer cor","kg",0.14000000000000001,2.3939999999999997,0.33516000000000001,null,null,1]
[null,null,null,null,null,"","",null,null,1]
["SF-00138",{"$f":"INDEX(Orçamentária!A:B,MATCH(Composições!A745,Orçamentária!A:A,0),2)","v":"Instalação de divisória e porta de divisória com dobradiça reaproveitadas"},null,{"$f":"TRIM(INDEX(Orçamentária!C:C,MATCH(Composições!A745,Orçamentária!A:A,0),1))","v":"m2"},null,"","",null,null,700]
[null,null,null,null,null,"","",null,null,700]
[null,null,"Instalação de divisórias # 35 mm estruturadas em perfis de alumínio, mão de obra para execução","m2",1,13.9175,13.9175,{"$f":"SUM(G747:G747)","v":13.9175},null,700]
[null,null,null,null,null,"","",null,null,700]
["SF-00139",{"$f":"INDEX(Orçamentária!A:B,MATCH(Composições!A749,Orçamentária!A:A,0),2)","v":"Alçapão em forro de gesso acartonado"},null,{"$f":"TRIM(INDEX(Orçamentária!C:C,MATCH(Composições!A749,Orçamentária!A:A,0),1))","v":"m2"},null,"","",null,null,100]
[null,null,null,null,null,"","",null,null,100]
[null,null,"Perfil tipo cantoneira em L, em aco galvanizado, branco, para forro removivel, *23* x 3000 mm (L x C)","m",{"$f":"2*(1.5+0.67)","v":4.34},2.5840000000000001,11.214560000000001,{"$f":"SUM(G751:G754)","v":106.11355999999999},null,100]
[null,null,"Placa de PVC com espessura mínima de 5 mm na cor branca","m2",{"$f":"0.36/0.6/0.6","v":1},57.26,57.26,null,null,100]
[null,null,"Gesseiro com encargos complementares","h",1,21.612500000000001,21.612500000000001,null,null,100]
[null,null,"Servente com Encargos Complementares","h",1,16.026499999999999,16.026499999999999,null,null,100]
[null,null,null,null,null,"","",null,null,100]
["SF-00140",{"$f":"INDEX(Orçamentária!A:B,MATCH(Composições!A756,Orçamentária!A:A,0),2)","v":"Forro de PVC em réguas de 100 x 6000mm"},null,{"$f":"TRIM(INDEX(Orçamentária!C:C,MATCH(Composições!A756,Orçamentária!A:A,0),1))","v":"m2"},null,"","",null,null,50]
[null,null,null,null,null,"","",null,null,50]
[null,null,"ARAME GALVANIZADO 6 BWG, D = 5,16 MM (0,157 KG/M), OU 8 BWG, D = 4,19 MM (0,101 KG/M), OU 10 BWG, D = 3,40 MM (0,0713 KG/M)","kg",4.2599999999999999E-2,15.427999999999997,0.65723279999999984,{"$f":"SUM(G758:G765)","v":40.336178249999996},null,50]
[null,null,"Forro de PVC, frisado, branco, regua de 10 cm, espessura de 8 mm a 10 mm e comprimento 6 m (sem colocacao)","m2",1.0955999999999999,14.725,16.132709999999999,null,null,50]
[null,null,"Perfil canaleta, formato C, em aco zincado, para estrutura forro drywall, E = 0,5 mm, *46 x 18* (L x H), comprimento 3 m","m",3.8498999999999999,3.0779999999999998,11.849992199999999,null,null,50]
[null,null,"Pendural ou presilha reguladora, em aco galvanizado, com corpo, mola e rebite, para perfil tipo canaleta de estrutura em forros drywall","un",1.3265,1.159,1.5374135,null,null,50]
[null,null,"Parafuso dry wall, em aco zincado, cabeca lentilha e ponta broca (LB), largura 4,2 mm, comprimento 13 mm","un",2.1911999999999998,0.18049999999999999,0.39551159999999996,null,null,50]
[null,null,"PARAFUSO ZINCADO, AUTOBROCANTE, FLANGEADO, 4,2 MM X 19 MM","cento",1.32E-2,20.985499999999998,0.27700859999999999,null,null,50]
[null,null,"PARAFUSO, AUTO ATARRACHANTE, CABECA CHATA, FENDA SIMPLES, 1/4\u0094 (6,35 MM) X 25 MM","cento",3.3300000000000003E-2,35.976499999999994,1.1980174499999998,null,null,50]
[null,null,"Montador de estrutura metálica com encargos complementares","h",0.49940000000000001,16.596499999999999,8.2882920999999996,null,null,50]
[null,null,null,null,null,"","",null,null,50]
["SF-00141",{"$f":"INDEX(Orçamentária!A:B,MATCH(Composições!A767,Orçamentária!A:A,0),2)","v":"Forro de PVC em réguas de 100 x 6000mm, sem estrutura"},null,{"$f":"TRIM(INDEX(Orçamentária!C:C,MATCH(Composições!A767,Orçamentária!A:A,0),1))","v":"m2"},null,"","",null,null,100]
[null,null,null,null,null,"","",null,null,100]
[null,null,"Forro de PVC, frisado, branco, regua de 10 cm, espessura de 8 mm a 10 mm e comprimento 6 m (sem colocacao)","m2",1.0955999999999999,14.725,16.132709999999999,{"$f":"SUM(G769:G771)","v":19.0143773},null,100]
[null,null,"Parafuso dry wall, em aco zincado, cabeca lentilha e ponta broca (LB), largura 4,2 mm, comprimento 13 mm","un",2.1911999999999998,0.18049999999999999,0.39551159999999996,null,null,100]
[null,null,"Montador de estrutura metálica com encargos complementares","h",{"$f":"ROUND(0.4994*0.3,4)","v":0.14979999999999999},16.596499999999999,2.4861556999999999,null,null,100]
[null,null,null,null,null,"","",null,null,100]
["SF-00142",{"$f":"INDEX(Orçamentária!A:B,MATCH(Composições!A773,Orçamentária!A:A,0),2)","v":"Forro de PVC modular em placas"},null,{"$f":"TRIM(INDEX(Orçamentária!C:C,MATCH(Composições!A773,Orçamentária!A:A,0),1))","v":"m2"},null,"","",null,null,20]
[null,null,null,null,null,"","",null,null,20]
[null,null,"ARAME GALVANIZADO 6 BWG, D = 5,16 MM (0,157 KG/M), OU 8 BWG, D = 4,19 MM (0,101 KG/M), OU 10 BWG, D = 3,40 MM (0,0713 KG/M)","kg",4.2599999999999999E-2,15.427999999999997,0.65723279999999984,{"$f":"SUM(G775:G782)","v":63.15204825},null,20]
[null,null,"Forro de PVC modular em placas de 625 mm x 1250 mm","m2",1.0955999999999999,35.549999999999997,38.948579999999993,null,null,20]
[null,null,"Perfil canaleta, formato C, em aco zincado, para estrutura forro drywall, E = 0,5 mm, *46 x 18* (L x H), comprimento 3 m","m",3.8498999999999999,3.0779999999999998,11.849992199999999,null,null,20]
[null,null,"Pendural ou presilha reguladora, em aco galvanizado, com corpo, mola e rebite, para perfil tipo canaleta de estrutura em forros drywall","un",1.3265,1.159,1.5374135,null,null,20]
[null,null,"Parafuso dry wall, em aco zincado, cabeca lentilha e ponta broca (LB), largura 4,2 mm, comprimento 13 mm","un",2.1911999999999998,0.18049999999999999,0.39551159999999996,null,null,20]
[null,null,"PARAFUSO ZINCADO, AUTOBROCANTE, FLANGEADO, 4,2 MM X 19 MM","cento",1.32E-2,20.985499999999998,0.27700859999999999,null,null,20]
[null,null,"PARAFUSO, AUTO ATARRACHANTE, CABECA CHATA, FENDA SIMPLES, 1/4\u0094 (6,35 MM) X 25 MM","cento",3.3300000000000003E-2,35.976499999999994,1.1980174499999998,null,null,20]
[null,null,"Montador de estrutura metálica com encargos complementares","h",0.49940000000000001,16.596499999999999,8.2882920999999996,null,null,20]
[null,null,null,null,null,"","",null,null,20]
["SF-00143",{"$f":"INDEX(Orçamentária!A:B,MATCH(Composições!A784,Orçamentária!A:A,0),2)","v":"Forro em chapas metálicas"},null,{"$f":"TRIM(INDEX(Orçamentária!C:C,MATCH(Composições!A784,Orçamentária!A:A,0),1))","v":"m2"},null,"","",null,null,500]
[null,null,null,null,null,"","",null,null,500]
[null,null,"Ajudante de operação em geral com encargos complementares","h",0.5,17.128499999999999,8.5642499999999995,{"$f":"SUM(G786:G789)","v":115.16249999999999},null,500]
[null,null,"Montador de estrutura metálica com encargos complementares","h",0.5,16.596499999999999,8.2982499999999995,null,null,500]
[null,null,"Forro em chapa galvanizada","m2",1,63.3,63.3,null,null,500]
[null,null,"Pintura eletrostática","m2",1,35,{"$f":"IF(ISNUMBER(F789),E789*F789,\"\")","v":35},null,null,500]
[null,null,null,null,null,"","",null,null,500]
["SF-00144",{"$f":"INDEX(Orçamentária!A:B,MATCH(Composições!A791,Orçamentária!A:A,0),2)","v":"Forro em gesso acartonado monolítico"},null,{"$f":"TRIM(INDEX(Orçamentária!C:C,MATCH(Composições!A791,Orçamentária!A:A,0),1))","v":"m2"},null,"","",null,null,2500]
[null,null,null,null,null,"","",null,null,2500]
[null,null,"ARAME GALVANIZADO 6 BWG, D = 5,16 MM (0,157 KG/M), OU 8 BWG, D = 4,19 MM (0,101 KG/M), OU 10 BWG, D = 3,40 MM (0,0713 KG/M)","kg",4.2599999999999999E-2,15.427999999999997,0.65723279999999984,{"$f":"SUM(G793:G803)","v":55.668897999999992},null,2500]
[null,null,"Chapa de gesso acartonado, Standard (ST), cor branca, E = 12,5 mm, 1200 x 2400 mm (L x C)","m2",1.0966,20.177999999999997,22.127194799999998,null,null,2500]
[null,null,"Perfil canaleta, formato C, em aco zincado, para estrutura forro drywall, E = 0,5 mm, *46 x 18* (L x H), comprimento 3 m","m",3.851,3.0779999999999998,11.853377999999999,null,null,2500]
[null,null,"Pendural ou presilha reguladora, em aco galvanizado, com corpo, mola e rebite, para perfil tipo canaleta de estrutura em forros drywall","un",1.3265,1.159,1.5374135,null,null,2500]
[null,null,"Fita de papel reforcada com lamina de metal para reforco de cantos de chapa de gesso para drywall","m",1.4395,2.9830000000000001,4.2940285000000005,null,null,2500]
[null,null,"Massa de rejunte em po para drywall, a base de gesso, secagem rapida, para tratamento de juntas de chapa de gesso (com adicao de agua)","kg",0.5202,4.0089999999999995,2.0854817999999997,null,null,2500]
[null,null,"Parafuso dry wall, em aco fosfatizado, cabeca trombeta e ponta agulha (TA), comprimento 25 mm","un",7.9740000000000002,7.5999999999999998E-2,0.60602400000000001,null,null,2500]
[null,null,"Parafuso dry wall, em aco zincado, cabeca lentilha e ponta broca (LB), largura 4,2 mm, comprimento 13 mm","un",2.1911999999999998,0.18049999999999999,0.39551159999999996,null,null,2500]
[null,null,"PARAFUSO ZINCADO, AUTOBROCANTE, FLANGEADO, 4,2 MM X 19 MM","cento",1.32E-2,20.985499999999998,0.27700859999999999,null,null,2500]
[null,null,"Montador de estrutura metálica com encargos complementares","h",0.36280000000000001,16.596499999999999,6.0212101999999996,null,null,2500]
[null,null,"Servente com Encargos Complementares","h",0.36280000000000001,16.026499999999999,5.8144141999999999,null,null,2500]
[null,null,null,null,null,"","",null,null,2500]
["SF-00145",{"$f":"INDEX(Orçamentária!A:B,MATCH(Composições!A805,Orçamentária!A:A,0),2)","v":"Forro em gesso acartonado monolítico, sem estrutura"},null,{"$f":"TRIM(INDEX(Orçamentária!C:C,MATCH(Composições!A805,Orçamentária!A:A,0),1))","v":"m2"},null,"","",null,null,2300]
[null,null,null,null,null,"","",null,null,2300]
[null,null,"Chapa de gesso acartonado, Standard (ST), cor branca, E = 12,5 mm, 1200 x 2400 mm (L x C)","m2",1.0966,20.177999999999997,22.127194799999998,{"$f":"SUM(G807:G813)","v":41.343865100000002},null,2300]
[null,null,"Fita de papel reforcada com lamina de metal para reforco de cantos de chapa de gesso para drywall","m",1.4395,2.9830000000000001,4.2940285000000005,null,null,2300]
[null,null,"Massa de rejunte em po para drywall, a base de gesso, secagem rapida, para tratamento de juntas de chapa de gesso (com adicao de agua)","kg",0.5202,4.0089999999999995,2.0854817999999997,null,null,2300]
[null,null,"Parafuso dry wall, em aco fosfatizado, cabeca trombeta e ponta agulha (TA), comprimento 25 mm","un",7.9740000000000002,7.5999999999999998E-2,0.60602400000000001,null,null,2300]
[null,null,"Parafuso dry wall, em aco zincado, cabeca lentilha e ponta broca (LB), largura 4,2 mm, comprimento 13 mm","un",2.1911999999999998,0.18049999999999999,0.39551159999999996,null,null,2300]
[null,null,"Montador de estrutura metálica com encargos complementares","h",0.36280000000000001,16.596499999999999,6.0212101999999996,null,null,2300]
[null,null,"Servente com Encargos Complementares","h",0.36280000000000001,16.026499999999999,5.8144141999999999,null,null,2300]
[null,null,null,null,null,"","",null,null,2300]
["SF-00146",{"$f":"INDEX(Orçamentária!A:B,MATCH(Composições!A815,Orçamentária!A:A,0),2)","v":"Forro mineral modulado"},null,{"$f":"TRIM(INDEX(Orçamentária!C:C,MATCH(Composições!A815,Orçamentária!A:A,0),1))","v":"m2"},null,"","",null,null,300]
[null,null,null,null,null,"","",null,null,300]
[null,null,"FORRO DE FIBRA MINERAL EM PLACAS DE 625 X 625 MM, E = 15 MM, BORDA RETA, COM PINTURA ANTIMOFO, APOIADO EM PERFIL DE ACO GALVANIZADO COM 24 MM DE BASE - INSTALADO","m2",1,89.214499999999987,89.214499999999987,{"$f":"SUM(G817:G817)","v":89.214499999999987},null,300]
[null,null,null,null,null,"","",null,null,300]
["SF-00147",{"$f":"INDEX(Orçamentária!A:B,MATCH(Composições!A819,Orçamentária!A:A,0),2)","v":"Forro mineral modulado, sem estrutura"},null,{"$f":"TRIM(INDEX(Orçamentária!C:C,MATCH(Composições!A819,Orçamentária!A:A,0),1))","v":"m2"},null,"","",null,null,100]
[null,null,null,null,null,"","",null,null,100]
[null,null,"Ajudante especializado com encargos complementares","h",{"$f":"1.2/4","v":0.3},19.066499999999998,5.719949999999999,{"$f":"SUM(G821:G822)","v":25.59395},null,100]
[null,null,"Placa de fibra mineral para forro, de 625 x 625 mm, E = 15 mm, borda reta, com pintura antimofo (nao inclui perfis)","UN",1,19.874000000000002,19.874000000000002,null,null,100]
[null,null,null,null,null,"","",null,null,100]
["SF-00148",{"$f":"INDEX(Orçamentária!A:B,MATCH(Composições!A824,Orçamentária!A:A,0),2)","v":"Instalação de forro de PVC reaproveitado"},null,{"$f":"TRIM(INDEX(Orçamentária!C:C,MATCH(Composições!A824,Orçamentária!A:A,0),1))","v":"m2"},null,"","",null,null,100]
[null,null,null,null,null,"","",null,null,100]
[null,null,"Montador de estrutura metálica com encargos complementares","h",{"$f":"ROUND(0.4994*0.3,4)","v":0.14979999999999999},16.596499999999999,2.4861556999999999,{"$f":"SUM(G826:G826)","v":2.4861556999999999},null,100]
[null,null,null,null,null,"","",null,null,100]
["SF-00149",{"$f":"INDEX(Orçamentária!A:B,MATCH(Composições!A828,Orçamentária!A:A,0),2)","v":"Instalação de forro mineral reaproveitado"},null,{"$f":"TRIM(INDEX(Orçamentária!C:C,MATCH(Composições!A828,Orçamentária!A:A,0),1))","v":"m2"},null,"","",null,null,100]
[null,null,null,null,null,"","",null,null,100]
[null,null,"Ajudante especializado com encargos complementares","h",1.2,19.066499999999998,22.879799999999996,{"$f":"SUM(G830:G831)","v":42.795599999999993},null,100]
[null,null,"Montador de estrutura metálica com encargos complementares","h",1.2,16.596499999999999,19.915799999999997,null,null,100]
[null,null,null,null,null,"","",null,null,100]
["SF-00150",{"$f":"INDEX(Orçamentária!A:B,MATCH(Composições!A833,Orçamentária!A:A,0),2)","v":"Tabica metálica em forro de gesso acartonado"},null,{"$f":"TRIM(INDEX(Orçamentária!C:C,MATCH(Composições!A833,Orçamentária!A:A,0),1))","v":"m"},null,"","",null,null,2500]
[null,null,null,null,null,"","",null,null,2500]
[null,null,"Perfil tabica fechada, lisa, formato Z, em aco galvanizado natural, largura total na horizontal *40* mm, para estrutura forro drywall","m",1.1512,2.9830000000000001,3.4340296000000001,{"$f":"SUM(G835:G838)","v":8.6703212999999995},null,2500]
[null,null,"Parafuso dry wall, em aco zincado, cabeca lentilha e ponta broca (LB), largura 4,2 mm, comprimento 13 mm","un",0.58330000000000004,0.18049999999999999,0.10528565000000001,null,null,2500]
[null,null,"PARAFUSO, AUTO ATARRACHANTE, CABECA CHATA, FENDA SIMPLES, 1/4\u0094 (6,35 MM) X 25 MM","cento",7.4899999999999994E-2,35.976499999999994,2.6946398499999993,null,null,2500]
[null,null,"Montador de estrutura metálica com encargos complementares","h",0.14680000000000001,16.596499999999999,2.4363662000000001,null,null,2500]
[null,null,null,null,null,"","",null,null,2500]
["SF-00151",{"$f":"INDEX(Orçamentária!A:B,MATCH(Composições!A840,Orçamentária!A:A,0),2)","v":"Instalação de revestimento de piso têxtil (carpete) reaproveitado"},null,{"$f":"TRIM(INDEX(Orçamentária!C:C,MATCH(Composições!A840,Orçamentária!A:A,0),1))","v":"m2"},null,"","",null,null,400]
[null,null,null,null,null,"","",null,null,400]
[null,null,"Servente com Encargos Complementares","h",0.1,16.026499999999999,1.6026499999999999,{"$f":"SUM(G842:G844)","v":6.1540999999999997},null,400]
[null,null,"Pedreiro com Encargos Complementares","h",0.1,21.716999999999999,2.1717,null,null,400]
[null,null,"ADESIVO ACRILICO/COLA DE CONTATO","kg",0.1,23.797499999999999,2.37975,null,null,400]
[null,null,null,null,null,"","",null,null,400]
["SF-00152",{"$f":"INDEX(Orçamentária!A:B,MATCH(Composições!A846,Orçamentária!A:A,0),2)","v":"Baguetes metálicos"},null,{"$f":"TRIM(INDEX(Orçamentária!C:C,MATCH(Composições!A846,Orçamentária!A:A,0),1))","v":"m"},null,"","",null,null,0]
[null,null,null,null,null,"","",null,null,0]
[null,null,"Vidraceiro com encargos complementares","h",0.25,20.177999999999997,5.0444999999999993,{"$f":"SUM(G848:G849)","v":8.1209999999999987},null,0]
[null,null,"Baguetes metálicos","m",1.05,2.93,3.0765000000000002,null,null,0]
[null,null,null,null,null,"","",null,null,0]
["SF-00153",{"$f":"INDEX(Orçamentária!A:B,MATCH(Composições!A851,Orçamentária!A:A,0),2)","v":"Cordão de massa de vidraceiro"},null,{"$f":"TRIM(INDEX(Orçamentária!C:C,MATCH(Composições!A851,Orçamentária!A:A,0),1))","v":"m"},null,"","",null,null,0]
[null,null,null,null,null,"","",null,null,0]
[null,null,"Vidraceiro com encargos complementares","h",0.5,20.177999999999997,{"$f":"IF(ISNUMBER(F853),E853*F853,\"\")","v":10.088999999999999},{"$f":"SUM(G853:G855)","v":17.988724999999999},null,0]
[null,null,"Servente com Encargos Complementares","h",{"$f":"E853/2","v":0.25},16.026499999999999,4.0066249999999997,null,null,0]
[null,null,"Massa para vidro","kg",0.6,6.4885000000000002,3.8931,null,null,0]
[null,null,null,null,null,"","",null,null,0]
["SF-00154",{"$f":"INDEX(Orçamentária!A:B,MATCH(Composições!A857,Orçamentária!A:A,0),2)","v":"Espelho cristal, e=5 mm"},null,{"$f":"TRIM(INDEX(Orçamentária!C:C,MATCH(Composições!A857,Orçamentária!A:A,0),1))","v":"m2"},null,"","",null,null,130]
[null,null,null,null,null,"","",null,null,130]
[null,null,"Parafuso frances M16 em aco galvanizado, comprimento = 45 mm, diametro = 16 mm, cabeca abaulada","un",4,3.5054999999999996,14.021999999999998,{"$f":"SUM(G859:G862)","v":430.66159999999991},null,130]
[null,null,"Espelho cristal comum #5mm","m2",1,369.87299999999993,369.87299999999993,null,null,130]
[null,null,"Servente com Encargos Complementares","h",0.4,16.026499999999999,6.4105999999999996,null,null,130]
[null,null,"Vidraceiro com encargos complementares","h",2,20.177999999999997,40.355999999999995,null,null,130]
[null,null,null,null,null,"","",null,null,130]
["SF-00155",{"$f":"INDEX(Orçamentária!A:B,MATCH(Composições!A864,Orçamentária!A:A,0),2)","v":"Instalação de vidro reaproveitado"},null,{"$f":"TRIM(INDEX(Orçamentária!C:C,MATCH(Composições!A864,Orçamentária!A:A,0),1))","v":"m2"},null,"","",null,null,50]
[null,null,null,null,null,"","",null,null,50]
[null,null,"Servente com Encargos Complementares","h",0.45,16.026499999999999,7.2119249999999999,{"$f":"SUM(G866:G868)","v":26.673625000000001},null,50]
[null,null,"Vidraceiro com encargos complementares","h",0.45,20.177999999999997,9.0800999999999998,null,null,50]
[null,null,"Massa para vidro","kg",1.6,6.4885000000000002,10.381600000000001,null,null,50]
[null,null,null,null,null,"","",null,null,50]
["SF-00156",{"$f":"INDEX(Orçamentária!A:B,MATCH(Composições!A870,Orçamentária!A:A,0),2)","v":"Substituição da calafetação com selante"},null,{"$f":"TRIM(INDEX(Orçamentária!C:C,MATCH(Composições!A870,Orçamentária!A:A,0),1))","v":"m"},null,"","",null,null,0]
[null,null,null,null,null,"","",null,null,0]
[null,null,"Vidraceiro com encargos complementares","h",0.5,20.177999999999997,10.088999999999999,{"$f":"SUM(G872:G874)","v":19.472087299999998},null,0]
[null,null,"Servente com Encargos Complementares","h",{"$f":"E872/2","v":0.25},16.026499999999999,4.0066249999999997,null,null,0]
[null,null,"Silicone acetico uso geral incolor 280 g","un",{"$f":"ROUND(1/3,4)","v":0.33329999999999999},16.131,5.3764623,null,null,0]
[null,null,null,null,null,"","",null,null,0]
[null,null,"Obs.: considerando que cada bisnaga rende, no mínimo, 3 m de aplicação.",null,null,"","",null,null,0]
[null,null,null,null,null,"","",null,null,0]
["SF-00157",{"$f":"INDEX(Orçamentária!A:B,MATCH(Composições!A878,Orçamentária!A:A,0),2)","v":"Vidro liso comum transparente 4mm"},null,{"$f":"TRIM(INDEX(Orçamentária!C:C,MATCH(Composições!A878,Orçamentária!A:A,0),1))","v":"m2"},null,"","",null,null,0]
[null,null,null,null,null,"","",null,null,0]
[null,null,"Servente com Encargos Complementares","h",0.45,16.026499999999999,7.2119249999999999,{"$f":"SUM(G880:G883)","v":128.80812499999999},null,0]
[null,null,"Vidraceiro com encargos complementares","h",0.45,20.177999999999997,9.0800999999999998,null,null,0]
[null,null,"Vidro liso incolor 4mm - sem colocacao","m2",1,102.1345,102.1345,null,null,0]
[null,null,"Massa para vidro","kg",1.6,6.4885000000000002,10.381600000000001,null,null,0]
[null,null,null,null,null,"","",null,null,0]
["SF-00158",{"$f":"INDEX(Orçamentária!A:B,MATCH(Composições!A885,Orçamentária!A:A,0),2)","v":"Vidro liso comum transparente 6mm"},null,{"$f":"TRIM(INDEX(Orçamentária!C:C,MATCH(Composições!A885,Orçamentária!A:A,0),1))","v":"m2"},null,"","",null,null,0]
[null,null,null,null,null,"","",null,null,0]
[null,null,"Servente com Encargos Complementares","h",0.2,16.026499999999999,3.2052999999999998,{"$f":"SUM(G887:G890)","v":181.06429999999997},null,0]
[null,null,"Vidraceiro com encargos complementares","h",1,20.177999999999997,20.177999999999997,null,null,0]
[null,null,"VIDRO LISO INCOLOR 6 MM - SEM COLOCACAO","m2",1,144.70399999999998,144.70399999999998,null,null,0]
[null,null,"Massa para vidro","kg",2,6.4885000000000002,12.977,null,null,0]
[null,null,null,null,null,"","",null,null,0]
["SF-00159",{"$f":"INDEX(Orçamentária!A:B,MATCH(Composições!A892,Orçamentária!A:A,0),2)","v":"Instalação de painéis de vidro temperado reaproveitados"},null,{"$f":"TRIM(INDEX(Orçamentária!C:C,MATCH(Composições!A892,Orçamentária!A:A,0),1))","v":"m2"},null,"","",null,null,70]
[null,null,null,null,null,"","",null,null,70]
[null,null,"Vidraceiro com encargos complementares","h",{"$f":"2.2/2","v":1.1000000000000001},20.177999999999997,22.195799999999998,{"$f":"SUM(G894:G895)","v":39.824950000000001},null,70]
[null,null,"Servente com Encargos Complementares","h",{"$f":"2.2/2","v":1.1000000000000001},16.026499999999999,17.629149999999999,null,null,70]
[null,null,null,null,null,"","",null,null,70]
["SF-00160",{"$f":"INDEX(Orçamentária!A:B,MATCH(Composições!A897,Orçamentária!A:A,0),2)","v":"Mola hidráulica de piso"},null,{"$f":"TRIM(INDEX(Orçamentária!C:C,MATCH(Composições!A897,Orçamentária!A:A,0),1))","v":"un"},null,"","",null,null,25]
[null,null,null,null,null,"","",null,null,25]
[null,null,"Vidraceiro com encargos complementares","h",0.75,20.177999999999997,15.133499999999998,{"$f":"SUM(G899:G902)","v":924.21145000000001},null,25]
[null,null,"Servente com Encargos Complementares","h",0.3,16.026499999999999,4.8079499999999991,null,null,25]
[null,null,"Mola Hidráulica de piso universal para portas de batente e portas vai-e-vem em aço inoxidável. Ref.: DORMA, modelo BTS 75V, com eixo intercambiável tipo \"B\"","un",1,764.99,764.99,null,null,25]
[null,null,"Impermeabilizante Dorma SealProtect","un",1,139.28,139.28,null,null,25]
[null,null,null,null,null,"","",null,null,25]
["SF-00161",{"$f":"INDEX(Orçamentária!A:B,MATCH(Composições!A904,Orçamentária!A:A,0),2)","v":"Instalação de persianas reaproveitadas"},null,{"$f":"TRIM(INDEX(Orçamentária!C:C,MATCH(Composições!A904,Orçamentária!A:A,0),1))","v":"m"},null,"","",null,null,800]
[null,null,null,null,null,"","",null,null,800]
[null,null,"Ajudante especializado com encargos complementares","h",{"$f":"ROUND(1/3,4)","v":0.33329999999999999},19.066499999999998,6.3548644499999991,{"$f":"SUM(G906:G906)","v":6.3548644499999991},null,800]
[null,null,null,null,null,"","",null,null,800]
["SF-00166",{"$f":"INDEX(Orçamentária!A:B,MATCH(Composições!A908,Orçamentária!A:A,0),2)","v":"Tubo de ligação para bacia sanitária"},null,{"$f":"TRIM(INDEX(Orçamentária!C:C,MATCH(Composições!A908,Orçamentária!A:A,0),1))","v":"un"},null,"","",null,null,15]
[null,null,null,null,null,"","",null,null,15]
[null,null,"Encanador ou Bombeiro Hidráulico com Encargos Complementares","h",0.2,21.308499999999999,4.2617000000000003,{"$f":"SUM(G910:G912)","v":100.7582},null,15]
[null,null,"Vedacao PVC, 100 mm, para saida vaso sanitario","un",1,1.7765,1.7765,null,null,15]
[null,null,"Tubo de ligação para bacia sanitária em PVC, com acabamento cromado, ajustável ou não. Ref.: DECA 1968C ou equivalente","un",1,94.72,94.72,null,null,15]
[null,null,null,null,null,"","",null,null,15]
["SF-00167",{"$f":"INDEX(Orçamentária!A:B,MATCH(Composições!A914,Orçamentária!A:A,0),2)","v":"Tubo PVC esgoto ou aguas pluviais predial DN 100mm"},null,{"$f":"TRIM(INDEX(Orçamentária!C:C,MATCH(Composições!A914,Orçamentária!A:A,0),1))","v":"m"},null,"","",null,null,215]
[null,null,null,null,null,"","",null,null,215]
[null,null,"Adesivo plastico para PVC, frasco com 850 gr","un",4.2900000000000001E-2,54.235500000000002,2.32670295,{"$f":"SUM(G916:G921)","v":46.044366299999993},null,215]
[null,null,"Tubo PVC, serie R, DN 100 mm, para esgoto ou aguas pluviais predial (NBR 5688)","m",1.04,22.410499999999999,{"$f":"IF(ISNUMBER(F917),E917*F917,\"\")","v":23.306919999999998},null,null,215]
[null,null,"Solucao limpadora para PVC, frasco com 1000 cm3","un",7.0099999999999996E-2,47.100999999999999,3.3017800999999998,null,null,215]
[null,null,"Lixa d'agua em folha, grao 100","un",0.14849999999999999,1.6244999999999998,0.24123824999999996,null,null,215]
[null,null,"Auxiliar de encanador ou bombeiro hidráulico com encargos complementares","h",0.44500000000000001,16.596499999999999,7.3854424999999999,null,null,215]
[null,null,"Encanador ou Bombeiro Hidráulico com Encargos Complementares","h",0.44500000000000001,21.308499999999999,9.4822825000000002,null,null,215]
[null,null,null,null,null,"","",null,null,215]
["SF-00168",{"$f":"INDEX(Orçamentária!A:B,MATCH(Composições!A923,Orçamentária!A:A,0),2)","v":"Tubo PVC esgoto ou aguas pluviais predial DN 40mm"},null,{"$f":"TRIM(INDEX(Orçamentária!C:C,MATCH(Composições!A923,Orçamentária!A:A,0),1))","v":"m"},null,"","",null,null,80]
[null,null,null,null,null,"","",null,null,80]
[null,null,"Tubo PVC, serie R, DN 40 mm, para esgoto ou aguas pluviais predial (NBR 5688)","m",1.04,7.8279999999999994,8.141119999999999,{"$f":"SUM(G925:G928)","v":14.455551499999999},null,80]
[null,null,"Lixa d'agua em folha, grao 100","un",3.6999999999999998E-2,1.6244999999999998,6.0106499999999993E-2,null,null,80]
[null,null,"Auxiliar de encanador ou bombeiro hidráulico com encargos complementares","h",0.16500000000000001,16.596499999999999,2.7384225,null,null,80]
[null,null,"Encanador ou Bombeiro Hidráulico com Encargos Complementares","h",0.16500000000000001,21.308499999999999,3.5159025000000002,null,null,80]
[null,null,null,null,null,"","",null,null,80]
["SF-00169",{"$f":"INDEX(Orçamentária!A:B,MATCH(Composições!A930,Orçamentária!A:A,0),2)","v":"Tubo PVC esgoto ou aguas pluviais predial DN 50mm"},null,{"$f":"TRIM(INDEX(Orçamentária!C:C,MATCH(Composições!A930,Orçamentária!A:A,0),1))","v":"m"},null,"","",null,null,80]
[null,null,null,null,null,"","",null,null,80]
[null,null,"Adesivo plastico para PVC, frasco com 850 gr","un",1.2800000000000001E-2,54.235500000000002,0.69421440000000001,{"$f":"SUM(G932:G937)","v":19.770180199999999},null,80]
[null,null,"Tubo PVC, serie R, DN 50 mm, para esgoto ou aguas pluviais predial (NBR 5688)","m",1.04,9.7564999999999991,10.146759999999999,null,null,80]
[null,null,"Solucao limpadora para PVC, frasco com 1000 cm3","un",1.9300000000000001E-2,47.100999999999999,0.90904930000000006,null,null,80]
[null,null,"Lixa d'agua em folha, grao 100","un",3.6999999999999998E-2,1.6244999999999998,6.0106499999999993E-2,null,null,80]
[null,null,"Auxiliar de encanador ou bombeiro hidráulico com encargos complementares","h",0.21,16.596499999999999,3.4852649999999996,null,null,80]
[null,null,"Encanador ou Bombeiro Hidráulico com Encargos Complementares","h",0.21,21.308499999999999,4.4747849999999998,null,null,80]
[null,null,null,null,null,"","",null,null,80]
["SF-00170",{"$f":"INDEX(Orçamentária!A:B,MATCH(Composições!A939,Orçamentária!A:A,0),2)","v":"Tubo PVC esgoto ou aguas pluviais predial DN 75mm"},null,{"$f":"TRIM(INDEX(Orçamentária!C:C,MATCH(Composições!A939,Orçamentária!A:A,0),1))","v":"m"},null,"","",null,null,100]
[null,null,null,null,null,"","",null,null,100]
[null,null,"Adesivo plastico para PVC, frasco com 850 gr","un",2.93E-2,54.235500000000002,1.5891001499999999,{"$f":"SUM(G941:G946)","v":29.535938900000001},null,100]
[null,null,"Tubo PVC, serie R, DN 75 mm, para esgoto ou aguas pluviais predial (NBR 5688)","m",1.04,12.7965,13.30836,null,null,100]
[null,null,"Solucao limpadora para PVC, frasco com 1000 cm3","un",4.5499999999999999E-2,47.100999999999999,2.1430954999999998,null,null,100]
[null,null,"Lixa d'agua em folha, grao 100","un",0.1085,1.6244999999999998,0.17625824999999998,null,null,100]
[null,null,"Auxiliar de encanador ou bombeiro hidráulico com encargos complementares","h",0.32500000000000001,16.596499999999999,5.3938625,null,null,100]
[null,null,"Encanador ou Bombeiro Hidráulico com Encargos Complementares","h",0.32500000000000001,21.308499999999999,6.9252624999999997,null,null,100]
[null,null,null,null,null,"","",null,null,100]
["SF-00171",{"$f":"INDEX(Orçamentária!A:B,MATCH(Composições!A948,Orçamentária!A:A,0),2)","v":"Tubo PVC soldável agua fria DN 25mm"},null,{"$f":"TRIM(INDEX(Orçamentária!C:C,MATCH(Composições!A948,Orçamentária!A:A,0),1))","v":"m"},null,"","",null,null,300]
[null,null,null,null,null,"","",null,null,300]
[null,null,"Tubo PVC, soldavel, DN 25 mm, agua fria (NBR-5648)","m",1.0609999999999999,2.6505000000000001,2.8121804999999997,{"$f":"SUM(G950:G952)","v":3.4186604999999997},null,300]
[null,null,"Auxiliar de encanador ou bombeiro hidráulico com encargos complementares","h",1.6E-2,16.596499999999999,0.265544,null,null,300]
[null,null,"Encanador ou Bombeiro Hidráulico com Encargos Complementares","h",1.6E-2,21.308499999999999,0.34093599999999996,null,null,300]
[null,null,null,null,null,"","",null,null,300]
["SF-00172",{"$f":"INDEX(Orçamentária!A:B,MATCH(Composições!A954,Orçamentária!A:A,0),2)","v":"Tubo PVC soldável agua fria DN 32mm"},null,{"$f":"TRIM(INDEX(Orçamentária!C:C,MATCH(Composições!A954,Orçamentária!A:A,0),1))","v":"m"},null,"","",null,null,200]
[null,null,null,null,null,"","",null,null,200]
[null,null,"Tubo PVC, soldavel, DN 32 mm, agua fria (NBR-5648)","m",1.0609999999999999,5.9469999999999992,6.309766999999999,{"$f":"SUM(G956:G958)","v":7.0678669999999988},null,200]
[null,null,"Auxiliar de encanador ou bombeiro hidráulico com encargos complementares","h",0.02,16.596499999999999,0.33193,null,null,200]
[null,null,"Encanador ou Bombeiro Hidráulico com Encargos Complementares","h",0.02,21.308499999999999,0.42616999999999999,null,null,200]
[null,null,null,null,null,"","",null,null,200]
["SF-00173",{"$f":"INDEX(Orçamentária!A:B,MATCH(Composições!A960,Orçamentária!A:A,0),2)","v":"Tubo PVC soldável agua fria DN 40mm"},null,{"$f":"TRIM(INDEX(Orçamentária!C:C,MATCH(Composições!A960,Orçamentária!A:A,0),1))","v":"m"},null,"","",null,null,100]
[null,null,null,null,null,"","",null,null,100]
[null,null,"Tubo PVC, soldavel, DN 40 mm, agua fria (NBR-5648)","m",1.0609999999999999,8.6639999999999997,9.1925039999999996,{"$f":"SUM(G962:G965)","v":10.115219999999999},null,100]
[null,null,"Lixa d'agua em folha, grao 100","un",8.0000000000000002E-3,1.6244999999999998,1.2995999999999999E-2,null,null,100]
[null,null,"Auxiliar de encanador ou bombeiro hidráulico com encargos complementares","h",2.4E-2,16.596499999999999,0.398316,null,null,100]
[null,null,"Encanador ou Bombeiro Hidráulico com Encargos Complementares","h",2.4E-2,21.308499999999999,0.51140399999999997,null,null,100]
[null,null,null,null,null,"","",null,null,100]
["SF-00174",{"$f":"INDEX(Orçamentária!A:B,MATCH(Composições!A967,Orçamentária!A:A,0),2)","v":"Tubo PVC soldável agua fria DN 50mm"},null,{"$f":"TRIM(INDEX(Orçamentária!C:C,MATCH(Composições!A967,Orçamentária!A:A,0),1))","v":"m"},null,"","",null,null,100]
[null,null,null,null,null,"","",null,null,100]
[null,null,"TUBO PVC, SOLDAVEL, DN 50 MM, PARA AGUA FRIA (NBR-5648)","m",1.0609999999999999,9.9274999999999984,10.533077499999997,{"$f":"SUM(G969:G972)","v":11.648567499999997},null,100]
[null,null,"Lixa d'agua em folha, grao 100","un",0.01,1.6244999999999998,1.6244999999999999E-2,null,null,100]
[null,null,"Auxiliar de encanador ou bombeiro hidráulico com encargos complementares","h",2.9000000000000001E-2,16.596499999999999,0.48129850000000002,null,null,100]
[null,null,"Encanador ou Bombeiro Hidráulico com Encargos Complementares","h",2.9000000000000001E-2,21.308499999999999,0.61794649999999995,null,null,100]
[null,null,null,null,null,"","",null,null,100]
["SF-00175",{"$f":"INDEX(Orçamentária!A:B,MATCH(Composições!A974,Orçamentária!A:A,0),2)","v":"Base registro gaveta 3/4\""},null,{"$f":"TRIM(INDEX(Orçamentária!C:C,MATCH(Composições!A974,Orçamentária!A:A,0),1))","v":"un"},null,"","",null,null,60]
[null,null,null,null,null,"","",null,null,60]
[null,null,"Base registro gaveta 3/4\" em liga de cobre, mod 4509.202 ref: DECA ou equivalente","un ",1,31.77,31.77,{"$f":"SUM(G976:G979)","v":42.132267499999998},null,60]
[null,null,"FITA VEDA ROSCA EM ROLOS DE 18 MM X 50 M (L X C)","UN",1.2999999999999999E-2,11.7325,0.15252250000000001,null,null,60]
[null,null,"Encanador ou Bombeiro Hidráulico com Encargos Complementares","h",0.3,21.308499999999999,6.3925499999999991,null,null,60]
[null,null,"Auxiliar de encanador ou bombeiro hidráulico com encargos complementares","h",0.23,16.596499999999999,3.8171949999999999,null,null,60]
[null,null,null,null,null,"","",null,null,60]
["SF-00176",{"$f":"INDEX(Orçamentária!A:B,MATCH(Composições!A981,Orçamentária!A:A,0),2)","v":"Caixa sifonada de PVC DN 150mm"},null,{"$f":"TRIM(INDEX(Orçamentária!C:C,MATCH(Composições!A981,Orçamentária!A:A,0),1))","v":"un"},null,"",{"$f":"IF(ISNUMBER(F981),E981*F981,\"\")","v":""},null,null,45]
[null,null,null,null,null,"","",null,null,45]
[null,null,"Auxiliar de encanador ou bombeiro hidráulico com encargos complementares","h",0.38,16.596499999999999,6.3066699999999996,{"$f":"SUM(G983:G990)","v":54.071104400000003},null,45]
[null,null,"Encanador ou Bombeiro Hidráulico com Encargos Complementares","h",0.38,21.308499999999999,8.0972299999999997,null,null,45]
[null,null,"Adesivo plastico para PVC, frasco com 850 gr","un",1.4800000000000001E-2,54.235500000000002,0.8026854000000001,null,null,45]
[null,null,"Anel borracha para tubo esgoto predial DN 75 mm (NBR 5688)","un",1,1.6054999999999999,1.6054999999999999,null,null,45]
[null,null,"Lixa d'agua em folha, grao 100","un",5.7000000000000002E-2,1.6244999999999998,9.2596499999999998E-2,null,null,45]
[null,null,"Caixa sifonada PVC, 150 x 185 x 75 mm, com grelha quadrada branca","un",1,35.511000000000003,35.511000000000003,null,null,45]
[null,null,"Pasta lubrificante para tubos e conexoes com junta elastica (uso em PVC, aco, polietileno e outros) ( de *400* g)","un",0.03,19.854999999999997,0.5956499999999999,null,null,45]
[null,null,"Solucao limpadora para PVC, frasco com 1000 cm3","un",2.2499999999999999E-2,47.100999999999999,1.0597725,null,null,45]
[null,null,null,null,null,"","",null,null,45]
["SF-00177",{"$f":"INDEX(Orçamentária!A:B,MATCH(Composições!A992,Orçamentária!A:A,0),2)","v":"Caixa sifonada de PVC DN 250mm"},null,{"$f":"TRIM(INDEX(Orçamentária!C:C,MATCH(Composições!A992,Orçamentária!A:A,0),1))","v":"un"},null,"","",null,null,45]
[null,null,null,null,null,"","",null,null,45]
[null,null,"Auxiliar de encanador ou bombeiro hidráulico com encargos complementares","h",0.38,16.596499999999999,6.3066699999999996,{"$f":"SUM(G994:G1001)","v":92.004604400000005},null,45]
[null,null,"Encanador ou Bombeiro Hidráulico com Encargos Complementares","h",0.38,21.308499999999999,8.0972299999999997,null,null,45]
[null,null,"Adesivo plastico para PVC, frasco com 850 gr","un",1.4800000000000001E-2,54.235500000000002,0.8026854000000001,null,null,45]
[null,null,"Anel borracha para tubo esgoto predial DN 75 mm (NBR 5688)","un",1,1.6054999999999999,1.6054999999999999,null,null,45]
[null,null,"Lixa d'agua em folha, grao 100","un",5.7000000000000002E-2,1.6244999999999998,9.2596499999999998E-2,null,null,45]
[null,null,"CAIXA SIFONADA PVC, 250 X 230 X 75 MM, COM TAMPA E PORTA TAMPA QUADRADA BRANCA","un",1,73.444500000000005,73.444500000000005,null,null,45]
[null,null,"Pasta lubrificante para tubos e conexoes com junta elastica (uso em PVC, aco, polietileno e outros) ( de *400* g)","un",0.03,19.854999999999997,0.5956499999999999,null,null,45]
[null,null,"Solucao limpadora para PVC, frasco com 1000 cm3","un",2.2499999999999999E-2,47.100999999999999,1.0597725,null,null,45]
[null,null,null,null,null,"","",null,null,45]
["SF-00178",{"$f":"INDEX(Orçamentária!A:B,MATCH(Composições!A1003,Orçamentária!A:A,0),2)","v":"Grelha quadrada para ralo 10x10cm"},null,{"$f":"TRIM(INDEX(Orçamentária!C:C,MATCH(Composições!A1003,Orçamentária!A:A,0),1))","v":"un"},null,"","",null,null,45]
[null,null,null,null,null,"","",null,null,45]
[null,null,"Grelha quadrada para ralo, com caixilho, dimensões 10x10cm, em Aço polido, ref.: Moldenox ou equivalente","un ",1,33.54,33.54,{"$f":"SUM(G1005:G1006)","v":35.943975000000002},null,45]
[null,null,"Servente com Encargos Complementares","h",0.15,16.026499999999999,2.4039749999999995,null,null,45]
[null,null,null,null,null,"","",null,null,45]
["SF-00179",{"$f":"INDEX(Orçamentária!A:B,MATCH(Composições!A1008,Orçamentária!A:A,0),2)","v":"Grelha quadrada para ralo 15x15cm"},null,{"$f":"TRIM(INDEX(Orçamentária!C:C,MATCH(Composições!A1008,Orçamentária!A:A,0),1))","v":"un"},null,"","",null,null,45]
[null,null,null,null,null,"","",null,null,45]
[null,null,"Grelha quadrada para ralo, com caixilho, dimensões 15x15cm, em Aço polido, ref.: Moldenox ou equivalente","un ",1,59.44,59.44,{"$f":"SUM(G1010:G1011)","v":61.843975},null,45]
[null,null,"Servente com Encargos Complementares","h",0.15,16.026499999999999,2.4039749999999995,null,null,45]
[null,null,null,null,null,"","",null,null,45]
["SF-00180",{"$f":"INDEX(Orçamentária!A:B,MATCH(Composições!A1013,Orçamentária!A:A,0),2)","v":"Ralo seco PVC DN 100x40mm"},null,{"$f":"TRIM(INDEX(Orçamentária!C:C,MATCH(Composições!A1013,Orçamentária!A:A,0),1))","v":"un"},null,"","",null,null,45]
[null,null,null,null,null,"","",null,null,45]
[null,null,"Auxiliar de encanador ou bombeiro hidráulico com encargos complementares","h",7.0000000000000007E-2,16.596499999999999,1.1617550000000001,{"$f":"SUM(G1015:G1020)","v":8.9334779500000003},null,45]
[null,null,"Encanador ou Bombeiro Hidráulico com Encargos Complementares","h",7.0000000000000007E-2,21.308499999999999,1.491595,null,null,45]
[null,null,"Adesivo plastico para PVC, frasco com 850 gr","un",4.8999999999999998E-3,54.235500000000002,0.26575395000000002,null,null,45]
[null,null,"Lixa d'agua em folha, grao 100","un",1.7000000000000001E-2,1.6244999999999998,2.7616499999999999E-2,null,null,45]
[null,null,"Ralo seco PVC conico, 100 x 40 mm,  com grelha redonda branca","un",1,5.6334999999999997,5.6334999999999997,null,null,45]
[null,null,"Solucao limpadora para PVC, frasco com 1000 cm3","un",7.4999999999999997E-3,47.100999999999999,0.3532575,null,null,45]
[null,null,null,null,null,"","",null,null,45]
["SF-00181",{"$f":"INDEX(Orçamentária!A:B,MATCH(Composições!A1022,Orçamentária!A:A,0),2)","v":"Assento para bacia convencional – Linha Administrativa"},null,{"$f":"TRIM(INDEX(Orçamentária!C:C,MATCH(Composições!A1022,Orçamentária!A:A,0),1))","v":"un"},null,"","",null,null,45]
[null,null,null,null,null,"","",null,null,45]
[null,null,"Assento poliéster com fixação cromada na cor branco gelo, ref: AP.75.17 – Linha Fast/Aspen – Deca ou equivalente","un ",1,59.64,59.64,{"$f":"SUM(G1024:G1025)","v":61.242649999999998},null,45]
[null,null,"Servente com Encargos Complementares","h",0.1,16.026499999999999,1.6026499999999999,null,null,45]
[null,null,null,null,null,"","",null,null,45]
["SF-00182",{"$f":"INDEX(Orçamentária!A:B,MATCH(Composições!A1027,Orçamentária!A:A,0),2)","v":"Bacia convencional – Linha Administrativa"},null,{"$f":"TRIM(INDEX(Orçamentária!C:C,MATCH(Composições!A1027,Orçamentária!A:A,0),1))","v":"un"},null,"","",null,null,45]
[null,null,null,null,null,"","",null,null,45]
[null,null,"Bacia sanitaria (vaso) convencional de louca branca","UN",1,110.1525,110.1525,{"$f":"SUM(G1029:G1035)","v":261.86674299999999},null,45]
[null,null,"Tubo de ligação para bacia sanitária em PVC, com acabamento cromado, ajustável ou não. Ref.: DECA 1968C ou equivalente","un",1,94.72,94.72,null,null,45]
[null,null,"Parafuso niquelado com acabamento cromado para fixar peca sanitaria, inclui porca cega, arruela e bucha de nylon tamanho S-10","UN",2,17.270999999999997,34.541999999999994,null,null,45]
[null,null,"Vedacao PVC, 100 mm, para saida vaso sanitario","un",1,1.7765,1.7765,null,null,45]
[null,null,"Rejunte epoxi, qualquer cor","kg",8.8099999999999998E-2,50.511499999999998,4.4500631500000001,null,null,45]
[null,null,"Encanador ou Bombeiro Hidráulico com Encargos Complementares","h",0.49859999999999999,21.308499999999999,10.6244181,null,null,45]
[null,null,"Servente com Encargos Complementares","h",0.34949999999999998,16.026499999999999,5.601261749999999,null,null,45]
[null,null,null,null,null,"","",null,null,45]
["SF-00183",{"$f":"INDEX(Orçamentária!A:B,MATCH(Composições!A1037,Orçamentária!A:A,0),2)","v":"Bacia convencional com saída horizontal"},null,{"$f":"TRIM(INDEX(Orçamentária!C:C,MATCH(Composições!A1037,Orçamentária!A:A,0),1))","v":"un"},null,"","",null,null,10]
[null,null,null,null,null,"","",null,null,10]
[null,null,"Bacia convencional com saída horizontal (Modelo P.90.17 – Linha Ravena – Deca)","un ",1,235.77,235.77,{"$f":"SUM(G1039:G1044)","v":292.76424300000002},null,10]
[null,null,"Parafuso niquelado com acabamento cromado para fixar peca sanitaria, inclui porca cega, arruela e bucha de nylon tamanho S-10","UN",2,17.270999999999997,34.541999999999994,null,null,10]
[null,null,"Vedacao PVC, 100 mm, para saida vaso sanitario","un",1,1.7765,1.7765,null,null,10]
[null,null,"Rejunte epoxi, qualquer cor","kg",8.8099999999999998E-2,50.511499999999998,4.4500631500000001,null,null,10]
[null,null,"Encanador ou Bombeiro Hidráulico com Encargos Complementares","h",0.49859999999999999,21.308499999999999,10.6244181,null,null,10]
[null,null,"Servente com Encargos Complementares","h",0.34949999999999998,16.026499999999999,5.601261749999999,null,null,10]
[null,null,null,null,null,"",{"$f":"IF(ISNUMBER(F1045),E1045*F1045,\"\")","v":""},null,null,10]
["SF-00184",{"$f":"INDEX(Orçamentária!A:B,MATCH(Composições!A1046,Orçamentária!A:A,0),2)","v":"Cuba oval de embutir"},null,{"$f":"TRIM(INDEX(Orçamentária!C:C,MATCH(Composições!A1046,Orçamentária!A:A,0),1))","v":"un"},null,"","",null,null,45]
[null,null,null,null,null,"","",null,null,45]
[null,null,"Cuba oval de embutir, mod.: L37, cor branca ref: DECA ou equivalente","un ",1,62.21,62.21,{"$f":"SUM(G1048:G1051)","v":95.166786299999998},null,45]
[null,null,"Massa plastica para marmore/granito","kg",0.52710000000000001,25.412499999999998,13.39492875,null,null,45]
[null,null,"Servente com Encargos Complementares","h",0.26650000000000001,16.026499999999999,4.2710622499999999,null,null,45]
[null,null,"Marmorista/graniteiro com encargos complementares","h",0.8458,18.078500000000002,15.290795300000001,null,null,45]
[null,null,null,null,null,"","",null,null,45]
["SF-00185",{"$f":"INDEX(Orçamentária!A:B,MATCH(Composições!A1053,Orçamentária!A:A,0),2)","v":"Cuba retangular em aço inox – Linha Administrativa"},null,{"$f":"TRIM(INDEX(Orçamentária!C:C,MATCH(Composições!A1053,Orçamentária!A:A,0),1))","v":"un"},null,"","",null,null,30]
[null,null,null,null,null,"","",null,null,30]
[null,null,"Cuba retangular com as dimensões 0,34x0,40x0,18m, em aço Inox AISI 304 com acabamento em alto brilho, com válvula de escoamento, ref: Franke 12646 ou equivalente","un ",1,186.7,186.7,{"$f":"SUM(G1055:G1058)","v":205.29873900000001},null,30]
[null,null,"Massa plastica para marmore/granito","kg",0.2974,25.412499999999998,7.5576774999999996,null,null,30]
[null,null,"Marmorista/graniteiro com encargos complementares","h",0.47739999999999999,18.078500000000002,8.6306759,null,null,30]
[null,null,"Servente com Encargos Complementares","h",0.15040000000000001,16.026499999999999,2.4103855999999997,null,null,30]
[null,null,null,null,null,"","",null,null,30]
["SF-00186",{"$f":"INDEX(Orçamentária!A:B,MATCH(Composições!A1060,Orçamentária!A:A,0),2)","v":"Cuba semiencaixe quadrada com mesa"},null,{"$f":"TRIM(INDEX(Orçamentária!C:C,MATCH(Composições!A1060,Orçamentária!A:A,0),1))","v":"un"},null,"","",null,null,15]
[null,null,null,null,null,"","",null,null,15]
[null,null,"Cuba semi-encaixe com mesa, mod.: L830 ref: DECA ou equivalente","un ",1,668.2,668.2,{"$f":"SUM(G1062:G1065)","v":701.15678630000002},null,15]
[null,null,"Massa plastica para marmore/granito","kg",0.52710000000000001,25.412499999999998,13.39492875,null,null,15]
[null,null,"Servente com Encargos Complementares","h",0.26650000000000001,16.026499999999999,4.2710622499999999,null,null,15]
[null,null,"Marmorista/graniteiro com encargos complementares","h",0.8458,18.078500000000002,15.290795300000001,null,null,15]
[null,null,null,null,null,"","",null,null,15]
["SF-00187",{"$f":"INDEX(Orçamentária!A:B,MATCH(Composições!A1067,Orçamentária!A:A,0),2)","v":"Instalação de lavatório reaproveitado"},null,{"$f":"TRIM(INDEX(Orçamentária!C:C,MATCH(Composições!A1067,Orçamentária!A:A,0),1))","v":"un"},null,"","",null,null,30]
[null,null,null,null,null,"","",null,null,30]
[null,null,"Parafuso niquelado 3 1/2\" com acabamento cromado para fixar peca sanitaria, inclui porca cega, arruela e bucha de nylon tamanho S-8","UN",2,12.805999999999999,25.611999999999998,{"$f":"SUM(G1069:G1072)","v":38.416536999999998},null,30]
[null,null,"Rejunte epoxi, qualquer cor","kg",3.04E-2,50.511499999999998,1.5355496,null,null,30]
[null,null,"Encanador ou Bombeiro Hidráulico com Encargos Complementares","h",0.38700000000000001,21.308499999999999,8.2463894999999994,null,null,30]
[null,null,"Servente com Encargos Complementares","h",0.18859999999999999,16.026499999999999,3.0225978999999996,null,null,30]
[null,null,null,null,null,"","",null,null,30]
["SF-00188",{"$f":"INDEX(Orçamentária!A:B,MATCH(Composições!A1074,Orçamentária!A:A,0),2)","v":"Instalação de mictório reaproveitado"},null,{"$f":"TRIM(INDEX(Orçamentária!C:C,MATCH(Composições!A1074,Orçamentária!A:A,0),1))","v":"un"},null,"","",null,null,30]
[null,null,null,null,null,"","",null,null,30]
[null,null,"Parafuso niquelado 3 1/2\" com acabamento cromado para fixar peca sanitaria, inclui porca cega, arruela e bucha de nylon tamanho S-8","UN",2,12.805999999999999,25.611999999999998,{"$f":"SUM(G1076:G1079)","v":39.026512999999994},null,30]
[null,null,"Fita veda rosca em rolos de 18 mm x 10 m (L x C)","UN",3.6499999999999998E-2,3.1825000000000001,0.11616124999999999,null,null,30]
[null,null,"Servente com Encargos Complementares","h",{"$f":"ROUND(0.3179/2,4)","v":0.159},16.026499999999999,2.5482134999999997,null,null,30]
[null,null,"Encanador ou Bombeiro Hidráulico com Encargos Complementares","h",{"$f":"1.009/2","v":0.50449999999999995},21.308499999999999,10.750138249999997,null,null,30]
[null,null,null,null,null,"","",null,null,30]
[null,null,"Obs.: Redução do coeficiente de MO, considerando que esse serviço não inclui engate flexível e válvula de descarga.",null,null,"","",null,null,30]
[null,null,null,null,null,"","",null,null,30]
["SF-00189",{"$f":"INDEX(Orçamentária!A:B,MATCH(Composições!A1083,Orçamentária!A:A,0),2)","v":"Instalação de vaso sanitário reaproveitado"},null,{"$f":"TRIM(INDEX(Orçamentária!C:C,MATCH(Composições!A1083,Orçamentária!A:A,0),1))","v":"un"},null,"","",null,null,30]
[null,null,null,null,null,"","",null,null,30]
[null,null,"Parafuso niquelado com acabamento cromado para fixar peca sanitaria, inclui porca cega, arruela e bucha de nylon tamanho S-10","UN",2,17.270999999999997,34.541999999999994,{"$f":"SUM(G1085:G1089)","v":56.955887699999991},null,30]
[null,null,"Vedacao PVC, 100 mm, para saida vaso sanitario","un",1,1.7765,1.7765,null,null,30]
[null,null,"Rejunte epoxi, qualquer cor","kg",8.8099999999999998E-2,50.511499999999998,4.4500631500000001,null,null,30]
[null,null,"Encanador ou Bombeiro Hidráulico com Encargos Complementares","h",0.49680000000000002,21.308499999999999,10.586062800000001,null,null,30]
[null,null,"Servente com Encargos Complementares","h",0.34949999999999998,16.026499999999999,5.601261749999999,null,null,30]
[null,null,null,null,null,"","",null,null,30]
["SF-00190",{"$f":"INDEX(Orçamentária!A:B,MATCH(Composições!A1091,Orçamentária!A:A,0),2)","v":"Lavatório suspenso"},null,{"$f":"TRIM(INDEX(Orçamentária!C:C,MATCH(Composições!A1091,Orçamentária!A:A,0),1))","v":"un"},null,"","",null,null,10]
[null,null,null,null,null,"","",null,null,10]
[null,null,"Lavatorio louca branca suspenso *40 x 30* cm","UN",1,71.886499999999998,71.886499999999998,{"$f":"SUM(G1093:G1097)","v":110.30303699999999},null,10]
[null,null,"Parafuso niquelado 3 1/2\" com acabamento cromado para fixar peca sanitaria, inclui porca cega, arruela e bucha de nylon tamanho S-8","UN",2,12.805999999999999,25.611999999999998,null,null,10]
[null,null,"Rejunte epoxi, qualquer cor","kg",3.04E-2,50.511499999999998,1.5355496,null,null,10]
[null,null,"Encanador ou Bombeiro Hidráulico com Encargos Complementares","h",0.38700000000000001,21.308499999999999,8.2463894999999994,null,null,10]
[null,null,"Servente com Encargos Complementares","h",0.18859999999999999,16.026499999999999,3.0225978999999996,null,null,10]
[null,null,null,null,null,"","",null,null,10]
["SF-00191",{"$f":"INDEX(Orçamentária!A:B,MATCH(Composições!A1099,Orçamentária!A:A,0),2)","v":"Mictório – Linha Administrativa"},null,{"$f":"TRIM(INDEX(Orçamentária!C:C,MATCH(Composições!A1099,Orçamentária!A:A,0),1))","v":"un"},null,"","",null,null,20]
[null,null,null,null,null,"","",null,null,20]
[null,null,"Mictorio sifonado louca branca sem complementos","UN",1,250.42000000000002,250.42000000000002,{"$f":"SUM(G1101:G1105)","v":289.47515550000003},null,20]
[null,null,"Parafuso niquelado 3 1/2\" com acabamento cromado para fixar peca sanitaria, inclui porca cega, arruela e bucha de nylon tamanho S-8","UN",2,12.805999999999999,25.611999999999998,null,null,20]
[null,null,"Fita veda rosca em rolos de 18 mm x 10 m (L x C)","UN",{"$f":"0.076-0.0175-0.013","v":4.5499999999999999E-2},3.1825000000000001,0.14480375000000001,null,null,20]
[null,null,"Servente com Encargos Complementares","h",{"$f":"ROUND(0.3179/2,4)","v":0.159},16.026499999999999,2.5482134999999997,null,null,20]
[null,null,"Encanador ou Bombeiro Hidráulico com Encargos Complementares","h",{"$f":"1.009/2","v":0.50449999999999995},21.308499999999999,10.750138249999997,null,null,20]
[null,null,null,null,null,"","",null,null,20]
[null,null,"Obs.: Redução do coeficiente de MO, considerando que esse serviço não inclui engate flexível e válvula de descarga.",null,null,"","",null,null,20]
[null,null,null,null,null,"","",null,null,20]
["SF-00192",{"$f":"INDEX(Orçamentária!A:B,MATCH(Composições!A1109,Orçamentária!A:A,0),2)","v":"Tanque 38 litros – Linha Administrativa"},null,{"$f":"TRIM(INDEX(Orçamentária!C:C,MATCH(Composições!A1109,Orçamentária!A:A,0),1))","v":"un"},null,"",{"$f":"IF(ISNUMBER(F1109),E1109*F1109,\"\")","v":""},null,null,25]
[null,null,null,null,null,"","",null,null,25]
[null,null,"Tanque de louça com capacidade de 38 litros na cor branca, suspenso, sem coluna","un ",1,366.95,366.95,{"$f":"SUM(G1111:G1115)","v":443.19505249999997},null,25]
[null,null,"Parafuso niquelado 3 1/2\" com acabamento cromado para fixar peca sanitaria, inclui porca cega, arruela e bucha de nylon tamanho S-8","UN",4,12.805999999999999,51.223999999999997,null,null,25]
[null,null,"Rejunte epoxi, qualquer cor","kg",3.9E-2,50.511499999999998,1.9699484999999999,null,null,25]
[null,null,"Encanador ou Bombeiro Hidráulico com Encargos Complementares","h",0.8226,21.308499999999999,17.528372099999999,null,null,25]
[null,null,"Servente com Encargos Complementares","h",0.34460000000000002,16.026499999999999,5.5227319000000001,null,null,25]
[null,null,null,null,null,"","",null,null,25]
["SF-00193",{"$f":"INDEX(Orçamentária!A:B,MATCH(Composições!A1117,Orçamentária!A:A,0),2)","v":"Acabamento para registro GD – Linha Administrativa"},null,{"$f":"TRIM(INDEX(Orçamentária!C:C,MATCH(Composições!A1117,Orçamentária!A:A,0),1))","v":"un"},null,"","",null,null,35]
[null,null,null,null,null,"","",null,null,35]
[null,null,"Acabamento para registro de gaveta de 1 ¼” a 1 ½” (GD), cromado. Ref.: Modelo 4900.C35.GD – Linha Aspen – Deca","un ",1,45.58,45.58,{"$f":"SUM(G1119:G1120)","v":47.284680000000002},null,35]
[null,null,"Encanador ou Bombeiro Hidráulico com Encargos Complementares","h",0.08,21.308499999999999,1.70468,null,null,35]
[null,null,null,null,null,"","",null,null,35]
["SF-00194",{"$f":"INDEX(Orçamentária!A:B,MATCH(Composições!A1122,Orçamentária!A:A,0),2)","v":"Acabamento para registro PQ – Linha Administrativa"},null,{"$f":"TRIM(INDEX(Orçamentária!C:C,MATCH(Composições!A1122,Orçamentária!A:A,0),1))","v":"un"},null,"","",null,null,70]
[null,null,null,null,null,"","",null,null,70]
[null,null,"Acabamento para registro de gaveta e pressão até 1” (PQ), cromado. Ref.: Modelo, 4900.C35.PQ – Linha Aspen – Deca","un ",1,33.979999999999997,33.979999999999997,{"$f":"SUM(G1124:G1125)","v":35.68468},null,70]
[null,null,"Encanador ou Bombeiro Hidráulico com Encargos Complementares","h",0.08,21.308499999999999,1.70468,null,null,70]
[null,null,null,null,null,"","",null,null,70]
["SF-00195",{"$f":"INDEX(Orçamentária!A:B,MATCH(Composições!A1127,Orçamentária!A:A,0),2)","v":"Ducha higiênica – Linha Administrativa"},null,{"$f":"TRIM(INDEX(Orçamentária!C:C,MATCH(Composições!A1127,Orçamentária!A:A,0),1))","v":"un"},null,"","",null,null,60]
[null,null,null,null,null,"","",null,null,60]
[null,null,"Ducha higiênica com registro e derivação, com gatilho branco e flexível de 1,2m. Ref.: Modelo 1984.C35.ACT – Linha Aspen – Deca","un ",1,244.55,244.55,{"$f":"SUM(G1129:G1131)","v":263.5025},null,60]
[null,null,"Encanador ou Bombeiro Hidráulico com Encargos Complementares","h",0.5,21.308499999999999,10.654249999999999,null,null,60]
[null,null,"Auxiliar de encanador ou bombeiro hidráulico com encargos complementares","h",0.5,16.596499999999999,8.2982499999999995,null,null,60]
[null,null,null,null,null,"","",null,null,60]
["SF-00196",{"$f":"INDEX(Orçamentária!A:B,MATCH(Composições!A1133,Orçamentária!A:A,0),2)","v":"Instalação de metais e acessórios reaproveitados"},null,{"$f":"TRIM(INDEX(Orçamentária!C:C,MATCH(Composições!A1133,Orçamentária!A:A,0),1))","v":"un"},null,"","",null,null,200]
[null,null,null,null,null,"","",null,null,200]
[null,null,"Encanador ou Bombeiro Hidráulico com Encargos Complementares","h",0.16209999999999999,21.308499999999999,3.4541078499999998,{"$f":"SUM(G1135:G1136)","v":3.8308483999999998},null,200]
[null,null,"Auxiliar de encanador ou bombeiro hidráulico com encargos complementares","h",2.2700000000000001E-2,16.596499999999999,0.37674055000000001,null,null,200]
[null,null,null,null,null,"","",null,null,200]
["SF-00197",{"$f":"INDEX(Orçamentária!A:B,MATCH(Composições!A1138,Orçamentária!A:A,0),2)","v":"Ligação flexível 1/2” x 40 cm – Linha Administrativa"},null,{"$f":"TRIM(INDEX(Orçamentária!C:C,MATCH(Composições!A1138,Orçamentária!A:A,0),1))","v":"un"},null,"","",null,null,80]
[null,null,null,null,null,"","",null,null,80]
[null,null,"Engate / rabicho flexivel inox 1/2 \" x 40 cm","UN",1,27.530999999999999,27.530999999999999,{"$f":"SUM(G1140:G1143)","v":31.584293749999997},null,80]
[null,null,"Fita veda rosca em rolos de 18 mm x 10 m (L x C)","UN",1.7500000000000002E-2,3.1825000000000001,5.5693750000000007E-2,null,null,80]
[null,null,"Encanador ou Bombeiro Hidráulico com Encargos Complementares","h",0.15,21.308499999999999,3.1962749999999995,null,null,80]
[null,null,"Servente com Encargos Complementares","h",0.05,16.026499999999999,0.80132499999999995,null,null,80]
[null,null,null,null,null,"","",null,null,80]
["SF-00198",{"$f":"INDEX(Orçamentária!A:B,MATCH(Composições!A1145,Orçamentária!A:A,0),2)","v":"Sifão articulado para cozinha – Linha Administrativa"},null,{"$f":"TRIM(INDEX(Orçamentária!C:C,MATCH(Composições!A1145,Orçamentária!A:A,0),1))","v":"un"},null,"","",null,null,50]
[null,null,null,null,null,"","",null,null,50]
[null,null,"Sifão regulável com tubo de saída corrugado para cozinha, cromado.  Ref.: Modelo VSM182 – Esteves","un ",1,207.71,207.71,{"$f":"SUM(G1147:G1150)","v":215.02288720000001},null,50]
[null,null,"Fita veda rosca em rolos de 18 mm x 10 m (L x C)","UN",3.32E-2,3.1825000000000001,0.105659,null,null,50]
[null,null,"Servente com Encargos Complementares","h",8.6199999999999999E-2,16.026499999999999,1.3814842999999999,null,null,50]
[null,null,"Encanador ou Bombeiro Hidráulico com Encargos Complementares","h",0.27339999999999998,21.308499999999999,5.8257438999999991,null,null,50]
[null,null,null,null,null,"","",null,null,50]
["SF-00199",{"$f":"INDEX(Orçamentária!A:B,MATCH(Composições!A1152,Orçamentária!A:A,0),2)","v":"Sifão para lavatório 1 1/2\""},null,{"$f":"TRIM(INDEX(Orçamentária!C:C,MATCH(Composições!A1152,Orçamentária!A:A,0),1))","v":"un"},null,"","",null,null,60]
[null,null,null,null,null,"","",null,null,60]
[null,null,"Sifao em metal cromado para pia ou lavatorio, 1 x 1.1/2 \"","UN",1,109.67749999999999,109.67749999999999,{"$f":"SUM(G1154:G1157)","v":117.03230499999999},null,60]
[null,null,"Fita veda rosca em rolos de 18 mm x 10 m (L x C)","UN",0.05,3.1825000000000001,0.15912500000000002,null,null,60]
[null,null,"Encanador ou Bombeiro Hidráulico com Encargos Complementares","h",0.27,21.308499999999999,5.7532949999999996,null,null,60]
[null,null,"Servente com Encargos Complementares","h",0.09,16.026499999999999,1.4423849999999998,null,null,60]
[null,null,null,null,null,"","",null,null,60]
["SF-00200",{"$f":"INDEX(Orçamentária!A:B,MATCH(Composições!A1159,Orçamentária!A:A,0),2)","v":"Sifão para tanque – Linha Administrativa"},null,{"$f":"TRIM(INDEX(Orçamentária!C:C,MATCH(Composições!A1159,Orçamentária!A:A,0),1))","v":"un"},null,"","",null,null,25]
[null,null,null,null,null,"","",null,null,25]
[null,null,"Fita veda rosca em rolos de 18 mm x 10 m (L x C)","UN",3.32E-2,3.1825000000000001,0.105659,{"$f":"SUM(G1161:G1164)","v":123.4693872},null,25]
[null,null,"Servente com Encargos Complementares","h",8.6199999999999999E-2,16.026499999999999,1.3814842999999999,null,null,25]
[null,null,"Encanador ou Bombeiro Hidráulico com Encargos Complementares","h",0.27339999999999998,21.308499999999999,5.8257438999999991,null,null,25]
[null,null,"Sifao em metal cromado para tanque, 1.1/4 x 1.1/2 \"","un",1,116.15649999999999,116.15649999999999,null,null,25]
[null,null,null,null,null,"","",null,null,25]
["SF-00201",{"$f":"INDEX(Orçamentária!A:B,MATCH(Composições!A1166,Orçamentária!A:A,0),2)","v":"Torneira de mesa para cozinha bica móvel – Linha Administrativa"},null,{"$f":"TRIM(INDEX(Orçamentária!C:C,MATCH(Composições!A1166,Orçamentária!A:A,0),1))","v":"un"},null,"","",null,null,0]
[null,null,null,null,null,"","",null,null,0]
[null,null,"Torneira de mesa para cozinha, cromada. Ref.: Deca Targa 1167.C40.CR","un ",1,179.48,179.48,{"$f":"SUM(G1168:G1171)","v":183.94035069999998},null,0]
[null,null,"Fita veda rosca em rolos de 18 mm x 10 m (L x C)","UN",2.1000000000000001E-2,3.1825000000000001,6.6832500000000003E-2,null,null,0]
[null,null,"Encanador ou Bombeiro Hidráulico com Encargos Complementares","h",0.16669999999999999,21.308499999999999,3.5521269499999995,null,null,0]
[null,null,"Servente com Encargos Complementares","h",5.2499999999999998E-2,16.026499999999999,0.84139124999999992,null,null,0]
[null,null,null,null,null,"","",null,null,0]
["SF-00202",{"$f":"INDEX(Orçamentária!A:B,MATCH(Composições!A1173,Orçamentária!A:A,0),2)","v":"Torneira de mesa para cozinha bica móvel com arejador – Linha Administrativa"},null,{"$f":"TRIM(INDEX(Orçamentária!C:C,MATCH(Composições!A1173,Orçamentária!A:A,0),1))","v":"un"},null,"",{"$f":"IF(ISNUMBER(F1173),E1173*F1173,\"\")","v":""},null,null,40]
[null,null,null,null,null,"","",null,null,40]
[null,null,"Torneira de mesa bica móvel com arejador articulado para cozinha, cromada. Ref.: Código B5814C2CRB – Linha City – Celite","un ",1,176.36,176.36,{"$f":"SUM(G1175:G1178)","v":180.82035070000001},null,40]
[null,null,"Fita veda rosca em rolos de 18 mm x 10 m (L x C)","UN",2.1000000000000001E-2,3.1825000000000001,6.6832500000000003E-2,null,null,40]
[null,null,"Encanador ou Bombeiro Hidráulico com Encargos Complementares","h",0.16669999999999999,21.308499999999999,3.5521269499999995,null,null,40]
[null,null,"Servente com Encargos Complementares","h",5.2499999999999998E-2,16.026499999999999,0.84139124999999992,null,null,40]
[null,null,null,null,null,"","",null,null,40]
["SF-00203",{"$f":"INDEX(Orçamentária!A:B,MATCH(Composições!A1180,Orçamentária!A:A,0),2)","v":"Torneira de mesa para lavatório – Linha Acessibilidade"},null,{"$f":"TRIM(INDEX(Orçamentária!C:C,MATCH(Composições!A1180,Orçamentária!A:A,0),1))","v":"un"},null,"","",null,null,10]
[null,null,null,null,null,"","",null,null,10]
[null,null,"Torneira de mesa para lavatório, para uso clínico e apoio à pessoa. Ref.: Deca Link 1196.CLNK","un ",1,284.7,284.7,{"$f":"SUM(G1182:G1185)","v":287.29805144999995},null,10]
[null,null,"Fita veda rosca em rolos de 18 mm x 10 m (L x C)","UN",2.1000000000000001E-2,3.1825000000000001,6.6832500000000003E-2,null,null,10]
[null,null,"Encanador ou Bombeiro Hidráulico com Encargos Complementares","h",9.6000000000000002E-2,21.308499999999999,2.0456159999999999,null,null,10]
[null,null,"Servente com Encargos Complementares","h",3.0300000000000001E-2,16.026499999999999,0.48560294999999998,null,null,10]
[null,null,null,null,null,"","",null,null,10]
["SF-00204",{"$f":"INDEX(Orçamentária!A:B,MATCH(Composições!A1187,Orçamentária!A:A,0),2)","v":"Torneira de mesa para lavatório bica alta – Linha Administrativa"},null,{"$f":"TRIM(INDEX(Orçamentária!C:C,MATCH(Composições!A1187,Orçamentária!A:A,0),1))","v":"un"},null,"","",null,null,75]
[null,null,null,null,null,"","",null,null,75]
[null,null,"Torneira de mesa para lavatorio, bica alta, com arejador, cromado. Ref.: Código B5810C2CRB – Linha City – Celite","un ",1,159.88,159.88,{"$f":"SUM(G1189:G1192)","v":162.47805144999998},null,75]
[null,null,"Fita veda rosca em rolos de 18 mm x 10 m (L x C)","UN",2.1000000000000001E-2,3.1825000000000001,6.6832500000000003E-2,null,null,75]
[null,null,"Encanador ou Bombeiro Hidráulico com Encargos Complementares","h",9.6000000000000002E-2,21.308499999999999,2.0456159999999999,null,null,75]
[null,null,"Servente com Encargos Complementares","h",3.0300000000000001E-2,16.026499999999999,0.48560294999999998,null,null,75]
[null,null,null,null,null,"","",null,null,75]
["SF-00205",{"$f":"INDEX(Orçamentária!A:B,MATCH(Composições!A1194,Orçamentária!A:A,0),2)","v":"Torneira de mesa para lavatório bica baixa – Linha Administrativa"},null,{"$f":"TRIM(INDEX(Orçamentária!C:C,MATCH(Composições!A1194,Orçamentária!A:A,0),1))","v":"un"},null,"","",null,null,75]
[null,null,null,null,null,"","",null,null,75]
[null,null,"Torneira de mesa para lavatorio bica baixa. Ref.: Código B5811C2CRB – Linha City – Celite","un ",1,134.85,134.85,{"$f":"SUM(G1196:G1199)","v":137.44805144999998},null,75]
[null,null,"Fita veda rosca em rolos de 18 mm x 10 m (L x C)","UN",2.1000000000000001E-2,3.1825000000000001,6.6832500000000003E-2,null,null,75]
[null,null,"Encanador ou Bombeiro Hidráulico com Encargos Complementares","h",9.6000000000000002E-2,21.308499999999999,2.0456159999999999,null,null,75]
[null,null,"Servente com Encargos Complementares","h",3.0300000000000001E-2,16.026499999999999,0.48560294999999998,null,null,75]
[null,null,null,null,null,"","",null,null,75]
["SF-00206",{"$f":"INDEX(Orçamentária!A:B,MATCH(Composições!A1201,Orçamentária!A:A,0),2)","v":"Torneira de mesa para lavatório com fechamento automático – Linha Administrativa"},null,{"$f":"TRIM(INDEX(Orçamentária!C:C,MATCH(Composições!A1201,Orçamentária!A:A,0),1))","v":"un"},null,"","",null,null,60]
[null,null,null,null,null,"","",null,null,60]
[null,null,"TORNEIRA CROMADA DE MESA PARA LAVATORIO TEMPORIZADA PRESSAO BICA BAIXA","UN",1,149.27349999999998,149.27349999999998,{"$f":"SUM(G1203:G1206)","v":151.87155144999997},null,60]
[null,null,"Fita veda rosca em rolos de 18 mm x 10 m (L x C)","UN",2.1000000000000001E-2,3.1825000000000001,6.6832500000000003E-2,null,null,60]
[null,null,"Encanador ou Bombeiro Hidráulico com Encargos Complementares","h",9.6000000000000002E-2,21.308499999999999,2.0456159999999999,null,null,60]
[null,null,"Servente com Encargos Complementares","h",3.0300000000000001E-2,16.026499999999999,0.48560294999999998,null,null,60]
[null,null,null,null,null,"","",null,null,60]
["SF-00207",{"$f":"INDEX(Orçamentária!A:B,MATCH(Composições!A1208,Orçamentária!A:A,0),2)","v":"Torneira de parede para cozinha bica móvel – Linha Administrativa"},null,{"$f":"TRIM(INDEX(Orçamentária!C:C,MATCH(Composições!A1208,Orçamentária!A:A,0),1))","v":"un"},null,"","",null,null,35]
[null,null,null,null,null,"","",null,null,35]
[null,null,"Torneira de parede para cozinha bica móvel com arejador articulado, cromada. Ref.: Código B5815C2CRB – Linha City – Celite","un ",1,208.76,208.76,{"$f":"SUM(G1210:G1213)","v":211.89531445},null,35]
[null,null,"Fita veda rosca em rolos de 18 mm x 10 m (L x C)","UN",2.1000000000000001E-2,3.1825000000000001,6.6832500000000003E-2,null,null,35]
[null,null,"Encanador ou Bombeiro Hidráulico com Encargos Complementares","h",0.1164,21.308499999999999,2.4803093999999999,null,null,35]
[null,null,"Servente com Encargos Complementares","h",3.6700000000000003E-2,16.026499999999999,0.58817255000000002,null,null,35]
[null,null,null,null,null,"","",null,null,35]
["SF-00208",{"$f":"INDEX(Orçamentária!A:B,MATCH(Composições!A1215,Orçamentária!A:A,0),2)","v":"Torneira de parede para tanque – Linha Administrativa"},null,{"$f":"TRIM(INDEX(Orçamentária!C:C,MATCH(Composições!A1215,Orçamentária!A:A,0),1))","v":"un"},null,"","",null,null,25]
[null,null,null,null,null,"","",null,null,25]
[null,null,"Fita veda rosca em rolos de 18 mm x 10 m (L x C)","UN",2.1000000000000001E-2,3.1825000000000001,6.6832500000000003E-2,{"$f":"SUM(G1217:G1220)","v":57.201753399999994},null,25]
[null,null,"Encanador ou Bombeiro Hidráulico com Encargos Complementares","h",0.1525,21.308499999999999,3.2495462499999999,null,null,25]
[null,null,"Servente com Encargos Complementares","h",4.8099999999999997E-2,16.026499999999999,0.77087464999999988,null,null,25]
[null,null,"Torneira cromada com bico para jardim/tanque 1/2 \" ou 3/4 \" (ref 1153)","un",1,53.114499999999992,53.114499999999992,null,null,25]
[null,null,null,null,null,"","",null,null,25]
["SF-00209",{"$f":"INDEX(Orçamentária!A:B,MATCH(Composições!A1222,Orçamentária!A:A,0),2)","v":"Válvula de descarga 1 1/2\" – Linha Acessibilidade"},null,{"$f":"TRIM(INDEX(Orçamentária!C:C,MATCH(Composições!A1222,Orçamentária!A:A,0),1))","v":"un"},null,"","",null,null,10]
[null,null,null,null,null,"","",null,null,10]
[null,null,"Válvula de descarga 1 1/2\" cromada. ref.: modelo 2565.C.112.CONF – linha Hydra Eco Conforto – Deca ","un ",1,434.51,434.51,{"$f":"SUM(G1224:G1227)","v":464.63996249999997},null,10]
[null,null,"Fita veda rosca em rolos de 18 mm x 50 m (L x C)","UN",1.9E-2,11.7325,0.22291749999999999,null,null,10]
[null,null,"Auxiliar de encanador ou bombeiro hidráulico com encargos complementares","h",0.78900000000000003,16.596499999999999,13.0946385,null,null,10]
[null,null,"Encanador ou Bombeiro Hidráulico com Encargos Complementares","h",0.78900000000000003,21.308499999999999,16.812406499999998,null,null,10]
[null,null,null,null,null,"","",null,null,10]
["SF-00210",{"$f":"INDEX(Orçamentária!A:B,MATCH(Composições!A1229,Orçamentária!A:A,0),2)","v":"Válvula de descarga 1 1/2\" – Linha Administrativa"},null,{"$f":"TRIM(INDEX(Orçamentária!C:C,MATCH(Composições!A1229,Orçamentária!A:A,0),1))","v":"un"},null,"","",null,null,65]
[null,null,null,null,null,"","",null,null,65]
[null,null,"Valvula de descarga metalica, base 1 1/2 \" e acabamento metalico cromado","UN",1,178.98949999999999,178.98949999999999,{"$f":"SUM(G1231:G1234)","v":209.1194625},null,65]
[null,null,"Fita veda rosca em rolos de 18 mm x 50 m (L x C)","UN",1.9E-2,11.7325,0.22291749999999999,null,null,65]
[null,null,"Auxiliar de encanador ou bombeiro hidráulico com encargos complementares","h",0.78900000000000003,16.596499999999999,13.0946385,null,null,65]
[null,null,"Encanador ou Bombeiro Hidráulico com Encargos Complementares","h",0.78900000000000003,21.308499999999999,16.812406499999998,null,null,65]
[null,null,null,null,null,"","",null,null,65]
["SF-00211",{"$f":"INDEX(Orçamentária!A:B,MATCH(Composições!A1236,Orçamentária!A:A,0),2)","v":"Válvula de descarga 1 1/4\" – Linha Acessibilidade"},null,{"$f":"TRIM(INDEX(Orçamentária!C:C,MATCH(Composições!A1236,Orçamentária!A:A,0),1))","v":"un"},null,"","",null,null,10]
[null,null,null,null,null,"",{"$f":"IF(ISNUMBER(F1237),E1237*F1237,\"\")","v":""},null,null,10]
[null,null,"Válvula de descarga 1 1/4\" . Ref.: Modelo 2565.C.114.CONF – Linha Hydra Eco Conforto – Deca","un ",1,400.18,400.18,{"$f":"SUM(G1238:G1241)","v":430.30996249999998},null,10]
[null,null,"Fita veda rosca em rolos de 18 mm x 50 m (L x C)","UN",1.9E-2,11.7325,0.22291749999999999,null,null,10]
[null,null,"Auxiliar de encanador ou bombeiro hidráulico com encargos complementares","h",0.78900000000000003,16.596499999999999,13.0946385,null,null,10]
[null,null,"Encanador ou Bombeiro Hidráulico com Encargos Complementares","h",0.78900000000000003,21.308499999999999,16.812406499999998,null,null,10]
[null,null,null,null,null,"","",null,null,10]
["SF-00212",{"$f":"INDEX(Orçamentária!A:B,MATCH(Composições!A1243,Orçamentária!A:A,0),2)","v":"Válvula de descarga 1 1/4\" – Linha Administrativa"},null,{"$f":"TRIM(INDEX(Orçamentária!C:C,MATCH(Composições!A1243,Orçamentária!A:A,0),1))","v":"un"},null,"","",null,null,65]
[null,null,null,null,null,"","",null,null,65]
[null,null,"Valvula de descarga metalica, base 1 1/4 \" e acabamento metalico cromado","UN",1,144.99849999999998,144.99849999999998,{"$f":"SUM(G1245:G1248)","v":175.12846249999998},null,65]
[null,null,"Fita veda rosca em rolos de 18 mm x 50 m (L x C)","UN",1.9E-2,11.7325,0.22291749999999999,null,null,65]
[null,null,"Auxiliar de encanador ou bombeiro hidráulico com encargos complementares","h",0.78900000000000003,16.596499999999999,13.0946385,null,null,65]
[null,null,"Encanador ou Bombeiro Hidráulico com Encargos Complementares","h",0.78900000000000003,21.308499999999999,16.812406499999998,null,null,65]
[null,null,null,null,null,"","",null,null,65]
["SF-00213",{"$f":"INDEX(Orçamentária!A:B,MATCH(Composições!A1250,Orçamentária!A:A,0),2)","v":"Válvula de escoamento para lavatório – Linha Administrativa"},null,{"$f":"TRIM(INDEX(Orçamentária!C:C,MATCH(Composições!A1250,Orçamentária!A:A,0),1))","v":"un"},null,"","",null,null,65]
[null,null,null,null,null,"","",null,null,65]
[null,null,"Valvula em metal cromado para lavatorio, 1 \" sem ladrao","UN",1,27.416999999999998,27.416999999999998,{"$f":"SUM(G1252:G1255)","v":32.1556912},null,65]
[null,null,"Fita veda rosca em rolos de 18 mm x 10 m (L x C)","UN",4.8000000000000001E-2,3.1825000000000001,0.15276000000000001,null,null,65]
[null,null,"Encanador ou Bombeiro Hidráulico com Encargos Complementares","h",0.17399999999999999,21.308499999999999,3.7076789999999997,null,null,65]
[null,null,"Servente com Encargos Complementares","h",5.4800000000000001E-2,16.026499999999999,0.87825219999999993,null,null,65]
[null,null,null,null,null,"","",null,null,65]
["SF-00214",{"$f":"INDEX(Orçamentária!A:B,MATCH(Composições!A1257,Orçamentária!A:A,0),2)","v":"Válvula de escoamento para tanque – Linha Administrativa"},null,{"$f":"TRIM(INDEX(Orçamentária!C:C,MATCH(Composições!A1257,Orçamentária!A:A,0),1))","v":"un"},null,"","",null,null,25]
[null,null,null,null,null,"","",null,null,25]
[null,null,"Fita veda rosca em rolos de 18 mm x 10 m (L x C)","UN",3.32E-2,3.1825000000000001,0.105659,{"$f":"SUM(G1259:G1262)","v":23.549694399999996},null,25]
[null,null,"Valvula em metal cromado para tanque, 1.1/2 \" sem ladrao","un",1,20.196999999999999,20.196999999999999,null,null,25]
[null,null,"Encanador ou Bombeiro Hidráulico com Encargos Complementares","h",0.1232,21.308499999999999,2.6252071999999997,null,null,25]
[null,null,"Servente com Encargos Complementares","h",3.8800000000000001E-2,16.026499999999999,0.62182819999999994,null,null,25]
[null,null,null,null,null,"","",null,null,25]
["SF-00215",{"$f":"INDEX(Orçamentária!A:B,MATCH(Composições!A1264,Orçamentária!A:A,0),2)","v":"Válvula descarga para mictório – Linha Administrativa"},null,{"$f":"TRIM(INDEX(Orçamentária!C:C,MATCH(Composições!A1264,Orçamentária!A:A,0),1))","v":"un"},null,"","",null,null,40]
[null,null,null,null,null,"","",null,null,40]
[null,null,"Valvula de descarga em metal cromado para mictorio com acionamento por pressao e fechamento automatico","UN",1,154.071,154.071,{"$f":"SUM(G1266:G1269)","v":184.2009625},null,40]
[null,null,"Fita veda rosca em rolos de 18 mm x 50 m (L x C)","UN",1.9E-2,11.7325,0.22291749999999999,null,null,40]
[null,null,"Auxiliar de encanador ou bombeiro hidráulico com encargos complementares","h",0.78900000000000003,16.596499999999999,13.0946385,null,null,40]
[null,null,"Encanador ou Bombeiro Hidráulico com Encargos Complementares","h",0.78900000000000003,21.308499999999999,16.812406499999998,null,null,40]
[null,null,null,null,null,"","",null,null,40]
["SF-00216",{"$f":"INDEX(Orçamentária!A:B,MATCH(Composições!A1271,Orçamentária!A:A,0),2)","v":"Alarme de emergência para sanitários PNE"},null,{"$f":"TRIM(INDEX(Orçamentária!C:C,MATCH(Composições!A1271,Orçamentária!A:A,0),1))","v":"un"},null,"","",null,null,15]
[null,null,null,null,null,"","",null,null,15]
[null,null,"Eletricista com encargos complementares","h",0.28999999999999998,21.916499999999999,6.3557849999999991,{"$f":"SUM(G1273:G1275)","v":328.29825499999998},null,15]
[null,null,"Auxiliar de eletricista com encargos complementares","h",0.28999999999999998,17.042999999999999,4.9424699999999993,null,null,15]
[null,null,"Alarme de emergência audiovisual intermitente com fio. Ref. Planeta Acessível Alarme PCD ou AbaFire AFSAVPNE + AbaFire AFAMPNE ","un ",1,317,317,null,null,15]
[null,null,null,null,null,"","",null,null,15]
["SF-00217",{"$f":"INDEX(Orçamentária!A:B,MATCH(Composições!A1277,Orçamentária!A:A,0),2)","v":"Barra de apoio 40cm – Linha Acessibilidade"},null,{"$f":"TRIM(INDEX(Orçamentária!C:C,MATCH(Composições!A1277,Orçamentária!A:A,0),1))","v":"un"},null,"","",null,null,25]
[null,null,null,null,null,"","",null,null,25]
[null,null,"Barra de apoio com comprimento de 405mm e espaçamento de 66mm da parede, barra com bitola de 32m, em aço escovado","un ",1,45.1,45.1,{"$f":"SUM(G1279:G1282)","v":85.750500000000002},null,25]
[null,null,"Bucha de nylon, diametro do furo 8 mm, comprimento 40 mm, com parafuso de rosca soberba, cabeca chata, fenda simples, 4,8 x 50 mm","UN",6,0.48449999999999999,2.907,null,null,25]
[null,null,"Pedreiro com Encargos Complementares","h",1,21.716999999999999,21.716999999999999,null,null,25]
[null,null,"Servente com Encargos Complementares","h",1,16.026499999999999,16.026499999999999,null,null,25]
[null,null,null,null,null,"","",null,null,25]
["SF-00218",{"$f":"INDEX(Orçamentária!A:B,MATCH(Composições!A1284,Orçamentária!A:A,0),2)","v":"Barra de apoio 70cm – Linha Acessibilidade"},null,{"$f":"TRIM(INDEX(Orçamentária!C:C,MATCH(Composições!A1284,Orçamentária!A:A,0),1))","v":"un"},null,"","",null,null,20]
[null,null,null,null,null,"","",null,null,20]
[null,null,"Barra de apoio com comprimento de 705mm e espaçamento de 66mm da parede, barra com bitola de 32mm em aço escovado","un ",1,57.84,57.84,{"$f":"SUM(G1286:G1289)","v":98.490499999999997},null,20]
[null,null,"Bucha de nylon, diametro do furo 8 mm, comprimento 40 mm, com parafuso de rosca soberba, cabeca chata, fenda simples, 4,8 x 50 mm","UN",6,0.48449999999999999,2.907,null,null,20]
[null,null,"Pedreiro com Encargos Complementares","h",1,21.716999999999999,21.716999999999999,null,null,20]
[null,null,"Servente com Encargos Complementares","h",1,16.026499999999999,16.026499999999999,null,null,20]
[null,null,null,null,null,"","",null,null,20]
["SF-00219",{"$f":"INDEX(Orçamentária!A:B,MATCH(Composições!A1291,Orçamentária!A:A,0),2)","v":"Barra de apoio 80cm – Linha Acessibilidade"},null,{"$f":"TRIM(INDEX(Orçamentária!C:C,MATCH(Composições!A1291,Orçamentária!A:A,0),1))","v":"un"},null,"","",null,null,25]
[null,null,null,null,null,"","",null,null,25]
[null,null,"Barra de apoio linha conforto com comprimento de 805mm e espaçamento de 66mm da parede, barra com bitola de 32mm em aço escovado","un ",1,58,58,{"$f":"SUM(G1293:G1296)","v":98.650499999999994},null,25]
[null,null,"Bucha de nylon, diametro do furo 8 mm, comprimento 40 mm, com parafuso de rosca soberba, cabeca chata, fenda simples, 4,8 x 50 mm","UN",6,0.48449999999999999,2.907,null,null,25]
[null,null,"Pedreiro com Encargos Complementares","h",1,21.716999999999999,21.716999999999999,null,null,25]
[null,null,"Servente com Encargos Complementares","h",1,16.026499999999999,16.026499999999999,null,null,25]
[null,null,null,null,null,"","",null,null,25]
["SF-00220",{"$f":"INDEX(Orçamentária!A:B,MATCH(Composições!A1298,Orçamentária!A:A,0),2)","v":"Barra de apoio lateral fixa 30cm – Linha Acessibilidade"},null,{"$f":"TRIM(INDEX(Orçamentária!C:C,MATCH(Composições!A1298,Orçamentária!A:A,0),1))","v":"un"},null,"","",null,null,25]
[null,null,null,null,null,"","",null,null,25]
[null,null,"Pedreiro com Encargos Complementares","h",1,21.716999999999999,21.716999999999999,{"$f":"SUM(G1300:G1303)","v":116.70049999999999},null,25]
[null,null,"Servente com Encargos Complementares","h",1,16.026499999999999,{"$f":"IF(ISNUMBER(F1301),E1301*F1301,\"\")","v":16.026499999999999},null,null,25]
[null,null,"Barra de apoio lateral fixa, com 303mm de comprimento, com a bitola de 32mm e em aço escovado","un",1,76.05,76.05,null,null,25]
[null,null,"Bucha de nylon, diametro do furo 8 mm, comprimento 40 mm, com parafuso de rosca soberba, cabeca chata, fenda simples, 4,8 x 50 mm","UN",6,0.48449999999999999,2.907,null,null,25]
[null,null,null,null,null,"","",null,null,25]
["SF-00221",{"$f":"INDEX(Orçamentária!A:B,MATCH(Composições!A1305,Orçamentária!A:A,0),2)","v":"Lavatório suspenso – Linha Acessibilidade"},null,{"$f":"TRIM(INDEX(Orçamentária!C:C,MATCH(Composições!A1305,Orçamentária!A:A,0),1))","v":"un"},null,"","",null,null,10]
[null,null,null,null,null,"","",null,null,10]
[null,null,"Lavatório para instalação com coluna suspensa, para apoio à pessoa com deficiência. Ref.: Modelo L.39.17 – Linha Spot – Deca","un ",1,163.86,163.86,{"$f":"SUM(G1307:G1311)","v":202.27653699999999},null,10]
[null,null,"Parafuso niquelado 3 1/2\" com acabamento cromado para fixar peca sanitaria, inclui porca cega, arruela e bucha de nylon tamanho S-8","UN",2,12.805999999999999,25.611999999999998,null,null,10]
[null,null,"Rejunte epoxi, qualquer cor","kg",3.04E-2,50.511499999999998,1.5355496,null,null,10]
[null,null,"Encanador ou Bombeiro Hidráulico com Encargos Complementares","h",0.38700000000000001,21.308499999999999,8.2463894999999994,null,null,10]
[null,null,"Servente com Encargos Complementares","h",0.18859999999999999,16.026499999999999,3.0225978999999996,null,null,10]
[null,null,null,null,null,"","",null,null,10]
["SF-00222",{"$f":"INDEX(Orçamentária!A:B,MATCH(Composições!A1313,Orçamentária!A:A,0),2)","v":"Lavatório suspenso com Coluna – Linha Acessibilidade"},null,{"$f":"TRIM(INDEX(Orçamentária!C:C,MATCH(Composições!A1313,Orçamentária!A:A,0),1))","v":"un"},null,"","",null,null,10]
[null,null,null,null,null,"","",null,null,10]
[null,null,"Encanador ou Bombeiro Hidráulico com Encargos Complementares","h",1.4666999999999999,21.308499999999999,31.253176949999997,{"$f":"SUM(G1315:G1320)","v":435.96794289999997},null,10]
[null,null,"Servente com Encargos Complementares","h",0.65169999999999995,16.026499999999999,10.444470049999998,null,null,10]
[null,null,"Lavatório para instalação com coluna suspensa, para apoio à pessoa com deficiência. Ref.: Modelo L.39.17 – Linha Spot – Deca","un ",1,163.86,163.86,null,null,10]
[null,null,"Parafuso niquelado 3 1/2\" com acabamento cromado para fixar peca sanitaria, inclui porca cega, arruela e bucha de nylon tamanho S-8","UN",6,12.805999999999999,76.835999999999999,null,null,10]
[null,null,"Rejunte epoxi, qualquer cor","kg",8.6599999999999996E-2,50.511499999999998,4.3742958999999999,null,null,10]
[null,null,"Coluna suspensa para lavatório para apoio à pessoa com deficiência. Ref..: Deca Spot CS.39.17","un",1,149.19999999999999,149.19999999999999,null,null,10]
[null,null,null,null,null,"","",null,null,10]
["SF-00223",{"$f":"INDEX(Orçamentária!A:B,MATCH(Composições!A1322,Orçamentária!A:A,0),2)","v":"Cabide – Linha Administrativa"},null,{"$f":"TRIM(INDEX(Orçamentária!C:C,MATCH(Composições!A1322,Orçamentária!A:A,0),1))","v":"un"},null,"","",null,null,120]
[null,null,null,null,null,"","",null,null,120]
[null,null,"Cabide, cromado. Ref.: Modelo 2060.C.FLX – Linha Flex – Deca","un ",1,61.02,61.02,{"$f":"SUM(G1324:G1325)","v":64.850848400000004},null,120]
[null,null,"Fixação utilizando parafuso e bucha de nylon, somente mão de obra. af_10/2016","UN",1,3.8308484000000003,3.8308484000000003,null,null,120]
[null,null,null,null,null,"","",null,null,120]
["SF-00224",{"$f":"INDEX(Orçamentária!A:B,MATCH(Composições!A1327,Orçamentária!A:A,0),2)","v":"Papeleira – Linha Administrativa"},null,{"$f":"TRIM(INDEX(Orçamentária!C:C,MATCH(Composições!A1327,Orçamentária!A:A,0),1))","v":"un"},null,"","",null,null,120]
[null,null,null,null,null,"","",null,null,120]
[null,null,"Papeleira, cromada. Ref.: Modelo 2020.C.FLX – Linha Flex – Deca","un ",1,112.42,112.42,{"$f":"SUM(G1329:G1331)","v":120.7539871},null,120]
[null,null,"Encanador ou Bombeiro Hidráulico com Encargos Complementares","h",0.31619999999999998,21.308499999999999,6.737747699999999,null,null,120]
[null,null,"Servente com Encargos Complementares","h",9.9599999999999994E-2,16.026499999999999,1.5962393999999998,null,null,120]
[null,null,null,null,null,"","",null,null,120]
["SF-00225",{"$f":"INDEX(Orçamentária!A:B,MATCH(Composições!A1333,Orçamentária!A:A,0),2)","v":"Porta toalha argola – Linha Administrativa"},null,{"$f":"TRIM(INDEX(Orçamentária!C:C,MATCH(Composições!A1333,Orçamentária!A:A,0),1))","v":"un"},null,"","",null,null,120]
[null,null,null,null,null,"","",null,null,120]
[null,null,"Porta-toalha em argola, cromado. Ref.: Modelo 2050.C.FLX – Linha Flex – Deca","un ",1,103.51,103.51,{"$f":"SUM(G1335:G1337)","v":111.84398710000001},null,120]
[null,null,"Encanador ou Bombeiro Hidráulico com Encargos Complementares","h",0.31619999999999998,21.308499999999999,6.737747699999999,null,null,120]
[null,null,"Servente com Encargos Complementares","h",9.9599999999999994E-2,16.026499999999999,1.5962393999999998,null,null,120]
[null,null,null,null,null,"","",null,null,120]
["SF-00226",{"$f":"INDEX(Orçamentária!A:B,MATCH(Composições!A1339,Orçamentária!A:A,0),2)","v":"Porta toalha barra – Linha Administrativa"},null,{"$f":"TRIM(INDEX(Orçamentária!C:C,MATCH(Composições!A1339,Orçamentária!A:A,0),1))","v":"un"},null,"","",null,null,100]
[null,null,null,null,null,"","",null,null,100]
[null,null,"Porta-toalha em barra, cromado. Ref.: Modelo 2040.C.FLX – Linha Flex – Deca","un ",1,136.24,136.24,{"$f":"SUM(G1341:G1343)","v":152.90584335},null,100]
[null,null,"Encanador ou Bombeiro Hidráulico com Encargos Complementares","h",0.63229999999999997,21.308499999999999,13.473364549999999,null,null,100]
[null,null,"Servente com Encargos Complementares","h",0.19919999999999999,16.026499999999999,3.1924787999999995,null,null,100]
[null,null,null,null,null,"","",null,null,100]
["SF-00227",{"$f":"INDEX(Orçamentária!A:B,MATCH(Composições!A1345,Orçamentária!A:A,0),2)","v":"Caixa 4x2 de embutir para alvenaria"},null,{"$f":"TRIM(INDEX(Orçamentária!C:C,MATCH(Composições!A1345,Orçamentária!A:A,0),1))","v":"un"},null,"","",null,null,1500]
[null,null,null,null,null,"","",null,null,1500]
[null,null,"Auxiliar de eletricista com encargos complementares","h",0.14499999999999999,17.042999999999999,2.4712349999999996,{"$f":"SUM(G1347:G1350)","v":7.6208541655295488},null,1500]
[null,null,"Eletricista com encargos complementares","h",0.14499999999999999,21.916499999999999,3.1778924999999996,null,null,1500]
[null,null,"ARGAMASSA TRAÇO 1:3 (EM VOLUME DE CIMENTO E AREIA MÉDIA ÚMIDA), PREPARO MANUAL. AF_08/2019","m3",8.9999999999999998E-4,491.36296169949998,0.44222666552954998,null,null,1500]
[null,null,"Caixa de passagem, em PVC, de 4\" x 2\", para eletroduto flexivel corrugado","un",1,1.5295000000000001,1.5295000000000001,null,null,1500]
[null,null,null,null,null,"","",null,null,1500]
["SF-00228",{"$f":"INDEX(Orçamentária!A:B,MATCH(Composições!A1352,Orçamentária!A:A,0),2)","v":"Caixa 4x2 para drywall"},null,{"$f":"TRIM(INDEX(Orçamentária!C:C,MATCH(Composições!A1352,Orçamentária!A:A,0),1))","v":"un"},null,"","",null,null,400]
[null,null,null,null,null,"","",null,null,400]
[null,null,"Auxiliar de eletricista com encargos complementares","h",0.14499999999999999,17.042999999999999,2.4712349999999996,{"$f":"SUM(G1354:G1356)","v":11.039127499999999},null,400]
[null,null,"Eletricista com encargos complementares","h",0.14499999999999999,21.916499999999999,3.1778924999999996,null,null,400]
[null,null,"Caixa 4x2 para drywall","un",1,5.39,5.39,null,null,400]
[null,null,null,null,null,"","",null,null,400]
["SF-00229",{"$f":"INDEX(Orçamentária!A:B,MATCH(Composições!A1358,Orçamentária!A:A,0),2)","v":"Caixa 4x4 de embutir para alvenaria"},null,{"$f":"TRIM(INDEX(Orçamentária!C:C,MATCH(Composições!A1358,Orçamentária!A:A,0),1))","v":"un"},null,"","",null,null,400]
[null,null,null,null,null,"","",null,null,400]
[null,null,"Auxiliar de eletricista com encargos complementares","h",0.16600000000000001,17.042999999999999,2.8291379999999999,{"$f":"SUM(G1360:G1363)","v":10.0874125540394},null,400]
[null,null,"Eletricista com encargos complementares","h",0.16600000000000001,21.916499999999999,3.6381390000000002,null,null,400]
[null,null,"ARGAMASSA TRAÇO 1:3 (EM VOLUME DE CIMENTO E AREIA MÉDIA ÚMIDA), PREPARO MANUAL. AF_08/2019","m3",1.1999999999999999E-3,491.36296169949998,0.58963555403939993,null,null,400]
[null,null,"Caixa de passagem, em PVC, de 4\" x 4\", para eletroduto flexivel corrugado","un",1,3.0305,3.0305,null,null,400]
[null,null,null,null,null,"","",null,null,400]
["SF-00230",{"$f":"INDEX(Orçamentária!A:B,MATCH(Composições!A1365,Orçamentária!A:A,0),2)","v":"Caixa 4x4 para drywall"},null,{"$f":"TRIM(INDEX(Orçamentária!C:C,MATCH(Composições!A1365,Orçamentária!A:A,0),1))","v":"un"},null,"",{"$f":"IF(ISNUMBER(F1365),E1365*F1365,\"\")","v":""},null,null,100]
[null,null,null,null,null,"","",null,null,100]
[null,null,"Auxiliar de eletricista com encargos complementares","h",0.16600000000000001,17.042999999999999,2.8291379999999999,{"$f":"SUM(G1367:G1369)","v":16.607277},null,100]
[null,null,"Eletricista com encargos complementares","h",0.16600000000000001,21.916499999999999,3.6381390000000002,null,null,100]
[null,null,"Caixa 4x4 para drywall","un",1,10.14,10.14,null,null,100]
[null,null,null,null,null,"","",null,null,100]
["SF-00231",{"$f":"INDEX(Orçamentária!A:B,MATCH(Composições!A1371,Orçamentária!A:A,0),2)","v":"Caixa de passagem em alumínio 100x100x50mm"},null,{"$f":"TRIM(INDEX(Orçamentária!C:C,MATCH(Composições!A1371,Orçamentária!A:A,0),1))","v":"un"},null,"","",null,null,1500]
[null,null,null,null,null,"","",null,null,1500]
[null,null,"Auxiliar de eletricista com encargos complementares","h",0.34599999999999997,17.042999999999999,5.8968779999999992,{"$f":"SUM(G1373:G1375)","v":37.999986999999997},null,1500]
[null,null,"Eletricista com encargos complementares","h",0.34599999999999997,21.916499999999999,7.5831089999999994,null,null,1500]
[null,null,"Caixa de passagem em alumínio c/ tampa, 100x100x50mm","m",1,24.52,24.52,null,null,1500]
[null,null,null,null,null,"","",null,null,1500]
["SF-00232",{"$f":"INDEX(Orçamentária!A:B,MATCH(Composições!A1377,Orçamentária!A:A,0),2)","v":"Caixa de passagem em alumínio 200x200x100mm"},null,{"$f":"TRIM(INDEX(Orçamentária!C:C,MATCH(Composições!A1377,Orçamentária!A:A,0),1))","v":"un"},null,"","",null,null,200]
[null,null,null,null,null,"","",null,null,200]
[null,null,"Auxiliar de eletricista com encargos complementares","h",0.34599999999999997,17.042999999999999,5.8968779999999992,{"$f":"SUM(G1379:G1381)","v":78.759986999999995},null,200]
[null,null,"Eletricista com encargos complementares","h",0.34599999999999997,21.916499999999999,7.5831089999999994,null,null,200]
[null,null,"Caixa de passagem em alumínio c/ tampa, 200x200x100mm","m",1,65.28,65.28,null,null,200]
[null,null,null,null,null,"","",null,null,200]
["SF-00233",{"$f":"INDEX(Orçamentária!A:B,MATCH(Composições!A1383,Orçamentária!A:A,0),2)","v":"Caixa de passagem em PVC 150x150x75mm"},null,{"$f":"TRIM(INDEX(Orçamentária!C:C,MATCH(Composições!A1383,Orçamentária!A:A,0),1))","v":"un"},null,"","",null,null,1900]
[null,null,null,null,null,"","",null,null,1900]
[null,null,"Eletricista com encargos complementares","h",0.34599999999999997,21.916499999999999,7.5831089999999994,{"$f":"SUM(G1385:G1387)","v":45.057777999999999},null,1900]
[null,null,"Servente com Encargos Complementares","h",0.34599999999999997,16.026499999999999,5.5451689999999987,null,null,1900]
[null,null,"CAIXA DE PASSAGEM ELETRICA DE PAREDE, DE EMBUTIR, EM PVC, COM TAMPA APARAFUSADA, DIMENSOES 150 X 150 X *75* MM","un",1,31.929499999999997,31.929499999999997,null,null,1900]
[null,null,null,null,null,"","",null,null,1900]
["SF-00234",{"$f":"INDEX(Orçamentária!A:B,MATCH(Composições!A1389,Orçamentária!A:A,0),2)","v":"Caixa para piso elevado"},null,{"$f":"TRIM(INDEX(Orçamentária!C:C,MATCH(Composições!A1389,Orçamentária!A:A,0),1))","v":"un"},null,"","",null,null,200]
[null,null,null,null,null,"","",null,null,200]
[null,null,"Eletricista com encargos complementares","h",0.34599999999999997,21.916499999999999,7.5831089999999994,{"$f":"SUM(G1391:G1393)","v":303.469987},null,200]
[null,null,"Auxiliar de eletricista com encargos complementares","h",0.34599999999999997,17.042999999999999,5.8968779999999992,null,null,200]
[null,null,"Caixa para piso elevado, 170 mm x 170 mm x 70 mm (dimensões aproximadas), incluindo módulos de tomadas 2P+T (fêmea).","un",1,289.99,289.99,null,null,200]
[null,null,null,null,null,"","",null,null,200]
["SF-00235",{"$f":"INDEX(Orçamentária!A:B,MATCH(Composições!A1395,Orçamentária!A:A,0),2)","v":"Canaleta em alumínio aparente 73mmx25mm"},null,{"$f":"TRIM(INDEX(Orçamentária!C:C,MATCH(Composições!A1395,Orçamentária!A:A,0),1))","v":"m"},null,"","",null,null,800]
[null,null,null,null,null,"","",null,null,800]
[null,null,"Canaleta em alumínio com tampa, divisória interna, 73x25mm, incluindo curvas, conexões e acessórios de fixação","m",1.1499999999999999,73.709999999999994,84.766499999999979,{"$f":"SUM(G1397:G1399)","v":91.779209999999978},null,800]
[null,null,"Auxiliar de eletricista com encargos complementares","h",0.18,17.042999999999999,3.0677399999999997,null,null,800]
[null,null,"Eletricista com encargos complementares","h",0.18,21.916499999999999,3.9449699999999996,null,null,800]
[null,null,null,null,null,"","",null,null,800]
["SF-00236",{"$f":"INDEX(Orçamentária!A:B,MATCH(Composições!A1401,Orçamentária!A:A,0),2)","v":"Condulete de alumínio de 1’’"},null,{"$f":"TRIM(INDEX(Orçamentária!C:C,MATCH(Composições!A1401,Orçamentária!A:A,0),1))","v":"un"},null,"","",null,null,1500]
[null,null,null,null,null,"","",null,null,1500]
[null,null,"Auxiliar de eletricista com encargos complementares","h",0.53849999999999998,17.042999999999999,9.1776554999999984,{"$f":"SUM(G1403:G1406)","v":33.367690749999994},null,1500]
[null,null,"Eletricista com encargos complementares","h",0.53849999999999998,21.916499999999999,11.802035249999999,null,null,1500]
[null,null,"Bucha de nylon sem aba S6, com parafuso de 4,20 x 40 mm em aco zincado com rosca soberba, cabeca chata e fenda Phillips","un",2,0.29449999999999998,0.58899999999999997,null,null,1500]
[null,null,"Condulete de aluminio tipo X, para eletroduto roscavel de 1\", com tampa cega","un",1,11.798999999999999,11.798999999999999,null,null,1500]
[null,null,null,null,null,"","",null,null,1500]
["SF-00237",{"$f":"INDEX(Orçamentária!A:B,MATCH(Composições!A1408,Orçamentária!A:A,0),2)","v":"Eletrocalha 100x50 mm"},null,{"$f":"TRIM(INDEX(Orçamentária!C:C,MATCH(Composições!A1408,Orçamentária!A:A,0),1))","v":"m"},null,"","",null,null,1300]
[null,null,null,null,null,"","",null,null,1300]
[null,null,"Eletricista com encargos complementares","h",0.45,21.916499999999999,9.862425,{"$f":"SUM(G1410:G1421)","v":48.698268100000007},null,1300]
[null,null,"Auxiliar de eletricista com encargos complementares","h",0.45,17.042999999999999,7.6693499999999997,null,null,1300]
[null,null,"Tiro com pistola para fixação de pino Ø 1/4\" em concreto, inclusive cartucho e pino","un ",0.67,7.6189999999999989,5.10473,null,null,1300]
[null,null,"Eletrocalha perfurada (cabos elétricos) ou lisa (dados), tipo \"U\", de aço galvanizado eletrolítico 100 x 50 mm, fabricado em chapa #20 (0,95 mm)","m",1.05,12.24,12.852,null,null,1300]
[null,null,"Barra roscada em aço Ø 1/4\", comprimento 1 m, bicromatizada ou zincada","m",0.8,3.496,2.7968000000000002,null,null,1300]
[null,null,"PORCA ZINCADA, SEXTAVADA, DIAMETRO 1/4\"","UN",4.0033000000000003,0.22799999999999998,0.91275240000000002,null,null,1300]
[null,null,"Arruela em aço galvanizado Ø 1/4\"","un ",4.0033000000000003,3.7999999999999999E-2,0.15212539999999999,null,null,1300]
[null,null,"Suporte suspensão vertical para eletrocalha 100 x 50 mm largura x aba","un ",0.67,3.3344999999999998,2.2341150000000001,null,null,1300]
[null,null,"Prolongador para tirante rosqueado de 1/4\" x 50 mm","un ",1.05,1.1019999999999999,1.1571,null,null,1300]
[null,null,"Parafuso lentilha 1/4 x 1/2\"","un",2.67,0.19949999999999998,0.53266499999999994,null,null,1300]
[null,null,"Tala auto portante para emenda 50 mm","un ",0.66669999999999996,1.159,0.77270529999999993,null,null,1300]
[null,null,"Tampa de encaixe para eletrocalha aço galvanizado perfurada ou lisa, 100 mm","m",1.05,4.43,4.6514999999999995,null,null,1300]
[null,null,null,null,null,"","",null,null,1300]
["SF-00238",{"$f":"INDEX(Orçamentária!A:B,MATCH(Composições!A1423,Orçamentária!A:A,0),2)","v":"Eletrocalha 200x100 mm"},null,{"$f":"TRIM(INDEX(Orçamentária!C:C,MATCH(Composições!A1423,Orçamentária!A:A,0),1))","v":"m"},null,"","",null,null,1300]
[null,null,null,null,null,"","",null,null,1300]
[null,null,"Eletricista com encargos complementares","h",0.6,21.916499999999999,13.149899999999999,{"$f":"SUM(G1425:G1436)","v":87.155506900000006},null,1300]
[null,null,"Auxiliar de eletricista com encargos complementares","h",0.6,17.042999999999999,10.2258,null,null,1300]
[null,null,"Tiro com pistola para fixação de pino Ø 1/4\" em concreto, inclusive cartucho e pino","un ",1.3332999999999999,7.6189999999999989,10.158412699999998,null,null,1300]
[null,null,"Eletrocalha perfurada (cabos elétricos) ou lisa (dados), tipo \"U\", de aço galvanizado eletrolítico 200 x 100 mm, fabricado em chapa #18 (1,25 mm)","m",1.05,29.23,30.691500000000001,null,null,1300]
[null,null,"Barra roscada em aço Ø 1/4\", comprimento 1 m, bicromatizada ou zincada","m",1.6,3.496,{"$f":"IF(ISNUMBER(F1429),E1429*F1429,\"\")","v":5.5936000000000003},null,null,1300]
[null,null,"PORCA ZINCADA, SEXTAVADA, DIAMETRO 1/4\"","UN",5.3367000000000004,0.22799999999999998,1.2167676000000001,null,null,1300]
[null,null,"Arruela em aço galvanizado Ø 1/4\"","un ",5.34,3.7999999999999999E-2,0.20291999999999999,null,null,1300]
[null,null,"Suporte suspensão omega para eletrocalha 200 x 100mm largura x aba","un ",0.67,6.2224999999999993,4.1690749999999994,null,null,1300]
[null,null,"Prolongador para tirante rosqueado de 1/4\" x 50 mm","un ",1.3332999999999999,1.1019999999999999,1.4692965999999998,null,null,1300]
[null,null,"Parafuso lentilha 1/4 x 1/2\"","un",2.67,0.19949999999999998,0.53266499999999994,null,null,1300]
[null,null,"Tala auto portante para emenda 100 mm","un ",0.67,2.0710000000000002,1.3875700000000002,null,null,1300]
[null,null,"Tampa de encaixe para eletrocalha aço galvanizado perfurada ou lisa, 200 mm","m",1.05,7.96,8.3580000000000005,null,null,1300]
[null,null,null,null,null,"","",null,null,1300]
["SF-00239",{"$f":"INDEX(Orçamentária!A:B,MATCH(Composições!A1438,Orçamentária!A:A,0),2)","v":"Eletrocalha 200x50 mm"},null,{"$f":"TRIM(INDEX(Orçamentária!C:C,MATCH(Composições!A1438,Orçamentária!A:A,0),1))","v":"m"},null,"","",null,null,1300]
[null,null,null,null,null,"","",null,null,1300]
[null,null,"Eletricista com encargos complementares","h",0.5,21.916499999999999,10.95825,{"$f":"SUM(G1440:G1451)","v":74.205081899999982},null,1300]
[null,null,"Auxiliar de eletricista com encargos complementares","h",0.5,17.042999999999999,8.5214999999999996,null,null,1300]
[null,null,"Tiro com pistola para fixação de pino Ø 1/4\" em concreto, inclusive cartucho e pino","un ",1.3332999999999999,7.6189999999999989,10.158412699999998,null,null,1300]
[null,null,"Eletrocalha perfurada (cabos elétricos) ou lisa (dados), tipo \"U\", de aço galvanizado eletrolítico 200 x 50 mm, fabricado em chapa #18 (1,25 mm)","m",1.05,21.91,23.005500000000001,null,null,1300]
[null,null,"Barra roscada em aço Ø 1/4\", comprimento 1 m, bicromatizada ou zincada","m",1.6,3.496,5.5936000000000003,null,null,1300]
[null,null,"PORCA ZINCADA, SEXTAVADA, DIAMETRO 1/4\"","UN",5.3367000000000004,0.22799999999999998,1.2167676000000001,null,null,1300]
[null,null,"Arruela em aço galvanizado Ø 1/4\"","un ",5.34,3.7999999999999999E-2,0.20291999999999999,null,null,1300]
[null,null,"Suporte suspensão omega para eletrocalha 200 x 50 mm largura x aba","un ",0.67,5.0919999999999996,3.4116399999999998,null,null,1300]
[null,null,"Prolongador para tirante rosqueado de 1/4\" x 50 mm","un ",1.3332999999999999,1.1019999999999999,1.4692965999999998,null,null,1300]
[null,null,"Parafuso lentilha 1/4 x 1/2\"","un",2.67,0.19949999999999998,0.53266499999999994,null,null,1300]
[null,null,"Tala auto portante para emenda 50 mm","un ",0.67,1.159,0.77653000000000005,null,null,1300]
[null,null,"Tampa de encaixe para eletrocalha aço galvanizado perfurada ou lisa, 200 mm","m",1.05,7.96,8.3580000000000005,null,null,1300]
[null,null,null,null,null,"","",null,null,1300]
["SF-00240",{"$f":"INDEX(Orçamentária!A:B,MATCH(Composições!A1453,Orçamentária!A:A,0),2)","v":"Eletrocalha 300x100 mm"},null,{"$f":"TRIM(INDEX(Orçamentária!C:C,MATCH(Composições!A1453,Orçamentária!A:A,0),1))","v":"m"},null,"","",null,null,1300]
[null,null,null,null,null,"","",null,null,1300]
[null,null,"Eletricista com encargos complementares","h",0.65,21.916499999999999,14.245725,{"$f":"SUM(G1455:G1466)","v":102.48632189999999},null,1300]
[null,null,"Auxiliar de eletricista com encargos complementares","h",0.65,17.042999999999999,11.07795,null,null,1300]
[null,null,"Tiro com pistola para fixação de pino Ø 1/4\" em concreto, inclusive cartucho e pino","un ",1.3332999999999999,7.6189999999999989,10.158412699999998,null,null,1300]
[null,null,"Eletrocalha perfurada (cabos elétricos) ou lisa (dados), tipo \"U\", de aço galvanizado eletrolítico 300 x 100 mm, fabricado em chapa #18 (1,25 mm)","m",1.05,36.53,38.356500000000004,null,null,1300]
[null,null,"Barra roscada em aço Ø 1/4\", comprimento 1 m, bicromatizada ou zincada","m",1.6,3.496,5.5936000000000003,null,null,1300]
[null,null,"PORCA ZINCADA, SEXTAVADA, DIAMETRO 1/4\"","UN",5.3367000000000004,0.22799999999999998,1.2167676000000001,null,null,1300]
[null,null,"Arruela em aço galvanizado Ø 1/4\"","un ",5.34,3.7999999999999999E-2,0.20291999999999999,null,null,1300]
[null,null,"Suporte suspensão omega para eletrocalha 300 x 100 mm largura x aba","un ",0.67,9.2245000000000008,6.1804150000000009,null,null,1300]
[null,null,"Prolongador para tirante rosqueado de 1/4\" x 50 mm","un ",1.3332999999999999,1.1019999999999999,1.4692965999999998,null,null,1300]
[null,null,"Parafuso lentilha 1/4 x 1/2\"","un",2.67,0.19949999999999998,0.53266499999999994,null,null,1300]
[null,null,"Tala auto portante para emenda 100 mm","un ",0.67,2.0710000000000002,1.3875700000000002,null,null,1300]
[null,null,"Tampa de encaixe para eletrocalha aço galvanizado perfurada ou lisa, 300 mm","m",1.05,11.49,12.064500000000001,null,null,1300]
[null,null,null,null,null,"","",null,null,1300]
["SF-00241",{"$f":"INDEX(Orçamentária!A:B,MATCH(Composições!A1468,Orçamentária!A:A,0),2)","v":"Eletrocalha 300x50 mm"},null,{"$f":"TRIM(INDEX(Orçamentária!C:C,MATCH(Composições!A1468,Orçamentária!A:A,0),1))","v":"m"},null,"","",null,null,1300]
[null,null,null,null,null,"","",null,null,1300]
[null,null,"Eletricista com encargos complementares","h",0.55000000000000004,21.916499999999999,12.054075000000001,{"$f":"SUM(G1470:G1481)","v":88.107906899999975},null,1300]
[null,null,"Auxiliar de eletricista com encargos complementares","h",0.55000000000000004,17.042999999999999,9.3736499999999996,null,null,1300]
[null,null,"Tiro com pistola para fixação de pino Ø 1/4\" em concreto, inclusive cartucho e pino","un ",1.3332999999999999,7.6189999999999989,10.158412699999998,null,null,1300]
[null,null,"Eletrocalha perfurada (cabos elétricos) ou lisa (dados), tipo \"U\", de aço galvanizado eletrolítico 300 x 050 mm, fabricado em chapa #18 (1,25 mm)","m",1.05,29.22,30.681000000000001,null,null,1300]
[null,null,"Barra roscada em aço Ø 1/4\", comprimento 1 m, bicromatizada ou zincada","m",1.6,3.496,5.5936000000000003,null,null,1300]
[null,null,"PORCA ZINCADA, SEXTAVADA, DIAMETRO 1/4\"","UN",5.3367000000000004,0.22799999999999998,1.2167676000000001,null,null,1300]
[null,null,"Arruela em aço galvanizado Ø 1/4\"","un ",5.34,3.7999999999999999E-2,0.20291999999999999,null,null,1300]
[null,null,"Suporte suspensão omega para eletrocalha 300 x 50 mm largura x aba","un ",0.67,5.9469999999999992,3.9844899999999996,null,null,1300]
[null,null,"Prolongador para tirante rosqueado de 1/4\" x 50 mm","un ",1.3332999999999999,1.1019999999999999,1.4692965999999998,null,null,1300]
[null,null,"Parafuso lentilha 1/4 x 1/2\"","un",2.67,0.19949999999999998,0.53266499999999994,null,null,1300]
[null,null,"Tala auto portante para emenda 50 mm","un ",0.67,1.159,0.77653000000000005,null,null,1300]
[null,null,"Tampa de encaixe para eletrocalha aço galvanizado perfurada ou lisa, 300 mm","m",1.05,11.49,12.064500000000001,null,null,1300]
[null,null,null,null,null,"","",null,null,1300]
["SF-00242",{"$f":"INDEX(Orçamentária!A:B,MATCH(Composições!A1483,Orçamentária!A:A,0),2)","v":"Eletrocalha 400x50 mm"},null,{"$f":"TRIM(INDEX(Orçamentária!C:C,MATCH(Composições!A1483,Orçamentária!A:A,0),1))","v":"m"},null,"","",null,null,1300]
[null,null,null,null,null,"","",null,null,1300]
[null,null,"Eletricista com encargos complementares","h",0.55000000000000004,21.916499999999999,12.054075000000001,{"$f":"SUM(G1485:G1496)","v":117.46738690000001},null,1300]
[null,null,"Auxiliar de eletricista com encargos complementares","h",0.55000000000000004,17.042999999999999,9.3736499999999996,null,null,1300]
[null,null,"Tiro com pistola para fixação de pino Ø 1/4\" em concreto, inclusive cartucho e pino","un ",1.3332999999999999,7.6189999999999989,10.158412699999998,null,null,1300]
[null,null,"Eletrocalha perfurada (cabos elétricos) ou lisa (dados), tipo \"U\", de aço galvanizado eletrolítico 400 x 050 mm, fabricado em chapa #16 (1,55 mm)","m",1.05,51,53.550000000000004,null,null,1300]
[null,null,"Barra roscada em aço Ø 1/4\", comprimento 1 m, bicromatizada ou zincada","m",1.6,3.496,5.5936000000000003,null,null,1300]
[null,null,"PORCA ZINCADA, SEXTAVADA, DIAMETRO 1/4\"","UN",5.3367000000000004,0.22799999999999998,1.2167676000000001,null,null,1300]
[null,null,"Arruela em aço galvanizado Ø 1/4\"","un ",5.34,3.7999999999999999E-2,0.20291999999999999,null,null,1300]
[null,null,"Suporte suspensão omega para eletrocalha 400 x 50 mm largura x aba","un ",0.67,7.391,4.9519700000000002,null,null,1300]
[null,null,"Prolongador para tirante rosqueado de 1/4\" x 50 mm","un ",1.3332999999999999,1.1019999999999999,{"$f":"IF(ISNUMBER(F1493),E1493*F1493,\"\")","v":1.4692965999999998},null,null,1300]
[null,null,"Parafuso lentilha 1/4 x 1/2\"","un",2.67,0.19949999999999998,0.53266499999999994,null,null,1300]
[null,null,"Tala auto portante para emenda 50 mm","un ",0.67,1.159,0.77653000000000005,null,null,1300]
[null,null,"Tampa de encaixe para eletrocalha aço galvanizado perfurada ou lisa, 400 mm","m",1.05,16.75,17.587500000000002,null,null,1300]
[null,null,null,null,null,"","",null,null,1300]
["SF-00243",{"$f":"INDEX(Orçamentária!A:B,MATCH(Composições!A1498,Orçamentária!A:A,0),2)","v":"Eletrocalha 50x50 mm"},null,{"$f":"TRIM(INDEX(Orçamentária!C:C,MATCH(Composições!A1498,Orçamentária!A:A,0),1))","v":"m"},null,"","",null,null,2000]
[null,null,null,null,null,"","",null,null,2000]
[null,null,"Eletricista com encargos complementares","h",0.45,21.916499999999999,9.862425,{"$f":"SUM(G1500:G1511)","v":40.912938100000005},null,2000]
[null,null,"Auxiliar de eletricista com encargos complementares","h",0.45,17.042999999999999,7.6693499999999997,null,null,2000]
[null,null,"Tiro com pistola para fixação de pino Ø 1/4\" em concreto, inclusive cartucho e pino","un ",0.67,7.6189999999999989,5.10473,null,null,2000]
[null,null,"Eletrocalha perfurada (cabos elétricos) ou lisa (dados), tipo \"U\", de aço galvanizado eletrolítico 50 x 50 mm, fabricado em chapa #22 (0,8 mm)","m",1.05,7.02,7.3709999999999996,null,null,2000]
[null,null,"Barra roscada em aço Ø 1/4\", comprimento 1 m, bicromatizada ou zincada","m",0.8,3.496,2.7968000000000002,null,null,2000]
[null,null,"PORCA ZINCADA, SEXTAVADA, DIAMETRO 1/4\"","UN",4.0033000000000003,0.22799999999999998,0.91275240000000002,null,null,2000]
[null,null,"Arruela em aço galvanizado Ø 1/4\"","un ",4.0033000000000003,3.7999999999999999E-2,0.15212539999999999,null,null,2000]
[null,null,"Suporte suspensão vertical para eletrocalha 50 x 50 mm largura x aba","un ",0.67,2.9354999999999998,1.966785,null,null,2000]
[null,null,"Prolongador para tirante rosqueado de 1/4\" x 50 mm","un ",1.05,1.1019999999999999,1.1571,null,null,2000]
[null,null,"Parafuso lentilha 1/4 x 1/2\"","un",2.67,0.19949999999999998,0.53266499999999994,null,null,2000]
[null,null,"Tala auto portante para emenda 50 mm","un ",0.66669999999999996,1.159,0.77270529999999993,null,null,2000]
[null,null,"Tampa de encaixe para eletrocalha aço galvanizado perfurada ou lisa, 50 mm","m",1.05,2.4900000000000002,2.6145000000000005,null,null,2000]
[null,null,null,null,null,"","",null,null,2000]
["SF-00244",{"$f":"INDEX(Orçamentária!A:B,MATCH(Composições!A1513,Orçamentária!A:A,0),2)","v":"Eletroduto de aço galvanizado de 1 1/2\""},null,{"$f":"TRIM(INDEX(Orçamentária!C:C,MATCH(Composições!A1513,Orçamentária!A:A,0),1))","v":"m"},null,"","",null,null,5000]
[null,null,null,null,null,"","",null,null,5000]
[null,null,"Eletroduto de aço com costura galvanização eletrolítica Ø 1 1/2\"","m",1.05,16.245000000000001,17.057250000000003,{"$f":"SUM(G1515:G1519)","v":35.246330577885004},null,5000]
[null,null,"Eletricista com encargos complementares","h",0.28210000000000002,21.916499999999999,6.1826446500000003,null,null,5000]
[null,null,"Auxiliar de eletricista com encargos complementares","h",0.28210000000000002,17.042999999999999,4.8078303,null,null,5000]
[null,null,"Fixação de tubos verticais de PPR diâmetros menores ou iguais a 40 mm com abraçadeira metálica rígida tipo D 1/2\", fixada em perfilado em alvenaria. af_05/2015","m",2,1.1736015,2.3472029999999999,null,null,5000]
[null,null,"Luva de emenda para eletroduto, aço galvanizado, DN 40 mm (1 1/2''), aparente, instalada em parede - fornecimento e instalação. af_11/2016_p","UN",0.33329999999999999,14.555663450000001,4.8514026278850002,null,null,5000]
[null,null,null,null,null,"","",null,null,5000]
["SF-00245",{"$f":"INDEX(Orçamentária!A:B,MATCH(Composições!A1521,Orçamentária!A:A,0),2)","v":"Eletroduto de aço galvanizado de 1 1/4\""},null,{"$f":"TRIM(INDEX(Orçamentária!C:C,MATCH(Composições!A1521,Orçamentária!A:A,0),1))","v":"m"},null,"","",null,null,5000]
[null,null,null,null,null,"","",null,null,5000]
[null,null,"Eletroduto de aço com costura galvanização eletrolítica Ø 1 1/4\"","m",1.05,14.5825,15.311624999999999,{"$f":"SUM(G1523:G1527)","v":31.269057703469997},null,5000]
[null,null,"Eletricista com encargos complementares","h",0.247,21.916499999999999,5.4133754999999999,null,null,5000]
[null,null,"Auxiliar de eletricista com encargos complementares","h",0.247,17.042999999999999,4.2096209999999994,null,null,5000]
[null,null,"Fixação de tubos verticais de PPR diâmetros menores ou iguais a 40 mm com abraçadeira metálica rígida tipo D 1/2\", fixada em perfilado em alvenaria. af_05/2015","m",2,1.1736015,2.3472029999999999,null,null,5000]
[null,null,"Luva de emenda para eletroduto, aço galvanizado, DN 32 mm (1 1/4''), aparente, instalada em parede - fornecimento e instalação. af_11/2016_p","UN",0.33329999999999999,11.962895899999999,3.9872332034699998,null,null,5000]
[null,null,null,null,null,"","",null,null,5000]
["SF-00246",{"$f":"INDEX(Orçamentária!A:B,MATCH(Composições!A1529,Orçamentária!A:A,0),2)","v":"Eletroduto de aço galvanizado de 1\""},null,{"$f":"TRIM(INDEX(Orçamentária!C:C,MATCH(Composições!A1529,Orçamentária!A:A,0),1))","v":"m"},null,"","",null,null,1500]
[null,null,null,null,null,"","",null,null,1500]
[null,null,"Eletroduto de aço com costura galvanização eletrolítica Ø 1\"","m",1.05,8.3125,8.7281250000000004,{"$f":"SUM(G1531:G1535)","v":22.689937834454998},null,1500]
[null,null,"Eletricista com encargos complementares","h",0.21629999999999999,21.916499999999999,4.7405389499999995,null,null,1500]
[null,null,"Auxiliar de eletricista com encargos complementares","h",0.21629999999999999,17.042999999999999,3.6864008999999998,null,null,1500]
[null,null,"Fixação de tubos verticais de PPR diâmetros menores ou iguais a 40 mm com abraçadeira metálica rígida tipo D 1/2\", fixada em perfilado em alvenaria. af_05/2015","m",2,1.1736015,2.3472029999999999,null,null,1500]
[null,null,"Luva de emenda para eletroduto, aço galvanizado, DN 25 mm (1''), aparente, instalada em parede - fornecimento e instalação. af_11/2016_p","UN",0.33329999999999999,9.5639663500000012,3.1876699844550003,null,null,1500]
[null,null,null,null,null,"","",null,null,1500]
["SF-00247",{"$f":"INDEX(Orçamentária!A:B,MATCH(Composições!A1537,Orçamentária!A:A,0),2)","v":"Eletroduto de aço galvanizado de 2\""},null,{"$f":"TRIM(INDEX(Orçamentária!C:C,MATCH(Composições!A1537,Orçamentária!A:A,0),1))","v":"m"},null,"","",null,null,2000]
[null,null,null,null,null,"","",null,null,2000]
[null,null,"Eletroduto de aço com costura galvanização eletrolítica Ø 2\"","m",1.05,25.583499999999997,26.862674999999999,{"$f":"SUM(G1539:G1543)","v":47.985002177884994},null,2000]
[null,null,"Eletricista com encargos complementares","h",0.28210000000000002,21.916499999999999,6.1826446500000003,null,null,2000]
[null,null,"Auxiliar de eletricista com encargos complementares","h",0.28210000000000002,17.042999999999999,4.8078303,null,null,2000]
[null,null,"FIXAÇÃO DE TUBOS VERTICAIS DE PPR DIÂMETROS MAIORES QUE 40 MM E MENORES OU IGUAIS A 75 MM COM ABRAÇADEIRA METÁLICA RÍGIDA TIPO D 2\", FIXADA EM PERFILADO EM ALVENARIA. AF_05/2015","M",2,2.361586,4.7231719999999999,null,null,2000]
[null,null,"Luva de emenda para eletroduto, aço galvanizado, DN 50 mm (2''), aparente, instalada em parede - fornecimento e instalação. af_11/2016_p","UN",0.33329999999999999,16.227663450000001,5.4086802278850001,null,null,2000]
[null,null,null,null,null,"","",null,null,2000]
["SF-00248",{"$f":"INDEX(Orçamentária!A:B,MATCH(Composições!A1545,Orçamentária!A:A,0),2)","v":"Eletroduto de aço galvanizado de 3/4\""},null,{"$f":"TRIM(INDEX(Orçamentária!C:C,MATCH(Composições!A1545,Orçamentária!A:A,0),1))","v":"m"},null,"","",null,null,2400]
[null,null,null,null,null,"","",null,null,2400]
[null,null,"Eletroduto de aço com costura galvanização eletrolítica Ø 3/4\"","m",1.05,6.7734999999999994,7.1121749999999997,{"$f":"SUM(G1547:G1551)","v":19.877287236644996},null,2400]
[null,null,"Eletricista com encargos complementares","h",0.19439999999999999,21.916499999999999,4.2605675999999999,null,null,2400]
[null,null,"Auxiliar de eletricista com encargos complementares","h",0.19439999999999999,17.042999999999999,3.3131591999999999,null,null,2400]
[null,null,"Fixação de tubos verticais de PPR diâmetros menores ou iguais a 40 mm com abraçadeira metálica rígida tipo D 1/2\", fixada em perfilado em alvenaria. af_05/2015","m",2,1.1736015,2.3472029999999999,null,null,2400]
[null,null,"Luva de emenda para eletroduto, aço galvanizado, DN 20 mm (3/4''), aparente, instalada em parede - fornecimento e instalação. af_11/2016_p","UN",0.33329999999999999,8.5334006500000008,2.8441824366450001,null,null,2400]
[null,null,null,null,null,"","",null,null,2400]
["SF-00249",{"$f":"INDEX(Orçamentária!A:B,MATCH(Composições!A1553,Orçamentária!A:A,0),2)","v":"Eletroduto de PVC Corrugado Reforçado 1'' (DE 32mm)"},null,{"$f":"TRIM(INDEX(Orçamentária!C:C,MATCH(Composições!A1553,Orçamentária!A:A,0),1))","v":"m"},null,"","",null,null,1500]
[null,null,null,null,null,"","",null,null,1500]
[null,null,"Eletroduto PVC flexivel corrugado, reforcado, cor laranja, de 32 mm, para lajes e pisos","m",1.1000000000000001,4.5599999999999996,5.016,{"$f":"SUM(G1555:G1558)","v":10.831681499999998},null,1500]
[null,null,"Eletricista com encargos complementares","h",0.09,21.916499999999999,1.9724849999999998,null,null,1500]
[null,null,"Auxiliar de eletricista com encargos complementares","h",0.09,17.042999999999999,{"$f":"IF(ISNUMBER(F1557),E1557*F1557,\"\")","v":1.5338699999999998},null,null,1500]
[null,null,"Fixação de tubos horizontais de PVC, CPVC ou cobre diâmetros menores ou iguais a 40 mm ou eletrocalhas até 150mm de largura, com abraçadeira metálica rígida tipo d 1/2\u0094, fixada em perfilado em laje. af_05/2015","m",1,2.3093265000000001,2.3093265000000001,null,null,1500]
[null,null,null,null,null,"","",null,null,1500]
["SF-00250",{"$f":"INDEX(Orçamentária!A:B,MATCH(Composições!A1560,Orçamentária!A:A,0),2)","v":"Eletroduto de PVC Corrugado Reforçado 3/4'' (DE 25mm)"},null,{"$f":"TRIM(INDEX(Orçamentária!C:C,MATCH(Composições!A1560,Orçamentária!A:A,0),1))","v":"m"},null,"","",null,null,1500]
[null,null,null,null,null,"","",null,null,1500]
[null,null,"Eletricista com encargos complementares","h",7.0000000000000007E-2,21.916499999999999,1.5341550000000002,{"$f":"SUM(G1562:G1565)","v":7.6385415000000005},null,1500]
[null,null,"Auxiliar de eletricista com encargos complementares","h",7.0000000000000007E-2,17.042999999999999,1.1930100000000001,null,null,1500]
[null,null,"Eletroduto PVC flexivel corrugado, reforcado, cor laranja, de 25 mm, para lajes e pisos","m",1.1000000000000001,2.3654999999999999,2.6020500000000002,null,null,1500]
[null,null,"Fixação de tubos horizontais de PVC, CPVC ou cobre diâmetros menores ou iguais a 40 mm ou eletrocalhas até 150mm de largura, com abraçadeira metálica rígida tipo d 1/2\u0094, fixada em perfilado em laje. af_05/2015","m",1,2.3093265000000001,2.3093265000000001,null,null,1500]
[null,null,null,null,null,"","",null,null,1500]
["SF-00251",{"$f":"INDEX(Orçamentária!A:B,MATCH(Composições!A1567,Orçamentária!A:A,0),2)","v":"Eletroduto flexível metálico com capa de PVC 1’’"},null,{"$f":"TRIM(INDEX(Orçamentária!C:C,MATCH(Composições!A1567,Orçamentária!A:A,0),1))","v":"m"},null,"","",null,null,3000]
[null,null,null,null,null,"","",null,null,3000]
[null,null,"Eletroduto flexivel, em aco galvanizado, revestido externamente com PVC preto, diametro externo de 32 mm (1\"), tipo sealtubo","m",1.1000000000000001,11.190999999999999,12.3101,{"$f":"SUM(G1569:G1572)","v":16.505328500000001},null,3000]
[null,null,"ARAME RECOZIDO 16 BWG, D = 1,65 MM (0,016 KG/M) OU 18 BWG, D = 1,25 MM (0,01 KG/M)","kg",2E-3,13.281000000000001,2.6562000000000002E-2,null,null,3000]
[null,null,"Auxiliar de eletricista com encargos complementares","h",0.107,17.042999999999999,1.8236009999999998,null,null,3000]
[null,null,"Eletricista com encargos complementares","h",0.107,21.916499999999999,2.3450655,null,null,3000]
[null,null,null,null,null,"","",null,null,3000]
["SF-00252",{"$f":"INDEX(Orçamentária!A:B,MATCH(Composições!A1574,Orçamentária!A:A,0),2)","v":"Eletroduto flexível metálico com capa de PVC 3/4\""},null,{"$f":"TRIM(INDEX(Orçamentária!C:C,MATCH(Composições!A1574,Orçamentária!A:A,0),1))","v":"m"},null,"","",null,null,3000]
[null,null,null,null,null,"","",null,null,3000]
[null,null,"Eletroduto flexivel, em aco galvanizado, revestido externamente com PVC preto, diametro externo de 25 mm (3/4\"), tipo sealtubo","m",1.1000000000000001,8.5404999999999998,9.3945500000000006,{"$f":"SUM(G1576:G1579)","v":12.807932300000001},null,3000]
[null,null,"ARAME RECOZIDO 16 BWG, D = 1,65 MM (0,016 KG/M) OU 18 BWG, D = 1,25 MM (0,01 KG/M)","kg",1.8E-3,13.281000000000001,2.3905800000000001E-2,null,null,3000]
[null,null,"Auxiliar de eletricista com encargos complementares","h",8.6999999999999994E-2,17.042999999999999,1.4827409999999999,null,null,3000]
[null,null,"Eletricista com encargos complementares","h",8.6999999999999994E-2,21.916499999999999,1.9067354999999997,null,null,3000]
[null,null,null,null,null,"","",null,null,3000]
["SF-00253",{"$f":"INDEX(Orçamentária!A:B,MATCH(Composições!A1581,Orçamentária!A:A,0),2)","v":"Perfilado 38x38mm"},null,{"$f":"TRIM(INDEX(Orçamentária!C:C,MATCH(Composições!A1581,Orçamentária!A:A,0),1))","v":"m"},null,"","",null,null,1000]
[null,null,null,null,null,"","",null,null,1000]
[null,null,"Perfilado perfurado em aço galvanizado # 18, 38 x 38 mm","m",1.05,12.07,12.673500000000001,{"$f":"SUM(G1583:G1594)","v":47.322589699999995},null,1000]
[null,null,"Auxiliar de eletricista com encargos complementares","h",0.45,17.042999999999999,7.6693499999999997,null,null,1000]
[null,null,"Eletricista com encargos complementares","h",0.45,21.916499999999999,9.862425,null,null,1000]
[null,null,"Tiro com pistola para fixação de pino Ø 1/4\" em concreto, inclusive cartucho e pino","un ",0.67,7.6189999999999989,5.10473,null,null,1000]
[null,null,"Suporte curto para perfilado em aço galvanizado # 22, 38 mm x 100 mm","un ",0.67,1.577,1.0565900000000001,null,null,1000]
[null,null,"Barra roscada em aço Ø 1/4\", comprimento 1 m, bicromatizada ou zincada","m",0.8,3.496,2.7968000000000002,null,null,1000]
[null,null,"PORCA ZINCADA, SEXTAVADA, DIAMETRO 1/4\"","UN",2.6633,0.22799999999999998,0.60723239999999989,null,null,1000]
[null,null,"Arruela em aço galvanizado Ø 1/4\"","un ",2.6633,3.7999999999999999E-2,0.1012054,null,null,1000]
[null,null,"Prolongador para tirante rosqueado de 1/4\" x 50 mm","un ",0.67,1.1019999999999999,0.73834,null,null,1000]
[null,null,"Parafuso lentilha 1/4 x 1/2\"","un",1.33,0.19949999999999998,0.26533499999999999,null,null,1000]
[null,null,"Tala 4 furos para emenda 38 mm","un ",0.33329999999999999,2.7929999999999997,0.93090689999999987,null,null,1000]
[null,null,"Tampa de encaixe para perfilado em aço galvanizado 38 mm","m",1.05,5.2534999999999998,5.5161750000000005,null,null,1000]
[null,null,null,null,null,"","",null,null,1000]
["SF-00254",{"$f":"INDEX(Orçamentária!A:B,MATCH(Composições!A1596,Orçamentária!A:A,0),2)","v":"Espelho 4x2"},null,{"$f":"TRIM(INDEX(Orçamentária!C:C,MATCH(Composições!A1596,Orçamentária!A:A,0),1))","v":"un"},null,"","",null,null,2500]
[null,null,null,null,null,"","",null,null,2500]
[null,null,"Espelho / placa de 3 postos 4\" x 2\", para instalacao de tomadas e interruptores","un",1,2.5554999999999999,2.5554999999999999,{"$f":"SUM(G1598:G1600)","v":5.8141519999999991},null,2500]
[null,null,"Suporte de fixacao para espelho / placa 4\" x 2\", para 3 modulos, para instalacao de tomadas e interruptores (somente suporte)","un",1,1.3299999999999998,1.3299999999999998,null,null,2500]
[null,null,"Eletricista com encargos complementares","h",8.7999999999999995E-2,21.916499999999999,1.9286519999999998,null,null,2500]
[null,null,null,null,null,"","",null,null,2500]
["SF-00255",{"$f":"INDEX(Orçamentária!A:B,MATCH(Composições!A1602,Orçamentária!A:A,0),2)","v":"Espelho 4x4"},null,{"$f":"TRIM(INDEX(Orçamentária!C:C,MATCH(Composições!A1602,Orçamentária!A:A,0),1))","v":"un"},null,"","",null,null,600]
[null,null,null,null,null,"","",null,null,600]
[null,null,"Espelho / placa de 6 postos 4\" x 4\", para instalacao de tomadas e interruptores","un",1,5.1964999999999995,5.1964999999999995,{"$f":"SUM(G1604:G1606)","v":9.6513159999999996},null,600]
[null,null,"Suporte de fixacao para espelho / placa 4\" x 4\", para 6 modulos, para instalacao de tomadas e interruptores (somente suporte)","un",1,2.1755,2.1755,null,null,600]
[null,null,"Eletricista com encargos complementares","h",0.104,21.916499999999999,2.2793159999999997,null,null,600]
[null,null,null,null,null,"","",null,null,600]
["SF-00256",{"$f":"INDEX(Orçamentária!A:B,MATCH(Composições!A1608,Orçamentária!A:A,0),2)","v":"Espelho cego redondo"},null,{"$f":"TRIM(INDEX(Orçamentária!C:C,MATCH(Composições!A1608,Orçamentária!A:A,0),1))","v":"un"},null,"","",null,null,10]
[null,null,null,null,null,"","",null,null,10]
[null,null,"Espelho cego redondo","un",1,3.63,3.63,{"$f":"SUM(G1610:G1612)","v":8.084816},null,10]
[null,null,"Suporte de fixacao para espelho / placa 4\" x 4\", para 6 modulos, para instalacao de tomadas e interruptores (somente suporte)","un",1,2.1755,2.1755,null,null,10]
[null,null,"Eletricista com encargos complementares","h",0.104,21.916499999999999,2.2793159999999997,null,null,10]
[null,null,null,null,null,"","",null,null,10]
["SF-00257",{"$f":"INDEX(Orçamentária!A:B,MATCH(Composições!A1614,Orçamentária!A:A,0),2)","v":"Interruptor para condulete"},null,{"$f":"TRIM(INDEX(Orçamentária!C:C,MATCH(Composições!A1614,Orçamentária!A:A,0),1))","v":"un"},null,"","",null,null,100]
[null,null,null,null,null,"","",null,null,100]
[null,null,"Eletricista com encargos complementares","h",{"$f":"0.3/2","v":0.15},21.916499999999999,3.2874749999999997,{"$f":"SUM(G1616:G1619)","v":24.463925},null,100]
[null,null,"Auxiliar de eletricista com encargos complementares","h",{"$f":"0.3/2","v":0.15},17.042999999999999,2.5564499999999999,null,null,100]
[null,null,"Tampa para condulete alumínio para eletrodutos de 1\", de sobrepor , com conexões e acessórios. ","un",1,4.16,4.16,null,null,100]
[null,null,"Interruptor para condulete alumínio para eletrodutos de 1’’, de sobrepor, com conexões e acessórios.","un",1,14.46,14.46,null,null,100]
[null,null,null,null,null,"","",null,null,100]
["SF-00258",{"$f":"INDEX(Orçamentária!A:B,MATCH(Composições!A1621,Orçamentária!A:A,0),2)","v":"Módulo cego"},null,{"$f":"TRIM(INDEX(Orçamentária!C:C,MATCH(Composições!A1621,Orçamentária!A:A,0),1))","v":"un"},null,"",{"$f":"IF(ISNUMBER(F1621),E1621*F1621,\"\")","v":""},null,null,2000]
[null,null,null,null,null,"","",null,null,2000]
[null,null,"Eletricista com encargos complementares","h",0.1,21.916499999999999,2.1916500000000001,{"$f":"SUM(G1623:G1624)","v":4.2916500000000006},null,2000]
[null,null,"Módulo cego","un",1,2.1,2.1,null,null,2000]
[null,null,null,null,null,"","",null,null,2000]
["SF-00259",{"$f":"INDEX(Orçamentária!A:B,MATCH(Composições!A1626,Orçamentária!A:A,0),2)","v":"Módulo interruptor paralelo"},null,{"$f":"TRIM(INDEX(Orçamentária!C:C,MATCH(Composições!A1626,Orçamentária!A:A,0),1))","v":"un"},null,"","",null,null,100]
[null,null,null,null,null,"","",null,null,100]
[null,null,"Interruptor paralelo 10A, 250V (apenas modulo)","un",1,7.8659999999999988,7.8659999999999988,{"$f":"SUM(G1628:G1630)","v":19.865525999999999},null,100]
[null,null,"Auxiliar de eletricista com encargos complementares","h",0.308,17.042999999999999,5.249244,null,null,100]
[null,null,"Eletricista com encargos complementares","h",0.308,21.916499999999999,6.7502819999999994,null,null,100]
[null,null,null,null,null,"","",null,null,100]
["SF-00260",{"$f":"INDEX(Orçamentária!A:B,MATCH(Composições!A1632,Orçamentária!A:A,0),2)","v":"Módulo interruptor simples"},null,{"$f":"TRIM(INDEX(Orçamentária!C:C,MATCH(Composições!A1632,Orçamentária!A:A,0),1))","v":"un"},null,"","",null,null,600]
[null,null,null,null,null,"","",null,null,600]
[null,null,"Interruptor simples 10A, 250V (apenas modulo)","un",1,6.0324999999999998,6.0324999999999998,{"$f":"SUM(G1634:G1636)","v":14.7983875},null,600]
[null,null,"Auxiliar de eletricista com encargos complementares","h",0.22500000000000001,17.042999999999999,3.8346749999999998,null,null,600]
[null,null,"Eletricista com encargos complementares","h",0.22500000000000001,21.916499999999999,4.9312125,null,null,600]
[null,null,null,null,null,"","",null,null,600]
["SF-00261",{"$f":"INDEX(Orçamentária!A:B,MATCH(Composições!A1638,Orçamentária!A:A,0),2)","v":"Módulo para saída de fio"},null,{"$f":"TRIM(INDEX(Orçamentária!C:C,MATCH(Composições!A1638,Orçamentária!A:A,0),1))","v":"un"},null,"","",null,null,100]
[null,null,null,null,null,"","",null,null,100]
[null,null,"Eletricista com encargos complementares","h",0.1,21.916499999999999,2.1916500000000001,{"$f":"SUM(G1640:G1641)","v":4.3416499999999996},null,100]
[null,null,"Módulo para saída de fio","un",1,2.15,2.15,null,null,100]
[null,null,null,null,null,"","",null,null,100]
["SF-00262",{"$f":"INDEX(Orçamentária!A:B,MATCH(Composições!A1643,Orçamentária!A:A,0),2)","v":"Módulo sensor de presença"},null,{"$f":"TRIM(INDEX(Orçamentária!C:C,MATCH(Composições!A1643,Orçamentária!A:A,0),1))","v":"un"},null,"","",null,null,100]
[null,null,null,null,null,"","",null,null,100]
[null,null,"Eletricista com encargos complementares","h",0.308,21.916499999999999,6.7502819999999994,{"$f":"SUM(G1645:G1647)","v":186.57952600000002},null,100]
[null,null,"Auxiliar de eletricista com encargos complementares","h",0.308,17.042999999999999,5.249244,null,null,100]
[null,null,"Módulo sensor de presença","un",1,174.58,174.58,null,null,100]
[null,null,null,null,null,"","",null,null,100]
["SF-00263",{"$f":"INDEX(Orçamentária!A:B,MATCH(Composições!A1649,Orçamentária!A:A,0),2)","v":"Módulo tomada 10 A"},null,{"$f":"TRIM(INDEX(Orçamentária!C:C,MATCH(Composições!A1649,Orçamentária!A:A,0),1))","v":"un"},null,"","",null,null,1800]
[null,null,null,null,null,"","",null,null,1800]
[null,null,"TOMADA 2P+T 10A, 250V  (APENAS MODULO)","un",1,6.8685,6.8685,{"$f":"SUM(G1651:G1653)","v":16.023982499999999},null,1800]
[null,null,"Auxiliar de eletricista com encargos complementares","h",0.23499999999999999,17.042999999999999,4.0051049999999995,null,null,1800]
[null,null,"Eletricista com encargos complementares","h",0.23499999999999999,21.916499999999999,5.1503774999999994,null,null,1800]
[null,null,null,null,null,"","",null,null,1800]
["SF-00264",{"$f":"INDEX(Orçamentária!A:B,MATCH(Composições!A1655,Orçamentária!A:A,0),2)","v":"Módulo tomada 20 A"},null,{"$f":"TRIM(INDEX(Orçamentária!C:C,MATCH(Composições!A1655,Orçamentária!A:A,0),1))","v":"un"},null,"","",null,null,360]
[null,null,null,null,null,"","",null,null,360]
[null,null,"TOMADA 2P+T 20A, 250V  (APENAS MODULO)","un",1,8.7874999999999996,8.7874999999999996,{"$f":"SUM(G1657:G1659)","v":17.942982499999999},null,360]
[null,null,"Auxiliar de eletricista com encargos complementares","h",0.23499999999999999,17.042999999999999,4.0051049999999995,null,null,360]
[null,null,"Eletricista com encargos complementares","h",0.23499999999999999,21.916499999999999,5.1503774999999994,null,null,360]
[null,null,null,null,null,"","",null,null,360]
["SF-00265",{"$f":"INDEX(Orçamentária!A:B,MATCH(Composições!A1661,Orçamentária!A:A,0),2)","v":"Porta equipamentos para canaleta de alumínio aparente"},null,{"$f":"TRIM(INDEX(Orçamentária!C:C,MATCH(Composições!A1661,Orçamentária!A:A,0),1))","v":"un"},null,"","",null,null,50]
[null,null,null,null,null,"","",null,null,50]
[null,null,"Auxiliar de eletricista com encargos complementares","h",{"$f":"0.35/2","v":0.17499999999999999},17.042999999999999,2.9825249999999999,{"$f":"SUM(G1663:G1665)","v":25.587912499999998},null,50]
[null,null,"Eletricista com encargos complementares","h",{"$f":"0.35/2","v":0.17499999999999999},21.916499999999999,3.8353874999999995,"",null,50]
[null,null,"Porta equipamentos para canaleta de alumínio aparente","un",1,18.77,18.77,null,null,50]
[null,null,null,null,null,"","",null,null,50]
["SF-00266",{"$f":"INDEX(Orçamentária!A:B,MATCH(Composições!A1667,Orçamentária!A:A,0),2)","v":"Tampa cega metálica para caixas de piso 4x2"},null,{"$f":"TRIM(INDEX(Orçamentária!C:C,MATCH(Composições!A1667,Orçamentária!A:A,0),1))","v":"un"},null,"","",null,null,50]
[null,null,null,null,null,"","",null,null,50]
[null,null,"Auxiliar de eletricista com encargos complementares","h",0.1,17.042999999999999,1.7042999999999999,{"$f":"SUM(G1669:G1670)","v":11.144299999999999},null,50]
[null,null,"Tampa cega para caixa de piso 4x2 cromada. ","un",1,9.44,9.44,null,null,50]
[null,null,null,null,null,"","",null,null,50]
["SF-00267",{"$f":"INDEX(Orçamentária!A:B,MATCH(Composições!A1672,Orçamentária!A:A,0),2)","v":"Tampa cega metálica para caixas de piso 4x4"},null,{"$f":"TRIM(INDEX(Orçamentária!C:C,MATCH(Composições!A1672,Orçamentária!A:A,0),1))","v":"un"},null,"","",null,null,50]
[null,null,null,null,null,"","",null,null,50]
[null,null,"Auxiliar de eletricista com encargos complementares","h",0.1,17.042999999999999,1.7042999999999999,{"$f":"SUM(G1674:G1675)","v":16.514299999999999},null,50]
[null,null,"Tampa cega para caixa de piso 4x4 cromada. ","un",1,14.81,14.81,null,null,50]
[null,null,null,null,null,"","",null,null,50]
["SF-00268",{"$f":"INDEX(Orçamentária!A:B,MATCH(Composições!A1677,Orçamentária!A:A,0),2)","v":"Tampa cega para condulete"},null,{"$f":"TRIM(INDEX(Orçamentária!C:C,MATCH(Composições!A1677,Orçamentária!A:A,0),1))","v":"un"},null,"","",null,null,100]
[null,null,null,null,null,"","",null,null,100]
[null,null,"Auxiliar de eletricista com encargos complementares","h",0.15,17.042999999999999,2.5564499999999999,{"$f":"SUM(G1679:G1680)","v":6.46645},null,100]
[null,null,"Tampa cega para condulete alumínio para eletrodutos de 1’’, de sobrepor, com conexões e acessórios.","un",1,3.91,3.91,null,null,100]
[null,null,null,null,null,"","",null,null,100]
["SF-00269",{"$f":"INDEX(Orçamentária!A:B,MATCH(Composições!A1682,Orçamentária!A:A,0),2)","v":"Tampa RJ45 dupla para condulete"},null,{"$f":"TRIM(INDEX(Orçamentária!C:C,MATCH(Composições!A1682,Orçamentária!A:A,0),1))","v":"un"},null,"","",null,null,600]
[null,null,null,null,null,"","",null,null,600]
[null,null,"Auxiliar de eletricista com encargos complementares","h",0.15,17.042999999999999,2.5564499999999999,{"$f":"SUM(G1684:G1686)","v":11.973924999999999},null,600]
[null,null,"Eletricista com encargos complementares","h",0.15,21.916499999999999,{"$f":"IF(ISNUMBER(F1685),E1685*F1685,\"\")","v":3.2874749999999997},null,null,600]
[null,null,"Espelho para dois módulos RJ45 para condulete alumínio para eletrodutos de 1’’, de sobrepor, com conexões e acessórios.","un",1,6.13,6.13,null,null,600]
[null,null,null,null,null,"","",null,null,600]
["SF-00270",{"$f":"INDEX(Orçamentária!A:B,MATCH(Composições!A1688,Orçamentária!A:A,0),2)","v":"Tomada para condulete"},null,{"$f":"TRIM(INDEX(Orçamentária!C:C,MATCH(Composições!A1688,Orçamentária!A:A,0),1))","v":"un"},null,"","",null,null,880]
[null,null,null,null,null,"","",null,null,880]
[null,null,"Eletricista com encargos complementares","h",0.308,21.916499999999999,6.7502819999999994,{"$f":"SUM(G1690:G1693)","v":32.239525999999998},null,880]
[null,null,"Auxiliar de eletricista com encargos complementares","h",0.308,17.042999999999999,5.249244,null,null,880]
[null,null,"Tampa para condulete alumínio para eletrodutos de 1\", de sobrepor , com conexões e acessórios. ","un",1,4.16,4.16,null,null,880]
[null,null,"Tomada para condulete alumínio para eletrodutos de 1’’, de sobrepor, com conexões e acessórios. ","un",1,16.079999999999998,16.079999999999998,null,null,880]
[null,null,null,null,null,"","",null,null,880]
["SF-00271",{"$f":"INDEX(Orçamentária!A:B,MATCH(Composições!A1695,Orçamentária!A:A,0),2)","v":"Tomada para perfilado e eletrocalha"},null,{"$f":"TRIM(INDEX(Orçamentária!C:C,MATCH(Composições!A1695,Orçamentária!A:A,0),1))","v":"un"},null,"","",null,null,100]
[null,null,null,null,null,"","",null,null,100]
[null,null,"Auxiliar de eletricista com encargos complementares","h",0.65,17.042999999999999,11.07795,{"$f":"SUM(G1697:G1700)","v":33.883175000000001},null,100]
[null,null,"Eletricista com encargos complementares","h",0.65,21.916499999999999,14.245725,null,null,100]
[null,null,"Caixa com tampa fixa em perfil para tomada em perfilado","un",1,3.0590000000000002,3.0590000000000002,null,null,100]
[null,null,"Tomada de embutir 2 polos + terra sem placa 250 V 10 A","un",1,5.5004999999999997,5.5004999999999997,null,null,100]
[null,null,null,null,null,"","",null,null,100]
["SF-00272",{"$f":"INDEX(Orçamentária!A:B,MATCH(Composições!A1702,Orçamentária!A:A,0),2)","v":"Bloco autônomo de emergência"},null,{"$f":"TRIM(INDEX(Orçamentária!C:C,MATCH(Composições!A1702,Orçamentária!A:A,0),1))","v":"un"},null,"","",null,null,100]
[null,null,null,null,null,"","",null,null,100]
[null,null,"Bloco autônomo (luminária de emergência). Ref.: Aureon BLOKITO BLK 500 (9901.0000.1079.05 – Aclaramento e 9901.0000.1128.05 – balizamento)","un ",1,226.11,226.11,{"$f":"SUM(G1704:G1706)","v":231.31882815},null,100]
[null,null,"Auxiliar de eletricista com encargos complementares","h",7.4800000000000005E-2,17.042999999999999,1.2748164,null,null,100]
[null,null,"Eletricista com encargos complementares","h",0.17949999999999999,21.916499999999999,3.9340117499999998,null,null,100]
[null,null,null,null,null,"","",null,null,100]
["SF-00273",{"$f":"INDEX(Orçamentária!A:B,MATCH(Composições!A1708,Orçamentária!A:A,0),2)","v":"Instalação de luminária reaproveitada"},null,{"$f":"TRIM(INDEX(Orçamentária!C:C,MATCH(Composições!A1708,Orçamentária!A:A,0),1))","v":"un"},null,"","",null,null,500]
[null,null,null,null,null,"","",null,null,500]
[null,null,"Auxiliar de eletricista com encargos complementares","h",0.14799999999999999,17.042999999999999,2.5223639999999996,{"$f":"SUM(G1710:G1714)","v":45.519913149999994},null,500]
[null,null,"Eletricista com encargos complementares","h",0.35510000000000003,21.916499999999999,7.7825491500000004,null,null,500]
[null,null,"Cabo PP 3x2,5mm2 300/500 V, extraflexível (classe 5), com condutor de proteção, com isolação, enchimento e cobertura de PVC","m",1.5,7.41,11.115,null,null,500]
[null,null,"Plugue (macho) com 3 polos (2P+T), para 10A","un ",1,7.2,7.2,null,null,500]
[null,null,"Plugue (fêmea) com 3 polos (2P+T), para 10A","un ",1,16.899999999999999,16.899999999999999,null,null,500]
[null,null,null,null,null,"","",null,null,500]
["SF-00274",{"$f":"INDEX(Orçamentária!A:B,MATCH(Composições!A1716,Orçamentária!A:A,0),2)","v":"Luminária 2x14 W de embutir"},null,{"$f":"TRIM(INDEX(Orçamentária!C:C,MATCH(Composições!A1716,Orçamentária!A:A,0),1))","v":"un"},null,"","",null,null,50]
[null,null,null,null,null,"","",null,null,50]
[null,null,"Luminária de embutir T5 2 x 14W, ref: Intral DE-500 (cod. 08017); Lumicenter FAA20-E214","un ",1,102.18,102.18,{"$f":"SUM(G1718:G1725)","v":207.82991315000001},null,50]
[null,null,"Reator eletrônico 2x14W, ref: Philips EB214A26; Philips EL214-28A26; Lumicenter LEB. 214; MarGirus PB 2X14 AF2","un ",1,39.75,39.75,null,null,50]
[null,null,"Lâmpada fluorescente T5 de 14W, ref: Osram HE 14W/840 SMARTLUX; Philips TL5-14W-HE/840; GE F14W/T5/840","un ",2,10.19,20.38,null,null,50]
[null,null,"Cabo PP 3x2,5mm2 300/500 V, extraflexível (classe 5), com condutor de proteção, com isolação, enchimento e cobertura de PVC","m",1.5,7.41,11.115,null,null,50]
[null,null,"Plugue (macho) com 3 polos (2P+T), para 10A","un ",1,7.2,7.2,null,null,50]
[null,null,"Plugue (fêmea) com 3 polos (2P+T), para 10A","un ",1,16.899999999999999,16.899999999999999,null,null,50]
[null,null,"Auxiliar de eletricista com encargos complementares","h",0.14799999999999999,17.042999999999999,2.5223639999999996,null,null,50]
[null,null,"Eletricista com encargos complementares","h",0.35510000000000003,21.916499999999999,7.7825491500000004,null,null,50]
[null,null,null,null,null,"","",null,null,50]
["SF-00275",{"$f":"INDEX(Orçamentária!A:B,MATCH(Composições!A1727,Orçamentária!A:A,0),2)","v":"Luminária 2x14 W de sobrepor"},null,{"$f":"TRIM(INDEX(Orçamentária!C:C,MATCH(Composições!A1727,Orçamentária!A:A,0),1))","v":"un"},null,"","",null,null,20]
[null,null,null,null,null,"","",null,null,20]
[null,null,"Luminária de sobrepor T5 2 x 14W, ref: Intral DS-500 (cod. 08021); Lumicenter FAA20-S214","un ",1,131.31,131.31,{"$f":"SUM(G1729:G1736)","v":238.68052370000001},null,20]
[null,null,"Reator eletrônico 2x14W, ref: Philips EB214A26; Philips EL214-28A26; Lumicenter LEB. 214; MarGirus PB 2X14 AF2","un ",1,39.75,39.75,null,null,20]
[null,null,"Lâmpada fluorescente T5 de 14W, ref: Osram HE 14W/840 SMARTLUX; Philips TL5-14W-HE/840; GE F14W/T5/840","un ",2,10.19,20.38,null,null,20]
[null,null,"Cabo PP 3x2,5mm2 300/500 V, extraflexível (classe 5), com condutor de proteção, com isolação, enchimento e cobertura de PVC","m",1.5,7.41,11.115,null,null,20]
[null,null,"Plugue (macho) com 3 polos (2P+T), para 10A","un ",1,7.2,7.2,null,null,20]
[null,null,"Plugue (fêmea) com 3 polos (2P+T), para 10A","un ",1,16.899999999999999,16.899999999999999,null,null,20]
[null,null,"Auxiliar de eletricista com encargos complementares","h",0.17269999999999999,17.042999999999999,2.9433260999999997,null,null,20]
[null,null,"Eletricista com encargos complementares","h",0.41439999999999999,21.916499999999999,9.0821975999999989,null,null,20]
[null,null,null,null,null,"","",null,null,20]
["SF-00276",{"$f":"INDEX(Orçamentária!A:B,MATCH(Composições!A1738,Orçamentária!A:A,0),2)","v":"Luminária 2x28 W de embutir"},null,{"$f":"TRIM(INDEX(Orçamentária!C:C,MATCH(Composições!A1738,Orçamentária!A:A,0),1))","v":"un"},null,"","",null,null,500]
[null,null,null,null,null,"","",null,null,500]
[null,null,"Luminária de embutir T5 2 x 28W, ref: Intral DE-500 (cod. 08025); Lumicenter FAA20-E228","un ",1,157.69999999999999,157.69999999999999,{"$f":"SUM(G1740:G1747)","v":277.11991315},null,500]
[null,null,"Reator eletrônico 2x28W, ref: Philips EB228A26; Philips EL214-28A26; Intral REH-T5 2x28/127-220/50-60 (cod. 02475); MarGirus PB 2X28 AF2.","un ",1,47.5,47.5,null,null,500]
[null,null,"Lâmpada fluorescente T5 de 28W, ref: Osram HE 28W/840 SMARTLUX; Philips TL5-28W-HE/840; GE F28W/T5/840","un ",2,13.2,26.4,null,null,500]
[null,null,"Cabo PP 3x2,5mm2 300/500 V, extraflexível (classe 5), com condutor de proteção, com isolação, enchimento e cobertura de PVC","m",1.5,7.41,11.115,null,null,500]
[null,null,"Plugue (macho) com 3 polos (2P+T), para 10A","un ",1,7.2,7.2,null,null,500]
[null,null,"Plugue (fêmea) com 3 polos (2P+T), para 10A","un ",1,16.899999999999999,16.899999999999999,null,null,500]
[null,null,"Auxiliar de eletricista com encargos complementares","h",0.14799999999999999,17.042999999999999,2.5223639999999996,null,null,500]
[null,null,"Eletricista com encargos complementares","h",0.35510000000000003,21.916499999999999,7.7825491500000004,null,null,500]
[null,null,null,null,null,"","",null,null,500]
["SF-00277",{"$f":"INDEX(Orçamentária!A:B,MATCH(Composições!A1749,Orçamentária!A:A,0),2)","v":"Luminária 2x28 W de sobrepor"},null,{"$f":"TRIM(INDEX(Orçamentária!C:C,MATCH(Composições!A1749,Orçamentária!A:A,0),1))","v":"un"},null,"",{"$f":"IF(ISNUMBER(F1749),E1749*F1749,\"\")","v":""},null,null,100]
[null,null,null,null,null,"","",null,null,100]
[null,null,"Luminária de sobrepor T5 2 x 28W, ref: Intral DS-500 (cod. 08029); Lumicenter FAA20-S228","un ",1,143.37,143.37,{"$f":"SUM(G1751:G1758)","v":264.51052370000002},null,100]
[null,null,"Reator eletrônico 2x28W, ref: Philips EB228A26; Philips EL214-28A26; Intral REH-T5 2x28/127-220/50-60 (cod. 02475); MarGirus PB 2X28 AF2.","un ",1,47.5,47.5,null,null,100]
[null,null,"Lâmpada fluorescente T5 de 28W, ref: Osram HE 28W/840 SMARTLUX; Philips TL5-28W-HE/840; GE F28W/T5/840","un ",2,13.2,26.4,null,null,100]
[null,null,"Cabo PP 3x2,5mm2 300/500 V, extraflexível (classe 5), com condutor de proteção, com isolação, enchimento e cobertura de PVC","m",1.5,7.41,11.115,null,null,100]
[null,null,"Plugue (macho) com 3 polos (2P+T), para 10A","un ",1,7.2,7.2,null,null,100]
[null,null,"Plugue (fêmea) com 3 polos (2P+T), para 10A","un ",1,16.899999999999999,16.899999999999999,null,null,100]
[null,null,"Auxiliar de eletricista com encargos complementares","h",0.17269999999999999,17.042999999999999,2.9433260999999997,null,null,100]
[null,null,"Eletricista com encargos complementares","h",0.41439999999999999,21.916499999999999,9.0821975999999989,null,null,100]
[null,null,null,null,null,"","",null,null,100]
["SF-00278",{"$f":"INDEX(Orçamentária!A:B,MATCH(Composições!A1760,Orçamentária!A:A,0),2)","v":"Condutor 10mm²"},null,{"$f":"TRIM(INDEX(Orçamentária!C:C,MATCH(Composições!A1760,Orçamentária!A:A,0),1))","v":"m"},null,"","",null,null,2000]
[null,null,null,null,null,"","",null,null,2000]
[null,null,"Auxiliar de eletricista com encargos complementares","h",8.9999999999999993E-3,17.042999999999999,0.153387,{"$f":"SUM(G1762:G1765)","v":14.257343499999999},null,2000]
[null,null,"Eletricista com encargos complementares","h",8.9999999999999993E-3,21.916499999999999,0.19724849999999997,null,null,2000]
[null,null,"Cabo flexível isolado em EPR não halogenado 10 mm² 0,6 a 1 kV","m",1.0269999999999999,13.509,13.873742999999999,null,null,2000]
[null,null,"Fita isolante adesiva antichama, uso ate 750 V, em rolo de 19 mm x 5 m","un",0.01,3.2965,3.2965000000000001E-2,null,null,2000]
[null,null,null,null,null,"","",null,null,2000]
["SF-00279",{"$f":"INDEX(Orçamentária!A:B,MATCH(Composições!A1767,Orçamentária!A:A,0),2)","v":"Condutor 16mm²"},null,{"$f":"TRIM(INDEX(Orçamentária!C:C,MATCH(Composições!A1767,Orçamentária!A:A,0),1))","v":"m"},null,"","",null,null,2000]
[null,null,null,null,null,"","",null,null,2000]
[null,null,"Auxiliar de eletricista com encargos complementares","h",1.2999999999999999E-2,17.042999999999999,0.22155899999999998,{"$f":"SUM(G1769:G1772)","v":21.174435999999996},null,2000]
[null,null,"Eletricista com encargos complementares","h",1.2999999999999999E-2,21.916499999999999,0.28491449999999996,null,null,2000]
[null,null,"Cabo flexível isolado em EPR não halogenado 16 mm² 0,6 a 1 kV","m",1.0269999999999999,20.092499999999998,20.634997499999997,null,null,2000]
[null,null,"Fita isolante adesiva antichama, uso ate 750 V, em rolo de 19 mm x 5 m","un",0.01,3.2965,3.2965000000000001E-2,null,null,2000]
[null,null,null,null,null,"","",null,null,2000]
["SF-00280",{"$f":"INDEX(Orçamentária!A:B,MATCH(Composições!A1774,Orçamentária!A:A,0),2)","v":"Condutor 2,5 mm²"},null,{"$f":"TRIM(INDEX(Orçamentária!C:C,MATCH(Composições!A1774,Orçamentária!A:A,0),1))","v":"m"},null,"","",null,null,24000]
[null,null,null,null,null,"","",null,null,24000]
[null,null,"Auxiliar de eletricista com encargos complementares","h",0.03,17.042999999999999,0.51128999999999991,{"$f":"SUM(G1776:G1779)","v":4.1853534999999988},null,24000]
[null,null,"Eletricista com encargos complementares","h",0.03,21.916499999999999,0.65749499999999994,null,null,24000]
[null,null,"Cabo de cobre isolado PVC 450/750V 2,5mm² resistente a chamas, livre de halogênios","m",1.19,2.5099999999999998,2.9868999999999994,null,null,24000]
[null,null,"Fita isolante adesiva antichama, uso ate 750 V, em rolo de 19 mm x 5 m","un",8.9999999999999993E-3,3.2965,2.9668499999999997E-2,null,null,24000]
[null,null,null,null,null,"","",null,null,24000]
["SF-00281",{"$f":"INDEX(Orçamentária!A:B,MATCH(Composições!A1781,Orçamentária!A:A,0),2)","v":"Condutor 3x2,5 mm²"},null,{"$f":"TRIM(INDEX(Orçamentária!C:C,MATCH(Composições!A1781,Orçamentária!A:A,0),1))","v":"m"},null,"","",null,null,5000]
[null,null,null,null,null,"","",null,null,5000]
[null,null,"Auxiliar de eletricista com encargos complementares","h",5.1999999999999998E-2,17.042999999999999,0.88623599999999991,{"$f":"SUM(G1783:G1786)","v":11.706462499999997},null,5000]
[null,null,"Eletricista com encargos complementares","h",5.1999999999999998E-2,21.916499999999999,1.1396579999999998,null,null,5000]
[null,null,"Cabo de cobre multipolar, classe 5, isolação em EPR, 0,6/1 kV, 3x2,5mm² resistente a chama, livre de halogênios","m",1.19,8.11,9.6508999999999983,null,null,5000]
[null,null,"Fita isolante adesiva antichama, uso ate 750 V, em rolo de 19 mm x 5 m","un",8.9999999999999993E-3,3.2965,2.9668499999999997E-2,null,null,5000]
[null,null,null,null,null,"","",null,null,5000]
["SF-00282",{"$f":"INDEX(Orçamentária!A:B,MATCH(Composições!A1788,Orçamentária!A:A,0),2)","v":"Condutor 4 mm²"},null,{"$f":"TRIM(INDEX(Orçamentária!C:C,MATCH(Composições!A1788,Orçamentária!A:A,0),1))","v":"m"},null,"","",null,null,9500]
[null,null,null,null,null,"","",null,null,9500]
[null,null,"Auxiliar de eletricista com encargos complementares","h",0.04,17.042999999999999,0.68171999999999999,{"$f":"SUM(G1790:G1793)","v":6.193348499999999},null,9500]
[null,null,"Eletricista com encargos complementares","h",0.04,21.916499999999999,0.87665999999999999,null,null,9500]
[null,null,"Cabo de cobre isolado PVC 450/750V 4mm² resistente a chamas, livre de halogênios","m",1.19,3.87,4.6052999999999997,null,null,9500]
[null,null,"Fita isolante adesiva antichama, uso ate 750 V, em rolo de 19 mm x 5 m","un",8.9999999999999993E-3,3.2965,2.9668499999999997E-2,null,null,9500]
[null,null,null,null,null,"","",null,null,9500]
["SF-00283",{"$f":"INDEX(Orçamentária!A:B,MATCH(Composições!A1795,Orçamentária!A:A,0),2)","v":"Condutor 4x2,5 mm²"},null,{"$f":"TRIM(INDEX(Orçamentária!C:C,MATCH(Composições!A1795,Orçamentária!A:A,0),1))","v":"m"},null,"","",null,null,5000]
[null,null,null,null,null,"","",null,null,5000]
[null,null,"Auxiliar de eletricista com encargos complementares","h",8.9999999999999993E-3,17.042999999999999,0.153387,{"$f":"SUM(G1797:G1800)","v":10.6638705},null,5000]
[null,null,"Eletricista com encargos complementares","h",8.9999999999999993E-3,21.916499999999999,0.19724849999999997,null,null,5000]
[null,null,"Cabo de cobre multipolar, classe 5, isolação em EPR, 0,6/1 kV, 4x2,5mm² resistente a chama, livre de halogênios","m",1.0269999999999999,10.01,10.28027,null,null,5000]
[null,null,"Fita isolante adesiva antichama, uso ate 750 V, em rolo de 19 mm x 5 m","un",0.01,3.2965,3.2965000000000001E-2,null,null,5000]
[null,null,null,null,null,"","",null,null,5000]
["SF-00284",{"$f":"INDEX(Orçamentária!A:B,MATCH(Composições!A1802,Orçamentária!A:A,0),2)","v":"Condutor 6 mm²"},null,{"$f":"TRIM(INDEX(Orçamentária!C:C,MATCH(Composições!A1802,Orçamentária!A:A,0),1))","v":"m"},null,"","",null,null,6000]
[null,null,null,null,null,"","",null,null,6000]
[null,null,"Auxiliar de eletricista com encargos complementares","h",5.1999999999999998E-2,17.042999999999999,0.88623599999999991,{"$f":"SUM(G1804:G1807)","v":9.064662499999999},null,6000]
[null,null,"Eletricista com encargos complementares","h",5.1999999999999998E-2,21.916499999999999,1.1396579999999998,null,null,6000]
[null,null,"Cabo de cobre isolado PVC 450/750V 6mm² resistente a chamas, livre de halogênios","m",1.19,5.89,7.0090999999999992,null,null,6000]
[null,null,"Fita isolante adesiva antichama, uso ate 750 V, em rolo de 19 mm x 5 m","un",8.9999999999999993E-3,3.2965,2.9668499999999997E-2,null,null,6000]
[null,null,null,null,null,"","",null,null,6000]
["SF-00285",{"$f":"INDEX(Orçamentária!A:B,MATCH(Composições!A1809,Orçamentária!A:A,0),2)","v":"Quadro elétrico TTA"},null,{"$f":"TRIM(INDEX(Orçamentária!C:C,MATCH(Composições!A1809,Orçamentária!A:A,0),1))","v":"un"},null,"","",null,null,20]
[null,null,null,null,null,"","",null,null,20]
[null,null,"Quadro elétrico tipo TTA completo com 30 disjuntores terminais, contemplando disjuntores, dispositovos de proteção contra surto (DPS), módulo diferencial residual (DR), borneiras, barramentos e outros itens necessários, conforme especificação","un",1,5910,5910,{"$f":"SUM(G1811:G1813)","v":6046.3582499999993},null,20]
[null,null,"Auxiliar de eletricista com encargos complementares","h",3.5,17.042999999999999,59.650499999999994,null,null,20]
[null,null,"Eletricista com encargos complementares","h",3.5,21.916499999999999,{"$f":"IF(ISNUMBER(F1813),E1813*F1813,\"\")","v":76.707750000000004},null,null,20]
[null,null,null,null,null,"","",null,null,20]
["SF-00293",{"$f":"INDEX(Orçamentária!A:B,MATCH(Composições!A1815,Orçamentária!A:A,0),2)","v":"Instalação de fancolete reaproveitado"},null,{"$f":"TRIM(INDEX(Orçamentária!C:C,MATCH(Composições!A1815,Orçamentária!A:A,0),1))","v":"un"},null,"","",null,null,30]
[null,null,null,null,null,"","",null,null,30]
[null,null,"Ajudante de operação em geral com encargos complementares","h",2,17.128499999999999,34.256999999999998,{"$f":"SUM(G1817:G1818)","v":79.667000000000002},null,30]
[null,null,"MONTADOR ELETROMECÃNICO COM ENCARGOS COMPLEMENTARES","h",2,22.704999999999998,45.41,null,null,30]
[null,null,null,null,null,"","",null,null,30]
["SF-00294",{"$f":"INDEX(Orçamentária!A:B,MATCH(Composições!A1820,Orçamentária!A:A,0),2)","v":"Instalação de split reaproveitado"},null,{"$f":"TRIM(INDEX(Orçamentária!C:C,MATCH(Composições!A1820,Orçamentária!A:A,0),1))","v":"un"},null,"","",null,null,50]
[null,null,null,null,null,"","",null,null,50]
[null,null,"Ajudante de operação em geral com encargos complementares","h",3,17.128499999999999,51.385499999999993,{"$f":"SUM(G1822:G1823)","v":119.50049999999999},null,50]
[null,null,"MONTADOR ELETROMECÃNICO COM ENCARGOS COMPLEMENTARES","h",3,22.704999999999998,68.114999999999995,null,null,50]
[null,null,null,null,null,"","",null,null,50]
["SF-00295",{"$f":"INDEX(Orçamentária!A:B,MATCH(Composições!A1825,Orçamentária!A:A,0),2)","v":"Exaustor axial 340 m3/h"},null,{"$f":"TRIM(INDEX(Orçamentária!C:C,MATCH(Composições!A1825,Orçamentária!A:A,0),1))","v":"un"},null,"","",null,null,60]
[null,null,null,null,null,"","",null,null,60]
[null,null,"Eletricista com encargos complementares","h",1,21.916499999999999,21.916499999999999,{"$f":"SUM(G1827:G1829)","v":186.24949999999998},null,60]
[null,null,"Auxiliar de eletricista com encargos complementares","h",1,17.042999999999999,17.042999999999999,null,null,60]
[null,null,"Exaustor axial, 1F/220V/60Hz,  vazão máxima 340 m3/h, pressão estática máxima 104 Pa. Referência Comercial: Multivac Muro150B 220V","un ",1,147.29,147.29,null,null,60]
[null,null,null,null,null,"","",null,null,60]
["SF-00296",{"$f":"INDEX(Orçamentária!A:B,MATCH(Composições!A1831,Orçamentária!A:A,0),2)","v":"Exaustor axial 865 m3/h"},null,{"$f":"TRIM(INDEX(Orçamentária!C:C,MATCH(Composições!A1831,Orçamentária!A:A,0),1))","v":"un"},null,"","",null,null,5]
[null,null,null,null,null,"","",null,null,5]
[null,null,"Eletricista com encargos complementares","h",1,21.916499999999999,21.916499999999999,{"$f":"SUM(G1833:G1835)","v":1009.9595},null,5]
[null,null,"Auxiliar de eletricista com encargos complementares","h",1,17.042999999999999,17.042999999999999,null,null,5]
[null,null,"Exaustor axial, 1F/220V/60Hz,  vazão máxima 865 m3/h, pressão estática máxima 582 Pa . Referência Comercial: Multivac AXC 200B","un ",1,971,971,null,null,5]
[null,null,null,null,null,"","",null,null,5]
["SF-00297",{"$f":"INDEX(Orçamentária!A:B,MATCH(Composições!A1837,Orçamentária!A:A,0),2)","v":"Duto chapa galvanizada # 22"},null,{"$f":"TRIM(INDEX(Orçamentária!C:C,MATCH(Composições!A1837,Orçamentária!A:A,0),1))","v":"m2"},null,"","",null,null,880]
[null,null,null,null,null,"","",null,null,880]
[null,null,"Chapa de aco galvanizada bitola GSG 22, E = 0,80 mm (6,40 kg/m2)","kg",6.6559999999999997,7.1154999999999999,47.360768,{"$f":"SUM(G1839:G1842)","v":198.62622799999997},null,880]
[null,null,"Suportes e acessórios de fixação de dutos em chapa de aço #22","cj",1,2.5364999999999998,2.5364999999999998,null,null,880]
[null,null,"Servente com Encargos Complementares","h",3.84,16.026499999999999,61.541759999999989,null,null,880]
[null,null,"MONTADOR ELETROMECÃNICO COM ENCARGOS COMPLEMENTARES","h",3.84,22.704999999999998,87.18719999999999,null,null,880]
[null,null,null,null,null,"","",null,null,880]
["SF-00298",{"$f":"INDEX(Orçamentária!A:B,MATCH(Composições!A1844,Orçamentária!A:A,0),2)","v":"Duto flexível 6”"},null,{"$f":"TRIM(INDEX(Orçamentária!C:C,MATCH(Composições!A1844,Orçamentária!A:A,0),1))","v":"m"},null,"","",null,null,40]
[null,null,null,null,null,"","",null,null,40]
[null,null,"Servente com Encargos Complementares","h",0.4,16.026499999999999,6.4105999999999996,{"$f":"SUM(G1846:G1848)","v":28.764600000000002},null,40]
[null,null,"MONTADOR ELETROMECÃNICO COM ENCARGOS COMPLEMENTARES","h",0.4,22.704999999999998,9.081999999999999,null,null,40]
[null,null,"Duto flexível com isolamento térmico e barreira de vapor, diâmetro 6”, 6 m de comprimento. Referência Comercial: Multivac Isodec RT 0.6","m",1.05,12.64,13.272000000000002,null,null,40]
[null,null,null,null,null,"","",null,null,40]
["SF-00299",{"$f":"INDEX(Orçamentária!A:B,MATCH(Composições!A1850,Orçamentária!A:A,0),2)","v":"Duto flexível 8”"},null,{"$f":"TRIM(INDEX(Orçamentária!C:C,MATCH(Composições!A1850,Orçamentária!A:A,0),1))","v":"m"},null,"","",null,null,20]
[null,null,null,null,null,"","",null,null,20]
[null,null,"Servente com Encargos Complementares","h",0.4,16.026499999999999,6.4105999999999996,{"$f":"SUM(G1852:G1854)","v":31.757100000000001},null,20]
[null,null,"MONTADOR ELETROMECÃNICO COM ENCARGOS COMPLEMENTARES","h",0.4,22.704999999999998,9.081999999999999,null,null,20]
[null,null,"Duto flexível com isolamento térmico e barreira de vapor, diâmetro 8”, 6 m de comprimento. Referência: Multivac Isodec RT 0.6","m",1.05,15.49,16.264500000000002,null,null,20]
[null,null,null,null,null,"","",null,null,20]
["SF-00300",{"$f":"INDEX(Orçamentária!A:B,MATCH(Composições!A1856,Orçamentária!A:A,0),2)","v":"Difusor de ar quadrado 360x360 mm"},null,{"$f":"TRIM(INDEX(Orçamentária!C:C,MATCH(Composições!A1856,Orçamentária!A:A,0),1))","v":"un"},null,"","",null,null,180]
[null,null,null,null,null,"","",null,null,180]
[null,null,"Ajudante de operação em geral com encargos complementares","h",2.5,17.128499999999999,42.821249999999999,{"$f":"SUM(G1858:G1860)","v":262.28375},null,180]
[null,null,"MONTADOR ELETROMECÃNICO COM ENCARGOS COMPLEMENTARES","h",2.5,22.704999999999998,56.762499999999996,null,null,180]
[null,null,"Difusor de ar quadrado, 360x360 mm, Referência Comercial: Trox ADLQ-AG Nº4","un ",1,162.69999999999999,162.69999999999999,null,null,180]
[null,null,null,null,null,"","",null,null,180]
["SF-00301",{"$f":"INDEX(Orçamentária!A:B,MATCH(Composições!A1862,Orçamentária!A:A,0),2)","v":"Difusor de ar quadrado com caixa plenum AK6 360x360 mm"},null,{"$f":"TRIM(INDEX(Orçamentária!C:C,MATCH(Composições!A1862,Orçamentária!A:A,0),1))","v":"un"},null,"","",null,null,10]
[null,null,null,null,null,"","",null,null,10]
[null,null,"Ajudante de operação em geral com encargos complementares","h",2.5,17.128499999999999,42.821249999999999,{"$f":"SUM(G1864:G1866)","v":312.48374999999999},null,10]
[null,null,"MONTADOR ELETROMECÃNICO COM ENCARGOS COMPLEMENTARES","h",2.5,22.704999999999998,56.762499999999996,null,null,10]
[null,null,"Difusor de ar quadrado com caixa pleno AK6 360x360 mm. Ref.: Trox ADLK-AG Nº4","un ",1,212.9,212.9,null,null,10]
[null,null,null,null,null,"","",null,null,10]
["SF-00302",{"$f":"INDEX(Orçamentária!A:B,MATCH(Composições!A1868,Orçamentária!A:A,0),2)","v":"Difusor de ar quadrado para insuflamento em duas direções perpendiculares 376x376 mm"},null,{"$f":"TRIM(INDEX(Orçamentária!C:C,MATCH(Composições!A1868,Orçamentária!A:A,0),1))","v":"un"},null,"","",null,null,10]
[null,null,null,null,null,"","",null,null,10]
[null,null,"Ajudante de operação em geral com encargos complementares","h",2.5,17.128499999999999,42.821249999999999,{"$f":"SUM(G1870:G1872)","v":279.75374999999997},null,10]
[null,null,"MONTADOR ELETROMECÃNICO COM ENCARGOS COMPLEMENTARES","h",2.5,22.704999999999998,56.762499999999996,null,null,10]
[null,null,"Difusor de ar quadrado para insuflamento em duas direções perpendiculares 376x376 mm, Referência Comercial: Trox  ADQ-2C-AG","un ",1,180.17,180.17,null,null,10]
[null,null,null,null,null,"","",null,null,10]
["SF-00303",{"$f":"INDEX(Orçamentária!A:B,MATCH(Composições!A1874,Orçamentária!A:A,0),2)","v":"Difusor de ar retangular para insuflamento em duas direções 371x208 mm"},null,{"$f":"TRIM(INDEX(Orçamentária!C:C,MATCH(Composições!A1874,Orçamentária!A:A,0),1))","v":"un"},null,"","",null,null,5]
[null,null,null,null,null,"","",null,null,5]
[null,null,"Ajudante de operação em geral com encargos complementares","h",2.5,17.128499999999999,42.821249999999999,{"$f":"SUM(G1876:G1878)","v":152.12375},null,5]
[null,null,"MONTADOR ELETROMECÃNICO COM ENCARGOS COMPLEMENTARES","h",2.5,22.704999999999998,{"$f":"IF(ISNUMBER(F1877),E1877*F1877,\"\")","v":56.762499999999996},null,null,5]
[null,null,"Difusor de ar retangular para insuflamento em duas direções (fluxo na direção perpendicular às maiores arestas do retângulo), 371x208 mm. Ref.: Trox ADQ-2","un ",1,52.54,52.54,null,null,5]
[null,null,null,null,null,"","",null,null,5]
["SF-00304",{"$f":"INDEX(Orçamentária!A:B,MATCH(Composições!A1880,Orçamentária!A:A,0),2)","v":"Difusor de ar retangular para insuflamento em três direções 264x432 mm"},null,{"$f":"TRIM(INDEX(Orçamentária!C:C,MATCH(Composições!A1880,Orçamentária!A:A,0),1))","v":"un"},null,"","",null,null,5]
[null,null,null,null,null,"","",null,null,5]
[null,null,"Ajudante de operação em geral com encargos complementares","h",2.5,17.128499999999999,42.821249999999999,{"$f":"SUM(G1882:G1884)","v":220.29374999999999},null,5]
[null,null,"MONTADOR ELETROMECÃNICO COM ENCARGOS COMPLEMENTARES","h",2.5,22.704999999999998,56.762499999999996,null,null,5]
[null,null,"Difusor de ar retangular para insuflamento em três direções (um fluxo na direção perpendicular às maiores arestas do retângulo e dois fluxos na direção perpendicular às menores arestas), 264x432 mm, Referência Comercial: Trox  ADQ-32-AG","un ",1,120.71,120.71,null,null,5]
[null,null,null,null,null,"","",null,null,5]
["SF-00305",{"$f":"INDEX(Orçamentária!A:B,MATCH(Composições!A1886,Orçamentária!A:A,0),2)","v":"Difusor de ar retangular para insuflamento em três direções 320x562 mm"},null,{"$f":"TRIM(INDEX(Orçamentária!C:C,MATCH(Composições!A1886,Orçamentária!A:A,0),1))","v":"un"},null,"","",null,null,5]
[null,null,null,null,null,"","",null,null,5]
[null,null,"Ajudante de operação em geral com encargos complementares","h",2.5,17.128499999999999,42.821249999999999,{"$f":"SUM(G1888:G1890)","v":264.15375},null,5]
[null,null,"MONTADOR ELETROMECÃNICO COM ENCARGOS COMPLEMENTARES","h",2.5,22.704999999999998,56.762499999999996,null,null,5]
[null,null,"Difusor de ar retangular para insuflamento em três direções 320x562 mm. Ref.: Trox ADQ-32-AG","un ",1,164.57,164.57,null,null,5]
[null,null,null,null,null,"","",null,null,5]
["SF-00306",{"$f":"INDEX(Orçamentária!A:B,MATCH(Composições!A1892,Orçamentária!A:A,0),2)","v":"Difusor de ar retangular para insuflamento em três direções 371x208 mm"},null,{"$f":"TRIM(INDEX(Orçamentária!C:C,MATCH(Composições!A1892,Orçamentária!A:A,0),1))","v":"un"},null,"","",null,null,5]
[null,null,null,null,null,"","",null,null,5]
[null,null,"Ajudante de operação em geral com encargos complementares","h",2.5,17.128499999999999,42.821249999999999,{"$f":"SUM(G1894:G1896)","v":156.92374999999998},null,5]
[null,null,"MONTADOR ELETROMECÃNICO COM ENCARGOS COMPLEMENTARES","h",2.5,22.704999999999998,56.762499999999996,null,null,5]
[null,null,"Difusor de ar retangular para insuflamento em três direções (dois fluxos na direção perpendicular às maiores arestas do retângulo e um fluxo na direção perpendicular às menores arestas), 371x208 mm. Ref.: Trox ADQ-3","un ",1,57.34,57.34,null,null,5]
[null,null,null,null,null,"","",null,null,5]
["SF-00307",{"$f":"INDEX(Orçamentária!A:B,MATCH(Composições!A1898,Orçamentária!A:A,0),2)","v":"Difusor de ar retangular para insuflamento em uma direção 371x208 mm"},null,{"$f":"TRIM(INDEX(Orçamentária!C:C,MATCH(Composições!A1898,Orçamentária!A:A,0),1))","v":"un"},null,"","",null,null,10]
[null,null,null,null,null,"","",null,null,10]
[null,null,"Ajudante de operação em geral com encargos complementares","h",2.5,17.128499999999999,42.821249999999999,{"$f":"SUM(G1900:G1902)","v":151.94374999999999},null,10]
[null,null,"MONTADOR ELETROMECÃNICO COM ENCARGOS COMPLEMENTARES","h",2.5,22.704999999999998,56.762499999999996,null,null,10]
[null,null,"Difusor de ar retangular para insuflamento em uma direção (fluxo na direção perpendicular às maiores arestas do retângulo), 371x208 mm. Ref.: Trox ADQ-1","un ",1,52.36,52.36,null,null,10]
[null,null,null,null,null,"","",null,null,10]
["SF-00308",{"$f":"INDEX(Orçamentária!A:B,MATCH(Composições!A1904,Orçamentária!A:A,0),2)","v":"Grelha para retorno retangular 425x225 mm"},null,{"$f":"TRIM(INDEX(Orçamentária!C:C,MATCH(Composições!A1904,Orçamentária!A:A,0),1))","v":"un"},null,"","",null,null,180]
[null,null,null,null,null,"","",null,null,180]
[null,null,"Ajudante de operação em geral com encargos complementares","h",3.5,17.128499999999999,59.949749999999995,{"$f":"SUM(G1906:G1908)","v":168.30674999999999},null,180]
[null,null,"MONTADOR ELETROMECÃNICO COM ENCARGOS COMPLEMENTARES","h",3.5,22.704999999999998,79.467500000000001,null,null,180]
[null,null,"Grelha para retorno de ar com lâminas fixas e registro, 40 x 20 cm","un ",1,28.889499999999998,28.889499999999998,null,null,180]
[null,null,null,null,null,"","",null,null,180]
["SF-00309",{"$f":"INDEX(Orçamentária!A:B,MATCH(Composições!A1910,Orçamentária!A:A,0),2)","v":"Grelha para retorno retangular 525x325 mm"},null,{"$f":"TRIM(INDEX(Orçamentária!C:C,MATCH(Composições!A1910,Orçamentária!A:A,0),1))","v":"un"},null,"","",null,null,10]
[null,null,null,null,null,"","",null,null,10]
[null,null,"Ajudante de operação em geral com encargos complementares","h",3.5,17.128499999999999,59.949749999999995,{"$f":"SUM(G1912:G1914)","v":182.09125},null,10]
[null,null,"MONTADOR ELETROMECÃNICO COM ENCARGOS COMPLEMENTARES","h",3.5,22.704999999999998,79.467500000000001,null,null,10]
[null,null,"Grelha para retorno de ar com lâminas fixas e registro, 50 x 30 cm","un ",1,42.673999999999999,42.673999999999999,null,null,10]
[null,null,null,null,null,"","",null,null,10]
["SF-00310",{"$f":"INDEX(Orçamentária!A:B,MATCH(Composições!A1916,Orçamentária!A:A,0),2)","v":"Instalação de difusores, grelhas e acessórios de climatização reaproveitados"},null,{"$f":"TRIM(INDEX(Orçamentária!C:C,MATCH(Composições!A1916,Orçamentária!A:A,0),1))","v":"un"},null,"","",null,null,120]
[null,null,null,null,null,"","",null,null,120]
[null,null,"Ajudante de operação em geral com encargos complementares","h",2.5,17.128499999999999,42.821249999999999,{"$f":"SUM(G1918:G1919)","v":99.583749999999995},null,120]
[null,null,"MONTADOR ELETROMECÃNICO COM ENCARGOS COMPLEMENTARES","h",2.5,22.704999999999998,56.762499999999996,null,null,120]
[null,null,null,null,null,"","",null,null,120]
["SF-00311",{"$f":"INDEX(Orçamentária!A:B,MATCH(Composições!A1921,Orçamentária!A:A,0),2)","v":"Instalação de exaustor reaproveitado"},null,{"$f":"TRIM(INDEX(Orçamentária!C:C,MATCH(Composições!A1921,Orçamentária!A:A,0),1))","v":"un"},null,"","",null,null,20]
[null,null,null,null,null,"","",null,null,20]
[null,null,"Eletricista com encargos complementares","h",1,21.916499999999999,21.916499999999999,{"$f":"SUM(G1923:G1924)","v":38.959499999999998},null,20]
[null,null,"Auxiliar de eletricista com encargos complementares","h",1,17.042999999999999,17.042999999999999,null,null,20]
[null,null,null,null,null,"","",null,null,20]
["SF-00312",{"$f":"INDEX(Orçamentária!A:B,MATCH(Composições!A1926,Orçamentária!A:A,0),2)","v":"Preparação para instalação de difusores/grelhas de ar em portas"},null,{"$f":"TRIM(INDEX(Orçamentária!C:C,MATCH(Composições!A1926,Orçamentária!A:A,0),1))","v":"un"},null,"","",null,null,20]
[null,null,null,null,null,"","",null,null,20]
[null,null,"Marceneiro com encargos complementares","h",0.75,21.954499999999999,16.465875,{"$f":"SUM(G1928:G1929)","v":30.095999999999997},null,20]
[null,null,"Ajudante de carpinteiro com encargos complementares","h",0.75,18.173499999999997,13.630124999999998,null,null,20]
[null,null,null,null,null,"","",null,null,20]
["SF-00313",{"$f":"INDEX(Orçamentária!A:B,MATCH(Composições!A1931,Orçamentária!A:A,0),2)","v":"Bomba para condensado de ar-condicionado para instalação oculta"},null,{"$f":"TRIM(INDEX(Orçamentária!C:C,MATCH(Composições!A1931,Orçamentária!A:A,0),1))","v":"un"},null,"","",null,null,10]
[null,null,null,null,null,"","",null,null,10]
[null,null,"Auxiliar de eletricista com encargos complementares","h",1,17.042999999999999,17.042999999999999,{"$f":"SUM(G1933:G1935)","v":527.21950000000004},null,10]
[null,null,"Eletricista com encargos complementares","h",1,21.916499999999999,21.916499999999999,null,null,10]
[null,null,"Bomba para condensado de ar-condicionado para instalação oculta, 1F/220V/60Hz, vazão 14 l/h (a 0 mmca). Ref.: Elgin Mini Orange","un",1,488.26,488.26,null,null,10]
[null,null,null,null,null,"","",null,null,10]
["SF-00314",{"$f":"INDEX(Orçamentária!A:B,MATCH(Composições!A1937,Orçamentária!A:A,0),2)","v":"Fita aluminizada para refrigeração 48 mm"},null,{"$f":"TRIM(INDEX(Orçamentária!C:C,MATCH(Composições!A1937,Orçamentária!A:A,0),1))","v":"m"},null,"","",null,null,600]
[null,null,null,null,null,"","",null,null,600]
[null,null,"Ajudante de operação em geral com encargos complementares","h",0.05,17.128499999999999,0.85642499999999999,{"$f":"SUM(G1939:G1940)","v":0.99642500000000001},null,600]
[null,null,"Fita aluminizada 48 mm","m",1,0.14000000000000001,0.14000000000000001,null,null,600]
[null,null,null,null,null,"",{"$f":"IF(ISNUMBER(F1941),E1941*F1941,\"\")","v":""},null,null,600]
["SF-00315",{"$f":"INDEX(Orçamentária!A:B,MATCH(Composições!A1942,Orçamentária!A:A,0),2)","v":"Fita PVC 100 mm para acabamento em refrigeração"},null,{"$f":"TRIM(INDEX(Orçamentária!C:C,MATCH(Composições!A1942,Orçamentária!A:A,0),1))","v":"m"},null,"","",null,null,9600]
[null,null,null,null,null,"","",null,null,9600]
[null,null,"Ajudante de operação em geral com encargos complementares","h",0.05,17.128499999999999,0.85642499999999999,{"$f":"SUM(G1944:G1945)","v":1.2064249999999999},null,9600]
[null,null,"Fita PVC 100 mm","m",1,0.35,0.35,null,null,9600]
[null,null,null,null,null,"","",null,null,9600]
["SF-00316",{"$f":"INDEX(Orçamentária!A:B,MATCH(Composições!A1947,Orçamentária!A:A,0),2)","v":"Mangueira emborrachada 3/4\" para água gelada"},null,{"$f":"TRIM(INDEX(Orçamentária!C:C,MATCH(Composições!A1947,Orçamentária!A:A,0),1))","v":"m"},null,"","",null,null,75]
[null,null,null,null,null,"","",null,null,75]
[null,null,"Ajudante de operação em geral com encargos complementares","h",0.05,17.128499999999999,0.85642499999999999,{"$f":"SUM(G1949:G1950)","v":122.83642500000001},null,75]
[null,null,"Mangueira emborrachada 3/4\"","m",1,121.98,121.98,null,null,75]
[null,null,null,null,null,"","",null,null,75]
["SF-00317",{"$f":"INDEX(Orçamentária!A:B,MATCH(Composições!A1952,Orçamentária!A:A,0),2)","v":"Suporte para unidade condensadora de aparelho split"},null,{"$f":"TRIM(INDEX(Orçamentária!C:C,MATCH(Composições!A1952,Orçamentária!A:A,0),1))","v":"un"},null,"","",null,null,125]
[null,null,null,null,null,"","",null,null,125]
[null,null,"Serralheiro com encargos complementares","h",0.85099999999999998,21.612500000000001,18.3922375,{"$f":"SUM(G1954:G1956)","v":56.514308999999997},null,125]
[null,null,"Auxiliar de serralheiro com encargos complementares","h",0.85099999999999998,17.546499999999998,14.932071499999997,null,null,125]
[null,null,"Suporte para unidade condensadora de aparelho split ou fancolete","un ",1,23.19,23.19,null,null,125]
[null,null,null,null,null,"","",null,null,125]
["SF-00318",{"$f":"INDEX(Orçamentária!A:B,MATCH(Composições!A1958,Orçamentária!A:A,0),2)","v":"Suporte para unidade evaporadora de aparelho split ou fancolete"},null,{"$f":"TRIM(INDEX(Orçamentária!C:C,MATCH(Composições!A1958,Orçamentária!A:A,0),1))","v":"un"},null,"","",null,null,200]
[null,null,null,null,null,"","",null,null,200]
[null,null,"Serralheiro com encargos complementares","h",0.85099999999999998,21.612500000000001,18.3922375,{"$f":"SUM(G1960:G1962)","v":122.86430900000001},null,200]
[null,null,"Auxiliar de serralheiro com encargos complementares","h",0.85099999999999998,17.546499999999998,14.932071499999997,null,null,200]
[null,null,"Suporte para unidade evaporadora de aparelho split ou fancolete","un ",1,89.54,89.54,null,null,200]
[null,null,null,null,null,"","",null,null,200]
["SF-00319",{"$f":"INDEX(Orçamentária!A:B,MATCH(Composições!A1964,Orçamentária!A:A,0),2)","v":"Filtro em Y 1\""},null,{"$f":"TRIM(INDEX(Orçamentária!C:C,MATCH(Composições!A1964,Orçamentária!A:A,0),1))","v":"un"},null,"","",null,null,10]
[null,null,null,null,null,"","",null,null,10]
[null,null,"Auxiliar de encanador ou bombeiro hidráulico com encargos complementares","h",0.77449999999999997,16.596499999999999,12.853989249999998,{"$f":"SUM(G1966:G1969)","v":109.83888125},null,10]
[null,null,"Encanador ou Bombeiro Hidráulico com Encargos Complementares","h",0.77449999999999997,21.308499999999999,16.503433249999997,null,null,10]
[null,null,"Filtro em Y 1\" (DN 25 mm), fabricado em bronze, extremidade com roscas, filtro em aço inoxidável, classe de pressão PN20 ou superior. Ref.: Deca 000.085.100.03","un ",1,80.37,80.37,null,null,10]
[null,null,"Fita veda rosca em rolos de 18 mm x 50 m (L x C)","UN",9.4999999999999998E-3,11.7325,0.11145875,null,null,10]
[null,null,null,null,null,"","",null,null,10]
["SF-00320",{"$f":"INDEX(Orçamentária!A:B,MATCH(Composições!A1971,Orçamentária!A:A,0),2)","v":"Filtro em Y 3/4\""},null,{"$f":"TRIM(INDEX(Orçamentária!C:C,MATCH(Composições!A1971,Orçamentária!A:A,0),1))","v":"un"},null,"","",null,null,65]
[null,null,null,null,null,"","",null,null,65]
[null,null,"Auxiliar de encanador ou bombeiro hidráulico com encargos complementares","h",0.77449999999999997,16.596499999999999,12.853989249999998,{"$f":"SUM(G1973:G1976)","v":90.058881249999999},null,65]
[null,null,"Encanador ou Bombeiro Hidráulico com Encargos Complementares","h",0.77449999999999997,21.308499999999999,16.503433249999997,null,null,65]
[null,null,"Filtro em Y 3/4\" (DN 20 mm), fabricado em bronze, extremidade com roscas, filtro em aço inoxidável, classe de pressão PN20 ou superior. Ref.: Deca 000.085.034.03","un ",1,60.59,60.59,null,null,65]
[null,null,"Fita veda rosca em rolos de 18 mm x 50 m (L x C)","UN",9.4999999999999998E-3,11.7325,0.11145875,null,null,65]
[null,null,null,null,null,"","",null,null,65]
["SF-00321",{"$f":"INDEX(Orçamentária!A:B,MATCH(Composições!A1978,Orçamentária!A:A,0),2)","v":"Válvula de balanceamento e controle independente da pressão (PIBCV) 2 vias 1\""},null,{"$f":"TRIM(INDEX(Orçamentária!C:C,MATCH(Composições!A1978,Orçamentária!A:A,0),1))","v":"un"},null,"","",null,null,10]
[null,null,null,null,null,"","",null,null,10]
[null,null,"Auxiliar de encanador ou bombeiro hidráulico com encargos complementares","h",0.77449999999999997,16.596499999999999,12.853989249999998,{"$f":"SUM(G1980:G1984)","v":777.62888125000006},null,10]
[null,null,"Encanador ou Bombeiro Hidráulico com Encargos Complementares","h",0.77449999999999997,21.308499999999999,16.503433249999997,null,null,10]
[null,null,"Fita veda rosca em rolos de 18 mm x 50 m (L x C)","UN",9.4999999999999998E-3,11.7325,0.11145875,null,null,10]
[null,null,"Atuador tipo liga/desliga (ON/OFF), com tensão compatível com o restante do sistema (24 V ou 220 V) e mecanicamente compatível com a válvula fornecida. Referência comercial: IMI Hydronic Engineering EMO-T","un ",1,147.83000000000001,147.83000000000001,null,null,10]
[null,null,"Válvula de balanceamento e controle (PIBCV) 2 vias, para controle on-off, diâmetro nominal 1\" (25 mm). Ref.: IMI Hydronic Engineering TA-COMPACT-P DN 25, Honeywell VRN2C","un ",1,600.33000000000004,600.33000000000004,null,null,10]
[null,null,null,null,null,"","",null,null,10]
["SF-00322",{"$f":"INDEX(Orçamentária!A:B,MATCH(Composições!A1986,Orçamentária!A:A,0),2)","v":"Válvula de balanceamento e controle independente da pressão (PIBCV) 2 vias 3/4\""},null,{"$f":"TRIM(INDEX(Orçamentária!C:C,MATCH(Composições!A1986,Orçamentária!A:A,0),1))","v":"un"},null,"","",null,null,65]
[null,null,null,null,null,"","",null,null,65]
[null,null,"Auxiliar de encanador ou bombeiro hidráulico com encargos complementares","h",0.77449999999999997,16.596499999999999,12.853989249999998,{"$f":"SUM(G1988:G1992)","v":707.86888125000007},null,65]
[null,null,"Encanador ou Bombeiro Hidráulico com Encargos Complementares","h",0.77449999999999997,21.308499999999999,16.503433249999997,null,null,65]
[null,null,"Fita veda rosca em rolos de 18 mm x 50 m (L x C)","UN",9.4999999999999998E-3,11.7325,0.11145875,null,null,65]
[null,null,"Atuador tipo liga/desliga (ON/OFF), com tensão compatível com o restante do sistema (24 V ou 220 V) e mecanicamente compatível com a válvula fornecida. Referência comercial: IMI Hydronic Engineering EMO-T","un ",1,147.83000000000001,147.83000000000001,null,null,65]
[null,null,"Válvula de balanceamento e controle (PIBCV) 2 vias, para controle on-off, diâmetro nominal 3/4\" (20 mm). Ref.: IMI Hydronic Engineering TA-COMPACT-P DN 20, Honeywell VRN2B","un ",1,530.57000000000005,530.57000000000005,null,null,65]
[null,null,null,null,null,"","",null,null,65]
["SF-00323",{"$f":"INDEX(Orçamentária!A:B,MATCH(Composições!A1994,Orçamentária!A:A,0),2)","v":"Válvula de esfera em bronze 1 1/2\""},null,{"$f":"TRIM(INDEX(Orçamentária!C:C,MATCH(Composições!A1994,Orçamentária!A:A,0),1))","v":"un"},null,"","",null,null,20]
[null,null,null,null,null,"","",null,null,20]
[null,null,"Fita veda rosca em rolos de 18 mm x 50 m (L x C)","UN",1.9E-2,11.7325,0.22291749999999999,{"$f":"SUM(G1996:G1999)","v":142.98996249999999},null,20]
[null,null,"VALVULA DE ESFERA BRUTA EM BRONZE, BITOLA 1 1/2 \" (REF 1552-B)","un",1,112.85999999999999,112.85999999999999,null,null,20]
[null,null,"Auxiliar de encanador ou bombeiro hidráulico com encargos complementares","h",0.78900000000000003,16.596499999999999,13.0946385,null,null,20]
[null,null,"Encanador ou Bombeiro Hidráulico com Encargos Complementares","h",0.78900000000000003,21.308499999999999,16.812406499999998,null,null,20]
[null,null,null,null,null,"","",null,null,20]
["SF-00324",{"$f":"INDEX(Orçamentária!A:B,MATCH(Composições!A2001,Orçamentária!A:A,0),2)","v":"Válvula de esfera em bronze 1 1/4\""},null,{"$f":"TRIM(INDEX(Orçamentária!C:C,MATCH(Composições!A2001,Orçamentária!A:A,0),1))","v":"un"},null,"","",null,null,20]
[null,null,null,null,null,"","",null,null,20]
[null,null,"Fita veda rosca em rolos de 18 mm x 50 m (L x C)","UN",1.9E-2,11.7325,0.22291749999999999,{"$f":"SUM(G2003:G2006)","v":123.79046249999999},null,20]
[null,null,"VALVULA DE ESFERA BRUTA EM BRONZE, BITOLA 1 1/4 \" (REF 1552-B)","un",1,93.660499999999999,93.660499999999999,null,null,20]
[null,null,"Auxiliar de encanador ou bombeiro hidráulico com encargos complementares","h",0.78900000000000003,16.596499999999999,{"$f":"IF(ISNUMBER(F2005),E2005*F2005,\"\")","v":13.0946385},null,null,20]
[null,null,"Encanador ou Bombeiro Hidráulico com Encargos Complementares","h",0.78900000000000003,21.308499999999999,16.812406499999998,null,null,20]
[null,null,null,null,null,"","",null,null,20]
["SF-00325",{"$f":"INDEX(Orçamentária!A:B,MATCH(Composições!A2008,Orçamentária!A:A,0),2)","v":"Válvula de esfera em bronze 1\""},null,{"$f":"TRIM(INDEX(Orçamentária!C:C,MATCH(Composições!A2008,Orçamentária!A:A,0),1))","v":"un"},null,"","",null,null,20]
[null,null,null,null,null,"","",null,null,20]
[null,null,"Fita veda rosca em rolos de 18 mm x 50 m (L x C)","UN",9.4999999999999998E-3,11.7325,0.11145875,{"$f":"SUM(G2010:G2013)","v":92.311381249999997},null,20]
[null,null,"Valvula de esfera bruta em bronze, bitola 1 \" (ref 1552-B)","un",1,62.842500000000001,62.842500000000001,null,null,20]
[null,null,"Auxiliar de encanador ou bombeiro hidráulico com encargos complementares","h",0.77449999999999997,16.596499999999999,12.853989249999998,null,null,20]
[null,null,"Encanador ou Bombeiro Hidráulico com Encargos Complementares","h",0.77449999999999997,21.308499999999999,16.503433249999997,null,null,20]
[null,null,null,null,null,"","",null,null,20]
["SF-00326",{"$f":"INDEX(Orçamentária!A:B,MATCH(Composições!A2015,Orçamentária!A:A,0),2)","v":"Válvula de esfera em bronze 3/4\""},null,{"$f":"TRIM(INDEX(Orçamentária!C:C,MATCH(Composições!A2015,Orçamentária!A:A,0),1))","v":"un"},null,"","",null,null,150]
[null,null,null,null,null,"","",null,null,150]
[null,null,"Fita veda rosca em rolos de 18 mm x 50 m (L x C)","UN",9.4999999999999998E-3,11.7325,0.11145875,{"$f":"SUM(G2017:G2020)","v":76.018881249999993},null,150]
[null,null,"Valvula de esfera bruta em bronze, bitola 3/4 \" (ref 1552-B)","un",1,46.55,46.55,null,null,150]
[null,null,"Auxiliar de encanador ou bombeiro hidráulico com encargos complementares","h",0.77449999999999997,16.596499999999999,12.853989249999998,null,null,150]
[null,null,"Encanador ou Bombeiro Hidráulico com Encargos Complementares","h",0.77449999999999997,21.308499999999999,16.503433249999997,null,null,150]
[null,null,null,null,null,"","",null,null,150]
["SF-00327",{"$f":"INDEX(Orçamentária!A:B,MATCH(Composições!A2022,Orçamentária!A:A,0),2)","v":"Isolamento elastomérico em formato de prancha autoadesiva"},null,{"$f":"TRIM(INDEX(Orçamentária!C:C,MATCH(Composições!A2022,Orçamentária!A:A,0),1))","v":"m2"},null,"","",null,null,825]
[null,null,null,null,null,"","",null,null,825]
[null,null,"Auxiliar de encanador ou bombeiro hidráulico com encargos complementares","h",0.1,16.596499999999999,1.6596500000000001,{"$f":"SUM(G2024:G2026)","v":90.320999999999998},null,825]
[null,null,"Encanador ou Bombeiro Hidráulico com Encargos Complementares","h",0.1,21.308499999999999,2.1308500000000001,null,null,825]
[null,null,"Isolamento elastomérico em formato prancha autoadesiva de espessura M. Ref.: AF/Armaflex M-99/E-A, K-Flex ST","m2",1.05,82.41,86.530500000000004,null,null,825]
[null,null,null,null,null,"","",null,null,825]
["SF-00328",{"$f":"INDEX(Orçamentária!A:B,MATCH(Composições!A2028,Orçamentária!A:A,0),2)","v":"Isolamento elastomérico para tubulações de cobre de 1 1/8\" / tubulações de ferro de 3/4\""},null,{"$f":"TRIM(INDEX(Orçamentária!C:C,MATCH(Composições!A2028,Orçamentária!A:A,0),1))","v":"m"},null,"","",null,null,810]
[null,null,null,null,null,"","",null,null,810]
[null,null,"Isolamento elastomérico em formato de tubo ou coquilha de espessura M, próprio para tubulação de cobre de diâmetro nominal 1 1/8\" e para tubulações de ferro de diâmetro nominal 3/4\". Ref.: AF/Armaflex M-28, K-Flex ST","m",1.0210999999999999,11.94,12.191933999999998,{"$f":"SUM(G2030:G2032)","v":12.919709999999998},null,810]
[null,null,"Auxiliar de encanador ou bombeiro hidráulico com encargos complementares","h",{"$f":"0.064*0.3","v":1.9199999999999998E-2},16.596499999999999,0.31865279999999996,null,null,810]
[null,null,"Encanador ou Bombeiro Hidráulico com Encargos Complementares","h",{"$f":"0.064*0.3","v":1.9199999999999998E-2},21.308499999999999,0.40912319999999996,null,null,810]
[null,null,null,null,null,"","",null,null,810]
[null,null,"Obs.: As seguintes proporções foram consideradas quanto ao tempo de mão de obra: 70% para instalação do tubo e 30% para instalação do isolamento térmico.",null,null,"","",null,null,810]
[null,null,null,null,null,"","",null,null,810]
["SF-00329",{"$f":"INDEX(Orçamentária!A:B,MATCH(Composições!A2036,Orçamentária!A:A,0),2)","v":"Isolamento elastomérico para tubulações de cobre de 1/2\""},null,{"$f":"TRIM(INDEX(Orçamentária!C:C,MATCH(Composições!A2036,Orçamentária!A:A,0),1))","v":"m"},null,"","",null,null,400]
[null,null,null,null,null,"","",null,null,400]
[null,null,"Isolamento elastomérico em formato de tubo ou coquilha de espessura M, próprio para tubulação de cobre de diâmetro nominal 1/2\". Ref.: AF/Armaflex M-12, K-Flex ST","m",1.0210999999999999,7,7.1476999999999995,{"$f":"SUM(G2038:G2040)","v":7.8413614999999997},null,400]
[null,null,"Auxiliar de encanador ou bombeiro hidráulico com encargos complementares","h",{"$f":"0.061*0.3","v":1.83E-2},16.596499999999999,0.30371595000000001,null,null,400]
[null,null,"Encanador ou Bombeiro Hidráulico com Encargos Complementares","h",{"$f":"0.061*0.3","v":1.83E-2},21.308499999999999,0.38994554999999997,null,null,400]
[null,null,null,null,null,"","",null,null,400]
[null,null,"Obs.: As seguintes proporções foram consideradas quanto ao tempo de mão de obra: 70% para instalação do tubo e 30% para instalação do isolamento térmico.",null,null,"","",null,null,400]
[null,null,null,null,null,"","",null,null,400]
["SF-00330",{"$f":"INDEX(Orçamentária!A:B,MATCH(Composições!A2044,Orçamentária!A:A,0),2)","v":"Isolamento elastomérico para tubulações de cobre de 1/4\""},null,{"$f":"TRIM(INDEX(Orçamentária!C:C,MATCH(Composições!A2044,Orçamentária!A:A,0),1))","v":"m"},null,"","",null,null,400]
[null,null,null,null,null,"","",null,null,400]
[null,null,"Isolamento elastomérico em formato de tubo ou coquilha de espessura M, próprio para tubulação de cobre de diâmetro nominal 1/4\". Ref.: AF/Armaflex M-06, K-Flex ST","m",1.0210999999999999,6.02,6.1470219999999989,{"$f":"SUM(G2046:G2048)","v":6.7383399999999982},null,400]
[null,null,"Auxiliar de encanador ou bombeiro hidráulico com encargos complementares","h",{"$f":"0.052*0.3","v":1.5599999999999999E-2},16.596499999999999,0.25890539999999995,null,null,400]
[null,null,"Encanador ou Bombeiro Hidráulico com Encargos Complementares","h",{"$f":"0.052*0.3","v":1.5599999999999999E-2},21.308499999999999,0.33241259999999995,null,null,400]
[null,null,null,null,null,"","",null,null,400]
[null,null,"Obs.: As seguintes proporções foram consideradas quanto ao tempo de mão de obra: 70% para instalação do tubo e 30% para instalação do isolamento térmico.",null,null,"","",null,null,400]
[null,null,null,null,null,"","",null,null,400]
["SF-00331",{"$f":"INDEX(Orçamentária!A:B,MATCH(Composições!A2052,Orçamentária!A:A,0),2)","v":"Isolamento elastomérico para tubulações de cobre de 3/4\""},null,{"$f":"TRIM(INDEX(Orçamentária!C:C,MATCH(Composições!A2052,Orçamentária!A:A,0),1))","v":"m"},null,"","",null,null,400]
[null,null,null,null,null,"","",null,null,400]
[null,null,"Isolamento elastomérico em formato de tubo ou coquilha de espessura M, próprio para tubulação de cobre de diâmetro nominal 3/4\". Ref.: AF/Armaflex M-18, K-Flex ST","m",1.0210999999999999,8.52,8.6997719999999994,{"$f":"SUM(G2054:G2056)","v":9.4275479999999998},null,400]
[null,null,"Auxiliar de encanador ou bombeiro hidráulico com encargos complementares","h",{"$f":"0.064*0.3","v":1.9199999999999998E-2},16.596499999999999,0.31865279999999996,null,null,400]
[null,null,"Encanador ou Bombeiro Hidráulico com Encargos Complementares","h",{"$f":"0.064*0.3","v":1.9199999999999998E-2},21.308499999999999,0.40912319999999996,null,null,400]
[null,null,null,null,null,"","",null,null,400]
[null,null,"Obs.: As seguintes proporções foram consideradas quanto ao tempo de mão de obra: 70% para instalação do tubo e 30% para instalação do isolamento térmico.",null,null,"","",null,null,400]
[null,null,null,null,null,"","",null,null,400]
["SF-00332",{"$f":"INDEX(Orçamentária!A:B,MATCH(Composições!A2060,Orçamentária!A:A,0),2)","v":"Isolamento elastomérico para tubulações de cobre de 3/8\""},null,{"$f":"TRIM(INDEX(Orçamentária!C:C,MATCH(Composições!A2060,Orçamentária!A:A,0),1))","v":"m"},null,"","",null,null,800]
[null,null,null,null,null,"","",null,null,800]
[null,null,"Isolamento elastomérico em formato de tubo ou coquilha de espessura M, próprio para tubulação de cobre de diâmetro nominal 3/8\". Ref.: AF/Armaflex M-10, K-Flex ST","m",1.0210999999999999,6.4,6.5350399999999995,{"$f":"SUM(G2062:G2064)","v":7.1832154999999993},null,800]
[null,null,"Auxiliar de encanador ou bombeiro hidráulico com encargos complementares","h",{"$f":"0.057*0.3","v":1.7100000000000001E-2},16.596499999999999,0.28380014999999997,null,null,800]
[null,null,"Encanador ou Bombeiro Hidráulico com Encargos Complementares","h",{"$f":"0.057*0.3","v":1.7100000000000001E-2},21.308499999999999,0.36437534999999999,null,null,800]
[null,null,null,null,null,"","",null,null,800]
[null,null,"Obs.: As seguintes proporções foram consideradas quanto ao tempo de mão de obra: 70% para instalação do tubo e 30% para instalação do isolamento térmico.",null,null,"","",null,null,800]
[null,null,null,null,null,"","",null,null,800]
["SF-00333",{"$f":"INDEX(Orçamentária!A:B,MATCH(Composições!A2068,Orçamentária!A:A,0),2)","v":"Isolamento elastomérico para tubulações de cobre de 5/8\""},null,{"$f":"TRIM(INDEX(Orçamentária!C:C,MATCH(Composições!A2068,Orçamentária!A:A,0),1))","v":"m"},null,"","",null,null,400]
[null,null,null,null,null,"",{"$f":"IF(ISNUMBER(F2069),E2069*F2069,\"\")","v":""},null,null,400]
[null,null,"Isolamento elastomérico em formato de tubo ou coquilha de espessura M, próprio para tubulação de cobre de diâmetro nominal 5/8\". Ref.: AF/Armaflex M-15, K-Flex ST","m",1.0210999999999999,7.94,8.1075339999999994,{"$f":"SUM(G2070:G2072)","v":8.8353099999999998},null,400]
[null,null,"Auxiliar de encanador ou bombeiro hidráulico com encargos complementares","h",{"$f":"0.064*0.3","v":1.9199999999999998E-2},16.596499999999999,0.31865279999999996,null,null,400]
[null,null,"Encanador ou Bombeiro Hidráulico com Encargos Complementares","h",{"$f":"0.064*0.3","v":1.9199999999999998E-2},21.308499999999999,0.40912319999999996,null,null,400]
[null,null,null,null,null,"","",null,null,400]
[null,null,"Obs.: As seguintes proporções foram consideradas quanto ao tempo de mão de obra: 70% para instalação do tubo e 30% para instalação do isolamento térmico.",null,null,"","",null,null,400]
[null,null,null,null,null,"","",null,null,400]
["SF-00334",{"$f":"INDEX(Orçamentária!A:B,MATCH(Composições!A2076,Orçamentária!A:A,0),2)","v":"Isolamento elastomérico para tubulações de cobre de 7/8\" / tubulações de ferro de 1/2\""},null,{"$f":"TRIM(INDEX(Orçamentária!C:C,MATCH(Composições!A2076,Orçamentária!A:A,0),1))","v":"m"},null,"","",null,null,100]
[null,null,null,null,null,"","",null,null,100]
[null,null,"Isolamento elastomérico em formato de tubo ou coquilha de espessura M, próprio para tubulação de cobre de diâmetro nominal 7/8\" e para tubulações de ferro de diâmetro nominal 1/2\". Ref.: AF/Armaflex M-22, K-Flex ST","m",1.0210999999999999,9.84,10.047623999999999,{"$f":"SUM(G2078:G2080)","v":10.775399999999999},null,100]
[null,null,"Auxiliar de encanador ou bombeiro hidráulico com encargos complementares","h",{"$f":"0.064*0.3","v":1.9199999999999998E-2},16.596499999999999,0.31865279999999996,null,null,100]
[null,null,"Encanador ou Bombeiro Hidráulico com Encargos Complementares","h",{"$f":"0.064*0.3","v":1.9199999999999998E-2},21.308499999999999,0.40912319999999996,null,null,100]
[null,null,null,null,null,"","",null,null,100]
[null,null,"Obs.: As seguintes proporções foram consideradas quanto ao tempo de mão de obra: 70% para instalação do tubo e 30% para instalação do isolamento térmico.",null,null,"","",null,null,100]
[null,null,null,null,null,"","",null,null,100]
["SF-00335",{"$f":"INDEX(Orçamentária!A:B,MATCH(Composições!A2084,Orçamentária!A:A,0),2)","v":"Isolamento elastomérico para tubulações de cobre de 1\""},null,{"$f":"TRIM(INDEX(Orçamentária!C:C,MATCH(Composições!A2084,Orçamentária!A:A,0),1))","v":"m"},null,"","",null,null,30]
[null,null,null,null,null,"","",null,null,30]
[null,null,"Isolamento elastomérico em formato de tubo ou coquilha de espessura M, próprio para tubulação de cobre de diâmetro nominal 1\". Ref.: AF/Armaflex M-25, K-Flex ST","m",1.0210999999999999,11,11.232099999999999,{"$f":"SUM(G2086:G2088)","v":11.959876},null,30]
[null,null,"Auxiliar de encanador ou bombeiro hidráulico com encargos complementares","h",{"$f":"0.064*0.3","v":1.9199999999999998E-2},16.596499999999999,0.31865279999999996,null,null,30]
[null,null,"Encanador ou Bombeiro Hidráulico com Encargos Complementares","h",{"$f":"0.064*0.3","v":1.9199999999999998E-2},21.308499999999999,0.40912319999999996,null,null,30]
[null,null,null,null,null,"","",null,null,30]
[null,null,"Obs.: As seguintes proporções foram consideradas quanto ao tempo de mão de obra: 70% para instalação do tubo e 30% para instalação do isolamento térmico.",null,null,"","",null,null,30]
[null,null,null,null,null,"","",null,null,30]
["SF-00336",{"$f":"INDEX(Orçamentária!A:B,MATCH(Composições!A2092,Orçamentária!A:A,0),2)","v":"Isolamento elastomérico para tubulações de ferro de 1 1/2\""},null,{"$f":"TRIM(INDEX(Orçamentária!C:C,MATCH(Composições!A2092,Orçamentária!A:A,0),1))","v":"m"},null,"","",null,null,100]
[null,null,null,null,null,"","",null,null,100]
[null,null,"Isolamento elastomérico em formato de tubo ou coquilha de espessura M, próprio para tubulação ferro de diâmetro nominal 1 1/2\". Ref.: AF/Armaflex M-48, K-Flex ST","m",1.0210999999999999,19.11,19.513220999999998,{"$f":"SUM(G2094:G2096)","v":20.240996999999997},null,100]
[null,null,"Auxiliar de encanador ou bombeiro hidráulico com encargos complementares","h",{"$f":"0.064*0.3","v":1.9199999999999998E-2},16.596499999999999,0.31865279999999996,null,null,100]
[null,null,"Encanador ou Bombeiro Hidráulico com Encargos Complementares","h",{"$f":"0.064*0.3","v":1.9199999999999998E-2},21.308499999999999,0.40912319999999996,null,null,100]
[null,null,null,null,null,"","",null,null,100]
[null,null,"Obs.: As seguintes proporções foram consideradas quanto ao tempo de mão de obra: 70% para instalação do tubo e 30% para instalação do isolamento térmico.",null,null,"","",null,null,100]
[null,null,null,null,null,"","",null,null,100]
["SF-00337",{"$f":"INDEX(Orçamentária!A:B,MATCH(Composições!A2100,Orçamentária!A:A,0),2)","v":"Isolamento elastomérico para tubulações de ferro de 1 1/4\""},null,{"$f":"TRIM(INDEX(Orçamentária!C:C,MATCH(Composições!A2100,Orçamentária!A:A,0),1))","v":"m"},null,"","",null,null,100]
[null,null,null,null,null,"","",null,null,100]
[null,null,"Isolamento elastomérico em formato de tubo ou coquilha de espessura M, próprio para tubulação ferro de diâmetro nominal 1 1/4\". Ref.: AF/Armaflex M-42, K-Flex ST","m",1.0210999999999999,17.829999999999998,18.206212999999995,{"$f":"SUM(G2102:G2104)","v":18.933988999999993},null,100]
[null,null,"Auxiliar de encanador ou bombeiro hidráulico com encargos complementares","h",{"$f":"0.064*0.3","v":1.9199999999999998E-2},16.596499999999999,0.31865279999999996,null,null,100]
[null,null,"Encanador ou Bombeiro Hidráulico com Encargos Complementares","h",{"$f":"0.064*0.3","v":1.9199999999999998E-2},21.308499999999999,0.40912319999999996,null,null,100]
[null,null,null,null,null,"","",null,null,100]
[null,null,"Obs.: As seguintes proporções foram consideradas quanto ao tempo de mão de obra: 70% para instalação do tubo e 30% para instalação do isolamento térmico.",null,null,"","",null,null,100]
[null,null,null,null,null,"","",null,null,100]
["SF-00338",{"$f":"INDEX(Orçamentária!A:B,MATCH(Composições!A2108,Orçamentária!A:A,0),2)","v":"Isolamento elastomérico para tubulações de ferro de 1\""},null,{"$f":"TRIM(INDEX(Orçamentária!C:C,MATCH(Composições!A2108,Orçamentária!A:A,0),1))","v":"m"},null,"","",null,null,100]
[null,null,null,null,null,"","",null,null,100]
[null,null,"Isolamento elastomérico em formato de tubo ou coquilha de espessura M, próprio para tubulação ferro de diâmetro nominal 1\". Ref.: AF/Armaflex M-35, K-Flex ST","m",1.0210999999999999,14.17,14.468986999999998,{"$f":"SUM(G2110:G2112)","v":15.196762999999999},null,100]
[null,null,"Auxiliar de encanador ou bombeiro hidráulico com encargos complementares","h",{"$f":"0.064*0.3","v":1.9199999999999998E-2},16.596499999999999,0.31865279999999996,null,null,100]
[null,null,"Encanador ou Bombeiro Hidráulico com Encargos Complementares","h",{"$f":"0.064*0.3","v":1.9199999999999998E-2},21.308499999999999,0.40912319999999996,null,null,100]
[null,null,null,null,null,"","",null,null,100]
[null,null,"Obs.: As seguintes proporções foram consideradas quanto ao tempo de mão de obra: 70% para instalação do tubo e 30% para instalação do isolamento térmico.",null,null,"","",null,null,100]
[null,null,null,null,null,"","",null,null,100]
["SF-00339",{"$f":"INDEX(Orçamentária!A:B,MATCH(Composições!A2116,Orçamentária!A:A,0),2)","v":"Proteção mecânica em alumínio"},null,{"$f":"TRIM(INDEX(Orçamentária!C:C,MATCH(Composições!A2116,Orçamentária!A:A,0),1))","v":"m2"},null,"","",null,null,100]
[null,null,null,null,null,"","",null,null,100]
[null,null,"Auxiliar de encanador ou bombeiro hidráulico com encargos complementares","h",0.2,16.596499999999999,3.3193000000000001,{"$f":"SUM(G2118:G2120)","v":21.378},null,100]
[null,null,"Encanador ou Bombeiro Hidráulico com Encargos Complementares","h",0.2,21.308499999999999,4.2617000000000003,null,null,100]
[null,null,"Alumínio corrugado sem barreira espessura mínima = 0,15mm","m2",1.05,13.14,13.797000000000001,null,null,100]
[null,null,null,null,null,"","",null,null,100]
["SF-00340",{"$f":"INDEX(Orçamentária!A:B,MATCH(Composições!A2122,Orçamentária!A:A,0),2)","v":"Tubo de aço-carbono galvanizado 1 1/2\""},null,{"$f":"TRIM(INDEX(Orçamentária!C:C,MATCH(Composições!A2122,Orçamentária!A:A,0),1))","v":"m"},null,"","",null,null,100]
[null,null,null,null,null,"","",null,null,100]
[null,null,"Encanador ou Bombeiro Hidráulico com Encargos Complementares","h",0.29199999999999998,21.308499999999999,6.2220819999999994,{"$f":"SUM(G2124:G2126)","v":57.617537999999982},null,100]
[null,null,"Auxiliar de encanador ou bombeiro hidráulico com encargos complementares","h",0.29199999999999998,16.596499999999999,4.8461779999999992,null,null,100]
[null,null,"TUBO ACO CARBONO SEM COSTURA 1 1/2\", E= *3,68 MM, SCHEDULE 40, 4,05 KG/M","m",1.0389999999999999,44.801999999999992,46.549277999999987,null,null,100]
[null,null,null,null,null,"","",null,null,100]
["SF-00341",{"$f":"INDEX(Orçamentária!A:B,MATCH(Composições!A2128,Orçamentária!A:A,0),2)","v":"Tubo de aço-carbono galvanizado 1 1/4\""},null,{"$f":"TRIM(INDEX(Orçamentária!C:C,MATCH(Composições!A2128,Orçamentária!A:A,0),1))","v":"m"},null,"","",null,null,100]
[null,null,null,null,null,"","",null,null,100]
[null,null,"Encanador ou Bombeiro Hidráulico com Encargos Complementares","h",0.27500000000000002,21.308499999999999,5.8598375000000003,{"$f":"SUM(G2130:G2132)","v":53.143399000000002},null,100]
[null,null,"Auxiliar de encanador ou bombeiro hidráulico com encargos complementares","h",0.27500000000000002,16.596499999999999,4.5640375000000004,null,null,100]
[null,null,"TUBO ACO CARBONO SEM COSTURA 1 1/4\", E= *3,56 MM, SCHEDULE 40, *3,38* KG/M","m",1.0389999999999999,41.116,42.719524,null,null,100]
[null,null,null,null,null,"",{"$f":"IF(ISNUMBER(F2133),E2133*F2133,\"\")","v":""},null,null,100]
["SF-00342",{"$f":"INDEX(Orçamentária!A:B,MATCH(Composições!A2134,Orçamentária!A:A,0),2)","v":"Tubo de aço-carbono galvanizado 1\""},null,{"$f":"TRIM(INDEX(Orçamentária!C:C,MATCH(Composições!A2134,Orçamentária!A:A,0),1))","v":"m"},null,"","",null,null,100]
[null,null,null,null,null,"","",null,null,100]
[null,null,"Encanador ou Bombeiro Hidráulico com Encargos Complementares","h",0.29699999999999999,21.308499999999999,6.3286244999999992,{"$f":"SUM(G2136:G2138)","v":43.139499999999991},null,100]
[null,null,"Auxiliar de encanador ou bombeiro hidráulico com encargos complementares","h",0.29699999999999999,16.596499999999999,4.9291604999999992,null,null,100]
[null,null,"TUBO ACO CARBONO SEM COSTURA 1\", E= *3,38 MM, SCHEDULE 40, *2,50* KG/M","m",1.0389999999999999,30.684999999999995,31.881714999999993,null,null,100]
[null,null,null,null,null,"","",null,null,100]
["SF-00343",{"$f":"INDEX(Orçamentária!A:B,MATCH(Composições!A2140,Orçamentária!A:A,0),2)","v":"Tubo de aço-carbono galvanizado 3/4\""},null,{"$f":"TRIM(INDEX(Orçamentária!C:C,MATCH(Composições!A2140,Orçamentária!A:A,0),1))","v":"m"},null,"","",null,null,750]
[null,null,null,null,null,"","",null,null,750]
[null,null,"Encanador ou Bombeiro Hidráulico com Encargos Complementares","h",0.29699999999999999,21.308499999999999,6.3286244999999992,{"$f":"SUM(G2142:G2144)","v":39.586119999999994},null,750]
[null,null,"Auxiliar de encanador ou bombeiro hidráulico com encargos complementares","h",0.29699999999999999,16.596499999999999,4.9291604999999992,null,null,750]
[null,null,"TUBO ACO CARBONO SEM COSTURA 3/4\", E= *2,87 MM, SCHEDULE 40, *1,69 KG/M","m",1.0389999999999999,27.264999999999997,28.328334999999996,null,null,750]
[null,null,null,null,null,"","",null,null,750]
["SF-00344",{"$f":"INDEX(Orçamentária!A:B,MATCH(Composições!A2146,Orçamentária!A:A,0),2)","v":"Tubo de cobre de 1/2\""},null,{"$f":"TRIM(INDEX(Orçamentária!C:C,MATCH(Composições!A2146,Orçamentária!A:A,0),1))","v":"m"},null,"","",null,null,400]
[null,null,null,null,null,"","",null,null,400]
[null,null,"Tubo de cobre flexivel, D = 1/2 \", E = 0,79 mm, para ar-condicionado/ instalacoes gas residenciais e comerciais","m",1.0210999999999999,26.922999999999998,27.491075299999995,{"$f":"SUM(G2148:G2150)","v":29.109618799999996},null,400]
[null,null,"Auxiliar de encanador ou bombeiro hidráulico com encargos complementares","h",{"$f":"0.061*0.7","v":4.2699999999999995E-2},16.596499999999999,0.7086705499999999,null,null,400]
[null,null,"Encanador ou Bombeiro Hidráulico com Encargos Complementares","h",{"$f":"0.061*0.7","v":4.2699999999999995E-2},21.308499999999999,0.90987294999999979,null,null,400]
[null,null,null,null,null,"","",null,null,400]
[null,null,"Obs.: As seguintes proporções foram consideradas quanto ao tempo de mão de obra: 70% para instalação do tubo e 30% para instalação do isolamento térmico.",null,null,"","",null,null,400]
[null,null,null,null,null,"","",null,null,400]
["SF-00345",{"$f":"INDEX(Orçamentária!A:B,MATCH(Composições!A2154,Orçamentária!A:A,0),2)","v":"Tubo de cobre de 1/4\""},null,{"$f":"TRIM(INDEX(Orçamentária!C:C,MATCH(Composições!A2154,Orçamentária!A:A,0),1))","v":"m"},null,"","",null,null,400]
[null,null,null,null,null,"","",null,null,400]
[null,null,"Tubo de cobre flexivel, D = 1/4 \", E = 0,79 mm, para ar-condicionado/ instalacoes gas residenciais e comerciais","m",1.0210999999999999,12.901,13.173211099999998,{"$f":"SUM(G2156:G2158)","v":14.552953099999998},null,400]
[null,null,"Auxiliar de encanador ou bombeiro hidráulico com encargos complementares","h",{"$f":"0.052*0.7","v":3.6399999999999995E-2},16.596499999999999,0.60411259999999989,null,null,400]
[null,null,"Encanador ou Bombeiro Hidráulico com Encargos Complementares","h",{"$f":"0.052*0.7","v":3.6399999999999995E-2},21.308499999999999,0.7756293999999998,null,null,400]
[null,null,null,null,null,"","",null,null,400]
[null,null,"Obs.: As seguintes proporções foram consideradas quanto ao tempo de mão de obra: 70% para instalação do tubo e 30% para instalação do isolamento térmico.",null,null,"","",null,null,400]
[null,null,null,null,null,"","",null,null,400]
["SF-00346",{"$f":"INDEX(Orçamentária!A:B,MATCH(Composições!A2162,Orçamentária!A:A,0),2)","v":"Tubo de cobre de 3/4\""},null,{"$f":"TRIM(INDEX(Orçamentária!C:C,MATCH(Composições!A2162,Orçamentária!A:A,0),1))","v":"m"},null,"","",null,null,400]
[null,null,null,null,null,"","",null,null,400]
[null,null,"Tubo de cobre flexivel, D = 3/4 \", E = 0,79 mm, para ar-condicionado/ instalacoes gas residenciais e comerciais","m",1.0210999999999999,40.4985,41.353018349999999,{"$f":"SUM(G2164:G2166)","v":43.051162349999998},null,400]
[null,null,"Auxiliar de encanador ou bombeiro hidráulico com encargos complementares","h",{"$f":"0.064*0.7","v":4.48E-2},16.596499999999999,0.74352319999999994,null,null,400]
[null,null,"Encanador ou Bombeiro Hidráulico com Encargos Complementares","h",{"$f":"0.064*0.7","v":4.48E-2},21.308499999999999,0.95462079999999994,null,null,400]
[null,null,null,null,null,"","",null,null,400]
[null,null,"Obs.: As seguintes proporções foram consideradas quanto ao tempo de mão de obra: 70% para instalação do tubo e 30% para instalação do isolamento térmico.",null,null,"","",null,null,400]
[null,null,null,null,null,"","",null,null,400]
["SF-00347",{"$f":"INDEX(Orçamentária!A:B,MATCH(Composições!A2170,Orçamentária!A:A,0),2)","v":"Tubo de cobre de 3/8\""},null,{"$f":"TRIM(INDEX(Orçamentária!C:C,MATCH(Composições!A2170,Orçamentária!A:A,0),1))","v":"m"},null,"","",null,null,800]
[null,null,null,null,null,"","",null,null,800]
[null,null,"Tubo de cobre flexivel, D = 3/8 \", E = 0,79 mm, para ar-condicionado/ instalacoes gas residenciais e comerciais","m",1.0210999999999999,19.845500000000001,20.264240049999998,{"$f":"SUM(G2172:G2174)","v":21.776649549999998},null,800]
[null,null,"Auxiliar de encanador ou bombeiro hidráulico com encargos complementares","h",{"$f":"0.057*0.7","v":3.9899999999999998E-2},16.596499999999999,0.66220034999999988,null,null,800]
[null,null,"Encanador ou Bombeiro Hidráulico com Encargos Complementares","h",{"$f":"0.057*0.7","v":3.9899999999999998E-2},21.308499999999999,0.85020914999999986,null,null,800]
[null,null,null,null,null,"","",null,null,800]
[null,null,"Obs.: As seguintes proporções foram consideradas quanto ao tempo de mão de obra: 70% para instalação do tubo e 30% para instalação do isolamento térmico.",null,null,"","",null,null,800]
[null,null,null,null,null,"","",null,null,800]
["SF-00348",{"$f":"INDEX(Orçamentária!A:B,MATCH(Composições!A2178,Orçamentária!A:A,0),2)","v":"Tubo de cobre de 5/8\""},null,{"$f":"TRIM(INDEX(Orçamentária!C:C,MATCH(Composições!A2178,Orçamentária!A:A,0),1))","v":"m"},null,"","",null,null,400]
[null,null,null,null,null,"","",null,null,400]
[null,null,"Tubo de cobre flexivel, D = 5/8 \", E = 0,79 mm, para ar-condicionado/ instalacoes gas residenciais e comerciais","m",1.0210999999999999,33.487499999999997,34.194086249999991,{"$f":"SUM(G2180:G2182)","v":35.89223024999999},null,400]
[null,null,"Auxiliar de encanador ou bombeiro hidráulico com encargos complementares","h",{"$f":"0.064*0.7","v":4.48E-2},16.596499999999999,0.74352319999999994,null,null,400]
[null,null,"Encanador ou Bombeiro Hidráulico com Encargos Complementares","h",{"$f":"0.064*0.7","v":4.48E-2},21.308499999999999,0.95462079999999994,null,null,400]
[null,null,null,null,null,"","",null,null,400]
[null,null,"Obs.: As seguintes proporções foram consideradas quanto ao tempo de mão de obra: 70% para instalação do tubo e 30% para instalação do isolamento térmico.",null,null,"","",null,null,400]
[null,null,null,null,null,"","",null,null,400]
["SF-00349",{"$f":"INDEX(Orçamentária!A:B,MATCH(Composições!A2186,Orçamentária!A:A,0),2)","v":"Tubo de cobre de 7/8\""},null,{"$f":"TRIM(INDEX(Orçamentária!C:C,MATCH(Composições!A2186,Orçamentária!A:A,0),1))","v":"m"},null,"","",null,null,100]
[null,null,null,null,null,"","",null,null,100]
[null,null,"Tubo de cobre flexivel, D = 7/8 \", E = 0,79 mm, para ar-condicionado/ instalacoes gas residenciais e comerciais","m",1.0210999999999999,31.549499999999998,32.215194449999998,{"$f":"SUM(G2188:G2190)","v":33.913338449999998},null,100]
[null,null,"Auxiliar de encanador ou bombeiro hidráulico com encargos complementares","h",{"$f":"0.064*0.7","v":4.48E-2},16.596499999999999,0.74352319999999994,null,null,100]
[null,null,"Encanador ou Bombeiro Hidráulico com Encargos Complementares","h",{"$f":"0.064*0.7","v":4.48E-2},21.308499999999999,0.95462079999999994,null,null,100]
[null,null,null,null,null,"","",null,null,100]
[null,null,"Obs.: As seguintes proporções foram consideradas quanto ao tempo de mão de obra: 70% para instalação do tubo e 30% para instalação do isolamento térmico.",null,null,"","",null,null,100]
[null,null,null,null,null,"","",null,null,100]
["SF-00350",{"$f":"INDEX(Orçamentária!A:B,MATCH(Composições!A2194,Orçamentária!A:A,0),2)","v":"Tubo de cobre de 1\""},null,{"$f":"TRIM(INDEX(Orçamentária!C:C,MATCH(Composições!A2194,Orçamentária!A:A,0),1))","v":"m"},null,"","",null,null,30]
[null,null,null,null,null,"","",null,null,30]
[null,null,"Tubo de cobre flexivel, D = 1 \", E = 0,79 mm, para ar-condicionado/ instalacoes gas residenciais e comerciais","m",1.0210999999999999,35.843499999999999,36.599797849999995,{"$f":"SUM(G2196:G2198)","v":38.297941849999994},null,30]
[null,null,"Auxiliar de encanador ou bombeiro hidráulico com encargos complementares","h",{"$f":"0.064*0.7","v":4.48E-2},16.596499999999999,{"$f":"IF(ISNUMBER(F2197),E2197*F2197,\"\")","v":0.74352319999999994},null,null,30]
[null,null,"Encanador ou Bombeiro Hidráulico com Encargos Complementares","h",{"$f":"0.064*0.7","v":4.48E-2},21.308499999999999,0.95462079999999994,null,null,30]
[null,null,null,null,null,"","",null,null,30]
[null,null,"Obs.: As seguintes proporções foram consideradas quanto ao tempo de mão de obra: 70% para instalação do tubo e 30% para instalação do isolamento térmico.",null,null,"","",null,null,30]
[null,null,null,null,null,"","",null,null,30]
["SF-00351",{"$f":"INDEX(Orçamentária!A:B,MATCH(Composições!A2202,Orçamentária!A:A,0),2)","v":"Tubo de cobre de 1 1/8\""},null,{"$f":"TRIM(INDEX(Orçamentária!C:C,MATCH(Composições!A2202,Orçamentária!A:A,0),1))","v":"m"},null,"","",null,null,60]
[null,null,null,null,null,"","",null,null,60]
[null,null,"Tubo de cobre flexivel, D = 1 1/8 \", E = 0,79 mm, para ar-condicionado/ instalacoes gas residenciais e comerciais","m",1.0210999999999999,40.042499999999997,40.887396749999994,{"$f":"SUM(G2204:G2206)","v":42.585540749999993},null,60]
[null,null,"Auxiliar de encanador ou bombeiro hidráulico com encargos complementares","h",{"$f":"0.064*0.7","v":4.48E-2},16.596499999999999,0.74352319999999994,null,null,60]
[null,null,"Encanador ou Bombeiro Hidráulico com Encargos Complementares","h",{"$f":"0.064*0.7","v":4.48E-2},21.308499999999999,0.95462079999999994,null,null,60]
[null,null,null,null,null,"","",null,null,60]
[null,null,"Obs.: As seguintes proporções foram consideradas quanto ao tempo de mão de obra: 70% para instalação do tubo e 30% para instalação do isolamento térmico.",null,null,"","",null,null,60]
[null,null,null,null,null,"","",null,null,60]
["SF-00354",{"$f":"INDEX(Orçamentária!A:B,MATCH(Composições!A2210,Orçamentária!A:A,0),2)","v":"Instalação de armários reaproveitados"},null,{"$f":"TRIM(INDEX(Orçamentária!C:C,MATCH(Composições!A2210,Orçamentária!A:A,0),1))","v":"m2"},null,"","",null,null,240]
[null,null,null,null,null,"","",null,null,240]
[null,null,"Marceneiro com encargos complementares","h",1.8,21.954499999999999,39.518099999999997,{"$f":"SUM(G2212:G2213)","v":96.764624999999995},null,240]
[null,null,"Ajudante de carpinteiro com encargos complementares","h",3.15,18.173499999999997,57.246524999999991,null,null,240]
[null,null,null,null,null,"","",null,null,240]
["SF-00355",{"$f":"INDEX(Orçamentária!A:B,MATCH(Composições!A2215,Orçamentária!A:A,0),2)","v":"Mesa/tampo de MDF, fixada em parede com mão-francesa"},null,{"$f":"TRIM(INDEX(Orçamentária!C:C,MATCH(Composições!A2215,Orçamentária!A:A,0),1))","v":"m2"},null,"","",null,null,20]
[null,null,null,null,null,"","",null,null,20]
[null,null,"Marceneiro com encargos complementares","h",1.8,21.954499999999999,39.518099999999997,{"$f":"SUM(G2217:G2220)","v":150.29736249999999},null,20]
[null,null,"Ajudante de carpinteiro com encargos complementares","h",{"$f":"3.15/2","v":1.575},18.173499999999997,28.623262499999996,null,null,20]
[null,null,"Suporte mao-francesa em aco, abas iguais 40 cm, capacidade minima 70 kg, branco","un",2,12.226499999999998,24.452999999999996,null,null,20]
[null,null,"Chapa de MDF branco liso 2 faces, e = 25 mm, de *2,75 x 1,85* m","m2",1,57.702999999999996,57.702999999999996,null,null,20]
[null,null,null,null,null,"","",null,null,20]
["SF-00356",{"$f":"INDEX(Orçamentária!A:B,MATCH(Composições!A2222,Orçamentária!A:A,0),2)","v":"Painel para TV de 120 x 180 cm"},null,{"$f":"TRIM(INDEX(Orçamentária!C:C,MATCH(Composições!A2222,Orçamentária!A:A,0),1))","v":"un"},null,"","",null,null,50]
[null,null,null,null,null,"","",null,null,50]
[null,null,"Marceneiro com encargos complementares","h",1,21.954499999999999,21.954499999999999,{"$f":"SUM(G2224:G2226)","v":289.57799999999997},null,50]
[null,null,"Ajudante de carpinteiro com encargos complementares","h",1,18.173499999999997,18.173499999999997,null,null,50]
[null,null,"Painel de TV de 120 x 180 cm, fabricado em MDP. Ref.: Urbe Móveis Plus","un",1,249.45,249.45,null,null,50]
[null,null,null,null,null,"","",null,null,50]
["SF-00357",{"$f":"INDEX(Orçamentária!A:B,MATCH(Composições!A2228,Orçamentária!A:A,0),2)","v":"Painel para TV de 160 x 160 cm"},null,{"$f":"TRIM(INDEX(Orçamentária!C:C,MATCH(Composições!A2228,Orçamentária!A:A,0),1))","v":"un"},null,"","",null,null,50]
[null,null,null,null,null,"","",null,null,50]
[null,null,"Marceneiro com encargos complementares","h",1,21.954499999999999,21.954499999999999,{"$f":"SUM(G2230:G2232)","v":577.07800000000009},null,50]
[null,null,"Ajudante de carpinteiro com encargos complementares","h",1,18.173499999999997,18.173499999999997,null,null,50]
[null,null,"Painel de TV de 160 x 160 cm, fabricado em MDP. Ref.: HB Móveis Life Canyon, HB Móveis Livin","un",1,536.95000000000005,536.95000000000005,null,null,50]
[null,null,null,null,null,"","",null,null,50]
["SF-00358",{"$f":"INDEX(Orçamentária!A:B,MATCH(Composições!A2234,Orçamentária!A:A,0),2)","v":"Painel para TV de 90 x 120 cm"},null,{"$f":"TRIM(INDEX(Orçamentária!C:C,MATCH(Composições!A2234,Orçamentária!A:A,0),1))","v":"un"},null,"","",null,null,0]
[null,null,null,null,null,"","",null,null,0]
[null,null,"Marceneiro com encargos complementares","h",1,21.954499999999999,21.954499999999999,{"$f":"SUM(G2236:G2238)","v":121.08799999999999},null,0]
[null,null,"Ajudante de carpinteiro com encargos complementares","h",1,18.173499999999997,18.173499999999997,null,null,0]
[null,null,"Painel de TV de 90 x 120 cm, fabricado em MDP. Ref.: Germai Ipanema 90 x 120 x 26,5","un",1,80.959999999999994,80.959999999999994,null,null,0]
[null,null,null,null,null,"","",null,null,0]
["SF-00359",{"$f":"INDEX(Orçamentária!A:B,MATCH(Composições!A2240,Orçamentária!A:A,0),2)","v":"Batentes e guarnições em madeira, com verniz ou esmalte"},null,{"$f":"TRIM(INDEX(Orçamentária!C:C,MATCH(Composições!A2240,Orçamentária!A:A,0),1))","v":"un"},null,"","",null,null,80]
[null,null,null,null,null,"","",null,null,80]
[null,null,"BATENTE/ PORTAL/ ADUELA/ MARCO MACICO, E= *3* CM, L= *13* CM, *60 CM A 120* CM X *210* CM, EM PINUS/ TAUARI/ VIROLA OU EQUIVALENTE DA REGIAO (NAO INCLUI ALIZARES)","JG",1,114.931,114.931,{"$f":"SUM(G2242:G2252)","v":242.89325049999999},null,80]
[null,null,"PREGO DE ACO POLIDO COM CABECA 12 X 12","KG",1.0999999999999999E-2,14.895999999999999,0.16385599999999997,null,null,80]
[null,null,"PREGO DE ACO POLIDO COM CABECA 18 X 30 (2 3/4 X 10)","KG",2.4E-2,11.305,0.27132000000000001,null,null,80]
[null,null,"CARPINTEIRO DE ESQUADRIA COM ENCARGOS COMPLEMENTARES","H",{"$f":"2.741+0.068","v":2.8090000000000002},21.612500000000001,60.709512500000002,null,null,80]
[null,null,"SERVENTE COM ENCARGOS COMPLEMENTARES","H",{"$f":"1.375+0.034","v":1.409},16.026499999999999,22.581338499999998,null,null,80]
[null,null,"PREGO DE ACO POLIDO SEM CABECA 15 X 15 (1 1/4 X 13)","KG",6.0000000000000001E-3,12.711,7.6266E-2,null,null,80]
[null,null,"GUARNICAO/ ALIZAR/ VISTA MACICA, E= *1* CM, L= *4,5* CM, EM CEDRINHO/ ANGELIM COMERCIAL/  EUCALIPTO/ CURUPIXA/ PEROBA/ CUMARU OU EQUIVALENTE DA REGIAO","M",{"$f":"(2.1*2+0.8)*1.163","v":5.8150000000000004},5.2629999999999999,30.604345000000002,null,null,80]
[null,null,"Lixa em folha para parede ou madeira, numero 120 (cor vermelha)","un",{"$f":"ROUND(1*0.15*(2*2.1+0.8),4)","v":0.75},0.64600000000000002,0.48450000000000004,null,null,80]
[null,null,"Verniz a base de água para madeira","L",{"$f":"ROUND(0.108*0.15*(2*2.1+0.8),4)","v":8.1000000000000003E-2},32.549999999999997,2.6365499999999997,null,null,80]
[null,null,"Pintor com encargos complementares","h",{"$f":"ROUND(0.4*0.15*(2*2.1+0.8),4)","v":0.3},22.762,6.8285999999999998,null,null,80]
[null,null,"Servente com Encargos Complementares","h",{"$f":"ROUND(0.3*0.15*(2*2.1+0.8),4)","v":0.22500000000000001},16.026499999999999,3.6059625,null,null,80]
[null,null,null,null,null,null,null,null,null,80]
[null,null,"Obs: considerando rendimento informado na especificação técnica de produto equivalente da Suvinil (Lata de 3,6L rende até 100 m²/demão).",null,null,null,null,null,null,80]
[null,null,null,null,null,"",{"$f":"IF(ISNUMBER(F2255),E2255*F2255,\"\")","v":""},null,null,80]
["SF-00360",{"$f":"INDEX(Orçamentária!A:B,MATCH(Composições!A2256,Orçamentária!A:A,0),2)","v":"Chapa de proteção para porta – Linha Acessibilidade"},null,{"$f":"TRIM(INDEX(Orçamentária!C:C,MATCH(Composições!A2256,Orçamentária!A:A,0),1))","v":"m2"},null,"","",null,null,5]
[null,null,null,null,null,"","",null,null,5]
[null,null,"Servente com Encargos Complementares","h",0.3,16.026499999999999,4.8079499999999991,{"$f":"SUM(G2258:G2260)","v":219.12429999999998},null,5]
[null,null,"Marceneiro com encargos complementares","h",0.3,21.954499999999999,6.5863499999999995,null,null,5]
[null,null,"Chapa de proteção em aço inox AISI 304, largura conforme projeto, 400 mm de altura, chapa com espessura de 1 mm, acabamento escovado fosco","m2",1,207.73,207.73,null,null,5]
[null,null,null,null,null,"","",null,null,5]
["SF-00361",{"$f":"INDEX(Orçamentária!A:B,MATCH(Composições!A2262,Orçamentária!A:A,0),2)","v":"Folha de porta em madeira 2,10x0,60m, pintada"},null,{"$f":"TRIM(INDEX(Orçamentária!C:C,MATCH(Composições!A2262,Orçamentária!A:A,0),1))","v":"un"},null,"","",null,null,20]
[null,null,null,null,null,"","",null,null,20]
[null,null,"PORTA DE MADEIRA, FOLHA MEDIA (NBR 15930) DE 60 X 210 CM, E = 35 MM, NUCLEO SARRAFEADO, CAPA LISA EM HDF, ACABAMENTO LAMINADO NATURAL PARA VERNIZ","UN",1,189.25899999999999,189.25899999999999,{"$f":"SUM(G2264:G2270)","v":265.19132919999998},null,20]
[null,null,"CARPINTEIRO DE ESQUADRIA COM ENCARGOS COMPLEMENTARES","H",{"$f":"ROUND(1.282*0.8,4)","v":1.0256000000000001},21.612500000000001,22.165780000000002,null,null,20]
[null,null,"SERVENTE COM ENCARGOS COMPLEMENTARES","H",{"$f":"ROUND(0.641*0.8,4)","v":0.51280000000000003},16.026499999999999,8.218389199999999,null,null,20]
[null,null,"Lixa em folha para parede ou madeira, numero 120 (cor vermelha)","un",{"$f":"ROUND(1*(2*0.6*2.1),4)","v":2.52},0.64600000000000002,1.62792,null,null,20]
[null,null,"Verniz a base de água para madeira","L",{"$f":"ROUND(0.108*(2*0.6*2.1),4)","v":0.2722},32.549999999999997,8.8601099999999988,null,null,20]
[null,null,"Pintor com encargos complementares","h",{"$f":"ROUND(0.4*(2*0.6*2.1),4)","v":1.008},22.762,22.944096000000002,null,null,20]
[null,null,"Servente com Encargos Complementares","h",{"$f":"ROUND(0.3*(2*0.6*2.1),4)","v":0.75600000000000001},16.026499999999999,12.116033999999999,null,null,20]
[null,null,null,null,null,null,null,null,null,20]
[null,null,"Obs: considerando rendimento informado na especificação técnica de produto equivalente da Suvinil (Lata de 3,6L rende até 100 m²/demão).",null,null,null,null,null,null,20]
[null,null,null,null,null,"",{"$f":"IF(ISNUMBER(F2273),E2273*F2273,\"\")","v":""},null,null,20]
["SF-00362",{"$f":"INDEX(Orçamentária!A:B,MATCH(Composições!A2274,Orçamentária!A:A,0),2)","v":"Folha de porta em madeira 2,10x0,70m, pintada"},null,{"$f":"TRIM(INDEX(Orçamentária!C:C,MATCH(Composições!A2274,Orçamentária!A:A,0),1))","v":"un"},null,"","",null,null,40]
[null,null,null,null,null,"","",null,null,40]
[null,null,"PORTA DE MADEIRA, FOLHA MEDIA (NBR 15930) DE 70 X 210 CM, E = 35 MM, NUCLEO SARRAFEADO, CAPA LISA EM HDF, ACABAMENTO EM LAMINADO NATURAL PARA VERNIZ","UN",1,130.38749999999999,130.38749999999999,{"$f":"SUM(G2276:G2282)","v":217.03749839999995},null,40]
[null,null,"CARPINTEIRO DE ESQUADRIA COM ENCARGOS COMPLEMENTARES","H",{"$f":"ROUND(1.414*0.8,4)","v":1.1312},21.612500000000001,24.448060000000002,null,null,40]
[null,null,"SERVENTE COM ENCARGOS COMPLEMENTARES","H",{"$f":"ROUND(0.707*0.8,4)","v":0.56559999999999999},16.026499999999999,9.0645883999999999,null,null,40]
[null,null,"Lixa em folha para parede ou madeira, numero 120 (cor vermelha)","un",{"$f":"ROUND(1*(2*0.7*2.1),4)","v":2.94},0.64600000000000002,1.89924,null,null,40]
[null,null,"Verniz a base de água para madeira","L",{"$f":"ROUND(0.108*(2*0.7*2.1),4)","v":0.3175},32.549999999999997,10.334624999999999,null,null,40]
[null,null,"Pintor com encargos complementares","h",{"$f":"ROUND(0.4*(2*0.7*2.1),4)","v":1.1759999999999999},22.762,26.768111999999999,null,null,40]
[null,null,"Servente com Encargos Complementares","h",{"$f":"ROUND(0.3*(2*0.7*2.1),4)","v":0.88200000000000001},16.026499999999999,14.135373,null,null,40]
[null,null,null,null,null,null,null,null,null,40]
[null,null,"Obs: considerando rendimento informado na especificação técnica de produto equivalente da Suvinil (Lata de 3,6L rende até 100 m²/demão).",null,null,null,null,null,null,40]
[null,null,null,null,null,"",{"$f":"IF(ISNUMBER(F2285),E2285*F2285,\"\")","v":""},null,null,40]
["SF-00363",{"$f":"INDEX(Orçamentária!A:B,MATCH(Composições!A2286,Orçamentária!A:A,0),2)","v":"Folha de porta em madeira 2,10x0,80m, pintada"},null,{"$f":"TRIM(INDEX(Orçamentária!C:C,MATCH(Composições!A2286,Orçamentária!A:A,0),1))","v":"un"},null,"","",null,null,40]
[null,null,null,null,null,"","",null,null,40]
[null,null,"PORTA DE MADEIRA, FOLHA MEDIA (NBR 15930) DE 80 X 210 CM, E = 35 MM, NUCLEO SARRAFEADO, CAPA LISA EM HDF, ACABAMENTO EM LAMINADO NATURAL PARA VERNIZ","UN",1,222.053,222.053,{"$f":"SUM(G2288:G2294)","v":319.42392260000003},null,40]
[null,null,"CARPINTEIRO DE ESQUADRIA COM ENCARGOS COMPLEMENTARES","H",{"$f":"ROUND(1.546*0.8,4)","v":1.2367999999999999},21.612500000000001,26.730339999999998,null,null,40]
[null,null,"SERVENTE COM ENCARGOS COMPLEMENTARES","H",{"$f":"ROUND(0.773*0.8,4)","v":0.61839999999999995},16.026499999999999,9.910787599999999,null,null,40]
[null,null,"Lixa em folha para parede ou madeira, numero 120 (cor vermelha)","un",{"$f":"ROUND(1*(2*0.8*2.1),4)","v":3.36},0.64600000000000002,2.17056,null,null,40]
[null,null,"Verniz a base de água para madeira","L",{"$f":"ROUND(0.108*(2*0.8*2.1),4)","v":0.3629},32.549999999999997,11.812394999999999,null,null,40]
[null,null,"Pintor com encargos complementares","h",{"$f":"ROUND(0.4*(2*0.8*2.1),4)","v":1.3440000000000001},22.762,30.592128000000002,null,null,40]
[null,null,"Servente com Encargos Complementares","h",{"$f":"ROUND(0.3*(2*0.8*2.1),4)","v":1.008},16.026499999999999,16.154712,null,null,40]
[null,null,null,null,null,null,null,null,null,40]
[null,null,"Obs: considerando rendimento informado na especificação técnica de produto equivalente da Suvinil (Lata de 3,6L rende até 100 m²/demão).",null,null,null,null,null,null,40]
[null,null,null,null,null,"",{"$f":"IF(ISNUMBER(F2297),E2297*F2297,\"\")","v":""},null,null,40]
["SF-00364",{"$f":"INDEX(Orçamentária!A:B,MATCH(Composições!A2298,Orçamentária!A:A,0),2)","v":"Folha de porta em madeira 2,10x0,90m, pintada"},null,{"$f":"TRIM(INDEX(Orçamentária!C:C,MATCH(Composições!A2298,Orçamentária!A:A,0),1))","v":"un"},null,"","",null,null,20]
[null,null,null,null,null,"","",null,null,20]
[null,null,"PORTA DE MADEIRA, FOLHA MEDIA (NBR 15930) DE 90 X 210 CM, E = 35 MM, NUCLEO SARRAFEADO, CAPA LISA EM HDF, ACABAMENTO EM LAMINADO NATURAL PARA VERNIZ","UN",1,204.00299999999999,204.00299999999999,{"$f":"SUM(G2300:G2306)","v":312.0915918},null,20]
[null,null,"CARPINTEIRO DE ESQUADRIA COM ENCARGOS COMPLEMENTARES","H",{"$f":"ROUND(1.678*0.8,4)","v":1.3424},21.612500000000001,29.012620000000002,null,null,20]
[null,null,"SERVENTE COM ENCARGOS COMPLEMENTARES","H",{"$f":"ROUND(0.839*0.8,4)","v":0.67120000000000002},16.026499999999999,10.7569868,null,null,20]
[null,null,"Lixa em folha para parede ou madeira, numero 120 (cor vermelha)","un",{"$f":"ROUND(1*(2*0.9*2.1),4)","v":3.78},0.64600000000000002,2.4418799999999998,null,null,20]
[null,null,"Verniz a base de água para madeira","L",{"$f":"ROUND(0.108*(2*0.9*2.1),4)","v":0.40820000000000001},32.549999999999997,13.286909999999999,null,null,20]
[null,null,"Pintor com encargos complementares","h",{"$f":"ROUND(0.4*(2*0.9*2.1),4)","v":1.512},22.762,34.416144000000003,null,null,20]
[null,null,"Servente com Encargos Complementares","h",{"$f":"ROUND(0.3*(2*0.9*2.1),4)","v":1.1339999999999999},16.026499999999999,18.174050999999995,null,null,20]
[null,null,null,null,null,null,null,null,null,20]
[null,null,"Obs: considerando rendimento informado na especificação técnica de produto equivalente da Suvinil (Lata de 3,6L rende até 100 m²/demão).",null,null,null,null,null,null,20]
[null,null,null,null,null,"",{"$f":"IF(ISNUMBER(F2309),E2309*F2309,\"\")","v":""},null,null,20]
["SF-00365",{"$f":"INDEX(Orçamentária!A:B,MATCH(Composições!A2310,Orçamentária!A:A,0),2)","v":"Folha de porta em madeira 2,10x1,0m, pintada"},null,{"$f":"TRIM(INDEX(Orçamentária!C:C,MATCH(Composições!A2310,Orçamentária!A:A,0),1))","v":"un"},null,"","",null,null,10]
[null,null,null,null,null,"","",null,null,10]
[null,null,"PORTA DE MADEIRA, FOLHA MEDIA (NBR 15930) DE 100 X 210 CM, E = 35 MM, NUCLEO SARRAFEADO, CAPA LISA EM HDF, ACABAMENTO EM LAMINADO NATURAL PARA VERNIZ","UN",1,223.76299999999998,223.76299999999998,{"$f":"SUM(G2312:G2318)","v":339.44403679999999},null,10]
[null,null,"CARPINTEIRO DE ESQUADRIA COM ENCARGOS COMPLEMENTARES","H",{"$f":"ROUND(1.678*0.8,4)","v":1.3424},21.612500000000001,29.012620000000002,null,null,10]
[null,null,"SERVENTE COM ENCARGOS COMPLEMENTARES","H",{"$f":"ROUND(0.839*0.8,4)","v":0.67120000000000002},16.026499999999999,10.7569868,null,null,10]
[null,null,"Lixa em folha para parede ou madeira, numero 120 (cor vermelha)","un",{"$f":"ROUND(1*(2*1*2.1),4)","v":4.2},0.64600000000000002,2.7132000000000001,null,null,10]
[null,null,"Verniz a base de água para madeira","L",{"$f":"ROUND(0.108*(2*1*2.1),4)","v":0.4536},32.549999999999997,14.764679999999998,null,null,10]
[null,null,"Pintor com encargos complementares","h",{"$f":"ROUND(0.4*(2*1*2.1),4)","v":1.68},22.762,38.240159999999996,null,null,10]
[null,null,"Servente com Encargos Complementares","h",{"$f":"ROUND(0.3*(2*1*2.1),4)","v":1.26},16.026499999999999,20.193389999999997,null,null,10]
[null,null,null,null,null,null,null,null,null,10]
[null,null,"Obs: considerando rendimento informado na especificação técnica de produto equivalente da Suvinil (Lata de 3,6L rende até 100 m²/demão).",null,null,null,null,null,null,10]
[null,null,null,null,null,"",{"$f":"IF(ISNUMBER(F2321),E2321*F2321,\"\")","v":""},null,null,10]
["SF-00366",{"$f":"INDEX(Orçamentária!A:B,MATCH(Composições!A2322,Orçamentária!A:A,0),2)","v":"Instalação de batentes de madeira reaproveitados"},null,{"$f":"TRIM(INDEX(Orçamentária!C:C,MATCH(Composições!A2322,Orçamentária!A:A,0),1))","v":"un"},null,"","",null,null,30]
[null,null,null,null,null,"","",null,null,30]
[null,null,"PREGO DE ACO POLIDO COM CABECA 12 X 12","KG",1.0999999999999999E-2,14.895999999999999,0.16385599999999997,{"$f":"SUM(G2324:G2327)","v":81.422999000000004},null,30]
[null,null,"PREGO DE ACO POLIDO COM CABECA 18 X 30 (2 3/4 X 10)","KG",2.4E-2,11.305,0.27132000000000001,null,null,30]
[null,null,"CARPINTEIRO DE ESQUADRIA COM ENCARGOS COMPLEMENTARES","H",2.7410000000000001,21.612500000000001,59.239862500000001,null,null,30]
[null,null,"SERVENTE COM ENCARGOS COMPLEMENTARES","H",1.357,16.026499999999999,21.747960499999998,null,null,30]
[null,null,null,null,null,"","",null,null,30]
["SF-00367",{"$f":"INDEX(Orçamentária!A:B,MATCH(Composições!A2329,Orçamentária!A:A,0),2)","v":"Instalação de folhas de portas e dobradiças reaproveitadas"},null,{"$f":"TRIM(INDEX(Orçamentária!C:C,MATCH(Composições!A2329,Orçamentária!A:A,0),1))","v":"un"},null,"","",null,null,30]
[null,null,null,null,null,"","",null,null,30]
[null,null,"PARAFUSO ROSCA SOBERBA ZINCADO CABECA CHATA FENDA SIMPLES 3,5 X 25 MM (1 \")","UN",19.8,3.7999999999999999E-2,0.75239999999999996,{"$f":"SUM(G2331:G2334)","v":58.308767500000002},null,30]
[null,null,"CARPINTEIRO DE ESQUADRIA COM ENCARGOS COMPLEMENTARES","H",1.546,21.612500000000001,33.412925000000001,null,null,30]
[null,null,"PEDREIRO COM ENCARGOS COMPLEMENTARES","H",0.221,21.716999999999999,4.7994569999999994,null,null,30]
[null,null,"SERVENTE COM ENCARGOS COMPLEMENTARES","H",1.2070000000000001,16.026499999999999,19.343985499999999,null,null,30]
[null,null,null,null,null,"","",null,null,30]
["SF-00368",{"$f":"INDEX(Orçamentária!A:B,MATCH(Composições!A2336,Orçamentária!A:A,0),2)","v":"Dobradiça para porta"},null,{"$f":"TRIM(INDEX(Orçamentária!C:C,MATCH(Composições!A2336,Orçamentária!A:A,0),1))","v":"un"},null,"","",null,null,400]
[null,null,null,null,null,"","",null,null,400]
[null,null,"DOBRADICA EM LATAO, 3 \" X 2 1/2 \", E= 1,9 A 2 MM, COM ANEL, CROMADO, TAMPA BOLA, COM PARAFUSOS","UN",1,19.047499999999999,19.047499999999999,{"$f":"SUM(G2338:G2340)","v":46.184686999999997},null,400]
[null,null,"SERVENTE COM ENCARGOS COMPLEMENTARES","h",0.45800000000000002,16.026499999999999,7.3401369999999995,null,null,400]
[null,null,"Carpinteiro de esquadria com encargos complementares","h",0.91600000000000004,21.612500000000001,19.797050000000002,null,null,400]
[null,null,null,null,null,"","",null,null,400]
["SF-00369",{"$f":"INDEX(Orçamentária!A:B,MATCH(Composições!A2342,Orçamentária!A:A,0),2)","v":"Fechadura para banheiro maçaneta em barra"},null,{"$f":"TRIM(INDEX(Orçamentária!C:C,MATCH(Composições!A2342,Orçamentária!A:A,0),1))","v":"un"},null,"","",null,null,15]
[null,null,null,null,null,"","",null,null,15]
[null,null,"Fechadura para porta de banheiro, com maçaneta em formato de barra, confeccionada em aço com acabamento inox polido. Ref.: MZ 270 WC Standard – Linha Standard – Papaiz","un ",1,100.1,100.1,{"$f":"SUM(G2344:G2346)","v":122.8309635},null,15]
[null,null,"Carpinteiro de esquadria com encargos complementares","h",0.76700000000000002,21.612500000000001,16.576787500000002,null,null,15]
[null,null,"Servente com Encargos Complementares","h",0.38400000000000001,16.026499999999999,6.1541759999999996,null,null,15]
[null,null,null,null,null,"","",null,null,15]
["SF-00370",{"$f":"INDEX(Orçamentária!A:B,MATCH(Composições!A2348,Orçamentária!A:A,0),2)","v":"Fechadura para porta externa maçaneta em barra"},null,{"$f":"TRIM(INDEX(Orçamentária!C:C,MATCH(Composições!A2348,Orçamentária!A:A,0),1))","v":"un"},null,"","",null,null,20]
[null,null,null,null,null,"","",null,null,20]
[null,null,"Fechadura para porta externa, com maçaneta em formato de barra, confeccionada em zamac com acabamento cromado. Ref.: MZ 270 EXT Standard – Linha Standard – Papaiz","un ",1,125.2,125.2,{"$f":"SUM(G2350:G2352)","v":154.88500150000002},null,20]
[null,null,"Carpinteiro de esquadria com encargos complementares","h",1.002,21.612500000000001,21.655725,null,null,20]
[null,null,"Servente com Encargos Complementares","h",0.501,16.026499999999999,8.0292764999999999,null,null,20]
[null,null,null,null,null,"","",null,null,20]
["SF-00371",{"$f":"INDEX(Orçamentária!A:B,MATCH(Composições!A2354,Orçamentária!A:A,0),2)","v":"Fechadura para porta interna maçaneta tubular"},null,{"$f":"TRIM(INDEX(Orçamentária!C:C,MATCH(Composições!A2354,Orçamentária!A:A,0),1))","v":"un"},null,"","",null,null,160]
[null,null,null,null,null,"","",null,null,160]
[null,null,"Fechadura para porta interna, com acabamento cromado brilhante, maçaneta tipo pera, com pino giratório central. Ref.: CJ 030 (externo) – Linha Professionel – La Fonte","un ",1,676.88,676.88,{"$f":"SUM(G2356:G2358)","v":706.56500149999999},null,160]
[null,null,"Carpinteiro de esquadria com encargos complementares","h",1.002,21.612500000000001,21.655725,null,null,160]
[null,null,"Servente com Encargos Complementares","h",0.501,16.026499999999999,8.0292764999999999,null,null,160]
[null,null,null,null,null,"","",null,null,160]
["SF-00372",{"$f":"INDEX(Orçamentária!A:B,MATCH(Composições!A2360,Orçamentária!A:A,0),2)","v":"Instalação de fechadura/puxador de porta reaproveitados"},null,{"$f":"TRIM(INDEX(Orçamentária!C:C,MATCH(Composições!A2360,Orçamentária!A:A,0),1))","v":"un"},null,"","",null,null,30]
[null,null,null,null,null,"","",null,null,30]
[null,null,"Carpinteiro de esquadria com encargos complementares","h",1.002,21.612500000000001,21.655725,{"$f":"SUM(G2362:G2363)","v":29.685001499999998},null,30]
[null,null,"Servente com Encargos Complementares","h",0.501,16.026499999999999,8.0292764999999999,null,null,30]
[null,null,null,null,null,"","",null,null,30]
["SF-00373",{"$f":"INDEX(Orçamentária!A:B,MATCH(Composições!A2365,Orçamentária!A:A,0),2)","v":"Mola hidráulica aérea"},null,{"$f":"TRIM(INDEX(Orçamentária!C:C,MATCH(Composições!A2365,Orçamentária!A:A,0),1))","v":"un"},null,"","",null,null,25]
[null,null,null,null,null,"","",null,null,25]
[null,null,"Marceneiro com encargos complementares","h",1,21.954499999999999,21.954499999999999,{"$f":"SUM(G2367:G2368)","v":243.71449999999999},null,25]
[null,null,"Mola aérea para fechamento automático de portas com regulagem da velocidade de fechamento. Ref.: Mola automática – Modelo 453 - Coimbra","un",1,221.76,221.76,null,null,25]
[null,null,null,null,null,"","",null,null,25]
["SF-00374",{"$f":"INDEX(Orçamentária!A:B,MATCH(Composições!A2370,Orçamentária!A:A,0),2)","v":"Pivô em latão com acabamento cromado para portas pivotantes"},null,{"$f":"TRIM(INDEX(Orçamentária!C:C,MATCH(Composições!A2370,Orçamentária!A:A,0),1))","v":"un"},null,"","",null,null,25]
[null,null,null,null,null,"","",null,null,25]
[null,null,"Marceneiro com encargos complementares","h",{"$f":"1/2","v":0.5},21.954499999999999,10.97725,{"$f":"SUM(G2372:G2373)","v":109.87725},null,25]
[null,null,"Pivô em latão com acabamento cromado para portas pivotantes até 150 kg. Conjunto completo composto de superior macho e fêmea e inferior macho e fêmea. Ref.: Pivô Strong 150 - La fonte","un",1,98.9,98.9,null,null,25]
[null,null,null,null,null,"","",null,null,25]
["SF-00375",{"$f":"INDEX(Orçamentária!A:B,MATCH(Composições!A2375,Orçamentária!A:A,0),2)","v":"Cabo de dados tipo UTP, tipo LSZH, categoria 6"},null,{"$f":"TRIM(INDEX(Orçamentária!C:C,MATCH(Composições!A2375,Orçamentária!A:A,0),1))","v":"m"},null,"","",null,null,30000]
[null,null,null,null,null,"","",null,null,30000]
[null,null,"Auxiliar de eletricista com encargos complementares","h",2.8E-3,17.042999999999999,4.7720399999999996E-2,{"$f":"SUM(G2377:G2379)","v":4.6240866},null,30000]
[null,null,"Eletricista com encargos complementares","h",2.8E-3,21.916499999999999,6.1366199999999996E-2,null,null,30000]
[null,null,"Cabo de dados tipo UTP, tipo LSZH, categoria 6. Ref.: AMP 1989106-6, Furukawa 23400196","m",1.05,4.3,4.5149999999999997,null,null,30000]
[null,null,null,null,null,"","",null,null,30000]
["SF-00376",{"$f":"INDEX(Orçamentária!A:B,MATCH(Composições!A2381,Orçamentária!A:A,0),2)","v":"Módulo (tomada) de rede RJ45, categoria 6, com conectorização e certificação"},null,{"$f":"TRIM(INDEX(Orçamentária!C:C,MATCH(Composições!A2381,Orçamentária!A:A,0),1))","v":"un"},null,"","",null,null,1400]
[null,null,null,null,null,"","",null,null,1400]
[null,null,"Tampa p/ conector /RJ45. ref.: Schneider Electric PRM47761 (Padrão Keystone), Schneider Electric PRM47771 (Padrão AMP)","un ",1,7.4,7.4,{"$f":"SUM(G2383:G2387)","v":70.61689779999999},null,1400]
[null,null,"Módulo RJ 45 - CAT 6. Ref.: AMP 1375055-2, Furukawa 35030621","un ",1,32.21,32.21,null,null,1400]
[null,null,"Certificação de ponto de rede","un ",1,14.94,{"$f":"IF(ISNUMBER(F2385),E2385*F2385,\"\")","v":14.94},null,null,1400]
[null,null,"Auxiliar de eletricista com encargos complementares","h",{"$f":"0.2062*2","v":0.41239999999999999},17.042999999999999,7.0285331999999991,null,null,1400]
[null,null,"Eletricista com encargos complementares","h",{"$f":"0.2062*2","v":0.41239999999999999},21.916499999999999,9.0383645999999995,null,null,1400]
[null,null,null,null,null,"","",null,null,1400]
["SF-00377",{"$f":"INDEX(Orçamentária!A:B,MATCH(Composições!A2389,Orçamentária!A:A,0),2)","v":"Painel de distribuição (patch panel) de 24 portas, categoria 6"},null,{"$f":"TRIM(INDEX(Orçamentária!C:C,MATCH(Composições!A2389,Orçamentária!A:A,0),1))","v":"un"},null,"","",null,null,30]
[null,null,null,null,null,"","",null,null,30]
[null,null,"Auxiliar de eletricista com encargos complementares","h",{"$f":"6.2007","v":6.2007000000000003},17.042999999999999,105.6785301,{"$f":"SUM(G2391:G2394)","v":1775.3161716499999},null,30]
[null,null,"Eletricista com encargos complementares","h",{"$f":"6.2007","v":6.2007000000000003},21.916499999999999,135.89764155,null,null,30]
[null,null,"Painel de distribuição (patch panel) de 24 portas, categoria 6. Ref.: AMP 1375014-2","un",1,760.7,760.7,null,null,30]
[null,null,"Módulo RJ 45 - CAT 6. Ref.: AMP 1375055-2, Furukawa 35030621","un ",24,32.21,773.04,null,null,30]
[null,null,null,null,null,"","",null,null,30]
["SF-00378",{"$f":"INDEX(Orçamentária!A:B,MATCH(Composições!A2396,Orçamentária!A:A,0),2)","v":"Cabo de telefonia tipo CCI 50x2"},null,{"$f":"TRIM(INDEX(Orçamentária!C:C,MATCH(Composições!A2396,Orçamentária!A:A,0),1))","v":"m"},null,"","",null,null,10000]
[null,null,null,null,null,"","",null,null,10000]
[null,null,"Auxiliar de eletricista com encargos complementares","h",6.4100000000000004E-2,17.042999999999999,1.0924563,{"$f":"SUM(G2398:G2400)","v":3.5347039499999999},null,10000]
[null,null,"Eletricista com encargos complementares","h",6.4100000000000004E-2,21.916499999999999,1.40484765,null,null,10000]
[null,null,"CABO TELEFONICO CCI 50, 2 PARES, USO INTERNO, SEM BLINDAGEM","m",1.05,0.98799999999999999,1.0374000000000001,null,null,10000]
[null,null,null,null,null,"","",null,null,10000]
["SF-00379",{"$f":"INDEX(Orçamentária!A:B,MATCH(Composições!A2402,Orçamentária!A:A,0),2)","v":"Módulo (tomada) de rede RJ45, para telefonia"},null,{"$f":"TRIM(INDEX(Orçamentária!C:C,MATCH(Composições!A2402,Orçamentária!A:A,0),1))","v":"un"},null,"","",null,null,1040]
[null,null,null,null,null,"","",null,null,1040]
[null,null,"Tampa p/ conector /RJ45. ref.: Schneider Electric PRM47761 (padrão Keystone), Schneider Electric PRM47771 (padrão AMP)","un ",1,7.4,7.4,{"$f":"SUM(G2404:G2407)","v":43.724448899999999},null,1040]
[null,null,"Tomada RJ45, 8 fios, CAT 5E (apenas modulo)","UN",1,28.291,28.291,null,null,1040]
[null,null,"Auxiliar de eletricista com encargos complementares","h",0.20619999999999999,17.042999999999999,3.5142665999999996,null,null,1040]
[null,null,"Eletricista com encargos complementares","h",0.20619999999999999,21.916499999999999,4.5191822999999998,null,null,1040]
[null,null,null,null,null,"","",null,null,1040]
["SF-00380",{"$f":"INDEX(Orçamentária!A:B,MATCH(Composições!A2409,Orçamentária!A:A,0),2)","v":"Grelha para retorno para portas, divisórias e paredes 525x325 mm"},null,{"$f":"TRIM(INDEX(Orçamentária!C:C,MATCH(Composições!A2409,Orçamentária!A:A,0),1))","v":"un"},null,"","",null,null,100]
[null,null,null,null,null,"","",null,null,100]
[null,null,"Ajudante de operação em geral com encargos complementares","h",3.5,17.128499999999999,59.949749999999995,{"$f":"SUM(G2411:G2413)","v":350.79724999999996},null,100]
[null,null,"MONTADOR ELETROMECÃNICO COM ENCARGOS COMPLEMENTARES","h",3.5,22.704999999999998,79.467500000000001,null,null,100]
[null,null,"Grelha para retorno para portas, divisórias e paredes 525x325 mm, Ref. Trox AGS-T","un ",1,211.38,211.38,null,null,100]
[null,null,null,null,null,"","",null,null,100]
["SF-00408",{"$f":"INDEX(Orçamentária!A:B,MATCH(Composições!A2415,Orçamentária!A:A,0),2)","v":"Fechadura para Porta Externa com Espelho - Millenio"},null,{"$f":"TRIM(INDEX(Orçamentária!C:C,MATCH(Composições!A2415,Orçamentária!A:A,0),1))","v":"un"},null,"","",null,null,0]
[null,null,null,null,null,"","",null,null,0]
[null,null,"FECHADURA DE EMBUTIR PARA PORTA EXTERNA / ENTRADA, MAQUINA 40 MM, COM CILINDRO, MACANETA ALAVANCA E ESPELHO EM METAL CROMADO - NIVEL SEGURANCA MEDIO - COMPLETA","CJ",1,47.404999999999994,47.404999999999994,{"$f":"SUM(G2417:G2417)","v":47.404999999999994},null,0]
[null,null,null,null,null,"","",null,null,0]
["SF-00467",{"$f":"INDEX(Orçamentária!A:B,MATCH(Composições!A2419,Orçamentária!A:A,0),2)","v":"Espuma Expansiva à base de poliuretano"},null,{"$f":"TRIM(INDEX(Orçamentária!C:C,MATCH(Composições!A2419,Orçamentária!A:A,0),1))","v":"500 ml"},null,"","",null,null,0]
[null,null,null,null,null,"","",null,null,0]
[null,null,"ESPUMA EXPANSIVA DE POLIURETANO, APLICACAO MANUAL - 500 ML","UN",1,19.9025,19.9025,{"$f":"SUM(G2421:G2421)","v":19.9025},null,0]
[null,null,null,null,null,"","",null,null,0]
["SF-00563",{"$f":"INDEX(Orçamentária!A:B,MATCH(Composições!A2423,Orçamentária!A:A,0),2)","v":"Argamassa Para Contrapiso"},null,{"$f":"TRIM(INDEX(Orçamentária!C:C,MATCH(Composições!A2423,Orçamentária!A:A,0),1))","v":"40 kg"},null,"","",null,null,0]
[null,null,null,null,null,"","",null,null,0]
[null,null,"ARGAMASSA PRONTA PARA CONTRAPISO","kg",40,0.41799999999999998,16.72,{"$f":"SUM(G2425:G2425)","v":16.72},null,0]
[null,null,null,null,null,"","",null,null,0]
["SF-00564",{"$f":"INDEX(Orçamentária!A:B,MATCH(Composições!A2427,Orçamentária!A:A,0),2)","v":"Argamassa Múltiplo Uso"},null,{"$f":"TRIM(INDEX(Orçamentária!C:C,MATCH(Composições!A2427,Orçamentária!A:A,0),1))","v":"40 kg"},null,"","",null,null,0]
[null,null,null,null,null,"","",null,null,0]
[null,null,"ARGAMASSA INDUSTRIALIZADA MULTIUSO, PARA REVESTIMENTO INTERNO E EXTERNO E ASSENTAMENTO DE BLOCOS DIVERSOS","kg",40,0.44649999999999995,17.86,{"$f":"SUM(G2429:G2429)","v":17.86},null,0]
[null,null,null,null,null,"","",null,null,0]
["SF-00565",{"$f":"INDEX(Orçamentária!A:B,MATCH(Composições!A2431,Orçamentária!A:A,0),2)","v":"Cimento Portland CP II E 32"},null,{"$f":"TRIM(INDEX(Orçamentária!C:C,MATCH(Composições!A2431,Orçamentária!A:A,0),1))","v":"50 kg"},null,"","",null,null,0]
[null,null,null,null,null,"","",null,null,0]
[null,null,"CIMENTO PORTLAND COMPOSTO CP II-32","kg",50,0.44649999999999995,22.324999999999999,{"$f":"SUM(G2433:G2433)","v":22.324999999999999},null,0]
[null,null,null,null,null,"","",null,null,0]
["SF-00566",{"$f":"INDEX(Orçamentária!A:B,MATCH(Composições!A2435,Orçamentária!A:A,0),2)","v":"Argamassa Colante tipo AC III"},null,{"$f":"TRIM(INDEX(Orçamentária!C:C,MATCH(Composições!A2435,Orçamentária!A:A,0),1))","v":"20 kg"},null,"","",null,null,0]
[null,null,null,null,null,"","",null,null,0]
[null,null,"Argamassa colante tipo AC III","kg",20,1.254,25.08,{"$f":"SUM(G2437:G2437)","v":25.08},null,0]
[null,null,null,null,null,"","",null,null,0]
["SF-00567",{"$f":"INDEX(Orçamentária!A:B,MATCH(Composições!A2439,Orçamentária!A:A,0),2)","v":"Gesso Para Uso Geral"},null,{"$f":"TRIM(INDEX(Orçamentária!C:C,MATCH(Composições!A2439,Orçamentária!A:A,0),1))","v":"40 kg"},null,"","",null,null,0]
[null,null,null,null,null,"","",null,null,0]
[null,null,"GESSO EM PO PARA REVESTIMENTOS/MOLDURAS/SANCAS","kg",40,0.57950000000000002,23.18,{"$f":"SUM(G2441:G2441)","v":23.18},null,0]
[null,null,null,null,null,"","",null,null,0]
["SF-00568",{"$f":"INDEX(Orçamentária!A:B,MATCH(Composições!A2443,Orçamentária!A:A,0),2)","v":"Areia Média"},null,{"$f":"TRIM(INDEX(Orçamentária!C:C,MATCH(Composições!A2443,Orçamentária!A:A,0),1))","v":"m3"},null,"","",null,null,0]
[null,null,null,null,null,"","",null,null,0]
[null,null,"AREIA MEDIA - POSTO JAZIDA/FORNECEDOR (RETIRADO NA JAZIDA, SEM TRANSPORTE)","m3",1,93.8125,93.8125,{"$f":"SUM(G2445:G2447)","v":119.12553785},null,0]
[null,null,"CARGA, MANOBRA E DESCARGA DE SOLOS E MATERIAIS GRANULARES EM CAMINHÃO BASCULANTE 6 M³ - CARGA COM PÁ CARREGADEIRA (CAÇAMBA DE 1,7 A 2,8 M³ / 128 HP) E DESCARGA LIVRE (UNIDADE: M3). AF_07/2020","m3",{"$f":"E2445","v":1},4.7457088499999998,4.7457088499999998,null,null,0]
[null,null,"TRANSPORTE COM CAMINHÃO BASCULANTE DE 6 M3, EM VIA URBANA PAVIMENTADA, DMT ATÉ 30 KM (UNIDADE: TxKM). AF_01/2018","TxKM",{"$f":"E2445*20","v":20},1.0283664499999998,20.567328999999997,null,null,0]
[null,null,null,null,null,"","",null,null,0]
[null,null,"Obs.: Considerando fornecedor de areia a 20 km do Senado Federal.",null,null,"",{"$f":"IF(ISNUMBER(F2449),E2449*F2449,\"\")","v":""},null,null,0]
[null,null,null,null,null,"","",null,null,0]
["SF-00569",{"$f":"INDEX(Orçamentária!A:B,MATCH(Composições!A2451,Orçamentária!A:A,0),2)","v":"Brita Nº 0"},null,{"$f":"TRIM(INDEX(Orçamentária!C:C,MATCH(Composições!A2451,Orçamentária!A:A,0),1))","v":"m3"},null,"","",null,null,0]
[null,null,null,null,null,"","",null,null,0]
[null,null,"PEDRA BRITADA N. 0, OU PEDRISCO (4,8 A 9,5 MM) POSTO PEDREIRA/FORNECEDOR, SEM FRETE","m3",1,97.042500000000004,97.042500000000004,{"$f":"SUM(G2453:G2455)","v":122.35553785},null,0]
[null,null,"CARGA, MANOBRA E DESCARGA DE SOLOS E MATERIAIS GRANULARES EM CAMINHÃO BASCULANTE 6 M³ - CARGA COM PÁ CARREGADEIRA (CAÇAMBA DE 1,7 A 2,8 M³ / 128 HP) E DESCARGA LIVRE (UNIDADE: M3). AF_07/2020","m3",{"$f":"E2453","v":1},4.7457088499999998,4.7457088499999998,null,null,0]
[null,null,"TRANSPORTE COM CAMINHÃO BASCULANTE DE 6 M3, EM VIA URBANA PAVIMENTADA, DMT ATÉ 30 KM (UNIDADE: TxKM). AF_01/2018","TxKM",{"$f":"E2453*20","v":20},1.0283664499999998,20.567328999999997,null,null,0]
[null,null,null,null,null,"","",null,null,0]
[null,null,"Obs.: Considerando fornecedor de brita a 20 km do Senado Federal.",null,null,"","",null,null,0]
[null,null,null,null,null,"","",null,null,0]
["SF-00570",{"$f":"INDEX(Orçamentária!A:B,MATCH(Composições!A2459,Orçamentária!A:A,0),2)","v":"Brita Nº 1"},null,{"$f":"TRIM(INDEX(Orçamentária!C:C,MATCH(Composições!A2459,Orçamentária!A:A,0),1))","v":"m3"},null,"","",null,null,0]
[null,null,null,null,null,"","",null,null,0]
[null,null,"PEDRA BRITADA N. 1 (9,5 a 19 MM) POSTO PEDREIRA/FORNECEDOR, SEM FRETE","m3",1,76,76,{"$f":"SUM(G2461:G2463)","v":101.31303785},null,0]
[null,null,"CARGA, MANOBRA E DESCARGA DE SOLOS E MATERIAIS GRANULARES EM CAMINHÃO BASCULANTE 6 M³ - CARGA COM PÁ CARREGADEIRA (CAÇAMBA DE 1,7 A 2,8 M³ / 128 HP) E DESCARGA LIVRE (UNIDADE: M3). AF_07/2020","m3",{"$f":"E2461","v":1},4.7457088499999998,4.7457088499999998,null,null,0]
[null,null,"TRANSPORTE COM CAMINHÃO BASCULANTE DE 6 M3, EM VIA URBANA PAVIMENTADA, DMT ATÉ 30 KM (UNIDADE: TxKM). AF_01/2018","TxKM",{"$f":"E2461*20","v":20},1.0283664499999998,20.567328999999997,null,null,0]
[null,null,null,null,null,"","",null,null,0]
[null,null,"Obs.: Considerando fornecedor de brita a 20 km do Senado Federal.",null,null,"","",null,null,0]
[null,null,null,null,null,"","",null,null,0]
["SF-00571",{"$f":"INDEX(Orçamentária!A:B,MATCH(Composições!A2467,Orçamentária!A:A,0),2)","v":"Bloco Cerâmico De 08 Furos"},null,{"$f":"TRIM(INDEX(Orçamentária!C:C,MATCH(Composições!A2467,Orçamentária!A:A,0),1))","v":"un"},null,"","",null,null,0]
[null,null,null,null,null,"","",null,null,0]
[null,null,"BLOCO CERAMICO VAZADO PARA ALVENARIA DE VEDACAO, DE 9 X 19 X 19 CM (L X A X C)","mil",{"$f":"1/1000","v":1E-3},690.96349999999995,0.69096349999999995,{"$f":"SUM(G2469:G2469)","v":0.69096349999999995},null,0]
[null,null,null,null,null,"","",null,null,0]
["SF-00572",{"$f":"INDEX(Orçamentária!A:B,MATCH(Composições!A2471,Orçamentária!A:A,0),2)","v":"Tijolo Maciço"},null,{"$f":"TRIM(INDEX(Orçamentária!C:C,MATCH(Composições!A2471,Orçamentária!A:A,0),1))","v":"un"},null,"","",null,null,0]
[null,null,null,null,null,"","",null,null,0]
[null,null,"TIJOLO CERAMICO MACICO COMUM *5 X 10 X 20* CM (L X A X C)","UN",1,0.58899999999999997,0.58899999999999997,{"$f":"SUM(G2473:G2473)","v":0.58899999999999997},null,0]
[null,null,null,null,null,"","",null,null,0]
["SF-00573",{"$f":"INDEX(Orçamentária!A:B,MATCH(Composições!A2475,Orçamentária!A:A,0),2)","v":"Bloco De Concreto Com 02 Furos"},null,{"$f":"TRIM(INDEX(Orçamentária!C:C,MATCH(Composições!A2475,Orçamentária!A:A,0),1))","v":"un"},null,"","",null,null,0]
[null,null,null,null,null,"","",null,null,0]
[null,null,"BLOCO DE CONCRETO ESTRUTURAL 9 X 19 X 39 CM, FBK 4,5 MPA (NBR 6136)","UN",1,1.6909999999999998,1.6909999999999998,{"$f":"SUM(G2477:G2477)","v":1.6909999999999998},null,0]
[null,null,null,null,null,"","",null,null,0]
["SF-00574",{"$f":"INDEX(Orçamentária!A:B,MATCH(Composições!A2479,Orçamentária!A:A,0),2)","v":"Bloco De Concreto Tipo Canaleta"},null,{"$f":"TRIM(INDEX(Orçamentária!C:C,MATCH(Composições!A2479,Orçamentária!A:A,0),1))","v":"un"},null,"","",null,null,0]
[null,null,null,null,null,"","",null,null,0]
[null,null,"Bloco de concreto tipo canaleta 11,5 x 19 x 39 cm","un ",1,2.6315,2.6315,{"$f":"SUM(G2481:G2481)","v":2.6315},null,0]
[null,null,null,null,null,"","",null,null,0]
["SF-00575",{"$f":"INDEX(Orçamentária!A:B,MATCH(Composições!A2483,Orçamentária!A:A,0),2)","v":"Vergalhão Ca-60 Diâmetro 5,0 Mm"},null,{"$f":"TRIM(INDEX(Orçamentária!C:C,MATCH(Composições!A2483,Orçamentária!A:A,0),1))","v":"m"},null,"","",null,null,0]
[null,null,null,null,null,"","",null,null,0]
[null,null,"TIJOLO CERAMICO MACICO COMUM *5 X 10 X 20* CM (L X A X C)","UN",1,0.58899999999999997,0.58899999999999997,{"$f":"SUM(G2485:G2485)","v":0.58899999999999997},null,0]
[null,null,null,null,null,"","",null,null,0]
["SF-00576",{"$f":"INDEX(Orçamentária!A:B,MATCH(Composições!A2487,Orçamentária!A:A,0),2)","v":"Vergalhão Ca-50 Diâmetro 6,3 Mm"},null,{"$f":"TRIM(INDEX(Orçamentária!C:C,MATCH(Composições!A2487,Orçamentária!A:A,0),1))","v":"m"},null,"","",null,null,0]
[null,null,null,null,null,"","",null,null,0]
[null,null,"ACO CA-50, 6,3 MM, VERGALHAO","kg",0.245,5.8425000000000002,1.4314125,{"$f":"SUM(G2489:G2489)","v":1.4314125},null,0]
[null,null,null,null,null,"","",null,null,0]
["SF-00577",{"$f":"INDEX(Orçamentária!A:B,MATCH(Composições!A2491,Orçamentária!A:A,0),2)","v":"Vergalhão Ca-50 Diâmetro 8,0 Mm"},null,{"$f":"TRIM(INDEX(Orçamentária!C:C,MATCH(Composições!A2491,Orçamentária!A:A,0),1))","v":"m"},null,"","",null,null,0]
[null,null,null,null,null,"","",null,null,0]
[null,null,"ACO CA-50, 8,0 MM, VERGALHAO","kg",0.39500000000000002,5.8709999999999996,2.319045,{"$f":"SUM(G2493:G2493)","v":2.319045},null,0]
[null,null,null,null,null,"","",null,null,0]
["SF-00578",{"$f":"INDEX(Orçamentária!A:B,MATCH(Composições!A2495,Orçamentária!A:A,0),2)","v":"Vergalhão Ca-50 Diâmetro 10,0 Mm"},null,{"$f":"TRIM(INDEX(Orçamentária!C:C,MATCH(Composições!A2495,Orçamentária!A:A,0),1))","v":"m"},null,"","",null,null,0]
[null,null,null,null,null,"","",null,null,0]
[null,null,"ACO CA-50, 10,0 MM, VERGALHAO","kg",0.61699999999999999,5.5385,3.4172544999999999,{"$f":"SUM(G2497:G2497)","v":3.4172544999999999},null,0]
[null,null,null,null,null,"","",null,null,0]
["SF-00579",{"$f":"INDEX(Orçamentária!A:B,MATCH(Composições!A2499,Orçamentária!A:A,0),2)","v":"Vergalhão Ca-50 Diâmetro 12,5 Mm"},null,{"$f":"TRIM(INDEX(Orçamentária!C:C,MATCH(Composições!A2499,Orçamentária!A:A,0),1))","v":"m"},null,"","",null,null,0]
[null,null,null,null,null,"","",null,null,0]
[null,null,"ACO CA-50, 12,5 MM OU 16,0 MM, VERGALHAO","kg",0.96299999999999997,4.7974999999999994,4.6199924999999995,{"$f":"SUM(G2501:G2501)","v":4.6199924999999995},null,0]
[null,null,null,null,null,"","",null,null,0]
["SF-00580",{"$f":"INDEX(Orçamentária!A:B,MATCH(Composições!A2503,Orçamentária!A:A,0),2)","v":"Arame Recozido Nº 18"},null,{"$f":"TRIM(INDEX(Orçamentária!C:C,MATCH(Composições!A2503,Orçamentária!A:A,0),1))","v":"kg"},null,"","",null,null,0]
[null,null,null,null,null,"","",null,null,0]
[null,null,"ARAME RECOZIDO 16 BWG, D = 1,65 MM (0,016 KG/M) OU 18 BWG, D = 1,25 MM (0,01 KG/M)","kg",1,13.281000000000001,13.281000000000001,{"$f":"SUM(G2505:G2505)","v":13.281000000000001},null,0]
[null,null,null,null,null,"","",null,null,0]
["SF-00581",{"$f":"INDEX(Orçamentária!A:B,MATCH(Composições!A2507,Orçamentária!A:A,0),2)","v":"Adesivo Estrutural Epóxi Bicomponente"},null,{"$f":"TRIM(INDEX(Orçamentária!C:C,MATCH(Composições!A2507,Orçamentária!A:A,0),1))","v":"kg"},null,"","",null,null,0]
[null,null,null,null,null,"","",null,null,0]
[null,null,"ADESIVO ESTRUTURAL A BASE DE RESINA EPOXI, BICOMPONENTE, PASTOSO (TIXOTROPICO)","kg",1,32.271499999999996,32.271499999999996,{"$f":"SUM(G2509:G2509)","v":32.271499999999996},null,0]
[null,null,null,null,null,"","",null,null,0]
["SF-00588",{"$f":"INDEX(Orçamentária!A:B,MATCH(Composições!A2511,Orçamentária!A:A,0),2)","v":"Aditivo Impermeabilizante"},null,{"$f":"TRIM(INDEX(Orçamentária!C:C,MATCH(Composições!A2511,Orçamentária!A:A,0),1))","v":"L"},null,"","",null,null,0]
[null,null,null,null,null,"","",null,null,0]
[null,null,"ADITIVO IMPERMEABILIZANTE DE PEGA NORMAL PARA ARGAMASSAS E CONCRETOS SEM ARMACAO, LIQUIDO E ISENTO DE CLORETOS","L",1,5.0919999999999996,{"$f":"IF(ISNUMBER(F2513),E2513*F2513,\"\")","v":5.0919999999999996},{"$f":"SUM(G2513:G2513)","v":5.0919999999999996},null,0]
[null,null,null,null,null,"","",null,null,0]
["SF-00708",{"$f":"INDEX(Orçamentária!A:B,MATCH(Composições!A2515,Orçamentária!A:A,0),2)","v":"Supervisor(a)-Geral"},null,{"$f":"TRIM(INDEX(Orçamentária!C:C,MATCH(Composições!A2515,Orçamentária!A:A,0),1))","v":"Profissional"},null,"","",null,null,0]
[null,null,null,null,null,"","",null,null,0]
[null,null,"ENGENHEIRO CIVIL DE OBRA PLENO COM ENCARGOS COMPLEMENTARES","h",{"$f":"ROUND(220/(1+112.85%),4)","v":103.3592},94.249499999999983,9741.5529203999977,{"$f":"SUM(G2517:G2517)","v":9741.5529203999977},null,0]
[null,null,null,null,null,"","",null,null,0]
[null,null,"Obs: considerando 220h/mês e encargos sociais indicados na tabela do SINAPI.",null,null,"","",null,null,0]
[null,null,null,null,null,"","",null,null,0]
["SF-00709",{"$f":"INDEX(Orçamentária!A:B,MATCH(Composições!A2521,Orçamentária!A:A,0),2)","v":"Apoio Técnico Administrativo – Controle de Almoxarifado"},null,{"$f":"TRIM(INDEX(Orçamentária!C:C,MATCH(Composições!A2521,Orçamentária!A:A,0),1))","v":"Profissional"},null,"","",null,null,0]
[null,null,null,null,null,"","",null,null,0]
[null,null,"ALMOXARIFE COM ENCARGOS COMPLEMENTARES","h",{"$f":"ROUND(220/(1+112.85%),4)","v":103.3592},25.336500000000001,2618.7603708000001,{"$f":"SUM(G2523:G2523)","v":2618.7603708000001},null,0]
[null,null,null,null,null,"","",null,null,0]
[null,null,"Obs: considerando 220h/mês e encargos sociais indicados na tabela do SINAPI.",null,null,"","",null,null,0]
[null,null,null,null,null,"","",null,null,0]
["SF-00710",{"$f":"INDEX(Orçamentária!A:B,MATCH(Composições!A2527,Orçamentária!A:A,0),2)","v":"Ajudante de Serviços Gerais"},null,{"$f":"TRIM(INDEX(Orçamentária!C:C,MATCH(Composições!A2527,Orçamentária!A:A,0),1))","v":"Profissional"},null,"","",null,null,0]
[null,null,null,null,null,"","",null,null,0]
[null,null,"SERVENTE COM ENCARGOS COMPLEMENTARES","h",{"$f":"ROUND(220/(1+112.85%),4)","v":103.3592},16.026499999999999,1656.4862188,{"$f":"SUM(G2529:G2529)","v":1656.4862188},null,0]
[null,null,null,null,null,"","",null,null,0]
[null,null,"Obs: considerando 220h/mês e encargos sociais indicados na tabela do SINAPI.",null,null,"","",null,null,0]
[null,null,null,null,null,"","",null,null,0]
["SF-00711",{"$f":"INDEX(Orçamentária!A:B,MATCH(Composições!A2533,Orçamentária!A:A,0),2)","v":"Ajudante de Marceneiro(a)"},null,{"$f":"TRIM(INDEX(Orçamentária!C:C,MATCH(Composições!A2533,Orçamentária!A:A,0),1))","v":"Profissional"},null,"","",null,null,0]
[null,null,null,null,null,"","",null,null,0]
[null,null,"AJUDANTE DE CARPINTEIRO COM ENCARGOS COMPLEMENTARES","h",{"$f":"ROUND(220/(1+112.85%),4)","v":103.3592},18.173499999999997,1878.3984211999998,{"$f":"SUM(G2535:G2535)","v":1878.3984211999998},null,0]
[null,null,null,null,null,"","",null,null,0]
[null,null,"Obs: considerando 220h/mês e encargos sociais indicados na tabela do SINAPI.",null,null,"","",null,null,0]
[null,null,null,null,null,"","",null,null,0]
["SF-00712",{"$f":"INDEX(Orçamentária!A:B,MATCH(Composições!A2539,Orçamentária!A:A,0),2)","v":"Ajudante de Serralheiro(a)"},null,{"$f":"TRIM(INDEX(Orçamentária!C:C,MATCH(Composições!A2539,Orçamentária!A:A,0),1))","v":"Profissional"},null,"","",null,null,0]
[null,null,null,null,null,"","",null,null,0]
[null,null,"AUXILIAR DE SERRALHEIRO COM ENCARGOS COMPLEMENTARES","h",{"$f":"ROUND(220/(1+112.85%),4)","v":103.3592},17.546499999999998,1813.5922027999998,{"$f":"SUM(G2541:G2541)","v":1813.5922027999998},null,0]
[null,null,null,null,null,"","",null,null,0]
[null,null,"Obs: considerando 220h/mês e encargos sociais indicados na tabela do SINAPI.",null,null,"","",null,null,0]
[null,null,null,null,null,"","",null,null,0]
["SF-00713",{"$f":"INDEX(Orçamentária!A:B,MATCH(Composições!A2545,Orçamentária!A:A,0),2)","v":"Lustrador(a) de Móveis"},null,{"$f":"TRIM(INDEX(Orçamentária!C:C,MATCH(Composições!A2545,Orçamentária!A:A,0),1))","v":"Profissional"},null,"","",null,null,0]
[null,null,null,null,null,"","",null,null,0]
[null,null,"Marceneiro com encargos complementares","h",{"$f":"ROUND(220/(1+112.85%),4)","v":103.3592},21.954499999999999,2269.1995563999999,{"$f":"SUM(G2547:G2547)","v":2269.1995563999999},null,0]
[null,null,null,null,null,"","",null,null,0]
[null,null,"Obs: considerando 220h/mês e encargos sociais indicados na tabela do SINAPI.",null,null,"","",null,null,0]
[null,null,null,null,null,"","",null,null,0]
["SF-00714",{"$f":"INDEX(Orçamentária!A:B,MATCH(Composições!A2551,Orçamentária!A:A,0),2)","v":"Marceneiro(a)"},null,{"$f":"TRIM(INDEX(Orçamentária!C:C,MATCH(Composições!A2551,Orçamentária!A:A,0),1))","v":"Profissional"},null,"","",null,null,0]
[null,null,null,null,null,"","",null,null,0]
[null,null,"Marceneiro com encargos complementares","h",{"$f":"ROUND(220/(1+112.85%),4)","v":103.3592},21.954499999999999,2269.1995563999999,{"$f":"SUM(G2553:G2553)","v":2269.1995563999999},null,0]
[null,null,null,null,null,"","",null,null,0]
[null,null,"Obs: considerando 220h/mês e encargos sociais indicados na tabela do SINAPI.",null,null,"","",null,null,0]
[null,null,null,null,null,"","",null,null,0]
["SF-00715",{"$f":"INDEX(Orçamentária!A:B,MATCH(Composições!A2557,Orçamentária!A:A,0),2)","v":"Serralheiro(a)"},null,{"$f":"TRIM(INDEX(Orçamentária!C:C,MATCH(Composições!A2557,Orçamentária!A:A,0),1))","v":"Profissional"},null,"","",null,null,0]
[null,null,null,null,null,"","",null,null,0]
[null,null,"Serralheiro com encargos complementares","h",{"$f":"ROUND(220/(1+112.85%),4)","v":103.3592},21.612500000000001,2233.8507100000002,{"$f":"SUM(G2559:G2559)","v":2233.8507100000002},null,0]
[null,null,null,null,null,"","",null,null,0]
[null,null,"Obs: considerando 220h/mês e encargos sociais indicados na tabela do SINAPI.",null,null,"","",null,null,0]
[null,null,null,null,null,"","",null,null,0]
["SF-00716",{"$f":"INDEX(Orçamentária!A:B,MATCH(Composições!A2563,Orçamentária!A:A,0),2)","v":"Mestre de Obras (Posto de Trabalho)"},null,{"$f":"TRIM(INDEX(Orçamentária!C:C,MATCH(Composições!A2563,Orçamentária!A:A,0),1))","v":"Profissional"},null,"","",null,null,0]
[null,null,null,null,null,"","",null,null,0]
[null,null,"Mestre de obras com encargos complementares","h",{"$f":"ROUND(220/(1+112.85%),4)","v":103.3592},25.972999999999999,2684.5485015999998,{"$f":"SUM(G2565:G2565)","v":2684.5485015999998},null,0]
[null,null,null,null,null,"","",null,null,0]
[null,null,"Obs: considerando 220h/mês e encargos sociais indicados na tabela do SINAPI.",null,null,"","",null,null,0]
[null,null,null,null,null,"","",null,null,0]
["SF-00717",{"$f":"INDEX(Orçamentária!A:B,MATCH(Composições!A2569,Orçamentária!A:A,0),2)","v":"Oficial de Serviços Gerais"},null,{"$f":"TRIM(INDEX(Orçamentária!C:C,MATCH(Composições!A2569,Orçamentária!A:A,0),1))","v":"Profissional"},null,"","",null,null,0]
[null,null,null,null,null,"","",null,null,0]
[null,null,"PEDREIRO COM ENCARGOS COMPLEMENTARES","h",{"$f":"ROUND(220/(1+112.85%),4)","v":103.3592},21.716999999999999,2244.6517463999999,{"$f":"SUM(G2571:G2571)","v":2244.6517463999999},null,0]
[null,null,null,null,null,"","",null,null,0]
[null,null,"Obs: considerando 220h/mês e encargos sociais indicados na tabela do SINAPI.",null,null,"","",null,null,0]
[null,null,null,null,null,"","",null,null,0]
["SF-00844",{"$f":"INDEX(Orçamentária!A:B,MATCH(Composições!A2575,Orçamentária!A:A,0),2)","v":"Instalação de vidro (comum, temperado, aramado ou laminado) reaproveitado"},null,{"$f":"TRIM(INDEX(Orçamentária!C:C,MATCH(Composições!A2575,Orçamentária!A:A,0),1))","v":"m2"},null,"","",null,null,0]
[null,null,null,null,null,"","",null,null,0]
[null,null,"Vidraceiro com encargos complementares","h",1,20.177999999999997,{"$f":"IF(ISNUMBER(F2577),E2577*F2577,\"\")","v":20.177999999999997},{"$f":"SUM(G2577:G2579)","v":36.360299999999995},null,0]
[null,null,"Servente com Encargos Complementares","h",0.2,16.026499999999999,3.2052999999999998,null,null,0]
[null,null,"Massa para vidro","Kg",2,6.4885000000000002,12.977,null,null,0]
[null,null,null,null,null,"","",null,null,0]
["SF-00845",{"$f":"INDEX(Orçamentária!A:B,MATCH(Composições!A2581,Orçamentária!A:A,0),2)","v":"Vidro temperado incolor com 8mm de espessura"},null,{"$f":"TRIM(INDEX(Orçamentária!C:C,MATCH(Composições!A2581,Orçamentária!A:A,0),1))","v":"m2"},null,"","",null,null,0]
[null,null,null,null,null,"","",null,null,0]
[null,null,"Vidraceiro com encargos complementares","h",1,20.177999999999997,20.177999999999997,{"$f":"SUM(G2583:G2586)","v":155.5283},null,0]
[null,null,"Servente com Encargos Complementares","h",0.2,16.026499999999999,3.2052999999999998,null,null,0]
[null,null,"Massa para vidro","Kg",2,6.4885000000000002,12.977,null,null,0]
[null,null,"VIDRO LISO INCOLOR 5MM - SEM COLOCACAO","m2",1,119.16799999999999,119.16799999999999,null,null,0]
[null,null,null,null,null,"","",null,null,0]
["SF-00846",{"$f":"INDEX(Orçamentária!A:B,MATCH(Composições!A2588,Orçamentária!A:A,0),2)","v":"Vidro liso comum transparente 5mm"},null,{"$f":"TRIM(INDEX(Orçamentária!C:C,MATCH(Composições!A2588,Orçamentária!A:A,0),1))","v":"m2"},null,"","",null,null,0]
[null,null,null,null,null,"","",null,null,0]
[null,null,"Vidraceiro com encargos complementares","h",0.5,20.177999999999997,10.088999999999999,{"$f":"SUM(G2590:G2593)","v":131.39449999999999},null,0]
[null,null,"Servente com Encargos Complementares","h",0.5,16.026499999999999,8.0132499999999993,null,null,0]
[null,null,"Massa para vidro","Kg",1.5,6.4885000000000002,9.7327499999999993,null,null,0]
[null,null,"VIDRO TEMPERADO INCOLOR E = 8 MM, SEM COLOCACAO","m2",1,103.5595,103.5595,null,null,0]
[null,null,null,null,null,"","",null,null,0]
["SF-00847",{"$f":"INDEX(Orçamentária!A:B,MATCH(Composições!A2595,Orçamentária!A:A,0),2)","v":"Corte em vidro ou espelho reaproveitado"},null,{"$f":"TRIM(INDEX(Orçamentária!C:C,MATCH(Composições!A2595,Orçamentária!A:A,0),1))","v":"m"},null,"","",null,null,0]
[null,null,null,null,null,"","",null,null,0]
[null,null,"Vidraceiro com encargos complementares","h",0.5,20.177999999999997,10.088999999999999,{"$f":"SUM(G2597:G2598)","v":18.102249999999998},null,0]
[null,null,"Servente com Encargos Complementares","h",0.5,16.026499999999999,8.0132499999999993,null,null,0]
[null,null,null,null,null,"","",null,null,0]
["SF-00848",{"$f":"INDEX(Orçamentária!A:B,MATCH(Composições!A2600,Orçamentária!A:A,0),2)","v":"Lapidação de vidro / espelho reaproveitado"},null,{"$f":"TRIM(INDEX(Orçamentária!C:C,MATCH(Composições!A2600,Orçamentária!A:A,0),1))","v":"m"},null,"","",null,null,0]
[null,null,null,null,null,"","",null,null,0]
[null,null,"Vidraceiro com encargos complementares","h",0.75,20.177999999999997,15.133499999999998,{"$f":"SUM(G2602:G2603)","v":27.153374999999997},null,0]
[null,null,"Servente com Encargos Complementares","h",0.75,16.026499999999999,12.019874999999999,null,null,0]
[null,null,null,null,null,"","",null,null,0]
["SF-00849",{"$f":"INDEX(Orçamentária!A:B,MATCH(Composições!A2605,Orçamentária!A:A,0),2)","v":"Vidro temperado incolor com 10 mm de espessura"},null,{"$f":"TRIM(INDEX(Orçamentária!C:C,MATCH(Composições!A2605,Orçamentária!A:A,0),1))","v":"m2"},null,"","",null,null,0]
[null,null,null,null,null,"","",null,null,0]
[null,null,"Vidraceiro com encargos complementares","h",0.5,20.177999999999997,10.088999999999999,{"$f":"SUM(G2607:G2610)","v":162.27900000000002},null,0]
[null,null,"Servente com Encargos Complementares","h",0.5,16.026499999999999,8.0132499999999993,null,null,0]
[null,null,"Massa para vidro","Kg",1.5,6.4885000000000002,9.7327499999999993,null,null,0]
[null,null,"VIDRO TEMPERADO INCOLOR E = 10 MM, SEM COLOCACAO","m2",1,134.44400000000002,134.44400000000002,null,null,0]
[null,null,null,null,null,"","",null,null,0]
["SF-00850",{"$f":"INDEX(Orçamentária!A:B,MATCH(Composições!A2612,Orçamentária!A:A,0),2)","v":"Bucha para pivô de dobradiça para vidro temperado"},null,{"$f":"TRIM(INDEX(Orçamentária!C:C,MATCH(Composições!A2612,Orçamentária!A:A,0),1))","v":"un"},null,"","",null,null,0]
[null,null,null,null,null,"","",null,null,0]
[null,null,"Vidraceiro com encargos complementares","h",0.15,20.177999999999997,3.0266999999999995,{"$f":"SUM(G2614:G2615)","v":3.0266999999999995},null,0]
[null,null,"Bucha para pivô de dobradiça para vidro temperado. Ref.: Santa Marina/1201; Belga Metais / 9201","un",1,0,0,null,null,0]
[null,null,null,null,null,"","",null,null,0]
["SF-00851",{"$f":"INDEX(Orçamentária!A:B,MATCH(Composições!A2617,Orçamentária!A:A,0),2)","v":"Suporte para bandeira de vidro temperado, com ponto de giro para dobradiça"},null,{"$f":"TRIM(INDEX(Orçamentária!C:C,MATCH(Composições!A2617,Orçamentária!A:A,0),1))","v":"un"},null,"","",null,null,0]
[null,null,null,null,null,"","",null,null,0]
[null,null,"Vidraceiro com encargos complementares","h",0.3,20.177999999999997,6.053399999999999,{"$f":"SUM(G2619:G2620)","v":6.053399999999999},null,0]
[null,null,"Suporte para bandeira de vidro temperado, com ponto de giro para dobradiça. Ref.: Santa Marina / 1203; Belga Metais / 9203","un",1,0,0,null,null,0]
[null,null,null,null,null,"","",null,null,0]
["SF-00852",{"$f":"INDEX(Orçamentária!A:B,MATCH(Composições!A2622,Orçamentária!A:A,0),2)","v":"Suporte de canto, simples, para vidro temperado"},null,{"$f":"TRIM(INDEX(Orçamentária!C:C,MATCH(Composições!A2622,Orçamentária!A:A,0),1))","v":"un"},null,"","",null,null,0]
[null,null,null,null,null,"","",null,null,0]
[null,null,"Vidraceiro com encargos complementares","h",0.15,20.177999999999997,3.0266999999999995,{"$f":"SUM(G2624:G2625)","v":3.0266999999999995},null,0]
[null,null,"Suporte de canto, simples, para vidro temperado. Ref.: Santa Marina/1302; Belga Metais/9302","un",1,0,0,null,null,0]
[null,null,null,null,null,"","",null,null,0]
["SF-00853",{"$f":"INDEX(Orçamentária!A:B,MATCH(Composições!A2627,Orçamentária!A:A,0),2)","v":"Suporte de união, sem batedor, para dois ou três vidros temperados"},null,{"$f":"TRIM(INDEX(Orçamentária!C:C,MATCH(Composições!A2627,Orçamentária!A:A,0),1))","v":"un"},null,"","",null,null,0]
[null,null,null,null,null,"","",null,null,0]
[null,null,"Vidraceiro com encargos complementares","h",0.3,20.177999999999997,6.053399999999999,{"$f":"SUM(G2629:G2630)","v":6.053399999999999},null,0]
[null,null,"Suporte de união em \"L\" em latão fundido, sem batedor, para dois ou três vidros temperados de 10 mm. Ref.: Santa Marina/1310; Belga Metais/9310","un",1,0,0,null,null,0]
[null,null,null,null,null,"","",null,null,0]
[null,null,"OBS: Para o preço unitário do insumo, considerou-se 85% do preço da peça tipo 1308 da tabela TCPO/Pini, percentual esse verificado mediante pesquisa de mercado.",null,null,"","",null,null,0]
[null,null,null,null,null,"","",null,null,0]
["SF-00854",{"$f":"INDEX(Orçamentária!A:B,MATCH(Composições!A2634,Orçamentária!A:A,0),2)","v":"Botão de correção para vidro temperado"},null,{"$f":"TRIM(INDEX(Orçamentária!C:C,MATCH(Composições!A2634,Orçamentária!A:A,0),1))","v":"un"},null,"","",null,null,0]
[null,null,null,null,null,"","",null,null,0]
[null,null,"Vidraceiro com encargos complementares","h",0.15,20.177999999999997,3.0266999999999995,{"$f":"SUM(G2636:G2637)","v":3.0266999999999995},null,0]
[null,null,"Botão de correção fosco acetinado com parafuso. Ref.: Santa Marina/1002","un",1,0,0,null,null,0]
[null,null,null,null,null,"","",null,null,0]
["SF-00855",{"$f":"INDEX(Orçamentária!A:B,MATCH(Composições!A2639,Orçamentária!A:A,0),2)","v":"Fechadura bico-de-papagaio, com furo, para vidro temperado"},null,{"$f":"TRIM(INDEX(Orçamentária!C:C,MATCH(Composições!A2639,Orçamentária!A:A,0),1))","v":"un"},null,"","",null,null,0]
[null,null,null,null,null,"","",null,null,0]
[null,null,"Vidraceiro com encargos complementares","h",0.4,20.177999999999997,{"$f":"IF(ISNUMBER(F2641),E2641*F2641,\"\")","v":8.0711999999999993},{"$f":"SUM(G2641:G2642)","v":8.0711999999999993},null,0]
[null,null,"Fechadura bico-de-papagaio, com furo, para porta de correr em vidro temperado 10 mm. Ref.: Santa Marina / 3530; Belga Metais / 9510-F","un",1,"","",null,null,0]
[null,null,null,null,null,"","",null,null,0]
["SF-00856",{"$f":"INDEX(Orçamentária!A:B,MATCH(Composições!A2644,Orçamentária!A:A,0),2)","v":"Fechadura bico-de-papagaio, com furo, para janela de vidro temperado"},null,{"$f":"TRIM(INDEX(Orçamentária!C:C,MATCH(Composições!A2644,Orçamentária!A:A,0),1))","v":"un"},null,"","",null,null,0]
[null,null,null,null,null,"","",null,null,0]
[null,null,"Vidraceiro com encargos complementares","h",0.4,20.177999999999997,8.0711999999999993,{"$f":"SUM(G2646:G2647)","v":8.0711999999999993},null,0]
[null,null,"Fechadura bico-de-papagaio, com furo, para aplicação em janela de correr em vidro temperado 10 mm. Ref.: Santa Marina/3532; Belga Metais/9510-JF","un",1,"","",null,null,0]
[null,null,null,null,null,"","",null,null,0]
["SF-00857",{"$f":"INDEX(Orçamentária!A:B,MATCH(Composições!A2649,Orçamentária!A:A,0),2)","v":"Fechadura para porta de abrir de vidro temperado"},null,{"$f":"TRIM(INDEX(Orçamentária!C:C,MATCH(Composições!A2649,Orçamentária!A:A,0),1))","v":"un"},null,"","",null,null,0]
[null,null,null,null,null,"","",null,null,0]
[null,null,"Vidraceiro com encargos complementares","h",0.4,20.177999999999997,8.0711999999999993,{"$f":"SUM(G2651:G2652)","v":8.0711999999999993},null,0]
[null,null,"Fechadura para aplicação em porta de abrirem vidro temperado 10 mm. Ref.: Santa Marina/1520; Belga Metais/9520","un",1,"","",null,null,0]
[null,null,null,null,null,"","",null,null,0]
["SF-00858",{"$f":"INDEX(Orçamentária!A:B,MATCH(Composições!A2654,Orçamentária!A:A,0),2)","v":"Contra fechadura, para alvenaria, para porta com fechadura 1520/9520"},null,{"$f":"TRIM(INDEX(Orçamentária!C:C,MATCH(Composições!A2654,Orçamentária!A:A,0),1))","v":"un"},null,"","",null,null,0]
[null,null,null,null,null,"","",null,null,0]
[null,null,"Vidraceiro com encargos complementares","h",0.25,20.177999999999997,5.0444999999999993,{"$f":"SUM(G2656:G2657)","v":5.0444999999999993},null,0]
[null,null,"Contra fechadura, para alvenaria, para porta com fechadura 1520/952, aplicada em alvenaria junto a porta de abrirem vidro temperado 10 mm. Ref.: TQ Ferragens/1504; Santa Marina/1504; Belga Metais/1504","un",1,"","",null,null,0]
[null,null,null,null,null,"","",null,null,0]
["SF-00859",{"$f":"INDEX(Orçamentária!A:B,MATCH(Composições!A2659,Orçamentária!A:A,0),2)","v":"Contra fechadura de pressão para porta de vidro temperado"},null,{"$f":"TRIM(INDEX(Orçamentária!C:C,MATCH(Composições!A2659,Orçamentária!A:A,0),1))","v":"un"},null,"","",null,null,0]
[null,null,null,null,null,"","",null,null,0]
[null,null,"Vidraceiro com encargos complementares","h",0.25,20.177999999999997,5.0444999999999993,{"$f":"SUM(G2661:G2662)","v":5.0444999999999993},null,0]
[null,null,"Contra fechadura de pressão para porta de vidro temperado de 10 mm, usada com fechaduras de referência 1520SE / 9520PRD / 9520PRE. Ref.: Santa Marina/1504S; Belga Metais 9504S","un",1,"","",null,null,0]
[null,null,null,null,null,"","",null,null,0]
["SF-00860",{"$f":"INDEX(Orçamentária!A:B,MATCH(Composições!A2664,Orçamentária!A:A,0),2)","v":"Contra fechadura, com furo, para porta com furo"},null,{"$f":"TRIM(INDEX(Orçamentária!C:C,MATCH(Composições!A2664,Orçamentária!A:A,0),1))","v":"un"},null,"","",null,null,0]
[null,null,null,null,null,"","",null,null,0]
[null,null,"Vidraceiro com encargos complementares","h",0.25,20.177999999999997,5.0444999999999993,{"$f":"SUM(G2666:G2667)","v":5.0444999999999993},null,0]
[null,null,"Contra fechadura, com furo, para porta de correr com furo em vidro temperado 10 mm, usada com fechaduras de referência 3530/9510-F. Ref.: Santa Marina/3534; Belga Metais/9511-F","un",1,"","",null,null,0]
[null,null,null,null,null,"","",null,null,0]
["SF-00861",{"$f":"INDEX(Orçamentária!A:B,MATCH(Composições!A2669,Orçamentária!A:A,0),2)","v":"Trinco inferior, com miolo, para porta de vidro temperado"},null,{"$f":"TRIM(INDEX(Orçamentária!C:C,MATCH(Composições!A2669,Orçamentária!A:A,0),1))","v":"un"},null,"","",null,null,0]
[null,null,null,null,null,"","",null,null,0]
[null,null,"Vidraceiro com encargos complementares","h",0.25,20.177999999999997,5.0444999999999993,{"$f":"SUM(G2671:G2672)","v":5.0444999999999993},null,0]
[null,null,"Trinco inferior, com miolo, em latão fundido cromado, para porta de vidro temperado 10 mm. Ref.: Santa Marina/1502; Belga Metais/9502","un",1,0,0,null,null,0]
[null,null,null,null,null,"","",null,null,0]
["SF-00862",{"$f":"INDEX(Orçamentária!A:B,MATCH(Composições!A2674,Orçamentária!A:A,0),2)","v":"Mola hidráulica BTS 75R"},null,{"$f":"TRIM(INDEX(Orçamentária!C:C,MATCH(Composições!A2674,Orçamentária!A:A,0),1))","v":"un"},null,"","",null,null,0]
[null,null,null,null,null,"","",null,null,0]
[null,null,"Vidraceiro com encargos complementares","h",0.75,20.177999999999997,15.133499999999998,{"$f":"SUM(G2676:G2681)","v":946.54587400000003},null,0]
[null,null,"Servente com Encargos Complementares","h",0.3,16.026499999999999,4.8079499999999991,null,null,0]
[null,null,"Impermeabilizante Dorma SealProtect","un",1,139.28,139.28,null,null,0]
[null,null,"Mola Hidráulica de piso universal para portas de batente e portas vai-e-vem em aço inoxidável. Ref.: DORMA, modelo BTS 75V, com eixo intercambiável tipo \"B\"","un",1,764.99,764.99,null,null,0]
[null,null,"Vidraceiro com encargos complementares","h",{"$f":"0.5*2.1*0.8","v":0.84000000000000008},20.177999999999997,16.94952,null,null,0]
[null,null,"Servente com Encargos Complementares","h",{"$f":"0.2*2.1*0.8","v":0.33600000000000008},16.026499999999999,5.3849040000000006,null,null,0]
[null,null,null,null,null,"","",null,null,0]
[null,null,"Obs: considerando remoção de uma folha de 2,10 m x 0,80 m.",null,null,"","",null,null,0]
[null,null,null,null,null,"","",null,null,0]
["SF-00863",{"$f":"INDEX(Orçamentária!A:B,MATCH(Composições!A2685,Orçamentária!A:A,0),2)","v":"Puxador redondo, padrão em poliéster, para porta de vidro temperado"},null,{"$f":"TRIM(INDEX(Orçamentária!C:C,MATCH(Composições!A2685,Orçamentária!A:A,0),1))","v":"un"},null,"","",null,null,0]
[null,null,null,null,null,"","",null,null,0]
[null,null,"Vidraceiro com encargos complementares","h",0.2,20.177999999999997,4.0355999999999996,{"$f":"SUM(G2687:G2688)","v":4.0355999999999996},null,0]
[null,null,"Puxador para porta de vidro temperado redondo duplo em resina poliéster incolor com aditivo anti-UV com 110-135 mm de diâmetro. Ref.: 1608 e 1609, Poliforma Alumínios e Ferragens; 1613, Aço Metais","un",1,"","",null,null,0]
[null,null,null,null,null,"","",null,null,0]
["SF-00864",{"$f":"INDEX(Orçamentária!A:B,MATCH(Composições!A2690,Orçamentária!A:A,0),2)","v":"Puxador em aço inox sob medida – Tipo A"},null,{"$f":"TRIM(INDEX(Orçamentária!C:C,MATCH(Composições!A2690,Orçamentária!A:A,0),1))","v":"un"},null,"","",null,null,0]
[null,null,null,null,null,"","",null,null,0]
[null,null,"Vidraceiro com encargos complementares","h",0.4,20.177999999999997,8.0711999999999993,{"$f":"SUM(G2692:G2693)","v":8.0711999999999993},null,0]
[null,null,"Puxador para porta de vidro temperado em aço inox, sob medida, tipo A","un",1,"","",null,null,0]
[null,null,null,null,null,"","",null,null,0]
["SF-00865",{"$f":"INDEX(Orçamentária!A:B,MATCH(Composições!A2695,Orçamentária!A:A,0),2)","v":"Dobradiça superior para porta de vidro temperado"},null,{"$f":"TRIM(INDEX(Orçamentária!C:C,MATCH(Composições!A2695,Orçamentária!A:A,0),1))","v":"un"},null,"","",null,null,0]
[null,null,null,null,null,"","",null,null,0]
[null,null,"Vidraceiro com encargos complementares","h",0.3,20.177999999999997,6.053399999999999,{"$f":"SUM(G2697:G2698)","v":6.053399999999999},null,0]
[null,null,"Dobradiça superior para porta de vidro temperado, em latão fundido cromado. Ref.: Santa Marina / 1101 ou Belga Metais / 9101","un",1,0,0,null,null,0]
[null,null,null,null,null,"","",null,null,0]
["SF-00866",{"$f":"INDEX(Orçamentária!A:B,MATCH(Composições!A2700,Orçamentária!A:A,0),2)","v":"Perfil em alumínio, tipo U - abas iguais - PU 5/8\" x 5/8\" – espessura 1,58mm"},null,{"$f":"TRIM(INDEX(Orçamentária!C:C,MATCH(Composições!A2700,Orçamentária!A:A,0),1))","v":"m"},null,"","",null,null,0]
[null,null,null,null,null,"","",null,null,0]
[null,null,"Vidraceiro com encargos complementares","h",0.2,20.177999999999997,4.0355999999999996,{"$f":"SUM(G2702:G2703)","v":9.5101649999999989},null,0]
[null,null,"PERFIL DE ALUMINIO ANODIZADO","kg",0.19,28.813499999999998,5.4745649999999992,null,null,0]
[null,null,null,null,null,"","",null,null,0]
[null,null,"Obs: Perfil em alumínio anodizado, tipo U - abas iguais - PU 5/8\" x 5/8\" – espessura 1,58mm",null,null,"",{"$f":"IF(ISNUMBER(F2705),E2705*F2705,\"\")","v":""},null,null,0]
[null,null,"Fonte do coeficiente: http://www.estreladosmetais.com.br/pag_metal_aluminio_perfil_u_igual.php",null,null,"","",null,null,0]
[null,null,null,null,null,"","",null,null,0]
["SF-00867",{"$f":"INDEX(Orçamentária!A:B,MATCH(Composições!A2708,Orçamentária!A:A,0),2)","v":"Trilho superior em alumínio 60mm x 49,5mm, para vidro temperado"},null,{"$f":"TRIM(INDEX(Orçamentária!C:C,MATCH(Composições!A2708,Orçamentária!A:A,0),1))","v":"m"},null,"","",null,null,0]
[null,null,null,null,null,"","",null,null,0]
[null,null,"Vidraceiro com encargos complementares","h",0.3,20.177999999999997,6.053399999999999,{"$f":"SUM(G2710:G2711)","v":28.326235499999999},null,0]
[null,null,"PERFIL DE ALUMINIO ANODIZADO","kg",0.77300000000000002,28.813499999999998,22.272835499999999,null,null,0]
[null,null,null,null,null,"","",null,null,0]
[null,null,"Obs: Trilho superior em alumínio anodizado 60mm x 49,5mm, para vidro temperado. Ref.: AL-0051",null,null,"","",null,null,0]
[null,null,"Fonte do coeficiente: http://www.ferragensdbf.com.br/produtos-aluminio.html",null,null,"","",null,null,0]
[null,null,null,null,null,"","",null,null,0]
["SF-00868",{"$f":"INDEX(Orçamentária!A:B,MATCH(Composições!A2716,Orçamentária!A:A,0),2)","v":"Perfil em alumínio para acabamento de trilho superior"},null,{"$f":"TRIM(INDEX(Orçamentária!C:C,MATCH(Composições!A2716,Orçamentária!A:A,0),1))","v":"m"},null,"","",null,null,0]
[null,null,null,null,null,"","",null,null,0]
[null,null,"Vidraceiro com encargos complementares","h",0.2,20.177999999999997,4.0355999999999996,{"$f":"SUM(G2718:G2719)","v":12.1321935},null,0]
[null,null,"PERFIL DE ALUMINIO ANODIZADO","kg",0.28100000000000003,28.813499999999998,8.0965935000000009,null,null,0]
[null,null,null,null,null,"","",null,null,0]
[null,null,"Obs: Perfil guia inferior de alumínio anodizado 39,3 mm x 24 mm para vidro temperado 10mm. Ref.: Perfil Guia Inferior AL-0005",null,null,"","",null,null,0]
[null,null,"Fonte do coeficiente: http://www.ferragensdbf.com.br/produtos-aluminio.html",null,null,"","",null,null,0]
[null,null,null,null,null,"","",null,null,0]
["SF-00869",{"$f":"INDEX(Orçamentária!A:B,MATCH(Composições!A2724,Orçamentária!A:A,0),2)","v":"Perfil guia inferior de alumínio 39,3 mm x 24 mm para vidro temperado 10mm"},null,{"$f":"TRIM(INDEX(Orçamentária!C:C,MATCH(Composições!A2724,Orçamentária!A:A,0),1))","v":"m"},null,"","",null,null,0]
[null,null,null,null,null,"","",null,null,0]
[null,null,"Vidraceiro com encargos complementares","h",0.3,20.177999999999997,6.053399999999999,{"$f":"SUM(G2726:G2727)","v":19.048288499999998},null,0]
[null,null,"PERFIL DE ALUMINIO ANODIZADO","kg",0.45100000000000001,28.813499999999998,12.9948885,null,null,0]
[null,null,null,null,null,"","",null,null,0]
[null,null,"Obs: Perfil guia inferior de alumínio anodizado 39,3 mm x 24 mm para vidro temperado 10mm. Ref.: Perfil Guia Inferior AL-0005",null,null,"","",null,null,0]
[null,null,"Fonte do coeficiente: http://www.ferragensdbf.com.br/produtos-aluminio.html",null,null,"","",null,null,0]
[null,null,null,null,null,"","",null,null,0]
["SF-00870",{"$f":"INDEX(Orçamentária!A:B,MATCH(Composições!A2732,Orçamentária!A:A,0),2)","v":"Capa do Perfil Guia Inferior “Click”"},null,{"$f":"TRIM(INDEX(Orçamentária!C:C,MATCH(Composições!A2732,Orçamentária!A:A,0),1))","v":"m"},null,"","",null,null,0]
[null,null,null,null,null,"","",null,null,0]
[null,null,"Vidraceiro com encargos complementares","h",0.15,20.177999999999997,3.0266999999999995,{"$f":"SUM(G2734:G2735)","v":6.1961849999999998},null,0]
[null,null,"PERFIL DE ALUMINIO ANODIZADO","kg",0.11,28.813499999999998,3.1694849999999999,null,null,0]
[null,null,null,null,null,"","",null,null,0]
[null,null,"Obs: Perfil Guia Inferior “Click” de alumínio anodizado. Ref.: Perfil AL-0013",null,null,"","",null,null,0]
[null,null,"Fonte do coeficiente: http://www.ferragensdbf.com.br/produtos-aluminio.html",null,null,"","",null,null,0]
[null,null,null,null,null,"","",null,null,0]
["SF-00871",{"$f":"INDEX(Orçamentária!A:B,MATCH(Composições!A2740,Orçamentária!A:A,0),2)","v":"Dobradiça inferior para porta de vidro temperado"},null,{"$f":"TRIM(INDEX(Orçamentária!C:C,MATCH(Composições!A2740,Orçamentária!A:A,0),1))","v":"un"},null,"","",null,null,0]
[null,null,null,null,null,"","",null,null,0]
[null,null,"Vidraceiro com encargos complementares","h",0.3,20.177999999999997,6.053399999999999,{"$f":"SUM(G2742:G2743)","v":6.053399999999999},null,0]
[null,null,"Dobradiça inferior para porta de vidro temperado, em latão fundido cromado. Ref.: Santa Marina / 1103; Belga Metais / 9103","un",1,0,0,null,null,0]
[null,null,null,null,null,"","",null,null,0]
["SF-00872",{"$f":"INDEX(Orçamentária!A:B,MATCH(Composições!A2745,Orçamentária!A:A,0),2)","v":"Escova de vedação para vidro temperado"},null,{"$f":"TRIM(INDEX(Orçamentária!C:C,MATCH(Composições!A2745,Orçamentária!A:A,0),1))","v":"m"},null,"","",null,null,0]
[null,null,null,null,null,"","",null,null,0]
[null,null,"Vidraceiro com encargos complementares","h",0.3,20.177999999999997,6.053399999999999,{"$f":"SUM(G2747:G2748)","v":6.053399999999999},null,0]
[null,null,"Escova de vedação para aplicação em janela ou porta de vidro temperado, autocolante ou de encaixe, na cor preta, branca ou cinza alumínio, entre 5mm e 7mm de base. Ref.: 290-1 (vidromax) 5x5 preto; Seal; VBrasil; Aluinter","un",1,"","",null,null,0]
[null,null,null,null,null,"","",null,null,0]
["SF-00873",{"$f":"INDEX(Orçamentária!A:B,MATCH(Composições!A2750,Orçamentária!A:A,0),2)","v":"Roldana simples para porta de correr em vidro temperado"},null,{"$f":"TRIM(INDEX(Orçamentária!C:C,MATCH(Composições!A2750,Orçamentária!A:A,0),1))","v":"un"},null,"","",null,null,0]
[null,null,null,null,null,"","",null,null,0]
[null,null,"Vidraceiro com encargos complementares","h",0.15,20.177999999999997,3.0266999999999995,{"$f":"SUM(G2752:G2753)","v":3.0266999999999995},null,0]
[null,null,"Roldana simples em nylon para porta ou janela de correr de vidro temperado. Ref.: Santa Marina/1125N; Belga Metais/9125","un",1,"","",null,null,0]
[null,null,null,null,null,"","",null,null,0]
["SF-00874",{"$f":"INDEX(Orçamentária!A:B,MATCH(Composições!A2755,Orçamentária!A:A,0),2)","v":"Roldana dupla para porta de correr em vidro temperado"},null,{"$f":"TRIM(INDEX(Orçamentária!C:C,MATCH(Composições!A2755,Orçamentária!A:A,0),1))","v":"un"},null,"","",null,null,0]
[null,null,null,null,null,"","",null,null,0]
[null,null,"Vidraceiro com encargos complementares","h",0.15,20.177999999999997,3.0266999999999995,{"$f":"SUM(G2757:G2758)","v":3.0266999999999995},null,0]
[null,null,"Roldana dupla em nylon para porta ou janela de correr de vidro temperado. Ref.: Santa Marina/1125N; Belga Metais/9125","un",1,"","",null,null,0]
[null,null,null,null,null,"","",null,null,0]
["SF-00875",{"$f":"INDEX(Orçamentária!A:B,MATCH(Composições!A2760,Orçamentária!A:A,0),2)","v":"Capuchinho para trinco para vidro temperado"},null,{"$f":"TRIM(INDEX(Orçamentária!C:C,MATCH(Composições!A2760,Orçamentária!A:A,0),1))","v":"un"},null,"","",null,null,0]
[null,null,null,null,null,"","",null,null,0]
[null,null,"Vidraceiro com encargos complementares","h",0.1,20.177999999999997,2.0177999999999998,{"$f":"SUM(G2762:G2763)","v":2.0177999999999998},null,0]
[null,null,"Capuchinho para trinco para vidro temperado, com furo de 8 ou 10 mm, em latão fundido. Ref.: Santa Marina/1037; Santa Marina/1038; Belga Metais/9038","un",1,0,0,null,null,0]
[null,null,null,null,null,"","",null,null,0]
["SF-00876",{"$f":"INDEX(Orçamentária!A:B,MATCH(Composições!A2765,Orçamentária!A:A,0),2)","v":"Facão simples para lateral e bandeira de vidro temperado"},null,{"$f":"TRIM(INDEX(Orçamentária!C:C,MATCH(Composições!A2765,Orçamentária!A:A,0),1))","v":"un"},null,"","",null,null,0]
[null,null,null,null,null,"","",null,null,0]
[null,null,"Vidraceiro com encargos complementares","h",0.4,20.177999999999997,8.0711999999999993,{"$f":"SUM(G2767:G2768)","v":8.0711999999999993},null,0]
[null,null,"Facão simples para lateral e bandeira de vidro temperado 10 mm, com ponto de giro para dobradiça superior, em latão fundido cromado. Ref.: Santa Marina/1209; Belga Metais/9209","un",1,0,0,null,null,0]
[null,null,null,null,null,"",{"$f":"IF(ISNUMBER(F2769),E2769*F2769,\"\")","v":""},null,null,0]
["SF-00877",{"$f":"INDEX(Orçamentária!A:B,MATCH(Composições!A2770,Orçamentária!A:A,0),2)","v":"Fechadura de pressão para porta de abrir em vidro temperado"},null,{"$f":"TRIM(INDEX(Orçamentária!C:C,MATCH(Composições!A2770,Orçamentária!A:A,0),1))","v":"un"},null,"","",null,null,0]
[null,null,null,null,null,"","",null,null,0]
[null,null,"Vidraceiro com encargos complementares","h",0.4,20.177999999999997,8.0711999999999993,{"$f":"SUM(G2772:G2773)","v":8.0711999999999993},null,0]
[null,null,"Fechadura de pressão para porta de abrir em vidro temperado 10 mm. Ref.: Belga  Metais/9520-PRD (lado direito); Santa Marina/1520SE; Belga Metais/9520-PRE (lado esquerdo)","un",1,"","",null,null,0]
[null,null,null,null,null,"","",null,null,0]
["SF-00878",{"$f":"INDEX(Orçamentária!A:B,MATCH(Composições!A2775,Orçamentária!A:A,0),2)","v":"Suporte de união, com miolo, para vidro temperado"},null,{"$f":"TRIM(INDEX(Orçamentária!C:C,MATCH(Composições!A2775,Orçamentária!A:A,0),1))","v":"un"},null,"","",null,null,0]
[null,null,null,null,null,"","",null,null,0]
[null,null,"Vidraceiro com encargos complementares","h",0.3,20.177999999999997,6.053399999999999,{"$f":"SUM(G2777:G2778)","v":6.053399999999999},null,0]
[null,null,"Suporte de união, com miolo, para vidro temperado de 10 mm, em latão fundido cromado. Ref.: Santa Marina/1306; Belga Metais/9306","un",1,0,0,null,null,0]
[null,null,null,null,null,"","",null,null,0]
["SF-00879",{"$f":"INDEX(Orçamentária!A:B,MATCH(Composições!A2780,Orçamentária!A:A,0),2)","v":"Suporte para basculante e pivotante de vidro temperado"},null,{"$f":"TRIM(INDEX(Orçamentária!C:C,MATCH(Composições!A2780,Orçamentária!A:A,0),1))","v":"un"},null,"","",null,null,0]
[null,null,null,null,null,"","",null,null,0]
[null,null,"Vidraceiro com encargos complementares","h",0.2,20.177999999999997,4.0355999999999996,{"$f":"SUM(G2782:G2783)","v":4.0355999999999996},null,0]
[null,null,"Suporte para basculante e pivotante de vidro temperado 10 mm, em latão fundido cromado. Ref.: Santa Marina/1230; Belga Metais/9230","un",1,0,0,null,null,0]
[null,null,null,null,null,"","",null,null,0]
["SF-00880",{"$f":"INDEX(Orçamentária!A:B,MATCH(Composições!A2785,Orçamentária!A:A,0),2)","v":"Trinco central para basculante em vidro temperado"},null,{"$f":"TRIM(INDEX(Orçamentária!C:C,MATCH(Composições!A2785,Orçamentária!A:A,0),1))","v":"un"},null,"","",null,null,0]
[null,null,null,null,null,"","",null,null,0]
[null,null,"Vidraceiro com encargos complementares","h",0.2,20.177999999999997,4.0355999999999996,{"$f":"SUM(G2787:G2788)","v":4.0355999999999996},null,0]
[null,null,"Trinco central para basculante em vidro temperado 10 mm, em latão fundido cromado. Ref.: Santa Marina/1523; Belga Metais/9523","un",1,0,0,null,null,0]
[null,null,null,null,null,"","",null,null,0]
["SF-00881",{"$f":"INDEX(Orçamentária!A:B,MATCH(Composições!A2790,Orçamentária!A:A,0),2)","v":"Vidro laminado incolor de 8mm de espessura"},null,{"$f":"TRIM(INDEX(Orçamentária!C:C,MATCH(Composições!A2790,Orçamentária!A:A,0),1))","v":"m2"},null,"","",null,null,0]
[null,null,null,null,null,"","",null,null,0]
[null,null,"Vidro laminado incolor de 8mm de espessura","m2",1,0,0,{"$f":"SUM(G2792:G2795)","v":27.834999999999997},null,0]
[null,null,"Vidraceiro com encargos complementares","h",0.5,20.177999999999997,10.088999999999999,null,null,0]
[null,null,"Servente com Encargos Complementares","h",0.5,16.026499999999999,8.0132499999999993,null,null,0]
[null,null,"Massa para vidro","Kg",1.5,6.4885000000000002,9.7327499999999993,null,null,0]
[null,null,null,null,null,"","",null,null,0]
["SF-00883",{"$f":"INDEX(Orçamentária!A:B,MATCH(Composições!A2797,Orçamentária!A:A,0),2)","v":"Dobradiça automática para box de vidro temperado"},null,{"$f":"TRIM(INDEX(Orçamentária!C:C,MATCH(Composições!A2797,Orçamentária!A:A,0),1))","v":"un"},null,"","",null,null,0]
[null,null,null,null,null,"","",null,null,0]
[null,null,"Vidraceiro com encargos complementares","h",0.2,20.177999999999997,4.0355999999999996,{"$f":"SUM(G2799:G2800)","v":4.0355999999999996},null,0]
[null,null,"Dobradiça automática para Box de vidro temperado. Ref.: Belga Metais/9114 e Belga Metais/9115","un",1,"","",null,null,0]
[null,null,null,null,null,"","",null,null,0]
["SF-00884",{"$f":"INDEX(Orçamentária!A:B,MATCH(Composições!A2802,Orçamentária!A:A,0),2)","v":"Dobradiça horizontal para vidro basculante com trinco"},null,{"$f":"TRIM(INDEX(Orçamentária!C:C,MATCH(Composições!A2802,Orçamentária!A:A,0),1))","v":"un"},null,"","",null,null,0]
[null,null,null,null,null,"","",null,null,0]
[null,null,"Vidraceiro com encargos complementares","h",0.2,20.177999999999997,4.0355999999999996,{"$f":"SUM(G2804:G2805)","v":4.0355999999999996},null,0]
[null,null,"Dobradiça horizontal, com trinco central, para janela tipo basculante de vidro temperado com 8mm ou 10mm de espessura. Ref.: Belga Metais/9123-A","un",1,"","",null,null,0]
[null,null,null,null,null,"","",null,null,0]
["SF-00885",{"$f":"INDEX(Orçamentária!A:B,MATCH(Composições!A2807,Orçamentária!A:A,0),2)","v":"Dobradiça horizontal para vidro basculante"},null,{"$f":"TRIM(INDEX(Orçamentária!C:C,MATCH(Composições!A2807,Orçamentária!A:A,0),1))","v":"un"},null,"","",null,null,0]
[null,null,null,null,null,"","",null,null,0]
[null,null,"Vidraceiro com encargos complementares","h",0.2,20.177999999999997,4.0355999999999996,{"$f":"SUM(G2809:G2810)","v":4.0355999999999996},null,0]
[null,null,"Dobradiça horizontal, sem trinco, para janela tipo basculante de vidro temperado com 8mm ou 10mm de espessura. Ref.: Belga Metais/9123","un",1,"","",null,null,0]
[null,null,null,null,null,"","",null,null,0]
["SF-00886",{"$f":"INDEX(Orçamentária!A:B,MATCH(Composições!A2812,Orçamentária!A:A,0),2)","v":"Fechadura elétrica para porta de vidro temperado"},null,{"$f":"TRIM(INDEX(Orçamentária!C:C,MATCH(Composições!A2812,Orçamentária!A:A,0),1))","v":"un"},null,"","",null,null,0]
[null,null,null,null,null,"","",null,null,0]
[null,null,"Vidraceiro com encargos complementares","h",1.5,20.177999999999997,30.266999999999996,{"$f":"SUM(G2814:G2815)","v":30.266999999999996},null,0]
[null,null,"Fechadura elétrica para porta de vidro temperado com 8mm ou 10mm de espessura, acabamento cromado. Ref.: Fechadura Modelo FV35ICR / FV35ECRA / FV32ICR / FV32IPR / FV32ICRA / FV32ECRA, fabricante Amelco","un",1,"","",null,null,0]
[null,null,null,null,null,"","",null,null,0]
["SF-00887",{"$f":"INDEX(Orçamentária!A:B,MATCH(Composições!A2817,Orçamentária!A:A,0),2)","v":"Porteiro eletrônico"},null,{"$f":"TRIM(INDEX(Orçamentária!C:C,MATCH(Composições!A2817,Orçamentária!A:A,0),1))","v":"un"},null,"","",null,null,0]
[null,null,null,null,null,"","",null,null,0]
[null,null,"Vidraceiro com encargos complementares","h",1.5,20.177999999999997,30.266999999999996,{"$f":"SUM(G2819:G2820)","v":30.266999999999996},null,0]
[null,null,"Porteiro eletrônico residencial. Ref.: Amelco AM-m²00","un",1,"","",null,null,0]
[null,null,null,null,null,"","",null,null,0]
["SF-00888",{"$f":"INDEX(Orçamentária!A:B,MATCH(Composições!A2822,Orçamentária!A:A,0),2)","v":"Acionador fixo"},null,{"$f":"TRIM(INDEX(Orçamentária!C:C,MATCH(Composições!A2822,Orçamentária!A:A,0),1))","v":"un"},null,"","",null,null,0]
[null,null,null,null,null,"","",null,null,0]
[null,null,"Vidraceiro com encargos complementares","h",1,20.177999999999997,20.177999999999997,{"$f":"SUM(G2824:G2825)","v":20.177999999999997},null,0]
[null,null,"Acionador de fechadura elétrica para porta de vidro temperado com 01 acionador fixo. Ref.; Amelco AF62UP","un",1,"","",null,null,0]
[null,null,null,null,null,"","",null,null,0]
["SF-00889",{"$f":"INDEX(Orçamentária!A:B,MATCH(Composições!A2827,Orçamentária!A:A,0),2)","v":"Mini chapinha para trinco basculante"},null,{"$f":"TRIM(INDEX(Orçamentária!C:C,MATCH(Composições!A2827,Orçamentária!A:A,0),1))","v":"un"},null,"","",null,null,0]
[null,null,null,null,null,"","",null,null,0]
[null,null,"Vidraceiro com encargos complementares","h",0.1,20.177999999999997,2.0177999999999998,{"$f":"SUM(G2829:G2830)","v":2.0177999999999998},null,0]
[null,null,"Mini chapinha para trinco de janela basculante em vidro temperado 8 ou 10 mm, em latão fundido cromado. Ref.: Belga Metais/9801-M","un",1,"","",null,null,0]
[null,null,null,null,null,"","",null,null,0]
["SF-00890",{"$f":"INDEX(Orçamentária!A:B,MATCH(Composições!A2832,Orçamentária!A:A,0),2)","v":"Puxador de latão - diâmetro 25mm"},null,{"$f":"TRIM(INDEX(Orçamentária!C:C,MATCH(Composições!A2832,Orçamentária!A:A,0),1))","v":"un"},null,"","",null,null,0]
[null,null,null,null,null,"",{"$f":"IF(ISNUMBER(F2833),E2833*F2833,\"\")","v":""},null,null,0]
[null,null,"Vidraceiro com encargos complementares","h",0.2,20.177999999999997,4.0355999999999996,{"$f":"SUM(G2834:G2835)","v":4.0355999999999996},null,0]
[null,null,"Puxador de latão polido - diâmetro 25mm, para portas e janelas de vidro temperado. Ref.: Belga Metais/9629","un",1,"","",null,null,0]
[null,null,null,null,null,"","",null,null,0]
["SF-00891",{"$f":"INDEX(Orçamentária!A:B,MATCH(Composições!A2837,Orçamentária!A:A,0),2)","v":"Trinco sem miolo para vidro temperado"},null,{"$f":"TRIM(INDEX(Orçamentária!C:C,MATCH(Composições!A2837,Orçamentária!A:A,0),1))","v":"un"},null,"","",null,null,0]
[null,null,null,null,null,"","",null,null,0]
[null,null,"Vidraceiro com encargos complementares","h",0.2,20.177999999999997,4.0355999999999996,{"$f":"SUM(G2839:G2840)","v":4.0355999999999996},null,0]
[null,null,"Trinco sem miolo, para vidro temperado 8mm ou 10 mm, funcionando como suporte inferior de centro, em latão fundido cromado. Ref.: Belga Metais/9335","un",1,"","",null,null,0]
[null,null,null,null,null,"","",null,null,0]
["SF-00892",{"$f":"INDEX(Orçamentária!A:B,MATCH(Composições!A2842,Orçamentária!A:A,0),2)","v":"Tubo de alumínio quadrado 50x50"},null,{"$f":"TRIM(INDEX(Orçamentária!C:C,MATCH(Composições!A2842,Orçamentária!A:A,0),1))","v":"m"},null,"","",null,null,0]
[null,null,null,null,null,"","",null,null,0]
[null,null,"Vidraceiro com encargos complementares","h",0.25,20.177999999999997,5.0444999999999993,{"$f":"SUM(G2844:G2845)","v":29.622415499999995},null,0]
[null,null,"PERFIL DE ALUMINIO ANODIZADO","kg",0.85299999999999998,28.813499999999998,24.577915499999996,null,null,0]
[null,null,null,null,null,"","",null,null,0]
[null,null,"Obs: Tubo de alumínio quadrado 50x50, para fixação de painéis em vidro temperado de 8mm ou 10 mm",null,null,"","",null,null,0]
[null,null,"Fonte do coeficiente: http://www.ferragensdbf.com.br/produtos-aluminio.html",null,null,"","",null,null,0]
[null,null,null,null,null,"","",null,null,0]
["SF-00893",{"$f":"INDEX(Orçamentária!A:B,MATCH(Composições!A2850,Orçamentária!A:A,0),2)","v":"Veda fresta adesivo “E” branco"},null,{"$f":"TRIM(INDEX(Orçamentária!C:C,MATCH(Composições!A2850,Orçamentária!A:A,0),1))","v":"m"},null,"","",null,null,0]
[null,null,null,null,null,"","",null,null,0]
[null,null,"Vidraceiro com encargos complementares","h",0.2,20.177999999999997,4.0355999999999996,{"$f":"SUM(G2852:G2853)","v":4.0355999999999996},null,0]
[null,null,"Veda fresta adesivo “E” em PVC branco, elemento vedante adesivo para portas e janelas","m",0.11899999999999999,"","",null,null,0]
[null,null,null,null,null,"","",null,null,0]
["SF-00894",{"$f":"INDEX(Orçamentária!A:B,MATCH(Composições!A2855,Orçamentária!A:A,0),2)","v":"Vedapress 10mm"},null,{"$f":"TRIM(INDEX(Orçamentária!C:C,MATCH(Composições!A2855,Orçamentária!A:A,0),1))","v":"m"},null,"","",null,null,0]
[null,null,null,null,null,"","",null,null,0]
[null,null,"Vidraceiro com encargos complementares","h",0.3,20.177999999999997,6.053399999999999,{"$f":"SUM(G2857:G2858)","v":9.4822064999999984},null,0]
[null,null,"PERFIL DE ALUMINIO ANODIZADO","kg",0.11899999999999999,28.813499999999998,3.4288064999999994,null,null,0]
[null,null,null,null,null,"","",null,null,0]
[null,null,"Obs: Vedapress 10mm, elemento vedante para portas e janelas de vidro temperado de 8mm ou 10 mm. Ref.: AL-15 - Poliformas alumínio e ferragens",null,null,"","",null,null,0]
[null,null,"Fonte do coeficiente: http://www.alumipremium.com/produto/al15",null,null,"","",null,null,0]
[null,null,null,null,null,"","",null,null,0]
["SF-00895",{"$f":"INDEX(Orçamentária!A:B,MATCH(Composições!A2863,Orçamentária!A:A,0),2)","v":"Regulagem de ferragens"},null,{"$f":"TRIM(INDEX(Orçamentária!C:C,MATCH(Composições!A2863,Orçamentária!A:A,0),1))","v":"un"},null,"","",null,null,0]
[null,null,null,null,null,"","",null,null,0]
[null,null,"Vidraceiro com encargos complementares","h",1.5,20.177999999999997,30.266999999999996,{"$f":"SUM(G2865:G2865)","v":30.266999999999996},null,0]
[null,null,null,null,null,"","",null,null,0]
["SF-00896",{"$f":"INDEX(Orçamentária!A:B,MATCH(Composições!A2867,Orçamentária!A:A,0),2)","v":"Vidro fumê / bronze temperado 10mm"},null,{"$f":"TRIM(INDEX(Orçamentária!C:C,MATCH(Composições!A2867,Orçamentária!A:A,0),1))","v":"m2"},null,"","",null,null,0]
[null,null,null,null,null,"","",null,null,0]
[null,null,"Vidraceiro com encargos complementares","h",0.5,20.177999999999997,10.088999999999999,{"$f":"SUM(G2869:G2872)","v":27.834999999999997},null,0]
[null,null,"Servente com Encargos Complementares","h",0.5,16.026499999999999,8.0132499999999993,null,null,0]
[null,null,"Massa para vidro","Kg",1.5,6.4885000000000002,9.7327499999999993,null,null,0]
[null,null,"Vidro fumê/bronze temperado 10mm","m2",1,"","",null,null,0]
[null,null,null,null,null,"","",null,null,0]
["SF-00897",{"$f":"INDEX(Orçamentária!A:B,MATCH(Composições!A2874,Orçamentária!A:A,0),2)","v":"Puxador em aço inox sob medida – Tipo B"},null,{"$f":"TRIM(INDEX(Orçamentária!C:C,MATCH(Composições!A2874,Orçamentária!A:A,0),1))","v":"un"},null,"","",null,null,0]
[null,null,null,null,null,"","",null,null,0]
[null,null,"Vidraceiro com encargos complementares","h",0.4,20.177999999999997,8.0711999999999993,{"$f":"SUM(G2876:G2877)","v":8.0711999999999993},null,0]
[null,null,"Puxador para porta de vidro temperado em aço inox, sob medida, tipo B","un",1,"","",null,null,0]
[null,null,null,null,null,"","",null,null,0]
["SF-00898",{"$f":"INDEX(Orçamentária!A:B,MATCH(Composições!A2879,Orçamentária!A:A,0),2)","v":"Armação de aço CA-50 bitolas de 5,0mm a 8,00mm"},null,{"$f":"TRIM(INDEX(Orçamentária!C:C,MATCH(Composições!A2879,Orçamentária!A:A,0),1))","v":"kg"},null,"","",null,null,5]
[null,null,null,null,null,"","",null,null,5]
[null,null,"ARAME RECOZIDO 16 BWG, D = 1,65 MM (0,016 KG/M) OU 18 BWG, D = 1,25 MM (0,01 KG/M)","KG",2.5000000000000001E-2,13.281000000000001,0.33202500000000001,{"$f":"SUM(G2881:G2885)","v":10.5902029},null,5]
[null,null,"ESPACADOR / DISTANCIADOR CIRCULAR COM ENTRADA LATERAL, EM PLASTICO, PARA VERGALHAO *4,2 A 12,5* MM, COBRIMENTO 20 MM","UN",0.74299999999999999,0.1235,9.1760499999999995E-2,null,null,5]
[null,null,"AJUDANTE DE ARMADOR COM ENCARGOS COMPLEMENTARES","H",2.0899999999999998E-2,16.739000000000001,0.34984509999999996,null,null,5]
[null,null,"ARMADOR COM ENCARGOS COMPLEMENTARES","H",0.1278,21.612500000000001,2.7620775000000002,null,null,5]
[null,null,"CORTE E DOBRA DE AÇO CA-50, DIÂMETRO DE 8,0 MM, UTILIZADO EM ESTRUTURAS DIVERSAS, EXCETO LAJES. AF_12/2015","KG",1,7.0544947999999996,7.0544947999999996,null,null,5]
[null,null,null,null,null,"","",null,null,5]
["SF-00899",{"$f":"INDEX(Orçamentária!A:B,MATCH(Composições!A2887,Orçamentária!A:A,0),2)","v":"Pivô para dobradiça inferior (Montagem com a 1103-TQ)"},null,{"$f":"TRIM(INDEX(Orçamentária!C:C,MATCH(Composições!A2887,Orçamentária!A:A,0),1))","v":"un"},null,"","",null,null,0]
[null,null,null,null,null,"","",null,null,0]
[null,null,"Vidraceiro com encargos complementares","h",0.2,20.177999999999997,4.0355999999999996,{"$f":"SUM(G2889:G2890)","v":4.0355999999999996},null,0]
[null,null,"Pivô para dobradiça inferior (montagem com a 1103- TQ) para porta em vidro temperado","un",1,"","",null,null,0]
[null,null,null,null,null,"","",null,null,0]
["SF-00900",{"$f":"INDEX(Orçamentária!A:B,MATCH(Composições!A2892,Orçamentária!A:A,0),2)","v":"Dobradiça direita inferior excêntrica"},null,{"$f":"TRIM(INDEX(Orçamentária!C:C,MATCH(Composições!A2892,Orçamentária!A:A,0),1))","v":"un"},null,"","",null,null,0]
[null,null,null,null,null,"","",null,null,0]
[null,null,"Vidraceiro com encargos complementares","h",0.3,20.177999999999997,6.053399999999999,{"$f":"SUM(G2894:G2895)","v":6.053399999999999},null,0]
[null,null,"Dobradiça direita inferior excêntrica para porta pivotante em vidro temperado, dimensões máximas recomendadas 1000 x 2100 mm ou 900 x 2400 mm","un",1,"","",null,null,0]
[null,null,null,null,null,"","",null,null,0]
["SF-00901",{"$f":"INDEX(Orçamentária!A:B,MATCH(Composições!A2897,Orçamentária!A:A,0),2)","v":"Dobradiça esquerda inferior excêntrica"},null,{"$f":"TRIM(INDEX(Orçamentária!C:C,MATCH(Composições!A2897,Orçamentária!A:A,0),1))","v":"un"},null,"",{"$f":"IF(ISNUMBER(F2897),E2897*F2897,\"\")","v":""},null,null,0]
[null,null,null,null,null,"","",null,null,0]
[null,null,"Vidraceiro com encargos complementares","h",0.3,20.177999999999997,6.053399999999999,{"$f":"SUM(G2899:G2900)","v":6.053399999999999},null,0]
[null,null,"Dobradiça esquerda inferior excêntrica para porta pivotante em vidro temperado, dimensões máximas recomendadas 1000 x 2100 mm ou 900 x 2400 mm","un",1,"","",null,null,0]
[null,null,null,null,null,"","",null,null,0]
["SF-00902",{"$f":"INDEX(Orçamentária!A:B,MATCH(Composições!A2902,Orçamentária!A:A,0),2)","v":"Dobradiça pivotante inferior com trinco"},null,{"$f":"TRIM(INDEX(Orçamentária!C:C,MATCH(Composições!A2902,Orçamentária!A:A,0),1))","v":"un"},null,"","",null,null,0]
[null,null,null,null,null,"","",null,null,0]
[null,null,"Vidraceiro com encargos complementares","h",0.3,20.177999999999997,6.053399999999999,{"$f":"SUM(G2904:G2905)","v":6.053399999999999},null,0]
[null,null,"Dobradiça pivotante inferior com trinco, em alumínio, para porta em vidro temperado, dimensões máximas recomendadas 900 x 2200 mm","un",1,"","",null,null,0]
[null,null,null,null,null,"","",null,null,0]
["SF-00903",{"$f":"INDEX(Orçamentária!A:B,MATCH(Composições!A2907,Orçamentária!A:A,0),2)","v":"Carrinho para porta de correr 1 roldana e 2 furos"},null,{"$f":"TRIM(INDEX(Orçamentária!C:C,MATCH(Composições!A2907,Orçamentária!A:A,0),1))","v":"un"},null,"","",null,null,0]
[null,null,null,null,null,"","",null,null,0]
[null,null,"Vidraceiro com encargos complementares","h",0.15,20.177999999999997,3.0266999999999995,{"$f":"SUM(G2909:G2910)","v":3.0266999999999995},null,0]
[null,null,"Carrinho para porta de correr em vidro temperado até 20kg 1 roldana e 2 furos. Ref.: Vidromax 1122-S","un",1,"","",null,null,0]
[null,null,null,null,null,"","",null,null,0]
["SF-00904",{"$f":"INDEX(Orçamentária!A:B,MATCH(Composições!A2912,Orçamentária!A:A,0),2)","v":"Carrinho para porta de correr 2 roldanas e 2 furos"},null,{"$f":"TRIM(INDEX(Orçamentária!C:C,MATCH(Composições!A2912,Orçamentária!A:A,0),1))","v":"un"},null,"","",null,null,0]
[null,null,null,null,null,"","",null,null,0]
[null,null,"Vidraceiro com encargos complementares","h",0.15,20.177999999999997,3.0266999999999995,{"$f":"SUM(G2914:G2915)","v":3.0266999999999995},null,0]
[null,null,"Carrinho para porta de correr em vidro temperado até 80kg 2 roldanas e 2 furos. Ref.: Vidromax 1122","un",1,"","",null,null,0]
[null,null,null,null,null,"","",null,null,0]
["SF-00905",{"$f":"INDEX(Orçamentária!A:B,MATCH(Composições!A2917,Orçamentária!A:A,0),2)","v":"Carrinho para porta de correr com roldana côncava"},null,{"$f":"TRIM(INDEX(Orçamentária!C:C,MATCH(Composições!A2917,Orçamentária!A:A,0),1))","v":"un"},null,"","",null,null,0]
[null,null,null,null,null,"","",null,null,0]
[null,null,"Vidraceiro com encargos complementares","h",0.15,20.177999999999997,3.0266999999999995,{"$f":"SUM(G2919:G2920)","v":3.0266999999999995},null,0]
[null,null,"Carrinho para porta de correr em vidro temperado com roldana côncava, dimensões máximas recomendadas 600 x 1800 mm","un",1,"","",null,null,0]
[null,null,null,null,null,"","",null,null,0]
["SF-00906",{"$f":"INDEX(Orçamentária!A:B,MATCH(Composições!A2922,Orçamentária!A:A,0),2)","v":"Guia de nylon para porta de correr"},null,{"$f":"TRIM(INDEX(Orçamentária!C:C,MATCH(Composições!A2922,Orçamentária!A:A,0),1))","v":"un"},null,"","",null,null,0]
[null,null,null,null,null,"","",null,null,0]
[null,null,"Vidraceiro com encargos complementares","h",0.15,20.177999999999997,3.0266999999999995,{"$f":"SUM(G2924:G2925)","v":3.0266999999999995},null,0]
[null,null,"Guia de nylon para porta de correr em vidro temperado","un",1,"","",null,null,0]
[null,null,null,null,null,"","",null,null,0]
["SF-00907",{"$f":"INDEX(Orçamentária!A:B,MATCH(Composições!A2927,Orçamentária!A:A,0),2)","v":"Puxador H tubular em aço inox, comprimento 45cm, para portas de vidro temperado"},null,{"$f":"TRIM(INDEX(Orçamentária!C:C,MATCH(Composições!A2927,Orçamentária!A:A,0),1))","v":"un"},null,"","",null,null,0]
[null,null,null,null,null,"","",null,null,0]
[null,null,"Vidraceiro com encargos complementares","h",0.4,20.177999999999997,8.0711999999999993,{"$f":"SUM(G2929:G2930)","v":8.0711999999999993},null,0]
[null,null,"Puxador H tubular em aço inox AISI304, com porcas tipo castelo, comprimento 45cm, entre furos de 30cm,  diâmetro 1.1/4\",  chapa #16, acabamento escovado. Ref.: PX-RD, Poliforma Alumínio e Ferragens","un",1,"","",null,null,0]
[null,null,null,null,null,"","",null,null,0]
["SF-00908",{"$f":"INDEX(Orçamentária!A:B,MATCH(Composições!A2932,Orçamentária!A:A,0),2)","v":"Transporte de vidros"},null,{"$f":"TRIM(INDEX(Orçamentária!C:C,MATCH(Composições!A2932,Orçamentária!A:A,0),1))","v":"m2 x km"},null,"","",null,null,0]
[null,null,null,null,null,"","",null,null,0]
[null,null,"Servente com Encargos Complementares","h",2.9209999999999998,16.026499999999999,46.813406499999992,{"$f":"SUM(G2934:G2934)","v":46.813406499999992},null,0]
[null,null,null,null,null,"","",null,null,0]
[null,null,"Fonte do coeficiente: http://www.alumipremium.com/produto/al15",null,null,"","",null,null,0]
[null,null,null,null,null,"","",null,null,0]
["SF-00909",{"$f":"INDEX(Orçamentária!A:B,MATCH(Composições!A2938,Orçamentária!A:A,0),2)","v":"Vidro fantasia 4mm (canelado, martelado, pontilhado e mini-boreal)"},null,{"$f":"TRIM(INDEX(Orçamentária!C:C,MATCH(Composições!A2938,Orçamentária!A:A,0),1))","v":"m2"},null,"","",null,null,0]
[null,null,null,null,null,"","",null,null,0]
[null,null,"Vidraceiro com encargos complementares","h",0.45,20.177999999999997,9.0800999999999998,{"$f":"SUM(G2940:G2943)","v":111.13527500000001},null,0]
[null,null,"Servente com Encargos Complementares","h",0.45,16.026499999999999,7.2119249999999999,null,null,0]
[null,null,"Massa para vidro","Kg",1.5,6.4885000000000002,9.7327499999999993,null,null,0]
[null,null,"VIDRO MARTELADO OU CANELADO, 4 MM - SEM COLOCACAO","m2",1,85.110500000000002,85.110500000000002,null,null,0]
[null,null,null,null,null,"","",null,null,0]
["SF-00910",{"$f":"INDEX(Orçamentária!A:B,MATCH(Composições!A2945,Orçamentária!A:A,0),2)","v":"Vidro fumê/bronze 5mm"},null,{"$f":"TRIM(INDEX(Orçamentária!C:C,MATCH(Composições!A2945,Orçamentária!A:A,0),1))","v":"m2"},null,"","",null,null,0]
[null,null,null,null,null,"","",null,null,0]
[null,null,"Vidraceiro com encargos complementares","h",1,20.177999999999997,20.177999999999997,{"$f":"SUM(G2947:G2950)","v":183.36330000000001},null,0]
[null,null,"Servente com Encargos Complementares","h",0.2,16.026499999999999,3.2052999999999998,null,null,0]
[null,null,"Massa para vidro","Kg",2,6.4885000000000002,12.977,null,null,0]
[null,null,"VIDRO LISO FUME, E = 5 MM - SEM COLOCACAO","m2",1,147.00300000000001,147.00300000000001,null,null,0]
[null,null,null,null,null,"","",null,null,0]
["SF-00911",{"$f":"INDEX(Orçamentária!A:B,MATCH(Composições!A2952,Orçamentária!A:A,0),2)","v":"Recuperação de massa em esquadria metálica"},null,{"$f":"TRIM(INDEX(Orçamentária!C:C,MATCH(Composições!A2952,Orçamentária!A:A,0),1))","v":"m"},null,"","",null,null,0]
[null,null,null,null,null,"","",null,null,0]
[null,null,"Vidraceiro com encargos complementares","h",{"$f":"ROUND(1/3,4)","v":0.33329999999999999},20.177999999999997,6.7253273999999985,{"$f":"SUM(G2954:G2956)","v":22.907627399999999},null,0]
[null,null,"Servente com Encargos Complementares","h",0.2,16.026499999999999,3.2052999999999998,null,null,0]
[null,null,"Massa para vidro","Kg",2,6.4885000000000002,12.977,null,null,0]
[null,null,null,null,null,"","",null,null,0]
["SF-00912",{"$f":"INDEX(Orçamentária!A:B,MATCH(Composições!A2958,Orçamentária!A:A,0),2)","v":"Instalação de espelho reaproveitado"},null,{"$f":"TRIM(INDEX(Orçamentária!C:C,MATCH(Composições!A2958,Orçamentária!A:A,0),1))","v":"m2"},null,"","",null,null,0]
[null,null,null,null,null,"","",null,null,0]
[null,null,"Servente com Encargos Complementares","h",0.4,16.026499999999999,6.4105999999999996,{"$f":"SUM(G2960:G2962)","v":60.788599999999995},null,0]
[null,null,"Vidraceiro com encargos complementares","h",2,20.177999999999997,{"$f":"IF(ISNUMBER(F2961),E2961*F2961,\"\")","v":40.355999999999995},null,null,0]
[null,null,"PARAFUSO FRANCES M16 EM ACO GALVANIZADO, COMPRIMENTO = 45 MM, DIAMETRO = 16 MM, CABECA ABAULADA","UN",4,3.5054999999999996,14.021999999999998,null,null,0]
[null,null,null,null,null,"","",null,null,0]
["SF-00913",{"$f":"INDEX(Orçamentária!A:B,MATCH(Composições!A2964,Orçamentária!A:A,0),2)","v":"Espelho fumê/bronze 4mm lapidado"},null,{"$f":"TRIM(INDEX(Orçamentária!C:C,MATCH(Composições!A2964,Orçamentária!A:A,0),1))","v":"m2"},null,"","",null,null,0]
[null,null,null,null,null,"","",null,null,0]
[null,null,"PARAFUSO FRANCES M16 EM ACO GALVANIZADO, COMPRIMENTO = 45 MM, DIAMETRO = 16 MM, CABECA ABAULADA","un",4,3.5054999999999996,14.021999999999998,{"$f":"SUM(G2966:G2969)","v":60.788599999999988},null,0]
[null,null,"Espelho fumê/bronze 4mm lapidado","m2",1,"","",null,null,0]
[null,null,"Servente com Encargos Complementares","h",0.4,16.026499999999999,6.4105999999999996,null,null,0]
[null,null,"Vidraceiro com encargos complementares","h",2,20.177999999999997,40.355999999999995,null,null,0]
[null,null,null,null,null,"","",null,null,0]
["SF-00914",{"$f":"INDEX(Orçamentária!A:B,MATCH(Composições!A2971,Orçamentária!A:A,0),2)","v":"Finesson (parafuso de fixação francês)"},null,{"$f":"TRIM(INDEX(Orçamentária!C:C,MATCH(Composições!A2971,Orçamentária!A:A,0),1))","v":"un"},null,"","",null,null,0]
[null,null,null,null,null,"","",null,null,0]
[null,null,"Vidraceiro com encargos complementares","h",0.1,20.177999999999997,2.0177999999999998,{"$f":"SUM(G2973:G2974)","v":5.523299999999999},null,0]
[null,null,"PARAFUSO FRANCES M16 EM ACO GALVANIZADO, COMPRIMENTO = 45 MM, DIAMETRO = 16 MM, CABECA ABAULADA","un",1,3.5054999999999996,3.5054999999999996,null,null,0]
[null,null,null,null,null,"","",null,null,0]
["SF-00915",{"$f":"INDEX(Orçamentária!A:B,MATCH(Composições!A2976,Orçamentária!A:A,0),2)","v":"Graute industrializado, fck ≥ 25MPa"},null,{"$f":"TRIM(INDEX(Orçamentária!C:C,MATCH(Composições!A2976,Orçamentária!A:A,0),1))","v":"m3"},null,"","",null,null,1]
[null,null,null,null,null,"","",null,null,1]
[null,null,"PEDREIRO COM ENCARGOS COMPLEMENTARES","H",4.7313999999999998,21.716999999999999,102.75181379999999,{"$f":"SUM(G2978:G2980)","v":2400.7610986999994},null,1]
[null,null,"SERVENTE COM ENCARGOS COMPLEMENTARES","H",3.3466,16.026499999999999,53.634284899999997,null,null,1]
[null,null,"GRAUTE CIMENTICIO PARA USO GERAL","KG",1875,1.1969999999999998,2244.3749999999995,null,null,1]
[null,null,null,null,null,"","",null,null,1]
["SF-00916",{"$f":"INDEX(Orçamentária!A:B,MATCH(Composições!A2982,Orçamentária!A:A,0),2)","v":"Armação de aço CA-50 bitolas de 10,0mm a 12,50mm"},null,{"$f":"TRIM(INDEX(Orçamentária!C:C,MATCH(Composições!A2982,Orçamentária!A:A,0),1))","v":"kg"},null,"","",null,null,5]
[null,null,null,null,null,"","",null,null,5]
[null,null,"ARAME RECOZIDO 16 BWG, D = 1,65 MM (0,016 KG/M) OU 18 BWG, D = 1,25 MM (0,01 KG/M)","KG",2.5000000000000001E-2,13.281000000000001,0.33202500000000001,{"$f":"SUM(G2984:G2988)","v":7.5699781000000002},null,5]
[null,null,"ESPACADOR / DISTANCIADOR CIRCULAR COM ENTRADA LATERAL, EM PLASTICO, PARA VERGALHAO *4,2 A 12,5* MM, COBRIMENTO 20 MM","UN",0.36699999999999999,0.1235,4.5324499999999997E-2,null,null,5]
[null,null,"AJUDANTE DE ARMADOR COM ENCARGOS COMPLEMENTARES","H",1.14E-2,16.739000000000001,0.19082460000000001,null,null,5]
[null,null,"ARMADOR COM ENCARGOS COMPLEMENTARES","H",6.9800000000000001E-2,21.612500000000001,1.5085525,null,null,5]
[null,null,"CORTE E DOBRA DE AÇO CA-50, DIÂMETRO DE 12,5 MM, UTILIZADO EM ESTRUTURAS DIVERSAS, EXCETO LAJES. AF_12/2015","KG",1,5.4932515000000004,5.4932515000000004,null,null,5]
[null,null,null,null,null,"","",null,null,5]
["SF-00917",{"$f":"INDEX(Orçamentária!A:B,MATCH(Composições!A2990,Orçamentária!A:A,0),2)","v":"Armação de aço CA-50 bitolas de 16,0mm a 25,0mm"},null,{"$f":"TRIM(INDEX(Orçamentária!C:C,MATCH(Composições!A2990,Orçamentária!A:A,0),1))","v":"kg"},null,"","",null,null,5]
[null,null,null,null,null,"","",null,null,5]
[null,null,"ARAME RECOZIDO 16 BWG, D = 1,65 MM (0,016 KG/M) OU 18 BWG, D = 1,25 MM (0,01 KG/M)","KG",2.5000000000000001E-2,13.281000000000001,0.33202500000000001,{"$f":"SUM(G2992:G2996)","v":7.4519443999999986},null,5]
[null,null,"ESPACADOR / DISTANCIADOR CIRCULAR COM ENTRADA LATERAL, EM PLASTICO, PARA VERGALHAO *4,2 A 12,5* MM, COBRIMENTO 20 MM","UN",0.113,0.1235,1.3955500000000001E-2,null,null,5]
[null,null,"AJUDANTE DE ARMADOR COM ENCARGOS COMPLEMENTARES","H",5.1000000000000004E-3,16.739000000000001,8.5368900000000011E-2,null,null,5]
[null,null,"ARMADOR COM ENCARGOS COMPLEMENTARES","H",3.1199999999999999E-2,21.612500000000001,0.67430999999999996,null,null,5]
[null,null,"CORTE E DOBRA DE AÇO CA-50, DIÂMETRO DE 20,0 MM, UTILIZADO EM ESTRUTURAS DIVERSAS, EXCETO LAJES. AF_12/2015","KG",1,6.3462849999999991,6.3462849999999991,null,null,5]
[null,null,null,null,null,"","",null,null,5]
["SF-00918",{"$f":"INDEX(Orçamentária!A:B,MATCH(Composições!A2998,Orçamentária!A:A,0),2)","v":"Remoção de mola hidráulica de piso"},null,{"$f":"TRIM(INDEX(Orçamentária!C:C,MATCH(Composições!A2998,Orçamentária!A:A,0),1))","v":"un"},null,"","",null,null,15]
[null,null,null,null,null,"","",null,null,15]
[null,null,"Servente com Encargos Complementares","h",0.55000000000000004,16.026499999999999,8.8145749999999996,{"$f":"SUM(G3000:G3001)","v":19.912475000000001},null,15]
[null,null,"Vidraceiro com encargos complementares","h",0.55000000000000004,20.177999999999997,11.097899999999999,null,null,15]
[null,null,null,null,null,"","",null,null,15]
["SF-00919",{"$f":"INDEX(Orçamentária!A:B,MATCH(Composições!A3003,Orçamentária!A:A,0),2)","v":"Escavação manual de valas"},null,{"$f":"TRIM(INDEX(Orçamentária!C:C,MATCH(Composições!A3003,Orçamentária!A:A,0),1))","v":"m3"},null,"","",null,null,15]
[null,null,null,null,null,"","",null,null,15]
[null,null,"Servente com Encargos Complementares","h",3.956,16.026499999999999,63.400833999999996,{"$f":"SUM(G3005:G3005)","v":63.400833999999996},null,15]
[null,null,null,null,null,"","",null,null,15]
["SF-00920",{"$f":"INDEX(Orçamentária!A:B,MATCH(Composições!A3007,Orçamentária!A:A,0),2)","v":"Reaterro de vala com compactação mecanizada"},null,{"$f":"TRIM(INDEX(Orçamentária!C:C,MATCH(Composições!A3007,Orçamentária!A:A,0),1))","v":"m3"},null,"","",null,null,15]
[null,null,null,null,null,"","",null,null,15]
[null,null,"SERVENTE COM ENCARGOS COMPLEMENTARES","H",0.65,16.026499999999999,10.417225,{"$f":"SUM(G3009:G3012)","v":22.573776500000001},null,15]
[null,null,"COMPACTADOR DE SOLOS DE PERCUSSÃO (SOQUETE) COM MOTOR A GASOLINA 4 TEMPOS, POTÊNCIA 4 CV - CHP DIURNO. AF_08/2015","CHP",0.27400000000000002,23.256,6.3721440000000005,null,null,15]
[null,null,"COMPACTADOR DE SOLOS DE PERCUSSÃO (SOQUETE) COM MOTOR A GASOLINA 4 TEMPOS, POTÊNCIA 4 CV - CHI DIURNO. AF_08/2015","CHI",0.254,18.05,4.5847000000000007,null,null,15]
[null,null,"UMIDIFICAÇÃO DE MATERIAL PARA VALAS COM CAMINHÃO PIPA 10000L. AF_11/2016","M3",1,1.1997074999999999,1.1997074999999999,null,null,15]
[null,null,null,null,null,"","",null,null,15]
["SF-00921",{"$f":"INDEX(Orçamentária!A:B,MATCH(Composições!A3014,Orçamentária!A:A,0),2)","v":"Aterro de vala com compactação mecanizada"},null,{"$f":"TRIM(INDEX(Orçamentária!C:C,MATCH(Composições!A3014,Orçamentária!A:A,0),1))","v":"m3"},null,"","",null,null,15]
[null,null,null,null,null,"","",null,null,15]
[null,null,"CAMINHÃO PIPA 10.000 L TRUCADO, PESO BRUTO TOTAL 23.000 KG, CARGA ÚTIL MÁXIMA 15.935 KG, DISTÂNCIA ENTRE EIXOS 4,8 M, POTÊNCIA 230 CV, INCLUSIVE TANQUE DE AÇO PARA TRANSPORTE DE ÁGUA - CHP DIURNO. AF_06/2014","CHP",6.0000000000000001E-3,159.20099999999999,0.955206,{"$f":"SUM(G3016:G3023)","v":78.41969631249998},null,15]
[null,null,"CAMINHÃO PIPA 10.000 L TRUCADO, PESO BRUTO TOTAL 23.000 KG, CARGA ÚTIL MÁXIMA 15.935 KG, DISTÂNCIA ENTRE EIXOS 4,8 M, POTÊNCIA 230 CV, INCLUSIVE TANQUE DE AÇO PARA TRANSPORTE DE ÁGUA - CHI DIURNO. AF_06/2014","CHI",3.0000000000000001E-3,33.420999999999999,0.100263,null,null,15]
[null,null,"ARGILA, ARGILA VERMELHA OU ARGILA ARENOSA (RETIRADA NA JAZIDA, SEM TRANSPORTE)","M3",1.25,9.1769999999999996,11.47125,null,null,15]
[null,null,"SERVENTE COM ENCARGOS COMPLEMENTARES","H",0.65900000000000003,16.026499999999999,10.5614635,null,null,15]
[null,null,"COMPACTADOR DE SOLOS DE PERCUSSÃO (SOQUETE) COM MOTOR A GASOLINA 4 TEMPOS, POTÊNCIA 4 CV - CHP DIURNO. AF_08/2015","CHP",0.27400000000000002,23.256,6.3721440000000005,null,null,15]
[null,null,"COMPACTADOR DE SOLOS DE PERCUSSÃO (SOQUETE) COM MOTOR A GASOLINA 4 TEMPOS, POTÊNCIA 4 CV - CHI DIURNO. AF_08/2015","CHI",0.254,18.05,4.5847000000000007,null,null,15]
[null,null,"CARGA, MANOBRA E DESCARGA DE SOLOS E MATERIAIS GRANULARES EM CAMINHÃO BASCULANTE 6 M³ - CARGA COM PÁ CARREGADEIRA (CAÇAMBA DE 1,7 A 2,8 M³ / 128 HP) E DESCARGA LIVRE (UNIDADE: M3). AF_07/2020","m3",{"$f":"E3018*1","v":1.25},4.7457088499999998,5.9321360624999997,null,null,15]
[null,null,"TRANSPORTE COM CAMINHÃO BASCULANTE DE 6 M3, EM VIA URBANA PAVIMENTADA, DMT ATÉ 30 KM (UNIDADE: M3xKM). AF_01/2018","M3xKM",{"$f":"E3018*20","v":25},1.5377013499999996,38.442533749999988,null,null,15]
[null,null,null,null,null,"","",null,null,15]
[null,null,"Obs.: Considerando fornecedor de argila a 20 km do Senado Federal.",null,null,"",{"$f":"IF(ISNUMBER(F3025),E3025*F3025,\"\")","v":""},null,null,15]
[null,null,null,null,null,"","",null,null,15]
["SF-00922",{"$f":"INDEX(Orçamentária!A:B,MATCH(Composições!A3027,Orçamentária!A:A,0),2)","v":"Tubo de cobre classe \"E\" 22mm"},null,{"$f":"TRIM(INDEX(Orçamentária!C:C,MATCH(Composições!A3027,Orçamentária!A:A,0),1))","v":"m"},null,"","",null,null,10]
[null,null,null,null,null,"","",null,null,10]
[null,null,"TUBO DE COBRE CLASSE \"E\", DN = 22 MM, PARA INSTALACAO HIDRAULICA PREDIAL","M",1.0210999999999999,35.15,35.891664999999996,{"$f":"SUM(G3029:G3031)","v":41.349984999999997},null,10]
[null,null,"AUXILIAR DE ENCANADOR OU BOMBEIRO HIDRÁULICO COM ENCARGOS COMPLEMENTARES","H",0.14399999999999999,16.596499999999999,2.3898959999999998,null,null,10]
[null,null,"ENCANADOR OU BOMBEIRO HIDRÁULICO COM ENCARGOS COMPLEMENTARES","H",0.14399999999999999,21.308499999999999,3.0684239999999994,null,null,10]
[null,null,null,null,null,"","",null,null,10]
["SF-00923",{"$f":"INDEX(Orçamentária!A:B,MATCH(Composições!A3033,Orçamentária!A:A,0),2)","v":"Tubo de cobre classe \"E\" 28 mm"},null,{"$f":"TRIM(INDEX(Orçamentária!C:C,MATCH(Composições!A3033,Orçamentária!A:A,0),1))","v":"m"},null,"","",null,null,10]
[null,null,null,null,null,"","",null,null,10]
[null,null,"TUBO DE COBRE CLASSE \"E\", DN = 28 MM, PARA INSTALACAO HIDRAULICA PREDIAL","M",1.0210999999999999,44.612000000000002,45.553313199999998,{"$f":"SUM(G3035:G3037)","v":51.618113199999996},null,10]
[null,null,"AUXILIAR DE ENCANADOR OU BOMBEIRO HIDRÁULICO COM ENCARGOS COMPLEMENTARES","H",0.16,16.596499999999999,2.65544,null,null,10]
[null,null,"ENCANADOR OU BOMBEIRO HIDRÁULICO COM ENCARGOS COMPLEMENTARES","H",0.16,21.308499999999999,3.4093599999999999,null,null,10]
[null,null,null,null,null,"","",null,null,10]
["SF-00924",{"$f":"INDEX(Orçamentária!A:B,MATCH(Composições!A3039,Orçamentária!A:A,0),2)","v":"Tubo de cobre classe \"E\" 42mm"},null,{"$f":"TRIM(INDEX(Orçamentária!C:C,MATCH(Composições!A3039,Orçamentária!A:A,0),1))","v":"m"},null,"","",null,null,10]
[null,null,null,null,null,"","",null,null,10]
[null,null,"TUBO DE COBRE CLASSE \"E\", DN = 42 MM, PARA INSTALACAO HIDRAULICA PREDIAL","M",1.0210999999999999,87.485500000000002,89.331444049999988,{"$f":"SUM(G3041:G3043)","v":92.212224049999989},null,10]
[null,null,"AUXILIAR DE ENCANADOR OU BOMBEIRO HIDRÁULICO COM ENCARGOS COMPLEMENTARES","H",7.5999999999999998E-2,16.596499999999999,1.261334,null,null,10]
[null,null,"ENCANADOR OU BOMBEIRO HIDRÁULICO COM ENCARGOS COMPLEMENTARES","H",7.5999999999999998E-2,21.308499999999999,1.6194459999999999,null,null,10]
[null,null,null,null,null,"","",null,null,10]
["SF-00925",{"$f":"INDEX(Orçamentária!A:B,MATCH(Composições!A3045,Orçamentária!A:A,0),2)","v":"Bacia convencional - Linha Acessibilidade"},null,{"$f":"TRIM(INDEX(Orçamentária!C:C,MATCH(Composições!A3045,Orçamentária!A:A,0),1))","v":"un"},null,"","",null,null,5]
[null,null,null,null,null,"","",null,null,5]
[null,null,"PARAFUSO NIQUELADO COM ACABAMENTO CROMADO PARA FIXAR PECA SANITARIA, INCLUI PORCA CEGA, ARRUELA E BUCHA DE NYLON TAMANHO S-10","UN",2,17.270999999999997,34.541999999999994,{"$f":"SUM(G3047:G3053)","v":700.47188770000002},null,5]
[null,null,"VEDACAO PVC, 100 MM, PARA SAIDA VASO SANITARIO","UN",1,1.7765,1.7765,null,null,5]
[null,null,"BACIA SANITARIA (VASO) CONVENCIONAL PARA PCD SEM FURO FRONTAL, DE LOUCA BRANCA, SEM ASSENTO","UN",1,548.79599999999994,548.79599999999994,null,null,5]
[null,null,"Rejunte epoxi, qualquer cor","KG",8.8099999999999998E-2,50.511499999999998,4.4500631500000001,null,null,5]
[null,null,"ENCANADOR OU BOMBEIRO HIDRÁULICO COM ENCARGOS COMPLEMENTARES","H",0.49680000000000002,21.308499999999999,10.586062800000001,null,null,5]
[null,null,"SERVENTE COM ENCARGOS COMPLEMENTARES","H",0.34949999999999998,16.026499999999999,5.601261749999999,null,null,5]
[null,null,"Tubo de ligação para bacia sanitária em PVC, com acabamento cromado, ajustável ou não. Ref.: DECA 1968C ou equivalente","un",1,94.72,94.72,null,null,5]
[null,null,null,null,null,"","",null,null,5]
["SF-00926",{"$f":"INDEX(Orçamentária!A:B,MATCH(Composições!A3055,Orçamentária!A:A,0),2)","v":"Assento para bacia convencional - Linha Acessibilidade"},null,{"$f":"TRIM(INDEX(Orçamentária!C:C,MATCH(Composições!A3055,Orçamentária!A:A,0),1))","v":"un"},null,"","",null,null,25]
[null,null,null,null,null,"","",null,null,25]
[null,null,"Assento poliéster, mod.: Vogue plus, cor branca, com fixação cromada. AP.51 ref: DECA ou equivalente","un ",1,775.94,775.94,{"$f":"SUM(G3057:G3058)","v":777.54265000000009},null,25]
[null,null,"Servente Com Encargos Complementares","h",0.1,16.026499999999999,1.6026499999999999,null,null,25]
[null,null,null,null,null,"","",null,null,25]
["SF-00927",{"$f":"INDEX(Orçamentária!A:B,MATCH(Composições!A3060,Orçamentária!A:A,0),2)","v":"Base registro de gaveta 1 1/2”"},null,{"$f":"TRIM(INDEX(Orçamentária!C:C,MATCH(Composições!A3060,Orçamentária!A:A,0),1))","v":"un"},null,"","",null,null,10]
[null,null,null,null,null,"","",null,null,10]
[null,null,"Registro gaveta em liga de cobre, bitola 1 1/2\" mod:1502.B.112 ref: DECA ou equivalente","un ",1,74.88,74.88,{"$f":"SUM(G3062:G3065)","v":105.00996249999999},null,10]
[null,null,"FITA VEDA ROSCA EM ROLOS DE 18 MM X 50 M (L X C)","UN",1.9E-2,11.7325,0.22291749999999999,null,null,10]
[null,null,"Encanador ou Bombeiro Hidráulico com Encargos Complementares","h",0.78900000000000003,21.308499999999999,16.812406499999998,null,null,10]
[null,null,"AUXILIAR DE ENCANADOR OU BOMBEIRO HIDRÁULICO COM ENCARGOS COMPLEMENTARES","h",0.78900000000000003,16.596499999999999,13.0946385,null,null,10]
[null,null,null,null,null,"","",null,null,10]
["SF-00928",{"$f":"INDEX(Orçamentária!A:B,MATCH(Composições!A3067,Orçamentária!A:A,0),2)","v":"Condutor 25mm²"},null,{"$f":"TRIM(INDEX(Orçamentária!C:C,MATCH(Composições!A3067,Orçamentária!A:A,0),1))","v":"m"},null,"","",null,null,0]
[null,null,null,null,null,"","",null,null,0]
[null,null,"Cabo flexível isolado em EPR não halogenado 25 mm² 0,6 a 1 kV","m",1.0149999999999999,0,0,{"$f":"SUM(G3069:G3072)","v":2.5230765000000002},null,0]
[null,null,"Fita isolante adesiva antichama, uso ate 750 V, em rolo de 19 mm x 5 m","UN",8.9999999999999993E-3,3.2965,2.9668499999999997E-2,null,null,0]
[null,null,"Auxiliar de eletricista com encargos complementares","h",6.4000000000000001E-2,17.042999999999999,1.0907519999999999,null,null,0]
[null,null,"Eletricista com encargos complementares","h",6.4000000000000001E-2,21.916499999999999,1.4026559999999999,null,null,0]
[null,null,null,null,null,"","",null,null,0]
["SF-00929",{"$f":"INDEX(Orçamentária!A:B,MATCH(Composições!A3074,Orçamentária!A:A,0),2)","v":"Condutor 35mm²"},null,{"$f":"TRIM(INDEX(Orçamentária!C:C,MATCH(Composições!A3074,Orçamentária!A:A,0),1))","v":"m"},null,"","",null,null,0]
[null,null,null,null,null,"","",null,null,0]
[null,null,"Cabo flexível isolado em EPR não halogenado 35 mm² 0,6 a 1 kV","m",1.0149999999999999,0,0,{"$f":"SUM(G3076:G3079)","v":2.8737119999999998},null,0]
[null,null,"Fita isolante adesiva antichama, uso ate 750 V, em rolo de 19 mm x 5 m","UN",8.9999999999999993E-3,3.2965,2.9668499999999997E-2,null,null,0]
[null,null,"Auxiliar de eletricista com encargos complementares","h",7.2999999999999995E-2,17.042999999999999,1.2441389999999999,null,null,0]
[null,null,"Eletricista com encargos complementares","h",7.2999999999999995E-2,21.916499999999999,1.5999044999999998,null,null,0]
[null,null,null,null,null,"","",null,null,0]
["SF-00930",{"$f":"INDEX(Orçamentária!A:B,MATCH(Composições!A3081,Orçamentária!A:A,0),2)","v":"Condutor 50mm²"},null,{"$f":"TRIM(INDEX(Orçamentária!C:C,MATCH(Composições!A3081,Orçamentária!A:A,0),1))","v":"m"},null,"","",null,null,0]
[null,null,null,null,null,"","",null,null,0]
[null,null,"Cabo flexível isolado em EPR não halogenado 50 mm² 0,6 a 1 kV","m",1.0149999999999999,0,0,{"$f":"SUM(G3083:G3086)","v":3.4191449999999994},null,0]
[null,null,"Fita isolante adesiva antichama, uso ate 750 V, em rolo de 19 mm x 5 m","UN",8.9999999999999993E-3,3.2965,2.9668499999999997E-2,null,null,0]
[null,null,"Auxiliar de eletricista com encargos complementares","h",8.6999999999999994E-2,17.042999999999999,1.4827409999999999,null,null,0]
[null,null,"Eletricista com encargos complementares","h",8.6999999999999994E-2,21.916499999999999,1.9067354999999997,null,null,0]
[null,null,null,null,null,"","",null,null,0]
["SF-00931",{"$f":"INDEX(Orçamentária!A:B,MATCH(Composições!A3088,Orçamentária!A:A,0),2)","v":"Condutor 70mm²"},null,{"$f":"TRIM(INDEX(Orçamentária!C:C,MATCH(Composições!A3088,Orçamentária!A:A,0),1))","v":"m"},null,"","",null,null,0]
[null,null,null,null,null,"",{"$f":"IF(ISNUMBER(F3089),E3089*F3089,\"\")","v":""},null,null,0]
[null,null,"Cabo flexível isolado em EPR não halogenado 70 mm² 0,6 a 1 kV","m",1.0149999999999999,0,0,{"$f":"SUM(G3090:G3093)","v":4.1204159999999996},null,0]
[null,null,"Fita isolante adesiva antichama, uso ate 750 V, em rolo de 19 mm x 5 m","UN",8.9999999999999993E-3,3.2965,2.9668499999999997E-2,null,null,0]
[null,null,"Auxiliar de eletricista com encargos complementares","h",0.105,17.042999999999999,1.789515,null,null,0]
[null,null,"Eletricista com encargos complementares","h",0.105,21.916499999999999,2.3012324999999998,null,null,0]
[null,null,null,null,null,"","",null,null,0]
["SF-00932",{"$f":"INDEX(Orçamentária!A:B,MATCH(Composições!A3095,Orçamentária!A:A,0),2)","v":"Condutor 95mm²"},null,{"$f":"TRIM(INDEX(Orçamentária!C:C,MATCH(Composições!A3095,Orçamentária!A:A,0),1))","v":"m"},null,"","",null,null,0]
[null,null,null,null,null,"","",null,null,0]
[null,null,"Cabo flexível isolado em EPR não halogenado 95 mm² 0,6 a 1 kV","m",1.0149999999999999,0,0,{"$f":"SUM(G3097:G3100)","v":5.0164844999999998},null,0]
[null,null,"Fita isolante adesiva antichama, uso ate 750 V, em rolo de 19 mm x 5 m","UN",8.9999999999999993E-3,3.2965,2.9668499999999997E-2,null,null,0]
[null,null,"Auxiliar de eletricista com encargos complementares","h",0.128,17.042999999999999,2.1815039999999999,null,null,0]
[null,null,"Eletricista com encargos complementares","h",0.128,21.916499999999999,2.8053119999999998,null,null,0]
[null,null,null,null,null,"","",null,null,0]
["SF-00933",{"$f":"INDEX(Orçamentária!A:B,MATCH(Composições!A3102,Orçamentária!A:A,0),2)","v":"Condutor 120mm²"},null,{"$f":"TRIM(INDEX(Orçamentária!C:C,MATCH(Composições!A3102,Orçamentária!A:A,0),1))","v":"m"},null,"","",null,null,0]
[null,null,null,null,null,"","",null,null,0]
[null,null,"Cabo flexível isolado em EPR não halogenado 120 mm² 0,6 a 1 kV","m",1.0149999999999999,0,0,{"$f":"SUM(G3104:G3107)","v":5.9515124999999998},null,0]
[null,null,"Fita isolante adesiva antichama, uso ate 750 V, em rolo de 19 mm x 5 m","UN",8.9999999999999993E-3,3.2965,2.9668499999999997E-2,null,null,0]
[null,null,"Auxiliar de eletricista com encargos complementares","h",0.152,17.042999999999999,2.5905359999999997,null,null,0]
[null,null,"Eletricista com encargos complementares","h",0.152,21.916499999999999,3.3313079999999999,null,null,0]
[null,null,null,null,null,"","",null,null,0]
["SF-00934",{"$f":"INDEX(Orçamentária!A:B,MATCH(Composições!A3109,Orçamentária!A:A,0),2)","v":"Condutor 150mm²"},null,{"$f":"TRIM(INDEX(Orçamentária!C:C,MATCH(Composições!A3109,Orçamentária!A:A,0),1))","v":"m"},null,"","",null,null,0]
[null,null,null,null,null,"","",null,null,0]
[null,null,"Cabo flexível isolado em EPR não halogenado 150 mm² 0,6 a 1 kV","m",1.0149999999999999,0,0,{"$f":"SUM(G3111:G3114)","v":7.0034189999999992},null,0]
[null,null,"Fita isolante adesiva antichama, uso ate 750 V, em rolo de 19 mm x 5 m","UN",8.9999999999999993E-3,3.2965,2.9668499999999997E-2,null,null,0]
[null,null,"Auxiliar de eletricista com encargos complementares","h",0.17899999999999999,17.042999999999999,3.0506969999999995,null,null,0]
[null,null,"Eletricista com encargos complementares","h",0.17899999999999999,21.916499999999999,3.9230534999999995,null,null,0]
[null,null,null,null,null,"","",null,null,0]
["SF-00935",{"$f":"INDEX(Orçamentária!A:B,MATCH(Composições!A3116,Orçamentária!A:A,0),2)","v":"Condutor 185mm²"},null,{"$f":"TRIM(INDEX(Orçamentária!C:C,MATCH(Composições!A3116,Orçamentária!A:A,0),1))","v":"m"},null,"","",null,null,0]
[null,null,null,null,null,"","",null,null,0]
[null,null,"Cabo flexível isolado em EPR não halogenado 185 mm² 0,6 a 1 kV","m",1.0149999999999999,0,0,{"$f":"SUM(G3118:G3121)","v":8.2890824999999992},null,0]
[null,null,"Fita isolante adesiva antichama, uso ate 750 V, em rolo de 19 mm x 5 m","UN",8.9999999999999993E-3,3.2965,2.9668499999999997E-2,null,null,0]
[null,null,"Auxiliar de eletricista com encargos complementares","h",0.21199999999999999,17.042999999999999,3.6131159999999998,null,null,0]
[null,null,"Eletricista com encargos complementares","h",0.21199999999999999,21.916499999999999,4.6462979999999998,null,null,0]
[null,null,null,null,null,"","",null,null,0]
["SF-00936",{"$f":"INDEX(Orçamentária!A:B,MATCH(Composições!A3123,Orçamentária!A:A,0),2)","v":"Condutor 240mm²"},null,{"$f":"TRIM(INDEX(Orçamentária!C:C,MATCH(Composições!A3123,Orçamentária!A:A,0),1))","v":"m"},null,"","",null,null,0]
[null,null,null,null,null,"","",null,null,0]
[null,null,"Cabo flexível isolado em EPR não halogenado 240 mm² 0,6 a 1 kV","m",1.0149999999999999,0,0,{"$f":"SUM(G3125:G3128)","v":2.5230765000000002},null,0]
[null,null,"Fita isolante adesiva antichama, uso ate 750 V, em rolo de 19 mm x 5 m","UN",8.9999999999999993E-3,3.2965,2.9668499999999997E-2,null,null,0]
[null,null,"Auxiliar de eletricista com encargos complementares","h",6.4000000000000001E-2,17.042999999999999,1.0907519999999999,null,null,0]
[null,null,"Eletricista com encargos complementares","h",6.4000000000000001E-2,21.916499999999999,1.4026559999999999,null,null,0]
[null,null,null,null,null,"","",null,null,0]
["SF-00937",{"$f":"INDEX(Orçamentária!A:B,MATCH(Composições!A3130,Orçamentária!A:A,0),2)","v":"Montagem e desmontagem de andaime fachadeiro"},null,{"$f":"TRIM(INDEX(Orçamentária!C:C,MATCH(Composições!A3130,Orçamentária!A:A,0),1))","v":"m2"},null,"","",null,null,350]
[null,null,null,null,null,"","",null,null,350]
[null,null,"MONTADOR DE ESTRUTURA METÁLICA COM ENCARGOS COMPLEMENTARES","H",0.29509999999999997,16.596499999999999,4.897627149999999,{"$f":"SUM(G3132:G3134)","v":7.483569274709998},null,350]
[null,null,"SERVENTE COM ENCARGOS COMPLEMENTARES","H",5.8999999999999997E-2,16.026499999999999,0.94556349999999989,null,null,350]
[null,null,"TRANSPORTE HORIZONTAL MANUAL, DE TUBO DE AÇO CARBONO LEVE OU MÉDIO, PRETO OU GALVANIZADO, COM DIÂMETRO MAIOR QUE 32 MM E MENOR OU IGUAL A 65 MM (UNIDADE: MXKM). AF_07/2019","MXKM",0.1673,9.8050126999999989,1.6403786247099998,null,null,350]
[null,null,null,null,null,"","",null,null,350]
["SF-00938",{"$f":"INDEX(Orçamentária!A:B,MATCH(Composições!A3136,Orçamentária!A:A,0),2)","v":"Montagem e desmontagem de andaime tubular"},null,{"$f":"TRIM(INDEX(Orçamentária!C:C,MATCH(Composições!A3136,Orçamentária!A:A,0),1))","v":"m"},null,"","",null,null,70]
[null,null,null,null,null,"","",null,null,70]
[null,null,"MONTADOR DE ESTRUTURA METÁLICA COM ENCARGOS COMPLEMENTARES","H",0.5,16.596499999999999,8.2982499999999995,{"$f":"SUM(G3138:G3140)","v":13.8425151054},null,70]
[null,null,"SERVENTE COM ENCARGOS COMPLEMENTARES","H",0.1,16.026499999999999,1.6026499999999999,null,null,70]
[null,null,"TRANSPORTE HORIZONTAL MANUAL, DE TUBO DE AÇO CARBONO LEVE OU MÉDIO, PRETO OU GALVANIZADO, COM DIÂMETRO MAIOR QUE 32 MM E MENOR OU IGUAL A 65 MM (UNIDADE: MXKM). AF_07/2019","MXKM",0.40200000000000002,9.8050126999999989,3.9416151053999999,null,null,70]
[null,null,null,null,null,"","",null,null,70]
["SF-00940",{"$f":"INDEX(Orçamentária!A:B,MATCH(Composições!A3142,Orçamentária!A:A,0),2)","v":"Locação de fechamento para andaimes com tela 100% polietileno"},null,{"$f":"TRIM(INDEX(Orçamentária!C:C,MATCH(Composições!A3142,Orçamentária!A:A,0),1))","v":"m2 x mês"},null,"","",null,null,350]
[null,null,null,null,null,"","",null,null,350]
[null,null,"ABRACADEIRA DE NYLON PARA AMARRACAO DE CABOS, COMPRIMENTO DE 200 X *4,6* MM","UN",0.89449999999999996,0.17099999999999999,0.15295949999999997,{"$f":"SUM(G3144:G3147)","v":3.7522254500000001},null,350]
[null,null,"TELA FACHADEIRA EM POLIETILENO, ROLO DE 3 X 100 M (L X C), COR BRANCA, SEM LOGOMARCA - PARA PROTECAO DE OBRAS","M2",{"$f":"ROUND(1.177*(1/3),4)","v":0.39229999999999998},1.9,0.74536999999999998,null,null,350]
[null,null,"AJUDANTE DE CARPINTEIRO COM ENCARGOS COMPLEMENTARES","H",6.9900000000000004E-2,18.173499999999997,1.2703276499999998,null,null,350]
[null,null,"CARPINTEIRO DE FORMAS COM ENCARGOS COMPLEMENTARES","H",7.3400000000000007E-2,21.5745,1.5835683000000003,null,null,350]
[null,null,null,null,null,"","",null,null,350]
[null,null,"Obs.: Considerou-se aproveitamento de 3x para a tela, já que trata-se de locação.",null,null,"","",null,null,350]
[null,null,null,null,null,"","",null,null,350]
["SF-00942",{"$f":"INDEX(Orçamentária!A:B,MATCH(Composições!A3151,Orçamentária!A:A,0),2)","v":"Remoção de folha de porta de enrolar"},null,{"$f":"TRIM(INDEX(Orçamentária!C:C,MATCH(Composições!A3151,Orçamentária!A:A,0),1))","v":"un"},null,"","",null,null,0]
[null,null,null,null,null,"","",null,null,0]
[null,null,"Serralheiro com encargos complementares","h",2.5,21.612500000000001,{"$f":"IF(ISNUMBER(F3153),E3153*F3153,\"\")","v":54.03125},{"$f":"SUM(G3153:G3154)","v":141.76374999999999},null,0]
[null,null,"Auxiliar de serralheiro com encargos complementares","h",5,17.546499999999998,87.732499999999987,null,null,0]
[null,null,null,null,null,"","",null,null,0]
["SF-00943",{"$f":"INDEX(Orçamentária!A:B,MATCH(Composições!A3156,Orçamentária!A:A,0),2)","v":"Base registro de gaveta 1\""},null,{"$f":"TRIM(INDEX(Orçamentária!C:C,MATCH(Composições!A3156,Orçamentária!A:A,0),1))","v":"un"},null,"","",null,null,0]
[null,null,null,null,null,"","",null,null,0]
[null,null,"Registro de gaveta em liga de cobre, bitola 1\" mod: 4509.302 ref: DECA ou equivalente","un ",1,"","",{"$f":"SUM(G3158:G3161)","v":29.468881249999995},null,0]
[null,null,"FITA VEDA ROSCA EM ROLOS DE 18 MM X 50 M (L X C)","UN",9.4999999999999998E-3,11.7325,0.11145875,null,null,0]
[null,null,"Encanador ou Bombeiro Hidráulico com Encargos Complementares","h",0.77449999999999997,21.308499999999999,16.503433249999997,null,null,0]
[null,null,"Auxiliar de encanador ou bombeiro hidráulico com encargos complementares","h",0.77449999999999997,16.596499999999999,12.853989249999998,null,null,0]
[null,null,null,null,null,"","",null,null,0]
["SF-00944",{"$f":"INDEX(Orçamentária!A:B,MATCH(Composições!A3163,Orçamentária!A:A,0),2)","v":"Base registro de pressão 3/4\""},null,{"$f":"TRIM(INDEX(Orçamentária!C:C,MATCH(Composições!A3163,Orçamentária!A:A,0),1))","v":"un"},null,"","",null,null,0]
[null,null,null,null,null,"","",null,null,0]
[null,null,"FITA VEDA ROSCA EM ROLOS DE 18 MM X 50 M (L X C)","UN",1.2999999999999999E-2,11.7325,0.15252250000000001,{"$f":"SUM(G3165:G3168)","v":7.7335225000000003},null,0]
[null,null,"Registro de pressão em liga de cobre, bitola 3/4\" mod: 4416.202 ref: DECA ou equivalente","un ",1,"","",null,null,0]
[null,null,"Auxiliar de encanador ou bombeiro hidráulico com encargos complementares","h",0.2,16.596499999999999,3.3193000000000001,null,null,0]
[null,null,"Encanador ou Bombeiro Hidráulico com Encargos Complementares","h",0.2,21.308499999999999,4.2617000000000003,null,null,0]
[null,null,null,null,null,"","",null,null,0]
["SF-00946",{"$f":"INDEX(Orçamentária!A:B,MATCH(Composições!A3170,Orçamentária!A:A,0),2)","v":"Tampa em ferro fundido T33"},null,{"$f":"TRIM(INDEX(Orçamentária!C:C,MATCH(Composições!A3170,Orçamentária!A:A,0),1))","v":"un"},null,"","",null,null,0]
[null,null,null,null,null,"","",null,null,0]
[null,null,"TAMPAO FOFO ARTICULADO P/ REGISTRO, CLASSE A15 CARGA MAXIMA 1,5 T, *400 X 400* MM","UN",1,153.20650000000001,153.20650000000001,{"$f":"SUM(G3172:G3175)","v":220.08698740264902},null,0]
[null,null,"ARGAMASSA TRAÇO 1:4 (EM VOLUME DE CIMENTO E AREIA GROSSA ÚMIDA) PARA CHAPISCO CONVENCIONAL, PREPARO MECÂNICO COM BETONEIRA 400 L. AF_08/2019","M3",7.0000000000000001E-3,388.07677180699994,2.7165374026489997,null,null,0]
[null,null,"Pedreiro com Encargos Complementares","h",1.7,21.716999999999999,36.918899999999994,null,null,0]
[null,null,"Servente com Encargos Complementares","h",1.7,16.026499999999999,27.245049999999996,null,null,0]
[null,null,null,null,null,"","",null,null,0]
["SF-00947",{"$f":"INDEX(Orçamentária!A:B,MATCH(Composições!A3177,Orçamentária!A:A,0),2)","v":"Arquiteto(a) com experiência em intervenção no patrimônio cultural"},null,{"$f":"TRIM(INDEX(Orçamentária!C:C,MATCH(Composições!A3177,Orçamentária!A:A,0),1))","v":"hh"},null,"","",null,null,0]
[null,null,null,null,null,"","",null,null,0]
[null,null,"Arquiteto de obra pleno com encargos complementares","h",1,86.383499999999998,86.383499999999998,{"$f":"SUM(G3179:G3179)","v":86.383499999999998},null,0]
[null,null,null,null,null,"","",null,null,0]
["SF-00948",{"$f":"INDEX(Orçamentária!A:B,MATCH(Composições!A3181,Orçamentária!A:A,0),2)","v":"Locação de andaime suspenso tipo leve"},null,{"$f":"TRIM(INDEX(Orçamentária!C:C,MATCH(Composições!A3181,Orçamentária!A:A,0),1))","v":"un x mês"},null,"","",null,null,0]
[null,null,null,null,null,"","",null,null,0]
[null,null,"LOCACAO DE ANDAIME SUSPENSO OU BALANCIM MANUAL, CAPACIDADE DE CARGA TOTAL DE APROXIMADAMENTE 250 KG/M2, PLATAFORMA DE 1,50 M X 0,80 M (C X L), CABO DE 45 M","MES",1,570,570,{"$f":"SUM(G3183:G3183)","v":570},null,0]
[null,null,null,null,null,"","",null,null,0]
["SF-00950",{"$f":"INDEX(Orçamentária!A:B,MATCH(Composições!A3185,Orçamentária!A:A,0),2)","v":"Limpeza de superfície por hidrojateamento de média pressão"},null,{"$f":"TRIM(INDEX(Orçamentária!C:C,MATCH(Composições!A3185,Orçamentária!A:A,0),1))","v":"m2"},null,"","",null,null,0]
[null,null,null,null,null,"","",null,null,0]
[null,null,"Servente com Encargos Complementares","h",8.8999999999999996E-2,16.026499999999999,1.4263584999999999,{"$f":"SUM(G3187:G3188)","v":1.4406085},null,0]
[null,null,"LAVADORA DE ALTA PRESSAO (LAVA-JATO) PARA AGUA FRIA, PRESSAO DE OPERACAO ENTRE 1400 E 1900 LIB/POL2, VAZAO MAXIMA ENTRE 400 E 700 L/H - CHP DIURNO. AF_04/2019","chp",1.4999999999999999E-2,0.95,1.4249999999999999E-2,null,null,0]
[null,null,null,null,null,"","",null,null,0]
["SF-00951",{"$f":"INDEX(Orçamentária!A:B,MATCH(Composições!A3190,Orçamentária!A:A,0),2)","v":"Inspeção da integridade e adesão de placas de rocha ornamental por percussão"},null,{"$f":"TRIM(INDEX(Orçamentária!C:C,MATCH(Composições!A3190,Orçamentária!A:A,0),1))","v":"m2"},null,"","",null,null,0]
[null,null,null,null,null,"","",null,null,0]
[null,null,"Marmorista/graniteiro com encargos complementares","h",0.25,18.078500000000002,4.5196250000000004,{"$f":"SUM(G3192:G3193)","v":4.5196250000000004},null,0]
[null,null,null,null,null,"","",null,null,0]
["SF-00952",{"$f":"INDEX(Orçamentária!A:B,MATCH(Composições!A3194,Orçamentária!A:A,0),2)","v":"Demolição de proteção mecânica de impermeabilização"},null,{"$f":"TRIM(INDEX(Orçamentária!C:C,MATCH(Composições!A3194,Orçamentária!A:A,0),1))","v":"m2"},null,"","",null,null,0]
[null,null,null,null,null,"","",null,null,0]
[null,null,"Servente com Encargos Complementares","H",1.25,16.026499999999999,20.033124999999998,{"$f":"SUM(G3196:G3196)","v":20.033124999999998},null,0]
[null,null,null,null,null,"","",null,null,0]
["SF-00953",{"$f":"INDEX(Orçamentária!A:B,MATCH(Composições!A3198,Orçamentária!A:A,0),2)","v":"Impermeabilização com emulsão asfáltica"},null,{"$f":"TRIM(INDEX(Orçamentária!C:C,MATCH(Composições!A3198,Orçamentária!A:A,0),1))","v":"m2"},null,"","",null,null,0]
[null,null,null,null,null,"","",null,null,0]
[null,null,"MANTA LIQUIDA DE BASE ASFALTICA MODIFICADA COM A ADICAO DE ELASTOMEROS DILUIDOS EM SOLVENTE ORGANICO, APLICACAO A FRIO (MEMBRANA IMPERMEABILIZANTE ASFASTICA)","KG",1.5,14.0695,21.10425,{"$f":"SUM(G3200:G3203)","v":38.075705499999998},null,0]
[null,null,"VEU POLIESTER","M2",1.351,4.5789999999999997,6.186229,null,null,0]
[null,null,"Ajudante Especializado Com Encargos Complementares","H",8.5000000000000006E-2,19.066499999999998,1.6206524999999998,null,null,0]
[null,null,"IMPERMEABILIZADOR COM ENCARGOS COMPLEMENTARES","H",0.42199999999999999,21.716999999999999,9.164574,null,null,0]
[null,null,null,null,null,"","",null,null,0]
["SF-00954",{"$f":"INDEX(Orçamentária!A:B,MATCH(Composições!A3205,Orçamentária!A:A,0),2)","v":"Camada de proteção mecânica simples de impermeabilização"},null,{"$f":"TRIM(INDEX(Orçamentária!C:C,MATCH(Composições!A3205,Orçamentária!A:A,0),1))","v":"m2"},null,"","",null,null,0]
[null,null,null,null,null,"","",null,null,0]
[null,null,"CAMADA SEPARADORA DE FILME DE POLIETILENO 20 A 25 MICRA","M2",1.04,1.349,1.40296,{"$f":"SUM(G3207:G3210)","v":38.846119880937501},null,0]
[null,null,"ARGAMASSA TRAÇO 1:3 (EM VOLUME DE CIMENTO E AREIA MÉDIA ÚMIDA) PARA CONTRAPISO, PREPARO MANUAL. AF_08/2019","M3",3.5000000000000003E-2,600.00378231249999,21.000132380937501,null,null,0]
[null,null,"Pedreiro com Encargos Complementares","H",0.65900000000000003,21.716999999999999,14.311503,null,null,0]
[null,null,"Servente com Encargos Complementares","H",0.13300000000000001,16.026499999999999,2.1315244999999998,null,null,0]
[null,null,null,null,null,"","",null,null,0]
["SF-00955",{"$f":"INDEX(Orçamentária!A:B,MATCH(Composições!A3212,Orçamentária!A:A,0),2)","v":"Camada de proteção mecânica estruturada de impermeabilização"},null,{"$f":"TRIM(INDEX(Orçamentária!C:C,MATCH(Composições!A3212,Orçamentária!A:A,0),1))","v":"m2"},null,"","",null,null,0]
[null,null,null,null,null,"","",null,null,0]
[null,null,"TELA DE ARAME GALVANIZADA, HEXAGONAL, FIO 0,56 MM (24 BWG), MALHA 1/2\", H = 1 M","M2",1.05,7.9799999999999995,8.3789999999999996,{"$f":"SUM(G3214:G3217)","v":47.003123880937501},null,0]
[null,null,"ARGAMASSA TRAÇO 1:3 (EM VOLUME DE CIMENTO E AREIA MÉDIA ÚMIDA) PARA CONTRAPISO, PREPARO MANUAL. AF_08/2019","M3",3.5000000000000003E-2,600.00378231249999,21.000132380937501,null,null,0]
[null,null,"Pedreiro com Encargos Complementares","H",0.70599999999999996,21.716999999999999,15.332201999999999,null,null,0]
[null,null,"Servente com Encargos Complementares","H",0.14299999999999999,16.026499999999999,{"$f":"IF(ISNUMBER(F3217),E3217*F3217,\"\")","v":2.2917894999999997},null,null,0]
[null,null,null,null,null,"","",null,null,0]
["SF-00956",{"$f":"INDEX(Orçamentária!A:B,MATCH(Composições!A3219,Orçamentária!A:A,0),2)","v":"Remoção de placas  de mármore encaixadas por fixadores metálicos (modelo Ed. Principal)"},null,{"$f":"TRIM(INDEX(Orçamentária!C:C,MATCH(Composições!A3219,Orçamentária!A:A,0),1))","v":"m2"},null,"","",null,null,0]
[null,null,null,null,null,"","",null,null,0]
[null,null,"Marmorista/graniteiro com encargos complementares","h",0.4,18.078500000000002,7.2314000000000007,{"$f":"SUM(G3221:G3222)","v":13.641999999999999},null,0]
[null,null,"Servente com Encargos Complementares","h",0.4,16.026499999999999,6.4105999999999996,null,null,0]
[null,null,null,null,null,"","",null,null,0]
["SF-00957",{"$f":"INDEX(Orçamentária!A:B,MATCH(Composições!A3224,Orçamentária!A:A,0),2)","v":"Remoção de placas de rocha ornamental argamassada, para reaproveitamento"},null,{"$f":"TRIM(INDEX(Orçamentária!C:C,MATCH(Composições!A3224,Orçamentária!A:A,0),1))","v":"m2"},null,"","",null,null,0]
[null,null,null,null,null,"","",null,null,0]
[null,null,"Marmorista/graniteiro com encargos complementares","h",1.2,18.078500000000002,21.694200000000002,{"$f":"SUM(G3226:G3227)","v":40.926000000000002},null,0]
[null,null,"Servente com Encargos Complementares","h",1.2,16.026499999999999,19.231799999999996,null,null,0]
[null,null,null,null,null,"","",null,null,0]
["SF-00958",{"$f":"INDEX(Orçamentária!A:B,MATCH(Composições!A3229,Orçamentária!A:A,0),2)","v":"Identificação e acondicionamento de placas de rocha ornamental"},null,{"$f":"TRIM(INDEX(Orçamentária!C:C,MATCH(Composições!A3229,Orçamentária!A:A,0),1))","v":"m2"},null,"","",null,null,0]
[null,null,null,null,null,"","",null,null,0]
[null,null,"Papel kraft betumado","m2",1.05,3.5909999999999997,3.7705500000000001,{"$f":"SUM(G3231:G3232)","v":6.9758499999999994},null,0]
[null,null,"Servente com Encargos Complementares","h",0.2,16.026499999999999,3.2052999999999998,null,null,0]
[null,null,null,null,null,"","",null,null,0]
["SF-00959",{"$f":"INDEX(Orçamentária!A:B,MATCH(Composições!A3234,Orçamentária!A:A,0),2)","v":"Limpeza de placas de rocha ornamental argamassada, para reaproveitamento"},null,{"$f":"TRIM(INDEX(Orçamentária!C:C,MATCH(Composições!A3234,Orçamentária!A:A,0),1))","v":"m2"},null,"","",null,null,0]
[null,null,null,null,null,"","",null,null,0]
[null,null,"Servente com Encargos Complementares","h",0.3,16.026499999999999,4.8079499999999991,{"$f":"SUM(G3236)","v":4.8079499999999991},null,0]
[null,null,null,null,null,"","",null,null,0]
["SF-00960",{"$f":"INDEX(Orçamentária!A:B,MATCH(Composições!A3238,Orçamentária!A:A,0),2)","v":"Remoção e acondicionamento de fixadores metálicos para placas de mármore em fachada (modelo Ed. Principal)"},null,{"$f":"TRIM(INDEX(Orçamentária!C:C,MATCH(Composições!A3238,Orçamentária!A:A,0),1))","v":"un"},null,"","",null,null,0]
[null,null,null,null,null,"","",null,null,0]
[null,null,"Servente com Encargos Complementares","h",0.1,16.026499999999999,1.6026499999999999,{"$f":"SUM(G3240)","v":1.6026499999999999},null,0]
[null,null,null,null,null,"","",null,null,0]
["SF-00961",{"$f":"INDEX(Orçamentária!A:B,MATCH(Composições!A3242,Orçamentária!A:A,0),2)","v":"Instalação de fixadores metálicos para placas de mármore em fachada reaproveitados (modelo Ed. Principal)"},null,{"$f":"TRIM(INDEX(Orçamentária!C:C,MATCH(Composições!A3242,Orçamentária!A:A,0),1))","v":"un"},null,"","",null,null,0]
[null,null,null,null,null,"","",null,null,0]
[null,null,"Pedreiro com Encargos Complementares","h",{"$f":"0.1+0.1","v":0.2},21.716999999999999,4.3433999999999999,{"$f":"SUM(G3244:G3248)","v":7.7098681490969998},null,0]
[null,null,"Servente com Encargos Complementares","h",{"$f":"0.1+0.1","v":0.2},16.026499999999999,3.2052999999999998,null,null,0]
[null,null,"Broca com ponta de widia Ø 3/8\" x 160 mm","un ",{"$f":"0.016*2","v":3.2000000000000001E-2},0,0,null,null,0]
[null,null,"Furadeira de impacto elétrica - 0,65 kW, Ø mandril 5/8\"","h prod",{"$f":"0.1*2","v":0.2},0,0,null,null,0]
[null,null,"GRAUTE FGK=25 MPA; TRAÇO 1:0,02:1,2:1,5 (CIMENTO/ CAL/ AREIA GROSSA/ BRITA 0) - PREPARO MECÂNICO COM BETONEIRA 400 L. AF_02/2015","m3",{"$f":"ROUND(0.15*0.05*0.05,4)","v":4.0000000000000002E-4},402.92037274249986,0.16116814909699995,null,null,0]
[null,null,null,null,null,"","",null,null,0]
[null,null,"Fontes: PINI 05.102.000020.SER",null,null,"","",null,null,0]
[null,null,null,null,null,"","",null,null,0]
["SF-00962",{"$f":"INDEX(Orçamentária!A:B,MATCH(Composições!A3252,Orçamentária!A:A,0),2)","v":"Fixadores metálicos para rochas ornamentais (tipo Ed. Principal, peça superior)"},null,{"$f":"TRIM(INDEX(Orçamentária!C:C,MATCH(Composições!A3252,Orçamentária!A:A,0),1))","v":"un"},null,"","",null,null,0]
[null,null,null,null,null,"","",null,null,0]
[null,null,"Pedreiro com Encargos Complementares","h",{"$f":"0.1+0.1","v":0.2},21.716999999999999,4.3433999999999999,{"$f":"SUM(G3254:G3259)","v":7.7098681490969998},null,0]
[null,null,"Servente com Encargos Complementares","h",{"$f":"0.1+0.1","v":0.2},16.026499999999999,3.2052999999999998,null,null,0]
[null,null,"Broca com ponta de widia Ø 3/8\" x 160 mm","un ",{"$f":"0.016*2","v":3.2000000000000001E-2},0,0,null,null,0]
[null,null,"Furadeira de impacto elétrica - 0,65 kW, Ø mandril 5/8\"","h prod",{"$f":"0.1*2","v":0.2},0,0,null,null,0]
[null,null,"Insert metálico tipo 2, conforme projeto","un ",1,"","",null,null,0]
[null,null,"GRAUTE FGK=25 MPA; TRAÇO 1:0,02:1,2:1,5 (CIMENTO/ CAL/ AREIA GROSSA/ BRITA 0) - PREPARO MECÂNICO COM BETONEIRA 400 L. AF_02/2015","m3",{"$f":"ROUND(0.15*0.05*0.05,4)","v":4.0000000000000002E-4},402.92037274249986,0.16116814909699995,null,null,0]
[null,null,null,null,null,"","",null,null,0]
[null,null,"Fontes: PINI 05.102.000020.SER",null,null,"","",null,null,0]
[null,null,null,null,null,"","",null,null,0]
["SF-00964",{"$f":"INDEX(Orçamentária!A:B,MATCH(Composições!A3263,Orçamentária!A:A,0),2)","v":"Mármore Branco Especial 20mm argamassado (Ed. Principal e Anexo 1)"},null,{"$f":"TRIM(INDEX(Orçamentária!C:C,MATCH(Composições!A3263,Orçamentária!A:A,0),1))","v":"m2"},null,"","",null,null,0]
[null,null,null,null,null,"","",null,null,0]
[null,null,"Mármore branco especial 20mm","m2",1.05,"","",{"$f":"SUM(G3265:G3269)","v":40.383075000000005},null,0]
[null,null,"Marmorista/graniteiro com encargos complementares","h",1.35,18.078500000000002,24.405975000000005,null,null,0]
[null,null,"Servente com Encargos Complementares","h",0.6,16.026499999999999,9.6158999999999981,null,null,0]
[null,null,"Argamassa colante tipo AC III","kg",4.5,1.254,5.6429999999999998,null,null,0]
[null,null,"Rejunte cimenticio, qualquer cor","kg",0.3,2.3939999999999997,0.71819999999999984,null,null,0]
[null,null,null,null,null,"","",null,null,0]
["SF-00965",{"$f":"INDEX(Orçamentária!A:B,MATCH(Composições!A3271,Orçamentária!A:A,0),2)","v":"Mármore Branco Especial 20mm com inserts e argamassa (Ed. Principal e Anexo 1)"},null,{"$f":"TRIM(INDEX(Orçamentária!C:C,MATCH(Composições!A3271,Orçamentária!A:A,0),1))","v":"m2"},null,"","",null,null,0]
[null,null,null,null,null,"","",null,null,0]
[null,null,"Mármore branco especial 20mm","m2",1.05,"","",{"$f":"SUM(G3273:G3283)","v":57.259742037274258},null,0]
[null,null,"Marmorista/graniteiro com encargos complementares","h",{"$f":"1.35","v":1.35},18.078500000000002,24.405975000000005,null,null,0]
[null,null,"Pedreiro com Encargos Complementares","h",0.1,21.716999999999999,2.1717,null,null,0]
[null,null,"Servente com Encargos Complementares","h",{"$f":"0.6+0.1+0.1","v":0.79999999999999993},16.026499999999999,12.821199999999997,null,null,0]
[null,null,"Argamassa colante tipo AC III","kg",4.5,1.254,5.6429999999999998,null,null,0]
[null,null,"Rejunte cimenticio, qualquer cor","kg",0.3,2.3939999999999997,0.71819999999999984,null,null,0]
[null,null,"PARAFUSO DE ACO TIPO CHUMBADOR PARABOLT, DIAMETRO 3/8\", COMPRIMENTO 75 MM","UN",{"$f":"2/(0.4*0.8)","v":6.2499999999999991},1.8334999999999999,11.459374999999998,null,null,0]
[null,null,"Broca com ponta de widia Ø 3/8\" x 160 mm","un ",{"$f":"(2/(0.4*0.8))*(0.016)*1.5","v":0.15},0,0,null,null,0]
[null,null,"Furadeira de impacto elétrica - 0,65 kW, Ø mandril 5/8\"","h prod",{"$f":"(2/(0.4*0.8))*0.1*1.5","v":0.9375},0,{"$f":"IF(ISNUMBER(F3281),E3281*F3281,\"\")","v":0},null,null,0]
[null,null,"Insert metálico tipo 1, conforme projeto","un ",{"$f":"2/(0.4*0.8)","v":6.2499999999999991},"","",null,null,0]
[null,null,"GRAUTE FGK=25 MPA; TRAÇO 1:0,02:1,2:1,5 (CIMENTO/ CAL/ AREIA GROSSA/ BRITA 0) - PREPARO MECÂNICO COM BETONEIRA 400 L. AF_02/2015","m3",1E-4,402.92037274249986,4.0292037274249987E-2,null,null,0]
[null,null,null,null,null,"","",null,null,0]
[null,null,"Fontes: ORSE 03735, PINI 05.102.000020.SER e 05.108.000450.SER",null,null,"","",null,null,0]
[null,null,"Observações: Considerando uma placa de 0,40 m x 0,80 m, que, conforme projeto, necessita de 2 inserts.",null,null,"","",null,null,0]
[null,null,null,null,null,"","",null,null,0]
["SF-00966",{"$f":"INDEX(Orçamentária!A:B,MATCH(Composições!A3288,Orçamentária!A:A,0),2)","v":"Mármore Branco Especial 30mm argamassado (Ed. Principal e Anexo 1)"},null,{"$f":"TRIM(INDEX(Orçamentária!C:C,MATCH(Composições!A3288,Orçamentária!A:A,0),1))","v":"m2"},null,"","",null,null,0]
[null,null,null,null,null,"","",null,null,0]
[null,null,"Mármore branco especial 30mm","m2",1.05,"","",{"$f":"SUM(G3290:G3294)","v":40.383075000000005},null,0]
[null,null,"Marmorista/graniteiro com encargos complementares","h",1.35,18.078500000000002,24.405975000000005,null,null,0]
[null,null,"Servente com Encargos Complementares","h",0.6,16.026499999999999,9.6158999999999981,null,null,0]
[null,null,"Argamassa colante tipo AC III","kg",4.5,1.254,5.6429999999999998,null,null,0]
[null,null,"Rejunte cimenticio, qualquer cor","kg",0.3,2.3939999999999997,0.71819999999999984,null,null,0]
[null,null,null,null,null,"","",null,null,0]
["SF-00967",{"$f":"INDEX(Orçamentária!A:B,MATCH(Composições!A3296,Orçamentária!A:A,0),2)","v":"Mármore Branco Especial 30mm com inserts e argamassa (Ed. Principal e Anexo 1)"},null,{"$f":"TRIM(INDEX(Orçamentária!C:C,MATCH(Composições!A3296,Orçamentária!A:A,0),1))","v":"m2"},null,"","",null,null,0]
[null,null,null,null,null,"","",null,null,0]
[null,null,"Mármore branco especial 30mm","m2",1.05,"","",{"$f":"SUM(G3298:G3308)","v":57.259742037274258},null,0]
[null,null,"Marmorista/graniteiro com encargos complementares","h",{"$f":"1.35","v":1.35},18.078500000000002,24.405975000000005,null,null,0]
[null,null,"Pedreiro com Encargos Complementares","h",0.1,21.716999999999999,2.1717,null,null,0]
[null,null,"Servente com Encargos Complementares","h",{"$f":"0.6+0.1+0.1","v":0.79999999999999993},16.026499999999999,12.821199999999997,null,null,0]
[null,null,"Argamassa colante tipo AC III","kg",4.5,1.254,5.6429999999999998,null,null,0]
[null,null,"Rejunte cimenticio, qualquer cor","kg",0.3,2.3939999999999997,0.71819999999999984,null,null,0]
[null,null,"PARAFUSO DE ACO TIPO CHUMBADOR PARABOLT, DIAMETRO 3/8\", COMPRIMENTO 75 MM","UN",{"$f":"2/(0.4*0.8)","v":6.2499999999999991},1.8334999999999999,11.459374999999998,null,null,0]
[null,null,"Broca com ponta de widia Ø 3/8\" x 160 mm","un ",{"$f":"(2/(0.4*0.8))*(0.016)*1.5","v":0.15},0,0,null,null,0]
[null,null,"Furadeira de impacto elétrica - 0,65 kW, Ø mandril 5/8\"","h prod",{"$f":"(2/(0.4*0.8))*0.1*1.5","v":0.9375},0,0,null,null,0]
[null,null,"Insert metálico tipo 1, conforme projeto","un ",{"$f":"2/(0.4*0.8)","v":6.2499999999999991},"","",null,null,0]
[null,null,"GRAUTE FGK=25 MPA; TRAÇO 1:0,02:1,2:1,5 (CIMENTO/ CAL/ AREIA GROSSA/ BRITA 0) - PREPARO MECÂNICO COM BETONEIRA 400 L. AF_02/2015","m3",1E-4,402.92037274249986,4.0292037274249987E-2,null,null,0]
[null,null,null,null,null,"","",null,null,0]
[null,null,"Fontes: ORSE 03735, PINI 05.102.000020.SER e 05.108.000450.SER",null,null,"","",null,null,0]
[null,null,"Observações: Considerando uma placa de 0,40 m x 0,80 m, que, conforme projeto, necessita de 2 inserts.",null,null,"","",null,null,0]
[null,null,null,null,null,"","",null,null,0]
["SF-00968",{"$f":"INDEX(Orçamentária!A:B,MATCH(Composições!A3313,Orçamentária!A:A,0),2)","v":"Mármore branco especial, e=30mm, instalação em fixadores metálicos existentes (modelo Edifício Principal)"},null,{"$f":"TRIM(INDEX(Orçamentária!C:C,MATCH(Composições!A3313,Orçamentária!A:A,0),1))","v":"m2"},null,"","",null,null,0]
[null,null,null,null,null,"","",null,null,0]
[null,null,"Mármore branco especial 30mm","m2",1.05,"","",{"$f":"SUM(G3315:G3320)","v":6.1625670372742505},null,0]
[null,null,"Marmorista/graniteiro com encargos complementares","h",0.25,18.078500000000002,4.5196250000000004,null,null,0]
[null,null,"Servente com Encargos Complementares","h",0.1,16.026499999999999,1.6026499999999999,null,null,0]
[null,null,"Broca com ponta de widia Ø 3/8\" x 160 mm","un ",{"$f":"(2/(0.4*0.8))*0.016/2","v":4.9999999999999996E-2},0,0,null,null,0]
[null,null,"Furadeira de impacto elétrica - 0,65 kW, Ø mandril 5/8\"","h prod",{"$f":"(2/(0.4*0.8))*0.1/2","v":0.3125},0,0,null,null,0]
[null,null,"GRAUTE FGK=25 MPA; TRAÇO 1:0,02:1,2:1,5 (CIMENTO/ CAL/ AREIA GROSSA/ BRITA 0) - PREPARO MECÂNICO COM BETONEIRA 400 L. AF_02/2015","m3",1E-4,402.92037274249986,4.0292037274249987E-2,null,null,0]
[null,null,null,null,null,"","",null,null,0]
[null,null,"Fontes: PINI 05.102.000020.SER e 05.108.000450.SER",null,null,"","",null,null,0]
[null,null,"Observações: Considerando uma placa de 0,40 m x 0,80 m, que, conforme projeto, necessita de 2 inserts.",null,null,"","",null,null,0]
[null,null,null,null,null,"","",null,null,0]
["SF-00970",{"$f":"INDEX(Orçamentária!A:B,MATCH(Composições!A3325,Orçamentária!A:A,0),2)","v":"Instalação de placas de rocha ornamental reaproveitadas, por meio de argamassa"},null,{"$f":"TRIM(INDEX(Orçamentária!C:C,MATCH(Composições!A3325,Orçamentária!A:A,0),1))","v":"m2"},null,"","",null,null,0]
[null,null,null,null,null,"","",null,null,0]
[null,null,"Marmorista/graniteiro com encargos complementares","h",1.35,18.078500000000002,24.405975000000005,{"$f":"SUM(G3327:G3330)","v":40.383075000000005},null,0]
[null,null,"Servente com Encargos Complementares","h",0.6,16.026499999999999,9.6158999999999981,null,null,0]
[null,null,"Argamassa colante tipo AC III","kg",4.5,1.254,5.6429999999999998,null,null,0]
[null,null,"Rejunte cimenticio, qualquer cor","kg",0.3,2.3939999999999997,0.71819999999999984,null,null,0]
[null,null,null,null,null,"","",null,null,0]
["SF-00971",{"$f":"INDEX(Orçamentária!A:B,MATCH(Composições!A3332,Orçamentária!A:A,0),2)","v":"Instalação de placas de rocha ornamental reaproveitadas, por meio de argamassa e fixadores metálicos"},null,{"$f":"TRIM(INDEX(Orçamentária!C:C,MATCH(Composições!A3332,Orçamentária!A:A,0),1))","v":"m2"},null,"","",null,null,0]
[null,null,null,null,null,"","",null,null,0]
[null,null,"Marmorista/graniteiro com encargos complementares","h",{"$f":"1.35","v":1.35},18.078500000000002,24.405975000000005,{"$f":"SUM(G3334:G3343)","v":57.259742037274258},null,0]
[null,null,"Pedreiro com Encargos Complementares","h",0.1,21.716999999999999,2.1717,null,null,0]
[null,null,"Servente com Encargos Complementares","h",{"$f":"0.6+0.1+0.1","v":0.79999999999999993},16.026499999999999,12.821199999999997,null,null,0]
[null,null,"Argamassa colante tipo AC III","kg",4.5,1.254,5.6429999999999998,null,null,0]
[null,null,"Rejunte cimenticio, qualquer cor","kg",0.3,2.3939999999999997,0.71819999999999984,null,null,0]
[null,null,"PARAFUSO DE ACO TIPO CHUMBADOR PARABOLT, DIAMETRO 3/8\", COMPRIMENTO 75 MM","UN",{"$f":"2/(0.4*0.8)","v":6.2499999999999991},1.8334999999999999,11.459374999999998,null,null,0]
[null,null,"Broca com ponta de widia Ø 3/8\" x 160 mm","un ",{"$f":"(2/(0.4*0.8))*(0.016)*1.5","v":0.15},0,0,null,null,0]
[null,null,"Furadeira de impacto elétrica - 0,65 kW, Ø mandril 5/8\"","h prod",{"$f":"(2/(0.4*0.8))*0.1*1.5","v":0.9375},0,0,null,null,0]
[null,null,"Insert metálico tipo 1, conforme projeto","un ",{"$f":"2/(0.4*0.8)","v":6.2499999999999991},"","",null,null,0]
[null,null,"GRAUTE FGK=25 MPA; TRAÇO 1:0,02:1,2:1,5 (CIMENTO/ CAL/ AREIA GROSSA/ BRITA 0) - PREPARO MECÂNICO COM BETONEIRA 400 L. AF_02/2015","m3",1E-4,402.92037274249986,4.0292037274249987E-2,null,null,0]
[null,null,null,null,null,"","",null,null,0]
[null,null,"Fontes: ORSE 03735, PINI 05.102.000020.SER e 05.108.000450.SER",null,null,"",{"$f":"IF(ISNUMBER(F3345),E3345*F3345,\"\")","v":""},null,null,0]
[null,null,"Observações: Considerando uma placa de 0,40 m x 0,80 m, que, conforme projeto, necessita de 2 inserts.",null,null,"","",null,null,0]
[null,null,null,null,null,"","",null,null,0]
["SF-00972",{"$f":"INDEX(Orçamentária!A:B,MATCH(Composições!A3348,Orçamentária!A:A,0),2)","v":"Aplicação de hidrofugante à base de silano e silicone"},null,{"$f":"TRIM(INDEX(Orçamentária!C:C,MATCH(Composições!A3348,Orçamentária!A:A,0),1))","v":"m2"},null,"","",null,null,0]
[null,null,null,null,null,"","",null,null,0]
[null,null,"Pintor com encargos complementares","h",0.4,22.762,9.1048000000000009,{"$f":"SUM(G3350:G3352)","v":10.931650000000001},null,0]
[null,null,"Ajudante de pintor com Encargos Complementares","h",0.1,18.2685,1.8268500000000001,null,null,0]
[null,null,"Hidrofugante à base de silano e silicone","L",0.33,0,0,null,null,0]
[null,null,null,null,null,"","",null,null,0]
["SF-00973",{"$f":"INDEX(Orçamentária!A:B,MATCH(Composições!A3354,Orçamentária!A:A,0),2)","v":"Cantoneira em alumínio abas iguais 1\" x 1/8\" – Pingadeira “L”"},null,{"$f":"TRIM(INDEX(Orçamentária!C:C,MATCH(Composições!A3354,Orçamentária!A:A,0),1))","v":"m"},null,"","",null,null,0]
[null,null,null,null,null,"","",null,null,0]
[null,null,"Marmorista/graniteiro com encargos complementares","h",0.6,18.078500000000002,10.847100000000001,{"$f":"SUM(G3356:G3358)","v":17.2577},null,0]
[null,null,"Servente com Encargos Complementares","h",0.4,16.026499999999999,6.4105999999999996,null,null,0]
[null,null,"Cantoneira em alumínio abas iguais 1\" x 1/8\" com pintura eletrostática branca","m",1,"","",null,null,0]
[null,null,null,null,null,"","",null,null,0]
["SF-00974",{"$f":"INDEX(Orçamentária!A:B,MATCH(Composições!A3360,Orçamentária!A:A,0),2)","v":"Granito Amarelo Maracujá para rodapé"},null,{"$f":"TRIM(INDEX(Orçamentária!C:C,MATCH(Composições!A3360,Orçamentária!A:A,0),1))","v":"m2"},null,"","",null,null,0]
[null,null,null,null,null,"","",null,null,0]
[null,null,"Granito Amarelo Capri para rodapé","m2",1.05,"","",{"$f":"SUM(G3362:G3366)","v":91.769221000000002},null,0]
[null,null,"Argamassa colante tipo AC III","kg",{"$f":"0.8614/0.1","v":8.6140000000000008},1.254,10.801956000000001,null,null,0]
[null,null,"Marmorista/graniteiro com encargos complementares","h",{"$f":"0.299/0.1","v":2.9899999999999998},18.078500000000002,54.054715000000002,null,null,0]
[null,null,"Servente com Encargos Complementares","h",{"$f":"0.15/0.1","v":1.4999999999999998},16.026499999999999,24.039749999999994,null,null,0]
[null,null,"Rejunte cimenticio, qualquer cor","kg",{"$f":"0.12/0.1","v":1.2},2.3939999999999997,2.8727999999999994,null,null,0]
[null,null,null,null,null,"","",null,null,0]
["SF-00975",{"$f":"INDEX(Orçamentária!A:B,MATCH(Composições!A3368,Orçamentária!A:A,0),2)","v":"Acabamento das extremidades aparentes dos parafusos de fixação (lixamento e revestimento)"},null,{"$f":"TRIM(INDEX(Orçamentária!C:C,MATCH(Composições!A3368,Orçamentária!A:A,0),1))","v":"un"},null,"","",null,null,0]
[null,null,null,null,null,"","",null,null,0]
[null,null,"Servente com Encargos Complementares","h",0.05,16.026499999999999,0.80132499999999995,{"$f":"SUM(G3370:G3373)","v":0.92102499999999998},null,0]
[null,null,"Lixadeira angular manual elétrica Ø 7\" 2200 W 6600 rpm","loc/un/dia",{"$f":"0.25/10","v":2.5000000000000001E-2},0,0,null,null,0]
[null,null,"Ponta montada A2 haste 1/4\"","un",0.25,"","",null,null,0]
[null,null,"Rejunte cimenticio, qualquer cor","kg",0.05,2.3939999999999997,0.11969999999999999,null,null,0]
[null,null,null,null,null,"","",null,null,0]
["SF-00976",{"$f":"INDEX(Orçamentária!A:B,MATCH(Composições!A3375,Orçamentária!A:A,0),2)","v":"Rejuntamento de placas de rocha ornamental em fachada"},null,{"$f":"TRIM(INDEX(Orçamentária!C:C,MATCH(Composições!A3375,Orçamentária!A:A,0),1))","v":"m2"},null,"","",null,null,0]
[null,null,null,null,null,"","",null,null,0]
[null,null,"Servente com Encargos Complementares","h",0.25,16.026499999999999,4.0066249999999997,{"$f":"SUM(G3377:G3378)","v":5.2730509999999997},null,0]
[null,null,"Rejunte cimenticio, qualquer cor","kg",0.52900000000000003,2.3939999999999997,1.2664259999999998,null,null,0]
[null,null,null,null,null,"","",null,null,0]
["SF-00977",{"$f":"INDEX(Orçamentária!A:B,MATCH(Composições!A3380,Orçamentária!A:A,0),2)","v":"Junta de movimentação em fachada"},null,{"$f":"TRIM(INDEX(Orçamentária!C:C,MATCH(Composições!A3380,Orçamentária!A:A,0),1))","v":"m"},null,"","",null,null,0]
[null,null,null,null,null,"","",null,null,0]
[null,null,"Pedreiro com Encargos Complementares","h",0.33,21.716999999999999,7.1666100000000004,{"$f":"SUM(G3382:G3386)","v":20.583678500000001},null,0]
[null,null,"Servente com Encargos Complementares","h",0.1,16.026499999999999,1.6026499999999999,null,null,0]
[null,null,"Primer de secagem rápida e alto poder de aderência ao concreto","L",0.15,0,0,null,null,0]
[null,null,"Corpo de apoio em polietileno para aplicação de mástiques em juntas","m",1,0,0,null,null,0]
[null,null,"SELANTE ELASTICO MONOCOMPONENTE A BASE DE POLIURETANO (PU) PARA JUNTAS DIVERSAS","310ml",{"$f":"ROUND(0.15/0.31,4)","v":0.4839},24.414999999999999,11.8144185,null,null,0]
[null,null,null,null,null,"","",null,null,0]
["SF-00978",{"$f":"INDEX(Orçamentária!A:B,MATCH(Composições!A3388,Orçamentária!A:A,0),2)","v":"Adesivo Selante Poliuretano – fornecimento e aplicação"},null,{"$f":"TRIM(INDEX(Orçamentária!C:C,MATCH(Composições!A3388,Orçamentária!A:A,0),1))","v":"m"},null,"","",null,null,0]
[null,null,null,null,null,"","",null,null,0]
[null,null,"Pedreiro com Encargos Complementares","h",0.16500000000000001,21.716999999999999,3.5833050000000002,{"$f":"SUM(G3390:G3392)","v":13.321033},null,0]
[null,null,"Servente com Encargos Complementares","h",0.1,16.026499999999999,1.6026499999999999,null,null,0]
[null,null,"SELANTE ELASTICO MONOCOMPONENTE A BASE DE POLIURETANO (PU) PARA JUNTAS DIVERSAS","310ml",{"$f":"ROUND(0.1033/0.31,4)","v":0.3332},24.414999999999999,8.135078,null,null,0]
[null,null,null,null,null,"","",null,null,0]
["SF-00980",{"$f":"INDEX(Orçamentária!A:B,MATCH(Composições!A3394,Orçamentária!A:A,0),2)","v":"Chuveiro elétrico"},null,{"$f":"TRIM(INDEX(Orçamentária!C:C,MATCH(Composições!A3394,Orçamentária!A:A,0),1))","v":"un"},null,"","",null,null,0]
[null,null,null,null,null,"","",null,null,0]
[null,null,"CHUVEIRO COMUM EM PLASTICO BRANCO, COM CANO, 3 TEMPERATURAS, 5500 W (110/220 V)","UN",1,51.784499999999994,51.784499999999994,{"$f":"SUM(G3396:G3399)","v":63.624767999999989},null,0]
[null,null,"FITA VEDA ROSCA EM ROLOS DE 18 MM X 10 M (L X C)","UN",2.1000000000000001E-2,3.1825000000000001,6.6832500000000003E-2,null,null,0]
[null,null,"ENCANADOR OU BOMBEIRO HIDRÁULICO COM ENCARGOS COMPLEMENTARES","H",0.44669999999999999,21.308499999999999,9.518506949999999,null,null,0]
[null,null,"SERVENTE COM ENCARGOS COMPLEMENTARES","H",0.14069999999999999,16.026499999999999,2.2549285499999998,null,null,0]
[null,null,null,null,null,"","",null,null,0]
["SF-00981",{"$f":"INDEX(Orçamentária!A:B,MATCH(Composições!A3401,Orçamentária!A:A,0),2)","v":"Base para pavimentação com concreto magro"},null,{"$f":"TRIM(INDEX(Orçamentária!C:C,MATCH(Composições!A3401,Orçamentária!A:A,0),1))","v":"m3"},null,"","",null,null,0]
[null,null,null,null,null,"","",null,null,0]
[null,null,"Pedreiro com Encargos Complementares","H",2,21.716999999999999,43.433999999999997,{"$f":"SUM(G3403:G3405)","v":465.62068575989997},null,0]
[null,null,"Servente com Encargos Complementares","H",6,16.026499999999999,96.158999999999992,null,null,0]
[null,null,"CONCRETO MAGRO PARA LASTRO, TRAÇO 1:4,5:4,5 (CIMENTO/ AREIA MÉDIA/ BRITA 1)  - PREPARO MECÂNICO COM BETONEIRA 600 L. AF_07/2016","M3",1,326.02768575990001,326.02768575990001,null,null,0]
[null,null,null,null,null,"","",null,null,0]
["SF-00982",{"$f":"INDEX(Orçamentária!A:B,MATCH(Composições!A3407,Orçamentária!A:A,0),2)","v":"Pavimentação em concreto armado simples"},null,{"$f":"TRIM(INDEX(Orçamentária!C:C,MATCH(Composições!A3407,Orçamentária!A:A,0),1))","v":"m2"},null,"","",null,null,0]
[null,null,null,null,null,"","",null,null,0]
[null,null,"CONCRETO USINADO BOMBEAVEL, CLASSE DE RESISTENCIA C20, COM BRITA 0 E 1, SLUMP = 100 +/- 20 MM, EXCLUI SERVICO DE BOMBEAMENTO (NBR 8953)","M3",8.14E-2,246.38250000000002,{"$f":"IF(ISNUMBER(F3409),E3409*F3409,\"\")","v":20.055535500000001},{"$f":"SUM(G3409:G3415)","v":72.182721400000005},null,0]
[null,null,"ENDURECEDOR MINERAL DE BASE CIMENTICIA PARA PISO DE CONCRETO","KG",4,6.2604999999999995,25.041999999999998,null,null,0]
[null,null,"PEDREIRO COM ENCARGOS COMPLEMENTARES","H",0.1119,21.716999999999999,2.4301322999999999,null,null,0]
[null,null,"SERVENTE COM ENCARGOS COMPLEMENTARES","H",4.6600000000000003E-2,16.026499999999999,0.74683489999999997,null,null,0]
[null,null,"DESEMPENADEIRA DE CONCRETO, PESO DE 75KG, 4 PÁS, MOTOR A GASOLINA, POTÊNCIA 5,5 HP - CHP DIURNO. AF_09/2016","CHP",7.0000000000000001E-3,6.4504999999999999,4.5153499999999999E-2,null,null,0]
[null,null,"TELA DE ACO SOLDADA NERVURADA, CA-60, Q-196, (3,11 KG/M2), DIAMETRO DO FIO = 5,0 MM, LARGURA = 2,45 M, ESPACAMENTO DA MALHA = 10 X 10 CM","M2",1.1224000000000001,19.0855,21.4215652,null,null,0]
[null,null,"SELANTE ELASTICO MONOCOMPONENTE A BASE DE POLIURETANO (PU) PARA JUNTAS DIVERSAS","310ML",0.1,24.414999999999999,2.4415,null,null,0]
[null,null,null,null,null,"","",null,null,0]
["SF-00983",{"$f":"INDEX(Orçamentária!A:B,MATCH(Composições!A3417,Orçamentária!A:A,0),2)","v":"Remoção de reservatório d’água"},null,{"$f":"TRIM(INDEX(Orçamentária!C:C,MATCH(Composições!A3417,Orçamentária!A:A,0),1))","v":"un"},null,"","",null,null,0]
[null,null,null,null,null,"","",null,null,0]
[null,null,"Encanador ou Bombeiro Hidráulico com Encargos Complementares","h",4,21.308499999999999,85.233999999999995,{"$f":"SUM(G3419:G3420)","v":149.33999999999997},null,0]
[null,null,"Servente com Encargos Complementares","h",4,16.026499999999999,64.105999999999995,null,null,0]
[null,null,null,null,null,"","",null,null,0]
["SF-00984",{"$f":"INDEX(Orçamentária!A:B,MATCH(Composições!A3422,Orçamentária!A:A,0),2)","v":"Transporte e destinação final de entulho para distâncias até 30 km"},null,{"$f":"TRIM(INDEX(Orçamentária!C:C,MATCH(Composições!A3422,Orçamentária!A:A,0),1))","v":"m3 x km"},null,"","",null,null,0]
[null,null,null,null,null,"","",null,null,0]
[null,null,"CAMINHÃO BASCULANTE 6 M3 TOCO, PESO BRUTO TOTAL 16.000 KG, CARGA ÚTIL MÁXIMA 11.130 KG, DISTÂNCIA ENTRE EIXOS 5,36 M, POTÊNCIA 185 CV, INCLUSIVE CAÇAMBA METÁLICA - CHP DIURNO. AF_06/2014","CHP",1.3899999999999999E-2,96.966499999999982,1.3478343499999996,{"$f":"SUM(G3424:G3425)","v":1.5377013499999996},null,0]
[null,null,"CAMINHÃO BASCULANTE 6 M3 TOCO, PESO BRUTO TOTAL 16.000 KG, CARGA ÚTIL MÁXIMA 11.130 KG, DISTÂNCIA ENTRE EIXOS 5,36 M, POTÊNCIA 185 CV, INCLUSIVE CAÇAMBA METÁLICA - CHI DIURNO. AF_06/2014","CHI",6.0000000000000001E-3,31.644500000000001,0.18986700000000001,null,null,0]
[null,null,null,null,null,"","",null,null,0]
["SF-00986",{"$f":"INDEX(Orçamentária!A:B,MATCH(Composições!A3427,Orçamentária!A:A,0),2)","v":"Demolição de estrutura metálica"},null,{"$f":"TRIM(INDEX(Orçamentária!C:C,MATCH(Composições!A3427,Orçamentária!A:A,0),1))","v":"kg"},null,"","",null,null,0]
[null,null,null,null,null,"","",null,null,0]
[null,null,"OXIGENIO, RECARGA PARA CILINDRO DE CONJUNTO OXICORTE GRANDE","m3",2.1999999999999999E-2,9.2530000000000001,0.203566,{"$f":"SUM(G3429:G3433)","v":2.8578659999999996},null,0]
[null,null,"ACETILENO (RECARGA PARA CILINDRO DE CONJUNTO OXICORTE GRANDE)","kg",5.0000000000000001E-3,42.217999999999996,0.21109,null,null,0]
[null,null,"APARELHO PARA CORTE E SOLDA OXI-ACETILENO SOBRE RODAS, INCLUSIVE CILINDROS E MAÇARICOS - CHP DIURNO. AF_12/2015","CHP",{"$f":"E3432","v":4.3999999999999997E-2},17.185499999999998,0.75616199999999989,null,null,0]
[null,null,"Soldador com encargos complementares","h",4.3999999999999997E-2,22.315499999999997,0.98188199999999981,null,null,0]
[null,null,"Servente com Encargos Complementares","h",4.3999999999999997E-2,16.026499999999999,0.70516599999999985,null,null,0]
[null,null,null,null,null,"","",null,null,0]
["SF-00987",{"$f":"INDEX(Orçamentária!A:B,MATCH(Composições!A3435,Orçamentária!A:A,0),2)","v":"Escavação manual com profundidade maior do que 1,30 m"},null,{"$f":"TRIM(INDEX(Orçamentária!C:C,MATCH(Composições!A3435,Orçamentária!A:A,0),1))","v":"m3"},null,"","",null,null,0]
[null,null,null,null,null,"","",null,null,0]
[null,null,"Servente com Encargos Complementares","h",4.3,16.026499999999999,68.913949999999986,{"$f":"SUM(G3437:G3437)","v":68.913949999999986},null,0]
[null,null,null,null,null,"","",null,null,0]
["SF-00988",{"$f":"INDEX(Orçamentária!A:B,MATCH(Composições!A3439,Orçamentária!A:A,0),2)","v":"Escavação mecânica com profundidade maior do que 1,30 m"},null,{"$f":"TRIM(INDEX(Orçamentária!C:C,MATCH(Composições!A3439,Orçamentária!A:A,0),1))","v":"m3"},null,"","",null,null,0]
[null,null,null,null,null,"","",null,null,0]
[null,null,"RETROESCAVADEIRA SOBRE RODAS COM CARREGADEIRA, TRAÇÃO 4X4, POTÊNCIA LÍQ. 88 HP, CAÇAMBA CARREG. CAP. MÍN. 1 M3, CAÇAMBA RETRO CAP. 0,26 M3, PESO OPERACIONAL MÍN. 6.674 KG, PROFUNDIDADE ESCAVAÇÃO MÁX. 4,37 M - CHP DIURNO. AF_06/2014","CHP",2.7099999999999999E-2,82.060999999999993,2.2238530999999999,{"$f":"SUM(G3441:G3443)","v":4.3766452499999993},null,0]
[null,null,"RETROESCAVADEIRA SOBRE RODAS COM CARREGADEIRA, TRAÇÃO 4X4, POTÊNCIA LÍQ. 88 HP, CAÇAMBA CARREG. CAP. MÍN. 1 M3, CAÇAMBA RETRO CAP. 0,26 M3, PESO OPERACIONAL MÍN. 6.674 KG, PROFUNDIDADE ESCAVAÇÃO MÁX. 4,37 M - CHI DIURNO. AF_06/2014","CHI",3.2800000000000003E-2,36.366,1.1928048,null,null,0]
[null,null,"SERVENTE COM ENCARGOS COMPLEMENTARES","H",5.9900000000000002E-2,16.026499999999999,0.95998734999999991,null,null,0]
[null,null,null,null,null,"","",null,null,0]
["SF-00989",{"$f":"INDEX(Orçamentária!A:B,MATCH(Composições!A3445,Orçamentária!A:A,0),2)","v":"Grama Batatais em placas de 40 x 40 cm"},null,{"$f":"TRIM(INDEX(Orçamentária!C:C,MATCH(Composições!A3445,Orçamentária!A:A,0),1))","v":"m2"},null,"","",null,null,0]
[null,null,null,null,null,"","",null,null,0]
[null,null,"GRAMA BATATAIS EM PLACAS, SEM PLANTIO","m2",1,4.6739999999999995,4.6739999999999995,{"$f":"SUM(G3447:G3457)","v":37.895996431163994},null,0]
[null,null,"Servente com Encargos Complementares","h",0.15640000000000001,16.026499999999999,2.5065445999999998,null,null,0]
[null,null,"JARDINEIRO COM ENCARGOS COMPLEMENTARES","h",3.9100000000000003E-2,21.013999999999999,0.82164740000000003,null,null,0]
[null,null,"Servente com Encargos Complementares","h",{"$f":"1.6*0.25","v":0.4},16.026499999999999,6.4105999999999996,null,null,0]
[null,null,"CALCARIO DOLOMITICO A (POSTO PEDREIRA/FORNECEDOR, SEM FRETE)","kg",{"$f":"1*0.25","v":0.25},0.1045,2.6124999999999999E-2,null,null,0]
[null,null,"TERRA VEGETAL (GRANEL)","m3",{"$f":"0.9*0.25","v":0.22500000000000001},101.783,22.901175000000002,null,null,0]
[null,null,"FERTILIZANTE NPK - 10:10:10","kg",{"$f":"1*0.25","v":0.25},2.1185,0.52962500000000001,null,null,0]
[null,null,"FERTILIZANTE ORGANICO COMPOSTO, CLASSE A","kg",{"$f":"0.1*0.25","v":2.5000000000000001E-2},0.8075,2.0187500000000001E-2,null,null,0]
[null,null,"CARGA, MANOBRAS E DESCARGA DE AREIA, BRITA, PEDRA DE MAO E SOLOS COM CAMINHAO BASCULANTE 6 M3 (DESCARGA LIVRE)","t",{"$f":"ROUND(1*E3451/1000,4)","v":2.9999999999999997E-4},3.1669963800000001,9.5009891399999995E-4,null,null,0]
[null,null,"TRANSPORTE COM CAMINHÃO BASCULANTE DE 6 M3, EM VIA URBANA PAVIMENTADA, DMT ATÉ 30 KM (UNIDADE: TxKM). AF_01/2018","TxKM",{"$f":"20*E3451*1/1000","v":5.0000000000000001E-3},1.0283664499999998,5.1418322499999988E-3,null,null,0]
[null,null,null,null,null,"","",null,null,0]
[null,null,"Obs.: Considerando fornecedor de calcário a 20km do Senado Federal.",null,null,"","",null,null,0]
[null,null,null,null,null,"","",null,null,0]
["SF-00990",{"$f":"INDEX(Orçamentária!A:B,MATCH(Composições!A3460,Orçamentária!A:A,0),2)","v":"Pintura de meios-fios com tinta acrílica"},null,{"$f":"TRIM(INDEX(Orçamentária!C:C,MATCH(Composições!A3460,Orçamentária!A:A,0),1))","v":"m"},null,"","",null,null,0]
[null,null,null,null,null,"","",null,null,0]
[null,null,"TINTA ACRILICA PREMIUM PARA PISO","L",{"$f":"ROUND(0.17/2*(0.25+0.13+0.25),4)","v":5.3600000000000002E-2},13.233499999999999,0.70931559999999994,{"$f":"SUM(G3462:G3464)","v":4.4809129749999999},null,0]
[null,null,"PINTOR COM ENCARGOS COMPLEMENTARES","H",{"$f":"0.35*(0.25+0.13+0.25)/2","v":0.11024999999999999},22.762,2.5095104999999998,null,null,0]
[null,null,"Servente com Encargos Complementares","H",{"$f":"0.25*(0.25+0.13+0.25)/2","v":7.8750000000000001E-2},16.026499999999999,1.2620868749999998,null,null,0]
[null,null,null,null,null,"","",null,null,0]
[null,null,"Obs: considerando uma demão, meio-fio de 30 cm x 15 cm x 13 cm (altura, base inferior, base superior), enterrado 5 cm.",null,null,"","",null,null,0]
[null,null,null,null,null,"","",null,null,0]
["SF-00991",{"$f":"INDEX(Orçamentária!A:B,MATCH(Composições!A3468,Orçamentária!A:A,0),2)","v":"Meios-fios em concreto pré-moldado"},null,{"$f":"TRIM(INDEX(Orçamentária!C:C,MATCH(Composições!A3468,Orçamentária!A:A,0),1))","v":"m"},null,"","",null,null,0]
[null,null,null,null,null,"","",null,null,0]
[null,null,"AREIA MEDIA - POSTO JAZIDA/FORNECEDOR (RETIRADO NA JAZIDA, SEM TRANSPORTE)","m3",7.0000000000000001E-3,93.8125,0.65668749999999998,{"$f":"SUM(G3470:G3478)","v":37.572400574349011},null,0]
[null,null,"MEIO-FIO OU GUIA DE CONCRETO, PRE-MOLDADO, COMP 1 M, *30 X 15/ 12* CM (H X L1/L2)","m",1.0049999999999999,20.71,20.813549999999999,null,null,0]
[null,null,"Pedreiro com Encargos Complementares","h",0.39400000000000002,21.716999999999999,8.5564979999999995,null,null,0]
[null,null,"Servente com Encargos Complementares","h",0.39400000000000002,16.026499999999999,{"$f":"IF(ISNUMBER(F3473),E3473*F3473,\"\")","v":6.3144409999999995},null,null,0]
[null,null,"ARGAMASSA TRAÇO 1:3 (EM VOLUME DE CIMENTO E AREIA MÉDIA ÚMIDA), PREPARO MANUAL. AF_08/2019","m3",2E-3,491.36296169949998,0.982725923399,null,null,0]
[null,null,"CARGA, MANOBRA E DESCARGA DE SOLOS E MATERIAIS GRANULARES EM CAMINHÃO BASCULANTE 6 M³ - CARGA COM PÁ CARREGADEIRA (CAÇAMBA DE 1,7 A 2,8 M³ / 128 HP) E DESCARGA LIVRE (UNIDADE: M3). AF_07/2020","m3",{"$f":"1*E3470","v":7.0000000000000001E-3},4.7457088499999998,3.3219961950000002E-2,null,null,0]
[null,null,"TRANSPORTE COM CAMINHÃO BASCULANTE DE 6 M3, EM VIA URBANA PAVIMENTADA, DMT ATÉ 30 KM (UNIDADE: M3xKM). AF_01/2018","M3xKM",{"$f":"0.007*20","v":0.14000000000000001},1.5377013499999996,0.21527818899999998,null,null,0]
[null,null,null,null,null,"","",null,null,0]
[null,null,"Obs.: Considerando fornecedor de areia a 20km do Senado Federal.",null,null,"","",null,null,0]
[null,null,null,null,null,"","",null,null,0]
["SF-00992",{"$f":"INDEX(Orçamentária!A:B,MATCH(Composições!A3480,Orçamentária!A:A,0),2)","v":"Tubo PEAD corrugado para drenagem – Diâmetro 100 mm"},null,{"$f":"TRIM(INDEX(Orçamentária!C:C,MATCH(Composições!A3480,Orçamentária!A:A,0),1))","v":"m"},null,"","",null,null,0]
[null,null,null,null,null,"","",null,null,0]
[null,null,"PEDRA BRITADA N. 2 (19 A 38 MM) POSTO PEDREIRA/FORNECEDOR, SEM FRETE","M3",8.2100000000000006E-2,76,6.2396000000000003,{"$f":"SUM(G3482:G3492)","v":27.500019113284996},null,0]
[null,null,"CAMINHÃO BASCULANTE 6 M3, PESO BRUTO TOTAL 16.000 KG, CARGA ÚTIL MÁXIMA 13.071 KG, DISTÂNCIA ENTRE EIXOS 4,80 M, POTÊNCIA 230 CV INCLUSIVE CAÇAMBA METÁLICA - CHP DIURNO. AF_06/2014","CHP",3.2000000000000002E-3,109.288,0.34972160000000002,null,null,0]
[null,null,"TUBO DRENO, CORRUGADO, ESPIRALADO, FLEXIVEL, PERFURADO, EM POLIETILENO DE ALTA DENSIDADE (PEAD), DN 100 MM, (4\") PARA DRENAGEM - EM ROLO (NORMA DNIT 093/2006 - E.M)","M",1,4.7594999999999992,4.7594999999999992,null,null,0]
[null,null,"ENCANADOR OU BOMBEIRO HIDRÁULICO COM ENCARGOS COMPLEMENTARES","H",1.7500000000000002E-2,21.308499999999999,0.37289875,null,null,0]
[null,null,"SERVENTE COM ENCARGOS COMPLEMENTARES","H",0.79930000000000001,16.026499999999999,12.809981449999999,null,null,0]
[null,null,"PLACA VIBRATÓRIA REVERSÍVEL COM MOTOR 4 TEMPOS A GASOLINA, FORÇA CENTRÍFUGA DE 25 KN (2500 KGF), POTÊNCIA 5,5 CV - CHP DIURNO. AF_08/2015","CHP",7.6E-3,7.0774999999999997,5.3788999999999997E-2,null,null,0]
[null,null,"CARGA, MANOBRA E DESCARGA DE SOLOS E MATERIAIS GRANULARES EM CAMINHÃO BASCULANTE 6 M³ - CARGA COM PÁ CARREGADEIRA (CAÇAMBA DE 1,7 A 2,8 M³ / 128 HP) E DESCARGA LIVRE (UNIDADE: M3). AF_07/2020","m3",{"$f":"1*E3482","v":8.2100000000000006E-2},4.7457088499999998,0.38962269658499998,null,null,0]
[null,null,"TRANSPORTE COM CAMINHÃO BASCULANTE DE 6 M3, EM VIA URBANA PAVIMENTADA, DMT ATÉ 30 KM (UNIDADE: M3xKM). AF_01/2018","M3xKM",{"$f":"E3482*20","v":1.6420000000000001},1.5377013499999996,2.5249056166999995,null,null,0]
[null,null,null,null,null,"","",null,null,0]
[null,null,"Obs.: Considerando fornecedor de brita a 20km do Senado Federal.",null,null,"","",null,null,0]
[null,null,null,null,null,"","",null,null,0]
["SF-00994",{"$f":"INDEX(Orçamentária!A:B,MATCH(Composições!A3493,Orçamentária!A:A,0),2)","v":"Fixadores metálicos para rochas ornamentais (Modelo Edifício Principal, peça inferior)"},null,{"$f":"TRIM(INDEX(Orçamentária!C:C,MATCH(Composições!A3493,Orçamentária!A:A,0),1))","v":"un"},null,"","",null,null,0]
[null,null,null,null,null,"","",null,null,0]
[null,null,"Pedreiro com Encargos Complementares","h",{"$f":"0.1+0.1","v":0.2},21.716999999999999,4.3433999999999999,{"$f":"SUM(G3495:G3500)","v":7.7098681490969998},null,0]
[null,null,"Servente com Encargos Complementares","h",{"$f":"0.1+0.1","v":0.2},16.026499999999999,3.2052999999999998,null,null,0]
[null,null,"Broca com ponta de widia Ø 3/8\" x 160 mm","un ",{"$f":"0.016*2","v":3.2000000000000001E-2},0,0,null,null,0]
[null,null,"Furadeira de impacto elétrica - 0,65 kW, Ø mandril 5/8\"","h prod",{"$f":"0.1*2","v":0.2},0,0,null,null,0]
[null,null,"Insert metálico tipo 3, conforme projeto","un ",1,"","",null,null,0]
[null,null,"GRAUTE FGK=25 MPA; TRAÇO 1:0,02:1,2:1,5 (CIMENTO/ CAL/ AREIA GROSSA/ BRITA 0) - PREPARO MECÂNICO COM BETONEIRA 400 L. AF_02/2015","m3",{"$f":"ROUND(0.15*0.05*0.05,4)","v":4.0000000000000002E-4},402.92037274249986,0.16116814909699995,null,null,0]
[null,null,null,null,null,"","",null,null,0]
[null,null,"Fontes: PINI 05.102.000020.SER",null,null,"","",null,null,0]
[null,null,null,null,null,"","",null,null,0]
["SF-01001",{"$f":"INDEX(Orçamentária!A:B,MATCH(Composições!A3504,Orçamentária!A:A,0),2)","v":"Locação de Container - Escritório"},null,{"$f":"TRIM(INDEX(Orçamentária!C:C,MATCH(Composições!A3504,Orçamentária!A:A,0),1))","v":"mês"},null,"","",null,null,0]
[null,null,null,null,null,"","",null,null,0]
[null,null,"LOCACAO DE CONTAINER 2,30  X  6,00 M, ALT. 2,50 M, COM 1 SANITARIO, PARA ESCRITORIO, COMPLETO, SEM DIVISORIAS INTERNAS","MES",1,495.9,495.9,{"$f":"SUM(G3506:G3506)","v":495.9},null,0]
[null,null,null,null,null,"","",null,null,0]
["SF-01011",{"$f":"INDEX(Orçamentária!A:B,MATCH(Composições!A3508,Orçamentária!A:A,0),2)","v":"Abertura/fechamento de rasgo em concreto"},null,{"$f":"TRIM(INDEX(Orçamentária!C:C,MATCH(Composições!A3508,Orçamentária!A:A,0),1))","v":"m"},null,"","",null,null,0]
[null,null,null,null,null,"","",null,null,0]
[null,null,"MARTELETE OU ROMPEDOR PNEUMÁTICO MANUAL, 28 KG, COM SILENCIADOR - CHP DIURNO. AF_07/2016","CHP",0.183,19.788499999999999,3.6212954999999996,{"$f":"SUM(G3510:G3516)","v":35.321392693595996},null,0]
[null,null,"MARTELETE OU ROMPEDOR PNEUMÁTICO MANUAL, 28 KG, COM SILENCIADOR - CHI DIURNO. AF_07/2016","CHI",0.40100000000000002,18.477499999999999,7.4094775000000004,null,null,0]
[null,null,"Auxiliar de encanador ou bombeiro hidráulico com encargos complementares","h",9.0999999999999998E-2,16.596499999999999,1.5102814999999998,null,null,0]
[null,null,"Encanador ou Bombeiro Hidráulico com Encargos Complementares","h",0.58299999999999996,21.308499999999999,12.422855499999999,null,null,0]
[null,null,"Auxiliar de encanador ou bombeiro hidráulico com encargos complementares","h",3.7999999999999999E-2,16.596499999999999,0.63066699999999998,null,null,0]
[null,null,"Encanador ou Bombeiro Hidráulico com Encargos Complementares","h",0.27200000000000002,21.308499999999999,5.7959120000000004,null,null,0]
[null,null,"ARGAMASSA TRAÇO 1:3 (EM VOLUME DE CIMENTO E AREIA MÉDIA ÚMIDA), PREPARO MANUAL. AF_08/2019","m3",8.0000000000000002E-3,491.36296169949998,3.930903693596,null,null,0]
[null,null,null,null,null,"","",null,null,0]
["SF-01012",{"$f":"INDEX(Orçamentária!A:B,MATCH(Composições!A3518,Orçamentária!A:A,0),2)","v":"Recomposição de rejuntamento sobre revestimentos"},null,{"$f":"TRIM(INDEX(Orçamentária!C:C,MATCH(Composições!A3518,Orçamentária!A:A,0),1))","v":"m2"},null,"","",null,null,0]
[null,null,null,null,null,"","",null,null,0]
[null,null,"Rejunte cimenticio, qualquer cor","kg",0.25900000000000001,2.3939999999999997,0.62004599999999999,{"$f":"SUM(G3520:G3521)","v":8.6332959999999996},null,0]
[null,null,"Servente com Encargos Complementares","h",{"$f":"0.25*2","v":0.5},16.026499999999999,8.0132499999999993,null,null,0]
[null,null,null,null,null,"","",null,null,0]
["SF-01013",{"$f":"INDEX(Orçamentária!A:B,MATCH(Composições!A3523,Orçamentária!A:A,0),2)","v":"Impermeabilização de revestimentos em pedra"},null,{"$f":"TRIM(INDEX(Orçamentária!C:C,MATCH(Composições!A3523,Orçamentária!A:A,0),1))","v":"m2"},null,"","",null,null,0]
[null,null,null,null,null,"","",null,null,0]
[null,null,"Impermeabilizante Idea HP","L",{"$f":"ROUND(1/12,4)","v":8.3299999999999999E-2},"","",{"$f":"SUM(G3525:G3527)","v":17.838149999999999},null,0]
[null,null,"IMPERMEABILIZADOR COM ENCARGOS COMPLEMENTARES","H",{"$f":"1.2/2","v":0.6},21.716999999999999,13.030199999999999,null,null,0]
[null,null,"Servente com Encargos Complementares","H",{"$f":"0.6/2","v":0.3},16.026499999999999,4.8079499999999991,null,null,0]
[null,null,null,null,null,"","",null,null,0]
[null,null,"Obs: Rendimento informado na especificação do serviço (12 m2 para 1 L, considerando duas demãos).",null,null,"","",null,null,0]
[null,null,"Fonte: SINAPI 73872/2",null,null,"","",null,null,0]
[null,null,null,null,null,"","",null,null,0]
["SF-01014",{"$f":"INDEX(Orçamentária!A:B,MATCH(Composições!A3532,Orçamentária!A:A,0),2)","v":"Piso vinílico semiflexível"},null,{"$f":"TRIM(INDEX(Orçamentária!C:C,MATCH(Composições!A3532,Orçamentária!A:A,0),1))","v":"m2"},null,"","",null,null,0]
[null,null,null,null,null,"","",null,null,0]
[null,null,"ADESIVO ACRILICO/COLA DE CONTATO","KG",9.5000000000000001E-2,23.797499999999999,2.2607624999999998,{"$f":"SUM(G3534:G3539)","v":101.85296749999999},null,0]
[null,null,"PLACA VINILICA SEMIFLEXIVEL PARA REVESTIMENTO DE PISOS E PAREDES, E = 2 MM (SEM COLOCACAO)","M2",1.1100000000000001,82.602499999999992,91.688774999999993,null,null,0]
[null,null,"PEDREIRO COM ENCARGOS COMPLEMENTARES","H",0.26100000000000001,21.716999999999999,5.6681369999999998,null,null,0]
[null,null,"SERVENTE COM ENCARGOS COMPLEMENTARES","H",0.13,16.026499999999999,{"$f":"IF(ISNUMBER(F3537),E3537*F3537,\"\")","v":2.0834449999999998},null,null,0]
[null,null,"POLIDORA DE PISO (POLITRIZ), PESO DE 100KG, DIÂMETRO 450 MM, MOTOR ELÉTRICO, POTÊNCIA 4 HP - CHP DIURNO. AF_09/2016","CHP",2.5000000000000001E-2,2.1280000000000001,5.3200000000000004E-2,null,null,0]
[null,null,"POLIDORA DE PISO (POLITRIZ), PESO DE 100KG, DIÂMETRO 450 MM, MOTOR ELÉTRICO, POTÊNCIA 4 HP - CHI DIURNO. AF_09/2016","CHI",0.23599999999999999,0.41799999999999998,9.8647999999999986E-2,null,null,0]
[null,null,null,null,null,"","",null,null,0]
["SF-01029",{"$f":"INDEX(Orçamentária!A:B,MATCH(Composições!A3541,Orçamentária!A:A,0),2)","v":"Locação de Container - Sanitário"},null,{"$f":"TRIM(INDEX(Orçamentária!C:C,MATCH(Composições!A3541,Orçamentária!A:A,0),1))","v":"mês"},null,"","",null,null,0]
[null,null,null,null,null,"","",null,null,0]
[null,null,"LOCACAO DE CONTAINER 2,30 X 6,00 M, ALT. 2,50 M,  PARA SANITARIO,  COM 4 BACIAS, 8 CHUVEIROS,1 LAVATORIO E 1 MICTORIO","MES",1,619.875,619.875,{"$f":"SUM(G3543:G3543)","v":619.875},null,0]
[null,null,null,null,null,"","",null,null,0]
["SF-01030",{"$f":"INDEX(Orçamentária!A:B,MATCH(Composições!A3545,Orçamentária!A:A,0),2)","v":"Locação de Container - Almoxarifado"},null,{"$f":"TRIM(INDEX(Orçamentária!C:C,MATCH(Composições!A3545,Orçamentária!A:A,0),1))","v":"mês"},null,"","",null,null,0]
[null,null,null,null,null,"","",null,null,0]
[null,null,"LOCACAO DE CONTAINER 2,30  X  6,00 M, ALT. 2,50 M, PARA ESCRITORIO, SEM DIVISORIAS INTERNAS E SEM SANITARIO","MES",1,387.41949999999997,387.41949999999997,{"$f":"SUM(G3547:G3547)","v":387.41949999999997},null,0]
[null,null,null,null,null,"","",null,null,0]
["SF-01031",{"$f":"INDEX(Orçamentária!A:B,MATCH(Composições!A3549,Orçamentária!A:A,0),2)","v":"Placa de Obra"},null,{"$f":"TRIM(INDEX(Orçamentária!C:C,MATCH(Composições!A3549,Orçamentária!A:A,0),1))","v":"m2"},null,"","",null,null,0]
[null,null,null,null,null,"","",null,null,0]
[null,null,"PLACA DE OBRA (PARA CONSTRUCAO CIVIL) EM CHAPA GALVANIZADA *N. 22*, ADESIVADA, DE *2,0 X 1,125* M","M2",1,285,285,{"$f":"SUM(G3551:G3552)","v":285},null,0]
[null,null,null,null,null,"","",null,null,0]
["SF-01041",{"$f":"INDEX(Orçamentária!A:B,MATCH(Composições!A3553,Orçamentária!A:A,0),2)","v":"Supervisor de Obras e Manutenção – Apoio de campo – Segurança do Trabalho"},null,{"$f":"TRIM(INDEX(Orçamentária!C:C,MATCH(Composições!A3553,Orçamentária!A:A,0),1))","v":"Profissional"},null,"","",null,null,0]
[null,null,null,null,null,"","",null,null,0]
[null,null,"TÉCNICO EM SEGURANÇA DO TRABALHO COM ENCARGOS COMPLEMENTARES","MES",{"$f":"ROUND(1/(1+72.54%),4)","v":0.5796},6557.3940000000002,3800.6655624,{"$f":"SUM(G3555:G3558)","v":3800.6655624},null,0]
[null,null,null,null,null,"","",null,null,0]
[null,null,"Obs: considerando 220h/mês e encargos sociais indicados na tabela do SINAPI.",null,null,"","",null,null,0]
[null,null,null,null,null,"","",null,null,0]
["SF-01053",{"$f":"INDEX(Orçamentária!A:B,MATCH(Composições!A3559,Orçamentária!A:A,0),2)","v":"Reparo de placas de mármore com adesivo estrutural epóxi branco/transparente "},null,{"$f":"TRIM(INDEX(Orçamentária!C:C,MATCH(Composições!A3559,Orçamentária!A:A,0),1))","v":"m2"},null,"","",null,null,0]
[null,null,null,null,null,"","",null,null,0]
[null,null,"Marmorista/graniteiro com encargos complementares","h",{"$f":"0.5/50","v":0.01},18.078500000000002,0.18078500000000003,{"$f":"SUM(G3561:G3562)","v":0.18078500000000003},null,0]
[null,null,"Adesivo epóxi estrutural - bisnaga de 50ml","un ",{"$f":"1/50","v":0.02},"","",null,null,0]
[null,null,null,null,null,"","",null,null,0]
["SF-01054",{"$f":"INDEX(Orçamentária!A:B,MATCH(Composições!A3564,Orçamentária!A:A,0),2)","v":"Perfil de chapa de aço galvanizado para esquadria (Anexo 1)"},null,{"$f":"TRIM(INDEX(Orçamentária!C:C,MATCH(Composições!A3564,Orçamentária!A:A,0),1))","v":"m2"},null,"","",null,null,0]
[null,null,null,null,null,"","",null,null,0]
[null,null,"Pedreiro com Encargos Complementares","h",0.5,21.716999999999999,10.858499999999999,{"$f":"SUM(G3566:G3571)","v":28.778223595034898},null,0]
[null,null,"Servente com Encargos Complementares","h",0.51,16.026499999999999,8.1735150000000001,null,null,0]
[null,null,"ARGAMASSA TRAÇO 1:3 (EM VOLUME DE CIMENTO E AREIA GROSSA ÚMIDA) PARA CHAPISCO CONVENCIONAL, PREPARO MANUAL. AF_08/2019","m3",3.0999999999999999E-3,510.27532097900001,1.5818534950348999,null,null,0]
[null,null,"Perfil metálico em chapa #14 dobrada","m",1,"","",null,null,0]
[null,null,"Servente com Encargos Complementares","h",0.15,16.026499999999999,2.4039749999999995,null,null,0]
[null,null,"SILICONE ACETICO USO GERAL INCOLOR 280 G","UN",{"$f":"ROUND(0.1/0.28,4)","v":0.35709999999999997},16.131,5.7603800999999999,null,null,0]
[null,null,null,null,null,"","",null,null,0]
[null,null,"Fonte: SIURB 08-01-70 e CDHU 403091",null,null,"","",null,null,0]
[null,null,null,null,null,"","",null,null,0]
["SF-01059",{"$f":"INDEX(Orçamentária!A:B,MATCH(Composições!A3575,Orçamentária!A:A,0),2)","v":"Granito Vermelho Brasília 20 mm para bancadas"},null,{"$f":"TRIM(INDEX(Orçamentária!C:C,MATCH(Composições!A3575,Orçamentária!A:A,0),1))","v":"m2"},null,"","",null,null,0]
[null,null,null,null,null,"","",null,null,0]
[null,null,"MASSA PLASTICA PARA MARMORE/GRANITO","KG",{"$f":"ROUND(0.5228/(1.5*0.6),4)","v":0.58089999999999997},25.412499999999998,14.762121249999998,{"$f":"SUM(G3577:G3583)","v":96.470212399999994},null,0]
[null,null,"BUCHA DE NYLON SEM ABA S10, COM PARAFUSO DE 6,10 X 65 MM EM ACO ZINCADO COM ROSCA SOBERBA, CABECA CHATA E FENDA PHILLIPS","UN",{"$f":"ROUND(6/(1.5*0.6),4)","v":6.6666999999999996},0.874,5.8266957999999995,null,null,0]
[null,null,"Granito Vermelho Brasília, com 20 mm de espessura, polido, com testeira para acabamento em meia esquadria, para bancadas","M2",{"$f":"ROUND(1.005/(1.5*0.6),4)","v":1.1167},"","",null,null,0]
[null,null,"REJUNTE EPOXI, QUALQUER COR","KG",{"$f":"ROUND(0.0211/(1.5*0.6),4)","v":2.3400000000000001E-2},50.511499999999998,1.1819690999999999,null,null,0]
[null,null,"SUPORTE MAO-FRANCESA EM ACO, ABAS IGUAIS 40 CM, CAPACIDADE MINIMA 70 KG, BRANCO","UN",{"$f":"ROUND(2/(1.5*0.6),4)","v":2.2222},12.226499999999998,27.169728299999996,null,null,0]
[null,null,"MARMORISTA/GRANITEIRO COM ENCARGOS COMPLEMENTARES","H",{"$f":"ROUND(1.4944/(1.5*0.6),4)","v":1.6604000000000001},18.078500000000002,30.017541400000006,null,null,0]
[null,null,"SERVENTE COM ENCARGOS COMPLEMENTARES","H",{"$f":"ROUND(0.9834/(1.5*0.6),4)","v":1.0927},16.026499999999999,17.51215655,null,null,0]
[null,null,null,null,null,"","",null,null,0]
["SF-01060",{"$f":"INDEX(Orçamentária!A:B,MATCH(Composições!A3585,Orçamentária!A:A,0),2)","v":"Porta em alumínio tipo veneziana"},null,{"$f":"TRIM(INDEX(Orçamentária!C:C,MATCH(Composições!A3585,Orçamentária!A:A,0),1))","v":"m2"},null,"","",null,null,0]
[null,null,null,null,null,"","",null,null,0]
[null,null,"SELANTE ELASTICO MONOCOMPONENTE A BASE DE POLIURETANO (PU) PARA JUNTAS DIVERSAS","310ML",0.88290000000000002,24.414999999999999,21.556003499999999,{"$f":"SUM(G3587:G3592)","v":382.80677404999994},null,0]
[null,null,"BUCHA DE NYLON SEM ABA S10, COM PARAFUSO DE 6,10 X 65 MM EM ACO ZINCADO COM ROSCA SOBERBA, CABECA CHATA E FENDA PHILLIPS","UN",4.8166000000000002,0.874,4.2097084000000002,null,null,0]
[null,null,"GUARNICAO/MOLDURA DE ACABAMENTO PARA ESQUADRIA DE ALUMINIO ANODIZADO NATURAL, PARA 1 FACE","M",6.8503999999999996,6.2604999999999995,42.886929199999997,null,null,0]
[null,null,"PORTA DE ABRIR EM ALUMINIO TIPO VENEZIANA, ACABAMENTO ANODIZADO NATURAL, SEM GUARNICAO/ALIZAR/VISTA, 87 X 210 CM","UN",0.54730000000000001,553.23249999999996,302.78414724999999,null,null,0]
[null,null,"Pedreiro com encargos complementares","H",0.3826,21.716999999999999,8.3089241999999999,null,null,0]
[null,null,"Servente com Encargos Complementares","H",0.191,16.026499999999999,3.0610614999999997,null,null,0]
[null,null,null,null,null,"","",null,null,0]
["SF-01061",{"$f":"INDEX(Orçamentária!A:B,MATCH(Composições!A3594,Orçamentária!A:A,0),2)","v":"Janela em alumínio, duas seções, 120x60cm"},null,{"$f":"TRIM(INDEX(Orçamentária!C:C,MATCH(Composições!A3594,Orçamentária!A:A,0),1))","v":"m2"},null,"","",null,null,0]
[null,null,null,null,null,"","",null,null,0]
[null,null,"JANELA MAXIM AR EM ALUMINIO, 80 X 60 CM (A X L), BATENTE/REQUADRO DE 4 A 14 CM, COM VIDRO, SEM GUARNICAO/ALIZAR","M2",1,288.84750000000003,288.84750000000003,{"$f":"SUM(G3596:G3600)","v":363.17654120000003},null,0]
[null,null,"PARAFUSO DE ACO ZINCADO COM ROSCA SOBERBA, CABECA CHATA E FENDA SIMPLES, DIAMETRO 4,2 MM, COMPRIMENTO * 32 * MM","UN",24.4,0.14249999999999999,3.4769999999999994,null,null,0]
[null,null,"SILICONE ACETICO USO GERAL INCOLOR 280 G","UN",1.2466999999999999,16.131,20.110517699999999,null,null,0]
[null,null,"PEDREIRO COM ENCARGOS COMPLEMENTARES","H",1.7070000000000001,21.716999999999999,37.070918999999996,null,null,0]
[null,null,"SERVENTE COM ENCARGOS COMPLEMENTARES","H",0.85299999999999998,16.026499999999999,13.670604499999998,null,null,0]
[null,null,null,null,null,"",{"$f":"IF(ISNUMBER(F3601),E3601*F3601,\"\")","v":""},null,null,0]
["SF-01062",{"$f":"INDEX(Orçamentária!A:B,MATCH(Composições!A3602,Orçamentária!A:A,0),2)","v":"Porta metálica de enrolar"},null,{"$f":"TRIM(INDEX(Orçamentária!C:C,MATCH(Composições!A3602,Orçamentária!A:A,0),1))","v":"m2"},null,"","",null,null,0]
[null,null,null,null,null,"","",null,null,0]
[null,null,"PORTA DE ENROLAR MANUAL COMPLETA, ARTICULADA RAIADA LARGA, EM ACO GALVANIZADO NATURAL, CHAPA NUMERO 24 (SEM INSTALACAO)","M2",1,199.23399999999998,199.23399999999998,{"$f":"SUM(G3604:G3610)","v":240.43980906604997},null,0]
[null,null,"PEDREIRO COM ENCARGOS COMPLEMENTARES","H",1,21.716999999999999,21.716999999999999,null,null,0]
[null,null,"SERVENTE COM ENCARGOS COMPLEMENTARES","H",1.1000000000000001,16.026499999999999,17.629149999999999,null,null,0]
[null,null,"AREIA MEDIA - POSTO JAZIDA/FORNECEDOR (RETIRADO NA JAZIDA, SEM TRANSPORTE)","M3",1.2999999999999999E-2,93.8125,1.2195624999999999,null,null,0]
[null,null,"CIMENTO PORTLAND COMPOSTO CP II-32","KG",0.4,0.44649999999999995,0.17859999999999998,null,null,0]
[null,null,"CARGA, MANOBRA E DESCARGA DE SOLOS E MATERIAIS GRANULARES EM CAMINHÃO BASCULANTE 6 M³ - CARGA COM PÁ CARREGADEIRA (CAÇAMBA DE 1,7 A 2,8 M³ / 128 HP) E DESCARGA LIVRE (UNIDADE: M3). AF_07/2020","m3",{"$f":"1*E3607","v":1.2999999999999999E-2},4.7457088499999998,6.1694215049999994E-2,null,null,0]
[null,null,"TRANSPORTE COM CAMINHÃO BASCULANTE DE 6 M3, EM VIA URBANA PAVIMENTADA, DMT ATÉ 30 KM (UNIDADE: M3xKM). AF_01/2018","M3xKM",{"$f":"E3607*20","v":0.26},1.5377013499999996,0.39980235099999994,null,null,0]
[null,null,null,null,null,"","",null,null,0]
[null,null,"Obs.: Considerando fornecedor de areia a 20 km do Senado Federal.",null,null,"","",null,null,0]
[null,null,null,null,null,"","",null,null,0]
["SF-01063",{"$f":"INDEX(Orçamentária!A:B,MATCH(Composições!A3614,Orçamentária!A:A,0),2)","v":"Medidor de Gás"},null,{"$f":"TRIM(INDEX(Orçamentária!C:C,MATCH(Composições!A3614,Orçamentária!A:A,0),1))","v":"un"},null,"","",null,null,0]
[null,null,null,null,null,"","",null,null,0]
[null,null,"FITA VEDA ROSCA EM ROLOS DE 18 MM X 50 M (L X C)","UN",0.20519999999999999,11.7325,2.4075090000000001,{"$f":"SUM(G3616:G3627)","v":521.48349904999986},null,0]
[null,null,"COTOVELO 90 GRAUS DE FERRO GALVANIZADO, COM ROSCA BSP, DE 1\"","UN",2,8.2744999999999997,16.548999999999999,null,null,0]
[null,null,"NIPLE DE FERRO GALVANIZADO, COM ROSCA BSP, DE 1\"","UN",4,6.1369999999999996,24.547999999999998,null,null,0]
[null,null,"PLUG OU BUJAO DE FERRO GALVANIZADO, DE 1/2\"","UN",2,2.1849999999999996,4.3699999999999992,null,null,0]
[null,null,"TE DE REDUCAO DE FERRO GALVANIZADO, COM ROSCA BSP, DE 1\" X 1/2\"","UN",2,13.470999999999998,26.941999999999997,null,null,0]
[null,null,"UNIAO DE FERRO GALVANIZADO, COM ROSCA BSP, COM ASSENTO PLANO, DE 1\"","UN",1,17.679499999999997,17.679499999999997,null,null,0]
[null,null,"VALVULA DE ESFERA BRUTA EM BRONZE, BITOLA 1 \" (REF 1552-B)","UN",3,62.842500000000001,188.5275,null,null,0]
[null,null,"VALVULA DE ESFERA BRUTA EM BRONZE, BITOLA 1/2 \" (REF 1552-B)","UN",2,40.327500000000001,80.655000000000001,null,null,0]
[null,null,"TUBO ACO GALVANIZADO COM COSTURA, CLASSE MEDIA, DN 1\", E = 3,38 MM, PESO 2,50 KG/M (NBR 5580)","M",0.72729999999999995,22.999500000000001,16.727536350000001,null,null,0]
[null,null,"AUXILIAR DE ENCANADOR OU BOMBEIRO HIDRÁULICO COM ENCARGOS COMPLEMENTARES","H",1.6462000000000001,16.596499999999999,27.3211583,null,null,0]
[null,null,"ENCANADOR OU BOMBEIRO HIDRÁULICO COM ENCARGOS COMPLEMENTARES","H",5.4324000000000003,21.308499999999999,115.7562954,null,null,0]
[null,null,"MEDIDOR DE GÁS EM ALUMÍNIO. Ref. LAO G6 ","UN",1,"","",null,null,0]
[null,null,null,null,null,"","",null,null,0]
["SF-01064",{"$f":"INDEX(Orçamentária!A:B,MATCH(Composições!A3629,Orçamentária!A:A,0),2)","v":"Registro Esfera para Gás 3/4”"},null,{"$f":"TRIM(INDEX(Orçamentária!C:C,MATCH(Composições!A3629,Orçamentária!A:A,0),1))","v":"un"},null,"","",null,null,0]
[null,null,null,null,null,"","",null,null,0]
[null,null,"FITA VEDA ROSCA EM ROLOS DE 18 MM X 50 M (L X C)","UN",1.2999999999999999E-2,11.7325,0.15252250000000001,{"$f":"SUM(G3631:G3634)","v":7.7335225000000003},null,0]
[null,null,"Válvula de esfera tripartida Classe 300","UN",1,"","",null,null,0]
[null,null,"AUXILIAR DE ENCANADOR OU BOMBEIRO HIDRÁULICO COM ENCARGOS COMPLEMENTARES","H",0.2,16.596499999999999,3.3193000000000001,null,null,0]
[null,null,"ENCANADOR OU BOMBEIRO HIDRÁULICO COM ENCARGOS COMPLEMENTARES","H",0.2,21.308499999999999,4.2617000000000003,null,null,0]
[null,null,null,null,null,"","",null,null,0]
["SF-01065",{"$f":"INDEX(Orçamentária!A:B,MATCH(Composições!A3636,Orçamentária!A:A,0),2)","v":"Placa de Concreto Pré-Moldado 15 Mpa"},null,{"$f":"TRIM(INDEX(Orçamentária!C:C,MATCH(Composições!A3636,Orçamentária!A:A,0),1))","v":"m3"},null,"","",null,null,0]
[null,null,null,null,null,"","",null,null,0]
[null,null,"CHAPA DE MADEIRA COMPENSADA RESINADA PARA FORMA DE CONCRETO, DE *2,2 X 1,1* M, E = 17 MM","M2",2.9790000000000001,28.062999999999999,83.599677,{"$f":"SUM(G3638:G3650)","v":2560.0906671699249},null,0]
[null,null,"DESMOLDANTE PROTETOR PARA FORMAS DE MADEIRA, DE BASE OLEOSA EMULSIONADA EM AGUA","L",0.12,4.8925000000000001,0.58709999999999996,null,null,0]
[null,null,"PREGO DE ACO POLIDO COM CABECA 15 X 15 (1 1/4 X 13)","KG",0.64449999999999996,12.520999999999999,8.069784499999999,null,null,0]
[null,null,"AJUDANTE DE CARPINTEIRO COM ENCARGOS COMPLEMENTARES","H",1.8137000000000001,18.173499999999997,32.961276949999998,null,null,0]
[null,null,"CARPINTEIRO DE ESQUADRIA COM ENCARGOS COMPLEMENTARES","H",9.0685000000000002,21.612500000000001,195.99295625000002,null,null,0]
[null,null,"PEDREIRO COM ENCARGOS COMPLEMENTARES","H",32.192999999999998,21.716999999999999,699.13538099999994,null,null,0]
[null,null,"SERVENTE COM ENCARGOS COMPLEMENTARES","H",32.192999999999998,16.026499999999999,515.94111449999991,null,null,0]
[null,null,"VIBRADOR DE IMERSÃO, DIÂMETRO DE PONTEIRA 45MM, MOTOR ELÉTRICO TRIFÁSICO POTÊNCIA DE 2 CV - CHP DIURNO. AF_06/2015","CHP",6.6319999999999997,1.2444999999999999,8.2535239999999988,null,null,0]
[null,null,"VIBRADOR DE IMERSÃO, DIÂMETRO DE PONTEIRA 45MM, MOTOR ELÉTRICO TRIFÁSICO POTÊNCIA DE 2 CV - CHI DIURNO. AF_06/2015","CHI",18.246200000000002,0.32300000000000001,5.8935226000000007,null,null,0]
[null,null,"SERRA CIRCULAR DE BANCADA COM MOTOR ELÉTRICO POTÊNCIA DE 5HP, COM COIFA PARA DISCO 10\" - CHP DIURNO. AF_08/2015","CHP",0.77359999999999995,18.904999999999998,14.624907999999998,null,null,0]
[null,null,"SERRA CIRCULAR DE BANCADA COM MOTOR ELÉTRICO POTÊNCIA DE 5HP, COM COIFA PARA DISCO 10\" - CHI DIURNO. AF_08/2015","CHI",1.0401,17.081,17.765948099999999,null,null,0]
[null,null,"ARMAÇÃO DE LAJE DE UMA ESTRUTURA CONVENCIONAL DE CONCRETO ARMADO EM UMA EDIFICAÇÃO TÉRREA OU SOBRADO UTILIZANDO AÇO CA-60 DE 4,2 MM - MONTAGEM. AF_12/2015","KG",42.646299999999997,13.133082149999998,560.07736129354487,null,null,0]
[null,null,"CONCRETO FCK = 15MPA, TRAÇO 1:3,4:3,5 (CIMENTO/ AREIA MÉDIA/ BRITA 1)  - PREPARO MECÂNICO COM BETONEIRA 600 L. AF_07/2016","M3",1.2,347.65676081364995,417.18811297637995,null,null,0]
[null,null,null,null,null,"","",null,null,0]
["SF-01066",{"$f":"INDEX(Orçamentária!A:B,MATCH(Composições!A3652,Orçamentária!A:A,0),2)","v":"Eletroduto PEAD 3”"},null,{"$f":"TRIM(INDEX(Orçamentária!C:C,MATCH(Composições!A3652,Orçamentária!A:A,0),1))","v":"m"},null,"","",null,null,0]
[null,null,null,null,null,"","",null,null,0]
[null,null,"ELETRODUTO/DUTO PEAD FLEXIVEL PAREDE SIMPLES, CORRUGACAO HELICOIDAL, COR PRETA, SEM ROSCA, DE 3\",  PARA CABEAMENTO SUBTERRANEO (NBR 15715)","M",1.1000000000000001,6.9539999999999997,7.6494,{"$f":"SUM(G3654:G3656)","v":15.285461999999999},null,0]
[null,null,"AUXILIAR DE ELETRICISTA COM ENCARGOS COMPLEMENTARES","H",0.19600000000000001,17.042999999999999,3.3404280000000002,null,null,0]
[null,null,"ELETRICISTA COM ENCARGOS COMPLEMENTARES","H",0.19600000000000001,21.916499999999999,4.2956339999999997,null,null,0]
[null,null,null,null,null,"","",null,null,0]
["SF-01068",{"$f":"INDEX(Orçamentária!A:B,MATCH(Composições!A3658,Orçamentária!A:A,0),2)","v":"Eletroduto de aço galvanizado de 3”"},null,{"$f":"TRIM(INDEX(Orçamentária!C:C,MATCH(Composições!A3658,Orçamentária!A:A,0),1))","v":"m"},null,"","",null,null,0]
[null,null,null,null,null,"","",null,null,0]
[null,null,"Eletroduto de aço com costura galvanização eletrolítica Ø 3\"","m",1.05,0,0,{"$f":"SUM(G3660:G3662)","v":38.959499999999998},null,0]
[null,null,"AUXILIAR DE ELETRICISTA COM ENCARGOS COMPLEMENTARES","H",1,17.042999999999999,17.042999999999999,null,null,0]
[null,null,"ELETRICISTA COM ENCARGOS COMPLEMENTARES","H",1,21.916499999999999,21.916499999999999,null,null,0]
[null,null,null,null,null,"","",null,null,0]
["SF-01069",{"$f":"INDEX(Orçamentária!A:B,MATCH(Composições!A3664,Orçamentária!A:A,0),2)","v":"Grelha reta para ralo"},null,{"$f":"TRIM(INDEX(Orçamentária!C:C,MATCH(Composições!A3664,Orçamentária!A:A,0),1))","v":"m"},null,"","",null,null,0]
[null,null,null,null,null,"",{"$f":"IF(ISNUMBER(F3665),E3665*F3665,\"\")","v":""},null,null,0]
[null,null,"Grelha em ferro fundido com caixilho de apoio espessura 15 mm, largura 200 mm","m",1,0,0,{"$f":"SUM(G3666:G3668)","v":25.288145},null,0]
[null,null,"PEDREIRO COM ENCARGOS COMPLEMENTARES","H",0.67,21.716999999999999,14.55039,null,null,0]
[null,null,"SERVENTE COM ENCARGOS COMPLEMENTARES","H",0.67,16.026499999999999,10.737755,null,null,0]
[null,null,null,null,null,"","",null,null,0]
["SF-01070",{"$f":"INDEX(Orçamentária!A:B,MATCH(Composições!A3670,Orçamentária!A:A,0),2)","v":"Granito Vermelho Brasília para soleira e peitoril"},null,{"$f":"TRIM(INDEX(Orçamentária!C:C,MATCH(Composições!A3670,Orçamentária!A:A,0),1))","v":"m2"},null,"","",null,null,0]
[null,null,null,null,null,"","",null,null,0]
[null,null,"Granito Vermelho Brasília, com 20 mm de espessura e 150 mm de altura, para soleira e peitoril","m",{"$f":"ROUND(1/0.15,4)","v":6.6666999999999996},"","",{"$f":"SUM(G3672:G3675)","v":105.87949595000001},null,0]
[null,null,"Argamassa colante tipo AC III","kg",{"$f":"1.29/0.15","v":8.6000000000000014},1.254,10.784400000000002,null,null,0]
[null,null,"Marmorista/graniteiro com encargos complementares","h",{"$f":"ROUND(0.547/0.15,4)","v":3.6467000000000001},18.078500000000002,65.926865950000007,null,null,0]
[null,null,"Servente com Encargos Complementares","h",{"$f":"0.273/0.15","v":1.8200000000000003},16.026499999999999,29.168230000000001,null,null,0]
[null,null,null,null,null,"","",null,null,0]
["SF-01071",{"$f":"INDEX(Orçamentária!A:B,MATCH(Composições!A3677,Orçamentária!A:A,0),2)","v":"Luminária LED redonda de embutir"},null,{"$f":"TRIM(INDEX(Orçamentária!C:C,MATCH(Composições!A3677,Orçamentária!A:A,0),1))","v":"un"},null,"","",null,null,0]
[null,null,null,null,null,"","",null,null,0]
[null,null,"Luminária redonda de embutir, LED, potência 19 W, temperatura de cor 3000 K, fluxo luminoso 1770 lm. Ref: OSRAM - LEDVANCE DOWNLIGHT XL WT 830","un ",1,"","",{"$f":"SUM(G3679:G3684)","v":45.519913150000001},null,0]
[null,null,"Cabo PP 3x2,5mm2 300/500 V, extraflexível (classe 5), com condutor de proteção, com isolação, enchimento e cobertura de PVC","m",1.5,7.41,11.115,null,null,0]
[null,null,"Plugue (macho) com 3 polos (2P+T), para 10A","un ",1,7.2,7.2,null,null,0]
[null,null,"Plugue (fêmea) com 3 polos (2P+T), para 10A","un ",1,16.899999999999999,16.899999999999999,null,null,0]
[null,null,"Auxiliar de eletricista com encargos complementares","h",0.14799999999999999,17.042999999999999,2.5223639999999996,null,null,0]
[null,null,"Eletricista com encargos complementares","h",0.35510000000000003,21.916499999999999,7.7825491500000004,null,null,0]
[null,null,null,null,null,"","",null,null,0]
["SF-01072",{"$f":"INDEX(Orçamentária!A:B,MATCH(Composições!A3686,Orçamentária!A:A,0),2)","v":"Piso tátil de borracha"},null,{"$f":"TRIM(INDEX(Orçamentária!C:C,MATCH(Composições!A3686,Orçamentária!A:A,0),1))","v":"m2"},null,"","",null,null,0]
[null,null,null,null,null,"","",null,null,0]
[null,null,"ADESIVO ACRILICO/COLA DE CONTATO","KG",9.5000000000000001E-2,23.797499999999999,2.2607624999999998,{"$f":"SUM(G3688:G3691)","v":22.223406999999998},null,0]
[null,null,"PISO TATIL ALERTA OU DIRECIONAL, DE BORRACHA, COLORIDO, 25 X 25 CM, E = 5 MM, PARA COLA","M2",{"$f":"1*0.25*0.25","v":6.25E-2},195.37699999999998,12.211062499999999,null,null,0]
[null,null,"PEDREIRO COM ENCARGOS COMPLEMENTARES","H",0.26100000000000001,21.716999999999999,5.6681369999999998,null,null,0]
[null,null,"SERVENTE COM ENCARGOS COMPLEMENTARES","H",0.13,16.026499999999999,2.0834449999999998,null,null,0]
[null,null,null,null,null,"","",null,null,0]
["SF-01073",{"$f":"INDEX(Orçamentária!A:B,MATCH(Composições!A3693,Orçamentária!A:A,0),2)","v":"Granito Vermelho Brasília 20 mm para divisória"},null,{"$f":"TRIM(INDEX(Orçamentária!C:C,MATCH(Composições!A3693,Orçamentária!A:A,0),1))","v":"m2"},null,"","",null,null,0]
[null,null,null,null,null,"","",null,null,0]
[null,null,"Cimento branco","kg",0.7,2.6599999999999997,1.8619999999999997,{"$f":"SUM(G3695:G3699)","v":127.00293051684075},null,0]
[null,null,"Granito Vermelho Brasília ou equivalente, com 30 mm de espessura, polido em todas as faces aparentes, para divisórias","m2",1,"","",null,null,0]
[null,null,"Marmorista/graniteiro com encargos complementares","h",4.8,18.078500000000002,86.776800000000009,null,null,0]
[null,null,"Servente com Encargos Complementares","h",2.2999999999999998,16.026499999999999,36.860949999999995,null,null,0]
[null,null,"ARGAMASSA TRAÇO 1:4 (EM VOLUME DE CIMENTO E AREIA MÉDIA ÚMIDA), PREPARO MANUAL. AF_08/2019","m3",3.3E-3,455.50924752750001,1.5031805168407499,null,null,0]
[null,null,null,null,null,"","",null,null,0]
["SF-01074",{"$f":"INDEX(Orçamentária!A:B,MATCH(Composições!A3701,Orçamentária!A:A,0),2)","v":"Tampa em ferro fundido 20x20 cm"},null,{"$f":"TRIM(INDEX(Orçamentária!C:C,MATCH(Composições!A3701,Orçamentária!A:A,0),1))","v":"un"},null,"","",null,null,0]
[null,null,null,null,null,"","",null,null,0]
[null,null,"TAMPAO FOFO ARTICULADO P/ REGISTRO, CLASSE A15 CARGA MAX 1,5 T, *200 X 200* MM","UN",1,61.274999999999999,61.274999999999999,{"$f":"SUM(G3703:G3706)","v":128.15548740264899},null,0]
[null,null,"ARGAMASSA TRAÇO 1:4 (EM VOLUME DE CIMENTO E AREIA GROSSA ÚMIDA) PARA CHAPISCO CONVENCIONAL, PREPARO MECÂNICO COM BETONEIRA 400 L. AF_08/2019","M3",7.0000000000000001E-3,388.07677180699994,2.7165374026489997,null,null,0]
[null,null,"Pedreiro com Encargos Complementares","h",1.7,21.716999999999999,36.918899999999994,null,null,0]
[null,null,"Servente com Encargos Complementares","h",1.7,16.026499999999999,27.245049999999996,null,null,0]
[null,null,null,null,null,"","",null,null,0]
["SF-01076",{"$f":"INDEX(Orçamentária!A:B,MATCH(Composições!A3708,Orçamentária!A:A,0),2)","v":"Cerâmica para revestimento de superfícies internas ou externas – Linha GAIL"},null,{"$f":"TRIM(INDEX(Orçamentária!C:C,MATCH(Composições!A3708,Orçamentária!A:A,0),1))","v":"m2"},null,"","",null,null,0]
[null,null,null,null,null,"","",null,null,0]
[null,null,"Cerâmica GAIL (Referência 1009 Placa Cerâmica Linha Gressit da Marca Gail, tamanho 240 mm x 116 mm, espessura 9 mm)","m2",1.08,"","",{"$f":"SUM(G3710:G3714)","v":25.251949999999997},null,0]
[null,null,"Argamassa colante AC II","kg",6.14,0.76,4.6663999999999994,null,null,0]
[null,null,"Rejunte cimenticio, qualquer cor","kg",0.22,2.3939999999999997,0.52667999999999993,null,null,0]
[null,null,"Azulejista ou ladrilhista com encargos complementares","h",0.66,21.650499999999997,14.28933,null,null,0]
[null,null,"Servente com Encargos Complementares","h",0.36,16.026499999999999,5.7695399999999992,null,null,0]
[null,null,null,null,null,"","",null,null,0]
["SF-01077",{"$f":"INDEX(Orçamentária!A:B,MATCH(Composições!A3716,Orçamentária!A:A,0),2)","v":"Aterro de vala com areia média e compactação mecanizada"},null,{"$f":"TRIM(INDEX(Orçamentária!C:C,MATCH(Composições!A3716,Orçamentária!A:A,0),1))","v":"m3"},null,"","",null,null,0]
[null,null,null,null,null,"","",null,null,0]
[null,null,"AREIA PARA ATERRO - POSTO JAZIDA/FORNECEDOR (RETIRADO NA JAZIDA, SEM TRANSPORTE)","M3",1.25,89.024499999999989,111.28062499999999,{"$f":"SUM(G3718:G3725)","v":178.2290713125},null,0]
[null,null,"CAMINHÃO PIPA 10.000 L TRUCADO, PESO BRUTO TOTAL 23.000 KG, CARGA ÚTIL MÁXIMA 15.935 KG, DISTÂNCIA ENTRE EIXOS 4,8 M, POTÊNCIA 230 CV, INCLUSIVE TANQUE DE AÇO PARA TRANSPORTE DE ÁGUA - CHP DIURNO. AF_06/2014","CHP",6.0000000000000001E-3,159.20099999999999,0.955206,null,null,0]
[null,null,"CAMINHÃO PIPA 10.000 L TRUCADO, PESO BRUTO TOTAL 23.000 KG, CARGA ÚTIL MÁXIMA 15.935 KG, DISTÂNCIA ENTRE EIXOS 4,8 M, POTÊNCIA 230 CV, INCLUSIVE TANQUE DE AÇO PARA TRANSPORTE DE ÁGUA - CHI DIURNO. AF_06/2014","CHI",3.0000000000000001E-3,33.420999999999999,0.100263,null,null,0]
[null,null,"SERVENTE COM ENCARGOS COMPLEMENTARES","H",0.65900000000000003,16.026499999999999,10.5614635,null,null,0]
[null,null,"COMPACTADOR DE SOLOS DE PERCUSSÃO (SOQUETE) COM MOTOR A GASOLINA 4 TEMPOS, POTÊNCIA 4 CV - CHP DIURNO. AF_08/2015","CHP",0.27400000000000002,23.256,6.3721440000000005,null,null,0]
[null,null,"COMPACTADOR DE SOLOS DE PERCUSSÃO (SOQUETE) COM MOTOR A GASOLINA 4 TEMPOS, POTÊNCIA 4 CV - CHI DIURNO. AF_08/2015","CHI",0.254,18.05,4.5847000000000007,null,null,0]
[null,null,"CARGA, MANOBRA E DESCARGA DE SOLOS E MATERIAIS GRANULARES EM CAMINHÃO BASCULANTE 6 M³ - CARGA COM PÁ CARREGADEIRA (CAÇAMBA DE 1,7 A 2,8 M³ / 128 HP) E DESCARGA LIVRE (UNIDADE: M3). AF_07/2020","m3",{"$f":"1*E3718","v":1.25},4.7457088499999998,5.9321360624999997,null,null,0]
[null,null,"TRANSPORTE COM CAMINHÃO BASCULANTE DE 6 M3, EM VIA URBANA PAVIMENTADA, DMT ATÉ 30 KM (UNIDADE: M3xKM). AF_01/2018","M3xKM",{"$f":"E3718*20","v":25},1.5377013499999996,38.442533749999988,null,null,0]
[null,null,null,null,null,"","",null,null,0]
[null,null,"Obs.: Considerando fornecedor de areia a 20 km do Senado Federal.",null,null,"","",null,null,0]
[null,null,null,null,null,"","",null,null,0]
["SF-01078",{"$f":"INDEX(Orçamentária!A:B,MATCH(Composições!A3729,Orçamentária!A:A,0),2)","v":"Guarda-corpo panorâmico"},null,{"$f":"TRIM(INDEX(Orçamentária!C:C,MATCH(Composições!A3729,Orçamentária!A:A,0),1))","v":"m"},null,"",{"$f":"IF(ISNUMBER(F3729),E3729*F3729,\"\")","v":""},null,null,0]
[null,null,null,null,null,"","",null,null,0]
[null,null,"CHAPA DE ACO GROSSA, ASTM A36, E = 3/8 \" (9,53 MM) 74,69 KG/M2","KG",1.4,5.51,7.7139999999999995,{"$f":"SUM(G3731:G3740)","v":766.24578450000001},null,0]
[null,null,"ELETRODO REVESTIDO AWS - E6013, DIAMETRO IGUAL A 2,50 MM","KG",3.0000000000000001E-3,16.187999999999999,4.8563999999999996E-2,null,null,0]
[null,null,"PARAFUSO DE ACO TIPO CHUMBADOR PARABOLT, DIAMETRO 3/8\", COMPRIMENTO 75 MM","UN",3.3330000000000002,1.8334999999999999,6.1110555,null,null,0]
[null,null,"PARAFUSO DE FERRO POLIDO, SEXTAVADO, COM ROSCA INTEIRA, DIAMETRO 5/16\", COMPRIMENTO 3/4\", COM PORCA E ARRUELA LISA LEVE","UN",5,0.34199999999999997,1.71,null,null,0]
[null,null,"PERFIL DE BORRACHA EPDM MACICO *12 X 15* MM PARA ESQUADRIAS","M",3.149,9.5,29.915500000000002,null,null,0]
[null,null,"PERFIL DE ALUMINIO ANODIZADO","KG",3.4089999999999998,28.813499999999998,98.225221499999989,null,null,0]
[null,null,"VIDRO COMUM LAMINADO LISO INCOLOR DUPLO, ESPESSURA TOTAL 8 MM (CADA CAMADA DE 4 MM) - COLOCADO","M2",0.998,488.91749999999996,487.93966499999993,null,null,0]
[null,null,"SILICONE ACETICO USO GERAL INCOLOR 280 G","UN",0.85499999999999998,16.131,13.792005,null,null,0]
[null,null,"AUXILIAR DE SERRALHEIRO COM ENCARGOS COMPLEMENTARES","H",2.754,17.546499999999998,48.323060999999996,null,null,0]
[null,null,"SERRALHEIRO COM ENCARGOS COMPLEMENTARES","H",3.3530000000000002,21.612500000000001,72.4667125,null,null,0]
[null,null,null,null,null,"","",null,null,0]
["SF-01080",{"$f":"INDEX(Orçamentária!A:B,MATCH(Composições!A3742,Orçamentária!A:A,0),2)","v":"Perfil “U” em aço 25 x 25mm"},null,{"$f":"TRIM(INDEX(Orçamentária!C:C,MATCH(Composições!A3742,Orçamentária!A:A,0),1))","v":"m"},null,"","",null,null,0]
[null,null,null,null,null,"","",null,null,0]
[null,null,"Vidraceiro com encargos complementares","h",{"$f":"1/10","v":0.1},20.177999999999997,2.0177999999999998,{"$f":"SUM(G3744:G3745)","v":2.0177999999999998},null,0]
[null,null,"Perfil \"U\" em aço galvanizado 25mm x 25mm, espessura 1,5mm (#16)","m",1.05,"","",null,null,0]
[null,null,null,null,null,"","",null,null,0]
["SF-01082",{"$f":"INDEX(Orçamentária!A:B,MATCH(Composições!A3747,Orçamentária!A:A,0),2)","v":"Alimentação para mão-de-obra indireta"},null,{"$f":"TRIM(INDEX(Orçamentária!C:C,MATCH(Composições!A3747,Orçamentária!A:A,0),1))","v":"h"},null,"","",null,null,0]
[null,null,null,null,null,"","",null,null,0]
[null,null,"ALIMENTACAO - HORISTA (COLETADO CAIXA)","h",1,2.4414999999999996,2.4414999999999996,{"$f":"SUM(G3749:G3749)","v":2.4414999999999996},null,0]
[null,null,null,null,null,"","",null,null,0]
["SF-01083",{"$f":"INDEX(Orçamentária!A:B,MATCH(Composições!A3751,Orçamentária!A:A,0),2)","v":"Transporte para mão-de-obra indireta"},null,{"$f":"TRIM(INDEX(Orçamentária!C:C,MATCH(Composições!A3751,Orçamentária!A:A,0),1))","v":"h"},null,"","",null,null,0]
[null,null,null,null,null,"","",null,null,0]
[null,null,"TRANSPORTE - HORISTA (COLETADO CAIXA)","H",1.05,1.292,1.3566,{"$f":"SUM(G3753:G3753)","v":1.3566},null,0]
[null,null,null,null,null,"","",null,null,0]
["SF-01088",{"$f":"INDEX(Orçamentária!A:B,MATCH(Composições!A3755,Orçamentária!A:A,0),2)","v":"Cotovelo bolsa–bolsa 90° para solda em tubulação de cobre diâmetro de 1 3/8\""},null,{"$f":"TRIM(INDEX(Orçamentária!C:C,MATCH(Composições!A3755,Orçamentária!A:A,0),1))","v":"un"},null,"","",null,null,0]
[null,null,null,null,null,"","",null,null,0]
[null,null,"COTOVELO DE COBRE 90 GRAUS (REF 607) SEM ANEL DE SOLDA, BOLSA X BOLSA, 35 MM","UN",1,26.153500000000001,26.153500000000001,{"$f":"SUM(G3757:G3762)","v":33.334650700000005},null,0]
[null,null,"SOLDA ESTANHO/COBRE PARA CONEXOES DE COBRE, FIO 2,5 MM, CARRETEL 500 GR (SEM CHUMBO)","UN",8.3999999999999995E-3,193.20149999999998,1.6228925999999997,null,null,0]
[null,null,"LIXA D'AGUA EM FOLHA, GRAO 100","UN",5.9400000000000001E-2,1.6244999999999998,9.6495299999999992E-2,null,null,0]
[null,null,"PASTA PARA SOLDA DE TUBOS E CONEXOES DE COBRE (EMBALAGEM COM 250 G)","UN",1.0800000000000001E-2,35.415999999999997,0.38249279999999997,null,null,0]
[null,null,"AUXILIAR DE ENCANADOR OU BOMBEIRO HIDRÁULICO COM ENCARGOS COMPLEMENTARES","H",0.13400000000000001,16.596499999999999,2.2239309999999999,null,null,0]
[null,null,"ENCANADOR OU BOMBEIRO HIDRÁULICO COM ENCARGOS COMPLEMENTARES","H",0.13400000000000001,21.308499999999999,2.8553389999999998,null,null,0]
[null,null,null,null,null,"","",null,null,0]
["SF-01089",{"$f":"INDEX(Orçamentária!A:B,MATCH(Composições!A3764,Orçamentária!A:A,0),2)","v":"Cotovelo bolsa–bolsa 90° para solda em tubulação de cobre diâmetro de 1 5/8\""},null,{"$f":"TRIM(INDEX(Orçamentária!C:C,MATCH(Composições!A3764,Orçamentária!A:A,0),1))","v":"un"},null,"","",null,null,0]
[null,null,null,null,null,"","",null,null,0]
[null,null,"COTOVELO DE COBRE 90 GRAUS (REF 607) SEM ANEL DE SOLDA, BOLSA X BOLSA, 42 MM","UN",1,40.137499999999996,40.137499999999996,{"$f":"SUM(G3766:G3771)","v":50.336725649999991},null,0]
[null,null,"SOLDA ESTANHO/COBRE PARA CONEXOES DE COBRE, FIO 2,5 MM, CARRETEL 500 GR (SEM CHUMBO)","UN",1.7600000000000001E-2,193.20149999999998,3.4003464000000001,null,null,0]
[null,null,"LIXA D'AGUA EM FOLHA, GRAO 100","UN",6.93E-2,1.6244999999999998,0.11257784999999999,null,null,0]
[null,null,"PASTA PARA SOLDA DE TUBOS E CONEXOES DE COBRE (EMBALAGEM COM 250 G)","UN",2.29E-2,35.415999999999997,0.81102639999999993,null,null,0]
[null,null,"AUXILIAR DE ENCANADOR OU BOMBEIRO HIDRÁULICO COM ENCARGOS COMPLEMENTARES","H",0.155,16.596499999999999,2.5724574999999996,null,null,0]
[null,null,"ENCANADOR OU BOMBEIRO HIDRÁULICO COM ENCARGOS COMPLEMENTARES","H",0.155,21.308499999999999,3.3028174999999997,null,null,0]
[null,null,null,null,null,"","",null,null,0]
["SF-01090",{"$f":"INDEX(Orçamentária!A:B,MATCH(Composições!A3773,Orçamentária!A:A,0),2)","v":"Cotovelo bolsa–bolsa 90° para solda em tubulação de cobre diâmetro de 7/8\""},null,{"$f":"TRIM(INDEX(Orçamentária!C:C,MATCH(Composições!A3773,Orçamentária!A:A,0),1))","v":"un"},null,"","",null,null,0]
[null,null,null,null,null,"","",null,null,0]
[null,null,"COTOVELO DE COBRE 90 GRAUS (REF 607) SEM ANEL DE SOLDA, BOLSA X BOLSA, 22 MM","UN",1,7.7424999999999997,7.7424999999999997,{"$f":"SUM(G3775:G3780)","v":12.602046399999999},null,0]
[null,null,"SOLDA ESTANHO/COBRE PARA CONEXOES DE COBRE, FIO 2,5 MM, CARRETEL 500 GR (SEM CHUMBO)","UN",4.7999999999999996E-3,193.20149999999998,0.92736719999999984,null,null,0]
[null,null,"LIXA D'AGUA EM FOLHA, GRAO 100","UN",4.3200000000000002E-2,1.6244999999999998,7.0178400000000002E-2,null,null,0]
[null,null,"PASTA PARA SOLDA DE TUBOS E CONEXOES DE COBRE (EMBALAGEM COM 250 G)","UN",6.3E-3,35.415999999999997,0.22312079999999998,null,null,0]
[null,null,"AUXILIAR DE ENCANADOR OU BOMBEIRO HIDRÁULICO COM ENCARGOS COMPLEMENTARES","H",9.6000000000000002E-2,16.596499999999999,1.593264,null,null,0]
[null,null,"ENCANADOR OU BOMBEIRO HIDRÁULICO COM ENCARGOS COMPLEMENTARES","H",9.6000000000000002E-2,21.308499999999999,2.0456159999999999,null,null,0]
[null,null,null,null,null,"","",null,null,0]
["SF-01092",{"$f":"INDEX(Orçamentária!A:B,MATCH(Composições!A3782,Orçamentária!A:A,0),2)","v":"Luva bolsa–bolsa para solda em tubulação de cobre diâmetro de 1 3/8\""},null,{"$f":"TRIM(INDEX(Orçamentária!C:C,MATCH(Composições!A3782,Orçamentária!A:A,0),1))","v":"un"},null,"","",null,null,0]
[null,null,null,null,null,"","",null,null,0]
[null,null,"LUVA DE COBRE (REF 600) SEM ANEL DE SOLDA, BOLSA X BOLSA, 35 MM","UN",1,16.245000000000001,16.245000000000001,{"$f":"SUM(G3784:G3789)","v":21.720425700000003},null,0]
[null,null,"SOLDA ESTANHO/COBRE PARA CONEXOES DE COBRE, FIO 2,5 MM, CARRETEL 500 GR (SEM CHUMBO)","UN",8.3999999999999995E-3,193.20149999999998,1.6228925999999997,null,null,0]
[null,null,"LIXA D'AGUA EM FOLHA, GRAO 100","UN",5.9400000000000001E-2,1.6244999999999998,9.6495299999999992E-2,null,null,0]
[null,null,"PASTA PARA SOLDA DE TUBOS E CONEXOES DE COBRE (EMBALAGEM COM 250 G)","UN",1.0800000000000001E-2,35.415999999999997,0.38249279999999997,null,null,0]
[null,null,"AUXILIAR DE ENCANADOR OU BOMBEIRO HIDRÁULICO COM ENCARGOS COMPLEMENTARES","H",8.8999999999999996E-2,16.596499999999999,1.4770884999999998,null,null,0]
[null,null,"ENCANADOR OU BOMBEIRO HIDRÁULICO COM ENCARGOS COMPLEMENTARES","H",8.8999999999999996E-2,21.308499999999999,1.8964564999999998,null,null,0]
[null,null,null,null,null,"","",null,null,0]
["SF-01093",{"$f":"INDEX(Orçamentária!A:B,MATCH(Composições!A3791,Orçamentária!A:A,0),2)","v":"Luva bolsa–bolsa para solda em tubulação de cobre diâmetro de 1 5/8\""},null,{"$f":"TRIM(INDEX(Orçamentária!C:C,MATCH(Composições!A3791,Orçamentária!A:A,0),1))","v":"un"},null,"","",null,null,0]
[null,null,null,null,null,"","",null,null,0]
[null,null,"LUVA DE COBRE (REF 600) SEM ANEL DE SOLDA, BOLSA X BOLSA, 42 MM","UN",1,20.605499999999999,{"$f":"IF(ISNUMBER(F3793),E3793*F3793,\"\")","v":20.605499999999999},{"$f":"SUM(G3793:G3798)","v":28.833665649999997},null,0]
[null,null,"SOLDA ESTANHO/COBRE PARA CONEXOES DE COBRE, FIO 2,5 MM, CARRETEL 500 GR (SEM CHUMBO)","UN",1.7600000000000001E-2,193.20149999999998,3.4003464000000001,null,null,0]
[null,null,"LIXA D'AGUA EM FOLHA, GRAO 100","UN",6.93E-2,1.6244999999999998,0.11257784999999999,null,null,0]
[null,null,"PASTA PARA SOLDA DE TUBOS E CONEXOES DE COBRE (EMBALAGEM COM 250 G)","UN",2.29E-2,35.415999999999997,0.81102639999999993,null,null,0]
[null,null,"AUXILIAR DE ENCANADOR OU BOMBEIRO HIDRÁULICO COM ENCARGOS COMPLEMENTARES","H",0.10299999999999999,16.596499999999999,1.7094394999999998,null,null,0]
[null,null,"ENCANADOR OU BOMBEIRO HIDRÁULICO COM ENCARGOS COMPLEMENTARES","H",0.10299999999999999,21.308499999999999,2.1947754999999995,null,null,0]
[null,null,null,null,null,"","",null,null,0]
["SF-01094",{"$f":"INDEX(Orçamentária!A:B,MATCH(Composições!A3800,Orçamentária!A:A,0),2)","v":"Luva bolsa–bolsa para solda em tubulação de cobre diâmetro de 7/8\""},null,{"$f":"TRIM(INDEX(Orçamentária!C:C,MATCH(Composições!A3800,Orçamentária!A:A,0),1))","v":"un"},null,"","",null,null,0]
[null,null,null,null,null,"","",null,null,0]
[null,null,"LUVA DE COBRE (REF 600) SEM ANEL DE SOLDA, BOLSA X BOLSA, 22 MM","UN",1,3.6669999999999998,3.6669999999999998,{"$f":"SUM(G3802:G3807)","v":7.3135863999999993},null,0]
[null,null,"SOLDA ESTANHO/COBRE PARA CONEXOES DE COBRE, FIO 2,5 MM, CARRETEL 500 GR (SEM CHUMBO)","UN",4.7999999999999996E-3,193.20149999999998,0.92736719999999984,null,null,0]
[null,null,"LIXA D'AGUA EM FOLHA, GRAO 100","UN",4.3200000000000002E-2,1.6244999999999998,7.0178400000000002E-2,null,null,0]
[null,null,"PASTA PARA SOLDA DE TUBOS E CONEXOES DE COBRE (EMBALAGEM COM 250 G)","UN",6.3E-3,35.415999999999997,0.22312079999999998,null,null,0]
[null,null,"AUXILIAR DE ENCANADOR OU BOMBEIRO HIDRÁULICO COM ENCARGOS COMPLEMENTARES","H",6.4000000000000001E-2,16.596499999999999,1.062176,null,null,0]
[null,null,"ENCANADOR OU BOMBEIRO HIDRÁULICO COM ENCARGOS COMPLEMENTARES","H",6.4000000000000001E-2,21.308499999999999,1.3637439999999998,null,null,0]
[null,null,null,null,null,"","",null,null,0]
["SF-01097",{"$f":"INDEX(Orçamentária!A:B,MATCH(Composições!A3809,Orçamentária!A:A,0),2)","v":"Tubo de cobre rígido 1 3/8\""},null,{"$f":"TRIM(INDEX(Orçamentária!C:C,MATCH(Composições!A3809,Orçamentária!A:A,0),1))","v":"m"},null,"","",null,null,0]
[null,null,null,null,null,"","",null,null,0]
[null,null,"TUBO DE COBRE CLASSE \"A\", DN = 1 1/4 \" (35 MM), PARA INSTALACOES DE MEDIA PRESSAO PARA GASES COMBUSTIVEIS E MEDICINAIS","M",1.0210999999999999,98.353499999999997,100.42875884999998,{"$f":"SUM(G3811:G3813)","v":102.93048884999999},null,0]
[null,null,"AUXILIAR DE ENCANADOR OU BOMBEIRO HIDRÁULICO COM ENCARGOS COMPLEMENTARES","H",6.6000000000000003E-2,16.596499999999999,1.095369,null,null,0]
[null,null,"ENCANADOR OU BOMBEIRO HIDRÁULICO COM ENCARGOS COMPLEMENTARES","H",6.6000000000000003E-2,21.308499999999999,1.406361,null,null,0]
[null,null,null,null,null,"","",null,null,0]
["SF-01098",{"$f":"INDEX(Orçamentária!A:B,MATCH(Composições!A3815,Orçamentária!A:A,0),2)","v":"Tubo de cobre rígido 1 5/8\""},null,{"$f":"TRIM(INDEX(Orçamentária!C:C,MATCH(Composições!A3815,Orçamentária!A:A,0),1))","v":"m"},null,"","",null,null,0]
[null,null,null,null,null,"","",null,null,0]
[null,null,"TUBO DE COBRE CLASSE \"A\", DN = 1 1/2 \" (42 MM), PARA INSTALACOES DE MEDIA PRESSAO PARA GASES COMBUSTIVEIS E MEDICINAIS","M",1.0210999999999999,118.33199999999999,120.82880519999998,{"$f":"SUM(G3817:G3819)","v":123.70958519999998},null,0]
[null,null,"AUXILIAR DE ENCANADOR OU BOMBEIRO HIDRÁULICO COM ENCARGOS COMPLEMENTARES","H",7.5999999999999998E-2,16.596499999999999,1.261334,null,null,0]
[null,null,"ENCANADOR OU BOMBEIRO HIDRÁULICO COM ENCARGOS COMPLEMENTARES","H",7.5999999999999998E-2,21.308499999999999,1.6194459999999999,null,null,0]
[null,null,null,null,null,"","",null,null,0]
["SF-01101",{"$f":"INDEX(Orçamentária!A:B,MATCH(Composições!A3821,Orçamentária!A:A,0),2)","v":"Eletroduto flexível metálico com capa de PVC 1 1/2\""},null,{"$f":"TRIM(INDEX(Orçamentária!C:C,MATCH(Composições!A3821,Orçamentária!A:A,0),1))","v":"m"},null,"","",null,null,0]
[null,null,null,null,null,"","",null,null,0]
[null,null,"ELETRODUTO FLEXIVEL, EM ACO GALVANIZADO, REVESTIDO EXTERNAMENTE COM PVC PRETO, DIAMETRO EXTERNO DE 50 MM( 1 1/2\"), TIPO SEALTUBO","M",1.1000000000000001,21.7455,23.920050000000003,{"$f":"SUM(G3823:G3826)","v":29.054290800000004},null,0]
[null,null,"ARAME RECOZIDO 16 BWG, D = 1,65 MM (0,016 KG/M) OU 18 BWG, D = 1,25 MM (0,01 KG/M)","KG",2.3E-3,13.281000000000001,3.0546300000000002E-2,null,null,0]
[null,null,"AUXILIAR DE ELETRICISTA COM ENCARGOS COMPLEMENTARES","H",0.13100000000000001,17.042999999999999,2.2326329999999999,null,null,0]
[null,null,"ELETRICISTA COM ENCARGOS COMPLEMENTARES","H",0.13100000000000001,21.916499999999999,2.8710615000000002,null,null,0]
[null,null,null,null,null,"","",null,null,0]
["SF-01102",{"$f":"INDEX(Orçamentária!A:B,MATCH(Composições!A3828,Orçamentária!A:A,0),2)","v":"Técnico(a) em Edificações - Planejamento de Manutenção"},null,{"$f":"TRIM(INDEX(Orçamentária!C:C,MATCH(Composições!A3828,Orçamentária!A:A,0),1))","v":"Profissional"},null,"","",null,null,0]
[null,null,null,null,null,"","",null,null,0]
[null,null,"TECNICO DE EDIFICACOES COM ENCARGOS COMPLEMENTARES","h",{"$f":"ROUND(1/(1+72.54%),2)","v":0.57999999999999996},2933.7804999999998,1701.5926899999997,{"$f":"SUM(G3830:G3830)","v":1701.5926899999997},null,0]
[null,null,null,null,null,"","",null,null,0]
[null,null,"Obs: considerando 220h/mês e encargos sociais indicados na tabela do SINAPI.",null,null,"","",null,null,0]
[null,null,null,null,null,"","",null,null,0]
["SF-01104",{"$f":"INDEX(Orçamentária!A:B,MATCH(Composições!A3834,Orçamentária!A:A,0),2)","v":"Projeto de Impermeabilização"},null,{"$f":"TRIM(INDEX(Orçamentária!C:C,MATCH(Composições!A3834,Orçamentária!A:A,0),1))","v":"m2"},null,"","",null,null,0]
[null,null,null,null,null,"","",null,null,0]
[null,null,"ENGENHEIRO CIVIL PLENO COM ENCARGOS COMPLEMENTARES","h",{"$f":"ROUND(1/10,4)","v":0.1},94.572499999999991,9.4572500000000002,{"$f":"SUM(G3836:G3836)","v":9.4572500000000002},null,0]
[null,null,null,null,null,"","",null,null,0]
["SF-01105",{"$f":"INDEX(Orçamentária!A:B,MATCH(Composições!A3838,Orçamentária!A:A,0),2)","v":"Laminado decorativo de alta pressão (LDAP)"},null,{"$f":"TRIM(INDEX(Orçamentária!C:C,MATCH(Composições!A3838,Orçamentária!A:A,0),1))","v":"m2"},null,"","",null,null,0]
[null,null,null,null,null,"","",null,null,0]
[null,null,"Servente com Encargos Complementares","h",0.18,16.026499999999999,2.8847699999999996,{"$f":"SUM(G3840:G3843)","v":33.510869999999997},null,0]
[null,null,"TAQUEADOR OU TAQUEIRO COM ENCARGOS COMPLEMENTARES","h",0.18,25.2225,4.5400499999999999,null,null,0]
[null,null,"Cola a base de resina sintetica para chapa de laminado melaminico","kg",0.9,28.984500000000001,26.08605,null,null,0]
[null,null,"Laminado melamínico texturizado esp. 1,3 mm","m2",1.05,0,0,null,null,0]
[null,null,null,null,null,"","",null,null,0]
["SF-01106",{"$f":"INDEX(Orçamentária!A:B,MATCH(Composições!A3845,Orçamentária!A:A,0),2)","v":"Granito Preto Absoluto para revestimento de superfícies internas e externas - Linha Administrativa"},null,{"$f":"TRIM(INDEX(Orçamentária!C:C,MATCH(Composições!A3845,Orçamentária!A:A,0),1))","v":"m2"},null,"","",null,null,0]
[null,null,null,null,null,"","",null,null,0]
[null,null,"Argamassa colante tipo AC III","kg",8.6199999999999992,1.254,10.809479999999999,{"$f":"SUM(G3847:G3851)","v":42.141638999999998},null,0]
[null,null,"Marmorista/graniteiro com encargos complementares","h",1.1879999999999999,18.078500000000002,21.477258000000003,null,null,0]
[null,null,"Servente com Encargos Complementares","h",0.59399999999999997,16.026499999999999,9.519740999999998,null,null,0]
[null,null,"Rejunte cimenticio, qualquer cor","kg",0.14000000000000001,2.3939999999999997,0.33516000000000001,null,null,0]
[null,null,"Granito Preto Absoluto, com 20 mm de espessura","m2",1.1599999999999999,"","",null,null,0]
[null,null,null,null,null,"","",null,null,0]
["SF-01107",{"$f":"INDEX(Orçamentária!A:B,MATCH(Composições!A3853,Orçamentária!A:A,0),2)","v":"Granito Arabesco para revestimento de superfícies internas e externas - Linha Administrativa"},null,{"$f":"TRIM(INDEX(Orçamentária!C:C,MATCH(Composições!A3853,Orçamentária!A:A,0),1))","v":"m2"},null,"","",null,null,0]
[null,null,null,null,null,"","",null,null,0]
[null,null,"Argamassa colante tipo AC III","kg",8.6199999999999992,1.254,10.809479999999999,{"$f":"SUM(G3855:G3859)","v":42.141638999999998},null,0]
[null,null,"Marmorista/graniteiro com encargos complementares","h",1.1879999999999999,18.078500000000002,21.477258000000003,null,null,0]
[null,null,"Servente com Encargos Complementares","h",0.59399999999999997,16.026499999999999,{"$f":"IF(ISNUMBER(F3857),E3857*F3857,\"\")","v":9.519740999999998},null,null,0]
[null,null,"Rejunte cimenticio, qualquer cor","kg",0.14000000000000001,2.3939999999999997,0.33516000000000001,null,null,0]
[null,null,"Granito Arabesco, com 20 mm de espessura","m2",1.1599999999999999,"","",null,null,0]
[null,null,null,null,null,"","",null,null,0]
["SF-01108",{"$f":"INDEX(Orçamentária!A:B,MATCH(Composições!A3861,Orçamentária!A:A,0),2)","v":"Porcelanato para revestimento de superfícies internas e externas - Linha Residencial"},null,{"$f":"TRIM(INDEX(Orçamentária!C:C,MATCH(Composições!A3861,Orçamentária!A:A,0),1))","v":"m2"},null,"","",null,null,250]
[null,null,null,null,null,"","",null,null,250]
[null,null,"PISO EM PORCELANATO RETIFICADO EXTRA, FORMATO MENOR OU IGUAL A 2025 CM2","M2",1.07,46.198500000000003,49.432395000000007,{"$f":"SUM(G3863:G3867)","v":78.029865000000001},null,250]
[null,null,"Rejunte cimenticio, qualquer cor","KG",0.24,2.3939999999999997,0.57455999999999985,null,null,250]
[null,null,"Argamassa colante tipo AC III","KG",8.6199999999999992,1.254,10.809479999999999,null,null,250]
[null,null,"AZULEJISTA OU LADRILHISTA COM ENCARGOS COMPLEMENTARES","H",0.61,21.650499999999997,13.206804999999997,null,null,250]
[null,null,"SERVENTE COM ENCARGOS COMPLEMENTARES","H",0.25,16.026499999999999,4.0066249999999997,null,null,250]
[null,null,null,null,null,"","",null,null,250]
["SF-01109",{"$f":"INDEX(Orçamentária!A:B,MATCH(Composições!A3869,Orçamentária!A:A,0),2)","v":"Granitina para revestimento de pisos"},null,{"$f":"TRIM(INDEX(Orçamentária!C:C,MATCH(Composições!A3869,Orçamentária!A:A,0),1))","v":"m2"},null,"","",null,null,0]
[null,null,null,null,null,"","",null,null,0]
[null,null,"JUNTA PLASTICA DE DILATACAO PARA PISOS, COR CINZA, 17 X 3 MM (ALTURA X ESPESSURA)","M",1.67,0.95,1.5864999999999998,{"$f":"SUM(G3871:G3877)","v":33.529678943073705},null,0]
[null,null,"GRANILHA/ GRANA/ PEDRISCO OU AGREGADO EM MARMORE/ GRANITO/ QUARTZO E CALCARIO, PRETO, CINZA, PALHA OU BRANCO","KG",23.24,0.27549999999999997,6.4026199999999989,null,null,0]
[null,null,"ARGAMASSA TRAÇO 1:3 (EM VOLUME DE CIMENTO E AREIA MÉDIA ÚMIDA) PARA CONTRAPISO, PREPARO MECÂNICO COM BETONEIRA 400 L. AF_08/2019","M3",1.66E-2,525.69617126949993,8.726556443073699,null,null,0]
[null,null,"PEDREIRO COM ENCARGOS COMPLEMENTARES","H",0.55100000000000005,21.716999999999999,11.966067000000001,null,null,0]
[null,null,"SERVENTE COM ENCARGOS COMPLEMENTARES","H",0.27500000000000002,16.026499999999999,4.4072874999999998,null,null,0]
[null,null,"POLIDORA DE PISO (POLITRIZ), PESO DE 100KG, DIÂMETRO 450 MM, MOTOR ELÉTRICO, POTÊNCIA 4 HP - CHP DIURNO. AF_09/2016","CHP",0.123,2.1280000000000001,0.26174400000000003,null,null,0]
[null,null,"POLIDORA DE PISO (POLITRIZ), PESO DE 100KG, DIÂMETRO 450 MM, MOTOR ELÉTRICO, POTÊNCIA 4 HP - CHI DIURNO. AF_09/2016","CHI",0.42799999999999999,0.41799999999999998,0.17890399999999998,null,null,0]
[null,null,null,null,null,"","",null,null,0]
["SF-01110",{"$f":"INDEX(Orçamentária!A:B,MATCH(Composições!A3879,Orçamentária!A:A,0),2)","v":"Piso vinílico flexível em manta"},null,{"$f":"TRIM(INDEX(Orçamentária!C:C,MATCH(Composições!A3879,Orçamentária!A:A,0),1))","v":"m2"},null,"","",null,null,0]
[null,null,null,null,null,"","",null,null,0]
[null,null,"Piso vinílico em manta esp. 2 mm","m2",1.05,"","",{"$f":"SUM(G3881:G3884)","v":13.990649999999999},null,0]
[null,null,"ADESIVO ACRILICO/COLA DE CONTATO","kg",0.35,23.797499999999999,8.3291249999999994,null,null,0]
[null,null,"Pedreiro com Encargos Complementares","h",0.15,21.716999999999999,3.2575499999999997,null,null,0]
[null,null,"Servente com Encargos Complementares","h",0.15,16.026499999999999,2.4039749999999995,null,null,0]
[null,null,null,null,null,"","",null,null,0]
["SF-01111",{"$f":"INDEX(Orçamentária!A:B,MATCH(Composições!A3886,Orçamentária!A:A,0),2)","v":"Tratamento de juntas de dilatação ou movimentação"},null,{"$f":"TRIM(INDEX(Orçamentária!C:C,MATCH(Composições!A3886,Orçamentária!A:A,0),1))","v":"m"},null,"","",null,null,0]
[null,null,null,null,null,"","",null,null,0]
[null,null,"Pedreiro com Encargos Complementares","h",0.35,21.716999999999999,7.6009499999999992,{"$f":"SUM(G3888:G3892)","v":47.012364999999996},null,0]
[null,null,"Servente com Encargos Complementares","h",0.35,16.026499999999999,5.6092749999999993,null,null,0]
[null,null,"SELANTE MONOCOMPONENTE A BASE DE SILICONE DE BAIXO MODULO, PARA JUNTAS DE PAVIMENTACAO","L",0.2,110.922,22.1844,null,null,0]
[null,null,"Corpo de apoio em polietileno para aplicação de mástiques em juntas","m",1,0,0,null,null,0]
[null,null,"ADESIVO ESTRUTURAL A BASE DE RESINA EPOXI, BICOMPONENTE, PASTOSO (TIXOTROPICO)","kg",{"$f":"1.8*1*(0.01+0.01)*10","v":0.36000000000000004},32.271499999999996,11.61774,null,null,0]
[null,null,null,null,null,null,null,null,null,0]
[null,null,"Obs 1: Considerando consumo do adesivo estrutural 1,8 kg / m² / mm.",null,null,null,null,null,null,0]
[null,null,"Obs 2: Considerando consumo do selante 100 ml / cm de espessura.",null,null,null,null,null,null,0]
[null,null,null,null,null,"",{"$f":"IF(ISNUMBER(F3896),E3896*F3896,\"\")","v":""},null,null,0]
["SF-01112",{"$f":"INDEX(Orçamentária!A:B,MATCH(Composições!A3897,Orçamentária!A:A,0),2)","v":"Recuperação superficial de preparação para pintura epóxi de alto desempenho"},null,{"$f":"TRIM(INDEX(Orçamentária!C:C,MATCH(Composições!A3897,Orçamentária!A:A,0),1))","v":"m2"},null,"","",null,null,0]
[null,null,null,null,null,"","",null,null,0]
[null,null,"Pedreiro com Encargos Complementares","h",0.3,21.716999999999999,6.5150999999999994,{"$f":"SUM(G3899:G3904)","v":15.329674999999998},null,0]
[null,null,"Servente com Encargos Complementares","h",{"$f":"0.3+0.25","v":0.55000000000000004},16.026499999999999,8.8145749999999996,null,null,0]
[null,null,"Massa rápida para recuperação","kg",5,"","",null,null,0]
[null,null,"Argamassa para recuperação","kg",0.5,"","",null,null,0]
[null,null,"Primer à base de resina acrílica","kg",0.1,"","",null,null,0]
[null,null,"Lixa grana 100 para superfície metálica","UN",0.5,0,0,null,null,0]
[null,null,null,null,null,"","",null,null,0]
[null,null,"Fonte: Pini 20.105.000010.SER e Pini 20.105.000015.SER",null,null,"","",null,null,0]
[null,null,null,null,null,"","",null,null,0]
["SF-01113",{"$f":"INDEX(Orçamentária!A:B,MATCH(Composições!A3908,Orçamentária!A:A,0),2)","v":"Lixamento, calafetação e aplicação de sinteco em piso de madeira - Linha Residencial"},null,{"$f":"TRIM(INDEX(Orçamentária!C:C,MATCH(Composições!A3908,Orçamentária!A:A,0),1))","v":"m2"},null,"","",null,null,500]
[null,null,null,null,null,"","",null,null,500]
[null,null,"Raspagem, calafetagem, aplicação de synteko alto brilho em piso de madeira","m2",1,42.75,42.75,{"$f":"SUM(G3910:G3910)","v":42.75},null,500]
[null,null,null,null,null,"","",null,null,500]
["SF-01114",{"$f":"INDEX(Orçamentária!A:B,MATCH(Composições!A3912,Orçamentária!A:A,0),2)","v":"Piso em taco de madeira - Linha Residencial"},null,{"$f":"TRIM(INDEX(Orçamentária!C:C,MATCH(Composições!A3912,Orçamentária!A:A,0),1))","v":"m2"},null,"","",null,null,200]
[null,null,null,null,null,"","",null,null,200]
[null,null,"TACO DE MADEIRA PARA PISO, IPE (CERNE) OU EQUIVALENTE DA REGIAO, 7 X 42 CM, E = 2 CM","M2",1.05,100.624,105.65519999999999,{"$f":"SUM(G3914:G3917)","v":133.42109509999997},null,200]
[null,null,"COLA BRANCA BASE PVA","L",0.57499999999999996,16.34,9.3954999999999984,null,null,200]
[null,null,"SERVENTE COM ENCARGOS COMPLEMENTARES","H",0.2399,16.026499999999999,3.8447573499999996,null,null,200]
[null,null,"TAQUEADOR OU TAQUEIRO COM ENCARGOS COMPLEMENTARES","H",0.57589999999999997,25.2225,14.52563775,null,null,200]
[null,null,null,null,null,"","",null,null,200]
["SF-01115",{"$f":"INDEX(Orçamentária!A:B,MATCH(Composições!A3919,Orçamentária!A:A,0),2)","v":"Piso de borracha antiderrapante tipo moeda"},null,{"$f":"TRIM(INDEX(Orçamentária!C:C,MATCH(Composições!A3919,Orçamentária!A:A,0),1))","v":"m2"},null,"","",null,null,0]
[null,null,null,null,null,"","",null,null,0]
[null,null,"ADESIVO ACRILICO/COLA DE CONTATO","KG",0.56369999999999998,23.797499999999999,13.41465075,{"$f":"SUM(G3921:G3924)","v":78.966551699999997},null,0]
[null,null,"PISO DE BORRACHA PASTILHADO EM PLACAS 50 X 50 CM, E = *3,5* MM, PARA COLA, PRETO","M2",1.06,48.887,51.820220000000006,null,null,0]
[null,null,"PEDREIRO COM ENCARGOS COMPLEMENTARES","H",0.48359999999999997,21.716999999999999,10.502341199999998,null,null,0]
[null,null,"SERVENTE COM ENCARGOS COMPLEMENTARES","H",0.20150000000000001,16.026499999999999,3.2293397499999998,null,null,0]
[null,null,null,null,null,"","",null,null,0]
["SF-01116",{"$f":"INDEX(Orçamentária!A:B,MATCH(Composições!A3926,Orçamentária!A:A,0),2)","v":"Piso sintético flutuante - Linha Residencial"},null,{"$f":"TRIM(INDEX(Orçamentária!C:C,MATCH(Composições!A3926,Orçamentária!A:A,0),1))","v":"m2"},null,"","",null,null,400]
[null,null,null,null,null,"","",null,null,400]
[null,null,"Piso sintético flutuante, laminado de alta resistência, superfície em overlay, substrato HDF-H, painel de fibras de madeira de alta densidade, e = 7 cm","M2",1.05,52.33,54.9465,{"$f":"SUM(G3928:G3930)","v":68.959203775000006},null,400]
[null,null,"SERVENTE COM ENCARGOS COMPLEMENTARES","H",0.2399,16.026499999999999,3.8447573499999996,null,null,400]
[null,null,"TAQUEADOR OU TAQUEIRO COM ENCARGOS COMPLEMENTARES","H",{"$f":"0.5759*0.7","v":0.40312999999999993},25.2225,10.167946424999998,null,null,400]
[null,null,null,null,null,"","",null,null,400]
["SF-01117",{"$f":"INDEX(Orçamentária!A:B,MATCH(Composições!A3932,Orçamentária!A:A,0),2)","v":"Revestimento acústico perfilado - Linha Administrativa"},null,{"$f":"TRIM(INDEX(Orçamentária!C:C,MATCH(Composições!A3932,Orçamentária!A:A,0),1))","v":"m2"},null,"","",null,null,0]
[null,null,null,null,null,"","",null,null,0]
[null,null,"Placa acústica perfilada, semi-rígida, de estrutura micro-celular, com dimensões de 625x625x25 mm, na cor natural (cinza claro)","m2",1.05,"","",{"$f":"SUM(G3934:G3936)","v":7.8289500000000007},null,0]
[null,null,"TAQUEADOR OU TAQUEIRO COM ENCARGOS COMPLEMENTARES","H",0.15,25.2225,3.7833749999999999,null,null,0]
[null,null,"ADESIVO ACRILICO/COLA DE CONTATO","kg",0.17,23.797499999999999,4.0455750000000004,null,null,0]
[null,null,null,null,null,"","",null,null,0]
["SF-01118",{"$f":"INDEX(Orçamentária!A:B,MATCH(Composições!A3938,Orçamentária!A:A,0),2)","v":"Revestimento acústico plano - Linha Administrativa"},null,{"$f":"TRIM(INDEX(Orçamentária!C:C,MATCH(Composições!A3938,Orçamentária!A:A,0),1))","v":"m2"},null,"","",null,null,0]
[null,null,null,null,null,"","",null,null,0]
[null,null,"Placa acústica plana, semi-rígida, de estrutura micro-celular, com dimensões de 625x625x25 mm, na cor natural (cinza claro)","m2",1.05,"","",{"$f":"SUM(G3940:G3942)","v":7.8289500000000007},null,0]
[null,null,"TAQUEADOR OU TAQUEIRO COM ENCARGOS COMPLEMENTARES","H",0.15,25.2225,3.7833749999999999,null,null,0]
[null,null,"ADESIVO ACRILICO/COLA DE CONTATO","kg",0.17,23.797499999999999,4.0455750000000004,null,null,0]
[null,null,null,null,null,"","",null,null,0]
["SF-01119",{"$f":"INDEX(Orçamentária!A:B,MATCH(Composições!A3944,Orçamentária!A:A,0),2)","v":"Forro monolítico de gesso em placas"},null,{"$f":"TRIM(INDEX(Orçamentária!C:C,MATCH(Composições!A3944,Orçamentária!A:A,0),1))","v":"m2"},null,"","",null,null,0]
[null,null,null,null,null,"","",null,null,0]
[null,null,"ARAME GALVANIZADO 18 BWG, D = 1,24MM (0,009 KG/M)","KG",2.5000000000000001E-2,18.943000000000001,0.47357500000000008,{"$f":"SUM(G3946:G3952)","v":38.995668400000007},null,0]
[null,null,"GESSO EM PO PARA REVESTIMENTOS/MOLDURAS/SANCAS","KG",0.99639999999999995,0.57950000000000002,0.57741379999999998,null,null,0]
[null,null,"PLACA DE GESSO PARA FORRO, DE  *60 X 60* CM E ESPESSURA DE 12 MM (30 MM NAS BORDAS) SEM COLOCACAO","M2",1.0293000000000001,13.195499999999999,13.582128150000001,null,null,0]
[null,null,"SISAL EM FIBRA","KG",7.7999999999999996E-3,11.875,9.2624999999999999E-2,null,null,0]
[null,null,"PARAFUSO ZINCADO, AUTOBROCANTE, FLANGEADO, 4,2 MM X 19 MM","CENTO",3.0800000000000001E-2,20.985499999999998,0.64635339999999997,null,null,0]
[null,null,"GESSEIRO COM ENCARGOS COMPLEMENTARES","H",0.7974,21.612500000000001,17.233807500000001,null,null,0]
[null,null,"SERVENTE COM ENCARGOS COMPLEMENTARES","H",0.3987,16.026499999999999,6.389765549999999,null,null,0]
[null,null,null,null,null,"","",null,null,0]
["SF-01120",{"$f":"INDEX(Orçamentária!A:B,MATCH(Composições!A3954,Orçamentária!A:A,0),2)","v":"Textura acrílica - Linha Administrativa"},null,{"$f":"TRIM(INDEX(Orçamentária!C:C,MATCH(Composições!A3954,Orçamentária!A:A,0),1))","v":"m2"},null,"","",null,null,0]
[null,null,null,null,null,"","",null,null,0]
[null,null,"MASSA PARA TEXTURA LISA DE BASE ACRILICA, USO INTERNO E EXTERNO","KG",1.1399999999999999,6.1084999999999994,6.9636899999999988,{"$f":"SUM(G3956:G3958)","v":12.348774499999999},null,0]
[null,null,"PINTOR COM ENCARGOS COMPLEMENTARES","H",0.188,22.762,4.2792560000000002,null,null,0]
[null,null,"SERVENTE COM ENCARGOS COMPLEMENTARES","H",6.9000000000000006E-2,16.026499999999999,1.1058285000000001,null,null,0]
[null,null,null,null,null,"","",null,null,0]
["SF-01121",{"$f":"INDEX(Orçamentária!A:B,MATCH(Composições!A3960,Orçamentária!A:A,0),2)","v":"Pintura com tinta látex acrílica Premium - cores especiais (sistema tintométrico)"},null,{"$f":"TRIM(INDEX(Orçamentária!C:C,MATCH(Composições!A3960,Orçamentária!A:A,0),1))","v":"m2"},null,"",{"$f":"IF(ISNUMBER(F3960),E3960*F3960,\"\")","v":""},null,null,0]
[null,null,null,null,null,"","",null,null,0]
[null,null,"TINTA ACRILICA PREMIUM, COR BRANCO FOSCO","L",{"$f":"ROUND(0.33*1.15,4)","v":0.3795},19.835999999999999,7.5277619999999992,{"$f":"SUM(G3962:G3964)","v":12.890084499999999},null,0]
[null,null,"PINTOR COM ENCARGOS COMPLEMENTARES","H",0.187,22.762,4.256494,null,null,0]
[null,null,"SERVENTE COM ENCARGOS COMPLEMENTARES","H",6.9000000000000006E-2,16.026499999999999,1.1058285000000001,null,null,0]
[null,null,null,null,null,"","",null,null,0]
[null,null,"Obs.: Acréscimo de 15% no coeficiente da tinta para suprir a diferença de preço da tinta branca para as tintas de cores especiais.",null,null,"","",null,null,0]
[null,null,null,null,null,"","",null,null,0]
["SF-01123",{"$f":"INDEX(Orçamentária!A:B,MATCH(Composições!A3968,Orçamentária!A:A,0),2)","v":"Pintura com tinta acrílica (pisos)"},null,{"$f":"TRIM(INDEX(Orçamentária!C:C,MATCH(Composições!A3968,Orçamentária!A:A,0),1))","v":"m2"},null,"","",null,null,0]
[null,null,null,null,null,"","",null,null,0]
[null,null,"TINTA ACRILICA PREMIUM PARA PISO","L",0.17,13.233499999999999,2.249695,{"$f":"SUM(G3970:G3972)","v":14.223019999999998},null,0]
[null,null,"PINTOR COM ENCARGOS COMPLEMENTARES","H",0.35,22.762,7.9666999999999994,null,null,0]
[null,null,"SERVENTE COM ENCARGOS COMPLEMENTARES","H",0.25,16.026499999999999,4.0066249999999997,null,null,0]
[null,null,null,null,null,"","",null,null,0]
["SF-01124",{"$f":"INDEX(Orçamentária!A:B,MATCH(Composições!A3974,Orçamentária!A:A,0),2)","v":"Pintura com tinta epóxi de alto desempenho (pisos)"},null,{"$f":"TRIM(INDEX(Orçamentária!C:C,MATCH(Composições!A3974,Orçamentária!A:A,0),1))","v":"m2"},null,"","",null,null,0]
[null,null,null,null,null,"","",null,null,0]
[null,null,"TINTA EPOXI PREMIUM, BRANCA","L",0.52559999999999996,61.635999999999996,32.395881599999996,{"$f":"SUM(G3976:G3979)","v":57.241672399999992},null,0]
[null,null,"PEDREIRO COM ENCARGOS COMPLEMENTARES","H",0.5,21.716999999999999,10.858499999999999,null,null,0]
[null,null,"SERVENTE COM ENCARGOS COMPLEMENTARES","H",0.5,16.026499999999999,8.0132499999999993,null,null,0]
[null,null,"PRIMER EPOXI","GL",3.9199999999999999E-2,152.39899999999997,5.9740407999999992,null,null,0]
[null,null,null,null,null,"","",null,null,0]
["SF-01125",{"$f":"INDEX(Orçamentária!A:B,MATCH(Composições!A3981,Orçamentária!A:A,0),2)","v":"Verniz de poliuretano sobre pintura epóxi de alto desempenho"},null,{"$f":"TRIM(INDEX(Orçamentária!C:C,MATCH(Composições!A3981,Orçamentária!A:A,0),1))","v":"m2"},null,"","",null,null,0]
[null,null,null,null,null,"","",null,null,0]
[null,null,"LIXA EM FOLHA PARA PAREDE OU MADEIRA, NUMERO 120 (COR VERMELHA)","UN",0.4,0.64600000000000002,0.25840000000000002,{"$f":"SUM(G3983:G3987)","v":18.675404},null,0]
[null,null,"SOLVENTE DILUENTE A BASE DE AGUARRAS","L",3.3000000000000002E-2,10.773,0.35550900000000002,null,null,0]
[null,null,"VERNIZ POLIURETANO BRILHANTE PARA MADEIRA, COM FILTRO SOLAR, USO INTERNO E EXTERNO","L",0.22,27.673499999999997,6.088169999999999,null,null,0]
[null,null,"PINTOR COM ENCARGOS COMPLEMENTARES","H",0.35,22.762,7.9666999999999994,null,null,0]
[null,null,"SERVENTE COM ENCARGOS COMPLEMENTARES","H",0.25,16.026499999999999,4.0066249999999997,null,null,0]
[null,null,null,null,null,"","",null,null,0]
["SF-01126",{"$f":"INDEX(Orçamentária!A:B,MATCH(Composições!A3989,Orçamentária!A:A,0),2)","v":"Tratamento antiderrapante em verniz de poliuretano sobre pintura epóxi"},null,{"$f":"TRIM(INDEX(Orçamentária!C:C,MATCH(Composições!A3989,Orçamentária!A:A,0),1))","v":"m2"},null,"","",null,null,0]
[null,null,null,null,null,"","",null,null,0]
[null,null,"Carga inerte para tratamento antiderrapante em piso (ref.: Sikadur 512 ou 515)","KG",2,"","",{"$f":"SUM(G3991:G3992)","v":1.1058285000000001},null,0]
[null,null,"SERVENTE COM ENCARGOS COMPLEMENTARES","H",6.9000000000000006E-2,16.026499999999999,1.1058285000000001,null,null,0]
[null,null,null,null,null,"","",null,null,0]
["SF-01127",{"$f":"INDEX(Orçamentária!A:B,MATCH(Composições!A3994,Orçamentária!A:A,0),2)","v":"Pintura para superfícies galvanizadas"},null,{"$f":"TRIM(INDEX(Orçamentária!C:C,MATCH(Composições!A3994,Orçamentária!A:A,0),1))","v":"m2"},null,"","",null,null,0]
[null,null,null,null,null,"","",null,null,0]
[null,null,"SOLVENTE DILUENTE A BASE DE AGUARRAS","L",6.1899999999999997E-2,10.773,0.66684869999999996,{"$f":"SUM(G3996:G4002)","v":25.449731449999991},null,0]
[null,null,"PRIMER UNIVERSAL, FUNDO ANTICORROSIVO TIPO ZARCAO","18L",1.15E-2,432.71549999999996,4.9762282499999992,null,null,0]
[null,null,"PINTOR COM ENCARGOS COMPLEMENTARES","H",0.52659999999999996,22.762,11.986469199999998,null,null,0]
[null,null,"COMPRESSOR DE AR, VAZAO DE 10 PCM, RESERVATORIO 100 L, PRESSAO DE TRABALHO ENTRE 6,9 E 9,7 BAR  POTENCIA 2 HP, TENSAO 110/220 V \u0096 CHI DIURNO. AF_05/2017","CHI",0.37319999999999998,0.13300000000000001,4.9635600000000002E-2,null,null,0]
[null,null,"COMPRESSOR DE AR, VAZAO DE 10 PCM, RESERVATORIO 100 L, PRESSAO DE TRABALHO ENTRE 6,9 E 9,7 BAR, POTENCIA 2 HP, TENSAO 110/220 V - CHP DIURNO. AF_05/2017","CHP",0.15340000000000001,0.99749999999999994,0.1530165,null,null,0]
[null,null,"LIXA EM FOLHA PARA FERRO, NUMERO 150","UN",0.3,2.7359999999999998,0.82079999999999986,null,null,0]
[null,null,"PINTOR COM ENCARGOS COMPLEMENTARES","H",0.29859999999999998,22.762,6.7967331999999994,null,null,0]
[null,null,null,null,null,"","",null,null,0]
["SF-01128",{"$f":"INDEX(Orçamentária!A:B,MATCH(Composições!A4004,Orçamentária!A:A,0),2)","v":"Selagem ou resselagem de juntas em pavimentação de concreto armado"},null,{"$f":"TRIM(INDEX(Orçamentária!C:C,MATCH(Composições!A4004,Orçamentária!A:A,0),1))","v":"m"},null,"","",null,null,0]
[null,null,null,null,null,"","",null,null,0]
[null,null,"SERVENTE COM ENCARGOS COMPLEMENTARES","h",{"$f":"ROUND(4/74.7,4)","v":5.3499999999999999E-2},16.026499999999999,0.85741774999999987,{"$f":"SUM(G4006:G4011)","v":6.9686793999999992},null,0]
[null,null,"Compressor de ar portátil de 71 PCM - 15 kW","CHP",{"$f":"ROUND(1/74.7,4)","v":1.34E-2},0,0,null,null,0]
[null,null,"Serra para corte de concreto e asfalto - 10 kW","CHP",{"$f":"ROUND(1/74.7,4)","v":1.34E-2},0,0,null,null,0]
[null,null,"Cordão de polietileno expandido","m",1,0,0,null,null,0]
[null,null,"Disco diamantado - D = 350 mm","UN",3.3E-3,0,0,null,null,0]
[null,null,"SELANTE A BASE DE ALCATRAO E POLIURETANO PARA JUNTAS HORIZONTAIS","kg",0.1181,51.746499999999997,6.1112616499999994,null,null,0]
[null,null,null,null,null,"","",null,null,0]
["SF-01129",{"$f":"INDEX(Orçamentária!A:B,MATCH(Composições!A4013,Orçamentária!A:A,0),2)","v":"Pavimentação em elementos intertravados de concreto"},null,{"$f":"TRIM(INDEX(Orçamentária!C:C,MATCH(Composições!A4013,Orçamentária!A:A,0),1))","v":"m2"},null,"","",null,null,0]
[null,null,null,null,null,"","",null,null,0]
[null,null,"AREIA MEDIA - POSTO JAZIDA/FORNECEDOR (RETIRADO NA JAZIDA, SEM TRANSPORTE)","M3",5.6800000000000003E-2,93.8125,5.3285499999999999,{"$f":"SUM(G4015:G4025)","v":48.65071109534},null,0]
[null,null,"PO DE PEDRA (POSTO PEDREIRA/FORNECEDOR, SEM FRETE)","M3",3.5999999999999999E-3,72.551500000000004,0.26118540000000001,null,null,0]
[null,null,"BLOQUETE/PISO DE CONCRETO - MODELO BLOCO PISOGRAMA/CONCREGRAMA 2 FUROS, DIMENSOES APROX. DE 35 CM X 15 CM E ESPESSURA DE 7 CM (+/- 1 CM), COR NATURAL","M2",1.0042,37.078499999999998,37.2342297,null,null,0]
[null,null,"CALCETEIRO COM ENCARGOS COMPLEMENTARES","H",9.7000000000000003E-2,20.405999999999999,1.979382,null,null,0]
[null,null,"SERVENTE COM ENCARGOS COMPLEMENTARES","H",9.7000000000000003E-2,16.026499999999999,1.5545704999999999,null,null,0]
[null,null,"PLACA VIBRATÓRIA REVERSÍVEL COM MOTOR 4 TEMPOS A GASOLINA, FORÇA CENTRÍFUGA DE 25 KN (2500 KGF), POTÊNCIA 5,5 CV - CHP DIURNO. AF_08/2015","CHP",4.1000000000000003E-3,7.0774999999999997,2.9017750000000002E-2,null,null,0]
[null,null,"PLACA VIBRATÓRIA REVERSÍVEL COM MOTOR 4 TEMPOS A GASOLINA, FORÇA CENTRÍFUGA DE 25 KN (2500 KGF), POTÊNCIA 5,5 CV - CHI DIURNO. AF_08/2015","CHI",4.4400000000000002E-2,0.71249999999999991,3.1634999999999996E-2,null,null,0]
[null,null,"CORTADORA DE PISO COM MOTOR 4 TEMPOS A GASOLINA, POTÊNCIA DE 13 HP, COM DISCO DE CORTE DIAMANTADO SEGMENTADO PARA CONCRETO, DIÂMETRO DE 350 MM, FURO DE 1\" (14 X 1\") - CHP DIURNO. AF_08/2015","CHP",3.7000000000000002E-3,14.914999999999999,5.5185499999999998E-2,null,null,0]
[null,null,"CORTADORA DE PISO COM MOTOR 4 TEMPOS A GASOLINA, POTÊNCIA DE 13 HP, COM DISCO DE CORTE DIAMANTADO SEGMENTADO PARA CONCRETO, DIÂMETRO DE 350 MM, FURO DE 1\" (14 X 1\") - CHI DIURNO. AF_08/2015","CHI",4.48E-2,0.73149999999999993,3.2771199999999993E-2,null,null,0]
[null,null,"CARGA, MANOBRA E DESCARGA DE SOLOS E MATERIAIS GRANULARES EM CAMINHÃO BASCULANTE 6 M³ - CARGA COM PÁ CARREGADEIRA (CAÇAMBA DE 1,7 A 2,8 M³ / 128 HP) E DESCARGA LIVRE (UNIDADE: M3). AF_07/2020","m3",{"$f":"1*(E4015+E4016)","v":6.0400000000000002E-2},4.7457088499999998,{"$f":"IF(ISNUMBER(F4024),E4024*F4024,\"\")","v":0.28664081454000001},null,null,0]
[null,null,"TRANSPORTE COM CAMINHÃO BASCULANTE DE 6 M3, EM VIA URBANA PAVIMENTADA, DMT ATÉ 30 KM (UNIDADE: M3xKM). AF_01/2018","M3xKM",{"$f":"20*(E4015+E4016)","v":1.208},1.5377013499999996,1.8575432307999995,null,null,0]
[null,null,null,null,null,"","",null,null,0]
[null,null,"Obs: considerando fornecedor de areia e brita a 20 km do Senado Federal",null,null,"","",null,null,0]
[null,null,null,null,null,"","",null,null,0]
["SF-01130",{"$f":"INDEX(Orçamentária!A:B,MATCH(Composições!A4029,Orçamentária!A:A,0),2)","v":"Pavimentação com Asfalto Pré-Misturado a Frio (PMF)"},null,{"$f":"TRIM(INDEX(Orçamentária!C:C,MATCH(Composições!A4029,Orçamentária!A:A,0),1))","v":"m3"},null,"","",null,null,0]
[null,null,null,null,null,"","",null,null,0]
[null,null,"SERVENTE COM ENCARGOS COMPLEMENTARES","H",0.4,16.026499999999999,6.4105999999999996,{"$f":"SUM(G4031:G4052)","v":572.53117042400004},null,0]
[null,null,"ROLO COMPACTADOR DE PNEUS, ESTATICO, PRESSAO VARIAVEL, POTENCIA 110 HP, PESO SEM/COM LASTRO 10,8/27 T, LARGURA DE ROLAGEM 2,30 M - CHI DIURNO. AF_06/2017","CHI",6.0000000000000001E-3,45.675999999999995,0.27405599999999997,null,null,0]
[null,null,"ROLO COMPACTADOR DE PNEUS, ESTATICO, PRESSAO VARIAVEL, POTENCIA 110 HP, PESO SEM/COM LASTRO 10,8/27 T, LARGURA DE ROLAGEM 2,30 M - CHP DIURNO. AF_06/2017","CHP",1.0699999999999999E-2,111.40649999999999,1.1920495499999999,null,null,0]
[null,null,"ROLO COMPACTADOR VIBRATORIO TANDEM, ACO LISO, POTENCIA 125 HP, PESO SEM/COM LASTRO 10,20/11,65 T, LARGURA DE TRABALHO 1,73 M - CHP DIURNO. AF_11/2016","CHP",6.1999999999999998E-3,119.1395,0.73866489999999996,null,null,0]
[null,null,"ROLO COMPACTADOR VIBRATORIO TANDEM, ACO LISO, POTENCIA 125 HP, PESO SEM/COM LASTRO 10,20/11,65 T, LARGURA DE TRABALHO 1,73 M - CHI DIURNO. AF_11/2016","CHI",1.0500000000000001E-2,42.863999999999997,0.45007199999999997,null,null,0]
[null,null,"TRATOR DE PNEUS, POTÊNCIA 85 CV, TRAÇÃO 4X4, PESO COM LASTRO DE 4.675 KG - CHI DIURNO. AF_06/2014","CHI",1.2200000000000001E-2,25.4315,0.31026429999999999,null,null,0]
[null,null,"TRATOR DE PNEUS, POTÊNCIA 85 CV, TRAÇÃO 4X4, PESO COM LASTRO DE 4.675 KG - CHP DIURNO. AF_06/2014","CHP",4.4999999999999997E-3,97.85,0.44032499999999997,null,null,0]
[null,null,"VASSOURA MECÂNICA REBOCÁVEL COM ESCOVA CILÍNDRICA, LARGURA ÚTIL DE VARRIMENTO DE 2,44 M - CHI DIURNO. AF_06/2014","CHI",1.2200000000000001E-2,2.1849999999999996,2.6656999999999997E-2,null,null,0]
[null,null,"VASSOURA MECÂNICA REBOCÁVEL COM ESCOVA CILÍNDRICA, LARGURA ÚTIL DE VARRIMENTO DE 2,44 M - CHP DIURNO. AF_06/2014","CHP",4.4999999999999997E-3,4.5979999999999999,2.0690999999999998E-2,null,null,0]
[null,null,"VIBROACABADORA DE ASFALTO SOBRE ESTEIRAS, LARGURA DE PAVIMENTAÇÃO 1,90 M A 5,30 M, POTÊNCIA 105 HP CAPACIDADE 450 T/H - CHP DIURNO. AF_11/2014","CHP",1.67E-2,238.4975,3.9829082499999999,null,null,0]
[null,null,"CAMINHÃO BASCULANTE 10 M3, TRUCADO, POTÊNCIA 230 CV, INCLUSIVE CAÇAMBA METÁLICA, COM DISTRIBUIDOR DE AGREGADOS ACOPLADO - CHP DIURNO. AF_02/2017","CHP",2.7199999999999998E-2,142.80399999999997,3.8842687999999992,null,null,0]
[null,null,"SERVENTE COM ENCARGOS COMPLEMENTARES","H",0.3,16.026499999999999,4.8079499999999991,null,null,0]
[null,null,"AREIA GROSSA - POSTO JAZIDA/FORNECEDOR (RETIRADO NA JAZIDA, SEM TRANSPORTE)","m3",0.18,118.7025,21.36645,null,null,0]
[null,null,"PEDRA BRITADA N. 0, OU PEDRISCO (4,8 A 9,5 MM) POSTO PEDREIRA/FORNECEDOR, SEM FRETE","m3",1.26,97.042500000000004,122.27355,null,null,0]
[null,null,"EMULSAO ASFALTICA CATIONICA RL-1C PARA USO EM PAVIMENTACAO ASFALTICA (COLETADO CAIXA NA ANP ACRESCIDO DE ICMS)","T",0.14000000000000001,2347.9915000000001,328.71881000000002,null,null,0]
[null,null,"GRUPO GERADOR ESTACIONÁRIO, POTÊNCIA 150 KVA, MOTOR A DIESEL- CHP DIURNO. AF_03/2016","CHP",0.05,93.707999999999998,4.6854000000000005,null,null,0]
[null,null,"PÁ CARREGADEIRA SOBRE RODAS, POTÊNCIA 197 HP, CAPACIDADE DA CAÇAMBA 2,5 A 3,5 M3, PESO OPERACIONAL 18338 KG - CHP DIURNO. AF_06/2014","CHP",2.1000000000000001E-2,120.95399999999999,2.5400339999999999,null,null,0]
[null,null,"PÁ CARREGADEIRA SOBRE RODAS, POTÊNCIA 197 HP, CAPACIDADE DA CAÇAMBA 2,5 A 3,5 M3, PESO OPERACIONAL 18338 KG - CHI DIURNO. AF_06/2014","CHI",2.9000000000000001E-2,49.4,1.4326000000000001,null,null,0]
[null,null,"USINA DE ASFALTO À FRIO, CAPACIDADE DE 40 A 60 TON/HORA, ELÉTRICA POTÊNCIA 30 CV - CHP DIURNO. AF_03/2016","CHP",0.05,108.471,5.4235500000000005,null,null,0]
[null,null,"TANQUE DE ASFALTO ESTACIONÁRIO COM SERPENTINA, CAPACIDADE 30.000 L - CHP DIURNO. AF_06/2014","CHP",0.1,124.3265,12.432650000000001,null,null,0]
[null,null,"CARGA, MANOBRA E DESCARGA DE SOLOS E MATERIAIS GRANULARES EM CAMINHÃO BASCULANTE 6 M³ - CARGA COM PÁ CARREGADEIRA (CAÇAMBA DE 1,7 A 2,8 M³ / 128 HP) E DESCARGA LIVRE (UNIDADE: M3). AF_07/2020","m3",{"$f":"1*(E4043+E4044)","v":1.44},4.7457088499999998,6.8338207439999996,null,null,0]
[null,null,"TRANSPORTE COM CAMINHÃO BASCULANTE DE 6 M3, EM VIA URBANA PAVIMENTADA, DMT ATÉ 30 KM (UNIDADE: M3xKM). AF_01/2018","M3xKM",{"$f":"20*(E4044+E4043)","v":28.799999999999997},1.5377013499999996,44.285798879999987,null,null,0]
[null,null,null,null,null,"","",null,null,0]
[null,null,"Obs: considerando fornecedor de areia e brita a 20 km do Senado Federal",null,null,"","",null,null,0]
[null,null,null,null,null,"","",null,null,0]
["SF-01131",{"$f":"INDEX(Orçamentária!A:B,MATCH(Composições!A4056,Orçamentária!A:A,0),2)","v":"Pavimentação asfáltica com CBUQ para aplicação a frio (remendo)"},null,{"$f":"TRIM(INDEX(Orçamentária!C:C,MATCH(Composições!A4056,Orçamentária!A:A,0),1))","v":"m3"},null,"","",null,null,0]
[null,null,null,null,null,"","",null,null,0]
[null,null,"SERVENTE COM ENCARGOS COMPLEMENTARES","H",{"$f":"6/0.5","v":12},16.026499999999999,192.31799999999998,{"$f":"SUM(G4058:G4061)","v":192.31799999999998},null,0]
[null,null,"Compactador manual de placa vibratória - 3 kW - CHP","CHP",{"$f":"0.2/0.5","v":0.4},0,0,null,null,0]
[null,null,"Compactador manual de placa vibratória - 3 kW - CHI","CHI",{"$f":"0.8/0.5","v":1.6},0,0,null,null,0]
[null,null,"Asfalto a frio ensacado","kg",2500,"","",null,null,0]
[null,null,null,null,null,"","",null,null,0]
["SF-01132",{"$f":"INDEX(Orçamentária!A:B,MATCH(Composições!A4063,Orçamentária!A:A,0),2)","v":"Pintura para sinalização e demarcação viária horizontal"},null,{"$f":"TRIM(INDEX(Orçamentária!C:C,MATCH(Composições!A4063,Orçamentária!A:A,0),1))","v":"m2"},null,"","",null,null,0]
[null,null,null,null,null,"","",null,null,0]
[null,null,"SOLVENTE DILUENTE A BASE DE AGUARRAS","L",0.13,10.773,1.40049,{"$f":"SUM(G4065:G4071)","v":14.501878249999999},null,0]
[null,null,"CAMINHÃO TOCO, PBT 16.000 KG, CARGA ÚTIL MÁX. 10.685 KG, DIST. ENTRE EIXOS 4,8 M, POTÊNCIA 189 CV, INCLUSIVE CARROCERIA FIXA ABERTA DE MADEIRA P/ TRANSPORTE GERAL DE CARGA SECA, DIMEN. APROX. 2,5 X 7,00 X 0,50 M - CHP DIURNO. AF_06/2014","CHP",3.3E-3,104.139,0.34365869999999998,null,null,0]
[null,null,"TINTA A BASE DE RESINA ACRILICA, PARA SINALIZACAO HORIZONTAL VIARIA (NBR 11862)","L",0.6,13.5185,8.1110999999999986,null,null,0]
[null,null,"TINTA ACRILICA PREMIUM PARA PISO","L",0.03,13.233499999999999,0.39700499999999994,null,null,0]
[null,null,"MICROESFERAS DE VIDRO PARA SINALIZACAO HORIZONTAL VIARIA, TIPO I-B (PREMIX) - NBR 16184","KG",0.4,8.5024999999999995,3.4009999999999998,null,null,0]
[null,null,"SERVENTE COM ENCARGOS COMPLEMENTARES","H",3.3300000000000003E-2,16.026499999999999,0.53368245000000003,null,null,0]
[null,null,"MÁQUINA DEMARCADORA DE FAIXA DE TRÁFEGO À FRIO, AUTOPROPELIDA, POTÊNCIA 38 HP - CHP DIURNO. AF_07/2016","CHP",3.3E-3,95.436999999999983,0.31494209999999995,null,null,0]
[null,null,null,null,null,"","",null,null,0]
["SF-01133",{"$f":"INDEX(Orçamentária!A:B,MATCH(Composições!A4073,Orçamentária!A:A,0),2)","v":"Telha metálica trapezoidal galvanizada - GR-40"},null,{"$f":"TRIM(INDEX(Orçamentária!C:C,MATCH(Composições!A4073,Orçamentária!A:A,0),1))","v":"m2"},null,"","",null,null,0]
[null,null,null,null,null,"","",null,null,0]
[null,null,"TELHA TRAPEZOIDAL EM ACO ZINCADO, SEM PINTURA, ALTURA DE APROXIMADAMENTE 40 MM, ESPESSURA DE 0,50 MM E LARGURA UTIL DE 980 MM","M2",1.1659999999999999,37.43,43.643379999999993,{"$f":"SUM(G4075:G4080)","v":52.064037499999991},null,0]
[null,null,"HASTE RETA PARA GANCHO DE FERRO GALVANIZADO, COM ROSCA 1/4 \" X 30 CM PARA FIXACAO DE TELHA METALICA, INCLUI PORCA E ARRUELAS DE VEDACAO","CJ",4.1500000000000004,1.1399999999999999,4.7309999999999999,null,null,0]
[null,null,"SERVENTE COM ENCARGOS COMPLEMENTARES","H",9.7000000000000003E-2,16.026499999999999,1.5545704999999999,null,null,0]
[null,null,"TELHADISTA COM ENCARGOS COMPLEMENTARES","H",9.0999999999999998E-2,23.037499999999998,2.0964124999999996,null,null,0]
[null,null,"GUINCHO ELÉTRICO DE COLUNA, CAPACIDADE 400 KG, COM MOTO FREIO, MOTOR TRIFÁSICO DE 1,25 CV - CHP DIURNO. AF_03/2016","CHP",8.9999999999999998E-4,17.983499999999999,1.6185149999999999E-2,null,null,0]
[null,null,"GUINCHO ELÉTRICO DE COLUNA, CAPACIDADE 400 KG, COM MOTO FREIO, MOTOR TRIFÁSICO DE 1,25 CV - CHI DIURNO. AF_03/2016","CHI",1.2999999999999999E-3,17.299499999999998,2.2489349999999998E-2,null,null,0]
[null,null,null,null,null,"","",null,null,0]
["SF-01134",{"$f":"INDEX(Orçamentária!A:B,MATCH(Composições!A4082,Orçamentária!A:A,0),2)","v":"Cumeeira para telha metálica trapezoidal galvanizada - GR-40"},null,{"$f":"TRIM(INDEX(Orçamentária!C:C,MATCH(Composições!A4082,Orçamentária!A:A,0),1))","v":"m"},null,"","",null,null,0]
[null,null,null,null,null,"","",null,null,0]
[null,null,"HASTE RETA PARA GANCHO DE FERRO GALVANIZADO, COM ROSCA 1/4 \" X 30 CM PARA FIXACAO DE TELHA METALICA, INCLUI PORCA E ARRUELAS DE VEDACAO","CJ",4.1500000000000004,1.1399999999999999,4.7309999999999999,{"$f":"SUM(G4084:G4089)","v":7.3605334999999998},null,0]
[null,null,"Cumeeira metálica galvanizada GR 40 com espessura de 0,43 mm.","m",1.0289999999999999,"","",null,null,0]
[null,null,"SERVENTE COM ENCARGOS COMPLEMENTARES","H",7.2999999999999995E-2,16.026499999999999,1.1699344999999999,null,null,0]
[null,null,"TELHADISTA COM ENCARGOS COMPLEMENTARES","H",0.06,23.037499999999998,1.3822499999999998,null,null,0]
[null,null,"GUINCHO ELÉTRICO DE COLUNA, CAPACIDADE 400 KG, COM MOTO FREIO, MOTOR TRIFÁSICO DE 1,25 CV - CHP DIURNO. AF_03/2016","CHP",1.8E-3,17.983499999999999,{"$f":"IF(ISNUMBER(F4088),E4088*F4088,\"\")","v":3.2370299999999998E-2},null,null,0]
[null,null,"GUINCHO ELÉTRICO DE COLUNA, CAPACIDADE 400 KG, COM MOTO FREIO, MOTOR TRIFÁSICO DE 1,25 CV - CHI DIURNO. AF_03/2016","CHI",2.5999999999999999E-3,17.299499999999998,4.4978699999999996E-2,null,null,0]
[null,null,null,null,null,"","",null,null,0]
["SF-01135",{"$f":"INDEX(Orçamentária!A:B,MATCH(Composições!A4091,Orçamentária!A:A,0),2)","v":"Telha metálica trapezoidal galvanizada - GR-25"},null,{"$f":"TRIM(INDEX(Orçamentária!C:C,MATCH(Composições!A4091,Orçamentária!A:A,0),1))","v":"m2"},null,"","",null,null,0]
[null,null,null,null,null,"","",null,null,0]
[null,null,"Telha metálica trapezoidal galvanizada GR 25 com espessura de 0,43 mm, com largura de 1020 mm e comprimento de 5 metros.","M2",1.1659999999999999,"","",{"$f":"SUM(G4093:G4098)","v":8.420657499999999},null,0]
[null,null,"HASTE RETA PARA GANCHO DE FERRO GALVANIZADO, COM ROSCA 1/4 \" X 30 CM PARA FIXACAO DE TELHA METALICA, INCLUI PORCA E ARRUELAS DE VEDACAO","CJ",4.1500000000000004,1.1399999999999999,4.7309999999999999,null,null,0]
[null,null,"SERVENTE COM ENCARGOS COMPLEMENTARES","H",9.7000000000000003E-2,16.026499999999999,1.5545704999999999,null,null,0]
[null,null,"TELHADISTA COM ENCARGOS COMPLEMENTARES","H",9.0999999999999998E-2,23.037499999999998,2.0964124999999996,null,null,0]
[null,null,"GUINCHO ELÉTRICO DE COLUNA, CAPACIDADE 400 KG, COM MOTO FREIO, MOTOR TRIFÁSICO DE 1,25 CV - CHP DIURNO. AF_03/2016","CHP",8.9999999999999998E-4,17.983499999999999,1.6185149999999999E-2,null,null,0]
[null,null,"GUINCHO ELÉTRICO DE COLUNA, CAPACIDADE 400 KG, COM MOTO FREIO, MOTOR TRIFÁSICO DE 1,25 CV - CHI DIURNO. AF_03/2016","CHI",1.2999999999999999E-3,17.299499999999998,2.2489349999999998E-2,null,null,0]
[null,null,null,null,null,"","",null,null,0]
["SF-01136",{"$f":"INDEX(Orçamentária!A:B,MATCH(Composições!A4100,Orçamentária!A:A,0),2)","v":"Cumeeira para telha metálica trapezoidal galvanizada - GR-25"},null,{"$f":"TRIM(INDEX(Orçamentária!C:C,MATCH(Composições!A4100,Orçamentária!A:A,0),1))","v":"m"},null,"","",null,null,0]
[null,null,null,null,null,"","",null,null,0]
[null,null,"HASTE RETA PARA GANCHO DE FERRO GALVANIZADO, COM ROSCA 1/4 \" X 30 CM PARA FIXACAO DE TELHA METALICA, INCLUI PORCA E ARRUELAS DE VEDACAO","CJ",4.1500000000000004,1.1399999999999999,4.7309999999999999,{"$f":"SUM(G4102:G4107)","v":7.3605334999999998},null,0]
[null,null,"Cumeeira metálica galvanizada GR 25 com espessura de 0,43 mm.","m",1.0289999999999999,"","",null,null,0]
[null,null,"SERVENTE COM ENCARGOS COMPLEMENTARES","H",7.2999999999999995E-2,16.026499999999999,1.1699344999999999,null,null,0]
[null,null,"TELHADISTA COM ENCARGOS COMPLEMENTARES","H",0.06,23.037499999999998,1.3822499999999998,null,null,0]
[null,null,"GUINCHO ELÉTRICO DE COLUNA, CAPACIDADE 400 KG, COM MOTO FREIO, MOTOR TRIFÁSICO DE 1,25 CV - CHP DIURNO. AF_03/2016","CHP",1.8E-3,17.983499999999999,3.2370299999999998E-2,null,null,0]
[null,null,"GUINCHO ELÉTRICO DE COLUNA, CAPACIDADE 400 KG, COM MOTO FREIO, MOTOR TRIFÁSICO DE 1,25 CV - CHI DIURNO. AF_03/2016","CHI",2.5999999999999999E-3,17.299499999999998,4.4978699999999996E-2,null,null,0]
[null,null,null,null,null,"","",null,null,0]
["SF-01137",{"$f":"INDEX(Orçamentária!A:B,MATCH(Composições!A4109,Orçamentária!A:A,0),2)","v":"Telha de fibrocimento modulada - espessura 8mm"},null,{"$f":"TRIM(INDEX(Orçamentária!C:C,MATCH(Composições!A4109,Orçamentária!A:A,0),1))","v":"m2"},null,"","",null,null,0]
[null,null,null,null,null,"","",null,null,0]
[null,null,"TELHADISTA COM ENCARGOS COMPLEMENTARES","h",0.3,23.037499999999998,6.911249999999999,{"$f":"SUM(G4111:G4117)","v":16.527149999999999},null,0]
[null,null,"SERVENTE COM ENCARGOS COMPLEMENTARES","h",0.6,16.026499999999999,9.6158999999999981,null,null,0]
[null,null,"Conjunto de vedação elástica para furo Ø 8 mm","UN",1.1100000000000001,0,0,null,null,0]
[null,null,"Telha estrutural de fibrocimento ondulada esp. 8 mm largura útil 102 cm","m2",1.24,0,0,null,null,0]
[null,null,"Calço plástico para fixação de telha de fibrocimento tipo modulada e onda 50","UN",1.1100000000000001,0,0,null,null,0]
[null,null,"Fixador de aba telha de fibrocimento simples modulada","UN",1,0,0,null,null,0]
[null,null,"Parafuso rosca soberba galvanizado Ø 8 mm x 165 mm","UN",1.1100000000000001,0,0,null,null,0]
[null,null,null,null,null,"","",null,null,0]
["SF-01138",{"$f":"INDEX(Orçamentária!A:B,MATCH(Composições!A4119,Orçamentária!A:A,0),2)","v":"Cumeeira articulada ABA SUPERIOR de fibrocimento para telha modulada - espessura 6 mm"},null,{"$f":"TRIM(INDEX(Orçamentária!C:C,MATCH(Composições!A4119,Orçamentária!A:A,0),1))","v":"m"},null,"","",null,null,0]
[null,null,null,null,null,"","",null,null,0]
[null,null,"TELHADISTA COM ENCARGOS COMPLEMENTARES","h",{"$f":"0.12/2","v":0.06},23.037499999999998,1.3822499999999998,{"$f":"SUM(G4121:G4125)","v":2.3438399999999997},null,0]
[null,null,"SERVENTE COM ENCARGOS COMPLEMENTARES","h",{"$f":"0.12/2","v":0.06},16.026499999999999,0.96158999999999983,null,null,0]
[null,null,"Conjunto de vedação elástica para furo Ø 8 mm","UN",{"$f":"4.12/2","v":2.06},0,0,null,null,0]
[null,null,"Cumeeira articulada superior para telha de fibrocimento modulada ou onda 50","UN",2.06,0,0,null,null,0]
[null,null,"Parafuso rosca soberba galvanizado Ø 8 mm x 165 mm","UN",{"$f":"4.12/2","v":2.06},0,0,null,null,0]
[null,null,null,null,null,"","",null,null,0]
["SF-01139",{"$f":"INDEX(Orçamentária!A:B,MATCH(Composições!A4127,Orçamentária!A:A,0),2)","v":"Cumeeira articulada ABA INFERIOR de fibrocimento para telha modulada - espessura 6 mm"},null,{"$f":"TRIM(INDEX(Orçamentária!C:C,MATCH(Composições!A4127,Orçamentária!A:A,0),1))","v":"m"},null,"","",null,null,0]
[null,null,null,null,null,"","",null,null,0]
[null,null,"TELHADISTA COM ENCARGOS COMPLEMENTARES","h",{"$f":"0.12/2","v":0.06},23.037499999999998,1.3822499999999998,{"$f":"SUM(G4129:G4133)","v":2.3438399999999997},null,0]
[null,null,"SERVENTE COM ENCARGOS COMPLEMENTARES","h",{"$f":"0.12/2","v":0.06},16.026499999999999,0.96158999999999983,null,null,0]
[null,null,"Conjunto de vedação elástica para furo Ø 8 mm","UN",{"$f":"4.12/2","v":2.06},0,0,null,null,0]
[null,null,"Cumeeira articulada inferior para telha de fibrocimento tipo modulada ou onda 50","UN",2.06,0,0,null,null,0]
[null,null,"Parafuso rosca soberba galvanizado Ø 8 mm x 165 mm","UN",{"$f":"4.12/2","v":2.06},0,0,null,null,0]
[null,null,null,null,null,"","",null,null,0]
["SF-01140",{"$f":"INDEX(Orçamentária!A:B,MATCH(Composições!A4135,Orçamentária!A:A,0),2)","v":"Telha de fibrocimento ondulada - espessura 6mm"},null,{"$f":"TRIM(INDEX(Orçamentária!C:C,MATCH(Composições!A4135,Orçamentária!A:A,0),1))","v":"m2"},null,"","",null,null,0]
[null,null,null,null,null,"","",null,null,0]
[null,null,"CONJUNTO ARRUELAS DE VEDACAO 5/16\" PARA TELHA FIBROCIMENTO (UMA ARRUELA METALICA E UMA ARRUELA PVC - CONICAS)","CJ",1.27,0.152,0.19303999999999999,{"$f":"SUM(G4137:G4143)","v":28.130829049999996},null,0]
[null,null,"PARAFUSO ZINCADO ROSCA SOBERBA, CABECA SEXTAVADA, 5/16 \" X 250 MM, PARA FIXACAO DE TELHA EM MADEIRA","UN",1.27,2.2989999999999999,2.9197299999999999,null,null,0]
[null,null,"TELHA DE FIBROCIMENTO ONDULADA E = 6 MM, DE 2,44 X 1,10 M (SEM AMIANTO)","M2",1.2749999999999999,15.494499999999999,19.755487499999997,null,null,0]
[null,null,"SERVENTE COM ENCARGOS COMPLEMENTARES","H",0.15,16.026499999999999,2.4039749999999995,null,null,0]
[null,null,"TELHADISTA COM ENCARGOS COMPLEMENTARES","H",0.115,23.037499999999998,2.6493124999999997,null,null,0]
[null,null,"GUINCHO ELÉTRICO DE COLUNA, CAPACIDADE 400 KG, COM MOTO FREIO, MOTOR TRIFÁSICO DE 1,25 CV - CHP DIURNO. AF_03/2016","CHP",5.0000000000000001E-3,17.983499999999999,8.9917499999999997E-2,null,null,0]
[null,null,"GUINCHO ELÉTRICO DE COLUNA, CAPACIDADE 400 KG, COM MOTO FREIO, MOTOR TRIFÁSICO DE 1,25 CV - CHI DIURNO. AF_03/2016","CHI",6.8999999999999999E-3,17.299499999999998,0.11936654999999999,null,null,0]
[null,null,null,null,null,"","",null,null,0]
["SF-01141",{"$f":"INDEX(Orçamentária!A:B,MATCH(Composições!A4145,Orçamentária!A:A,0),2)","v":"Cumeeira UNIVERSAL para telha de fibrocimento ondulada - espessura 6 mm"},null,{"$f":"TRIM(INDEX(Orçamentária!C:C,MATCH(Composições!A4145,Orçamentária!A:A,0),1))","v":"m"},null,"","",null,null,0]
[null,null,null,null,null,"","",null,null,0]
[null,null,"CONJUNTO ARRUELAS DE VEDACAO 5/16\" PARA TELHA FIBROCIMENTO (UMA ARRUELA METALICA E UMA ARRUELA PVC - CONICAS)","CJ",4.2,0.152,0.63839999999999997,{"$f":"SUM(G4147:G4153)","v":35.573566999999997},null,0]
[null,null,"PARAFUSO ZINCADO ROSCA SOBERBA, CABECA SEXTAVADA, 5/16 \" X 250 MM, PARA FIXACAO DE TELHA EM MADEIRA","UN",4.2,2.2989999999999999,9.6557999999999993,null,null,0]
[null,null,"CUMEEIRA UNIVERSAL PARA TELHA ONDULADA DE FIBROCIMENTO, E = 6 MM, ABA 210 MM, COMPRIMENTO 1100 MM (SEM AMIANTO)","UN",1.0289999999999999,22.011500000000002,22.6498335,null,null,0]
[null,null,"SERVENTE COM ENCARGOS COMPLEMENTARES","H",7.2999999999999995E-2,16.026499999999999,1.1699344999999999,null,null,0]
[null,null,"TELHADISTA COM ENCARGOS COMPLEMENTARES","H",0.06,23.037499999999998,1.3822499999999998,null,null,0]
[null,null,"GUINCHO ELÉTRICO DE COLUNA, CAPACIDADE 400 KG, COM MOTO FREIO, MOTOR TRIFÁSICO DE 1,25 CV - CHP DIURNO. AF_03/2016","CHP",1.8E-3,17.983499999999999,{"$f":"IF(ISNUMBER(F4152),E4152*F4152,\"\")","v":3.2370299999999998E-2},null,null,0]
[null,null,"GUINCHO ELÉTRICO DE COLUNA, CAPACIDADE 400 KG, COM MOTO FREIO, MOTOR TRIFÁSICO DE 1,25 CV - CHI DIURNO. AF_03/2016","CHI",2.5999999999999999E-3,17.299499999999998,4.4978699999999996E-2,null,null,0]
[null,null,null,null,null,"","",null,null,0]
["SF-01142",{"$f":"INDEX(Orçamentária!A:B,MATCH(Composições!A4155,Orçamentária!A:A,0),2)","v":"Cumeeira TIPO SHED para telha de fibrocimento ondulada - espessura 6 mm"},null,{"$f":"TRIM(INDEX(Orçamentária!C:C,MATCH(Composições!A4155,Orçamentária!A:A,0),1))","v":"m"},null,"","",null,null,0]
[null,null,null,null,null,"","",null,null,0]
[null,null,"CONJUNTO ARRUELAS DE VEDACAO 5/16\" PARA TELHA FIBROCIMENTO (UMA ARRUELA METALICA E UMA ARRUELA PVC - CONICAS)","CJ",4.2,0.152,0.63839999999999997,{"$f":"SUM(G4157:G4163)","v":34.084888500000005},null,0]
[null,null,"PARAFUSO ZINCADO ROSCA SOBERBA, CABECA SEXTAVADA, 5/16 \" X 250 MM, PARA FIXACAO DE TELHA EM MADEIRA","UN",4.2,2.2989999999999999,9.6557999999999993,null,null,0]
[null,null,"CUMEEIRA SHED PARA TELHA ONDULADA DE FIBROCIMENTO, E = 6 MM, ABA 280 MM, COMPRIMENTO 1100 MM (SEM AMIANTO)","UN",1.0289999999999999,21.270499999999998,21.887344499999998,null,null,0]
[null,null,"SERVENTE COM ENCARGOS COMPLEMENTARES","H",5.5E-2,16.026499999999999,0.88145749999999989,null,null,0]
[null,null,"TELHADISTA COM ENCARGOS COMPLEMENTARES","H",4.1000000000000002E-2,23.037499999999998,0.94453749999999992,null,null,0]
[null,null,"GUINCHO ELÉTRICO DE COLUNA, CAPACIDADE 400 KG, COM MOTO FREIO, MOTOR TRIFÁSICO DE 1,25 CV - CHP DIURNO. AF_03/2016","CHP",1.8E-3,17.983499999999999,3.2370299999999998E-2,null,null,0]
[null,null,"GUINCHO ELÉTRICO DE COLUNA, CAPACIDADE 400 KG, COM MOTO FREIO, MOTOR TRIFÁSICO DE 1,25 CV - CHI DIURNO. AF_03/2016","CHI",2.5999999999999999E-3,17.299499999999998,4.4978699999999996E-2,null,null,0]
[null,null,null,null,null,"","",null,null,0]
["SF-01143",{"$f":"INDEX(Orçamentária!A:B,MATCH(Composições!A4165,Orçamentária!A:A,0),2)","v":"Telha de fibrocimento - Canalete 49 Eternit"},null,{"$f":"TRIM(INDEX(Orçamentária!C:C,MATCH(Composições!A4165,Orçamentária!A:A,0),1))","v":"m2"},null,"","",null,null,0]
[null,null,null,null,null,"","",null,null,0]
[null,null,"TELHADISTA COM ENCARGOS COMPLEMENTARES","h",0.15,23.037499999999998,3.4556249999999995,{"$f":"SUM(G4167:G4171)","v":5.8595999999999986},null,0]
[null,null,"SERVENTE COM ENCARGOS COMPLEMENTARES","h",0.15,16.026499999999999,2.4039749999999995,null,null,0]
[null,null,"Conjunto de vedação elástica para furo Ø 8 mm","UN",4.12,0,0,null,null,0]
[null,null,"Telha estrutural de fibrocimento esp. 8 mm largura útil 49 cm","m2",1.06,0,0,null,null,0]
[null,null,"Parafuso rosca soberba galvanizado Ø 8 mm x 250 mm","UN",4.12,0,0,null,null,0]
[null,null,null,null,null,"","",null,null,0]
["SF-01147",{"$f":"INDEX(Orçamentária!A:B,MATCH(Composições!A4173,Orçamentária!A:A,0),2)","v":"Escada tipo marinheiro COM proteção"},null,{"$f":"TRIM(INDEX(Orçamentária!C:C,MATCH(Composições!A4173,Orçamentária!A:A,0),1))","v":"m"},null,"","",null,null,0]
[null,null,null,null,null,"","",null,null,0]
[null,null,"ACO CA-50, 10,0 MM, VERGALHAO","KG",2.8,5.5385,15.5078,{"$f":"SUM(G4175:G4187)","v":227.20255536594826},null,0]
[null,null,"FUNDO ANTICORROSIVO PARA METAIS FERROSOS (ZARCAO)","L",2.5000000000000001E-2,26.960999999999999,0.67402499999999999,null,null,0]
[null,null,"ARMADOR COM ENCARGOS COMPLEMENTARES","H",0.35,21.612500000000001,7.5643750000000001,null,null,0]
[null,null,"PEDREIRO COM ENCARGOS COMPLEMENTARES","H",1.1000000000000001,21.716999999999999,23.8887,null,null,0]
[null,null,"SERVENTE COM ENCARGOS COMPLEMENTARES","H",1.1299999999999999,16.026499999999999,18.109944999999996,null,null,0]
[null,null,"ARGAMASSA TRAÇO 1:3 (EM VOLUME DE CIMENTO E AREIA MÉDIA ÚMIDA), PREPARO MANUAL. AF_08/2019","M3",3.5000000000000001E-3,491.36296169949998,1.7197703659482499,null,null,0]
[null,null,"ACO CA-50, 10,0 MM, VERGALHAO","KG",3,5.5385,16.615500000000001,null,null,0]
[null,null,"CANTONEIRA ACO ABAS IGUAIS (QUALQUER BITOLA), ESPESSURA ENTRE 1/8\" E 1/4\"","KG",15,4.8354999999999997,72.532499999999999,null,null,0]
[null,null,"PEDREIRO COM ENCARGOS COMPLEMENTARES","H",0.4,21.716999999999999,8.6867999999999999,null,null,0]
[null,null,"SERVENTE COM ENCARGOS COMPLEMENTARES","H",0.8,16.026499999999999,12.821199999999999,null,null,0]
[null,null,"Soldador com encargos complementares","H",2,22.315499999999997,44.630999999999993,null,null,0]
[null,null,"ELETRODO REVESTIDO AWS - E7018, DIAMETRO IGUAL A 4,00 MM","KG",0.2,16.862500000000001,3.3725000000000005,null,null,0]
[null,null,"FUNDO ANTICORROSIVO PARA METAIS FERROSOS (ZARCAO)","L",0.04,26.960999999999999,1.0784400000000001,null,null,0]
[null,null,null,null,null,"","",null,null,0]
["SF-01148",{"$f":"INDEX(Orçamentária!A:B,MATCH(Composições!A4189,Orçamentária!A:A,0),2)","v":"Escada tipo marinheiro SEM proteção"},null,{"$f":"TRIM(INDEX(Orçamentária!C:C,MATCH(Composições!A4189,Orçamentária!A:A,0),1))","v":"m"},null,"","",null,null,0]
[null,null,null,null,null,"","",null,null,0]
[null,null,"ACO CA-50, 10,0 MM, VERGALHAO","KG",2.8,5.5385,15.5078,{"$f":"SUM(G4191:G4196)","v":67.464615365948248},null,0]
[null,null,"FUNDO ANTICORROSIVO PARA METAIS FERROSOS (ZARCAO)","L",2.5000000000000001E-2,26.960999999999999,0.67402499999999999,null,null,0]
[null,null,"ARMADOR COM ENCARGOS COMPLEMENTARES","H",0.35,21.612500000000001,7.5643750000000001,null,null,0]
[null,null,"PEDREIRO COM ENCARGOS COMPLEMENTARES","H",1.1000000000000001,21.716999999999999,23.8887,null,null,0]
[null,null,"SERVENTE COM ENCARGOS COMPLEMENTARES","H",1.1299999999999999,16.026499999999999,18.109944999999996,null,null,0]
[null,null,"ARGAMASSA TRAÇO 1:3 (EM VOLUME DE CIMENTO E AREIA MÉDIA ÚMIDA), PREPARO MANUAL. AF_08/2019","M3",3.5000000000000001E-3,491.36296169949998,1.7197703659482499,null,null,0]
[null,null,null,null,null,"","",null,null,0]
["SF-01149",{"$f":"INDEX(Orçamentária!A:B,MATCH(Composições!A4198,Orçamentária!A:A,0),2)","v":"Limpeza e Preparação do Substrato para Impermeabilização"},null,{"$f":"TRIM(INDEX(Orçamentária!C:C,MATCH(Composições!A4198,Orçamentária!A:A,0),1))","v":"m2"},null,"","",null,null,0]
[null,null,null,null,null,"","",null,null,0]
[null,null,"SERVENTE COM ENCARGOS COMPLEMENTARES","h",0.11,16.026499999999999,1.7629149999999998,{"$f":"SUM(G4200:G4202)","v":1.7629149999999998},null,0]
[null,null,"Lava-jato água fria pressão 1700 psi","loc/un/h",0.22,0,0,null,null,0]
[null,null,"Solução limpadora diluída em água","L",0.4,0,0,null,null,0]
[null,null,null,null,null,"","",null,null,0]
["SF-01150",{"$f":"INDEX(Orçamentária!A:B,MATCH(Composições!A4204,Orçamentária!A:A,0),2)","v":"Substituição de Coletores de Águas Pluviais"},null,{"$f":"TRIM(INDEX(Orçamentária!C:C,MATCH(Composições!A4204,Orçamentária!A:A,0),1))","v":"un"},null,"","",null,null,0]
[null,null,null,null,null,"","",null,null,0]
[null,null,"ANEL BORRACHA, DN 150 MM, PARA TUBO SERIE REFORCADA ESGOTO PREDIAL","UN",1,8.4550000000000001,8.4550000000000001,{"$f":"SUM(G4206:G4220)","v":156.78893005},null,0]
[null,null,"REDUCAO EXCENTRICA PVC, SERIE R, DN 150 X 100 MM, PARA ESGOTO PREDIAL","UN",1,31.198,31.198,null,null,0]
[null,null,"PASTA LUBRIFICANTE PARA TUBOS E CONEXOES COM JUNTA ELASTICA (USO EM PVC, ACO, POLIETILENO E OUTROS) ( DE *400* G)","UN",7.0000000000000007E-2,19.854999999999997,1.3898499999999998,null,null,0]
[null,null,"AUXILIAR DE ENCANADOR OU BOMBEIRO HIDRÁULICO COM ENCARGOS COMPLEMENTARES","H",0.11,16.596499999999999,1.825615,null,null,0]
[null,null,"ENCANADOR OU BOMBEIRO HIDRÁULICO COM ENCARGOS COMPLEMENTARES","H",0.11,21.308499999999999,2.3439349999999997,null,null,0]
[null,null,"ADESIVO PLASTICO PARA PVC, FRASCO COM 850 GR","UN",6.1999999999999998E-3,54.235500000000002,0.33626010000000001,null,null,0]
[null,null,"TUBO PVC, SERIE R, DN 150 MM, PARA ESGOTO OU AGUAS PLUVIAIS PREDIAL (NBR 5688)","M",{"$f":"1.04/2","v":0.52},45.552500000000002,23.6873,null,null,0]
[null,null,"SOLUCAO LIMPADORA PARA PVC, FRASCO COM 1000 CM3","UN",1.0200000000000001E-2,47.100999999999999,0.48043020000000003,null,null,0]
[null,null,"LIXA D'AGUA EM FOLHA, GRAO 100","UN",3.6999999999999998E-2,1.6244999999999998,6.0106499999999993E-2,null,null,0]
[null,null,"AUXILIAR DE ENCANADOR OU BOMBEIRO HIDRÁULICO COM ENCARGOS COMPLEMENTARES","H",0.18,16.596499999999999,2.9873699999999999,null,null,0]
[null,null,"ENCANADOR OU BOMBEIRO HIDRÁULICO COM ENCARGOS COMPLEMENTARES","H",0.18,21.308499999999999,{"$f":"IF(ISNUMBER(F4216),E4216*F4216,\"\")","v":3.8355299999999994},null,null,0]
[null,null,"PEDREIRO COM ENCARGOS COMPLEMENTARES","H",1,21.716999999999999,21.716999999999999,null,null,0]
[null,null,"ADESIVO ESTRUTURAL A BASE DE RESINA EPOXI, BICOMPONENTE, PASTOSO (TIXOTROPICO)","KG",{"$f":"ROUND(1.8*(PI()*(0.25-0.15)*0.1)*10,4)","v":0.5655},32.271499999999996,18.249533249999999,null,null,0]
[null,null,"SELANTE ELASTICO MONOCOMPONENTE A BASE DE POLIURETANO (PU) PARA JUNTAS DIVERSAS","310ml",0.2,24.414999999999999,4.883,null,null,0]
[null,null,"RALO FOFO SEMIESFERICO, 150 MM, PARA LAJES/ CALHAS","UN",1,35.340000000000003,35.340000000000003,null,null,0]
[null,null,null,null,null,null,null,null,null,0]
[null,null,"Obs 1: Considerando consumo do adesivo estrutural 1,8 kg / m² / mm.",null,null,null,null,null,null,0]
[null,null,null,null,null,"",{"$f":"IF(ISNUMBER(F4223),E4223*F4223,\"\")","v":""},null,null,0]
["SF-01151",{"$f":"INDEX(Orçamentária!A:B,MATCH(Composições!A4224,Orçamentária!A:A,0),2)","v":"Tratamento de Tubulação Passante para Impermeabilização"},null,{"$f":"TRIM(INDEX(Orçamentária!C:C,MATCH(Composições!A4224,Orçamentária!A:A,0),1))","v":"un"},null,"","",null,null,0]
[null,null,null,null,null,"","",null,null,0]
[null,null,"IMPERMEABILIZADOR COM ENCARGOS COMPLEMENTARES","H",0.5,21.716999999999999,10.858499999999999,{"$f":"SUM(G4226:G4228)","v":33.991033250000001},null,0]
[null,null,"ADESIVO ESTRUTURAL A BASE DE RESINA EPOXI, BICOMPONENTE, PASTOSO (TIXOTROPICO)","KG",{"$f":"ROUND(1.8*(PI()*(0.25-0.15)*0.1)*10,4)","v":0.5655},32.271499999999996,18.249533249999999,null,null,0]
[null,null,"SELANTE ELASTICO MONOCOMPONENTE A BASE DE POLIURETANO (PU) PARA JUNTAS DIVERSAS","310ml",0.2,24.414999999999999,4.883,null,null,0]
[null,null,null,null,null,null,null,null,null,0]
[null,null,"Obs 1: Considerando consumo do adesivo estrutural 1,8 kg / m² / mm.",null,null,null,null,null,null,0]
[null,null,null,null,null,"",{"$f":"IF(ISNUMBER(F4231),E4231*F4231,\"\")","v":""},null,null,0]
["SF-01152",{"$f":"INDEX(Orçamentária!A:B,MATCH(Composições!A4232,Orçamentária!A:A,0),2)","v":"Regularização de substrato para Impermeabilização - 3cm"},null,{"$f":"TRIM(INDEX(Orçamentária!C:C,MATCH(Composições!A4232,Orçamentária!A:A,0),1))","v":"m2"},null,"","",null,null,0]
[null,null,null,null,null,"","",null,null,0]
[null,null,"CIMENTO PORTLAND COMPOSTO CP II-32","KG",0.5,0.44649999999999995,0.22324999999999998,{"$f":"SUM(G4234:G4238)","v":34.905768352675601},null,0]
[null,null,"ADITIVO ADESIVO LIQUIDO PARA ARGAMASSAS DE REVESTIMENTOS CIMENTICIOS","L",0.435,11.390499999999999,4.9548674999999998,null,null,0]
[null,null,"ARGAMASSA TRAÇO 1:4 (EM VOLUME DE CIMENTO E AREIA MÉDIA ÚMIDA) PARA CONTRAPISO, PREPARO MECÂNICO COM BETONEIRA 400 L. AF_08/2019","M3",4.3099999999999999E-2,462.103674076,19.9166683526756,null,null,0]
[null,null,"PEDREIRO COM ENCARGOS COMPLEMENTARES","H",0.33,21.716999999999999,7.1666100000000004,null,null,0]
[null,null,"SERVENTE COM ENCARGOS COMPLEMENTARES","H",0.16500000000000001,16.026499999999999,2.6443724999999998,null,null,0]
[null,null,null,null,null,"","",null,null,0]
["SF-01153",{"$f":"INDEX(Orçamentária!A:B,MATCH(Composições!A4240,Orçamentária!A:A,0),2)","v":"Regularização de substrato para Impermeabilização - 6cm"},null,{"$f":"TRIM(INDEX(Orçamentária!C:C,MATCH(Composições!A4240,Orçamentária!A:A,0),1))","v":"m2"},null,"","",null,null,0]
[null,null,null,null,null,"","",null,null,0]
[null,null,"PEDREIRO COM ENCARGOS COMPLEMENTARES","h",0.38,21.716999999999999,8.2524599999999992,{"$f":"SUM(G4242:G4244)","v":41.762415356423602},null,0]
[null,null,"SERVENTE COM ENCARGOS COMPLEMENTARES","h",0.185,16.026499999999999,2.9649024999999996,null,null,0]
[null,null,"ARGAMASSA TRAÇO 1:4 (EM VOLUME DE CIMENTO E AREIA MÉDIA ÚMIDA) PARA CONTRAPISO, PREPARO MECÂNICO COM BETONEIRA 400 L. AF_08/2019","M3",6.6100000000000006E-2,462.103674076,30.545052856423602,null,null,0]
[null,null,null,null,null,"","",null,null,0]
["SF-01154",{"$f":"INDEX(Orçamentária!A:B,MATCH(Composições!A4246,Orçamentária!A:A,0),2)","v":"Camada Separadora para Impermeabilização"},null,{"$f":"TRIM(INDEX(Orçamentária!C:C,MATCH(Composições!A4246,Orçamentária!A:A,0),1))","v":"m2"},null,"","",null,null,0]
[null,null,null,null,null,"","",null,null,0]
[null,null,"SERVENTE COM ENCARGOS COMPLEMENTARES","H",0.01,16.026499999999999,0.16026499999999999,{"$f":"SUM(G4248:G4249)","v":5.594265},null,0]
[null,null,"GEOTEXTIL NAO TECIDO AGULHADO DE FILAMENTOS CONTINUOS 100% POLIESTER, RESITENCIA A TRACAO = 10 KN/M","m2",1.1000000000000001,4.9399999999999995,5.4340000000000002,null,null,0]
[null,null,null,null,null,"","",null,null,0]
["SF-01155",{"$f":"INDEX(Orçamentária!A:B,MATCH(Composições!A4251,Orçamentária!A:A,0),2)","v":"Camada de Proteção Térmica para Impermeabilização"},null,{"$f":"TRIM(INDEX(Orçamentária!C:C,MATCH(Composições!A4251,Orçamentária!A:A,0),1))","v":"m2"},null,"","",null,null,0]
[null,null,null,null,null,"","",null,null,0]
[null,null,"SERVENTE COM ENCARGOS COMPLEMENTARES","H",0.05,16.026499999999999,0.80132499999999995,{"$f":"SUM(G4253:G4254)","v":7.4845750000000004},null,0]
[null,null,"POLIESTIRENO EXPANDIDO/EPS (ISOPOR), TIPO 2F, PLACA, ISOLAMENTO TERMOACUSTICO, E = 20 MM, 1000 X 500 MM","m2",1.05,6.3650000000000002,6.6832500000000001,null,null,0]
[null,null,null,null,null,"","",null,null,0]
["SF-01156",{"$f":"INDEX(Orçamentária!A:B,MATCH(Composições!A4256,Orçamentária!A:A,0),2)","v":"Camada de Amortecimento para Impermeabilização"},null,{"$f":"TRIM(INDEX(Orçamentária!C:C,MATCH(Composições!A4256,Orçamentária!A:A,0),1))","v":"m2"},null,"","",null,null,0]
[null,null,null,null,null,"","",null,null,0]
[null,null,"PEDREIRO COM ENCARGOS COMPLEMENTARES","h",0.28999999999999998,21.716999999999999,6.2979299999999991,{"$f":"SUM(G4258:G4260)","v":22.412023594685994},null,0]
[null,null,"SERVENTE COM ENCARGOS COMPLEMENTARES","h",0.14499999999999999,16.026499999999999,2.3238424999999996,null,null,0]
[null,null,"ARGAMASSA TRAÇO 1:2:8 (EM VOLUME DE CIMENTO, CAL E AREIA MÉDIA ÚMIDA) PARA EMBOÇO/MASSA ÚNICA/ASSENTAMENTO DE ALVENARIA DE VEDAÇÃO, PREPARO MECÂNICO COM BETONEIRA 400 L. AF_08/2019","M3",3.1E-2,444.84680950599989,13.790251094685996,null,null,0]
[null,null,null,null,null,"","",null,null,0]
["SF-01157",{"$f":"INDEX(Orçamentária!A:B,MATCH(Composições!A4262,Orçamentária!A:A,0),2)","v":"Camada de Proteção Mecânica em Placas de Impermeabilização"},null,{"$f":"TRIM(INDEX(Orçamentária!C:C,MATCH(Composições!A4262,Orçamentária!A:A,0),1))","v":"m2"},null,"","",null,null,0]
[null,null,null,null,null,"","",null,null,0]
[null,null,"CAMADA SEPARADORA DE FILME DE POLIETILENO 20 A 25 MICRA","M2",1.04,1.349,1.40296,{"$f":"SUM(G4264:G4268)","v":66.071719921750002},null,0]
[null,null,"ARGAMASSA TRAÇO 1:3 (EM VOLUME DE CIMENTO E AREIA MÉDIA ÚMIDA) PARA CONTRAPISO, PREPARO MANUAL. AF_08/2019","M3",4.3999999999999997E-2,600.00378231249999,26.400166421749997,null,null,0]
[null,null,"PEDREIRO COM ENCARGOS COMPLEMENTARES","H",0.89900000000000002,21.716999999999999,19.523582999999999,null,null,0]
[null,null,"SERVENTE COM ENCARGOS COMPLEMENTARES","H",0.182,16.026499999999999,2.9168229999999995,null,null,0]
[null,null,"MANTA LIQUIDA DE BASE ASFALTICA MODIFICADA COM A ADICAO DE ELASTOMEROS DILUIDOS EM SOLVENTE ORGANICO, APLICACAO A FRIO (MEMBRANA IMPERMEABILIZANTE ASFASTICA)","KG",{"$f":"0.15*2.5*(6/2)","v":1.125},14.0695,15.8281875,null,null,0]
[null,null,null,null,null,"","",null,null,0]
["SF-01158",{"$f":"INDEX(Orçamentária!A:B,MATCH(Composições!A4270,Orçamentária!A:A,0),2)","v":"Pintura Inibidora de Raízes em Estrutura Impermeabilizada"},null,{"$f":"TRIM(INDEX(Orçamentária!C:C,MATCH(Composições!A4270,Orçamentária!A:A,0),1))","v":"m2"},null,"","",null,null,0]
[null,null,null,null,null,"","",null,null,0]
[null,null,"Pintura inibidora de raízes","L",1,"","",{"$f":"SUM(G4272:G4274)","v":11.63655},null,0]
[null,null,"PINTOR COM ENCARGOS COMPLEMENTARES","H",0.3,22.762,6.8285999999999998,null,null,0]
[null,null,"SERVENTE COM ENCARGOS COMPLEMENTARES","H",0.3,16.026499999999999,4.8079499999999991,null,null,0]
[null,null,null,null,null,"","",null,null,0]
["SF-01159",{"$f":"INDEX(Orçamentária!A:B,MATCH(Composições!A4276,Orçamentária!A:A,0),2)","v":"Camada Drenante para Impermeabilização"},null,{"$f":"TRIM(INDEX(Orçamentária!C:C,MATCH(Composições!A4276,Orçamentária!A:A,0),1))","v":"m2"},null,"","",null,null,0]
[null,null,null,null,null,"","",null,null,0]
[null,null,"SERVENTE COM ENCARGOS COMPLEMENTARES","H",0.02,16.026499999999999,0.32052999999999998,{"$f":"SUM(G4278:G4280)","v":5.7545299999999999},null,0]
[null,null,"Geocomposto Drenante industrializado formado por estrutura drenante de pelo menos 10 mm","m2",1.05,"","",null,null,0]
[null,null,"GEOTEXTIL NAO TECIDO AGULHADO DE FILAMENTOS CONTINUOS 100% POLIESTER, RESITENCIA A TRACAO = 10 KN/M","m2",1.1000000000000001,4.9399999999999995,5.4340000000000002,null,null,0]
[null,null,null,null,null,"","",null,null,0]
["SF-01160",{"$f":"INDEX(Orçamentária!A:B,MATCH(Composições!A4282,Orçamentária!A:A,0),2)","v":"Calha em Chapa de Aço Galvanizado nº 24"},null,{"$f":"TRIM(INDEX(Orçamentária!C:C,MATCH(Composições!A4282,Orçamentária!A:A,0),1))","v":"m2"},null,"","",null,null,0]
[null,null,null,null,null,"","",null,null,0]
[null,null,"SELANTE ELASTICO MONOCOMPONENTE A BASE DE POLIURETANO (PU) PARA JUNTAS DIVERSAS","310ML",0.161,24.414999999999999,3.9308149999999999,{"$f":"SUM(G4284:G4292)","v":99.721959799999993},null,0]
[null,null,"PREGO DE ACO POLIDO COM CABECA 18 X 27 (2 1/2 X 10)","KG",2.5000000000000001E-2,11.114999999999998,0.27787499999999998,null,null,0]
[null,null,"REBITE DE ALUMINIO VAZADO DE REPUXO, 3,2 X 8 MM (1KG = 1025 UNIDADES)","KG",4.8999999999999998E-3,46.977499999999999,0.23018975,null,null,0]
[null,null,"SOLDA EM BARRA DE ESTANHO-CHUMBO 50/50","KG",0.18,82.060999999999993,14.770979999999998,null,null,0]
[null,null,"CALHA QUADRADA DE CHAPA DE ACO GALVANIZADA NUM 24, CORTE 100 CM","M",1.05,54.662999999999997,57.396149999999999,null,null,0]
[null,null,"SERVENTE COM ENCARGOS COMPLEMENTARES","H",0.63300000000000001,16.026499999999999,10.144774499999999,null,null,0]
[null,null,"TELHADISTA COM ENCARGOS COMPLEMENTARES","H",0.53900000000000003,23.037499999999998,12.4172125,null,null,0]
[null,null,"GUINCHO ELÉTRICO DE COLUNA, CAPACIDADE 400 KG, COM MOTO FREIO, MOTOR TRIFÁSICO DE 1,25 CV - CHP DIURNO. AF_03/2016","CHP",1.32E-2,17.983499999999999,0.23738219999999999,null,null,0]
[null,null,"GUINCHO ELÉTRICO DE COLUNA, CAPACIDADE 400 KG, COM MOTO FREIO, MOTOR TRIFÁSICO DE 1,25 CV - CHI DIURNO. AF_03/2016","CHI",1.83E-2,17.299499999999998,0.31658084999999997,null,null,0]
[null,null,null,null,null,"","",null,null,0]
["SF-01161",{"$f":"INDEX(Orçamentária!A:B,MATCH(Composições!A4294,Orçamentária!A:A,0),2)","v":"Rufo em Chapa de Aço Galvanizado nº 24"},null,{"$f":"TRIM(INDEX(Orçamentária!C:C,MATCH(Composições!A4294,Orçamentária!A:A,0),1))","v":"m2"},null,"","",null,null,0]
[null,null,null,null,null,"",{"$f":"IF(ISNUMBER(F4295),E4295*F4295,\"\")","v":""},null,null,0]
[null,null,"SELANTE ELASTICO MONOCOMPONENTE A BASE DE POLIURETANO (PU) PARA JUNTAS DIVERSAS","310ML",{"$f":"0.198*2","v":0.39600000000000002},24.414999999999999,9.6683400000000006,{"$f":"SUM(G4296:G4304)","v":88.868404549999994},null,0]
[null,null,"PREGO DE ACO POLIDO COM CABECA 18 X 27 (2 1/2 X 10)","KG",{"$f":"0.006*2","v":1.2E-2},11.114999999999998,0.13337999999999997,null,null,0]
[null,null,"REBITE DE ALUMINIO VAZADO DE REPUXO, 3,2 X 8 MM (1KG = 1025 UNIDADES)","KG",{"$f":"0.0012*2","v":2.3999999999999998E-3},46.977499999999999,0.11274599999999999,null,null,0]
[null,null,"SOLDA EM BARRA DE ESTANHO-CHUMBO 50/50","KG",{"$f":"0.045*2","v":0.09},82.060999999999993,7.385489999999999,null,null,0]
[null,null,"RUFO INTERNO/EXTERNO DE CHAPA DE ACO GALVANIZADA NUM 24, CORTE 25 CM","M",{"$f":"4*1.05","v":4.2},15.504,65.116799999999998,null,null,0]
[null,null,"SERVENTE COM ENCARGOS COMPLEMENTARES","H",0.20699999999999999,16.026499999999999,3.3174854999999996,null,null,0]
[null,null,"TELHADISTA COM ENCARGOS COMPLEMENTARES","H",0.112,23.037499999999998,2.5801999999999996,null,null,0]
[null,null,"GUINCHO ELÉTRICO DE COLUNA, CAPACIDADE 400 KG, COM MOTO FREIO, MOTOR TRIFÁSICO DE 1,25 CV - CHP DIURNO. AF_03/2016","CHP",1.32E-2,17.983499999999999,0.23738219999999999,null,null,0]
[null,null,"GUINCHO ELÉTRICO DE COLUNA, CAPACIDADE 400 KG, COM MOTO FREIO, MOTOR TRIFÁSICO DE 1,25 CV - CHI DIURNO. AF_03/2016","CHI",1.83E-2,17.299499999999998,0.31658084999999997,null,null,0]
[null,null,null,null,null,"","",null,null,0]
["SF-01163",{"$f":"INDEX(Orçamentária!A:B,MATCH(Composições!A4306,Orçamentária!A:A,0),2)","v":"Chapim Pré-Moldado de Concreto Aparente"},null,{"$f":"TRIM(INDEX(Orçamentária!C:C,MATCH(Composições!A4306,Orçamentária!A:A,0),1))","v":"m"},null,"","",null,null,0]
[null,null,null,null,null,"","",null,null,0]
[null,null,"ARAME RECOZIDO 16 BWG, D = 1,65 MM (0,016 KG/M) OU 18 BWG, D = 1,25 MM (0,01 KG/M)","KG",0.02,13.281000000000001,0.26562000000000002,{"$f":"SUM(G4308:G4321)","v":90.378020660499999},null,0]
[null,null,"AREIA GROSSA - POSTO JAZIDA/FORNECEDOR (RETIRADO NA JAZIDA, SEM TRANSPORTE)","m3",0.04,118.7025,4.7481,null,null,0]
[null,null,"ARMADOR COM ENCARGOS COMPLEMENTARES","H",0.8,21.612500000000001,17.290000000000003,null,null,0]
[null,null,"ACO CA-50, 10,0 MM, OU 12,5 MM, OU 16,0 MM, OU 20,0 MM, DOBRADO E CORTADO","KG",1.35,5.51,7.4385000000000003,null,null,0]
[null,null,"Carpinteiro de formas com encargos complementares","H",0.7,21.5745,15.10215,null,null,0]
[null,null,"Chapa de madeira compensada resinada 1,10 x 2,20 m # 10 mm","m2",1,0,0,null,null,0]
[null,null,"BETONEIRA CAPACIDADE NOMINAL DE 600 L, CAPACIDADE DE MISTURA 360 L, MOTOR ELÉTRICO TRIFÁSICO POTÊNCIA DE 4 CV, SEM CARREGADOR - CHP DIURNO. AF_11/2014","CHP",0.02,3.1635,6.3270000000000007E-2,null,null,0]
[null,null,"CIMENTO PORTLAND COMPOSTO CP II-32","KG",17.36,0.44649999999999995,7.7512399999999992,null,null,0]
[null,null,"PEDRA BRITADA N. 0, OU PEDRISCO (4,8 A 9,5 MM) POSTO PEDREIRA/FORNECEDOR, SEM FRETE","m3",0.09,97.042500000000004,8.7338249999999995,null,null,0]
[null,null,"PREGO DE ACO POLIDO COM CABECA 17 X 21 (2 X 11)","kg",0.02,11.305,0.2261,null,null,0]
[null,null,"PEDREIRO COM ENCARGOS COMPLEMENTARES","h",0.3,21.716999999999999,6.5150999999999994,null,null,0]
[null,null,"SERVENTE COM ENCARGOS COMPLEMENTARES","H",1.1000000000000001,16.026499999999999,17.629149999999999,null,null,0]
[null,null,"CARGA, MANOBRA E DESCARGA DE SOLOS E MATERIAIS GRANULARES EM CAMINHÃO BASCULANTE 6 M³ - CARGA COM PÁ CARREGADEIRA (CAÇAMBA DE 1,7 A 2,8 M³ / 128 HP) E DESCARGA LIVRE (UNIDADE: M3). AF_07/2020","m3",{"$f":"1*(E4309+E4316)","v":0.13},4.7457088499999998,0.61694215050000001,null,null,0]
[null,null,"TRANSPORTE COM CAMINHÃO BASCULANTE DE 6 M3, EM VIA URBANA PAVIMENTADA, DMT ATÉ 30 KM (UNIDADE: M3xKM). AF_01/2018","M3xKM",{"$f":"(E4309+E4316)*20","v":2.6},1.5377013499999996,3.998023509999999,null,null,0]
[null,null,null,null,null,"","",null,null,0]
[null,null,"Obs: considerando fornecedor de areia e brita a 20 km do Senado Federal",null,null,"","",null,null,0]
[null,null,null,null,null,"","",null,null,0]
["SF-01164",{"$f":"INDEX(Orçamentária!A:B,MATCH(Composições!A4325,Orçamentária!A:A,0),2)","v":"Armação em tela de aço soldado nervurada"},null,{"$f":"TRIM(INDEX(Orçamentária!C:C,MATCH(Composições!A4325,Orçamentária!A:A,0),1))","v":"m2"},null,"","",null,null,0]
[null,null,null,null,null,"","",null,null,0]
[null,null,"TELA DE ACO SOLDADA NERVURADA, CA-60, Q-92, (1,48 KG/M2), DIAMETRO DO FIO = 4,2 MM, LARGURA = 2,45 X 60 M DE COMPRIMENTO, ESPACAMENTO DA MALHA = 15  X 15 CM","M2",{"$f":"ROUND(0.712*1.48,4)","v":1.0538000000000001},8.9205000000000005,9.4004229000000006,{"$f":"SUM(G4327:G4331)","v":11.254903650000001},null,0]
[null,null,"ESPACADOR / DISTANCIADOR CIRCULAR COM ENTRADA LATERAL, EM PLASTICO, PARA VERGALHAO *4,2 A 12,5* MM, COBRIMENTO 20 MM","UN",{"$f":"ROUND(1.382*1.48,4)","v":2.0453999999999999},0.1235,0.25260689999999997,null,null,0]
[null,null,"ARAME RECOZIDO 16 BWG, D = 1,65 MM (0,016 KG/M) OU 18 BWG, D = 1,25 MM (0,01 KG/M)","KG",{"$f":"ROUND(0.0105*1.48,4)","v":1.55E-2},13.281000000000001,0.2058555,null,null,0]
[null,null,"AJUDANTE DE ARMADOR COM ENCARGOS COMPLEMENTARES","H",{"$f":"ROUND(0.006*1.48,4)","v":8.8999999999999999E-3},16.739000000000001,0.1489771,null,null,0]
[null,null,"ARMADOR COM ENCARGOS COMPLEMENTARES","H",{"$f":"ROUND(0.039*1.48,4)","v":5.7700000000000001E-2},21.612500000000001,1.2470412500000001,null,null,0]
[null,null,null,null,null,"","",null,null,0]
["SF-01165",{"$f":"INDEX(Orçamentária!A:B,MATCH(Composições!A4333,Orçamentária!A:A,0),2)","v":"Trama de aço composta por terças para telhados de até 2 águas"},null,{"$f":"TRIM(INDEX(Orçamentária!C:C,MATCH(Composições!A4333,Orçamentária!A:A,0),1))","v":"m2"},null,"","",null,null,0]
[null,null,null,null,null,"","",null,null,0]
[null,null,"PARAFUSO, COMUM, ASTM A307, SEXTAVADO, DIAMETRO 1/2\" (12,7 MM), COMPRIMENTO 1\" (25,4 MM)","CENTO",7.0000000000000001E-3,142.43350000000001,0.99703450000000005,{"$f":"SUM(G4335:G4340)","v":29.155726099999999},null,0]
[null,null,"PERFIL \"U\" ENRIJECIDO DE ACO GALVANIZADO, DOBRADO, 150 X 60 X 20 MM, E = 3,00 MM OU 200 X 75 X 25 MM, E = 3,75 MM","KG",4.3330000000000002,5.2249999999999996,22.639924999999998,null,null,0]
[null,null,"MONTADOR DE ESTRUTURA METÁLICA COM ENCARGOS COMPLEMENTARES","H",0.21299999999999999,16.596499999999999,3.5350544999999998,null,null,0]
[null,null,"SERVENTE COM ENCARGOS COMPLEMENTARES","H",0.106,16.026499999999999,1.6988089999999998,null,null,0]
[null,null,"GUINCHO ELÉTRICO DE COLUNA, CAPACIDADE 400 KG, COM MOTO FREIO, MOTOR TRIFÁSICO DE 1,25 CV - CHP DIURNO. AF_03/2016","CHP",6.7999999999999996E-3,17.983499999999999,0.12228779999999999,null,null,0]
[null,null,"GUINCHO ELÉTRICO DE COLUNA, CAPACIDADE 400 KG, COM MOTO FREIO, MOTOR TRIFÁSICO DE 1,25 CV - CHI DIURNO. AF_03/2016","CHI",9.4000000000000004E-3,17.299499999999998,0.16261529999999999,null,null,0]
[null,null,null,null,null,"","",null,null,0]
["SF-01166",{"$f":"INDEX(Orçamentária!A:B,MATCH(Composições!A4342,Orçamentária!A:A,0),2)","v":"Revestimento impermeabilizante bloqueador de umidade"},null,{"$f":"TRIM(INDEX(Orçamentária!C:C,MATCH(Composições!A4342,Orçamentária!A:A,0),1))","v":"m2"},null,"","",null,null,0]
[null,null,null,null,null,"","",null,null,0]
[null,null,"Ajudante de pintor com Encargos Complementares","H",0.1,18.2685,1.8268500000000001,{"$f":"SUM(G4344:G4346)","v":6.3792500000000008},null,0]
[null,null,"PINTOR COM ENCARGOS COMPLEMENTARES","H",0.2,22.762,4.5524000000000004,null,null,0]
[null,null,"Revestimento impermabilizante bloqueador de umidade","L",{"$f":"2*3.6/75","v":9.6000000000000002E-2},"","",null,null,0]
[null,null,null,null,null,"","",null,null,0]
[null,null,"Obs: considerando rendimento informado na especificação técnica do produto indicado como referência comercial (Lata de 3,6L rende até 3 demãos, com 25 m²/demão).",null,null,"","",null,null,0]
[null,null,null,null,null,"","",null,null,0]
["SF-01167",{"$f":"INDEX(Orçamentária!A:B,MATCH(Composições!A4350,Orçamentária!A:A,0),2)","v":"Pintura com tinta refletiva aluminizada para impermeabilização"},null,{"$f":"TRIM(INDEX(Orçamentária!C:C,MATCH(Composições!A4350,Orçamentária!A:A,0),1))","v":"m2"},null,"","",null,null,0]
[null,null,null,null,null,"","",null,null,0]
[null,null,"Ajudante de pintor com Encargos Complementares","H",0.1,18.2685,1.8268500000000001,{"$f":"SUM(G4352:G4354)","v":6.3792500000000008},null,0]
[null,null,"PINTOR COM ENCARGOS COMPLEMENTARES","H",0.2,22.762,4.5524000000000004,null,null,0]
[null,null,"Tinta aluminizada de base asfáltica","L",0.5,0,0,null,null,0]
[null,null,null,null,null,"","",null,null,0]
["SF-01168",{"$f":"INDEX(Orçamentária!A:B,MATCH(Composições!A4356,Orçamentária!A:A,0),2)","v":"Concreto leve com poliestireno expandido"},null,{"$f":"TRIM(INDEX(Orçamentária!C:C,MATCH(Composições!A4356,Orçamentária!A:A,0),1))","v":"m3"},null,"","",null,null,0]
[null,null,null,null,null,"","",null,null,0]
[null,null,"SERVENTE COM ENCARGOS COMPLEMENTARES","H",6.5,16.026499999999999,104.17224999999999,{"$f":"SUM(G4358:G4364)","v":715.08403343429995},null,0]
[null,null,"AREIA MEDIA - POSTO JAZIDA/FORNECEDOR (RETIRADO NA JAZIDA, SEM TRANSPORTE)","m3",0.35799999999999998,93.8125,{"$f":"IF(ISNUMBER(F4359),E4359*F4359,\"\")","v":33.584874999999997},null,null,0]
[null,null,"CIMENTO PORTLAND COMPOSTO CP II-32","KG",400,0.44649999999999995,178.6,null,null,0]
[null,null,"POLIESTIRENO EXPANDIDO/EPS (ISOPOR), PEROLAS, PARA CONCRETO LEVE","kg",10.5,36.726999999999997,385.63349999999997,null,null,0]
[null,null,"BETONEIRA CAPACIDADE NOMINAL DE 400 L, CAPACIDADE DE MISTURA 280 L, MOTOR ELÉTRICO TRIFÁSICO POTÊNCIA DE 2 CV, SEM CARREGADOR - CHP DIURNO. AF_10/2014","CHP",0.34300000000000003,1.121,0.38450300000000004,null,null,0]
[null,null,"CARGA, MANOBRA E DESCARGA DE SOLOS E MATERIAIS GRANULARES EM CAMINHÃO BASCULANTE 6 M³ - CARGA COM PÁ CARREGADEIRA (CAÇAMBA DE 1,7 A 2,8 M³ / 128 HP) E DESCARGA LIVRE (UNIDADE: M3). AF_07/2020","m3",{"$f":"1*E4359","v":0.35799999999999998},4.7457088499999998,1.6989637682999998,null,null,0]
[null,null,"TRANSPORTE COM CAMINHÃO BASCULANTE DE 6 M3, EM VIA URBANA PAVIMENTADA, DMT ATÉ 30 KM (UNIDADE: M3xKM). AF_01/2018","M3xKM",{"$f":"E4359*20","v":7.16},1.5377013499999996,11.009941665999998,null,null,0]
[null,null,null,null,null,"","",null,null,0]
[null,null,"Obs: considerando fornecedor de areia a 20 km do Senado Federal",null,null,"","",null,null,0]
[null,null,null,null,null,"","",null,null,0]
["SF-01169",{"$f":"INDEX(Orçamentária!A:B,MATCH(Composições!A4368,Orçamentária!A:A,0),2)","v":"Colagem da camada de proteção térmica de impermeabilização"},null,{"$f":"TRIM(INDEX(Orçamentária!C:C,MATCH(Composições!A4368,Orçamentária!A:A,0),1))","v":"m2"},null,"","",null,null,0]
[null,null,null,null,null,"","",null,null,0]
[null,null,"PRIMER PARA MANTA ASFALTICA A BASE DE ASFALTO MODIFICADO DILUIDO EM SOLVENTE, APLICACAO A FRIO","L",0.35,15.1905,5.316675,{"$f":"SUM(G4370:G4371)","v":6.9373275000000003},null,0]
[null,null,"AJUDANTE ESPECIALIZADO COM ENCARGOS COMPLEMENTARES","H",8.5000000000000006E-2,19.066499999999998,1.6206524999999998,null,null,0]
[null,null,null,null,null,"","",null,null,0]
[null,null,"Obs: Adotou-se o consumo de 350 mL/m², conforme recomendação do fabricante do produto para aplicação homogênea.",null,null,"","",null,null,0]
[null,null,"http://vedacit.com.br/produtos/primer-eco-vedacit",null,null,"","",null,null,0]
[null,null,null,null,null,"","",null,null,0]
["SF-01170",{"$f":"INDEX(Orçamentária!A:B,MATCH(Composições!A4376,Orçamentária!A:A,0),2)","v":"Impermeabilização com Membrana de Poliuretano"},null,{"$f":"TRIM(INDEX(Orçamentária!C:C,MATCH(Composições!A4376,Orçamentária!A:A,0),1))","v":"m2"},null,"","",null,null,0]
[null,null,null,null,null,"","",null,null,0]
[null,null,"MEMBRANA IMPERMEABILIZANTE A BASE DE POLIURETANO","KG",2,42.350999999999999,84.701999999999998,{"$f":"SUM(G4378:G4380)","v":96.869675999999998},null,0]
[null,null,"AJUDANTE ESPECIALIZADO COM ENCARGOS COMPLEMENTARES","H",9.6000000000000002E-2,19.066499999999998,1.8303839999999998,null,null,0]
[null,null,"IMPERMEABILIZADOR COM ENCARGOS COMPLEMENTARES","H",0.47599999999999998,21.716999999999999,10.337292,null,null,0]
[null,null,null,null,null,"","",null,null,0]
["SF-01171",{"$f":"INDEX(Orçamentária!A:B,MATCH(Composições!A4382,Orçamentária!A:A,0),2)","v":"Impermeabilização com Manta Asfáltica"},null,{"$f":"TRIM(INDEX(Orçamentária!C:C,MATCH(Composições!A4382,Orçamentária!A:A,0),1))","v":"m2"},null,"","",null,null,0]
[null,null,null,null,null,"","",null,null,0]
[null,null,"PRIMER PARA MANTA ASFALTICA A BASE DE ASFALTO MODIFICADO DILUIDO EM SOLVENTE, APLICACAO A FRIO","L",0.61499999999999999,15.1905,9.3421575000000008,{"$f":"SUM(G4384:G4388)","v":83.270606499999985},null,0]
[null,null,"MANTA ASFALTICA ELASTOMERICA EM POLIESTER 4 MM, TIPO III, CLASSE B, ACABAMENTO PP (NBR 9952)","M2",1.125,42.958999999999996,48.328874999999996,null,null,0]
[null,null,"GAS DE COZINHA - GLP","KG",0.26,5.1964999999999995,1.3510899999999999,null,null,0]
[null,null,"AJUDANTE ESPECIALIZADO COM ENCARGOS COMPLEMENTARES","H",0.192,19.066499999999998,3.6607679999999996,null,null,0]
[null,null,"IMPERMEABILIZADOR COM ENCARGOS COMPLEMENTARES","H",0.94799999999999995,21.716999999999999,20.587715999999997,null,null,0]
[null,null,null,null,null,"","",null,null,0]
["SF-01172",{"$f":"INDEX(Orçamentária!A:B,MATCH(Composições!A4390,Orçamentária!A:A,0),2)","v":"Impermeabilização com manta asfáltica aluminizada"},null,{"$f":"TRIM(INDEX(Orçamentária!C:C,MATCH(Composições!A4390,Orçamentária!A:A,0),1))","v":"m2"},null,"","",null,null,0]
[null,null,null,null,null,"","",null,null,0]
[null,null,"PRIMER PARA MANTA ASFALTICA A BASE DE ASFALTO MODIFICADO DILUIDO EM SOLVENTE, APLICACAO A FRIO","L",0.61499999999999999,15.1905,9.3421575000000008,{"$f":"SUM(G4392:G4396)","v":34.941731499999996},null,0]
[null,null,"Manta asfáltica aluminizada","M2",1.125,0,0,null,null,0]
[null,null,"GAS DE COZINHA - GLP","KG",0.26,5.1964999999999995,1.3510899999999999,null,null,0]
[null,null,"AJUDANTE ESPECIALIZADO COM ENCARGOS COMPLEMENTARES","H",0.192,19.066499999999998,3.6607679999999996,null,null,0]
[null,null,"IMPERMEABILIZADOR COM ENCARGOS COMPLEMENTARES","H",0.94799999999999995,21.716999999999999,20.587715999999997,null,null,0]
[null,null,null,null,null,"","",null,null,0]
["SF-01173",{"$f":"INDEX(Orçamentária!A:B,MATCH(Composições!A4398,Orçamentária!A:A,0),2)","v":"Impermeabilização com manta elastomérica de etileno-propileno-dieno-monômero (EPDM)"},null,{"$f":"TRIM(INDEX(Orçamentária!C:C,MATCH(Composições!A4398,Orçamentária!A:A,0),1))","v":"m2"},null,"","",null,null,0]
[null,null,null,null,null,"","",null,null,0]
[null,null,"IMPERMEABILIZADOR COM ENCARGOS COMPLEMENTARES","H",0.5,21.716999999999999,10.858499999999999,{"$f":"SUM(G4400:G4406)","v":20.391749999999998},null,0]
[null,null,"AJUDANTE ESPECIALIZADO COM ENCARGOS COMPLEMENTARES","H",0.5,19.066499999999998,9.5332499999999989,null,null,0]
[null,null,"Emulsão hidro-asfáltica","KG",0.8,0,0,null,null,0]
[null,null,"Tinta betuminosa","L",0.6,0,0,null,null,0]
[null,null,"Manta butílica # 0,8 mm","m2",1.1000000000000001,0,0,null,null,0]
[null,null,"Fita de caldeação para manta butilíca largura 50 mm # 3 mm","m",2,0,0,null,null,0]
[null,null,"Adesivo auto vulcanizante para manta butilíca","L",0.2,0,0,null,null,0]
[null,null,null,null,null,"","",null,null,0]
["SF-01174",{"$f":"INDEX(Orçamentária!A:B,MATCH(Composições!A4408,Orçamentária!A:A,0),2)","v":"Impermeabilização com membrana acrílica"},null,{"$f":"TRIM(INDEX(Orçamentária!C:C,MATCH(Composições!A4408,Orçamentária!A:A,0),1))","v":"m2"},null,"","",null,null,0]
[null,null,null,null,null,"","",null,null,0]
[null,null,"MEMBRANA IMPERMEABILIZANTE ACRILICA MONOCOMPONENTE","KG",1.2,16.397000000000002,19.676400000000001,{"$f":"SUM(G4410:G4412)","v":34.4596065},null,0]
[null,null,"AJUDANTE ESPECIALIZADO COM ENCARGOS COMPLEMENTARES","H",0.11700000000000001,19.066499999999998,2.2307804999999998,null,null,0]
[null,null,"IMPERMEABILIZADOR COM ENCARGOS COMPLEMENTARES","H",0.57799999999999996,21.716999999999999,12.552425999999999,null,null,0]
[null,null,null,null,null,"","",null,null,0]
["SF-01175",{"$f":"INDEX(Orçamentária!A:B,MATCH(Composições!A4414,Orçamentária!A:A,0),2)","v":"Asfalto elastomérico para colagem de manta asfáltica"},null,{"$f":"TRIM(INDEX(Orçamentária!C:C,MATCH(Composições!A4414,Orçamentária!A:A,0),1))","v":"m2"},null,"","",null,null,0]
[null,null,null,null,null,"","",null,null,0]
[null,null,"Asfalto elastomérico","KG",3,"","",{"$f":"SUM(G4416:G4417)","v":4.3433999999999999},null,0]
[null,null,"IMPERMEABILIZADOR COM ENCARGOS COMPLEMENTARES","H",0.2,21.716999999999999,4.3433999999999999,null,null,0]
[null,null,null,null,null,"","",null,null,0]
[null,null,"*Adotou-se o consumo de 2 kg/m², valor intermediário da recomendação do fabricante do produto.",null,null,"","",null,null,0]
[null,null,"http://www.denverimper.com.br/files/produtos/0000001-0000500/122/e5fe48d2b8810574e94921c5fb6cea0c.pdf",null,null,"","",null,null,0]
[null,null,null,null,null,"","",null,null,0]
["SF-01176",{"$f":"INDEX(Orçamentária!A:B,MATCH(Composições!A4422,Orçamentária!A:A,0),2)","v":"Impermeabilização com manta dupla (com maçarico)"},null,{"$f":"TRIM(INDEX(Orçamentária!C:C,MATCH(Composições!A4422,Orçamentária!A:A,0),1))","v":"m2"},null,"","",null,null,0]
[null,null,null,null,null,"",{"$f":"IF(ISNUMBER(F4423),E4423*F4423,\"\")","v":""},null,null,0]
[null,null,"PRIMER PARA MANTA ASFALTICA A BASE DE ASFALTO MODIFICADO DILUIDO EM SOLVENTE, APLICACAO A FRIO","L",0.61499999999999999,15.1905,9.3421575000000008,{"$f":"SUM(G4424:G4429)","v":134.88594949999998},null,0]
[null,null,"MANTA ASFALTICA ELASTOMERICA EM POLIESTER 3 MM, TIPO III, CLASSE B, ACABAMENTO PP (NBR 9952)","M2",1.125,34.978999999999999,39.351374999999997,null,null,0]
[null,null,"MANTA ASFALTICA ELASTOMERICA EM POLIESTER 4 MM, TIPO III, CLASSE B, ACABAMENTO PP (NBR 9952)","M2",1.125,42.958999999999996,48.328874999999996,null,null,0]
[null,null,"GAS DE COZINHA - GLP","KG",0.52,5.1964999999999995,2.7021799999999998,null,null,0]
[null,null,"AJUDANTE ESPECIALIZADO COM ENCARGOS COMPLEMENTARES","H",0.27800000000000002,19.066499999999998,5.3004869999999995,null,null,0]
[null,null,"IMPERMEABILIZADOR COM ENCARGOS COMPLEMENTARES","H",1.375,21.716999999999999,29.860875,null,null,0]
[null,null,null,null,null,"","",null,null,0]
["SF-01177",{"$f":"INDEX(Orçamentária!A:B,MATCH(Composições!A4431,Orçamentária!A:A,0),2)","v":"Impermeabilização com manta dupla (com asfalto elastomérico)"},null,{"$f":"TRIM(INDEX(Orçamentária!C:C,MATCH(Composições!A4431,Orçamentária!A:A,0),1))","v":"m2"},null,"","",null,null,0]
[null,null,null,null,null,"","",null,null,0]
[null,null,"PRIMER PARA MANTA ASFALTICA A BASE DE ASFALTO MODIFICADO DILUIDO EM SOLVENTE, APLICACAO A FRIO","L",0.61499999999999999,15.1905,9.3421575000000008,{"$f":"SUM(G4433:G4438)","v":137.48425649999999},null,0]
[null,null,"MANTA ASFALTICA ELASTOMERICA EM POLIESTER 3 MM, TIPO III, CLASSE B, ACABAMENTO PP (NBR 9952)","M2",1.125,34.978999999999999,39.351374999999997,null,null,0]
[null,null,"MANTA ASFALTICA ELASTOMERICA EM POLIESTER 4 MM, TIPO III, CLASSE B, ACABAMENTO PP (NBR 9952)","M2",1.125,42.958999999999996,48.328874999999996,null,null,0]
[null,null,"Asfalto elastomérico","KG",2,"","",null,null,0]
[null,null,"AJUDANTE ESPECIALIZADO COM ENCARGOS COMPLEMENTARES","H",{"$f":"0.278*2","v":0.55600000000000005},19.066499999999998,10.600973999999999,null,null,0]
[null,null,"IMPERMEABILIZADOR COM ENCARGOS COMPLEMENTARES","H",1.375,21.716999999999999,29.860875,null,null,0]
[null,null,null,null,null,"","",null,null,0]
[null,null,"*Adotou-se o consumo de 2 kg/m², valor intermediário da recomendação do fabricante do produto.",null,null,"","",null,null,0]
[null,null,"http://www.denverimper.com.br/files/produtos/0000001-0000500/122/e5fe48d2b8810574e94921c5fb6cea0c.pdf",null,null,"","",null,null,0]
[null,null,null,null,null,"","",null,null,0]
["SF-01179",{"$f":"INDEX(Orçamentária!A:B,MATCH(Composições!A4443,Orçamentária!A:A,0),2)","v":"Aditivo Incorporador de Ar"},null,{"$f":"TRIM(INDEX(Orçamentária!C:C,MATCH(Composições!A4443,Orçamentária!A:A,0),1))","v":"kg"},null,"","",null,null,0]
[null,null,null,null,null,"","",null,null,0]
[null,null,"ADITIVO LIQUIDO INCORPORADOR DE AR PARA CONCRETO E ARGAMASSA, LIQUIDO E ISENTO DE CLORETOS","L",1.01,5.0444999999999993,5.0949449999999992,{"$f":"SUM(G4445:G4445)","v":5.0949449999999992},null,0]
[null,null,null,null,null,"","",null,null,0]
[null,null,"Obs: considerando 1,01 L/kg, conforme especificado na ficha técnica do produto indicado como referência comercial.",null,null,"","",null,null,0]
[null,null,null,null,null,"","",null,null,0]
["SF-01180",{"$f":"INDEX(Orçamentária!A:B,MATCH(Composições!A4449,Orçamentária!A:A,0),2)","v":"Brita Nº 2"},null,{"$f":"TRIM(INDEX(Orçamentária!C:C,MATCH(Composições!A4449,Orçamentária!A:A,0),1))","v":"m3"},null,"","",null,null,0]
[null,null,null,null,null,"","",null,null,0]
[null,null,"PEDRA BRITADA N. 2 (19 A 38 MM) POSTO PEDREIRA/FORNECEDOR, SEM FRETE","m3",1,76,76,{"$f":"SUM(G4451:G4453)","v":111.49973584999999},null,0]
[null,null,"CARGA, MANOBRA E DESCARGA DE SOLOS E MATERIAIS GRANULARES EM CAMINHÃO BASCULANTE 6 M³ - CARGA COM PÁ CARREGADEIRA (CAÇAMBA DE 1,7 A 2,8 M³ / 128 HP) E DESCARGA LIVRE (UNIDADE: M3). AF_07/2020","m3",{"$f":"1*E4451","v":1},4.7457088499999998,4.7457088499999998,null,null,0]
[null,null,"TRANSPORTE COM CAMINHÃO BASCULANTE DE 6 M3, EM VIA URBANA PAVIMENTADA, DMT ATÉ 30 KM (UNIDADE: M3xKM). AF_01/2018","M3xKM",{"$f":"E4451*20","v":20},1.5377013499999996,30.754026999999994,null,null,0]
[null,null,null,null,null,"","",null,null,0]
[null,null,"Obs: considerando fornecedor de brita a 20 km do Senado Federal",null,null,"","",null,null,0]
[null,null,null,null,null,"","",null,null,0]
["SF-01232",{"$f":"INDEX(Orçamentária!A:B,MATCH(Composições!A4457,Orçamentária!A:A,0),2)","v":"Carpete aveludado azul royal - fornecimento e instalação"},null,{"$f":"TRIM(INDEX(Orçamentária!C:C,MATCH(Composições!A4457,Orçamentária!A:A,0),1))","v":"m2"},null,"","",null,null,0]
[null,null,null,null,null,"","",null,null,0]
[null,null,"PEDREIRO COM ENCARGOS COMPLEMENTARES","H",0.1,21.716999999999999,2.1717,{"$f":"SUM(G4459:G4466)","v":11.992800000000001},null,0]
[null,null,"SERVENTE COM ENCARGOS COMPLEMENTARES","H",0.1,16.026499999999999,1.6026499999999999,null,null,0]
[null,null,"Cola de contato a base d'água","KG",0.1,"","",null,null,0]
[null,null,"Carpete aveludado azul royal, para uso comercial, adequado para tráfego pesado, conforme especificações técnicas.","m2",1.1000000000000001,"","",null,null,0]
[null,null,"PEDREIRO COM ENCARGOS COMPLEMENTARES","H",0.2,21.716999999999999,4.3433999999999999,null,null,0]
[null,null,"SERVENTE COM ENCARGOS COMPLEMENTARES","H",0.2,16.026499999999999,3.2052999999999998,null,null,0]
[null,null,"CIMENTO PORTLAND COMPOSTO CP II-32","KG",1.5,0.44649999999999995,0.66974999999999996,null,null,0]
[null,null,"Adjuvante para argamassa base PVA","KG",{"$f":"ROUND(E4465*0.1,2)","v":0.15},"","",null,null,0]
[null,null,null,null,null,"","",null,null,0]
["SF-01233",{"$f":"INDEX(Orçamentária!A:B,MATCH(Composições!A4468,Orçamentária!A:A,0),2)","v":"Demolição de revestimento de piso têxtil (carpete)"},null,{"$f":"TRIM(INDEX(Orçamentária!C:C,MATCH(Composições!A4468,Orçamentária!A:A,0),1))","v":"m2"},null,"","",null,null,0]
[null,null,null,null,null,"","",null,null,0]
[null,null,"PEDREIRO COM ENCARGOS COMPLEMENTARES","H",0.01,21.716999999999999,0.21717,{"$f":"SUM(G4470:G4471)","v":1.81982},null,0]
[null,null,"SERVENTE COM ENCARGOS COMPLEMENTARES","H",0.1,16.026499999999999,1.6026499999999999,null,null,0]
[null,null,null,null,null,"","",null,null,0]
["SF-01235",{"$f":"INDEX(Orçamentária!A:B,MATCH(Composições!A4473,Orçamentária!A:A,0),2)","v":"Bancada em granito cinza andorinha polido - 2,40 m x 0,60 m"},null,{"$f":"TRIM(INDEX(Orçamentária!C:C,MATCH(Composições!A4473,Orçamentária!A:A,0),1))","v":"un"},null,"","",null,null,0]
[null,null,null,null,null,"","",null,null,0]
[null,null,"MASSA PLASTICA PARA MARMORE/GRANITO","KG",{"$f":"0.5228*2.4/1.5","v":0.83648},25.412499999999998,21.257047999999998,{"$f":"SUM(G4475:G4481)","v":871.19762273999993},null,0]
[null,null,"BUCHA DE NYLON SEM ABA S10, COM PARAFUSO DE 6,10 X 65 MM EM ACO ZINCADO COM ROSCA SOBERBA, CABECA CHATA E FENDA PHILLIPS","UN",9,0.874,7.8659999999999997,null,null,0]
[null,null,"GRANITO PARA BANCADA, POLIDO, TIPO ANDORINHA/ QUARTZ/ CASTELO/ CORUMBA OU OUTROS EQUIVALENTES DA REGIAO, E=  *2,5* CM","M2",{"$f":"1.005*2.4/1.5","v":1.6079999999999997},473.2045,760.91283599999986,null,null,0]
[null,null,"REJUNTE EPOXI, QUALQUER COR","KG",{"$f":"0.0211*2.4/1.5","v":3.3759999999999998E-2},50.511499999999998,1.7052682399999999,null,null,0]
[null,null,"SUPORTE MAO-FRANCESA EM ACO, ABAS IGUAIS 40 CM, CAPACIDADE MINIMA 70 KG, BRANCO","UN",3,12.226499999999998,36.67949999999999,null,null,0]
[null,null,"MARMORISTA/GRANITEIRO COM ENCARGOS COMPLEMENTARES","H",1.4944,18.078500000000002,27.016510400000001,null,null,0]
[null,null,"SERVENTE COM ENCARGOS COMPLEMENTARES","H",0.98340000000000005,16.026499999999999,15.7604601,null,null,0]
[null,null,null,null,null,"","",null,null,0]
["SF-01236",{"$f":"INDEX(Orçamentária!A:B,MATCH(Composições!A4483,Orçamentária!A:A,0),2)","v":"Bancada em granito cinza andorinha polido - 2,50 m x 0,60 m"},null,{"$f":"TRIM(INDEX(Orçamentária!C:C,MATCH(Composições!A4483,Orçamentária!A:A,0),1))","v":"un"},null,"","",null,null,0]
[null,null,null,null,null,"","",null,null,0]
[null,null,"MASSA PLASTICA PARA MARMORE/GRANITO","KG",{"$f":"0.5228*2.5/1.5","v":0.8713333333333334},25.412499999999998,22.142758333333333,{"$f":"SUM(G4485:G4491)","v":903.85908741666651},null,0]
[null,null,"BUCHA DE NYLON SEM ABA S10, COM PARAFUSO DE 6,10 X 65 MM EM ACO ZINCADO COM ROSCA SOBERBA, CABECA CHATA E FENDA PHILLIPS","UN",9,0.874,7.8659999999999997,null,null,0]
[null,null,"GRANITO PARA BANCADA, POLIDO, TIPO ANDORINHA/ QUARTZ/ CASTELO/ CORUMBA OU OUTROS EQUIVALENTES DA REGIAO, E=  *2,5* CM","M2",{"$f":"1.005*2.5/1.5","v":1.6749999999999998},473.2045,{"$f":"IF(ISNUMBER(F4487),E4487*F4487,\"\")","v":792.61753749999991},null,null,0]
[null,null,"REJUNTE EPOXI, QUALQUER COR","KG",{"$f":"0.0211*2.5/1.5","v":3.5166666666666672E-2},50.511499999999998,1.7763210833333336,null,null,0]
[null,null,"SUPORTE MAO-FRANCESA EM ACO, ABAS IGUAIS 40 CM, CAPACIDADE MINIMA 70 KG, BRANCO","UN",3,12.226499999999998,36.67949999999999,null,null,0]
[null,null,"MARMORISTA/GRANITEIRO COM ENCARGOS COMPLEMENTARES","H",1.4944,18.078500000000002,27.016510400000001,null,null,0]
[null,null,"SERVENTE COM ENCARGOS COMPLEMENTARES","H",0.98340000000000005,16.026499999999999,15.7604601,null,null,0]
[null,null,null,null,null,"","",null,null,0]
["SF-01240",{"$f":"INDEX(Orçamentária!A:B,MATCH(Composições!A4493,Orçamentária!A:A,0),2)","v":"Batedor/limitador inferior para box de correr"},null,{"$f":"TRIM(INDEX(Orçamentária!C:C,MATCH(Composições!A4493,Orçamentária!A:A,0),1))","v":"un"},null,"","",null,null,0]
[null,null,null,null,null,"","",null,null,0]
[null,null,"Vidraceiro com encargos complementares","h",0.15,20.177999999999997,3.0266999999999995,{"$f":"SUM(G4495:G4496)","v":3.0266999999999995},null,0]
[null,null,"Batedor/limitador inferior para box de correr, em material polimérico sintético","un",1,"","",null,null,0]
[null,null,null,null,null,"","",null,null,0]
["SF-01241",{"$f":"INDEX(Orçamentária!A:B,MATCH(Composições!A4498,Orçamentária!A:A,0),2)","v":"Batedor/amortecedor lateral para box de correr"},null,{"$f":"TRIM(INDEX(Orçamentária!C:C,MATCH(Composições!A4498,Orçamentária!A:A,0),1))","v":"un"},null,"","",null,null,0]
[null,null,null,null,null,"","",null,null,0]
[null,null,"Vidraceiro com encargos complementares","h",0.15,20.177999999999997,3.0266999999999995,{"$f":"SUM(G4500:G4501)","v":3.0266999999999995},null,0]
[null,null,"Batedor/amortecedor lateral de borracha para box de correr.","un",1,"","",null,null,0]
[null,null,null,null,null,"","",null,null,0]
["SF-01242",{"$f":"INDEX(Orçamentária!A:B,MATCH(Composições!A4503,Orçamentária!A:A,0),2)","v":"Batedor/limitador superior para box de correr"},null,{"$f":"TRIM(INDEX(Orçamentária!C:C,MATCH(Composições!A4503,Orçamentária!A:A,0),1))","v":"un"},null,"","",null,null,0]
[null,null,null,null,null,"","",null,null,0]
[null,null,"Vidraceiro com encargos complementares","h",0.15,20.177999999999997,3.0266999999999995,{"$f":"SUM(G4505:G4506)","v":3.0266999999999995},null,0]
[null,null,"Batedor/limitador superior para roldana de box de correr, em material polimérico sintético","un",1,"","",null,null,0]
[null,null,null,null,null,"","",null,null,0]
["SF-01243",{"$f":"INDEX(Orçamentária!A:B,MATCH(Composições!A4508,Orçamentária!A:A,0),2)","v":"Perfil cadeirinha em alumínio com encaixe para escova de vedação para vidro temperado 8mm"},null,{"$f":"TRIM(INDEX(Orçamentária!C:C,MATCH(Composições!A4508,Orçamentária!A:A,0),1))","v":"m"},null,"","",null,null,0]
[null,null,null,null,null,"","",null,null,0]
[null,null,"Vidraceiro com encargos complementares","h",0.2,20.177999999999997,4.0355999999999996,{"$f":"SUM(G4510:G4511)","v":7.6661009999999994},null,0]
[null,null,"PERFIL DE ALUMINIO ANODIZADO","kg",0.126,28.813499999999998,3.6305009999999998,null,null,0]
[null,null,null,null,null,null,null,null,null,0]
[null,null,"Ref.: AL Indústria Ref.: AL-63",null,null,null,null,null,null,0]
[null,null,"Fonte: http://www.alpuxadores.com.br/baixar/catalogo.pdf",null,null,"",{"$f":"IF(ISNUMBER(F4514),E4514*F4514,\"\")","v":""},null,null,0]
[null,null,null,null,null,null,null,null,null,0]
["SF-01244",{"$f":"INDEX(Orçamentária!A:B,MATCH(Composições!A4516,Orçamentária!A:A,0),2)","v":"Perfil em alumínio para acabamento de trilho superior - Vidro temperado 8mm"},null,{"$f":"TRIM(INDEX(Orçamentária!C:C,MATCH(Composições!A4516,Orçamentária!A:A,0),1))","v":"m"},null,"",{"$f":"IF(ISNUMBER(F4516),E4516*F4516,\"\")","v":""},null,null,0]
[null,null,null,null,null,"",{"$f":"IF(ISNUMBER(F4517),E4517*F4517,\"\")","v":""},null,null,0]
[null,null,"Vidraceiro com encargos complementares","h",0.2,20.177999999999997,{"$f":"IF(ISNUMBER(F4518),E4518*F4518,\"\")","v":4.0355999999999996},{"$f":"SUM(G4518:G4519)","v":10.518637500000001},null,0]
[null,null,"PERFIL DE ALUMINIO ANODIZADO","kg",0.22500000000000001,28.813499999999998,{"$f":"IF(ISNUMBER(F4519),E4519*F4519,\"\")","v":6.4830375},null,null,0]
[null,null,null,null,null,null,null,null,null,0]
[null,null,"Ref.: AL Indústria Ref.: AL-BX-02",null,null,null,null,null,null,0]
[null,null,"Fonte: http://www.alpuxadores.com.br/baixar/catalogo.pdf",null,null,null,null,null,null,0]
[null,null,null,null,null,"",{"$f":"IF(ISNUMBER(F4523),E4523*F4523,\"\")","v":""},null,null,0]
["SF-01245",{"$f":"INDEX(Orçamentária!A:B,MATCH(Composições!A4524,Orçamentária!A:A,0),2)","v":"Capa do Perfil Guia Inferior “Click” - Vidro temperado 8mm"},null,{"$f":"TRIM(INDEX(Orçamentária!C:C,MATCH(Composições!A4524,Orçamentária!A:A,0),1))","v":"m"},null,"",{"$f":"IF(ISNUMBER(F4524),E4524*F4524,\"\")","v":""},null,null,0]
[null,null,null,null,null,"",{"$f":"IF(ISNUMBER(F4525),E4525*F4525,\"\")","v":""},null,null,0]
[null,null,"Vidraceiro com encargos complementares","h",0.15,20.177999999999997,{"$f":"IF(ISNUMBER(F4526),E4526*F4526,\"\")","v":3.0266999999999995},{"$f":"SUM(G4526:G4527)","v":4.611442499999999},null,0]
[null,null,"PERFIL DE ALUMINIO ANODIZADO","kg",5.5E-2,28.813499999999998,{"$f":"IF(ISNUMBER(F4527),E4527*F4527,\"\")","v":1.5847424999999999},null,null,0]
[null,null,null,null,null,null,null,null,null,0]
[null,null,"Ref.: AL Indústria Ref.: AL-BX-07",null,null,null,null,null,null,0]
[null,null,"Fonte: http://www.alpuxadores.com.br/baixar/catalogo.pdf",null,null,null,null,null,null,0]
[null,null,null,null,null,"",{"$f":"IF(ISNUMBER(F4531),E4531*F4531,\"\")","v":""},null,null,0]
["SF-01246",{"$f":"INDEX(Orçamentária!A:B,MATCH(Composições!A4532,Orçamentária!A:A,0),2)","v":"Perfil guia inferior de alumínio para porta de giro em vidro temperado 8mm"},null,{"$f":"TRIM(INDEX(Orçamentária!C:C,MATCH(Composições!A4532,Orçamentária!A:A,0),1))","v":"m"},null,"",{"$f":"IF(ISNUMBER(F4532),E4532*F4532,\"\")","v":""},null,null,0]
[null,null,null,null,null,"",{"$f":"IF(ISNUMBER(F4533),E4533*F4533,\"\")","v":""},null,null,0]
[null,null,"Vidraceiro com encargos complementares","h",0.3,20.177999999999997,{"$f":"IF(ISNUMBER(F4534),E4534*F4534,\"\")","v":6.053399999999999},{"$f":"SUM(G4534:G4535)","v":12.046607999999999},null,0]
[null,null,"PERFIL DE ALUMINIO ANODIZADO","kg",0.20799999999999999,28.813499999999998,{"$f":"IF(ISNUMBER(F4535),E4535*F4535,\"\")","v":5.9932079999999992},null,null,0]
[null,null,null,null,null,null,null,null,null,0]
[null,null,"Ref.: AL Indústria Ref.: AL-BX-08",null,null,null,null,null,null,0]
[null,null,"Fonte: http://www.alpuxadores.com.br/baixar/catalogo.pdf",null,null,null,null,null,null,0]
[null,null,null,null,null,"",{"$f":"IF(ISNUMBER(F4539),E4539*F4539,\"\")","v":""},null,null,0]
["SF-01247",{"$f":"INDEX(Orçamentária!A:B,MATCH(Composições!A4540,Orçamentária!A:A,0),2)","v":"Perfil guia inferior de alumínio para porta de correr em vidro temperado 8mm"},null,{"$f":"TRIM(INDEX(Orçamentária!C:C,MATCH(Composições!A4540,Orçamentária!A:A,0),1))","v":"m"},null,"",{"$f":"IF(ISNUMBER(F4540),E4540*F4540,\"\")","v":""},null,null,0]
[null,null,null,null,null,"",{"$f":"IF(ISNUMBER(F4541),E4541*F4541,\"\")","v":""},null,null,0]
[null,null,"Vidraceiro com encargos complementares","h",0.3,20.177999999999997,{"$f":"IF(ISNUMBER(F4542),E4542*F4542,\"\")","v":6.053399999999999},{"$f":"SUM(G4542:G4543)","v":13.5160965},null,0]
[null,null,"PERFIL DE ALUMINIO ANODIZADO","kg",0.25900000000000001,28.813499999999998,{"$f":"IF(ISNUMBER(F4543),E4543*F4543,\"\")","v":7.4626964999999998},null,null,0]
[null,null,null,null,null,null,null,null,null,0]
[null,null,"Ref.: AL Indústria Ref.: AL-BX-03",null,null,null,null,null,null,0]
[null,null,"Fonte: http://www.alpuxadores.com.br/baixar/catalogo.pdf",null,null,null,null,null,null,0]
[null,null,null,null,null,"",{"$f":"IF(ISNUMBER(F4547),E4547*F4547,\"\")","v":""},null,null,0]
["SF-01248",{"$f":"INDEX(Orçamentária!A:B,MATCH(Composições!A4548,Orçamentária!A:A,0),2)","v":"Trilho superior em alumínio 53,8mm x 49,6mm, para vidro temperado"},null,{"$f":"TRIM(INDEX(Orçamentária!C:C,MATCH(Composições!A4548,Orçamentária!A:A,0),1))","v":"m"},null,"",{"$f":"IF(ISNUMBER(F4548),E4548*F4548,\"\")","v":""},null,null,0]
[null,null,null,null,null,"",{"$f":"IF(ISNUMBER(F4549),E4549*F4549,\"\")","v":""},null,null,0]
[null,null,"Vidraceiro com encargos complementares","h",0.3,20.177999999999997,{"$f":"IF(ISNUMBER(F4550),E4550*F4550,\"\")","v":6.053399999999999},{"$f":"SUM(G4550:G4551)","v":21.497436},null,0]
[null,null,"PERFIL DE ALUMINIO ANODIZADO","kg",0.53600000000000003,28.813499999999998,{"$f":"IF(ISNUMBER(F4551),E4551*F4551,\"\")","v":15.444036000000001},null,null,0]
[null,null,null,null,null,null,null,null,null,0]
[null,null,"Ref.: AL Indústria Ref.: AL-BX-01",null,null,null,null,null,null,0]
[null,null,"Fonte: http://www.alpuxadores.com.br/baixar/catalogo.pdf",null,null,null,null,null,null,0]
[null,null,null,null,null,"",{"$f":"IF(ISNUMBER(F4555),E4555*F4555,\"\")","v":""},null,null,0]
["SF-01249",{"$f":"INDEX(Orçamentária!A:B,MATCH(Composições!A4556,Orçamentária!A:A,0),2)","v":"Perfil em alumínio, tipo U - 10,5 x 20mm - para box de vidro temperado 8mm"},null,{"$f":"TRIM(INDEX(Orçamentária!C:C,MATCH(Composições!A4556,Orçamentária!A:A,0),1))","v":"m"},null,"",{"$f":"IF(ISNUMBER(F4556),E4556*F4556,\"\")","v":""},null,null,0]
[null,null,null,null,null,"",{"$f":"IF(ISNUMBER(F4557),E4557*F4557,\"\")","v":""},null,null,0]
[null,null,"Vidraceiro com encargos complementares","h",0.2,20.177999999999997,{"$f":"IF(ISNUMBER(F4558),E4558*F4558,\"\")","v":4.0355999999999996},{"$f":"SUM(G4558:G4559)","v":7.0610174999999993},null,0]
[null,null,"PERFIL DE ALUMINIO ANODIZADO","kg",0.105,28.813499999999998,{"$f":"IF(ISNUMBER(F4559),E4559*F4559,\"\")","v":3.0254174999999996},null,null,0]
[null,null,null,null,null,null,null,null,null,0]
[null,null,"Ref.: AL Indústria Ref.: AL-BX-05",null,null,null,null,null,null,0]
[null,null,"Fonte: http://www.alpuxadores.com.br/baixar/catalogo.pdf",null,null,null,null,null,null,0]
[null,null,null,null,null,"",{"$f":"IF(ISNUMBER(F4563),E4563*F4563,\"\")","v":""},null,null,0]
["SF-01250",{"$f":"INDEX(Orçamentária!A:B,MATCH(Composições!A4564,Orçamentária!A:A,0),2)","v":"Perfil em alumínio , tipo U –  14 x 20mm - para box de vidro temperado 8mm"},null,{"$f":"TRIM(INDEX(Orçamentária!C:C,MATCH(Composições!A4564,Orçamentária!A:A,0),1))","v":"m"},null,"",{"$f":"IF(ISNUMBER(F4564),E4564*F4564,\"\")","v":""},null,null,0]
[null,null,null,null,null,"",{"$f":"IF(ISNUMBER(F4565),E4565*F4565,\"\")","v":""},null,null,0]
[null,null,"Vidraceiro com encargos complementares","h",0.2,20.177999999999997,{"$f":"IF(ISNUMBER(F4566),E4566*F4566,\"\")","v":4.0355999999999996},{"$f":"SUM(G4566:G4567)","v":7.4644064999999991},null,0]
[null,null,"PERFIL DE ALUMINIO ANODIZADO","kg",0.11899999999999999,28.813499999999998,{"$f":"IF(ISNUMBER(F4567),E4567*F4567,\"\")","v":3.4288064999999994},null,null,0]
[null,null,null,null,null,null,null,null,null,0]
[null,null,"Ref.: AL Indústria Ref.: AL-BX-06",null,null,null,null,null,null,0]
[null,null,"Fonte: http://www.alpuxadores.com.br/baixar/catalogo.pdf",null,null,null,null,null,null,0]
[null,null,null,null,null,"",{"$f":"IF(ISNUMBER(F4571),E4571*F4571,\"\")","v":""},null,null,0]
["SF-01251",{"$f":"INDEX(Orçamentária!A:B,MATCH(Composições!A4572,Orçamentária!A:A,0),2)","v":"Bacia convencional – Linha Residencial"},null,{"$f":"TRIM(INDEX(Orçamentária!C:C,MATCH(Composições!A4572,Orçamentária!A:A,0),1))","v":"un"},null,"","",null,null,20]
[null,null,null,null,null,"","",null,null,20]
[null,null,"Bacia Sanitária convencional branca ref: Deca Vogue Plus P.5.17 ou equivalente","UN",1,353.45,353.45,{"$f":"SUM(G4574:G4580)","v":505.12588769999991},null,20]
[null,null,"Tubo de ligação para bacia sanitária em PVC, com acabamento cromado, ajustável ou não. Ref.: DECA 1968C ou equivalente","un",1,94.72,94.72,null,null,20]
[null,null,"Parafuso niquelado com acabamento cromado para fixar peca sanitaria, inclui porca cega, arruela e bucha de nylon tamanho S-10","UN",2,17.270999999999997,34.541999999999994,null,null,20]
[null,null,"Vedacao PVC, 100 mm, para saida vaso sanitario","un",1,1.7765,1.7765,null,null,20]
[null,null,"Rejunte epoxi, qualquer cor","kg",8.8099999999999998E-2,50.511499999999998,4.4500631500000001,null,null,20]
[null,null,"Encanador ou Bombeiro Hidráulico com Encargos Complementares","h",0.49680000000000002,21.308499999999999,10.586062800000001,null,null,20]
[null,null,"Servente com Encargos Complementares","h",0.34949999999999998,16.026499999999999,5.601261749999999,null,null,20]
[null,null,null,null,null,"","",null,null,20]
["SF-01252",{"$f":"INDEX(Orçamentária!A:B,MATCH(Composições!A4582,Orçamentária!A:A,0),2)","v":"Bidê 3 furos - Linha Residencial"},null,{"$f":"TRIM(INDEX(Orçamentária!C:C,MATCH(Composições!A4582,Orçamentária!A:A,0),1))","v":"un"},null,"","",null,null,15]
[null,null,null,null,null,"","",null,null,15]
[null,null,"Bidê 3 furos branco ref: Deca Vogue Plus B.5.17 ou equivalente","UN",1,389.9,389.9,{"$f":"SUM(G4584:G4588)","v":445.07938769999993},null,15]
[null,null,"Parafuso niquelado com acabamento cromado para fixar peca sanitaria, inclui porca cega, arruela e bucha de nylon tamanho S-10","UN",2,17.270999999999997,34.541999999999994,null,null,15]
[null,null,"Rejunte epoxi, qualquer cor","kg",8.8099999999999998E-2,50.511499999999998,4.4500631500000001,null,null,15]
[null,null,"Encanador ou Bombeiro Hidráulico com Encargos Complementares","h",0.49680000000000002,21.308499999999999,10.586062800000001,null,null,15]
[null,null,"Servente com Encargos Complementares","h",0.34949999999999998,16.026499999999999,5.601261749999999,null,null,15]
[null,null,null,null,null,"","",null,null,15]
["SF-01255",{"$f":"INDEX(Orçamentária!A:B,MATCH(Composições!A4590,Orçamentária!A:A,0),2)","v":"Chuveiro de metal com tubo de parede – Linha Residencial"},null,{"$f":"TRIM(INDEX(Orçamentária!C:C,MATCH(Composições!A4590,Orçamentária!A:A,0),1))","v":"un"},null,"","",null,null,30]
[null,null,null,null,null,"","",null,null,30]
[null,null,"Chuveiro de metal cromado com tubo de parede, crivo regulável e restritor de vazão. Ref.: Deca Aspen 1967.C.CT ou equivalente","UN",1,255.4,255.4,{"$f":"SUM(G4592:G4595)","v":267.24026800000001},null,30]
[null,null,"FITA VEDA ROSCA EM ROLOS DE 18 MM X 10 M (L X C)","UN",2.1000000000000001E-2,3.1825000000000001,6.6832500000000003E-2,null,null,30]
[null,null,"ENCANADOR OU BOMBEIRO HIDRÁULICO COM ENCARGOS COMPLEMENTARES","H",0.44669999999999999,21.308499999999999,9.518506949999999,null,null,30]
[null,null,"SERVENTE COM ENCARGOS COMPLEMENTARES","H",0.14069999999999999,16.026499999999999,2.2549285499999998,null,null,30]
[null,null,null,null,null,"","",null,null,30]
["SF-01256",{"$f":"INDEX(Orçamentária!A:B,MATCH(Composições!A4597,Orçamentária!A:A,0),2)","v":"Misturador para bidê – Linha Residencial"},null,{"$f":"TRIM(INDEX(Orçamentária!C:C,MATCH(Composições!A4597,Orçamentária!A:A,0),1))","v":"un"},null,"","",null,null,15]
[null,null,null,null,null,"","",null,null,15]
[null,null,"FITA VEDA ROSCA EM ROLOS DE 18 MM X 10 M (L X C)","UN",4.2000000000000003E-2,3.1825000000000001,0.13366500000000001,{"$f":"SUM(G4599:G4602)","v":615.66576205000001},null,15]
[null,null,"Misturador para bidê, ref: Deca Aspen 1895.C35 ou equivalente","UN",1,603.32000000000005,603.32000000000005,null,null,15]
[null,null,"ENCANADOR OU BOMBEIRO HIDRÁULICO COM ENCARGOS COMPLEMENTARES","H",0.46329999999999999,21.308499999999999,9.8722280499999986,null,null,15]
[null,null,"SERVENTE COM ENCARGOS COMPLEMENTARES","H",0.14599999999999999,16.026499999999999,2.3398689999999998,null,null,15]
[null,null,null,null,null,"","",null,null,15]
["SF-01257",{"$f":"INDEX(Orçamentária!A:B,MATCH(Composições!A4604,Orçamentária!A:A,0),2)","v":"Misturador de mesa para cozinha bica móvel – Linha Residencial"},null,{"$f":"TRIM(INDEX(Orçamentária!C:C,MATCH(Composições!A4604,Orçamentária!A:A,0),1))","v":"un"},null,"","",null,null,15]
[null,null,null,null,null,"","",null,null,15]
[null,null,"FITA VEDA ROSCA EM ROLOS DE 18 MM X 10 M (L X C)","UN",4.2000000000000003E-2,3.1825000000000001,0.13366500000000001,{"$f":"SUM(G4606:G4609)","v":481.29646320000001},null,15]
[null,null,"Misturador de mesa para cozinha, bica móvel, cromado. Ref.: Deca Aspen 1256.C35 ou equivalente","UN",1,475.19,475.19,null,null,15]
[null,null,"ENCANADOR OU BOMBEIRO HIDRÁULICO COM ENCARGOS COMPLEMENTARES","H",0.2266,21.308499999999999,4.8285060999999994,null,null,15]
[null,null,"SERVENTE COM ENCARGOS COMPLEMENTARES","H",7.1400000000000005E-2,16.026499999999999,1.1442920999999999,null,null,15]
[null,null,null,null,null,"","",null,null,15]
["SF-01258",{"$f":"INDEX(Orçamentária!A:B,MATCH(Composições!A4611,Orçamentária!A:A,0),2)","v":"Misturador de mesa para lavatório bica alta – Linha Residencial"},null,{"$f":"TRIM(INDEX(Orçamentária!C:C,MATCH(Composições!A4611,Orçamentária!A:A,0),1))","v":"un"},null,"","",null,null,15]
[null,null,null,null,null,"","",null,null,15]
[null,null,"FITA VEDA ROSCA EM ROLOS DE 18 MM X 10 M (L X C)","UN",4.2000000000000003E-2,3.1825000000000001,0.13366500000000001,{"$f":"SUM(G4613:G4616)","v":438.94576205000004},null,15]
[null,null,"Misturador para lavatório de mesa bica alta, cromado. Ref.: Deca Aspen 1877.C35 ou equivalente","UN",1,426.6,426.6,null,null,15]
[null,null,"ENCANADOR OU BOMBEIRO HIDRÁULICO COM ENCARGOS COMPLEMENTARES","H",0.46329999999999999,21.308499999999999,9.8722280499999986,null,null,15]
[null,null,"SERVENTE COM ENCARGOS COMPLEMENTARES","H",0.14599999999999999,16.026499999999999,2.3398689999999998,null,null,15]
[null,null,null,null,null,"","",null,null,15]
["SF-01259",{"$f":"INDEX(Orçamentária!A:B,MATCH(Composições!A4618,Orçamentária!A:A,0),2)","v":"Misturador de parede para cozinha bica móvel – Linha Residencial"},null,{"$f":"TRIM(INDEX(Orçamentária!C:C,MATCH(Composições!A4618,Orçamentária!A:A,0),1))","v":"un"},null,"","",null,null,15]
[null,null,null,null,null,"","",null,null,15]
[null,null,"FITA VEDA ROSCA EM ROLOS DE 18 MM X 10 M (L X C)","UN",4.2000000000000003E-2,3.1825000000000001,0.13366500000000001,{"$f":"SUM(G4620:G4623)","v":572.00646319999998},null,15]
[null,null,"Misturador de parede para cozinha, cromada. Ref.: Deca Aspen 1258.C35 ou equivalente","UN",1,565.9,565.9,null,null,15]
[null,null,"ENCANADOR OU BOMBEIRO HIDRÁULICO COM ENCARGOS COMPLEMENTARES","H",0.2266,21.308499999999999,4.8285060999999994,null,null,15]
[null,null,"SERVENTE COM ENCARGOS COMPLEMENTARES","H",7.1400000000000005E-2,16.026499999999999,1.1442920999999999,null,null,15]
[null,null,null,null,null,"","",null,null,15]
["SF-01260",{"$f":"INDEX(Orçamentária!A:B,MATCH(Composições!A4625,Orçamentária!A:A,0),2)","v":"Dobradiça automática vidro/vidro para box de vidro temperado"},null,{"$f":"TRIM(INDEX(Orçamentária!C:C,MATCH(Composições!A4625,Orçamentária!A:A,0),1))","v":"un"},null,"","",null,null,0]
[null,null,null,null,null,"","",null,null,0]
[null,null,"Vidraceiro com encargos complementares","h",0.3,20.177999999999997,6.053399999999999,{"$f":"SUM(G4627:G4628)","v":6.053399999999999},null,0]
[null,null,"Dobradiça metálica automática para vidro/vidro, utilizada em Box de vidro temperado, com porta de abrir. Ref.: Santa Marina, 1129.","un",1,"","",null,null,0]
[null,null,null,null,null,"","",null,null,0]
["SF-01261",{"$f":"INDEX(Orçamentária!A:B,MATCH(Composições!A4630,Orçamentária!A:A,0),2)","v":"Luminária tipo arandela – Linha Residencial"},null,{"$f":"TRIM(INDEX(Orçamentária!C:C,MATCH(Composições!A4630,Orçamentária!A:A,0),1))","v":"un"},null,"","",null,null,25]
[null,null,null,null,null,"","",null,null,25]
[null,null,"Luminária tipo arandela, de sobrepor, dimensões (em mm) 250 x 250 x 73, base E27. Ref.: Taschibra-Arandela Embaú; Bronzearte - Bambu","un ",1,28.4,28.4,{"$f":"SUM(G4632:G4635)","v":58.631767399999994},null,25]
[null,null,"Lâmpada fluorescente compacta, 23W, ref: OSRAM Duluxstar DST STICK 23 W/865 220V E27","un ",1,16.5,16.5,null,null,25]
[null,null,"Auxiliar de eletricista com encargos complementares","h",0.19719999999999999,17.042999999999999,3.3608795999999996,null,null,25]
[null,null,"Eletricista com encargos complementares","h",0.47320000000000001,21.916499999999999,{"$f":"IF(ISNUMBER(F4635),E4635*F4635,\"\")","v":10.3708878},null,null,25]
[null,null,null,null,null,"","",null,null,25]
["SF-01262",{"$f":"INDEX(Orçamentária!A:B,MATCH(Composições!A4637,Orçamentária!A:A,0),2)","v":"Tê misturador de transição 1/2” ou 3/4” – Linha Residencial"},null,{"$f":"TRIM(INDEX(Orçamentária!C:C,MATCH(Composições!A4637,Orçamentária!A:A,0),1))","v":"un"},null,"","",null,null,20]
[null,null,null,null,null,"","",null,null,20]
[null,null,"ADESIVO PARA TUBOS CPVC, *75* G","UN",1.2E-2,15.218999999999999,0.18262799999999998,{"$f":"SUM(G4639:G4642)","v":27.544242999999998},null,20]
[null,null,"TE MISTURADOR DE TRANSICAO, CPVC, COM ROSCA, 22 MM X 3/4\", PARA AGUA QUENTE","UN",1,20.425000000000001,20.425000000000001,null,null,20]
[null,null,"AUXILIAR DE ENCANADOR OU BOMBEIRO HIDRÁULICO COM ENCARGOS COMPLEMENTARES","H",0.183,16.596499999999999,3.0371594999999996,null,null,20]
[null,null,"ENCANADOR OU BOMBEIRO HIDRÁULICO COM ENCARGOS COMPLEMENTARES","H",0.183,21.308499999999999,3.8994554999999997,null,null,20]
[null,null,null,null,null,"","",null,null,20]
["SF-01263",{"$f":"INDEX(Orçamentária!A:B,MATCH(Composições!A4644,Orçamentária!A:A,0),2)","v":"Base para válvula de descarga 1 1/2”"},null,{"$f":"TRIM(INDEX(Orçamentária!C:C,MATCH(Composições!A4644,Orçamentária!A:A,0),1))","v":"un"},null,"","",null,null,10]
[null,null,null,null,null,"","",null,null,10]
[null,null,"FITA VEDA ROSCA EM ROLOS DE 18 MM X 50 M (L X C)","UN",1.9E-2,11.7325,0.22291749999999999,{"$f":"SUM(G4646:G4649)","v":137.09855350000001},null,10]
[null,null,"Base de válvula de descarga 1 1/2”","UN",1,112.95,112.95,null,null,10]
[null,null,"AUXILIAR DE ENCANADOR OU BOMBEIRO HIDRÁULICO COM ENCARGOS COMPLEMENTARES","H",{"$f":"ROUND(0.789*0.8,4)","v":0.63119999999999998},16.596499999999999,10.4757108,null,null,10]
[null,null,"ENCANADOR OU BOMBEIRO HIDRÁULICO COM ENCARGOS COMPLEMENTARES","H",{"$f":"ROUND(0.789*0.8,4)","v":0.63119999999999998},21.308499999999999,13.449925199999999,null,null,10]
[null,null,null,null,null,"","",null,null,10]
["SF-01264",{"$f":"INDEX(Orçamentária!A:B,MATCH(Composições!A4651,Orçamentária!A:A,0),2)","v":"Base para válvula de descarga 1 1/4”"},null,{"$f":"TRIM(INDEX(Orçamentária!C:C,MATCH(Composições!A4651,Orçamentária!A:A,0),1))","v":"un"},null,"","",null,null,10]
[null,null,null,null,null,"","",null,null,10]
[null,null,"FITA VEDA ROSCA EM ROLOS DE 18 MM X 50 M (L X C)","UN",1.9E-2,11.7325,0.22291749999999999,{"$f":"SUM(G4653:G4656)","v":131.73855349999999},null,10]
[null,null,"Base de válvula de descarga 1 1/4”","UN",1,107.59,107.59,null,null,10]
[null,null,"AUXILIAR DE ENCANADOR OU BOMBEIRO HIDRÁULICO COM ENCARGOS COMPLEMENTARES","H",{"$f":"ROUND(0.789*0.8,4)","v":0.63119999999999998},16.596499999999999,10.4757108,null,null,10]
[null,null,"ENCANADOR OU BOMBEIRO HIDRÁULICO COM ENCARGOS COMPLEMENTARES","H",0.63119999999999998,21.308499999999999,13.449925199999999,null,null,10]
[null,null,null,null,null,"","",null,null,10]
["SF-01265",{"$f":"INDEX(Orçamentária!A:B,MATCH(Composições!A4658,Orçamentária!A:A,0),2)","v":"Anel de Vedação para bacia sanitária"},null,{"$f":"TRIM(INDEX(Orçamentária!C:C,MATCH(Composições!A4658,Orçamentária!A:A,0),1))","v":"un"},null,"","",null,null,10]
[null,null,null,null,null,"","",null,null,10]
[null,null,"Vedacao PVC, 100 mm, para saida vaso sanitario","un",1,1.7765,1.7765,{"$f":"SUM(G4660:G4661)","v":3.9073500000000001},null,10]
[null,null,"ENCANADOR OU BOMBEIRO HIDRÁULICO COM ENCARGOS COMPLEMENTARES","H",0.1,21.308499999999999,2.1308500000000001,null,null,10]
[null,null,null,null,null,"","",null,null,10]
["SF-01266",{"$f":"INDEX(Orçamentária!A:B,MATCH(Composições!A4663,Orçamentária!A:A,0),2)","v":"Folha de porta em madeira e MDF 2,10x0,60m"},null,{"$f":"TRIM(INDEX(Orçamentária!C:C,MATCH(Composições!A4663,Orçamentária!A:A,0),1))","v":"un"},null,"","",null,null,10]
[null,null,null,null,null,"","",null,null,10]
[null,null,"PORTA DE MADEIRA, FOLHA MEDIA (NBR 15930) DE 60 X 210 CM, E = 35 MM, NUCLEO SARRAFEADO, CAPA FRISADA EM HDF, ACABAMENTO MELAMINICO EM PADRAO MADEIRA","UN",1,171.209,171.209,{"$f":"SUM(G4665:G4667)","v":201.59316920000001},null,10]
[null,null,"CARPINTEIRO DE ESQUADRIA COM ENCARGOS COMPLEMENTARES","H",{"$f":"ROUND(1.282*0.8,4)","v":1.0256000000000001},21.612500000000001,22.165780000000002,null,null,10]
[null,null,"SERVENTE COM ENCARGOS COMPLEMENTARES","H",{"$f":"ROUND(0.641*0.8,4)","v":0.51280000000000003},16.026499999999999,8.218389199999999,null,null,10]
[null,null,null,null,null,"","",null,null,10]
["SF-01267",{"$f":"INDEX(Orçamentária!A:B,MATCH(Composições!A4669,Orçamentária!A:A,0),2)","v":"Folha de porta em madeira e MDF 2,10x0,70m"},null,{"$f":"TRIM(INDEX(Orçamentária!C:C,MATCH(Composições!A4669,Orçamentária!A:A,0),1))","v":"un"},null,"","",null,null,20]
[null,null,null,null,null,"","",null,null,20]
[null,null,"PORTA DE MADEIRA, FOLHA MEDIA (NBR 15930) DE 70 X 210 CM, E = 35 MM, NUCLEO SARRAFEADO, CAPA FRISADA EM HDF, ACABAMENTO MELAMINICO EM PADRAO MADEIRA","UN",1,184.38550000000001,184.38550000000001,{"$f":"SUM(G4671:G4673)","v":217.8981484},null,20]
[null,null,"CARPINTEIRO DE ESQUADRIA COM ENCARGOS COMPLEMENTARES","H",{"$f":"ROUND(1.414*0.8,4)","v":1.1312},21.612500000000001,24.448060000000002,null,null,20]
[null,null,"SERVENTE COM ENCARGOS COMPLEMENTARES","H",{"$f":"ROUND(0.707*0.8,4)","v":0.56559999999999999},16.026499999999999,9.0645883999999999,null,null,20]
[null,null,null,null,null,"","",null,null,20]
["SF-01268",{"$f":"INDEX(Orçamentária!A:B,MATCH(Composições!A4675,Orçamentária!A:A,0),2)","v":"Folha de porta em madeira e MDF 2,10x0,80m"},null,{"$f":"TRIM(INDEX(Orçamentária!C:C,MATCH(Composições!A4675,Orçamentária!A:A,0),1))","v":"un"},null,"","",null,null,20]
[null,null,null,null,null,"","",null,null,20]
[null,null,"PORTA DE MADEIRA, FOLHA MEDIA (NBR 15930) DE 80 X 210 CM, E = 35 MM, NUCLEO SARRAFEADO, CAPA FRISADA EM HDF, ACABAMENTO MELAMINICO EM PADRAO MADEIRA","UN",1,223.89599999999999,223.89599999999999,{"$f":"SUM(G4677:G4679)","v":260.53712759999996},null,20]
[null,null,"CARPINTEIRO DE ESQUADRIA COM ENCARGOS COMPLEMENTARES","H",{"$f":"ROUND(1.546*0.8,4)","v":1.2367999999999999},21.612500000000001,26.730339999999998,null,null,20]
[null,null,"SERVENTE COM ENCARGOS COMPLEMENTARES","H",{"$f":"ROUND(0.773*0.8,4)","v":0.61839999999999995},16.026499999999999,9.910787599999999,null,null,20]
[null,null,null,null,null,"","",null,null,20]
["SF-01269",{"$f":"INDEX(Orçamentária!A:B,MATCH(Composições!A4681,Orçamentária!A:A,0),2)","v":"Folha de porta em madeira e MDF 2,10x0,90m"},null,{"$f":"TRIM(INDEX(Orçamentária!C:C,MATCH(Composições!A4681,Orçamentária!A:A,0),1))","v":"un"},null,"","",null,null,10]
[null,null,null,null,null,"","",null,null,10]
[null,null,"PORTA DE MADEIRA, FOLHA MEDIA (NBR 15930) DE 90 X 210 CM, E = 35 MM, NUCLEO SARRAFEADO, CAPA LISA EM HDF, ACABAMENTO EM LAMINADO NATURAL PARA VERNIZ","UN",1,204.00299999999999,204.00299999999999,{"$f":"SUM(G4683:G4685)","v":243.77260679999998},null,10]
[null,null,"CARPINTEIRO DE ESQUADRIA COM ENCARGOS COMPLEMENTARES","H",{"$f":"ROUND(1.678*0.8,4)","v":1.3424},21.612500000000001,29.012620000000002,null,null,10]
[null,null,"SERVENTE COM ENCARGOS COMPLEMENTARES","H",{"$f":"ROUND(0.839*0.8,4)","v":0.67120000000000002},16.026499999999999,10.7569868,null,null,10]
[null,null,null,null,null,"","",null,null,10]
["SF-01270",{"$f":"INDEX(Orçamentária!A:B,MATCH(Composições!A4687,Orçamentária!A:A,0),2)","v":"Remoção de boiler"},null,{"$f":"TRIM(INDEX(Orçamentária!C:C,MATCH(Composições!A4687,Orçamentária!A:A,0),1))","v":"un"},null,"","",null,null,15]
[null,null,null,null,null,"","",null,null,15]
[null,null,"AUXILIAR DE ENCANADOR OU BOMBEIRO HIDRÁULICO COM ENCARGOS COMPLEMENTARES","H",{"$f":"4*0.3","v":1.2},16.596499999999999,19.915799999999997,{"$f":"SUM(G4689:G4692)","v":68.861699999999985},null,15]
[null,null,"ENCANADOR OU BOMBEIRO HIDRÁULICO COM ENCARGOS COMPLEMENTARES","H",{"$f":"4*0.3","v":1.2},21.308499999999999,25.570199999999996,null,null,15]
[null,null,"Auxiliar de eletricista com encargos complementares","H",{"$f":"2*0.3","v":0.6},17.042999999999999,10.2258,null,null,15]
[null,null,"Eletricista com encargos complementares","H",{"$f":"2*0.3","v":0.6},21.916499999999999,13.149899999999999,null,null,15]
[null,null,null,null,null,"","",null,null,15]
["SF-01271",{"$f":"INDEX(Orçamentária!A:B,MATCH(Composições!A4694,Orçamentária!A:A,0),2)","v":"Remoção de tacos de madeira"},null,{"$f":"TRIM(INDEX(Orçamentária!C:C,MATCH(Composições!A4694,Orçamentária!A:A,0),1))","v":"m2"},null,"","",null,null,200]
[null,null,null,null,null,"","",null,null,200]
[null,null,"CARPINTEIRO DE ESQUADRIA COM ENCARGOS COMPLEMENTARES","H",0.12,21.612500000000001,2.5935000000000001,{"$f":"SUM(G4696:G4697)","v":24.401699999999995},null,200]
[null,null,"AJUDANTE DE CARPINTEIRO COM ENCARGOS COMPLEMENTARES","H",1.2,18.173499999999997,21.808199999999996,null,null,200]
[null,null,null,null,null,"","",null,null,200]
["SF-01272",{"$f":"INDEX(Orçamentária!A:B,MATCH(Composições!A4699,Orçamentária!A:A,0),2)","v":"Cerâmica 30x60cm - Glacier White - Portobello – Linha Residencial"},null,{"$f":"TRIM(INDEX(Orçamentária!C:C,MATCH(Composições!A4699,Orçamentária!A:A,0),1))","v":"m2"},null,"",{"$f":"IF(ISNUMBER(F4699),E4699*F4699,\"\")","v":""},null,null,100]
[null,null,null,null,null,"","",null,null,100]
[null,null,"Cerâmica 30x60xm Glacier White (26109E) – Linha White Home – Portobello, ou similar","m2",1.08,57.9,62.532000000000004,{"$f":"SUM(G4701:G4705)","v":87.783950000000004},null,100]
[null,null,"Argamassa colante AC II","kg",6.14,0.76,4.6663999999999994,null,null,100]
[null,null,"Rejunte cimenticio, qualquer cor","kg",0.22,2.3939999999999997,0.52667999999999993,null,null,100]
[null,null,"Azulejista ou ladrilhista com encargos complementares","h",0.66,21.650499999999997,14.28933,null,null,100]
[null,null,"Servente com Encargos Complementares","h",0.36,16.026499999999999,5.7695399999999992,null,null,100]
[null,null,null,null,null,"","",null,null,100]
["SF-01273",{"$f":"INDEX(Orçamentária!A:B,MATCH(Composições!A4707,Orçamentária!A:A,0),2)","v":"Instalação de tacos de madeira reaproveitados"},null,{"$f":"TRIM(INDEX(Orçamentária!C:C,MATCH(Composições!A4707,Orçamentária!A:A,0),1))","v":"m2"},null,"","",null,null,150]
[null,null,null,null,null,"","",null,null,150]
[null,null,"COLA BRANCA BASE PVA","L",0.57499999999999996,16.34,9.3954999999999984,{"$f":"SUM(G4709:G4711)","v":27.765895099999998},null,150]
[null,null,"SERVENTE COM ENCARGOS COMPLEMENTARES","H",0.2399,16.026499999999999,3.8447573499999996,null,null,150]
[null,null,"TAQUEADOR OU TAQUEIRO COM ENCARGOS COMPLEMENTARES","H",0.57589999999999997,25.2225,14.52563775,null,null,150]
[null,null,null,null,null,"","",null,null,150]
["SF-01278",{"$f":"INDEX(Orçamentária!A:B,MATCH(Composições!A4713,Orçamentária!A:A,0),2)","v":"Instalação de cortinas reaproveitadas"},null,{"$f":"TRIM(INDEX(Orçamentária!C:C,MATCH(Composições!A4713,Orçamentária!A:A,0),1))","v":"m"},null,"","",null,null,50]
[null,null,null,null,null,"","",null,null,50]
[null,null,"AJUDANTE ESPECIALIZADO COM ENCARGOS COMPLEMENTARES","H",0.5,19.066499999999998,9.5332499999999989,{"$f":"SUM(G4715:G4715)","v":9.5332499999999989},null,50]
[null,null,null,null,null,"","",null,null,50]
["SF-01279",{"$f":"INDEX(Orçamentária!A:B,MATCH(Composições!A4717,Orçamentária!A:A,0),2)","v":"Tubo CPVC soldável 22mm – Linha Residencial"},null,{"$f":"TRIM(INDEX(Orçamentária!C:C,MATCH(Composições!A4717,Orçamentária!A:A,0),1))","v":"m"},null,"","",null,null,40]
[null,null,null,null,null,"","",null,null,40]
[null,null,"TUBO CPVC, SOLDAVEL, 22 MM, AGUA QUENTE PREDIAL (NBR 15884)","M",1.0609999999999999,9.6330000000000009,10.220613,{"$f":"SUM(G4719:G4721)","v":23.070408},null,40]
[null,null,"AUXILIAR DE ENCANADOR OU BOMBEIRO HIDRÁULICO COM ENCARGOS COMPLEMENTARES","H",0.33900000000000002,16.596499999999999,5.6262135000000004,null,null,40]
[null,null,"ENCANADOR OU BOMBEIRO HIDRÁULICO COM ENCARGOS COMPLEMENTARES","H",0.33900000000000002,21.308499999999999,7.2235814999999999,null,null,40]
[null,null,null,null,null,"","",null,null,40]
["SF-01280",{"$f":"INDEX(Orçamentária!A:B,MATCH(Composições!A4723,Orçamentária!A:A,0),2)","v":"Tubo CPVC soldável 28mm – Linha Residencial"},null,{"$f":"TRIM(INDEX(Orçamentária!C:C,MATCH(Composições!A4723,Orçamentária!A:A,0),1))","v":"m"},null,"","",null,null,40]
[null,null,null,null,null,"","",null,null,40]
[null,null,"TUBO CPVC, SOLDAVEL, 28 MM, AGUA QUENTE PREDIAL (NBR 15884)","M",1.0609999999999999,15.466000000000001,16.409426,{"$f":"SUM(G4725:G4727)","v":31.571426000000002},null,40]
[null,null,"AUXILIAR DE ENCANADOR OU BOMBEIRO HIDRÁULICO COM ENCARGOS COMPLEMENTARES","H",0.4,16.596499999999999,6.6386000000000003,null,null,40]
[null,null,"ENCANADOR OU BOMBEIRO HIDRÁULICO COM ENCARGOS COMPLEMENTARES","H",0.4,21.308499999999999,8.5234000000000005,null,null,40]
[null,null,null,null,null,"","",null,null,40]
["SF-01281",{"$f":"INDEX(Orçamentária!A:B,MATCH(Composições!A4729,Orçamentária!A:A,0),2)","v":"Instalação de bidê reaproveitado"},null,{"$f":"TRIM(INDEX(Orçamentária!C:C,MATCH(Composições!A4729,Orçamentária!A:A,0),1))","v":"un"},null,"","",null,null,5]
[null,null,null,null,null,"","",null,null,5]
[null,null,"Parafuso niquelado com acabamento cromado para fixar peca sanitaria, inclui porca cega, arruela e bucha de nylon tamanho S-10","UN",2,17.270999999999997,34.541999999999994,{"$f":"SUM(G4731:G4734)","v":55.179387699999992},null,5]
[null,null,"Rejunte epoxi, qualquer cor","kg",8.8099999999999998E-2,50.511499999999998,4.4500631500000001,null,null,5]
[null,null,"Encanador ou Bombeiro Hidráulico com Encargos Complementares","h",0.49680000000000002,21.308499999999999,10.586062800000001,null,null,5]
[null,null,"Servente com Encargos Complementares","h",0.34949999999999998,16.026499999999999,5.601261749999999,null,null,5]
[null,null,null,null,null,"","",null,null,5]
["SF-01282",{"$f":"INDEX(Orçamentária!A:B,MATCH(Composições!A4736,Orçamentária!A:A,0),2)","v":"Aquecedor elétrico para pia – Linha Residencial"},null,{"$f":"TRIM(INDEX(Orçamentária!C:C,MATCH(Composições!A4736,Orçamentária!A:A,0),1))","v":"un"},null,"","",null,null,20]
[null,null,null,null,null,"","",null,null,20]
[null,null,"ENCANADOR OU BOMBEIRO HIDRÁULICO COM ENCARGOS COMPLEMENTARES","H",0.5,21.308499999999999,10.654249999999999,{"$f":"SUM(G4738:G4741)","v":833.02278550000005},null,20]
[null,null,"AUXILIAR DE ENCANADOR OU BOMBEIRO HIDRÁULICO COM ENCARGOS COMPLEMENTARES","H",0.5,16.596499999999999,8.2982499999999995,null,null,20]
[null,null,"FITA VEDA ROSCA EM ROLOS DE 18 MM X 50 M (L X C)","UN",{"$f":"0.47/50","v":9.3999999999999986E-3},11.7325,0.11028549999999998,null,null,20]
[null,null,"Aquecedor elétrico individual automático, 5000W, 220V","UN",1,813.96,813.96,null,null,20]
[null,null,null,null,null,"","",null,null,20]
["SF-01283",{"$f":"INDEX(Orçamentária!A:B,MATCH(Composições!A4743,Orçamentária!A:A,0),2)","v":"Chuveiro elétrico – Linha Residencial"},null,{"$f":"TRIM(INDEX(Orçamentária!C:C,MATCH(Composições!A4743,Orçamentária!A:A,0),1))","v":"un"},null,"","",null,null,40]
[null,null,null,null,null,"","",null,null,40]
[null,null,"Chuveiro elétrico 7800W, 220V. Ref: Lorenzetti Acqua Storm Ultra","UN",1,271.35000000000002,271.35000000000002,{"$f":"SUM(G4745:G4748)","v":283.190268},null,40]
[null,null,"FITA VEDA ROSCA EM ROLOS DE 18 MM X 10 M (L X C)","UN",2.1000000000000001E-2,3.1825000000000001,6.6832500000000003E-2,null,null,40]
[null,null,"ENCANADOR OU BOMBEIRO HIDRÁULICO COM ENCARGOS COMPLEMENTARES","H",0.44669999999999999,21.308499999999999,9.518506949999999,null,null,40]
[null,null,"SERVENTE COM ENCARGOS COMPLEMENTARES","H",0.14069999999999999,16.026499999999999,2.2549285499999998,null,null,40]
[null,null,null,null,null,"","",null,null,40]
["SF-01284",{"$f":"INDEX(Orçamentária!A:B,MATCH(Composições!A4750,Orçamentária!A:A,0),2)","v":"Instalação de boiler reaproveitado"},null,{"$f":"TRIM(INDEX(Orçamentária!C:C,MATCH(Composições!A4750,Orçamentária!A:A,0),1))","v":"un"},null,"","",null,null,10]
[null,null,null,null,null,"","",null,null,10]
[null,null,"AUXILIAR DE ENCANADOR OU BOMBEIRO HIDRÁULICO COM ENCARGOS COMPLEMENTARES","H",4,16.596499999999999,66.385999999999996,{"$f":"SUM(G4752:G4756)","v":229.92090000000002},null,10]
[null,null,"ENCANADOR OU BOMBEIRO HIDRÁULICO COM ENCARGOS COMPLEMENTARES","H",4,21.308499999999999,85.233999999999995,null,null,10]
[null,null,"Auxiliar de eletricista com encargos complementares","H",2,17.042999999999999,34.085999999999999,null,null,10]
[null,null,"Eletricista com encargos complementares","H",2,21.916499999999999,43.832999999999998,null,null,10]
[null,null,"FITA VEDA ROSCA EM ROLOS DE 18 MM X 10 M (L X C)","UN",{"$f":"1.2/10","v":0.12},3.1825000000000001,0.38190000000000002,null,null,10]
[null,null,null,null,null,"","",null,null,10]
["SF-01285",{"$f":"INDEX(Orçamentária!A:B,MATCH(Composições!A4758,Orçamentária!A:A,0),2)","v":"Prateleira – Linha Residencial"},null,{"$f":"TRIM(INDEX(Orçamentária!C:C,MATCH(Composições!A4758,Orçamentária!A:A,0),1))","v":"un"},null,"","",null,null,40]
[null,null,null,null,null,"","",null,null,40]
[null,null,"Prateleira com base em resina, com acabamento cromado. Ref: Deca Flex 2031.C.FLX ou equivalente","un ",1,214.09,214.09,{"$f":"SUM(G4760:G4762)","v":230.75584335000002},null,40]
[null,null,"Encanador ou Bombeiro Hidráulico com Encargos Complementares","h",0.63229999999999997,21.308499999999999,13.473364549999999,null,null,40]
[null,null,"Servente com Encargos Complementares","h",0.19919999999999999,16.026499999999999,3.1924787999999995,null,null,40]
[null,null,null,null,null,"",{"$f":"IF(ISNUMBER(F4763),E4763*F4763,\"\")","v":""},null,null,40]
["SF-01286",{"$f":"INDEX(Orçamentária!A:B,MATCH(Composições!A4764,Orçamentária!A:A,0),2)","v":"Saboneteira – Linha Residencial"},null,{"$f":"TRIM(INDEX(Orçamentária!C:C,MATCH(Composições!A4764,Orçamentária!A:A,0),1))","v":"un"},null,"","",null,null,40]
[null,null,null,null,null,"","",null,null,40]
[null,null,"Saboneteira com base em resina de alta resistência com espessura com acabamento cromado. Ref: Deca Flex 2010.C.FLX ou equivalente","un ",1,145.49,145.49,{"$f":"SUM(G4766:G4768)","v":153.82398710000001},null,40]
[null,null,"Encanador ou Bombeiro Hidráulico com Encargos Complementares","h",0.31619999999999998,21.308499999999999,6.737747699999999,null,null,40]
[null,null,"Servente com Encargos Complementares","h",9.9599999999999994E-2,16.026499999999999,1.5962393999999998,null,null,40]
[null,null,null,null,null,"","",null,null,40]
["SF-01287",{"$f":"INDEX(Orçamentária!A:B,MATCH(Composições!A4770,Orçamentária!A:A,0),2)","v":"Módulo campainha eletrônica – Linha Residencial"},null,{"$f":"TRIM(INDEX(Orçamentária!C:C,MATCH(Composições!A4770,Orçamentária!A:A,0),1))","v":"un"},null,"","",null,null,15]
[null,null,null,null,null,"","",null,null,15]
[null,null,"Campainha eletrônica de dois tons, 70 dB,  220V","un",1,111.5,111.5,{"$f":"SUM(G4772:G4774)","v":125.17478449999999},null,15]
[null,null,"Auxiliar de eletricista com encargos complementares","h",0.35099999999999998,17.042999999999999,5.982092999999999,null,null,15]
[null,null,"Eletricista com encargos complementares","h",0.35099999999999998,21.916499999999999,7.6926914999999996,null,null,15]
[null,null,null,null,null,"","",null,null,15]
["SF-01288",{"$f":"INDEX(Orçamentária!A:B,MATCH(Composições!A4776,Orçamentária!A:A,0),2)","v":"Módulo pulsador – Linha Residencial"},null,{"$f":"TRIM(INDEX(Orçamentária!C:C,MATCH(Composições!A4776,Orçamentária!A:A,0),1))","v":"un"},null,"","",null,null,15]
[null,null,null,null,null,"","",null,null,15]
[null,null,"PULSADOR CAMPAINHA 10A, 250V (APENAS MODULO)","UN",1,5.0540000000000003,5.0540000000000003,{"$f":"SUM(G4778:G4780)","v":13.8198875},null,15]
[null,null,"Auxiliar de eletricista com encargos complementares","h",0.22500000000000001,17.042999999999999,3.8346749999999998,null,null,15]
[null,null,"Eletricista com encargos complementares","h",0.22500000000000001,21.916499999999999,4.9312125,null,null,15]
[null,null,null,null,null,"","",null,null,15]
["SF-01289",{"$f":"INDEX(Orçamentária!A:B,MATCH(Composições!A4782,Orçamentária!A:A,0),2)","v":"Luminária redonda de sobrepor (plafond) – Linha Residencial"},null,{"$f":"TRIM(INDEX(Orçamentária!C:C,MATCH(Composições!A4782,Orçamentária!A:A,0),1))","v":"un"},null,"","",null,null,40]
[null,null,null,null,null,"","",null,null,40]
[null,null,"LUMINARIA PLAFON REDONDO COM VIDRO FOSCO DIAMETRO *30* CM, PARA 2 LAMPADAS, BASE E27, POTENCIA MAXIMA 40/60 W (NAO INCLUI LAMPADAS)","UN",1,38.978499999999997,38.978499999999997,{"$f":"SUM(G4784:G4787)","v":79.388214899999994},null,40]
[null,null,"LAMPADA FLUORESCENTE COMPACTA 2U BRANCA 15 W, BASE E27 (127/220 V)","UN",2,10.164999999999999,20.329999999999998,null,null,40]
[null,null,"Auxiliar de eletricista com encargos complementares","h",0.2883,17.042999999999999,4.9134969000000002,null,null,40]
[null,null,"Eletricista com encargos complementares","h",0.69199999999999995,21.916499999999999,15.166217999999999,null,null,40]
[null,null,null,null,null,"","",null,null,40]
["SF-01295",{"$f":"INDEX(Orçamentária!A:B,MATCH(Composições!A4789,Orçamentária!A:A,0),2)","v":"Bandeira de porta, em madeira e MDF"},null,{"$f":"TRIM(INDEX(Orçamentária!C:C,MATCH(Composições!A4789,Orçamentária!A:A,0),1))","v":"m²"},null,"","",null,null,30]
[null,null,null,null,null,"","",null,null,30]
[null,null,"PORTA DE MADEIRA, FOLHA MEDIA (NBR 15930) DE 80 X 210 CM, E = 35 MM, NUCLEO SARRAFEADO, CAPA FRISADA EM HDF, ACABAMENTO MELAMINICO EM PADRAO MADEIRA","UN",{"$f":"1/(0.8*2.1)","v":0.59523809523809523},223.89599999999999,133.27142857142857,{"$f":"SUM(G4791:G4794)","v":173.22690572142858},null,30]
[null,null,"CANTONEIRA ALUMINIO ABAS IGUAIS 1 \", E = 3 /16 \"","M",{"$f":"1/0.8","v":1.25},14.515999999999998,18.144999999999996,null,null,30]
[null,null,"CARPINTEIRO DE ESQUADRIA COM ENCARGOS COMPLEMENTARES","H",{"$f":"ROUND(1.546*0.8/(2.1*0.8),4)","v":0.73619999999999997},21.612500000000001,15.911122499999999,null,null,30]
[null,null,"SERVENTE COM ENCARGOS COMPLEMENTARES","H",{"$f":"ROUND(0.773*0.8/(2.1*0.8),4)","v":0.36809999999999998},16.026499999999999,5.8993546499999994,null,null,30]
[null,null,null,null,null,"","",null,null,30]
["SF-01296",{"$f":"INDEX(Orçamentária!A:B,MATCH(Composições!A4796,Orçamentária!A:A,0),2)","v":"Bandeira de porta, em madeira pintada"},null,{"$f":"TRIM(INDEX(Orçamentária!C:C,MATCH(Composições!A4796,Orçamentária!A:A,0),1))","v":"m²"},null,"","",null,null,13.5]
[null,null,null,null,null,"","",null,null,13.5]
[null,null,"PORTA DE MADEIRA, FOLHA MEDIA (NBR 15930) DE 80 X 210 CM, E = 35 MM, NUCLEO SARRAFEADO, CAPA LISA EM HDF, ACABAMENTO EM LAMINADO NATURAL PARA VERNIZ","UN",{"$f":"1/(0.8*2.1)","v":0.59523809523809523},222.053,132.17440476190475,{"$f":"SUM(G4798:G4805)","v":190.20403191190476},null,13.5]
[null,null,"CANTONEIRA ALUMINIO ABAS IGUAIS 1 \", E = 3 /16 \"","M",{"$f":"1/0.8","v":1.25},14.515999999999998,18.144999999999996,null,null,13.5]
[null,null,"CARPINTEIRO DE ESQUADRIA COM ENCARGOS COMPLEMENTARES","H",{"$f":"ROUND(1.546*0.8/(0.8*2.1),4)","v":0.73619999999999997},21.612500000000001,15.911122499999999,null,null,13.5]
[null,null,"SERVENTE COM ENCARGOS COMPLEMENTARES","H",{"$f":"ROUND(0.773*0.8/(0.8*2.1),4)","v":0.36809999999999998},16.026499999999999,5.8993546499999994,null,null,13.5]
[null,null,"Lixa em folha para parede ou madeira, numero 120 (cor vermelha)","un",1,0.64600000000000002,0.64600000000000002,null,null,13.5]
[null,null,"Verniz a base de água para madeira","L",0.108,32.549999999999997,3.5153999999999996,null,null,13.5]
[null,null,"Pintor com encargos complementares","h",0.4,22.762,9.1048000000000009,null,null,13.5]
[null,null,"Servente com Encargos Complementares","h",0.3,16.026499999999999,4.8079499999999991,null,null,13.5]
[null,null,null,null,null,null,null,null,null,13.5]
[null,null,"Obs: considerando rendimento informado na especificação técnica de produto equivalente da Suvinil (Lata de 3,6L rende até 100 m²/demão).",null,null,null,null,null,null,13.5]
[null,null,null,null,null,"",{"$f":"IF(ISNUMBER(F4808),E4808*F4808,\"\")","v":""},null,null,13.5]
["SF-01310",{"$f":"INDEX(Orçamentária!A:B,MATCH(Composições!A4809,Orçamentária!A:A,0),2)","v":"Cambota elastomérica de 8”"},null,{"$f":"TRIM(INDEX(Orçamentária!C:C,MATCH(Composições!A4809,Orçamentária!A:A,0),1))","v":"un"},null,"","",null,null,0]
[null,null,null,null,null,"","",null,null,0]
[null,null,"AUXILIAR DE ENCANADOR OU BOMBEIRO HIDRÁULICO COM ENCARGOS COMPLEMENTARES","H",0.93,16.596499999999999,15.434744999999999,{"$f":"SUM(G4811:G4813)","v":35.251649999999998},null,0]
[null,null,"ENCANADOR OU BOMBEIRO HIDRÁULICO COM ENCARGOS COMPLEMENTARES","H",0.93,21.308499999999999,19.816904999999998,null,null,0]
[null,null,"Cambota elastomérica de 8\" para suporte de tubulação industrial","UN",1,"","",null,null,0]
[null,null,null,null,null,"","",null,null,0]
["SF-01311",{"$f":"INDEX(Orçamentária!A:B,MATCH(Composições!A4815,Orçamentária!A:A,0),2)","v":"Curva raio curto 45° em aço carbono para solda de topo DN 125 (5\" NPS)"},null,{"$f":"TRIM(INDEX(Orçamentária!C:C,MATCH(Composições!A4815,Orçamentária!A:A,0),1))","v":"un"},null,"","",null,null,0]
[null,null,null,null,null,"","",null,null,0]
[null,null,"ELETRODO REVESTIDO AWS - E6013, DIAMETRO IGUAL A 2,50 MM","KG",{"$f":"ROUND(0.089*1.3,4)","v":0.1157},16.187999999999999,1.8729515999999997,{"$f":"SUM(G4817:G4821)","v":74.679536099999993},null,0]
[null,null,"Curva raio curto 45° em aço carbono para solda de topo, SCH 40, DN 125 (5\" NPS)","UN",1,"","",null,null,0]
[null,null,"AUXILIAR DE ENCANADOR OU BOMBEIRO HIDRÁULICO COM ENCARGOS COMPLEMENTARES","H",{"$f":"ROUND(0.93*1.3,4)","v":1.2090000000000001},16.596499999999999,20.065168499999999,null,null,0]
[null,null,"ENCANADOR OU BOMBEIRO HIDRÁULICO COM ENCARGOS COMPLEMENTARES","H",{"$f":"ROUND(0.93*1.3,4)","v":1.2090000000000001},21.308499999999999,25.761976499999999,null,null,0]
[null,null,"SOLDADOR COM ENCARGOS COMPLEMENTARES","H",{"$f":"ROUND(0.93*1.3,4)","v":1.2090000000000001},22.315499999999997,26.979439499999998,null,null,0]
[null,null,null,null,null,"","",null,null,0]
["SF-01312",{"$f":"INDEX(Orçamentária!A:B,MATCH(Composições!A4823,Orçamentária!A:A,0),2)","v":"Curva raio curto 90° em aço carbono para solda de topo DN 125 (5\" NPS)"},null,{"$f":"TRIM(INDEX(Orçamentária!C:C,MATCH(Composições!A4823,Orçamentária!A:A,0),1))","v":"un"},null,"","",null,null,0]
[null,null,null,null,null,"","",null,null,0]
[null,null,"ELETRODO REVESTIDO AWS - E6013, DIAMETRO IGUAL A 2,50 MM","KG",{"$f":"ROUND(0.089*1.3,4)","v":0.1157},16.187999999999999,1.8729515999999997,{"$f":"SUM(G4825:G4829)","v":74.679536099999993},null,0]
[null,null,"Curva raio curto 90° em aço carbono para solda de topo, SCH 40, DN 125 (5\" NPS)","UN",1,"","",null,null,0]
[null,null,"AUXILIAR DE ENCANADOR OU BOMBEIRO HIDRÁULICO COM ENCARGOS COMPLEMENTARES","H",{"$f":"ROUND(0.93*1.3,4)","v":1.2090000000000001},16.596499999999999,20.065168499999999,null,null,0]
[null,null,"ENCANADOR OU BOMBEIRO HIDRÁULICO COM ENCARGOS COMPLEMENTARES","H",{"$f":"ROUND(0.93*1.3,4)","v":1.2090000000000001},21.308499999999999,25.761976499999999,null,null,0]
[null,null,"SOLDADOR COM ENCARGOS COMPLEMENTARES","H",{"$f":"ROUND(0.93*1.3,4)","v":1.2090000000000001},22.315499999999997,26.979439499999998,null,null,0]
[null,null,null,null,null,"","",null,null,0]
["SF-01313",{"$f":"INDEX(Orçamentária!A:B,MATCH(Composições!A4831,Orçamentária!A:A,0),2)","v":"Curva raio longo 90° em aço carbono para solda de topo DN 125 (5\" NPS)"},null,{"$f":"TRIM(INDEX(Orçamentária!C:C,MATCH(Composições!A4831,Orçamentária!A:A,0),1))","v":"un"},null,"","",null,null,0]
[null,null,null,null,null,"","",null,null,0]
[null,null,"ELETRODO REVESTIDO AWS - E6013, DIAMETRO IGUAL A 2,50 MM","KG",{"$f":"ROUND(0.089*1.3,4)","v":0.1157},16.187999999999999,1.8729515999999997,{"$f":"SUM(G4833:G4837)","v":74.679536099999993},null,0]
[null,null,"Curva raio longo 90° em aço carbono para solda de topo, SCH 40, DN 125 (5\" NPS)","UN",1,"","",null,null,0]
[null,null,"AUXILIAR DE ENCANADOR OU BOMBEIRO HIDRÁULICO COM ENCARGOS COMPLEMENTARES","H",{"$f":"ROUND(0.93*1.3,4)","v":1.2090000000000001},16.596499999999999,20.065168499999999,null,null,0]
[null,null,"ENCANADOR OU BOMBEIRO HIDRÁULICO COM ENCARGOS COMPLEMENTARES","H",{"$f":"ROUND(0.93*1.3,4)","v":1.2090000000000001},21.308499999999999,25.761976499999999,null,null,0]
[null,null,"SOLDADOR COM ENCARGOS COMPLEMENTARES","H",{"$f":"ROUND(0.93*1.3,4)","v":1.2090000000000001},22.315499999999997,26.979439499999998,null,null,0]
[null,null,null,null,null,"","",null,null,0]
["SF-01314",{"$f":"INDEX(Orçamentária!A:B,MATCH(Composições!A4839,Orçamentária!A:A,0),2)","v":"Curva raio longo 90° em aço carbono para solda de topo DN 200 (8\" NPS)"},null,{"$f":"TRIM(INDEX(Orçamentária!C:C,MATCH(Composições!A4839,Orçamentária!A:A,0),1))","v":"un"},null,"","",null,null,0]
[null,null,null,null,null,"",{"$f":"IF(ISNUMBER(F4840),E4840*F4840,\"\")","v":""},null,null,0]
[null,null,"ELETRODO REVESTIDO AWS - E6013, DIAMETRO IGUAL A 2,50 MM","KG",{"$f":"ROUND(0.089*1.5,4)","v":0.13350000000000001},16.187999999999999,2.161098,{"$f":"SUM(G4841:G4845)","v":86.168695499999998},null,0]
[null,null,"Curva raio longo 90° em aço carbono para solda de topo, SCH 40, DN 200 (8\" NPS)","UN",1,"","",null,null,0]
[null,null,"AUXILIAR DE ENCANADOR OU BOMBEIRO HIDRÁULICO COM ENCARGOS COMPLEMENTARES","H",{"$f":"ROUND(0.93*1.5,4)","v":1.395},16.596499999999999,23.152117499999999,null,null,0]
[null,null,"ENCANADOR OU BOMBEIRO HIDRÁULICO COM ENCARGOS COMPLEMENTARES","H",{"$f":"ROUND(0.93*1.5,4)","v":1.395},21.308499999999999,29.725357499999998,null,null,0]
[null,null,"SOLDADOR COM ENCARGOS COMPLEMENTARES","H",{"$f":"ROUND(0.93*1.5,4)","v":1.395},22.315499999999997,31.130122499999995,null,null,0]
[null,null,null,null,null,"","",null,null,0]
["SF-01315",{"$f":"INDEX(Orçamentária!A:B,MATCH(Composições!A4847,Orçamentária!A:A,0),2)","v":"Eliminador de ar para líquidos DN 20 (3/4\" NPS)"},null,{"$f":"TRIM(INDEX(Orçamentária!C:C,MATCH(Composições!A4847,Orçamentária!A:A,0),1))","v":"un"},null,"","",null,null,0]
[null,null,null,null,null,"","",null,null,0]
[null,null,"Eliminador de ar para líquidos com pressão máxima de operação de 10,5 kgf/cm2 (150 psi), DN 20 (3/4\" NPS), conexão roscada","UN",1,"","",{"$f":"SUM(G4849:G4851)","v":14.85876},null,0]
[null,null,"AUXILIAR DE ENCANADOR OU BOMBEIRO HIDRÁULICO COM ENCARGOS COMPLEMENTARES","H",0.39200000000000002,16.596499999999999,6.5058280000000002,null,null,0]
[null,null,"ENCANADOR OU BOMBEIRO HIDRÁULICO COM ENCARGOS COMPLEMENTARES","H",0.39200000000000002,21.308499999999999,8.3529319999999991,null,null,0]
[null,null,null,null,null,"","",null,null,0]
["SF-01316",{"$f":"INDEX(Orçamentária!A:B,MATCH(Composições!A4853,Orçamentária!A:A,0),2)","v":"Flange de pescoço, aço carbono, classe 150, DN 125 (5\" NPS)"},null,{"$f":"TRIM(INDEX(Orçamentária!C:C,MATCH(Composições!A4853,Orçamentária!A:A,0),1))","v":"un"},null,"","",null,null,0]
[null,null,null,null,null,"","",null,null,0]
[null,null,"ELETRODO REVESTIDO AWS - E6013, DIAMETRO IGUAL A 2,50 MM","KG",{"$f":"ROUND(0.089*1.3,4)","v":0.1157},16.187999999999999,1.8729515999999997,{"$f":"SUM(G4855:G4859)","v":74.679536099999993},null,0]
[null,null,"Flange de pescoço em aço carbono, classe 150, DN 125 (5\" NPS)","UN",1,"","",null,null,0]
[null,null,"AUXILIAR DE ENCANADOR OU BOMBEIRO HIDRÁULICO COM ENCARGOS COMPLEMENTARES","H",{"$f":"ROUND(0.93*1.3,4)","v":1.2090000000000001},16.596499999999999,20.065168499999999,null,null,0]
[null,null,"ENCANADOR OU BOMBEIRO HIDRÁULICO COM ENCARGOS COMPLEMENTARES","H",{"$f":"ROUND(0.93*1.3,4)","v":1.2090000000000001},21.308499999999999,25.761976499999999,null,null,0]
[null,null,"SOLDADOR COM ENCARGOS COMPLEMENTARES","H",{"$f":"ROUND(0.93*1.3,4)","v":1.2090000000000001},22.315499999999997,26.979439499999998,null,null,0]
[null,null,null,null,null,"","",null,null,0]
["SF-01317",{"$f":"INDEX(Orçamentária!A:B,MATCH(Composições!A4861,Orçamentária!A:A,0),2)","v":"Isolamento elastomérico para tubulações de ferro de 5”"},null,{"$f":"TRIM(INDEX(Orçamentária!C:C,MATCH(Composições!A4861,Orçamentária!A:A,0),1))","v":"m"},null,"","",null,null,0]
[null,null,null,null,null,"","",null,null,0]
[null,null,"isolamento elastomérico em formato de tubo ou coquilha de espessura M, próprio para tubulações de ferro de diâmetro nominal 5”. Ref.: AF/Armaflex M-48, K-Flex ST","m",1.0210999999999999,"","",{"$f":"SUM(G4863:G4865)","v":3.6388799999999999},null,0]
[null,null,"AUXILIAR DE ENCANADOR OU BOMBEIRO HIDRÁULICO COM ENCARGOS COMPLEMENTARES","H",{"$f":"5*0.064*0.3","v":9.6000000000000002E-2},16.596499999999999,1.593264,null,null,0]
[null,null,"ENCANADOR OU BOMBEIRO HIDRÁULICO COM ENCARGOS COMPLEMENTARES","H",{"$f":"5*0.064*0.3","v":9.6000000000000002E-2},21.308499999999999,2.0456159999999999,null,null,0]
[null,null,null,null,null,"","",null,null,0]
["SF-01318",{"$f":"INDEX(Orçamentária!A:B,MATCH(Composições!A4867,Orçamentária!A:A,0),2)","v":"Meia luva em aço carbono DN 15 (1/2\" NPS)"},null,{"$f":"TRIM(INDEX(Orçamentária!C:C,MATCH(Composições!A4867,Orçamentária!A:A,0),1))","v":"un"},null,"","",null,null,0]
[null,null,null,null,null,"","",null,null,0]
[null,null,"ELETRODO REVESTIDO AWS - E6013, DIAMETRO IGUAL A 2,50 MM","KG",8.9999999999999993E-3,16.187999999999999,0.14569199999999999,{"$f":"SUM(G4869:G4873)","v":7.0108289999999993},null,0]
[null,null,"Meia luva em aço carbono, classe 3000 lbs, rosca BSP ou NPT, DN 15 (1/2\" NPS)","UN",1,"","",null,null,0]
[null,null,"AUXILIAR DE ENCANADOR OU BOMBEIRO HIDRÁULICO COM ENCARGOS COMPLEMENTARES","H",0.114,16.596499999999999,1.892001,null,null,0]
[null,null,"ENCANADOR OU BOMBEIRO HIDRÁULICO COM ENCARGOS COMPLEMENTARES","H",0.114,21.308499999999999,{"$f":"IF(ISNUMBER(F4872),E4872*F4872,\"\")","v":2.4291689999999999},null,null,0]
[null,null,"SOLDADOR COM ENCARGOS COMPLEMENTARES","H",0.114,22.315499999999997,2.5439669999999999,null,null,0]
[null,null,null,null,null,"","",null,null,0]
["SF-01319",{"$f":"INDEX(Orçamentária!A:B,MATCH(Composições!A4875,Orçamentária!A:A,0),2)","v":"Redução concêntrica em aço carbono para solda de topo DN 200 (8\" NPS) × DN 125 (5\" NPS)"},null,{"$f":"TRIM(INDEX(Orçamentária!C:C,MATCH(Composições!A4875,Orçamentária!A:A,0),1))","v":"un"},null,"","",null,null,0]
[null,null,null,null,null,"","",null,null,0]
[null,null,"ELETRODO REVESTIDO AWS - E6013, DIAMETRO IGUAL A 2,50 MM","KG",{"$f":"ROUND(0.089*1.3,4)","v":0.1157},16.187999999999999,1.8729515999999997,{"$f":"SUM(G4877:G4881)","v":50.410674600000007},null,0]
[null,null,"Redução concêntrica em aço carbono para solda de topo, SCH 40, diâmetro DN 200 (8\" NPS) × DN 125 (5\" NPS)","UN",1,"","",null,null,0]
[null,null,"AUXILIAR DE ENCANADOR OU BOMBEIRO HIDRÁULICO COM ENCARGOS COMPLEMENTARES","H",{"$f":"ROUND(0.62*1.3,4)","v":0.80600000000000005},16.596499999999999,13.376778999999999,null,null,0]
[null,null,"ENCANADOR OU BOMBEIRO HIDRÁULICO COM ENCARGOS COMPLEMENTARES","H",{"$f":"ROUND(0.62*1.3,4)","v":0.80600000000000005},21.308499999999999,17.174651000000001,null,null,0]
[null,null,"SOLDADOR COM ENCARGOS COMPLEMENTARES","H",0.80600000000000005,22.315499999999997,17.986293,null,null,0]
[null,null,null,null,null,"","",null,null,0]
["SF-01325",{"$f":"INDEX(Orçamentária!A:B,MATCH(Composições!A4883,Orçamentária!A:A,0),2)","v":"Tê em aço carbono para solda de topo DN 200 (8\" NPS)"},null,{"$f":"TRIM(INDEX(Orçamentária!C:C,MATCH(Composições!A4883,Orçamentária!A:A,0),1))","v":"un"},null,"","",null,null,0]
[null,null,null,null,null,"","",null,null,0]
[null,null,"ELETRODO REVESTIDO AWS - E6013, DIAMETRO IGUAL A 2,50 MM","KG",{"$f":"ROUND(0.133*1.3,4)","v":0.1729},16.187999999999999,2.7989051999999996,{"$f":"SUM(G4885:G4889)","v":78.110662499999989},null,0]
[null,null,"Tê em aço carbono para solda de topo, SCH 40, diâmetro DN 200 (8\" NPS)","UN",1,"","",null,null,0]
[null,null,"AUXILIAR DE ENCANADOR OU BOMBEIRO HIDRÁULICO COM ENCARGOS COMPLEMENTARES","H",{"$f":"ROUND(0.962*1.3,4)","v":1.2505999999999999},16.596499999999999,20.755582899999997,null,null,0]
[null,null,"ENCANADOR OU BOMBEIRO HIDRÁULICO COM ENCARGOS COMPLEMENTARES","H",{"$f":"ROUND(0.962*1.3,4)","v":1.2505999999999999},21.308499999999999,26.648410099999996,null,null,0]
[null,null,"SOLDADOR COM ENCARGOS COMPLEMENTARES","H",1.2505999999999999,22.315499999999997,27.907764299999993,null,null,0]
[null,null,null,null,null,"","",null,null,0]
["SF-01326",{"$f":"INDEX(Orçamentária!A:B,MATCH(Composições!A4891,Orçamentária!A:A,0),2)","v":"Tubo de aço-carbono preto DN 125 (5\" NPS)"},null,{"$f":"TRIM(INDEX(Orçamentária!C:C,MATCH(Composições!A4891,Orçamentária!A:A,0),1))","v":"m"},null,"","",null,null,0]
[null,null,null,null,null,"","",null,null,0]
[null,null,"ESCAVADEIRA HIDRÁULICA SOBRE ESTEIRAS, CAÇAMBA 0,80 M3, PESO OPERACIONAL 17 T, POTENCIA BRUTA 111 HP - CHP DIURNO. AF_06/2014","CHP",2.1100000000000001E-2,115.0925,2.4284517500000002,{"$f":"SUM(G4893:G4899)","v":270.88838650000002},null,0]
[null,null,"ESCAVADEIRA HIDRÁULICA SOBRE ESTEIRAS, CAÇAMBA 0,80 M3, PESO OPERACIONAL 17 T, POTENCIA BRUTA 111 HP - CHI DIURNO. AF_06/2014","CHI",4.0300000000000002E-2,49.2575,1.9850772500000002,null,null,0]
[null,null,"ELETRODO REVESTIDO AWS - E7018, DIAMETRO IGUAL A 4,00 MM","KG",{"$f":"ROUND(0.1875*0.6,4)","v":0.1125},16.862500000000001,1.8970312500000002,null,null,0]
[null,null,"ASSENTADOR DE TUBOS COM ENCARGOS COMPLEMENTARES","H",6.5600000000000006E-2,16.985999999999997,1.1142816,null,null,0]
[null,null,"SERVENTE COM ENCARGOS COMPLEMENTARES","H",6.5600000000000006E-2,16.026499999999999,1.0513383999999999,null,null,0]
[null,null,"SOLDADOR COM ENCARGOS COMPLEMENTARES","H",{"$f":"ROUND(0.4792*0.6,4)","v":0.28749999999999998},22.315499999999997,6.4157062499999986,null,null,0]
[null,null,"TUBO ACO CARBONO SEM COSTURA 5\", E= *6,55 MM, SCHEDULE 40, *21,75* KG/M","M",1,255.99650000000003,255.99650000000003,null,null,0]
[null,null,null,null,null,"","",null,null,0]
["SF-01327",{"$f":"INDEX(Orçamentária!A:B,MATCH(Composições!A4901,Orçamentária!A:A,0),2)","v":"Tubo de aço-carbono preto DN 200 (8\" NPS)"},null,{"$f":"TRIM(INDEX(Orçamentária!C:C,MATCH(Composições!A4901,Orçamentária!A:A,0),1))","v":"m"},null,"","",null,null,0]
[null,null,null,null,null,"","",null,null,0]
[null,null,"ESCAVADEIRA HIDRÁULICA SOBRE ESTEIRAS, CAÇAMBA 0,80 M3, PESO OPERACIONAL 17 T, POTENCIA BRUTA 111 HP - CHP DIURNO. AF_06/2014","CHP",2.1100000000000001E-2,115.0925,2.4284517500000002,{"$f":"SUM(G4903:G4909)","v":451.54828670000001},null,0]
[null,null,"ESCAVADEIRA HIDRÁULICA SOBRE ESTEIRAS, CAÇAMBA 0,80 M3, PESO OPERACIONAL 17 T, POTENCIA BRUTA 111 HP - CHI DIURNO. AF_06/2014","CHI",4.0300000000000002E-2,49.2575,{"$f":"IF(ISNUMBER(F4904),E4904*F4904,\"\")","v":1.9850772500000002},null,null,0]
[null,null,"ELETRODO REVESTIDO AWS - E7018, DIAMETRO IGUAL A 4,00 MM","KG",{"$f":"ROUND(0.1875*0.8,4)","v":0.15},16.862500000000001,2.5293749999999999,null,null,0]
[null,null,"ASSENTADOR DE TUBOS COM ENCARGOS COMPLEMENTARES","H",6.5600000000000006E-2,16.985999999999997,1.1142816,null,null,0]
[null,null,"SERVENTE COM ENCARGOS COMPLEMENTARES","H",6.5600000000000006E-2,16.026499999999999,1.0513383999999999,null,null,0]
[null,null,"SOLDADOR COM ENCARGOS COMPLEMENTARES","H",{"$f":"ROUND(0.4792*0.8,4)","v":0.38340000000000002},22.315499999999997,8.5557626999999989,null,null,0]
[null,null,"TUBO ACO CARBONO SEM COSTURA 8\", E= *8,18 MM, SCHEDULE 40, *42,55 KG/M","M",1,433.88400000000001,433.88400000000001,null,null,0]
[null,null,null,null,null,"","",null,null,0]
["SF-01328",{"$f":"INDEX(Orçamentária!A:B,MATCH(Composições!A4911,Orçamentária!A:A,0),2)","v":"Válvula de esfera em bronze 1/2”"},null,{"$f":"TRIM(INDEX(Orçamentária!C:C,MATCH(Composições!A4911,Orçamentária!A:A,0),1))","v":"un"},null,"","",null,null,0]
[null,null,null,null,null,"","",null,null,0]
[null,null,"FITA VEDA ROSCA EM ROLOS DE 18 MM X 50 M (L X C)","UN",9.4999999999999998E-3,11.7325,0.11145875,{"$f":"SUM(G4913:G4916)","v":69.796381249999996},null,0]
[null,null,"VALVULA DE ESFERA BRUTA EM BRONZE, BITOLA 1/2 \" (REF 1552-B)","UN",1,40.327500000000001,40.327500000000001,null,null,0]
[null,null,"AUXILIAR DE ENCANADOR OU BOMBEIRO HIDRÁULICO COM ENCARGOS COMPLEMENTARES","H",0.77449999999999997,16.596499999999999,12.853989249999998,null,null,0]
[null,null,"ENCANADOR OU BOMBEIRO HIDRÁULICO COM ENCARGOS COMPLEMENTARES","H",0.77449999999999997,21.308499999999999,16.503433249999997,null,null,0]
[null,null,null,null,null,"","",null,null,0]
["SF-01329",{"$f":"INDEX(Orçamentária!A:B,MATCH(Composições!A4918,Orçamentária!A:A,0),2)","v":"Válvula gaveta com flange DN 125 (5\" NPS)"},null,{"$f":"TRIM(INDEX(Orçamentária!C:C,MATCH(Composições!A4918,Orçamentária!A:A,0),1))","v":"un"},null,"","",null,null,0]
[null,null,null,null,null,"","",null,null,0]
[null,null,"FITA VEDA ROSCA EM ROLOS DE 18 MM X 50 M (L X C)","UN",5.7000000000000002E-2,11.7325,0.66875249999999997,{"$f":"SUM(G4920:G4923)","v":32.7742875},null,0]
[null,null,"Válvula gaveta com flange DN 125 (5\" NPS)","UN",1,"","",null,null,0]
[null,null,"AUXILIAR DE ENCANADOR OU BOMBEIRO HIDRÁULICO COM ENCARGOS COMPLEMENTARES","H",0.84699999999999998,16.596499999999999,14.057235499999999,null,null,0]
[null,null,"ENCANADOR OU BOMBEIRO HIDRÁULICO COM ENCARGOS COMPLEMENTARES","H",0.84699999999999998,21.308499999999999,18.048299499999999,null,null,0]
[null,null,null,null,null,"","",null,null,0]
["SF-01331",{"$f":"INDEX(Orçamentária!A:B,MATCH(Composições!A4925,Orçamentária!A:A,0),2)","v":"Cabo de fibra óptica monomodo 12 fibras"},null,{"$f":"TRIM(INDEX(Orçamentária!C:C,MATCH(Composições!A4925,Orçamentária!A:A,0),1))","v":"m"},null,"","",null,null,0]
[null,null,null,null,null,"","",null,null,0]
[null,null,"Cabo constituído por 12 fibras ópticas do tipo monomodo (9/125μm)","UN",1.05,"","",{"$f":"SUM(G4927:G4929)","v":2.7700204499999996},null,0]
[null,null,"AUXILIAR DE ELETRICISTA COM ENCARGOS COMPLEMENTARES","H",7.1099999999999997E-2,17.042999999999999,1.2117572999999999,null,null,0]
[null,null,"ELETRICISTA COM ENCARGOS COMPLEMENTARES","H",7.1099999999999997E-2,21.916499999999999,1.5582631499999999,null,null,0]
[null,null,null,null,null,"","",null,null,0]
["SF-01332",{"$f":"INDEX(Orçamentária!A:B,MATCH(Composições!A4931,Orçamentária!A:A,0),2)","v":"Cabo de fibra óptica monomodo 144 fibras"},null,{"$f":"TRIM(INDEX(Orçamentária!C:C,MATCH(Composições!A4931,Orçamentária!A:A,0),1))","v":"m"},null,"","",null,null,0]
[null,null,null,null,null,"","",null,null,0]
[null,null,"Cabo constituído por 144 fibras ópticas do tipo monomodo (9/125μm)","UN",1.05,"","",{"$f":"SUM(G4933:G4935)","v":5.4075785999999999},null,0]
[null,null,"AUXILIAR DE ELETRICISTA COM ENCARGOS COMPLEMENTARES","H",0.13880000000000001,17.042999999999999,2.3655683999999999,null,null,0]
[null,null,"ELETRICISTA COM ENCARGOS COMPLEMENTARES","H",0.13880000000000001,21.916499999999999,3.0420102,null,null,0]
[null,null,null,null,null,"",{"$f":"IF(ISNUMBER(F4936),E4936*F4936,\"\")","v":""},null,null,0]
["SF-01333",{"$f":"INDEX(Orçamentária!A:B,MATCH(Composições!A4937,Orçamentária!A:A,0),2)","v":"Caixa de passagem em alumínio 300x300x120mm"},null,{"$f":"TRIM(INDEX(Orçamentária!C:C,MATCH(Composições!A4937,Orçamentária!A:A,0),1))","v":"un"},null,"","",null,null,0]
[null,null,null,null,null,"","",null,null,0]
[null,null,"Eletricista com encargos complementares","h",0.34599999999999997,21.916499999999999,7.5831089999999994,{"$f":"SUM(G4939:G4941)","v":49.560777999999999},null,0]
[null,null,"Servente com Encargos Complementares","h",0.34599999999999997,16.026499999999999,5.5451689999999987,null,null,0]
[null,null,"CAIXA DE PASSAGEM METALICA DE SOBREPOR COM TAMPA PARAFUSADA, DIMENSOES 30 X 30 X 10 CM","un",1,36.432499999999997,36.432499999999997,null,null,0]
[null,null,null,null,null,"","",null,null,0]
["SF-01334",{"$f":"INDEX(Orçamentária!A:B,MATCH(Composições!A4943,Orçamentária!A:A,0),2)","v":"Caixa de Passagem Subterrânea 1600x2000mm"},null,{"$f":"TRIM(INDEX(Orçamentária!C:C,MATCH(Composições!A4943,Orçamentária!A:A,0),1))","v":"un"},null,"","",null,null,0]
[null,null,null,null,null,"","",null,null,0]
[null,null,"ACO CA-50, 6,3 MM, VERGALHAO","KG",{"$f":"ROUND(22.81*1.3,4)","v":29.652999999999999},5.8425000000000002,173.24765249999999,{"$f":"SUM(G4945:G4956)","v":1541.3864734356846},null,0]
[null,null,"ARAME RECOZIDO 16 BWG, D = 1,65 MM (0,016 KG/M) OU 18 BWG, D = 1,25 MM (0,01 KG/M)","KG",{"$f":"ROUND(0.684*1.3,4)","v":0.88919999999999999},13.281000000000001,11.8094652,null,null,0]
[null,null,"ALVENARIA DE VEDAÇÃO DE BLOCOS VAZADOS DE CONCRETO DE 9X19X39CM (ESPESSURA 9CM) DE PAREDES COM ÁREA LÍQUIDA MENOR QUE 6M² SEM VÃOS E ARGAMASSA DE ASSENTAMENTO COM PREPARO EM BETONEIRA. AF_06/2014","M2",{"$f":"ROUND(7.02*1.3,4)","v":9.1259999999999994},50.03062434956,456.57947781408456,null,null,0]
[null,null,"EMBOÇO, PARA RECEBIMENTO DE CERÂMICA, EM ARGAMASSA TRAÇO 1:2:8, PREPARO MECÂNICO COM BETONEIRA 400L, APLICADO MANUALMENTE EM FACES INTERNAS DE PAREDES, PARA AMBIENTE COM ÁREA MENOR QUE 5M2, ESPESSURA DE 10MM, COM EXECUÇÃO DE TALISCAS. AF_06/2014","M2",{"$f":"ROUND(6.5*1.3,4)","v":8.4499999999999993},22.124482542685001,186.95187748568824,null,null,0]
[null,null,"CHAPISCO APLICADO EM ALVENARIAS E ESTRUTURAS DE CONCRETO INTERNAS, COM COLHER DE PEDREIRO.  ARGAMASSA TRAÇO 1:3 COM PREPARO EM BETONEIRA 400L. AF_06/2014","M2",{"$f":"ROUND(6.5*1.3,4)","v":8.4499999999999993},3.3501286781899999,28.308587330705496,null,null,0]
[null,null,"ARMADOR COM ENCARGOS COMPLEMENTARES","H",{"$f":"ROUND(0.9*1.3,4)","v":1.17},21.612500000000001,25.286625000000001,null,null,0]
[null,null,"PEDREIRO COM ENCARGOS COMPLEMENTARES","H",{"$f":"ROUND(5.62*1.3,4)","v":7.306},21.716999999999999,158.664402,null,null,0]
[null,null,"SERVENTE COM ENCARGOS COMPLEMENTARES","H",{"$f":"ROUND(5.62*1.3,4)","v":7.306},16.026499999999999,117.089609,null,null,0]
[null,null,"MONTAGEM E DESMONTAGEM DE FÔRMA DE PILARES RETANGULARES E ESTRUTURAS SIMILARES COM ÁREA MÉDIA DAS SEÇÕES MAIOR QUE 0,25 M², PÉ-DIREITO SIMPLES, EM MADEIRA SERRADA, 2 UTILIZAÇÕES. AF_12/2015","M2",{"$f":"ROUND(0.47*1.3,4)","v":0.61099999999999999},131.79053201000002,80.52401505811001,null,null,0]
[null,null,"CONCRETO MAGRO PARA LASTRO, TRAÇO 1:4,5:4,5 (CIMENTO/ AREIA MÉDIA/ BRITA 1)  - PREPARO MECÂNICO COM BETONEIRA 400 L. AF_07/2016","M3",{"$f":"ROUND(0.218*1.3,4)","v":0.28339999999999999},328.62902047924996,93.133464403819431,null,null,0]
[null,null,"CONCRETO FCK = 15MPA, TRAÇO 1:3,4:3,5 (CIMENTO/ AREIA MÉDIA/ BRITA 1)  - PREPARO MECÂNICO COM BETONEIRA 600 L. AF_07/2016","M3",{"$f":"ROUND(0.169*1.3,4)","v":0.21970000000000001},347.65676081364995,76.380190350758895,null,null,0]
[null,null,"CONCRETO FCK = 20MPA, TRAÇO 1:2,7:3 (CIMENTO/ AREIA MÉDIA/ BRITA 1)  - PREPARO MECÂNICO COM BETONEIRA 600 L. AF_07/2016","M3",{"$f":"ROUND(0.2808*1.3,4)","v":0.36499999999999999},365.50988299319999,133.41110729251798,null,null,0]
[null,null,null,null,null,"","",null,null,0]
["SF-01336",{"$f":"INDEX(Orçamentária!A:B,MATCH(Composições!A4958,Orçamentária!A:A,0),2)","v":"Eletroduto PEAD 2”"},null,{"$f":"TRIM(INDEX(Orçamentária!C:C,MATCH(Composições!A4958,Orçamentária!A:A,0),1))","v":"m"},null,"","",null,null,0]
[null,null,null,null,null,"","",null,null,0]
[null,null,"ELETRODUTO/DUTO PEAD FLEXIVEL PAREDE SIMPLES, CORRUGACAO HELICOIDAL, COR PRETA, SEM ROSCA, DE 2\",  PARA CABEAMENTO SUBTERRANEO (NBR 15715)","M",1.1000000000000001,4.9685000000000006,5.4653500000000008,{"$f":"SUM(G4960:G4962)","v":9.5560974999999999},null,0]
[null,null,"AUXILIAR DE ELETRICISTA COM ENCARGOS COMPLEMENTARES","H",0.105,17.042999999999999,1.789515,null,null,0]
[null,null,"ELETRICISTA COM ENCARGOS COMPLEMENTARES","H",0.105,21.916499999999999,2.3012324999999998,null,null,0]
[null,null,null,null,null,"","",null,null,0]
["SF-01339",{"$f":"INDEX(Orçamentária!A:B,MATCH(Composições!A4964,Orçamentária!A:A,0),2)","v":"Tampa em Ferro Fundido - Circular DN-600 mm Classe 400"},null,{"$f":"TRIM(INDEX(Orçamentária!C:C,MATCH(Composições!A4964,Orçamentária!A:A,0),1))","v":"un"},null,"","",null,null,0]
[null,null,null,null,null,"","",null,null,0]
[null,null,"TAMPAO FOFO ARTICULADO, CLASSE D400 CARGA MAX 40 T, REDONDO TAMPA *600 MM, REDE PLUVIAL/ESGOTO","UN",1,476.03549999999996,476.03549999999996,{"$f":"SUM(G4966:G4969)","v":534.39709547313146},null,0]
[null,null,"ARGAMASSA TRAÇO 1:4 (EM VOLUME DE CIMENTO E AREIA GROSSA ÚMIDA) PARA CHAPISCO CONVENCIONAL, PREPARO MECÂNICO COM BETONEIRA 400 L. AF_08/2019","M3",4.4999999999999997E-3,388.07677180699994,1.7463454731314996,null,null,0]
[null,null,"PEDREIRO COM ENCARGOS COMPLEMENTARES","H",1.5,21.716999999999999,{"$f":"IF(ISNUMBER(F4968),E4968*F4968,\"\")","v":32.575499999999998},null,null,0]
[null,null,"SERVENTE COM ENCARGOS COMPLEMENTARES","H",1.5,16.026499999999999,24.039749999999998,null,null,0]
[null,null,null,null,null,"","",null,null,0]

{"sheet":"Comp.Aux1","index":1,"n_rows":426,"n_cols":9,"rows_kept":426,"cut":false,"hidden":false,"merged":[[309,0,322,0],[323,0,336,0],[337,0,348,0],[349,0,355,0],[356,0,362,0],[214,0,218,0],[219,0,223,0],[238,0,251,0],[252,0,265,0],[266,0,275,0],[197,0,201,0],[202,0,205,0],[206,0,213,0],[153,0,166,0],[167,0,178,0],[105,0,110,0],[111,0,116,0],[117,0,122,0],[123,0,128,0],[191,0,196,0],[179,0,184,0],[185,0,190,0],[129,0,134,0],[135,0,140,0],[141,0,146,0],[147,0,152,0],[60,0,67,0],[68,0,77,0],[78,0,84,0],[85,0,94,0],[95,0,104,0],[284,0,294,0],[295,0,302,0],[303,0,308,0],[224,0,237,0],[276,0,283,0],[47,0,59,0],[5,0,14,0],[15,0,19,0],[20,0,25,0],[26,0,36,0],[37,0,46,0],[414,0,425,0],[402,0,413,0],[363,0,370,0],[371,0,376,0],[377,0,382,0],[383,0,391,0],[392,0,401,0]]}
[{"$f":"Composições!A1","v":"Execução de serviços comuns de engenharia nas edificações do CASF"}]
["COMPOSIÇÕES DE CUSTO UNITÁRIO AUXILIARES DE 1º NÍVEL"]
[{"$f":"Composições!A3","v":"Data: Outubro de 2020"}]
[]
["DESCRIÇÃO","DISCRIMINAÇÃO DA COMPOSIÇÃO","UNIDADE","COEFICIENTE","CUSTO UNITÁRIO","CUSTO TOTAL","TOTAL",null,"QTD"]
["ARGAMASSA TRAÇO 1:3 (EM VOLUME DE CIMENTO E AREIA MÉDIA ÚMIDA), PREPARO MANUAL. AF_08/2019","","M3",null,"",{"$f":"IF(ISNUMBER(E6),E6*$D6,\"\")","v":""},null,null,10.83]
[null,"",null,null,"","",null,null,10.83]
[null,"Areia media - posto jazida/fornecedor (retirado na jazida, sem transporte)","M3",1.07,93.8125,100.37937500000001,{"$f":"SUM(F8:F12)","v":491.36296169949998},null,10.83]
[null,"Cimento Portland composto CP II-32","KG",482.96,0.44649999999999995,215.64163999999997,null,null,10.83]
[null,"Servente com encargos complementares","H",8.57,16.026499999999999,137.347105,null,null,10.83]
[null,"CARGA, MANOBRA E DESCARGA DE SOLOS E MATERIAIS GRANULARES EM CAMINHÃO BASCULANTE 6 M³ - CARGA COM PÁ CARREGADEIRA (CAÇAMBA DE 1,7 A 2,8 M³ / 128 HP) E DESCARGA LIVRE (UNIDADE: M3). AF_07/2020","M3",{"$f":"ROUND(1*D8,4)","v":1.07},4.7551708499999998,5.0880328095000005,null,null,10.83]
[null,"TRANSPORTE COM CAMINHÃO BASCULANTE DE 6 M³, EM VIA URBANA PAVIMENTADA, DMT ATÉ 30 KM (UNIDADE: M3XKM). AF_07/2020","M3xKM",{"$f":"ROUND(D8*20,4)","v":21.4},1.5377013499999996,32.906808889999986,null,null,10.83]
[null,null,null,null,"","",null,null,10.83]
[null,"Obs.: Considerando fornecedor de areia a 20 km do Senado Federal.",null,null,"","",null,null,10.83]
[null,"",null,null,"","",null,null,10.83]
["Fixação utilizando parafuso e bucha de nylon, somente mão de obra. af_10/2016","","UN",null,"","",null,null,120]
[null,"",null,null,"","",null,null,120]
[null,"Auxiliar de encanador ou bombeiro hidráulico com encargos complementares","H",2.2700000000000001E-2,16.596499999999999,0.37674055000000001,{"$f":"SUM(F18:F19)","v":3.8308483999999998},null,120]
[null,"Encanador ou bombeiro hidráulico com encargos complementares","H",0.16209999999999999,21.308499999999999,3.4541078499999998,null,null,120]
[null,"",null,null,"","",null,null,120]
["Fixação de tubos horizontais de PVC, CPVC ou cobre diâmetros menores ou iguais a 40 mm ou eletrocalhas até 150mm de largura, com abraçadeira metálica rígida tipo d 1/2\u0094, fixada em perfilado em laje. af_05/2015","","M",null,"","",null,null,3000]
[null,"",null,null,"","",null,null,3000]
[null,"Abracadeira em aco para amarracao de eletrodutos, tipo D, com 1/2\" e parafuso de fixacao","UN",0.65,1.0355000000000001,0.67307500000000009,{"$f":"SUM(F23:F25)","v":2.3093265000000001},null,3000]
[null,"Auxiliar de encanador ou bombeiro hidráulico com encargos complementares","H",0.01,16.596499999999999,0.165965,null,null,3000]
[null,"Encanador ou bombeiro hidráulico com encargos complementares","H",6.9000000000000006E-2,21.308499999999999,1.4702865000000001,null,null,3000]
[null,"",null,null,"","",null,null,3000]
["FABRICAÇÃO DE FÔRMA PARA VIGAS, EM CHAPA DE MADEIRA COMPENSADA RESINADA, E = 17 MM. AF_09/2020","","M2",null,"","",null,null,62.1]
[null,"",null,null,"","",null,null,62.1]
[null,"Chapa de madeira compensada resinada para forma de concreto, de *2,2 x 1,1* m, e = 17 mm","M2",1.1459999999999999,28.062999999999999,32.160197999999994,{"$f":"SUM(F29:F36)","v":72.795687999999998},null,62.1]
[null,"PONTALETE DE MADEIRA NAO APARELHADA *7,5 X 7,5* CM (3 X 3 \") PINUS, MISTA OU EQUIVALENTE DA REGIAO","M",0.16600000000000001,3.6859999999999999,0.61187599999999998,null,null,62.1]
[null,"SARRAFO DE MADEIRA NAO APARELHADA *2,5 X 7,5* CM (1 X 3 \") PINUS, MISTA OU EQUIVALENTE DA REGIAO","M",6.952,1.3204999999999998,9.1801159999999982,null,null,62.1]
[null,"Prego de aco polido com cabeca 17 x 21 (2 x 11)","KG",0.159,11.305,1.7974950000000001,null,null,62.1]
[null,"Ajudante de carpinteiro com encargos complementares","H",0.20200000000000001,18.173499999999997,3.6710469999999997,null,null,62.1]
[null,"Carpinteiro de formas com encargos complementares","H",1.012,21.5745,21.833394000000002,null,null,62.1]
[null,"Serra circular de bancada com motor elétrico potência de 5HP, com coifa para disco 10\" - CHP diurno. af_08/2015","CHP",0.05,18.904999999999998,0.94524999999999992,null,null,62.1]
[null,"Serra circular de bancada com motor elétrico potência de 5HP, com coifa para disco 10\" - CHI diurno. af_08/2015","CHI",0.152,17.081,2.5963119999999997,null,null,62.1]
[null,"",null,null,"","",null,null,62.1]
["FABRICAÇÃO DE ESCORAS DE VIGA DO TIPO GARFO, EM MADEIRA. AF_09/2020","","M",null,"","",null,null,181.6]
[null,"",null,null,"","",null,null,181.6]
[null,"CHAPA DE MADEIRA COMPENSADA PLASTIFICADA PARA FORMA DE CONCRETO, DE 2,20 x 1,10 M, E = 18 MM","M2",0.13600000000000001,35.225999999999999,4.7907359999999999,{"$f":"SUM(F40:F46)","v":18.200774500000001},null,181.6]
[null,"PONTALETE DE MADEIRA NAO APARELHADA *7,5 X 7,5* CM (3 X 3 \") PINUS, MISTA OU EQUIVALENTE DA REGIAO","M",2.3420000000000001,3.6859999999999999,8.632612,null,null,181.6]
[null,"PREGO DE ACO POLIDO COM CABECA 17 X 21 (2 X 11)","KG",1.2E-2,11.305,0.13566,null,null,181.6]
[null,"AJUDANTE DE CARPINTEIRO COM ENCARGOS COMPLEMENTARES","H",3.2000000000000001E-2,18.173499999999997,0.58155199999999996,null,null,181.6]
[null,"CARPINTEIRO DE FORMAS COM ENCARGOS COMPLEMENTARES","H",0.161,21.5745,3.4734945000000002,null,null,181.6]
[null,"SERRA CIRCULAR DE BANCADA COM MOTOR ELÉTRICO POTÊNCIA DE 5HP, COM COIFA PARA DISCO 10\" - CHP DIURNO. AF_08/2015","CHP",2.1999999999999999E-2,18.904999999999998,0.41590999999999995,null,null,181.6]
[null,"SERRA CIRCULAR DE BANCADA COM MOTOR ELÉTRICO POTÊNCIA DE 5HP, COM COIFA PARA DISCO 10\" - CHI DIURNO. AF_08/2015","CHI",0.01,17.081,0.17080999999999999,null,null,181.6]
[null,"",null,null,"","",null,null,181.6]
["ARGAMASSA TRAÇO 1:2:8 (EM VOLUME DE CIMENTO, CAL E AREIA MÉDIA ÚMIDA) PARA EMBOÇO/MASSA ÚNICA/ASSENTAMENTO DE ALVENARIA DE VEDAÇÃO, PREPARO MECÂNICO COM BETONEIRA 400 L. AF_08/2019","","M3",null,"","",null,null,6.1680000000000001]
[null,"",null,null,"","",null,null,6.1680000000000001]
[null,"Areia media - posto jazida/fornecedor (retirado na jazida, sem transporte)","M3",1.1599999999999999,93.8125,108.82249999999999,{"$f":"SUM(F50:F57)","v":444.846809506},null,6.1680000000000001]
[null,"Cal hidratada CH-I para argamassas","KG",174.1,0.76,132.316,null,null,6.1680000000000001]
[null,"Cimento Portland composto CP II-32","KG",195.86,0.44649999999999995,87.451489999999993,null,null,6.1680000000000001]
[null,"Operador de betoneira estacionária/misturador com encargos complementares","H",4.5,16.245000000000001,73.102500000000006,null,null,6.1680000000000001]
[null,"Betoneira capacidade nominal de 400 L, capacidade de mistura 280 L, motor elétrico trifásico potência de 2 cv, sem carregador - CHP diurno. af_10/2014","CHP",1.05,1.121,1.1770500000000002,null,null,6.1680000000000001]
[null,"Betoneira capacidade nominal de 400 L, capacidade de mistura 280 L, motor elétrico trifásico potência de 2 cv, sem carregador - CHI diurno. af_10/2014","CHI",3.45,0.22799999999999998,0.78659999999999997,null,null,6.1680000000000001]
[null,"CARGA, MANOBRA E DESCARGA DE SOLOS E MATERIAIS GRANULARES EM CAMINHÃO BASCULANTE 6 M³ - CARGA COM PÁ CARREGADEIRA (CAÇAMBA DE 1,7 A 2,8 M³ / 128 HP) E DESCARGA LIVRE (UNIDADE: M3). AF_07/2020","M3",{"$f":"ROUND(1*D50,4)","v":1.1599999999999999},4.7551708499999998,5.5159981859999991,null,null,6.1680000000000001]
[null,"TRANSPORTE COM CAMINHÃO BASCULANTE DE 6 M³, EM VIA URBANA PAVIMENTADA, DMT ATÉ 30 KM (UNIDADE: M3XKM). AF_07/2020","M3xKM",{"$f":"ROUND(D50*20,4)","v":23.2},1.5377013499999996,35.674671319999987,null,null,6.1680000000000001]
[null,null,null,null,"","",null,null,6.1680000000000001]
[null,"Obs.: Considerando fornecedor de areia a 20 km do Senado Federal.",null,null,"","",null,null,6.1680000000000001]
[null,"",null,null,"","",null,null,6.1680000000000001]
["Contrapiso em argamassa traço 1:4 (cimento e areia), preparo mecânico com betoneira 400 l, aplicado em áreas secas sobre laje, aderido, espessura 3cm. AF_06/2014","","M2",null,"","",null,null,0]
[null,"",null,null,"","",null,null,0]
[null,"Cimento Portland composto CP II-32","KG",0.5,0.44649999999999995,0.22324999999999998,{"$f":"SUM(F63:F67)","v":34.905228817135004},null,0]
[null,"Aditivo adesivo liquido para argamassas de revestimentos cimenticios","L",0.435,11.390499999999999,4.9548674999999998,null,null,0]
[null,"ARGAMASSA TRAÇO 1:4 (EM VOLUME DE CIMENTO E AREIA MÉDIA ÚMIDA) PARA CONTRAPISO, PREPARO MECÂNICO COM BETONEIRA 400 L. AF_08/2019","M3",4.3099999999999999E-2,462.09115585000001,19.916128817135,null,null,0]
[null,"Pedreiro com encargos complementares","H",0.33,21.716999999999999,7.1666100000000004,null,null,0]
[null,"Servente com encargos complementares","H",0.16500000000000001,16.026499999999999,2.6443724999999998,null,null,0]
[null,"",null,null,"","",null,null,0]
["ARGAMASSA TRAÇO 1:3 (EM VOLUME DE CIMENTO E AREIA GROSSA ÚMIDA) PARA CHAPISCO CONVENCIONAL, PREPARO MANUAL. AF_08/2019","","M3",null,"","",null,null,4.2]
[null,"",null,null,"",{"$f":"IF(ISNUMBER(E70),E70*$D70,\"\")","v":""},null,null,4.2]
[null,"Areia grossa - posto jazida/fornecedor (retirado na jazida, sem transporte)","M3",0.94,118.7025,111.58035,{"$f":"SUM(F71:F75)","v":510.27532097899996},null,4.2]
[null,"Cimento Portland composto CP II-32","KG",422.63,0.44649999999999995,188.70429499999997,null,null,4.2]
[null,"Servente com encargos complementares","H",11.02,16.026499999999999,176.61202999999998,null,null,4.2]
[null,"CARGA, MANOBRA E DESCARGA DE SOLOS E MATERIAIS GRANULARES EM CAMINHÃO BASCULANTE 6 M³ - CARGA COM PÁ CARREGADEIRA (CAÇAMBA DE 1,7 A 2,8 M³ / 128 HP) E DESCARGA LIVRE (UNIDADE: M3). AF_07/2020","M3",{"$f":"ROUND(1*D71,4)","v":0.94},4.7551708499999998,4.4698605989999995,null,null,4.2]
[null,"TRANSPORTE COM CAMINHÃO BASCULANTE DE 6 M³, EM VIA URBANA PAVIMENTADA, DMT ATÉ 30 KM (UNIDADE: M3XKM). AF_07/2020","M3xKM",{"$f":"ROUND(D71*20,4)","v":18.8},1.5377013499999996,28.908785379999994,null,null,4.2]
[null,null,null,null,"","",null,null,4.2]
[null,"Obs.: Considerando fornecedor de areia a 20 km do Senado Federal.",null,null,"","",null,null,4.2]
[null,"",null,null,"","",null,null,4.2]
["ARGAMASSA INDUSTRIALIZADA PARA CHAPISCO COLANTE, PREPARO COM MISTURADOR DE EIXO HORIZONTAL DE 300 KG. AF_08/2019","","M3",null,"","",null,null,0.128]
[null,"",null,null,"","",null,null,0.128]
[null,"Argamassa industrializada para chapisco colante","KG",1981.23,0.82650000000000001,1637.4865950000001,{"$f":"SUM(F81:F84)","v":1719.8185350000001},null,0.128]
[null,"Operador de betoneira estacionária/misturador com encargos complementares","H",4.72,16.245000000000001,76.676400000000001,null,null,0.128]
[null,"Misturador de argamassa, eixo horizontal, capacidade de mistura 300 kg, motor elétrico potência 5 cv - CHP diurno. af_06/2014","CHP",1.1000000000000001,3.0779999999999998,3.3858000000000001,null,null,0.128]
[null,"Misturador de argamassa, eixo horizontal, capacidade de mistura 300 kg, motor elétrico potência 5 cv - CHI diurno. af_06/2014","CHI",3.62,0.627,2.2697400000000001,null,null,0.128]
[null,"",null,null,"","",null,null,0.128]
["ARGAMASSA TRAÇO 1:4 (EM VOLUME DE CIMENTO E AREIA MÉDIA ÚMIDA) PARA CONTRAPISO, PREPARO MANUAL. AF_08/2019","","M3",null,"","",null,null,20.23]
[null,"",null,null,"","",null,null,20.23]
[null,"Areia media - posto jazida/fornecedor (retirado na jazida, sem transporte)","M3",1.35,93.8125,126.64687500000001,{"$f":"SUM(F88:F92)","v":554.16629209749988},null,20.23]
[null,"Cimento Portland composto CP II-32","KG",454.58,0.44649999999999995,202.96996999999996,null,null,20.23]
[null,"Servente com encargos complementares","H",11.02,16.026499999999999,176.61202999999998,null,null,20.23]
[null,"CARGA, MANOBRA E DESCARGA DE SOLOS E MATERIAIS GRANULARES EM CAMINHÃO BASCULANTE 6 M³ - CARGA COM PÁ CARREGADEIRA (CAÇAMBA DE 1,7 A 2,8 M³ / 128 HP) E DESCARGA LIVRE (UNIDADE: M3). AF_07/2020","M3",{"$f":"ROUND(1*D88,4)","v":1.35},4.7551708499999998,6.4194806475000004,null,null,20.23]
[null,"TRANSPORTE COM CAMINHÃO BASCULANTE DE 6 M³, EM VIA URBANA PAVIMENTADA, DMT ATÉ 30 KM (UNIDADE: M3XKM). AF_07/2020","M3xKM",{"$f":"ROUND(D88*20,4)","v":27},1.5377013499999996,41.517936449999993,null,null,20.23]
[null,null,null,null,"","",null,null,20.23]
[null,"Obs.: Considerando fornecedor de areia a 20 km do Senado Federal.",null,null,"","",null,null,20.23]
[null,"",null,null,"","",null,null,20.23]
["ARGAMASSA TRAÇO 1:4 (EM VOLUME DE CIMENTO E AREIA MÉDIA ÚMIDA), PREPARO MANUAL. AF_08/2019","","M3",null,"","",null,null,0.33]
[null,"",null,null,"","",null,null,0.33]
[null,"Areia media - posto jazida/fornecedor (retirado na jazida, sem transporte)","M3",1.1499999999999999,93.8125,107.88437499999999,{"$f":"SUM(F98:F102)","v":455.50924752750001},null,0.33]
[null,"Cimento Portland composto CP II-32","KG",389.54,0.44649999999999995,173.92961,null,null,0.33]
[null,"Servente com encargos complementares","H",8.2899999999999991,16.026499999999999,132.85968499999998,null,null,0.33]
[null,"CARGA, MANOBRA E DESCARGA DE SOLOS E MATERIAIS GRANULARES EM CAMINHÃO BASCULANTE 6 M³ - CARGA COM PÁ CARREGADEIRA (CAÇAMBA DE 1,7 A 2,8 M³ / 128 HP) E DESCARGA LIVRE (UNIDADE: M3). AF_07/2020","M3",{"$f":"ROUND(1*D98,4)","v":1.1499999999999999},4.7551708499999998,5.4684464774999997,null,null,0.33]
[null,"TRANSPORTE COM CAMINHÃO BASCULANTE DE 6 M³, EM VIA URBANA PAVIMENTADA, DMT ATÉ 30 KM (UNIDADE: M3XKM). AF_07/2020","M3xKM",{"$f":"ROUND(D98*20,4)","v":23},1.5377013499999996,35.36713104999999,null,null,0.33]
[null,null,null,null,"","",null,null,0.33]
[null,"Obs.: Considerando fornecedor de areia a 20 km do Senado Federal.",null,null,"","",null,null,0.33]
[null,"",null,null,"","",null,null,0.33]
["Fixação de tubos verticais de PPR diâmetros menores ou iguais a 40 mm com abraçadeira metálica rígida tipo D 1/2\", fixada em perfilado em alvenaria. af_05/2015","","M",null,"","",null,null,27800]
[null,"",null,null,"","",null,null,27800]
[null,"Abracadeira em aco para amarracao de eletrodutos, tipo D, com 1/2\" e parafuso de fixacao","UN",0.33300000000000002,1.0355000000000001,0.34482150000000006,{"$f":"SUM(F108:F110)","v":1.1736015000000002},null,27800]
[null,"Auxiliar de encanador ou bombeiro hidráulico com encargos complementares","H",5.0000000000000001E-3,16.596499999999999,8.2982500000000001E-2,null,null,27800]
[null,"Encanador ou bombeiro hidráulico com encargos complementares","H",3.5000000000000003E-2,21.308499999999999,0.7457975,null,null,27800]
[null,"",null,null,"","",null,null,27800]
["Luva de emenda para eletroduto, aço galvanizado, DN 20 mm (3/4''), aparente, instalada em parede - fornecimento e instalação. af_11/2016_p","","UN",null,"","",null,null,799.92]
[null,"",null,null,"","",null,null,799.92]
[null,"Luva para eletroduto, em aco galvanizado eletrolitico, diametro de 20 mm (3/4\")","UN",1,1.4155,1.4155,{"$f":"SUM(F114:F116)","v":8.533400649999999},null,799.92]
[null,"Auxiliar de eletricista com encargos complementares","H",0.1827,17.042999999999999,3.1137560999999998,null,null,799.92]
[null,"Eletricista com encargos complementares","H",0.1827,21.916499999999999,4.0041445499999995,null,null,799.92]
[null,"",null,null,"","",null,null,799.92]
["Luva de emenda para eletroduto, aço galvanizado, DN 25 mm (1''), aparente, instalada em parede - fornecimento e instalação. af_11/2016_p","","UN",null,"","",null,null,499.95]
[null,"",null,null,"","",null,null,499.95]
[null,"Luva para eletroduto, em aco galvanizado eletrolitico, diametro de 25 mm (1\")","UN",1,1.6435,1.6435,{"$f":"SUM(F120:F122)","v":9.5639663500000012},null,499.95]
[null,"Auxiliar de eletricista com encargos complementares","H",0.20330000000000001,17.042999999999999,3.4648419000000001,null,null,499.95]
[null,"Eletricista com encargos complementares","H",0.20330000000000001,21.916499999999999,4.4556244500000002,null,null,499.95]
[null,"",null,null,"","",null,null,499.95]
["Luva de emenda para eletroduto, aço galvanizado, DN 32 mm (1 1/4''), aparente, instalada em parede - fornecimento e instalação. af_11/2016_p","","UN",null,"","",null,null,1666.5]
[null,"",null,null,"","",null,null,1666.5]
[null,"Luva para eletroduto, em aco galvanizado eletrolitico, diametro de 32 mm (1 1/4\")","UN",1,2.9164999999999996,2.9164999999999996,{"$f":"SUM(F126:F128)","v":11.962895899999999},null,1666.5]
[null,"Auxiliar de eletricista com encargos complementares","H",0.23219999999999999,17.042999999999999,3.9573845999999997,null,null,1666.5]
[null,"Eletricista com encargos complementares","H",0.23219999999999999,21.916499999999999,5.0890112999999992,null,null,1666.5]
[null,"",null,null,"","",null,null,1666.5]
["Luva de emenda para eletroduto, aço galvanizado, DN 40 mm (1 1/2''), aparente, instalada em parede - fornecimento e instalação. af_11/2016_p","","UN",null,"","",null,null,1666.5]
[null,"",null,null,"","",null,null,1666.5]
[null,"Luva para eletroduto, em aco galvanizado eletrolitico, diametro de 40 mm (1 1/2\")","UN",1,4.2275,4.2275,{"$f":"SUM(F132:F134)","v":14.555663450000001},null,1666.5]
[null,"Auxiliar de eletricista com encargos complementares","H",0.2651,17.042999999999999,4.5180993000000003,null,null,1666.5]
[null,"Eletricista com encargos complementares","H",0.2651,21.916499999999999,{"$f":"IF(ISNUMBER(E134),E134*$D134,\"\")","v":5.8100641499999996},null,null,1666.5]
[null,"",null,null,"","",null,null,1666.5]
["Luva de emenda para eletroduto, aço galvanizado, DN 50 mm (2''), aparente, instalada em parede - fornecimento e instalação. af_11/2016_p","","UN",null,"","",null,null,666.6]
[null,"",null,null,"","",null,null,666.6]
[null,"Luva para eletroduto, em aco galvanizado eletrolitico, diametro de 50 mm (2\")","UN",1,5.8994999999999997,5.8994999999999997,{"$f":"SUM(F138:F140)","v":16.227663449999998},null,666.6]
[null,"Auxiliar de eletricista com encargos complementares","H",0.2651,17.042999999999999,4.5180993000000003,null,null,666.6]
[null,"Eletricista com encargos complementares","H",0.2651,21.916499999999999,5.8100641499999996,null,null,666.6]
[null,"",null,null,"","",null,null,666.6]
["Fixação de tubos verticais de PPR diâmetros maiores que 40 mm e menores ou iguais a 75 mm com abraçadeira metálica rígida tipo D 1 1/2\", fixada em perfilado em alvenaria. af_05/2015","","M",null,"","",null,null,0]
[null,"",null,null,"","",null,null,0]
[null,"Abracadeira em aco para amarracao de eletrodutos, tipo D, com 1 1/2\" e parafuso de fixacao","UN",0.33300000000000002,2.1280000000000001,0.70862400000000003,{"$f":"SUM(F144:F146)","v":2.2856619999999999},null,0]
[null,"Auxiliar de encanador ou bombeiro hidráulico com encargos complementares","H",8.9999999999999993E-3,16.596499999999999,0.14936849999999999,null,null,0]
[null,"Encanador ou bombeiro hidráulico com encargos complementares","H",6.7000000000000004E-2,21.308499999999999,1.4276694999999999,null,null,0]
[null,"",null,null,"","",null,null,0]
["Fixação de tubos verticais de PPR diâmetros maiores que 40 mm e menores ou iguais a 75 mm com abraçadeira metálica rígida tipo D 2\", fixada em perfilado em alvenaria. af_05/2015","","M",null,"","",null,null,4000]
[null,"",null,null,"","",null,null,4000]
[null,"Abracadeira em aco para amarracao de eletrodutos, tipo D, com 2\" e parafuso de fixacao","UN",0.33300000000000002,2.3559999999999999,0.78454800000000002,{"$f":"SUM(F150:F152)","v":2.361586},null,4000]
[null,"Auxiliar de encanador ou bombeiro hidráulico com encargos complementares","H",8.9999999999999993E-3,16.596499999999999,0.14936849999999999,null,null,4000]
[null,"Encanador ou bombeiro hidráulico com encargos complementares","H",6.7000000000000004E-2,21.308499999999999,1.4276694999999999,null,null,4000]
[null,"",null,null,"","",null,null,4000]
["ARGAMASSA TRAÇO 1:2:9 (EM VOLUME DE CIMENTO, CAL E AREIA MÉDIA ÚMIDA) PARA EMBOÇO/MASSA ÚNICA/ASSENTAMENTO DE ALVENARIA DE VEDAÇÃO, PREPARO MECÂNICO COM BETONEIRA 600 L. AF_08/2019","","M3",null,"","",null,null,1.5599999999999998]
[null,"",null,null,"","",null,null,1.5599999999999998]
[null,"Areia media - posto jazida/fornecedor (retirado na jazida, sem transporte)","M3",1.18,93.8125,110.69874999999999,{"$f":"SUM(F156:F164)","v":428.66884346300003},null,1.5599999999999998]
[null,"Cal hidratada CH-I para argamassas","KG",157.44,0.76,119.6544,null,null,1.5599999999999998]
[null,"Cimento Portland composto CP II-32","KG",177.12,0.44649999999999995,79.08408,null,null,1.5599999999999998]
[null,"Servente com encargos complementares","H",0.79,16.026499999999999,12.660935,null,null,1.5599999999999998]
[null,"Operador de betoneira estacionária/misturador com encargos complementares","H",3.65,16.245000000000001,59.294250000000005,null,null,1.5599999999999998]
[null,"Betoneira capacidade nominal de 600 L, capacidade de mistura 360 L, motor elétrico trifásico potência de 4 cv, sem carregador - CHP diurno. af_11/2014","CHP",0.85,3.1635,2.6889750000000001,null,null,1.5599999999999998]
[null,"Betoneira capacidade nominal de 600 L, capacidade de mistura 360 L, motor elétrico trifásico potência de 4 cv, sem carregador - CHI diurno. af_11/2014","CHI",2.8,0.95949999999999991,2.6865999999999994,null,null,1.5599999999999998]
[null,"CARGA, MANOBRA E DESCARGA DE SOLOS E MATERIAIS GRANULARES EM CAMINHÃO BASCULANTE 6 M³ - CARGA COM PÁ CARREGADEIRA (CAÇAMBA DE 1,7 A 2,8 M³ / 128 HP) E DESCARGA LIVRE (UNIDADE: M3). AF_07/2020","M3",{"$f":"ROUND(1*D156,4)","v":1.18},4.7551708499999998,5.6111016029999998,null,null,1.5599999999999998]
[null,"TRANSPORTE COM CAMINHÃO BASCULANTE DE 6 M³, EM VIA URBANA PAVIMENTADA, DMT ATÉ 30 KM (UNIDADE: M3XKM). AF_07/2020","M3xKM",{"$f":"ROUND(D156*20,4)","v":23.6},1.5377013499999996,36.289751859999996,null,null,1.5599999999999998]
[null,null,null,null,"","",null,null,1.5599999999999998]
[null,"Obs.: Considerando fornecedor de areia a 20 km do Senado Federal.",null,null,"","",null,null,1.5599999999999998]
[null,null,null,null,"","",null,null,1.5599999999999998]
["ARGAMASSA TRAÇO 1:4 (EM VOLUME DE CIMENTO E AREIA MÉDIA ÚMIDA) PARA CONTRAPISO, PREPARO MECÂNICO COM BETONEIRA 400 L. AF_08/2019","","M3",null,"","",null,null,0]
[null,"",null,null,"","",null,null,0]
[null,"Areia media - posto jazida/fornecedor (retirado na jazida, sem transporte)","M3",1.36,93.8125,127.58500000000001,{"$f":"SUM(F170:F176)","v":462.103674076},null,0]
[null,"Cimento Portland composto CP II-32","KG",459.85,0.44649999999999995,205.323025,null,null,0]
[null,"Operador de betoneira estacionária/misturador com encargos complementares","H",4.8499999999999996,16.245000000000001,78.788250000000005,null,null,0]
[null,"Betoneira capacidade nominal de 400 L, capacidade de mistura 280 L, motor elétrico trifásico potência de 2 cv, sem carregador - CHP diurno. af_10/2014","CHP",1.1299999999999999,1.121,1.2667299999999999,null,null,0]
[null,"Betoneira capacidade nominal de 400 L, capacidade de mistura 280 L, motor elétrico trifásico potência de 2 cv, sem carregador - CHI diurno. af_10/2014","CHI",3.72,0.22799999999999998,0.84816000000000003,null,null,0]
[null,"CARGA, MANOBRA E DESCARGA DE SOLOS E MATERIAIS GRANULARES EM CAMINHÃO BASCULANTE 6 M³ - CARGA COM PÁ CARREGADEIRA (CAÇAMBA DE 1,7 A 2,8 M³ / 128 HP) E DESCARGA LIVRE (UNIDADE: M3). AF_07/2020","M3",{"$f":"ROUND(1*D170,4)","v":1.36},4.7551708499999998,6.4670323559999998,null,null,0]
[null,"TRANSPORTE COM CAMINHÃO BASCULANTE DE 6 M³, EM VIA URBANA PAVIMENTADA, DMT ATÉ 30 KM (UNIDADE: M3XKM). AF_07/2020","M3xKM",{"$f":"ROUND(D170*20,4)","v":27.2},1.5377013499999996,41.82547671999999,null,null,0]
[null,null,null,null,"","",null,null,0]
[null,"Obs.: Considerando fornecedor de areia a 20 km do Senado Federal.",null,null,"","",null,null,0]
[null,null,null,null,"","",null,null,0]
["UMIDIFICAÇÃO DE MATERIAL PARA VALAS COM CAMINHÃO PIPA 10000L. AF_11/2016","","M3",null,"","",null,null,15]
[null,"",null,null,"","",null,null,15]
[null,"CAMINHÃO PIPA 10.000 L TRUCADO, PESO BRUTO TOTAL 23.000 KG, CARGA ÚTIL MÁXIMA 15.935 KG, DISTÂNCIA ENTRE EIXOS 4,8 M, POTÊNCIA 230 CV, INCLUSIVE TANQUE DE AÇO PARA TRANSPORTE DE ÁGUA - CHP DIURNO. AF_06/2014","CHP",6.0000000000000001E-3,159.20099999999999,0.955206,{"$f":"SUM(F182:F184)","v":1.1997074999999999},null,15]
[null,"CAMINHÃO PIPA 10.000 L TRUCADO, PESO BRUTO TOTAL 23.000 KG, CARGA ÚTIL MÁXIMA 15.935 KG, DISTÂNCIA ENTRE EIXOS 4,8 M, POTÊNCIA 230 CV, INCLUSIVE TANQUE DE AÇO PARA TRANSPORTE DE ÁGUA - CHI DIURNO. AF_06/2014","CHI",3.0000000000000001E-3,33.420999999999999,0.100263,null,null,15]
[null,"SERVENTE COM ENCARGOS COMPLEMENTARES","H",8.9999999999999993E-3,16.026499999999999,0.14423849999999996,null,null,15]
[null,null,null,null,"","",null,null,15]
["CORTE E DOBRA DE AÇO CA-50, DIÂMETRO DE 8,0 MM, UTILIZADO EM ESTRUTURAS DIVERSAS, EXCETO LAJES. AF_12/2015","","KG",null,"","",null,null,5]
[null,"",null,null,"","",null,null,5]
[null,"ACO CA-50, 8,0 MM, VERGALHAO","KG",1.1100000000000001,5.8709999999999996,6.5168100000000004,{"$f":"SUM(F188:F190)","v":7.0544948000000005},null,5]
[null,"AJUDANTE DE ARMADOR COM ENCARGOS COMPLEMENTARES","H",3.2000000000000002E-3,16.739000000000001,5.3564800000000003E-2,null,null,5]
[null,"ARMADOR COM ENCARGOS COMPLEMENTARES","H",2.24E-2,21.612500000000001,0.48411999999999999,null,null,5]
[null,"",null,null,"","",null,null,5]
["CORTE E DOBRA DE AÇO CA-50, DIÂMETRO DE 12,5 MM, UTILIZADO EM ESTRUTURAS DIVERSAS, EXCETO LAJES. AF_12/2015","","KG",null,"","",null,null,5]
[null,"",null,null,"","",null,null,5]
[null,"ACO CA-50, 12,5 MM OU 16,0 MM, VERGALHAO","KG",1.1100000000000001,4.7974999999999994,5.3252249999999997,{"$f":"SUM(F194:F196)","v":5.4932514999999995},null,5]
[null,"AJUDANTE DE ARMADOR COM ENCARGOS COMPLEMENTARES","H",1E-3,16.739000000000001,1.6739E-2,null,null,5]
[null,"ARMADOR COM ENCARGOS COMPLEMENTARES","H",7.0000000000000001E-3,21.612500000000001,0.15128750000000002,null,null,5]
[null,"",null,null,"","",null,null,5]
["CORTE E DOBRA DE AÇO CA-50, DIÂMETRO DE 20,0 MM, UTILIZADO EM ESTRUTURAS DIVERSAS, EXCETO LAJES. AF_12/2015","","KG",null,"",{"$f":"IF(ISNUMBER(E198),E198*$D198,\"\")","v":""},null,null,5]
[null,"",null,null,"","",null,null,5]
[null,"ACO CA-50, 20,0 MM OU 25,0 MM, VERGALHAO","KG",1.1399999999999999,5.5289999999999999,6.3030599999999994,{"$f":"SUM(F200:F201)","v":6.3462849999999991},null,5]
[null,"ARMADOR COM ENCARGOS COMPLEMENTARES","H",2E-3,21.612500000000001,4.3225E-2,null,null,5]
[null,"",null,null,"","",null,null,5]
["TRANSPORTE HORIZONTAL MANUAL, DE TUBO DE AÇO CARBONO LEVE OU MÉDIO, PRETO OU GALVANIZADO, COM DIÂMETRO MAIOR QUE 32 MM E MENOR OU IGUAL A 65 MM (UNIDADE: MXKM). AF_07/2019","","MXKM",null,"","",null,null,86.694999999999993]
[null,"",null,null,"","",null,null,86.694999999999993]
[null,"SERVENTE COM ENCARGOS COMPLEMENTARES","H",0.61180000000000001,16.026499999999999,9.8050126999999989,{"$f":"SUM(F205:F205)","v":9.8050126999999989},null,86.694999999999993]
[null,"",null,null,"","",null,null,86.694999999999993]
["LANÇAMENTO COM USO DE BALDES, ADENSAMENTO E ACABAMENTO DE CONCRETO EM ESTRUTURAS. AF_12/2015","","M3",null,"","",null,null,20]
[null,"",null,null,"","",null,null,20]
[null,"Carpinteiro de formas com encargos complementares","h",1.8460000000000001,21.5745,39.826527000000006,{"$f":"SUM(F209:F213)","v":169.88637199999999},null,20]
[null,"Pedreiro com Encargos Complementares","h",1.8460000000000001,21.716999999999999,40.089582,null,null,20]
[null,"Servente com Encargos Complementares","h",{"$f":"5.538","v":5.5380000000000003},16.026499999999999,88.754756999999998,null,null,20]
[null,"Vibrador de imersão, diâmetro de ponteira 45mm, motor elétrico trifásico potência de 2 CV - CHP diurno. AF_06/2015","chp",0.67200000000000004,1.2444999999999999,0.83630400000000005,null,null,20]
[null,"Vibrador de imersão, diâmetro de ponteira 45mm, motor elétrico trifásico potência de 2 CV - CHI diurno. AF_06/2015","chi",1.1739999999999999,0.32300000000000001,0.37920199999999998,null,null,20]
[null,null,null,null,"","",null,null,20]
["TRANSPORTE COM CAMINHÃO BASCULANTE DE 6 M³, EM VIA URBANA PAVIMENTADA, DMT ATÉ 30 KM (UNIDADE: M3XKM). AF_07/2020","","M3xKM",null,"","",null,null,935]
[null,"",null,null,"","",null,null,935]
[null,"CAMINHÃO BASCULANTE 6 M3 TOCO, PESO BRUTO TOTAL 16.000 KG, CARGA ÚTIL MÁXIMA 11.130 KG, DISTÂNCIA ENTRE EIXOS 5,36 M, POTÊNCIA 185 CV, INCLUSIVE CAÇAMBA METÁLICA - CHP DIURNO. AF_06/2014","CHP",1.3899999999999999E-2,96.966499999999982,1.3478343499999996,{"$f":"SUM(F217:F218)","v":1.5377013499999996},null,935]
[null,"CAMINHÃO BASCULANTE 6 M3 TOCO, PESO BRUTO TOTAL 16.000 KG, CARGA ÚTIL MÁXIMA 11.130 KG, DISTÂNCIA ENTRE EIXOS 5,36 M, POTÊNCIA 185 CV, INCLUSIVE CAÇAMBA METÁLICA - CHI DIURNO. AF_06/2014","CHI",6.0000000000000001E-3,31.644500000000001,0.18986700000000001,null,null,935]
[null,"",null,null,"","",null,null,935]
["TRANSPORTE COM CAMINHÃO BASCULANTE DE 6 M³, EM VIA URBANA PAVIMENTADA, DMT ATÉ 30 KM (UNIDADE: TXKM). AF_07/2020","","TxKM",null,"","",null,null,0]
[null,"",null,null,"","",null,null,0]
[null,"CAMINHÃO BASCULANTE 6 M3 TOCO, PESO BRUTO TOTAL 16.000 KG, CARGA ÚTIL MÁXIMA 11.130 KG, DISTÂNCIA ENTRE EIXOS 5,36 M, POTÊNCIA 185 CV, INCLUSIVE CAÇAMBA METÁLICA - CHP DIURNO. AF_06/2014","CHP",9.2999999999999992E-3,96.966499999999982,0.90178844999999974,{"$f":"SUM(F222:F223)","v":1.0283664499999998},null,0]
[null,"CAMINHÃO BASCULANTE 6 M3 TOCO, PESO BRUTO TOTAL 16.000 KG, CARGA ÚTIL MÁXIMA 11.130 KG, DISTÂNCIA ENTRE EIXOS 5,36 M, POTÊNCIA 185 CV, INCLUSIVE CAÇAMBA METÁLICA - CHI DIURNO. AF_06/2014","CHI",4.0000000000000001E-3,31.644500000000001,0.126578,null,null,0]
[null,"",null,null,"","",null,null,0]
["CONCRETO FCK = 20MPA, TRAÇO 1:2,7:3 (CIMENTO/ AREIA MÉDIA/ BRITA 1)  - PREPARO MECÂNICO COM BETONEIRA 600 L. AF_07/2016","","M3",null,"","",null,null,0]
[null,"",null,null,"","",null,null,0]
[null,"AREIA MEDIA - POSTO JAZIDA/FORNECEDOR (RETIRADO NA JAZIDA, SEM TRANSPORTE)","M3",0.76100000000000001,93.8125,71.391312499999998,{"$f":"SUM(F227:F235)","v":365.50988299319999},null,0]
[null,"CIMENTO PORTLAND COMPOSTO CP II-32","KG",325.16000000000003,0.44649999999999995,145.18394000000001,null,null,0]
[null,"PEDRA BRITADA N. 1 (9,5 a 19 MM) POSTO PEDREIRA/FORNECEDOR, SEM FRETE","M3",0.59099999999999997,76,44.915999999999997,null,null,0]
[null,"SERVENTE COM ENCARGOS COMPLEMENTARES","H",2.0299999999999998,16.026499999999999,32.533794999999991,null,null,0]
[null,"OPERADOR DE BETONEIRA ESTACIONÁRIA/MISTURADOR COM ENCARGOS COMPLEMENTARES","H",1.28,16.245000000000001,20.793600000000001,null,null,0]
[null,"BETONEIRA CAPACIDADE NOMINAL DE 600 L, CAPACIDADE DE MISTURA 360 L, MOTOR ELÉTRICO TRIFÁSICO POTÊNCIA DE 4 CV, SEM CARREGADOR - CHP DIURNO. AF_11/2014","CHP",0.66,3.1635,2.0879099999999999,null,null,0]
[null,"BETONEIRA CAPACIDADE NOMINAL DE 600 L, CAPACIDADE DE MISTURA 360 L, MOTOR ELÉTRICO TRIFÁSICO POTÊNCIA DE 4 CV, SEM CARREGADOR - CHI DIURNO. AF_11/2014","CHI",0.62,0.95949999999999991,0.59488999999999992,null,null,0]
[null,"CARGA, MANOBRA E DESCARGA DE SOLOS E MATERIAIS GRANULARES EM CAMINHÃO BASCULANTE 6 M³ - CARGA COM PÁ CARREGADEIRA (CAÇAMBA DE 1,7 A 2,8 M³ / 128 HP) E DESCARGA LIVRE (UNIDADE: M3). AF_07/2020","M3",{"$f":"ROUND(1*(D227+D229),4)","v":1.3520000000000001},4.7551708499999998,6.4289909891999999,null,null,0]
[null,"TRANSPORTE COM CAMINHÃO BASCULANTE DE 6 M³, EM VIA URBANA PAVIMENTADA, DMT ATÉ 30 KM (UNIDADE: M3XKM). AF_07/2020","M3xKM",{"$f":"ROUND((D227+D229)*20,4)","v":27.04},1.5377013499999996,41.579444503999987,null,null,0]
[null,null,null,null,"","",null,null,0]
[null,"Obs.: Considerando fornecedor de areia e brita a 20 km do Senado Federal.",null,null,"","",null,null,0]
[null,"",null,null,"","",null,null,0]
["CONCRETO MAGRO PARA LASTRO, TRAÇO 1:4,5:4,5 (CIMENTO/ AREIA MÉDIA/ BRITA 1)  - PREPARO MECÂNICO COM BETONEIRA 400 L. AF_07/2016","","M3",null,"","",null,null,0]
[null,"",null,null,"","",null,null,0]
[null,"AREIA MEDIA - POSTO JAZIDA/FORNECEDOR (RETIRADO NA JAZIDA, SEM TRANSPORTE)","M3",0.82699999999999996,93.8125,77.5829375,{"$f":"SUM(F241:F249)","v":328.62902047924996},null,0]
[null,"CIMENTO PORTLAND COMPOSTO CP II-32","KG",212.02,0.44649999999999995,94.666929999999994,null,null,0]
[null,"PEDRA BRITADA N. 1 (9,5 a 19 MM) POSTO PEDREIRA/FORNECEDOR, SEM FRETE","M3",0.57799999999999996,76,43.927999999999997,null,null,0]
[null,"SERVENTE COM ENCARGOS COMPLEMENTARES","H",2.34,16.026499999999999,37.502009999999991,null,null,0]
[null,"OPERADOR DE BETONEIRA ESTACIONÁRIA/MISTURADOR COM ENCARGOS COMPLEMENTARES","H",1.48,16.245000000000001,24.0426,null,null,0]
[null,"BETONEIRA CAPACIDADE NOMINAL DE 400 L, CAPACIDADE DE MISTURA 280 L, MOTOR ELÉTRICO TRIFÁSICO POTÊNCIA DE 2 CV, SEM CARREGADOR - CHP DIURNO. AF_10/2014","CHP",0.76,1.121,0.85196000000000005,null,null,0]
[null,"BETONEIRA CAPACIDADE NOMINAL DE 400 L, CAPACIDADE DE MISTURA 280 L, MOTOR ELÉTRICO TRIFÁSICO POTÊNCIA DE 2 CV, SEM CARREGADOR - CHI DIURNO. AF_10/2014","CHI",0.72,0.22799999999999998,0.16415999999999997,null,null,0]
[null,"CARGA, MANOBRA E DESCARGA DE SOLOS E MATERIAIS GRANULARES EM CAMINHÃO BASCULANTE 6 M³ - CARGA COM PÁ CARREGADEIRA (CAÇAMBA DE 1,7 A 2,8 M³ / 128 HP) E DESCARGA LIVRE (UNIDADE: M3). AF_07/2020","M3",{"$f":"ROUND(1*(D241+D243),4)","v":1.405},4.7551708499999998,6.6810150442499996,null,null,0]
[null,"TRANSPORTE COM CAMINHÃO BASCULANTE DE 6 M³, EM VIA URBANA PAVIMENTADA, DMT ATÉ 30 KM (UNIDADE: M3XKM). AF_07/2020","M3xKM",{"$f":"ROUND((D241+D243)*20,4)","v":28.1},1.5377013499999996,43.209407934999994,null,null,0]
[null,null,null,null,"","",null,null,0]
[null,"Obs.: Considerando fornecedor de areia e brita a 20 km do Senado Federal.",null,null,"","",null,null,0]
[null,"",null,null,"","",null,null,0]
["GRAUTE FGK=25 MPA; TRAÇO 1:0,02:1,2:1,5 (CIMENTO/ CAL/ AREIA GROSSA/ BRITA 0) - PREPARO MECÂNICO COM BETONEIRA 400 L. AF_02/2015","","M3",null,"","",null,null,0]
[null,"",null,null,"","",null,null,0]
[null,"AREIA GROSSA - POSTO JAZIDA/FORNECEDOR (RETIRADO NA JAZIDA, SEM TRANSPORTE)","M3",0.51,118.7025,60.538274999999999,{"$f":"SUM(F255:F263)","v":402.92037274249992},null,0]
[null,"CAL HIDRATADA CH-I PARA ARGAMASSAS","KG",10.35,0.76,7.8659999999999997,null,null,0]
[null,"CIMENTO PORTLAND COMPOSTO CP II-32","KG",431.3,0.44649999999999995,192.57544999999999,null,null,0]
[null,"PEDRA BRITADA N. 0, OU PEDRISCO (4,8 A 9,5 MM) POSTO PEDREIRA/FORNECEDOR, SEM FRETE","M3",0.54,97.042500000000004,52.402950000000004,null,null,0]
[null,"OPERADOR DE BETONEIRA ESTACIONÁRIA/MISTURADOR COM ENCARGOS COMPLEMENTARES","H",3.12,16.245000000000001,50.684400000000004,null,null,0]
[null,"BETONEIRA CAPACIDADE NOMINAL DE 400 L, CAPACIDADE DE MISTURA 280 L, MOTOR ELÉTRICO TRIFÁSICO POTÊNCIA DE 2 CV, SEM CARREGADOR - CHP DIURNO. AF_10/2014","CHP",0.96,1.121,1.07616,null,null,0]
[null,"BETONEIRA CAPACIDADE NOMINAL DE 400 L, CAPACIDADE DE MISTURA 280 L, MOTOR ELÉTRICO TRIFÁSICO POTÊNCIA DE 2 CV, SEM CARREGADOR - CHI DIURNO. AF_10/2014","CHI",2.16,0.22799999999999998,0.49247999999999997,null,null,0]
[null,"CARGA, MANOBRA E DESCARGA DE SOLOS E MATERIAIS GRANULARES EM CAMINHÃO BASCULANTE 6 M³ - CARGA COM PÁ CARREGADEIRA (CAÇAMBA DE 1,7 A 2,8 M³ / 128 HP) E DESCARGA LIVRE (UNIDADE: M3). AF_07/2020","M3",{"$f":"ROUND(1*(D255+D258),4)","v":1.05},4.7551708499999998,{"$f":"IF(ISNUMBER(E262),E262*$D262,\"\")","v":4.9929293924999998},null,null,0]
[null,"TRANSPORTE COM CAMINHÃO BASCULANTE DE 6 M³, EM VIA URBANA PAVIMENTADA, DMT ATÉ 30 KM (UNIDADE: M3XKM). AF_07/2020","M3xKM",{"$f":"ROUND((D255+D258)*20,4)","v":21},1.5377013499999996,32.291728349999993,null,null,0]
[null,null,null,null,"","",null,null,0]
[null,"Obs.: Considerando fornecedor de areia e brita a 20 km do Senado Federal.",null,null,"","",null,null,0]
[null,null,null,null,"","",null,null,0]
["ARGAMASSA TRAÇO 1:3 (EM VOLUME DE CIMENTO E AREIA MÉDIA ÚMIDA) PARA CONTRAPISO, PREPARO MANUAL. AF_08/2019","","M3",null,"","",null,null,0]
[null,"",null,null,"","",null,null,0]
[null,"Areia media - posto jazida/fornecedor (retirado na jazida, sem transporte)","M3",1.25,93.8125,117.265625,{"$f":"SUM(F269:F273)","v":600.00378231249988},null,0]
[null,"Cimento Portland composto CP II-32","KG",563.59,0.44649999999999995,251.64293499999999,null,null,0]
[null,"Servente com encargos complementares","H",11.65,16.026499999999999,186.70872499999999,null,null,0]
[null,"CARGA, MANOBRA E DESCARGA DE SOLOS E MATERIAIS GRANULARES EM CAMINHÃO BASCULANTE 6 M³ - CARGA COM PÁ CARREGADEIRA (CAÇAMBA DE 1,7 A 2,8 M³ / 128 HP) E DESCARGA LIVRE (UNIDADE: M3). AF_07/2020","M3",{"$f":"ROUND(1*(D269),4)","v":1.25},4.7551708499999998,5.9439635624999996,null,null,0]
[null,"TRANSPORTE COM CAMINHÃO BASCULANTE DE 6 M³, EM VIA URBANA PAVIMENTADA, DMT ATÉ 30 KM (UNIDADE: M3XKM). AF_07/2020","M3xKM",{"$f":"ROUND(D269*20,4)","v":25},1.5377013499999996,38.442533749999988,null,null,0]
[null,null,null,null,"","",null,null,0]
[null,"Obs.: Considerando fornecedor de areia a 20 km do Senado Federal.",null,null,"","",null,null,0]
[null,"",null,null,"","",null,null,0]
["BATENTE PARA PORTA DE MADEIRA, PADRÃO MÉDIO - FORNECIMENTO E MONTAGEM. AF_12/2019","","un",null,"","",null,null,0]
[null,"",null,null,"","",null,null,0]
[null,"BATENTE/ PORTAL/ ADUELA/ MARCO MACICO, E= *3 CM, L= *13 CM, *60 CM A 120* CM X *210 CM,  EM CEDRINHO/ ANGELIM COMERCIAL/ EUCALIPTO/ CURUPIXA/ PEROBA/ CUMARU OU EQUIVALENTE DA REGIAO (NAO INCLUI ALIZARES)","JG",1,173.88799999999998,173.88799999999998,{"$f":"SUM(F279:F283)","v":255.31099900000001},null,0]
[null,"PREGO DE ACO POLIDO COM CABECA 12 X 12","KG",1.0999999999999999E-2,14.895999999999999,0.16385599999999997,null,null,0]
[null,"PREGO DE ACO POLIDO COM CABECA 18 X 30 (2 3/4 X 10)","KG",2.4E-2,11.305,0.27132000000000001,null,null,0]
[null,"CARPINTEIRO DE ESQUADRIA COM ENCARGOS COMPLEMENTARES","H",2.7410000000000001,21.612500000000001,59.239862500000001,null,null,0]
[null,"SERVENTE COM ENCARGOS COMPLEMENTARES","H",1.357,16.026499999999999,21.747960499999998,null,null,0]
[null,null,null,null,"","",null,null,0]
["ARGAMASSA TRAÇO 1:0,5:4,5 (EM VOLUME DE CIMENTO, CAL E AREIA MÉDIA ÚMIDA) PARA ASSENTAMENTO DE ALVENARIA, PREPARO MANUAL. AF_08/2019","","M3",null,"","",null,null,0]
[null,"",null,null,"","",null,null,0]
[null,"Areia media - posto jazida/fornecedor (retirado na jazida, sem transporte)","M3",1.07,93.8125,100.37937500000001,{"$f":"SUM(F287:F292)","v":548.72016169949995},null,0]
[null,"CAL HIDRATADA CH-I PARA ARGAMASSAS","KG",75.47,0.76,57.357199999999999,null,null,0]
[null,"Cimento Portland composto CP II-32","KG",482.96,0.44649999999999995,215.64163999999997,null,null,0]
[null,"Servente com encargos complementares","H",8.57,16.026499999999999,137.347105,null,null,0]
[null,"CARGA, MANOBRA E DESCARGA DE SOLOS E MATERIAIS GRANULARES EM CAMINHÃO BASCULANTE 6 M³ - CARGA COM PÁ CARREGADEIRA (CAÇAMBA DE 1,7 A 2,8 M³ / 128 HP) E DESCARGA LIVRE (UNIDADE: M3). AF_07/2020","M3",{"$f":"ROUND(1*D287,4)","v":1.07},4.7551708499999998,5.0880328095000005,null,null,0]
[null,"TRANSPORTE COM CAMINHÃO BASCULANTE DE 6 M³, EM VIA URBANA PAVIMENTADA, DMT ATÉ 30 KM (UNIDADE: M3XKM). AF_07/2020","M3xKM",{"$f":"ROUND(D287*20,4)","v":21.4},1.5377013499999996,32.906808889999986,null,null,0]
[null,null,null,null,"","",null,null,0]
[null,"Obs.: Considerando fornecedor de areia a 20 km do Senado Federal.",null,null,"","",null,null,0]
[null,"",null,null,"","",null,null,0]
["ARMAÇÃO DE LAJE DE UMA ESTRUTURA CONVENCIONAL DE CONCRETO ARMADO EM UMA EDIFICAÇÃO TÉRREA OU SOBRADO UTILIZANDO AÇO CA-60 DE 4,2 MM - MONTAGEM. AF_12/2015","","KG",null,"","",null,null,0]
[null,"",null,null,"","",null,null,0]
[null,"ESPACADOR / DISTANCIADOR CIRCULAR COM ENTRADA LATERAL, EM PLASTICO, PARA VERGALHAO *4,2 A 12,5* MM, COBRIMENTO 20 MM","UN",2.8159999999999998,0.1235,0.34777599999999997,{"$f":"SUM(F298:F302)","v":13.13308215},null,0]
[null,"ARAME RECOZIDO 16 BWG, D = 1,65 MM (0,016 KG/M) OU 18 BWG, D = 1,25 MM (0,01 KG/M)","KG",2.5000000000000001E-2,13.281000000000001,0.33202500000000001,null,null,0]
[null,"AJUDANTE DE ARMADOR COM ENCARGOS COMPLEMENTARES","H",3.1E-2,16.739000000000001,0.51890900000000006,null,null,0]
[null,"ARMADOR COM ENCARGOS COMPLEMENTARES","H",0.18959999999999999,21.612500000000001,4.0977300000000003,null,null,0]
[null,"CORTE E DOBRA DE AÇO CA-60, DIÂMETRO DE 4,2 MM, UTILIZADO EM LAJE. AF_12/2015","KG",1,7.8366421499999985,7.8366421499999985,null,null,0]
[null,null,null,null,"","",null,null,0]
["CORTE E DOBRA DE AÇO CA-60, DIÂMETRO DE 4,2 MM, UTILIZADO EM LAJE. AF_12/2015","","KG",null,"","",null,null,0]
[null,"",null,null,"","",null,null,0]
[null,"ACO CA-60, 4,2 MM, OU 5,0 MM, OU 6,0 MM, OU 7,0 MM, VERGALHAO","KG",1.07,5.2344999999999997,5.6009149999999996,{"$f":"SUM(F306:F308)","v":7.8366421499999994},null,0]
[null,"AJUDANTE DE ARMADOR COM ENCARGOS COMPLEMENTARES","H",1.3100000000000001E-2,16.739000000000001,0.21928090000000003,null,null,0]
[null,"ARMADOR COM ENCARGOS COMPLEMENTARES","H",9.3299999999999994E-2,21.612500000000001,2.01644625,null,null,0]
[null,"",null,null,"","",null,null,0]
["CONCRETO FCK = 15MPA, TRAÇO 1:3,4:3,5 (CIMENTO/ AREIA MÉDIA/ BRITA 1)  - PREPARO MECÂNICO COM BETONEIRA 600 L. AF_07/2016","","M3",null,"","",null,null,0]
[null,"",null,null,"","",null,null,0]
[null,"AREIA MEDIA - POSTO JAZIDA/FORNECEDOR (RETIRADO NA JAZIDA, SEM TRANSPORTE)","M3",0.80800000000000005,93.8125,75.8005,{"$f":"SUM(F312:F320)","v":347.65676081365001},null,0]
[null,"CIMENTO PORTLAND COMPOSTO CP II-32","KG",274.06,0.44649999999999995,122.36778999999999,null,null,0]
[null,"PEDRA BRITADA N. 1 (9,5 a 19 MM) POSTO PEDREIRA/FORNECEDOR, SEM FRETE","M3",0.58099999999999996,76,44.155999999999999,null,null,0]
[null,"SERVENTE COM ENCARGOS COMPLEMENTARES","H",2.0299999999999998,16.026499999999999,32.533794999999991,null,null,0]
[null,"OPERADOR DE BETONEIRA ESTACIONÁRIA/MISTURADOR COM ENCARGOS COMPLEMENTARES","H",1.28,16.245000000000001,20.793600000000001,null,null,0]
[null,"BETONEIRA CAPACIDADE NOMINAL DE 600 L, CAPACIDADE DE MISTURA 360 L, MOTOR ELÉTRICO TRIFÁSICO POTÊNCIA DE 4 CV, SEM CARREGADOR - CHP DIURNO. AF_11/2014","CHP",0.66,3.1635,2.0879099999999999,null,null,0]
[null,"BETONEIRA CAPACIDADE NOMINAL DE 600 L, CAPACIDADE DE MISTURA 360 L, MOTOR ELÉTRICO TRIFÁSICO POTÊNCIA DE 4 CV, SEM CARREGADOR - CHI DIURNO. AF_11/2014","CHI",0.62,0.95949999999999991,0.59488999999999992,null,null,0]
[null,"CARGA, MANOBRA E DESCARGA DE SOLOS E MATERIAIS GRANULARES EM CAMINHÃO BASCULANTE 6 M³ - CARGA COM PÁ CARREGADEIRA (CAÇAMBA DE 1,7 A 2,8 M³ / 128 HP) E DESCARGA LIVRE (UNIDADE: M3). AF_07/2020","M3",{"$f":"ROUND(1*(D312+D314),4)","v":1.389},4.7551708499999998,6.6049323106499997,null,null,0]
[null,"TRANSPORTE COM CAMINHÃO BASCULANTE DE 6 M³, EM VIA URBANA PAVIMENTADA, DMT ATÉ 30 KM (UNIDADE: M3XKM). AF_07/2020","M3xKM",{"$f":"ROUND((D312+D314)*20,4)","v":27.78},1.5377013499999996,42.717343502999995,null,null,0]
[null,null,null,null,"","",null,null,0]
[null,"Obs.: Considerando fornecedor de areia e brita a 20 km do Senado Federal.",null,null,"","",null,null,0]
[null,"",null,null,"","",null,null,0]
["CONCRETO MAGRO PARA LASTRO, TRAÇO 1:4,5:4,5 (CIMENTO/ AREIA MÉDIA/ BRITA 1)  - PREPARO MECÂNICO COM BETONEIRA 600 L. AF_07/2016","","M3",null,"","",null,null,0]
[null,"",null,null,"","",null,null,0]
[null,"AREIA MEDIA - POSTO JAZIDA/FORNECEDOR (RETIRADO NA JAZIDA, SEM TRANSPORTE)","M3",0.83199999999999996,93.8125,{"$f":"IF(ISNUMBER(E326),E326*$D326,\"\")","v":78.051999999999992},{"$f":"SUM(F326:F334)","v":326.02768575989995},null,0]
[null,"CIMENTO PORTLAND COMPOSTO CP II-32","KG",213.45,0.44649999999999995,95.305424999999985,null,null,0]
[null,"PEDRA BRITADA N. 1 (9,5 a 19 MM) POSTO PEDREIRA/FORNECEDOR, SEM FRETE","M3",0.58199999999999996,76,44.231999999999999,null,null,0]
[null,"SERVENTE COM ENCARGOS COMPLEMENTARES","H",2.11,16.026499999999999,33.815914999999997,null,null,0]
[null,"OPERADOR DE BETONEIRA ESTACIONÁRIA/MISTURADOR COM ENCARGOS COMPLEMENTARES","H",1.33,16.245000000000001,21.605850000000004,null,null,0]
[null,"BETONEIRA CAPACIDADE NOMINAL DE 600 L, CAPACIDADE DE MISTURA 360 L, MOTOR ELÉTRICO TRIFÁSICO POTÊNCIA DE 4 CV, SEM CARREGADOR - CHP DIURNO. AF_11/2014","CHP",0.69,3.1635,2.1828149999999997,null,null,0]
[null,"BETONEIRA CAPACIDADE NOMINAL DE 600 L, CAPACIDADE DE MISTURA 360 L, MOTOR ELÉTRICO TRIFÁSICO POTÊNCIA DE 4 CV, SEM CARREGADOR - CHI DIURNO. AF_11/2014","CHI",0.65,0.95949999999999991,0.62367499999999998,null,null,0]
[null,"CARGA, MANOBRA E DESCARGA DE SOLOS E MATERIAIS GRANULARES EM CAMINHÃO BASCULANTE 6 M³ - CARGA COM PÁ CARREGADEIRA (CAÇAMBA DE 1,7 A 2,8 M³ / 128 HP) E DESCARGA LIVRE (UNIDADE: M3). AF_07/2020","M3",{"$f":"ROUND(1*(D326+D328),4)","v":1.4139999999999999},4.7551708499999998,6.7238115818999997,null,null,0]
[null,"TRANSPORTE COM CAMINHÃO BASCULANTE DE 6 M³, EM VIA URBANA PAVIMENTADA, DMT ATÉ 30 KM (UNIDADE: M3XKM). AF_07/2020","M3xKM",{"$f":"ROUND((D326+D328)*20,4)","v":28.28},1.5377013499999996,43.486194177999991,null,null,0]
[null,null,null,null,"","",null,null,0]
[null,"Obs.: Considerando fornecedor de areia e brita a 20 km do Senado Federal.",null,null,"","",null,null,0]
[null,"",null,null,"","",null,null,0]
["ARGAMASSA TRAÇO 1:4 (EM VOLUME DE CIMENTO E AREIA GROSSA ÚMIDA) PARA CHAPISCO CONVENCIONAL, PREPARO MECÂNICO COM BETONEIRA 400 L. AF_08/2019","","M3",null,"","",null,null,0]
[null,"",null,null,"","",null,null,0]
[null,"AREIA GROSSA - POSTO JAZIDA/FORNECEDOR (RETIRADO NA JAZIDA, SEM TRANSPORTE)","M3",1.02,118.7025,121.07655,{"$f":"SUM(F340:F346)","v":388.076771807},null,0]
[null,"CIMENTO PORTLAND COMPOSTO CP II-32","KG",343.52,0.44649999999999995,153.38167999999999,null,null,0]
[null,"OPERADOR DE BETONEIRA ESTACIONÁRIA/MISTURADOR COM ENCARGOS COMPLEMENTARES","H",4.6399999999999997,16.245000000000001,75.376800000000003,null,null,0]
[null,"BETONEIRA CAPACIDADE NOMINAL DE 400 L, CAPACIDADE DE MISTURA 280 L, MOTOR ELÉTRICO TRIFÁSICO POTÊNCIA DE 2 CV, SEM CARREGADOR - CHP DIURNO. AF_10/2014","CHP",1.08,1.121,1.21068,null,null,0]
[null,"BETONEIRA CAPACIDADE NOMINAL DE 400 L, CAPACIDADE DE MISTURA 280 L, MOTOR ELÉTRICO TRIFÁSICO POTÊNCIA DE 2 CV, SEM CARREGADOR - CHI DIURNO. AF_10/2014","CHI",3.56,0.22799999999999998,0.81167999999999996,null,null,0]
[null,"CARGA, MANOBRA E DESCARGA DE SOLOS E MATERIAIS GRANULARES EM CAMINHÃO BASCULANTE 6 M³ - CARGA COM PÁ CARREGADEIRA (CAÇAMBA DE 1,7 A 2,8 M³ / 128 HP) E DESCARGA LIVRE (UNIDADE: M3). AF_07/2020","M3",{"$f":"ROUND(1*(D340),4)","v":1.02},4.7551708499999998,4.8502742669999996,null,null,0]
[null,"TRANSPORTE COM CAMINHÃO BASCULANTE DE 6 M³, EM VIA URBANA PAVIMENTADA, DMT ATÉ 30 KM (UNIDADE: M3XKM). AF_07/2020","M3xKM",{"$f":"ROUND(D340*20,4)","v":20.399999999999999},1.5377013499999996,31.369107539999991,null,null,0]
[null,null,null,null,"","",null,null,0]
[null,"Obs.: Considerando fornecedor de areia a 20 km do Senado Federal.",null,null,"","",null,null,0]
[null,"",null,null,"","",null,null,0]
["CARGA, MANOBRA E DESCARGA DE SOLOS E MATERIAIS GRANULARES EM CAMINHÃO BASCULANTE 6 M³ - CARGA COM PÁ CARREGADEIRA (CAÇAMBA DE 1,7 A 2,8 M³ / 128 HP) E DESCARGA LIVRE (UNIDADE: M3). AF_07/2020","","M3",null,"","",null,null,46.75]
[null,"",null,null,"","",null,null,46.75]
[null,"PÁ CARREGADEIRA SOBRE RODAS, POTÊNCIA LÍQUIDA 128 HP, CAPACIDADE DA CAÇAMBA 1,7 A 2,8 M3, PESO OPERACIONAL 11632 KG - CHP DIURNO. AF_06/2014","CHP",8.3000000000000001E-3,108.148,0.89762839999999999,{"$f":"SUM(F352:F355)","v":4.7457088499999998},null,46.75]
[null,"PÁ CARREGADEIRA SOBRE RODAS, POTÊNCIA LÍQUIDA 128 HP, CAPACIDADE DA CAÇAMBA 1,7 A 2,8 M3, PESO OPERACIONAL 11632 KG - CHI DIURNO. AF_06/2014","CHI",1.5100000000000001E-2,40.840499999999999,0.61669154999999998,null,null,46.75]
[null,"CAMINHÃO BASCULANTE 6 M3 TOCO, PESO BRUTO TOTAL 16.000 KG, CARGA ÚTIL MÁXIMA 11.130 KG, DISTÂNCIA ENTRE EIXOS 5,36 M, POTÊNCIA 185 CV, INCLUSIVE CAÇAMBA METÁLICA - CHP DIURNO. AF_06/2014","CHP",2.6700000000000002E-2,96.966499999999982,2.5890055499999995,null,null,46.75]
[null,"CAMINHÃO BASCULANTE 6 M3 TOCO, PESO BRUTO TOTAL 16.000 KG, CARGA ÚTIL MÁXIMA 11.130 KG, DISTÂNCIA ENTRE EIXOS 5,36 M, POTÊNCIA 185 CV, INCLUSIVE CAÇAMBA METÁLICA - CHI DIURNO. AF_06/2014","CHI",2.0299999999999999E-2,31.644500000000001,0.64238335000000002,null,null,46.75]
[null,"",null,null,"","",null,null,46.75]
["CARGA, MANOBRAS E DESCARGA DE AREIA, BRITA, PEDRA DE MAO E SOLOS COM CAMINHAO BASCULANTE 6 M3 (DESCARGA LIVRE)","","T",null,"","",null,null,0]
[null,"",null,null,"","",null,null,0]
[null,"PÁ CARREGADEIRA SOBRE RODAS, POTÊNCIA LÍQUIDA 128 HP, CAPACIDADE DA CAÇAMBA 1,7 A 2,8 M3, PESO OPERACIONAL 11632 KG - CHP DIURNO. AF_06/2014","CHP",5.5599999999999998E-3,108.148,0.60130287999999998,{"$f":"SUM(F359:F362)","v":3.1669963799999996},null,0]
[null,"PÁ CARREGADEIRA SOBRE RODAS, POTÊNCIA LÍQUIDA 128 HP, CAPACIDADE DA CAÇAMBA 1,7 A 2,8 M3, PESO OPERACIONAL 11632 KG - CHI DIURNO. AF_06/2014","CHI",1.01E-2,40.840499999999999,0.41248904999999997,null,null,0]
[null,"CAMINHÃO BASCULANTE 6 M3 TOCO, PESO BRUTO TOTAL 16.000 KG, CARGA ÚTIL MÁXIMA 11.130 KG, DISTÂNCIA ENTRE EIXOS 5,36 M, POTÊNCIA 185 CV, INCLUSIVE CAÇAMBA METÁLICA - CHP DIURNO. AF_06/2014","CHP",1.78E-2,96.966499999999982,1.7260036999999997,null,null,0]
[null,"CAMINHÃO BASCULANTE 6 M3 TOCO, PESO BRUTO TOTAL 16.000 KG, CARGA ÚTIL MÁXIMA 11.130 KG, DISTÂNCIA ENTRE EIXOS 5,36 M, POTÊNCIA 185 CV, INCLUSIVE CAÇAMBA METÁLICA - CHI DIURNO. AF_06/2014","CHI",1.35E-2,31.644500000000001,0.42720075000000002,null,null,0]
[null,"",null,null,"","",null,null,0]
["MONTAGEM E DESMONTAGEM DE FÔRMA DE PILARES RETANGULARES E ESTRUTURAS SIMILARES COM ÁREA MÉDIA DAS SEÇÕES MAIOR QUE 0,25 M², PÉ-DIREITO SIMPLES, EM MADEIRA SERRADA, 2 UTILIZAÇÕES. AF_12/2015","","M2",null,"","",null,null,0]
[null,"",null,null,"","",null,null,0]
[null,"DESMOLDANTE PROTETOR PARA FORMAS DE MADEIRA, DE BASE OLEOSA EMULSIONADA EM AGUA","L",1.7000000000000001E-2,4.8925000000000001,8.317250000000001E-2,{"$f":"SUM(F366:F370)","v":131.79053200999999},null,0]
[null,"PREGO DE ACO POLIDO COM CABECA DUPLA 17 X 27 (2 1/2 X 11)","KG",2.7E-2,13.955499999999999,0.37679849999999998,null,null,0]
[null,"AJUDANTE DE CARPINTEIRO COM ENCARGOS COMPLEMENTARES","H",0.48899999999999999,18.173499999999997,8.8868414999999992,null,null,0]
[null,"CARPINTEIRO DE FORMAS COM ENCARGOS COMPLEMENTARES","H",2.6680000000000001,21.5745,57.560766000000001,null,null,0]
[null,"FABRICAÇÃO DE FÔRMA PARA PILARES E ESTRUTURAS SIMILARES, EM MADEIRA SERRADA, E=25 MM. AF_12/2015","M2",0.53,122.42066700000001,64.882953510000007,null,null,0]
[null,"",null,null,"","",null,null,0]
["CHAPISCO APLICADO EM ALVENARIAS E ESTRUTURAS DE CONCRETO INTERNAS, COM COLHER DE PEDREIRO.  ARGAMASSA TRAÇO 1:3 COM PREPARO EM BETONEIRA 400L. AF_06/2014","","M2",null,"","",null,null,0]
[null,"",null,null,"","",null,null,0]
[null,"ARGAMASSA TRAÇO 1:3 (EM VOLUME DE CIMENTO E AREIA GROSSA ÚMIDA) PARA CHAPISCO CONVENCIONAL, PREPARO MECÂNICO COM BETONEIRA 400 L. AF_08/2019","M3",4.1999999999999997E-3,408.98885195000003,1.71775317819,{"$f":"SUM(F374:F376)","v":3.3501286781899999},null,0]
[null,"PEDREIRO COM ENCARGOS COMPLEMENTARES","H",7.0000000000000007E-2,21.716999999999999,1.5201900000000002,null,null,0]
[null,"SERVENTE COM ENCARGOS COMPLEMENTARES","H",7.0000000000000001E-3,16.026499999999999,0.11218549999999999,null,null,0]
[null,null,null,null,null,null,null,null,0]
["EMBOÇO, PARA RECEBIMENTO DE CERÂMICA, EM ARGAMASSA TRAÇO 1:2:8, PREPARO MECÂNICO COM BETONEIRA 400L, APLICADO MANUALMENTE EM FACES INTERNAS DE PAREDES, PARA AMBIENTE COM ÁREA MENOR QUE 5M2, ESPESSURA DE 10MM, COM EXECUÇÃO DE TALISCAS. AF_06/2014","","M2",null,"",{"$f":"IF(ISNUMBER(E378),E378*$D378,\"\")","v":""},null,null,0]
[null,"",null,null,"",{"$f":"IF(ISNUMBER(E379),E379*$D379,\"\")","v":""},null,null,0]
[null,"ARGAMASSA TRAÇO 1:2:8 (EM VOLUME DE CIMENTO, CAL E AREIA MÉDIA ÚMIDA) PARA EMBOÇO/MASSA ÚNICA/ASSENTAMENTO DE ALVENARIA DE VEDAÇÃO, PREPARO MECÂNICO COM BETONEIRA 400 L. AF_08/2019","M3",2.1299999999999999E-2,444.04868744999993,{"$f":"IF(ISNUMBER(E380),E380*$D380,\"\")","v":9.4582370426849991},{"$f":"SUM(F380:F382)","v":22.124482542685001},null,0]
[null,"PEDREIRO COM ENCARGOS COMPLEMENTARES","H",0.46,21.716999999999999,{"$f":"IF(ISNUMBER(E381),E381*$D381,\"\")","v":9.9898199999999999},null,null,0]
[null,"SERVENTE COM ENCARGOS COMPLEMENTARES","H",0.16700000000000001,16.026499999999999,{"$f":"IF(ISNUMBER(E382),E382*$D382,\"\")","v":2.6764255000000001},null,null,0]
[null,null,null,null,null,null,null,null,0]
["ALVENARIA DE VEDAÇÃO DE BLOCOS VAZADOS DE CONCRETO DE 9X19X39CM (ESPESSURA 9CM) DE PAREDES COM ÁREA LÍQUIDA MENOR QUE 6M² SEM VÃOS E ARGAMASSA DE ASSENTAMENTO COM PREPARO EM BETONEIRA. AF_06/2014","","M2",null,"",{"$f":"IF(ISNUMBER(E384),E384*$D384,\"\")","v":""},null,null,0]
[null,"",null,null,"","",null,null,0]
[null,"BLOCO DE VEDACAO DE CONCRETO, 9 X 19 X 39 CM (CLASSE C - NBR 6136)","UN",13.5,1.71,23.085000000000001,{"$f":"SUM(F386:F391)","v":50.03062434956},null,0]
[null,"TELA DE ACO SOLDADA GALVANIZADA/ZINCADA PARA ALVENARIA, FIO D = *1,20 A 1,70* MM, MALHA 15 X 15 MM, (C X L) *50 X 7,5* CM","M",0.78500000000000003,1.6909999999999998,1.3274349999999999,null,null,0]
[null,"PINO DE ACO COM FURO, HASTE = 27 MM (ACAO DIRETA)","CENTO",9.4000000000000004E-3,32.423500000000004,0.30478090000000008,null,null,0]
[null,"ARGAMASSA TRAÇO 1:2:8 (EM VOLUME DE CIMENTO, CAL E AREIA MÉDIA ÚMIDA) PARA EMBOÇO/MASSA ÚNICA/ASSENTAMENTO DE ALVENARIA DE VEDAÇÃO, PREPARO MECÂNICO COM BETONEIRA 400 L. AF_08/2019","M3",8.8000000000000005E-3,444.04868744999993,3.9076284495599998,null,null,0]
[null,"PEDREIRO COM ENCARGOS COMPLEMENTARES","H",0.72,21.716999999999999,15.636239999999999,null,null,0]
[null,"SERVENTE COM ENCARGOS COMPLEMENTARES","H",0.36,16.026499999999999,5.7695399999999992,null,null,0]
[null,"",null,null,"","",null,null,0]
["FABRICAÇÃO DE FÔRMA PARA PILARES E ESTRUTURAS SIMILARES, EM MADEIRA SERRADA, E=25 MM. AF_09/2020","","M2",null,"",{"$f":"IF(ISNUMBER(E393),ROUND(E393*$D393,2),\"\")","v":""},null,null,0]
[null,"",null,null,"","",null,null,0]
[null,"SARRAFO DE MADEIRA NAO APARELHADA *2,5 X 7,5* CM (1 X 3 \") PINUS, MISTA OU EQUIVALENTE DA REGIAO","M",4.4320000000000004,1.3204999999999998,5.85,{"$f":"SUM(F395:F401)","v":122.42999999999999},null,0]
[null,"PREGO DE ACO POLIDO COM CABECA 17 X 21 (2 X 11)","KG",8.5999999999999993E-2,11.305,0.97,null,null,0]
[null,"TABUA DE MADEIRA NAO APARELHADA *2,5 X 30* CM, CEDRINHO OU EQUIVALENTE DA REGIAO","M",6.53,14.554,95.04,null,null,0]
[null,"AJUDANTE DE CARPINTEIRO COM ENCARGOS COMPLEMENTARES","H",0.14299999999999999,18.173499999999997,2.6,null,null,0]
[null,"CARPINTEIRO DE FORMAS COM ENCARGOS COMPLEMENTARES","H",0.71499999999999997,21.5745,15.43,null,null,0]
[null,"SERRA CIRCULAR DE BANCADA COM MOTOR ELÉTRICO POTÊNCIA DE 5HP, COM COIFA PARA DISCO 10\" - CHP DIURNO. AF_08/2015","CHP",0.05,18.904999999999998,{"$f":"IF(ISNUMBER(E400),ROUND(E400*$D400,2),\"\")","v":0.95},null,null,0]
[null,"SERRA CIRCULAR DE BANCADA COM MOTOR ELÉTRICO POTÊNCIA DE 5HP, COM COIFA PARA DISCO 10\" - CHI DIURNO. AF_08/2015","CHI",9.2999999999999999E-2,17.081,{"$f":"IF(ISNUMBER(E401),ROUND(E401*$D401,2),\"\")","v":1.59},null,null,0]
[null,null,null,null,"",{"$f":"IF(ISNUMBER(E402),ROUND(E402*$D402,2),\"\")","v":""},null,null,0]
["ARGAMASSA TRAÇO 1:3 (EM VOLUME DE CIMENTO E AREIA GROSSA ÚMIDA) PARA CHAPISCO CONVENCIONAL, PREPARO MECÂNICO COM BETONEIRA 400 L. AF_08/2019","","M3",null,"","",null,null,0]
[null,"",null,null,"","",null,null,0]
[null,"AREIA GROSSA - POSTO JAZIDA/FORNECEDOR (RETIRADO NA JAZIDA, SEM TRANSPORTE)","M3",0.95,118.7025,112.77,{"$f":"SUM(F405:F413)","v":408.9937379575},null,0]
[null,"CIMENTO PORTLAND COMPOSTO CP II-32","KG",426.49,0.44649999999999995,190.43,null,null,0]
[null,"OPERADOR DE BETONEIRA ESTACIONÁRIA/MISTURADOR COM ENCARGOS COMPLEMENTARES","H",4.32,16.245000000000001,70.180000000000007,null,null,0]
[null,"BETONEIRA CAPACIDADE NOMINAL DE 400 L, CAPACIDADE DE MISTURA 280 L, MOTOR ELÉTRICO TRIFÁSICO POTÊNCIA DE 2 CV, SEM CARREGADOR - CHP DIURNO. AF_10/2014","CHP",1.01,1.121,1.1299999999999999,null,null,0]
[null,"BETONEIRA CAPACIDADE NOMINAL DE 400 L, CAPACIDADE DE MISTURA 280 L, MOTOR ELÉTRICO TRIFÁSICO POTÊNCIA DE 2 CV, SEM CARREGADOR - CHI DIURNO. AF_10/2014","CHI",3.31,0.22799999999999998,0.75,null,null,0]
[null,"CARGA, MANOBRA E DESCARGA DE SOLOS E MATERIAIS GRANULARES EM CAMINHÃO BASCULANTE 6 M³ - CARGA COM PÁ CARREGADEIRA (CAÇAMBA DE 1,7 A 2,8 M³ / 128 HP) E DESCARGA LIVRE (UNIDADE: M3). AF_07/2020","M3",{"$f":"ROUND(1*(D405),4)","v":0.95},4.7551708499999998,{"$f":"IF(ISNUMBER(E410),E410*$D410,\"\")","v":4.5174123074999999},null,null,0]
[null,"TRANSPORTE COM CAMINHÃO BASCULANTE DE 6 M³, EM VIA URBANA PAVIMENTADA, DMT ATÉ 30 KM (UNIDADE: M3XKM). AF_07/2020","M3xKM",{"$f":"ROUND(D405*20,4)","v":19},1.5377013499999996,29.216325649999995,null,null,0]
[null,null,null,null,"",{"$f":"IF(ISNUMBER(E412),ROUND(E412*$D412,2),\"\")","v":""},null,null,0]
[null,"Obs.: Considerando fornecedor de areia a 20 km do Senado Federal.",null,null,"","",null,null,0]
[null,null,null,null,"","",null,null,0]
["ARGAMASSA TRAÇO 1:3 (EM VOLUME DE CIMENTO E AREIA MÉDIA ÚMIDA) PARA CONTRAPISO, PREPARO MECÂNICO COM BETONEIRA 400 L. AF_08/2019","","M3",null,"","",null,null,0]
[null,"",null,null,"","",null,null,0]
[null,"AREIA GROSSA - POSTO JAZIDA/FORNECEDOR (RETIRADO NA JAZIDA, SEM TRANSPORTE)","M3",1.27,118.7025,150.75,{"$f":"SUM(F417:F425)","v":525.6866812694999},null,0]
[null,"CIMENTO PORTLAND COMPOSTO CP II-32","KG",573.61,0.44649999999999995,256.12,null,null,0]
[null,"OPERADOR DE BETONEIRA ESTACIONÁRIA/MISTURADOR COM ENCARGOS COMPLEMENTARES","H",4.42,16.245000000000001,71.8,null,null,0]
[null,"BETONEIRA CAPACIDADE NOMINAL DE 400 L, CAPACIDADE DE MISTURA 280 L, MOTOR ELÉTRICO TRIFÁSICO POTÊNCIA DE 2 CV, SEM CARREGADOR - CHP DIURNO. AF_10/2014","CHP",1.03,1.121,1.1499999999999999,null,null,0]
[null,"BETONEIRA CAPACIDADE NOMINAL DE 400 L, CAPACIDADE DE MISTURA 280 L, MOTOR ELÉTRICO TRIFÁSICO POTÊNCIA DE 2 CV, SEM CARREGADOR - CHI DIURNO. AF_10/2014","CHI",3.39,0.22799999999999998,0.77,null,null,0]
[null,"CARGA, MANOBRA E DESCARGA DE SOLOS E MATERIAIS GRANULARES EM CAMINHÃO BASCULANTE 6 M³ - CARGA COM PÁ CARREGADEIRA (CAÇAMBA DE 1,7 A 2,8 M³ / 128 HP) E DESCARGA LIVRE (UNIDADE: M3). AF_07/2020","M3",{"$f":"ROUND(1*(D417),4)","v":1.27},4.7551708499999998,{"$f":"IF(ISNUMBER(E422),E422*$D422,\"\")","v":6.0390669795000003},null,null,0]
[null,"TRANSPORTE COM CAMINHÃO BASCULANTE DE 6 M³, EM VIA URBANA PAVIMENTADA, DMT ATÉ 30 KM (UNIDADE: M3XKM). AF_07/2020","M3xKM",{"$f":"ROUND(D417*20,4)","v":25.4},1.5377013499999996,39.057614289999989,null,null,0]
[null,null,null,null,"",{"$f":"IF(ISNUMBER(E424),ROUND(E424*$D424,2),\"\")","v":""},null,null,0]
[null,"Obs.: Considerando fornecedor de areia a 20 km do Senado Federal.",null,null,"","",null,null,0]
[null,null,null,null,"","",null,null,0]

{"sheet":"Comp.Aux2","index":2,"n_rows":83,"n_cols":9,"rows_kept":83,"cut":false,"hidden":false,"merged":[[49,0,65,0],[66,0,82,0],[5,0,9,0],[10,0,15,0],[16,0,22,0],[23,0,38,0],[39,0,48,0]]}
[{"$f":"Composições!A1","v":"Execução de serviços comuns de engenharia nas edificações do CASF"}]
["COMPOSIÇÕES DE CUSTO UNITÁRIO AUXILIARES DE 2º NÍVEL"]
[{"$f":"Composições!A3","v":"Data: Outubro de 2020"}]
[]
["DESCRIÇÃO","DISCRIMINAÇÃO DA COMPOSIÇÃO","UNIDADE","COEFICIENTE","CUSTO UNITÁRIO","CUSTO TOTAL","TOTAL",null,"QTD"]
["TRANSPORTE COM CAMINHÃO BASCULANTE DE 6 M³, EM VIA URBANA PAVIMENTADA, DMT ATÉ 30 KM (UNIDADE: M3XKM). AF_07/2020","","M3xKM",null,"",{"$f":"IF(ISNUMBER(E6),ROUND(E6*$D6,2),\"\")","v":""},null,null,1044.4356]
[null,"",null,null,"","",null,null,1044.4356]
[null,"CAMINHÃO BASCULANTE 6 M3 TOCO, PESO BRUTO TOTAL 16.000 KG, CARGA ÚTIL MÁXIMA 11.130 KG, DISTÂNCIA ENTRE EIXOS 5,36 M, POTÊNCIA 185 CV, INCLUSIVE CAÇAMBA METÁLICA - CHP DIURNO. AF_06/2014","CHP",1.3899999999999999E-2,96.966499999999982,1.35,{"$f":"SUM(F8:F9)","v":1.54},null,1044.4356]
[null,"CAMINHÃO BASCULANTE 6 M3 TOCO, PESO BRUTO TOTAL 16.000 KG, CARGA ÚTIL MÁXIMA 11.130 KG, DISTÂNCIA ENTRE EIXOS 5,36 M, POTÊNCIA 185 CV, INCLUSIVE CAÇAMBA METÁLICA - CHI DIURNO. AF_06/2014","CHI",6.0000000000000001E-3,31.644500000000001,0.19,null,null,1044.4356]
[null,"",null,null,"","",null,null,1044.4356]
["CORTE E DOBRA DE AÇO CA-60, DIÂMETRO DE 4,2 MM, UTILIZADO EM LAJE. AF_12/2015","","KG",null,"","",null,null,0]
[null,"",null,null,"","",null,null,0]
[null,"ACO CA-60, 4,2 MM, OU 5,0 MM, OU 6,0 MM, OU 7,0 MM, VERGALHAO","KG",1.07,5.2344999999999997,5.6,{"$f":"SUM(F13:F15)","v":7.84},null,0]
[null,"AJUDANTE DE ARMADOR COM ENCARGOS COMPLEMENTARES","H",1.3100000000000001E-2,16.739000000000001,0.22,null,null,0]
[null,"ARMADOR COM ENCARGOS COMPLEMENTARES","H",9.3299999999999994E-2,21.612500000000001,2.02,null,null,0]
[null,"",null,null,"","",null,null,0]
["CARGA, MANOBRA E DESCARGA DE SOLOS E MATERIAIS GRANULARES EM CAMINHÃO BASCULANTE 6 M³ - CARGA COM PÁ CARREGADEIRA (CAÇAMBA DE 1,7 A 2,8 M³ / 128 HP) E DESCARGA LIVRE (UNIDADE: M3). AF_07/2020","","M3",null,"","",null,null,52.221780000000003]
[null,"",null,null,"","",null,null,52.221780000000003]
[null,"CAMINHÃO BASCULANTE 6 M3, PESO BRUTO TOTAL 16.000 KG, CARGA ÚTIL MÁXIMA 13.071 KG, DISTÂNCIA ENTRE EIXOS 4,80 M, POTÊNCIA 230 CV INCLUSIVE CAÇAMBA METÁLICA - CHP DIURNO. AF_06/2014","CHP",8.3000000000000001E-3,109.288,0.91,{"$f":"SUM(F19:F22)","v":4.7580804499999996},null,52.221780000000003]
[null,"PÁ CARREGADEIRA SOBRE RODAS, POTÊNCIA LÍQUIDA 128 HP, CAPACIDADE DA CAÇAMBA 1,7 A 2,8 M3, PESO OPERACIONAL 11632 KG - CHI DIURNO. AF_06/2014","CHI",1.5100000000000001E-2,40.840499999999999,{"$f":"IF(ISNUMBER(E20),E20*$D20,\"\")","v":0.61669154999999998},null,null,52.221780000000003]
[null,"CAMINHÃO BASCULANTE 6 M3 TOCO, PESO BRUTO TOTAL 16.000 KG, CARGA ÚTIL MÁXIMA 11.130 KG, DISTÂNCIA ENTRE EIXOS 5,36 M, POTÊNCIA 185 CV, INCLUSIVE CAÇAMBA METÁLICA - CHP DIURNO. AF_06/2014","CHP",2.6700000000000002E-2,96.966499999999982,{"$f":"IF(ISNUMBER(E21),E21*$D21,\"\")","v":2.5890055499999995},null,null,52.221780000000003]
[null,"CAMINHÃO BASCULANTE 6 M3 TOCO, PESO BRUTO TOTAL 16.000 KG, CARGA ÚTIL MÁXIMA 11.130 KG, DISTÂNCIA ENTRE EIXOS 5,36 M, POTÊNCIA 185 CV, INCLUSIVE CAÇAMBA METÁLICA - CHI DIURNO. AF_06/2014","CHI",2.0299999999999999E-2,31.644500000000001,{"$f":"IF(ISNUMBER(E22),E22*$D22,\"\")","v":0.64238335000000002},null,null,52.221780000000003]
[null,"",null,null,"",{"$f":"IF(ISNUMBER(E23),ROUND(E23*$D23,2),\"\")","v":""},null,null,52.221780000000003]
["ARGAMASSA TRAÇO 1:4 (EM VOLUME DE CIMENTO E AREIA MÉDIA ÚMIDA) PARA CONTRAPISO, PREPARO MECÂNICO COM BETONEIRA 400 L. AF_08/2019","","M3",null,"","",null,null,0]
[null,"",null,null,"","",null,null,0]
[null,"Areia media - posto jazida/fornecedor (retirado na jazida, sem transporte)","M3",1.36,93.8125,127.59,{"$f":"SUM(F26:F36)","v":462.09257480000002},null,0]
[null,"Cimento Portland composto CP II-32","KG",459.85,0.44649999999999995,205.32,null,null,0]
[null,"Operador de betoneira estacionária/misturador com encargos complementares","H",4.8499999999999996,16.245000000000001,78.790000000000006,null,null,0]
[null,"Betoneira capacidade nominal de 400 L, capacidade de mistura 280 L, motor elétrico trifásico potência de 2 cv, sem carregador - CHP diurno. af_10/2014","CHP",1.1299999999999999,1.121,1.27,null,null,0]
[null,"Betoneira capacidade nominal de 400 L, capacidade de mistura 280 L, motor elétrico trifásico potência de 2 cv, sem carregador - CHI diurno. af_10/2014","CHI",3.72,0.22799999999999998,0.85,null,null,0]
[null,"PÁ CARREGADEIRA SOBRE RODAS, POTÊNCIA LÍQUIDA 128 HP, CAPACIDADE DA CAÇAMBA 1,7 A 2,8 M3, PESO OPERACIONAL 11632 KG - CHP DIURNO. AF_06/2014","CHP",{"$f":"ROUND(0.0083*D26,4)","v":1.1299999999999999E-2},108.148,{"$f":"IF(ISNUMBER(E31),E31*$D31,\"\")","v":1.2220723999999998},null,null,0]
[null,"PÁ CARREGADEIRA SOBRE RODAS, POTÊNCIA LÍQUIDA 128 HP, CAPACIDADE DA CAÇAMBA 1,7 A 2,8 M3, PESO OPERACIONAL 11632 KG - CHI DIURNO. AF_06/2014","CHI",{"$f":"ROUND(0.0151*D26,4)","v":2.0500000000000001E-2},40.840499999999999,{"$f":"IF(ISNUMBER(E32),E32*$D32,\"\")","v":0.83723024999999995},null,null,0]
[null,"CAMINHÃO BASCULANTE 6 M3 TOCO, PESO BRUTO TOTAL 16.000 KG, CARGA ÚTIL MÁXIMA 11.130 KG, DISTÂNCIA ENTRE EIXOS 5,36 M, POTÊNCIA 185 CV, INCLUSIVE CAÇAMBA METÁLICA - CHP DIURNO. AF_06/2014","CHP",{"$f":"ROUND(0.0267*D26,4)","v":3.6299999999999999E-2},96.966499999999982,{"$f":"IF(ISNUMBER(E33),E33*$D33,\"\")","v":3.5198839499999992},null,null,0]
[null,"CAMINHÃO BASCULANTE 6 M3 TOCO, PESO BRUTO TOTAL 16.000 KG, CARGA ÚTIL MÁXIMA 11.130 KG, DISTÂNCIA ENTRE EIXOS 5,36 M, POTÊNCIA 185 CV, INCLUSIVE CAÇAMBA METÁLICA - CHI DIURNO. AF_06/2014","CHI",{"$f":"ROUND(0.0203*D26,4)","v":2.76E-2},31.644500000000001,{"$f":"IF(ISNUMBER(E34),E34*$D34,\"\")","v":0.87338820000000006},null,null,0]
[null,"CAMINHÃO BASCULANTE 6 M3 TOCO, PESO BRUTO TOTAL 16.000 KG, CARGA ÚTIL MÁXIMA 11.130 KG, DISTÂNCIA ENTRE EIXOS 5,36 M, POTÊNCIA 185 CV, INCLUSIVE CAÇAMBA METÁLICA - CHP DIURNO. AF_06/2014","CHP",{"$f":"ROUND(0.0139*20*D26,4)","v":0.37809999999999999},96.966499999999982,{"$f":"IF(ISNUMBER(E35),ROUND(E35*$D35,2),\"\")","v":36.659999999999997},null,null,0]
[null,"CAMINHÃO BASCULANTE 6 M3 TOCO, PESO BRUTO TOTAL 16.000 KG, CARGA ÚTIL MÁXIMA 11.130 KG, DISTÂNCIA ENTRE EIXOS 5,36 M, POTÊNCIA 185 CV, INCLUSIVE CAÇAMBA METÁLICA - CHI DIURNO. AF_06/2014","CHI",{"$f":"ROUND(0.006*20*D26,4)","v":0.16320000000000001},31.644500000000001,5.16,null,null,0]
[null,null,null,null,"","",null,null,0]
[null,"Obs.: Considerando fornecedor de areia a 20 km do Senado Federal.",null,null,"","",null,null,0]
[null,"Obs.2: Inclusão de composições (abertas) Sinapi 100973 e 97914.",null,null,"","",null,null,0]
["FABRICAÇÃO DE FÔRMA PARA PILARES E ESTRUTURAS SIMILARES, EM MADEIRA SERRADA, E=25 MM. AF_09/2020","","M2",null,"","",null,null,0]
[null,"",null,null,"","",null,null,0]
[null,"SARRAFO DE MADEIRA NAO APARELHADA *2,5 X 7,5* CM (1 X 3 \") PINUS, MISTA OU EQUIVALENTE DA REGIAO","M",4.4320000000000004,1.3204999999999998,5.85,{"$f":"SUM(F42:F48)","v":122.42999999999999},null,0]
[null,"PREGO DE ACO POLIDO COM CABECA 17 X 21 (2 X 11)","KG",8.5999999999999993E-2,11.305,0.97,null,null,0]
[null,"TABUA DE MADEIRA NAO APARELHADA *2,5 X 30* CM, CEDRINHO OU EQUIVALENTE DA REGIAO","M",6.53,14.554,95.04,null,null,0]
[null,"AJUDANTE DE CARPINTEIRO COM ENCARGOS COMPLEMENTARES","H",0.14299999999999999,18.173499999999997,2.6,null,null,0]
[null,"CARPINTEIRO DE FORMAS COM ENCARGOS COMPLEMENTARES","H",0.71499999999999997,21.5745,15.43,null,null,0]
[null,"SERRA CIRCULAR DE BANCADA COM MOTOR ELÉTRICO POTÊNCIA DE 5HP, COM COIFA PARA DISCO 10\" - CHP DIURNO. AF_08/2015","CHP",0.05,18.904999999999998,0.95,null,null,0]
[null,"SERRA CIRCULAR DE BANCADA COM MOTOR ELÉTRICO POTÊNCIA DE 5HP, COM COIFA PARA DISCO 10\" - CHI DIURNO. AF_08/2015","CHI",9.2999999999999999E-2,17.081,1.59,null,null,0]
[null,null,null,null,"","",null,null,0]
["ARGAMASSA TRAÇO 1:3 (EM VOLUME DE CIMENTO E AREIA GROSSA ÚMIDA) PARA CHAPISCO CONVENCIONAL, PREPARO MECÂNICO COM BETONEIRA 400 L. AF_08/2019","","M3",null,"","",null,null,0]
[null,"",null,null,"","",null,null,0]
[null,"AREIA GROSSA - POSTO JAZIDA/FORNECEDOR (RETIRADO NA JAZIDA, SEM TRANSPORTE)","M3",0.95,118.7025,112.77,{"$f":"SUM(F52:F65)","v":408.99207630000006},null,0]
[null,"CIMENTO PORTLAND COMPOSTO CP II-32","KG",426.49,0.44649999999999995,190.43,null,null,0]
[null,"OPERADOR DE BETONEIRA ESTACIONÁRIA/MISTURADOR COM ENCARGOS COMPLEMENTARES","H",4.32,16.245000000000001,70.180000000000007,null,null,0]
[null,"BETONEIRA CAPACIDADE NOMINAL DE 400 L, CAPACIDADE DE MISTURA 280 L, MOTOR ELÉTRICO TRIFÁSICO POTÊNCIA DE 2 CV, SEM CARREGADOR - CHP DIURNO. AF_10/2014","CHP",1.01,1.121,1.1299999999999999,null,null,0]
[null,"BETONEIRA CAPACIDADE NOMINAL DE 400 L, CAPACIDADE DE MISTURA 280 L, MOTOR ELÉTRICO TRIFÁSICO POTÊNCIA DE 2 CV, SEM CARREGADOR - CHI DIURNO. AF_10/2014","CHI",3.31,0.22799999999999998,0.75,null,null,0]
[null,"PÁ CARREGADEIRA SOBRE RODAS, POTÊNCIA LÍQUIDA 128 HP, CAPACIDADE DA CAÇAMBA 1,7 A 2,8 M3, PESO OPERACIONAL 11632 KG - CHP DIURNO. AF_06/2014","CHP",{"$f":"ROUND(0.0083*D52,4)","v":7.9000000000000008E-3},108.148,{"$f":"IF(ISNUMBER(E57),E57*$D57,\"\")","v":0.85436920000000005},null,null,0]
[null,"PÁ CARREGADEIRA SOBRE RODAS, POTÊNCIA LÍQUIDA 128 HP, CAPACIDADE DA CAÇAMBA 1,7 A 2,8 M3, PESO OPERACIONAL 11632 KG - CHI DIURNO. AF_06/2014","CHI",{"$f":"ROUND(0.0151*D52,4)","v":1.43E-2},40.840499999999999,{"$f":"IF(ISNUMBER(E58),E58*$D58,\"\")","v":0.58401915000000004},null,null,0]
[null,"CAMINHÃO BASCULANTE 6 M3 TOCO, PESO BRUTO TOTAL 16.000 KG, CARGA ÚTIL MÁXIMA 11.130 KG, DISTÂNCIA ENTRE EIXOS 5,36 M, POTÊNCIA 185 CV, INCLUSIVE CAÇAMBA METÁLICA - CHP DIURNO. AF_06/2014","CHP",{"$f":"ROUND(0.0267*D52,4)","v":2.5399999999999999E-2},96.966499999999982,{"$f":"IF(ISNUMBER(E59),E59*$D59,\"\")","v":2.4629490999999994},null,null,0]
[null,"CAMINHÃO BASCULANTE 6 M3 TOCO, PESO BRUTO TOTAL 16.000 KG, CARGA ÚTIL MÁXIMA 11.130 KG, DISTÂNCIA ENTRE EIXOS 5,36 M, POTÊNCIA 185 CV, INCLUSIVE CAÇAMBA METÁLICA - CHI DIURNO. AF_06/2014","CHI",{"$f":"ROUND(0.0203*D52,4)","v":1.9300000000000001E-2},31.644500000000001,{"$f":"IF(ISNUMBER(E60),E60*$D60,\"\")","v":0.61073885000000006},null,null,0]
[null,"CAMINHÃO BASCULANTE 6 M3 TOCO, PESO BRUTO TOTAL 16.000 KG, CARGA ÚTIL MÁXIMA 11.130 KG, DISTÂNCIA ENTRE EIXOS 5,36 M, POTÊNCIA 185 CV, INCLUSIVE CAÇAMBA METÁLICA - CHP DIURNO. AF_06/2014","CHP",{"$f":"ROUND(0.0139*20*D52,4)","v":0.2641},96.966499999999982,{"$f":"IF(ISNUMBER(E61),ROUND(E61*$D61,2),\"\")","v":25.61},null,null,0]
[null,"CAMINHÃO BASCULANTE 6 M3 TOCO, PESO BRUTO TOTAL 16.000 KG, CARGA ÚTIL MÁXIMA 11.130 KG, DISTÂNCIA ENTRE EIXOS 5,36 M, POTÊNCIA 185 CV, INCLUSIVE CAÇAMBA METÁLICA - CHI DIURNO. AF_06/2014","CHI",{"$f":"ROUND(0.006*20*D52,4)","v":0.114},31.644500000000001,{"$f":"IF(ISNUMBER(E62),ROUND(E62*$D62,2),\"\")","v":3.61},null,null,0]
[null,null,null,null,"",{"$f":"IF(ISNUMBER(E63),ROUND(E63*$D63,2),\"\")","v":""},null,null,0]
[null,"Obs.: Considerando fornecedor de areia a 20 km do Senado Federal.",null,null,"","",null,null,0]
[null,"Obs.2: Inclusão de composições (abertas) Sinapi 100973 e 97914.",null,null,"","",null,null,0]
[null,null,null,null,"",{"$f":"IF(ISNUMBER(E66),ROUND(E66*$D66,2),\"\")","v":""},null,null,0]
["ARGAMASSA TRAÇO 1:3 (EM VOLUME DE CIMENTO E AREIA GROSSA ÚMIDA) PARA CHAPISCO CONVENCIONAL, PREPARO MECÂNICO COM BETONEIRA 400 L. AF_08/2019","","M3",null,"","",null,null,0]
[null,"",null,null,"","",null,null,0]
[null,"AREIA MEDIA - POSTO JAZIDA/FORNECEDOR (RETIRADO NA JAZIDA, SEM TRANSPORTE)","M3",1.1599999999999999,93.8125,108.82,{"$f":"SUM(F69:F82)","v":444.04253679999988},null,0]
[null,"CAL HIDRATADA CH-I PARA ARGAMASSAS","KG",174.1,0.76,132.32,null,null,0]
[null,"CIMENTO PORTLAND COMPOSTO CP II-32","KG",195.86,0.44649999999999995,87.45,null,null,0]
[null,"OPERADOR DE BETONEIRA ESTACIONÁRIA/MISTURADOR COM ENCARGOS COMPLEMENTARES","H",4.5,16.245000000000001,73.099999999999994,null,null,0]
[null,"BETONEIRA CAPACIDADE NOMINAL DE 400 L, CAPACIDADE DE MISTURA 280 L, MOTOR ELÉTRICO TRIFÁSICO POTÊNCIA DE 2 CV, SEM CARREGADOR - CHP DIURNO. AF_10/2014","CHP",1.05,1.121,1.18,null,null,0]
[null,"PÁ CARREGADEIRA SOBRE RODAS, POTÊNCIA LÍQUIDA 128 HP, CAPACIDADE DA CAÇAMBA 1,7 A 2,8 M3, PESO OPERACIONAL 11632 KG - CHP DIURNO. AF_06/2014","CHP",{"$f":"ROUND(0.0083*D69,4)","v":9.5999999999999992E-3},108.148,{"$f":"IF(ISNUMBER(E74),E74*$D74,\"\")","v":1.0382207999999999},null,null,0]
[null,"PÁ CARREGADEIRA SOBRE RODAS, POTÊNCIA LÍQUIDA 128 HP, CAPACIDADE DA CAÇAMBA 1,7 A 2,8 M3, PESO OPERACIONAL 11632 KG - CHI DIURNO. AF_06/2014","CHI",{"$f":"ROUND(0.0151*D69,4)","v":1.7500000000000002E-2},40.840499999999999,{"$f":"IF(ISNUMBER(E75),E75*$D75,\"\")","v":0.71470875},null,null,0]
[null,"CAMINHÃO BASCULANTE 6 M3 TOCO, PESO BRUTO TOTAL 16.000 KG, CARGA ÚTIL MÁXIMA 11.130 KG, DISTÂNCIA ENTRE EIXOS 5,36 M, POTÊNCIA 185 CV, INCLUSIVE CAÇAMBA METÁLICA - CHP DIURNO. AF_06/2014","CHP",{"$f":"ROUND(0.0267*D69,4)","v":3.1E-2},96.966499999999982,{"$f":"IF(ISNUMBER(E76),E76*$D76,\"\")","v":3.0059614999999993},null,null,0]
[null,"CAMINHÃO BASCULANTE 6 M3 TOCO, PESO BRUTO TOTAL 16.000 KG, CARGA ÚTIL MÁXIMA 11.130 KG, DISTÂNCIA ENTRE EIXOS 5,36 M, POTÊNCIA 185 CV, INCLUSIVE CAÇAMBA METÁLICA - CHI DIURNO. AF_06/2014","CHI",{"$f":"ROUND(0.0203*D69,4)","v":2.35E-2},31.644500000000001,{"$f":"IF(ISNUMBER(E77),E77*$D77,\"\")","v":0.74364574999999999},null,null,0]
[null,"CAMINHÃO BASCULANTE 6 M3 TOCO, PESO BRUTO TOTAL 16.000 KG, CARGA ÚTIL MÁXIMA 11.130 KG, DISTÂNCIA ENTRE EIXOS 5,36 M, POTÊNCIA 185 CV, INCLUSIVE CAÇAMBA METÁLICA - CHP DIURNO. AF_06/2014","CHP",{"$f":"ROUND(0.0139*20*D69,4)","v":0.32250000000000001},96.966499999999982,{"$f":"IF(ISNUMBER(E78),ROUND(E78*$D78,2),\"\")","v":31.27},null,null,0]
[null,"CAMINHÃO BASCULANTE 6 M3 TOCO, PESO BRUTO TOTAL 16.000 KG, CARGA ÚTIL MÁXIMA 11.130 KG, DISTÂNCIA ENTRE EIXOS 5,36 M, POTÊNCIA 185 CV, INCLUSIVE CAÇAMBA METÁLICA - CHI DIURNO. AF_06/2014","CHI",{"$f":"ROUND(0.006*20*D69,4)","v":0.13919999999999999},31.644500000000001,{"$f":"IF(ISNUMBER(E79),ROUND(E79*$D79,2),\"\")","v":4.4000000000000004},null,null,0]
[null,null,null,null,"",{"$f":"IF(ISNUMBER(E80),ROUND(E80*$D80,2),\"\")","v":""},null,null,0]
[null,"Obs.: Considerando fornecedor de areia a 20 km do Senado Federal.",null,null,"","",null,null,0]
[null,"Obs.2: Inclusão de composições (abertas) Sinapi 100973 e 97914.",null,null,"","",null,null,0]
[null,null,null,null,"","",null,null,0]

{"sheet":"Orçamentária","index":3,"n_rows":1368,"n_cols":9,"rows_kept":1368,"cut":false,"hidden":false,"merged":[]}
["Execução de serviços comuns de engenharia nas edificações do CASF"]
["PLANILHA ORÇAMENTÁRIA"]
["Data: Outubro de 2020"]
[]
["ITEM","DESCRIÇÃO","UNIDADE","QUANTIDADE","CUSTO UNITÁRIO","CUSTO DIRETO","BDI (%)","PREÇO UNITÁRIO COM BDI","CUSTO TOTAL"]
[null,"ITEM 1 - SERVIÇOS DE ENGENHARIA",null,null,null,{"$f":"SUBTOTAL(109,F7:F1345)","v":9689132.7499999981},null,null,{"$f":"SUBTOTAL(109,I7:I1345)","v":11294657.050000001}]
["SF-00001","Engenheiro(a) /Arquiteto(a) júnior","hh",3000,{"$f":"OFFSET(INDEX(Composições!A:J,MATCH(Orçamentária!A7,Composições!A:A,0),8),2,0)","v":82.934999999999988},{"$f":"IF(ISNUMBER(E7),ROUND(D7*E7,2),\"\")","v":248805},{"$f":"BDI!$B$17","v":0.191},{"$f":"IF(ISNUMBER(E7),ROUND(E7*(1+G7),2),\"\")","v":98.78},{"$f":"IF(ISNUMBER(E7),ROUND(H7*D7,2),\"\")","v":296340}]
["SF-00002","Mestre de obras","hh",6000,{"$f":"OFFSET(INDEX(Composições!A:J,MATCH(Orçamentária!A8,Composições!A:A,0),8),2,0)","v":25.972999999999999},{"$f":"IF(ISNUMBER(E8),ROUND(D8*E8,2),\"\")","v":155838},{"$f":"BDI!$B$17","v":0.191},{"$f":"IF(ISNUMBER(E8),ROUND(E8*(1+G8),2),\"\")","v":30.93},{"$f":"IF(ISNUMBER(E8),ROUND(H8*D8,2),\"\")","v":185580}]
["SF-00003","Planejamento físico-financeiro","un",0,{"$f":"OFFSET(INDEX(Composições!A:J,MATCH(Orçamentária!A9,Composições!A:A,0),8),2,0)","v":1507.9919999999997},0,null,1507.99,0]
["SF-00004","Projetos de segurança do trabalho","un",10,{"$f":"OFFSET(INDEX(Composições!A:J,MATCH(Orçamentária!A10,Composições!A:A,0),8),2,0)","v":2125.39},21253.9,{"$f":"BDI!$B$17","v":0.191},2531.34,25313.4]
["SF-00005","Demolição de alvenarias","m3",100,{"$f":"OFFSET(INDEX(Composições!A:J,MATCH(Orçamentária!A11,Composições!A:A,0),8),2,0)","v":42.1447322},4214.47,{"$f":"BDI!$B$17","v":0.191},50.19,5019]
["SF-00006","Demolição de concreto simples","m3",20,{"$f":"OFFSET(INDEX(Composições!A:J,MATCH(Orçamentária!A12,Composições!A:A,0),8),2,0)","v":236.57659999999998},4731.53,{"$f":"BDI!$B$17","v":0.191},281.76,5635.2]
["SF-00007","Demolição de contrapiso","m2",400,{"$f":"OFFSET(INDEX(Composições!A:J,MATCH(Orçamentária!A13,Composições!A:A,0),8),2,0)","v":11.218549999999999},4487.42,{"$f":"BDI!$B$17","v":0.191},13.36,5344]
["SF-00008","Demolição de fechamento ou parede em gesso acartonado","m2",200,{"$f":"OFFSET(INDEX(Composições!A:J,MATCH(Orçamentária!A14,Composições!A:A,0),8),2,0)","v":5.7009167499999993},1140.18,{"$f":"BDI!$B$17","v":0.191},6.79,1358]
["SF-00009","Demolição de forro de gesso","m2",3000,{"$f":"OFFSET(INDEX(Composições!A:J,MATCH(Orçamentária!A15,Composições!A:A,0),8),2,0)","v":1.2407332499999999},3722.2,{"$f":"BDI!$B$17","v":0.191},1.48,4440]
["SF-00010","Demolição de infraestrutura elétrica (eletrodutos, eletrocalhas, cabos)","m",4000,{"$f":"OFFSET(INDEX(Composições!A:J,MATCH(Orçamentária!A16,Composições!A:A,0),8),2,0)","v":2.5584829999999998},10233.93,{"$f":"BDI!$B$17","v":0.191},3.05,12200]
["SF-00011","Demolição de revestimento cerâmico, granito, mármore ou granitina","m2",340,{"$f":"OFFSET(INDEX(Composições!A:J,MATCH(Orçamentária!A17,Composições!A:A,0),8),2,0)","v":9.3210352000000007},3169.15,{"$f":"BDI!$B$17","v":0.191},11.1,3774]
["SF-00012","Demolição de revestimento em argamassa","m2",1000,{"$f":"OFFSET(INDEX(Composições!A:J,MATCH(Orçamentária!A18,Composições!A:A,0),8),2,0)","v":2.4998062499999998},2499.81,{"$f":"BDI!$B$17","v":0.191},2.98,2980]
["SF-00013","Demolição de tubulação hidrossanitária embutida com conexões e acessórios","m",100,{"$f":"OFFSET(INDEX(Composições!A:J,MATCH(Orçamentária!A19,Composições!A:A,0),8),2,0)","v":0.37566135},37.57,{"$f":"BDI!$B$17","v":0.191},0.45,45]
["SF-00014","Demolição em concreto armado","m3",10,{"$f":"OFFSET(INDEX(Composições!A:J,MATCH(Orçamentária!A20,Composições!A:A,0),8),2,0)","v":212.41722125000001},2124.17,{"$f":"BDI!$B$17","v":0.191},252.99,2529.9]
["SF-00015","Locação de caçambas","un",110,320.5,35255,{"$f":"BDI!$G$17","v":0.11260000000000001},356.59,39224.9]
["SF-00016","Remoção de armários","m2",240,{"$f":"OFFSET(INDEX(Composições!A:J,MATCH(Orçamentária!A22,Composições!A:A,0),8),2,0)","v":13.173649999999999},3161.68,{"$f":"BDI!$B$17","v":0.191},15.69,3765.6]
["SF-00017","Remoção de bancadas","m2",40,{"$f":"OFFSET(INDEX(Composições!A:J,MATCH(Orçamentária!A23,Composições!A:A,0),8),2,0)","v":19.284049999999997},771.36,{"$f":"BDI!$B$17","v":0.191},22.97,918.8]
["SF-00018","Remoção de batentes de madeira","un",50,{"$f":"OFFSET(INDEX(Composições!A:J,MATCH(Orçamentária!A24,Composições!A:A,0),8),2,0)","v":7.27928},363.96,{"$f":"BDI!$B$17","v":0.191},8.67,433.5]
["SF-00019","Remoção de canaleta em alumínio","m",200,{"$f":"OFFSET(INDEX(Composições!A:J,MATCH(Orçamentária!A25,Composições!A:A,0),8),2,0)","v":4.0477125000000003},809.54,{"$f":"BDI!$B$17","v":0.191},4.82,964]
["SF-00020","Remoção de carpete","m2",300,{"$f":"OFFSET(INDEX(Composições!A:J,MATCH(Orçamentária!A26,Composições!A:A,0),8),2,0)","v":1.81982},545.95000000000005,{"$f":"BDI!$B$17","v":0.191},2.17,651]
["SF-00021","Remoção de cortinas","m",50,{"$f":"OFFSET(INDEX(Composições!A:J,MATCH(Orçamentária!A27,Composições!A:A,0),8),2,0)","v":3.1783855499999993},158.91999999999999,{"$f":"BDI!$B$17","v":0.191},3.79,189.5]
["SF-00022","Remoção de difusores, grelhas e acessórios de climatização","un",120,{"$f":"OFFSET(INDEX(Composições!A:J,MATCH(Orçamentária!A28,Composições!A:A,0),8),2,0)","v":19.892999999999997},2387.16,{"$f":"BDI!$B$17","v":0.191},23.69,2842.8]
["SF-00023","Remoção de divisória de mármore ou granito","m2",40,{"$f":"OFFSET(INDEX(Composições!A:J,MATCH(Orçamentária!A29,Composições!A:A,0),8),2,0)","v":30.078899999999997},1203.1600000000001,{"$f":"BDI!$B$17","v":0.191},35.82,1432.8]
["SF-00024","Remoção de divisórias de MDF e gesso acartonado","m2",1500,{"$f":"OFFSET(INDEX(Composições!A:J,MATCH(Orçamentária!A30,Composições!A:A,0),8),2,0)","v":25.934999999999999},38902.5,{"$f":"BDI!$B$17","v":0.191},30.89,46335]
["SF-00025","Remoção de dutos/tubulações","m",1500,{"$f":"OFFSET(INDEX(Composições!A:J,MATCH(Orçamentária!A31,Composições!A:A,0),8),2,0)","v":8.5369374999999987},12805.41,{"$f":"BDI!$B$17","v":0.191},10.17,15255]
["SF-00026","Remoção de esquadrias metálicas","m2",70,{"$f":"OFFSET(INDEX(Composições!A:J,MATCH(Orçamentária!A32,Composições!A:A,0),8),2,0)","v":9.0991},636.94000000000005,{"$f":"BDI!$B$17","v":0.191},10.84,758.8]
["SF-00027","Remoção de exaustor","un",15,{"$f":"OFFSET(INDEX(Composições!A:J,MATCH(Orçamentária!A33,Composições!A:A,0),8),2,0)","v":6.5749499999999994},98.62,{"$f":"BDI!$B$17","v":0.191},7.83,117.45]
["SF-00028","Remoção de fechadura/puxador de porta","un",101,{"$f":"OFFSET(INDEX(Composições!A:J,MATCH(Orçamentária!A34,Composições!A:A,0),8),2,0)","v":5.4031250000000002},545.72,{"$f":"BDI!$B$17","v":0.191},6.44,650.44000000000005]
["SF-00029","Remoção de folha de porta e dobradiças","un",82,{"$f":"OFFSET(INDEX(Composições!A:J,MATCH(Orçamentária!A35,Composições!A:A,0),8),2,0)","v":6.9938278},573.49,{"$f":"BDI!$B$17","v":0.191},8.33,683.06]
["SF-00030","Remoção de laminado melamínico (LDAP), em PVC ou vinílico","m2",1000,{"$f":"OFFSET(INDEX(Composições!A:J,MATCH(Orçamentária!A36,Composições!A:A,0),8),2,0)","v":16.37838},16378.38,{"$f":"BDI!$B$17","v":0.191},19.510000000000002,19510]
["SF-00031","Remoção de louças","un",80,{"$f":"OFFSET(INDEX(Composições!A:J,MATCH(Orçamentária!A37,Composições!A:A,0),8),2,0)","v":9.2655789499999983},741.25,{"$f":"BDI!$B$17","v":0.191},11.04,883.2]
["SF-00032","Remoção de luminária","un",500,{"$f":"OFFSET(INDEX(Composições!A:J,MATCH(Orçamentária!A38,Composições!A:A,0),8),2,0)","v":4.8821164999999995},2441.06,{"$f":"BDI!$B$17","v":0.191},5.81,2905]
["SF-00033","Remoção de metais e acessórios","un",300,{"$f":"OFFSET(INDEX(Composições!A:J,MATCH(Orçamentária!A39,Composições!A:A,0),8),2,0)","v":6.7565501000000001},2026.97,{"$f":"BDI!$B$17","v":0.191},8.0500000000000007,2415]
["SF-00034","Remoção de painéis de vidro temperado","m2",586,{"$f":"OFFSET(INDEX(Composições!A:J,MATCH(Orçamentária!A40,Composições!A:A,0),8),2,0)","v":13.210224999999998},7741.19,{"$f":"BDI!$B$17","v":0.191},15.73,9217.7800000000007]
["SF-00035","Remoção de película","m2",196,{"$f":"OFFSET(INDEX(Composições!A:J,MATCH(Orçamentária!A41,Composições!A:A,0),8),2,0)","v":8.0711999999999993},1581.96,{"$f":"BDI!$B$17","v":0.191},9.61,1883.56]
["SF-00036","Remoção de persianas","m",400,{"$f":"OFFSET(INDEX(Composições!A:J,MATCH(Orçamentária!A42,Composições!A:A,0),8),2,0)","v":3.1783855499999993},1271.3499999999999,{"$f":"BDI!$B$17","v":0.191},3.79,1516]
["SF-00037","Remoção de pintura ou textura","m2",4000,{"$f":"OFFSET(INDEX(Composições!A:J,MATCH(Orçamentária!A43,Composições!A:A,0),8),2,0)","v":6.4105999999999996},25642.400000000001,{"$f":"BDI!$B$17","v":0.191},7.64,30560]
["SF-00038","Remoção de placas de forro","m2",500,{"$f":"OFFSET(INDEX(Composições!A:J,MATCH(Orçamentária!A44,Composições!A:A,0),8),2,0)","v":3.7221997499999997},1861.1,{"$f":"BDI!$B$17","v":0.191},4.43,2215]
["SF-00039","Remoção de quadros de elétricos ou de telecomunicações","un",30,{"$f":"OFFSET(INDEX(Composições!A:J,MATCH(Orçamentária!A45,Composições!A:A,0),8),2,0)","v":57.223249999999993},1716.7,{"$f":"BDI!$B$17","v":0.191},68.150000000000006,2044.5]
["SF-00040","Remoção de revestimento acústico","m2",300,{"$f":"OFFSET(INDEX(Composições!A:J,MATCH(Orçamentária!A46,Composições!A:A,0),8),2,0)","v":3.2052999999999998},961.59,{"$f":"BDI!$B$17","v":0.191},3.82,1146]
["SF-00041","Remoção de rodapé/rodabanca de mármore ou granito","m",350,{"$f":"OFFSET(INDEX(Composições!A:J,MATCH(Orçamentária!A47,Composições!A:A,0),8),2,0)","v":1.4007160999999999},490.25,{"$f":"BDI!$B$17","v":0.191},1.67,584.5]
["SF-00042","Remoção de rodapés de madeira","m2",10,{"$f":"OFFSET(INDEX(Composições!A:J,MATCH(Orçamentária!A48,Composições!A:A,0),8),2,0)","v":5.7942875000000003},57.94,{"$f":"BDI!$B$17","v":0.191},6.9,69]
["SF-00043","Remoção de soleira de mármore ou granito","m",20,{"$f":"OFFSET(INDEX(Composições!A:J,MATCH(Orçamentária!A49,Composições!A:A,0),8),2,0)","v":8.8145749999999996},176.29,{"$f":"BDI!$B$17","v":0.191},10.5,210]
["SF-00044","Remoção de split/fancolete/ACJ (equipamento unitário)","un",150,{"$f":"OFFSET(INDEX(Composições!A:J,MATCH(Orçamentária!A50,Composições!A:A,0),8),2,0)","v":39.833500000000001},5975.03,{"$f":"BDI!$B$17","v":0.191},47.44,7116]
["SF-00045","Remoção de vidro comum / espelho","m2",60,{"$f":"OFFSET(INDEX(Composições!A:J,MATCH(Orçamentária!A51,Composições!A:A,0),8),2,0)","v":13.294299999999998},797.66,{"$f":"BDI!$B$17","v":0.191},15.83,949.8]
["SF-00046","Retirada de entulhos","m3",410,{"$f":"OFFSET(INDEX(Composições!A:J,MATCH(Orçamentária!A52,Composições!A:A,0),8),2,0)","v":16.026499999999999},6570.87,{"$f":"BDI!$B$17","v":0.191},19.09,7826.9]
["SF-00047","Absorvedor de energia para linha de vida","un",5,688.63,3443.15,{"$f":"BDI!$B$17","v":0.191},820.16,4100.8]
["SF-00048","Andaime fachadeiro","m2 x mês",400,{"$f":"OFFSET(INDEX(Composições!A:J,MATCH(Orçamentária!A54,Composições!A:A,0),8),2,0)","v":3.7905000000000002},1516.2,{"$f":"BDI!$B$17","v":0.191},4.51,1804]
["SF-00049","Andaime tubular (aluguel/mês)","m x mês",70,{"$f":"OFFSET(INDEX(Composições!A:J,MATCH(Orçamentária!A55,Composições!A:A,0),8),2,0)","v":11.399999999999999},798,{"$f":"BDI!$B$17","v":0.191},13.58,950.6]
["SF-00050","Cabo de aço com 8 mm de diâmetro galvanizado para linha de vida","m",280,19.079999999999998,5342.4,{"$f":"BDI!$B$17","v":0.191},22.72,6361.6]
["SF-00051","Corda de poliamida 12 mm tipo bombeiro, para trabalho em altura","m",84,{"$f":"OFFSET(INDEX(Composições!A:J,MATCH(Orçamentária!A57,Composições!A:A,0),8),2,0)","v":4.4197800000000003},371.26,{"$f":"BDI!$B$17","v":0.191},5.26,441.84]
["SF-00052","Ensaio de ponto de ancoragem existente","un",20,351.79,7035.8,{"$f":"BDI!$G$17","v":0.11260000000000001},391.4,7828]
["SF-00053","Escadas de acesso para andaime tubular","m x mês",0,"","",null,"",""]
["SF-00054","Esticador de cabo de aço","un",0,"","",null,"",""]
["SF-00055","Guarda-corpo com rodapé para andaime tubular","m x mês",0,"","",null,"",""]
["SF-00056","Indicador de tensão","un",0,"","",null,"",""]
["SF-00057","Isolamento de obra com tela plástica com malha de 5mm e estrutura de madeira pontaleteada","m2",200,{"$f":"OFFSET(INDEX(Composições!A:J,MATCH(Orçamentária!A63,Composições!A:A,0),8),2,0)","v":17.603499999999997},3520.7,{"$f":"BDI!$B$17","v":0.191},20.97,4194]
["SF-00058","Suporte intermediário curvo para linha de vida","un",5,600,3000,{"$f":"BDI!$B$17","v":0.191},714.6,3573]
["SF-00059","Kit de linha de vida para escada de marinheiro","un",0,"","",null,"",""]
["SF-00060","Kit para montagem de dois olhais","un",5,224.72,1123.5999999999999,{"$f":"BDI!$B$17","v":0.191},267.64,1338.2]
["SF-00061","Manilha com travamento por porca e cupilha","un",14,67.42,943.88,{"$f":"BDI!$B$17","v":0.191},80.3,1124.2]
["SF-00062","Pilar de ancoragem para linha de vida","un",14,635.87,8902.18,{"$f":"BDI!$B$17","v":0.191},757.32,10602.48]
["SF-00063","Piso metálico para andaime tubular","m2 x mês",0,"","",null,"",""]
["SF-00064","Placa de ancoragem para extremidade","un",0,"","",null,"",""]
["SF-00065","Placa de ancoragem para montagem no pilar","un",10,224.72,2247.1999999999998,{"$f":"BDI!$B$17","v":0.191},267.64,2676.4]
["SF-00066","Ponto de ancoragem","un",25,405.54,{"$f":"IF(ISNUMBER(E72),ROUND(D72*E72,2),\"\")","v":10138.5},{"$f":"BDI!$G$17","v":0.11260000000000001},{"$f":"IF(ISNUMBER(E72),ROUND(E72*(1+G72),2),\"\")","v":451.2},{"$f":"IF(ISNUMBER(E72),ROUND(H72*D72,2),\"\")","v":11280}]
["SF-00067","Sapatas e rodízios para andaime tubular","conj x mês",0,"","",null,"",""]
["SF-00068","Sistema Guarda-corpo-Rodapé (GcR) metálico","m x mês",280,9,2520,{"$f":"BDI!$G$17","v":0.11260000000000001},10.01,2802.8]
["SF-00069","Suporte intermediário para linha de vida","un",15,370.5,5557.5,{"$f":"BDI!$B$17","v":0.191},441.27,6619.05]
["SF-00070","Tapume","m2",300,{"$f":"OFFSET(INDEX(Composições!A:J,MATCH(Orçamentária!A76,Composições!A:A,0),8),2,0)","v":67.053821499999998},20116.150000000001,{"$f":"BDI!$B$17","v":0.191},79.86,23958]
["SF-00071","Trole para linha de vida horizontal","un",5,700,3500,{"$f":"BDI!$B$17","v":0.191},833.7,4168.5]
["SF-00072","Trole para travaqueda retrátil","un",0,"","",null,"",""]
["SF-00073","Limpeza final de obra","m2",10000,{"$f":"OFFSET(INDEX(Composições!A:J,MATCH(Orçamentária!A79,Composições!A:A,0),8),2,0)","v":1.9552329999999998},19552.330000000002,{"$f":"BDI!$B$17","v":0.191},2.33,23300]
["SF-00074","Abertura/fechamento rasgo em alvenaria","m",3000,{"$f":"OFFSET(INDEX(Composições!A:J,MATCH(Orçamentária!A80,Composições!A:A,0),8),2,0)","v":16.031945885098498},48095.839999999997,{"$f":"BDI!$B$17","v":0.191},19.09,57270]
["SF-00075","Furo em concreto de até 75mm de diâmetro","un",25,{"$f":"OFFSET(INDEX(Composições!A:J,MATCH(Orçamentária!A81,Composições!A:A,0),8),2,0)","v":80.310653500000001},2007.77,{"$f":"BDI!$B$17","v":0.191},95.65,2391.25]
["SF-00076","Furo em concreto para diâmetros maiores que 75mm","un",40,{"$f":"OFFSET(INDEX(Composições!A:J,MATCH(Orçamentária!A82,Composições!A:A,0),8),2,0)","v":102.57397949999998},4102.96,{"$f":"BDI!$B$17","v":0.191},122.17,4886.8]
["SF-00077","Concreto virado em betoneira, fck = 15 MPa","m3",10,{"$f":"OFFSET(INDEX(Composições!A:J,MATCH(Orçamentária!A83,Composições!A:A,0),8),2,0)","v":522.69809391640001},5226.9799999999996,{"$f":"BDI!$B$17","v":0.191},622.53,6225.3]
["SF-00078","Concreto virado em betoneira, fck = 25MPa","m3",10,{"$f":"OFFSET(INDEX(Composições!A:J,MATCH(Orçamentária!A84,Composições!A:A,0),8),2,0)","v":553.16769687859994},5531.68,{"$f":"BDI!$B$17","v":0.191},658.82,6588.2]
["SF-00079","Escoramento metálico","m2 x mês",100,{"$f":"OFFSET(INDEX(Composições!A:J,MATCH(Orçamentária!A85,Composições!A:A,0),8),2,0)","v":12.122475},1212.25,{"$f":"BDI!$B$17","v":0.191},14.44,1444]
["SF-00080","Estrutura metálica em aço","kg",0,{"$f":"OFFSET(INDEX(Composições!A:J,MATCH(Orçamentária!A86,Composições!A:A,0),8),2,0)","v":10.853227500000001},0,null,10.85,0]
["SF-00081","Forma para estruturas de concreto","m2",100,{"$f":"OFFSET(INDEX(Composições!A:J,MATCH(Orçamentária!A87,Composições!A:A,0),8),2,0)","v":111.59962474},11159.96,{"$f":"BDI!$B$17","v":0.191},132.91999999999999,13292]
["SF-00082","Verga/contraverga/cinta em bloco de concreto canaleta 11,5 x 19 x 39 cm","m",50,{"$f":"OFFSET(INDEX(Composições!A:J,MATCH(Orçamentária!A88,Composições!A:A,0),8),2,0)","v":25.579284717},1278.96,{"$f":"BDI!$B$17","v":0.191},30.46,1523]
["SF-00083","Impermeabilização de superfície com revestimento bicomponente semi flexível","m2",500,{"$f":"OFFSET(INDEX(Composições!A:J,MATCH(Orçamentária!A89,Composições!A:A,0),8),2,0)","v":21.060625999999999},10530.31,{"$f":"BDI!$B$17","v":0.191},25.08,12540]
["SF-00084","Alvenaria de vedação","m2",500,{"$f":"OFFSET(INDEX(Composições!A:J,MATCH(Orçamentária!A90,Composições!A:A,0),8),2,0)","v":65.240160383158809},32620.080000000002,{"$f":"BDI!$B$17","v":0.191},77.7,38850]
["SF-00085","Fechamento ou shaft em gesso acartonado tipo drywall","m2",50,{"$f":"OFFSET(INDEX(Composições!A:J,MATCH(Orçamentária!A91,Composições!A:A,0),8),2,0)","v":47.762047049999993},2388.1,{"$f":"BDI!$B$17","v":0.191},56.88,2844]
["SF-00086","Fixação (encunhamento) de Alvenaria de Vedação","m",300,{"$f":"OFFSET(INDEX(Composições!A:J,MATCH(Orçamentária!A92,Composições!A:A,0),8),2,0)","v":22.012979986007597},6603.89,{"$f":"BDI!$B$17","v":0.191},26.22,7866]
["SF-00087","Parede em gesso acartonado (drywall)","m2",1000,{"$f":"OFFSET(INDEX(Composições!A:J,MATCH(Orçamentária!A93,Composições!A:A,0),8),2,0)","v":75.859881650000005},75859.88,{"$f":"BDI!$B$17","v":0.191},90.35,90350]
["SF-00088","Reparos superficiais em painéis de gesso acartonado","m2",20,{"$f":"OFFSET(INDEX(Composições!A:J,MATCH(Orçamentária!A94,Composições!A:A,0),8),2,0)","v":5.386325199999999},107.73,{"$f":"BDI!$B$17","v":0.191},6.42,128.4]
["SF-00089","Sóculo h=10 cm","m2",40,{"$f":"OFFSET(INDEX(Composições!A:J,MATCH(Orçamentária!A95,Composições!A:A,0),8),2,0)","v":69.784052761340178},2791.36,{"$f":"BDI!$B$17","v":0.191},83.11,3324.4]
["SF-00090","Chapisco colante industrializado em vigas e pilares","m2",40,{"$f":"OFFSET(INDEX(Composições!A:J,MATCH(Orçamentária!A96,Composições!A:A,0),8),2,0)","v":8.791489962},351.66,{"$f":"BDI!$B$17","v":0.191},10.47,418.8]
["SF-00091","Chapisco com argamassa traço 1:3","m2",1000,{"$f":"OFFSET(INDEX(Composições!A:J,MATCH(Orçamentária!A97,Composições!A:A,0),8),2,0)","v":3.7755318481118003},3775.53,{"$f":"BDI!$B$17","v":0.191},4.5,4500]
["SF-00092","Gesso cola","m2",440,{"$f":"OFFSET(INDEX(Composições!A:J,MATCH(Orçamentária!A98,Composições!A:A,0),8),2,0)","v":12.874620000000002},5664.83,{"$f":"BDI!$B$17","v":0.191},15.33,6745.2]
["SF-00093","Reboco com argamassa industrializada e=2,0 cm","m2",1000,{"$f":"OFFSET(INDEX(Composições!A:J,MATCH(Orçamentária!A99,Composições!A:A,0),8),2,0)","v":32.783669699999997},32783.67,{"$f":"BDI!$B$17","v":0.191},39.049999999999997,39050]
["SF-00094","Regularização com argamassa industrializada e=0,5 cm","m2",200,{"$f":"OFFSET(INDEX(Composições!A:J,MATCH(Orçamentária!A100,Composições!A:A,0),8),2,0)","v":11.376856574999998},2275.37,{"$f":"BDI!$B$17","v":0.191},13.55,2710]
["SF-00095","Tratamento de trincas superficiais","m",100,{"$f":"OFFSET(INDEX(Composições!A:J,MATCH(Orçamentária!A101,Composições!A:A,0),8),2,0)","v":21.897359399999999},2189.7399999999998,{"$f":"BDI!$B$17","v":0.191},26.08,2608]
["SF-00096","Aplicação de fundo selador base água","m2",5400,{"$f":"OFFSET(INDEX(Composições!A:J,MATCH(Orçamentária!A102,Composições!A:A,0),8),2,0)","v":4.0886874999999998},22078.91,{"$f":"BDI!$B$17","v":0.191},4.87,26298]
["SF-00097","Fundo anticorrosivo e de aderência (base água)","m2",400,{"$f":"OFFSET(INDEX(Composições!A:J,MATCH(Orçamentária!A103,Composições!A:A,0),8),2,0)","v":15.035907600000002},6014.36,{"$f":"BDI!$B$17","v":0.191},17.91,7164]
["SF-00098","Massa acrílica","m2",1000,{"$f":"OFFSET(INDEX(Composições!A:J,MATCH(Orçamentária!A104,Composições!A:A,0),8),2,0)","v":16.278145500000001},16278.15,{"$f":"BDI!$B$17","v":0.191},19.39,19390]
["SF-00099","Massa corrida","m2",3000,{"$f":"OFFSET(INDEX(Composições!A:J,MATCH(Orçamentária!A105,Composições!A:A,0),8),2,0)","v":12.635437000000001},37906.31,{"$f":"BDI!$B$17","v":0.191},15.05,45150]
["SF-00100","Pintura com tinta látex acrílica Premium (paredes)","m2",9000,{"$f":"OFFSET(INDEX(Composições!A:J,MATCH(Orçamentária!A106,Composições!A:A,0),8),2,0)","v":11.9082025},107173.82,{"$f":"BDI!$B$17","v":0.191},14.18,127620]
["SF-00101","Pintura em verniz sintético","m2",300,{"$f":"OFFSET(INDEX(Composições!A:J,MATCH(Orçamentária!A107,Composições!A:A,0),8),2,0)","v":18.074149999999999},5422.25,{"$f":"BDI!$B$17","v":0.191},21.53,6459]
["SF-00102","Pintura esmalte acetinado (metais e madeiras)","m2",500,{"$f":"OFFSET(INDEX(Composições!A:J,MATCH(Orçamentária!A108,Composições!A:A,0),8),2,0)","v":16.419059999999998},8209.5300000000007,{"$f":"BDI!$B$17","v":0.191},19.559999999999999,9780]
["SF-00103","Pintura tinta látex acrílica standard (tetos)","m2",6000,{"$f":"OFFSET(INDEX(Composições!A:J,MATCH(Orçamentária!A109,Composições!A:A,0),8),2,0)","v":13.526166499999999},81157,{"$f":"BDI!$B$17","v":0.191},16.11,96660]
["SF-00104","Cerâmica para revestimento de superfícies internas ou externas – Linha Administrativa","m2",150,{"$f":"OFFSET(INDEX(Composições!A:J,MATCH(Orçamentária!A110,Composições!A:A,0),8),2,0)","v":63.039529999999999},9455.93,{"$f":"BDI!$B$17","v":0.191},75.08,11262]
["SF-00105","Contrapiso em argamassa","m2",60,{"$f":"OFFSET(INDEX(Composições!A:J,MATCH(Orçamentária!A111,Composições!A:A,0),8),2,0)","v":45.251820981167484},2715.11,{"$f":"BDI!$B$17","v":0.191},53.89,3233.4]
["SF-00106","Contrapiso em argamassa (e=2cm) ou Regularização de contrapiso existente","m2",550,{"$f":"OFFSET(INDEX(Composições!A:J,MATCH(Orçamentária!A112,Composições!A:A,0),8),2,0)","v":30.979045055022489},17038.47,{"$f":"BDI!$B$17","v":0.191},36.9,20295]
["SF-00107","Granito cinza andorinha para piso","m2",800,{"$f":"OFFSET(INDEX(Composições!A:J,MATCH(Orçamentária!A113,Composições!A:A,0),8),2,0)","v":220.63083899999998},176504.67,{"$f":"BDI!$B$17","v":0.191},262.77,210216]
["SF-00108","Granito Cinza Andorinha para rodapé","m2",200,{"$f":"OFFSET(INDEX(Composições!A:J,MATCH(Orçamentária!A114,Composições!A:A,0),8),2,0)","v":604.33917100000008},120867.83,{"$f":"BDI!$B$17","v":0.191},719.77,143954]
["SF-00109","Granito Cinza Andorinha para soleira e peitoril","m2",20,{"$f":"OFFSET(INDEX(Composições!A:J,MATCH(Orçamentária!A115,Composições!A:A,0),8),2,0)","v":407.74767195000004},8154.95,{"$f":"BDI!$B$17","v":0.191},485.63,9712.6]
["SF-00110","Granito Preto São Gabriel para piso","m2",30,{"$f":"OFFSET(INDEX(Composições!A:J,MATCH(Orçamentária!A116,Composições!A:A,0),8),2,0)","v":299.696439},8990.89,{"$f":"BDI!$B$17","v":0.191},356.94,10708.2]
["SF-00111","Granito Preto São Gabriel para rodapé","m2",3,{"$f":"OFFSET(INDEX(Composições!A:J,MATCH(Orçamentária!A117,Composições!A:A,0),8),2,0)","v":667.59422099999995},2002.78,{"$f":"BDI!$B$17","v":0.191},795.1,2385.3000000000002]
["SF-00112","Granito Preto São Gabriel para soleira e peitoril","m2",2,{"$f":"OFFSET(INDEX(Composições!A:J,MATCH(Orçamentária!A118,Composições!A:A,0),8),2,0)","v":465.88129594999998},931.76,{"$f":"BDI!$B$17","v":0.191},554.86,1109.72]
["SF-00113","Instalação de rodapé de madeira reaproveitado","m",70,{"$f":"OFFSET(INDEX(Composições!A:J,MATCH(Orçamentária!A119,Composições!A:A,0),8),2,0)","v":12.253292850000001},857.73,{"$f":"BDI!$B$17","v":0.191},14.59,1021.3]
["SF-00114","Mármore Bege Bahia para piso e parede","m2",10,{"$f":"OFFSET(INDEX(Composições!A:J,MATCH(Orçamentária!A120,Composições!A:A,0),8),2,0)","v":276.90243899999996},2769.02,{"$f":"BDI!$B$17","v":0.191},329.79,3297.9]
["SF-00115","Mármore Branco Especial para piso e parede","m2",40,{"$f":"OFFSET(INDEX(Composições!A:J,MATCH(Orçamentária!A121,Composições!A:A,0),8),2,0)","v":378.54163899999998},15141.67,{"$f":"BDI!$B$17","v":0.191},450.84,18033.599999999999]
["SF-00116","Rodapé de madeira","m",70,{"$f":"OFFSET(INDEX(Composições!A:J,MATCH(Orçamentária!A122,Composições!A:A,0),8),2,0)","v":22.213615349999998},1554.95,{"$f":"BDI!$B$17","v":0.191},26.46,1852.2]
["SF-00117","Acabamento abaulado em placas de granito ou mármore reaproveitadas","m",20,{"$f":"OFFSET(INDEX(Composições!A:J,MATCH(Orçamentária!A123,Composições!A:A,0),8),2,0)","v":36.157000000000004},723.14,{"$f":"BDI!$B$17","v":0.191},43.06,861.2]
["SF-00118","Acabamento em meia esquadria em placas de granito ou mármore reaproveitadas","m",20,{"$f":"OFFSET(INDEX(Composições!A:J,MATCH(Orçamentária!A124,Composições!A:A,0),8),2,0)","v":31.637375000000002},632.75,{"$f":"BDI!$B$17","v":0.191},37.68,753.6]
["SF-00119","Acabamento reto em placas de granito ou mármore reaproveitadas","m",20,{"$f":"OFFSET(INDEX(Composições!A:J,MATCH(Orçamentária!A125,Composições!A:A,0),8),2,0)","v":18.078500000000002},361.57,{"$f":"BDI!$B$17","v":0.191},21.53,430.6]
["SF-00120","Corte de peça de granito ou mármore reaproveitada","m",20,{"$f":"OFFSET(INDEX(Composições!A:J,MATCH(Orçamentária!A126,Composições!A:A,0),8),2,0)","v":22.598125000000003},451.96,{"$f":"BDI!$B$17","v":0.191},26.91,538.20000000000005]
["SF-00121","Corte em placas de granito ou mármore reaproveitadas, para instalação de cubas","un",20,{"$f":"OFFSET(INDEX(Composições!A:J,MATCH(Orçamentária!A127,Composições!A:A,0),8),2,0)","v":69.597000000000008},1391.94,{"$f":"BDI!$B$17","v":0.191},82.89,1657.8]
["SF-00122","Furo em placas de granito ou mármore reaproveitadas, para instalação de torneira ou misturador","un",20,{"$f":"OFFSET(INDEX(Composições!A:J,MATCH(Orçamentária!A128,Composições!A:A,0),8),2,0)","v":10.430999999999999},208.62,{"$f":"BDI!$B$17","v":0.191},12.42,248.4]
["SF-00123","Granito Cinza Andorinha 20mm para rodabancada","m2",120,{"$f":"OFFSET(INDEX(Composições!A:J,MATCH(Orçamentária!A129,Composições!A:A,0),8),2,0)","v":373.52408485000007},44822.89,{"$f":"BDI!$B$17","v":0.191},444.87,53384.4]
["SF-00124","Granito Cinza Andorinha 20mm para bancadas","m2",50,{"$f":"OFFSET(INDEX(Composições!A:J,MATCH(Orçamentária!A130,Composições!A:A,0),8),2,0)","v":367.49330239999995},18374.669999999998,{"$f":"BDI!$B$17","v":0.191},437.68,21884]
["SF-00125","Granito Cinza Andorinha 20mm para divisória","m2",100,{"$f":"OFFSET(INDEX(Composições!A:J,MATCH(Orçamentária!A131,Composições!A:A,0),8),2,0)","v":367.55293051684077},36755.29,{"$f":"BDI!$B$17","v":0.191},437.76,43776]
["SF-00126","Granito Preto São Gabriel 20mm para rodabancada","m2",30,{"$f":"OFFSET(INDEX(Composições!A:J,MATCH(Orçamentária!A132,Composições!A:A,0),8),2,0)","v":428.64381985000006},12859.31,{"$f":"BDI!$B$17","v":0.191},510.51,15315.3]
["SF-00127","Granito Preto São Gabriel 20mm para bancadas","m2",8,{"$f":"OFFSET(INDEX(Composições!A:J,MATCH(Orçamentária!A133,Composições!A:A,0),8),2,0)","v":464.18835540000003},3713.51,{"$f":"BDI!$B$17","v":0.191},552.85,4422.8]
["SF-00128","Instalação de bancada de granito ou mármore reaproveitada","m2",30,{"$f":"OFFSET(INDEX(Composições!A:J,MATCH(Orçamentária!A134,Composições!A:A,0),8),2,0)","v":96.470212399999994},2894.11,{"$f":"BDI!$B$17","v":0.191},114.9,3447]
["SF-00129","Instalação de rodapé reaproveitado, de mármore ou granito","m2",20,{"$f":"OFFSET(INDEX(Composições!A:J,MATCH(Orçamentária!A135,Composições!A:A,0),8),2,0)","v":9.1769220999999987},183.54,{"$f":"BDI!$B$17","v":0.191},10.93,218.6]
["SF-00130","Instalação de soleira ou peitoril, de mármore ou granito, reaproveitados","m2",10,{"$f":"OFFSET(INDEX(Composições!A:J,MATCH(Orçamentária!A136,Composições!A:A,0),8),2,0)","v":41.806479000000003},{"$f":"IF(ISNUMBER(E136),ROUND(D136*E136,2),\"\")","v":418.06},{"$f":"BDI!$B$17","v":0.191},{"$f":"IF(ISNUMBER(E136),ROUND(E136*(1+G136),2),\"\")","v":49.79},{"$f":"IF(ISNUMBER(E136),ROUND(H136*D136,2),\"\")","v":497.9}]
["SF-00131","Mármore Branco Especial 20mm para rodabancada","m2",1,{"$f":"OFFSET(INDEX(Composições!A:J,MATCH(Orçamentária!A137,Composições!A:A,0),8),2,0)","v":437.82506999999998},437.83,{"$f":"BDI!$B$17","v":0.191},521.45000000000005,521.45000000000005]
["SF-00132","Divisória em gesso acartonado revestido - Painel liso cego - Ed. Anexo I","m2",500,450,225000,{"$f":"BDI!$G$17","v":0.11260000000000001},500.67,250335]
["SF-00133","Divisória em gesso acartonado revestido - Painel liso, painel de vidro e bandeira – ed. Anexo I","m2",300,850,255000,{"$f":"BDI!$G$17","v":0.11260000000000001},945.71,283713]
["SF-00134","Divisória MDF com painel liso cego e bandeira","m2",900,558.91999999999996,503028,{"$f":"BDI!$G$17","v":0.11260000000000001},621.85,559665]
["SF-00135","Divisória MDF com painel liso, painel de vidro e bandeira","m2",900,798.88,718992,{"$f":"BDI!$G$17","v":0.11260000000000001},888.83,799947]
["SF-00136","Divisória MDF com painel paginado cego e bandeira - Interlegis","m2",200,657.37,131474,{"$f":"BDI!$G$17","v":0.11260000000000001},731.39,146278]
["SF-00137","Divisória MDF com painel paginado, painel de vidro e bandeira - Interlegis","m2",200,847.03,169406,{"$f":"BDI!$G$17","v":0.11260000000000001},942.41,188482]
["SF-00138","Instalação de divisória e porta de divisória com dobradiça reaproveitadas","m2",700,{"$f":"OFFSET(INDEX(Composições!A:J,MATCH(Orçamentária!A144,Composições!A:A,0),8),2,0)","v":13.9175},9742.25,{"$f":"BDI!$B$17","v":0.191},16.579999999999998,11606]
["SF-00139","Alçapão em forro de gesso acartonado","m2",100,{"$f":"OFFSET(INDEX(Composições!A:J,MATCH(Orçamentária!A145,Composições!A:A,0),8),2,0)","v":106.11355999999999},10611.36,{"$f":"BDI!$B$17","v":0.191},126.38,12638]
["SF-00140","Forro de PVC em réguas de 100 x 6000mm","m2",50,{"$f":"OFFSET(INDEX(Composições!A:J,MATCH(Orçamentária!A146,Composições!A:A,0),8),2,0)","v":40.336178249999996},2016.81,{"$f":"BDI!$B$17","v":0.191},48.04,2402]
["SF-00141","Forro de PVC em réguas de 100 x 6000mm, sem estrutura","m2",100,{"$f":"OFFSET(INDEX(Composições!A:J,MATCH(Orçamentária!A147,Composições!A:A,0),8),2,0)","v":19.0143773},1901.44,{"$f":"BDI!$B$17","v":0.191},22.65,2265]
["SF-00142","Forro de PVC modular em placas","m2",20,{"$f":"OFFSET(INDEX(Composições!A:J,MATCH(Orçamentária!A148,Composições!A:A,0),8),2,0)","v":63.15204825},1263.04,{"$f":"BDI!$B$17","v":0.191},75.209999999999994,1504.2]
["SF-00143","Forro em chapas metálicas","m2",500,{"$f":"OFFSET(INDEX(Composições!A:J,MATCH(Orçamentária!A149,Composições!A:A,0),8),2,0)","v":115.16249999999999},57581.25,{"$f":"BDI!$B$17","v":0.191},137.16,68580]
["SF-00144","Forro em gesso acartonado monolítico","m2",2500,{"$f":"OFFSET(INDEX(Composições!A:J,MATCH(Orçamentária!A150,Composições!A:A,0),8),2,0)","v":55.668897999999992},139172.25,{"$f":"BDI!$B$17","v":0.191},66.3,165750]
["SF-00145","Forro em gesso acartonado monolítico, sem estrutura","m2",2300,{"$f":"OFFSET(INDEX(Composições!A:J,MATCH(Orçamentária!A151,Composições!A:A,0),8),2,0)","v":41.343865100000002},95090.89,{"$f":"BDI!$B$17","v":0.191},49.24,113252]
["SF-00146","Forro mineral modulado","m2",300,{"$f":"OFFSET(INDEX(Composições!A:J,MATCH(Orçamentária!A152,Composições!A:A,0),8),2,0)","v":89.214499999999987},26764.35,{"$f":"BDI!$B$17","v":0.191},106.25,31875]
["SF-00147","Forro mineral modulado, sem estrutura","m2",100,{"$f":"OFFSET(INDEX(Composições!A:J,MATCH(Orçamentária!A153,Composições!A:A,0),8),2,0)","v":25.59395},2559.4,{"$f":"BDI!$B$17","v":0.191},30.48,3048]
["SF-00148","Instalação de forro de PVC reaproveitado","m2",100,{"$f":"OFFSET(INDEX(Composições!A:J,MATCH(Orçamentária!A154,Composições!A:A,0),8),2,0)","v":2.4861556999999999},248.62,{"$f":"BDI!$B$17","v":0.191},2.96,296]
["SF-00149","Instalação de forro mineral reaproveitado","m2",100,{"$f":"OFFSET(INDEX(Composições!A:J,MATCH(Orçamentária!A155,Composições!A:A,0),8),2,0)","v":42.795599999999993},4279.5600000000004,{"$f":"BDI!$B$17","v":0.191},50.97,5097]
["SF-00150","Tabica metálica em forro de gesso acartonado","m",2500,{"$f":"OFFSET(INDEX(Composições!A:J,MATCH(Orçamentária!A156,Composições!A:A,0),8),2,0)","v":8.6703212999999995},21675.8,{"$f":"BDI!$B$17","v":0.191},10.33,25825]
["SF-00151","Instalação de revestimento de piso têxtil (carpete) reaproveitado","m2",400,{"$f":"OFFSET(INDEX(Composições!A:J,MATCH(Orçamentária!A157,Composições!A:A,0),8),2,0)","v":6.1540999999999997},2461.64,{"$f":"BDI!$B$17","v":0.191},7.33,2932]
["SF-00152","Baguetes metálicos","m",0,{"$f":"OFFSET(INDEX(Composições!A:J,MATCH(Orçamentária!A158,Composições!A:A,0),8),2,0)","v":8.1209999999999987},0,null,8.1199999999999992,0]
["SF-00153","Cordão de massa de vidraceiro","m",0,{"$f":"OFFSET(INDEX(Composições!A:J,MATCH(Orçamentária!A159,Composições!A:A,0),8),2,0)","v":17.988724999999999},0,null,17.989999999999998,0]
["SF-00154-","Espelho cristal, e=5 mm-","m2",0,{"$f":"OFFSET(INDEX(Composições!A:J,MATCH(Orçamentária!A160,Composições!A:A,0),8),2,0)","v":{"$error":"#N/A"}},"",null,"",""]
["SF-00155","Instalação de vidro reaproveitado","m2",50,{"$f":"OFFSET(INDEX(Composições!A:J,MATCH(Orçamentária!A161,Composições!A:A,0),8),2,0)","v":26.673625000000001},1333.68,{"$f":"BDI!$B$17","v":0.191},31.77,1588.5]
["SF-00156","Substituição da calafetação com selante","m",0,{"$f":"OFFSET(INDEX(Composições!A:J,MATCH(Orçamentária!A162,Composições!A:A,0),8),2,0)","v":19.472087299999998},0,null,19.47,0]
["SF-00157","Vidro liso comum transparente 4mm","m2",0,{"$f":"OFFSET(INDEX(Composições!A:J,MATCH(Orçamentária!A163,Composições!A:A,0),8),2,0)","v":128.80812499999999},0,null,128.81,0]
["SF-00158","Vidro liso comum transparente 6mm","m2",0,{"$f":"OFFSET(INDEX(Composições!A:J,MATCH(Orçamentária!A164,Composições!A:A,0),8),2,0)","v":181.06429999999997},0,null,181.06,0]
["SF-00159","Instalação de painéis de vidro temperado reaproveitados","m2",70,{"$f":"OFFSET(INDEX(Composições!A:J,MATCH(Orçamentária!A165,Composições!A:A,0),8),2,0)","v":39.824950000000001},2787.75,{"$f":"BDI!$B$17","v":0.191},47.43,3320.1]
["SF-00160-","Mola hidráulica de piso-","un",0,{"$f":"OFFSET(INDEX(Composições!A:J,MATCH(Orçamentária!A166,Composições!A:A,0),8),2,0)","v":{"$error":"#N/A"}},"",null,"",""]
["SF-00161","Instalação de persianas reaproveitadas","m",800,{"$f":"OFFSET(INDEX(Composições!A:J,MATCH(Orçamentária!A167,Composições!A:A,0),8),2,0)","v":6.3548644499999991},5083.8900000000003,{"$f":"BDI!$B$17","v":0.191},7.57,6056]
["SF-00162","Persiana vertical em alumínio 90 mm, cor verde claro","m2",0,"","",null,"",""]
["SF-00163-","Persiana vertical em tecido Juta Resinado sem blecaute de 90mm, cor bege-","m2",0,{"$f":"OFFSET(INDEX(Composições!A:J,MATCH(Orçamentária!A169,Composições!A:A,0),8),2,0)","v":{"$error":"#N/A"}},"",null,"",""]
["SF-00164-","Persiana vertical em tecido sintético sem blecaute de 90mm, cores verde escuro ou branca-","m2",0,{"$f":"OFFSET(INDEX(Composições!A:J,MATCH(Orçamentária!A170,Composições!A:A,0),8),2,0)","v":{"$error":"#N/A"}},"",null,"",""]
["SF-00165-","Película jateada-","m2",0,{"$f":"OFFSET(INDEX(Composições!A:J,MATCH(Orçamentária!A171,Composições!A:A,0),8),2,0)","v":{"$error":"#N/A"}},"",null,"",""]
["SF-00166","Tubo de ligação para bacia sanitária","un",15,{"$f":"OFFSET(INDEX(Composições!A:J,MATCH(Orçamentária!A172,Composições!A:A,0),8),2,0)","v":100.7582},1511.37,{"$f":"BDI!$B$17","v":0.191},120,1800]
["SF-00167","Tubo PVC esgoto ou aguas pluviais predial DN 100mm","m",215,{"$f":"OFFSET(INDEX(Composições!A:J,MATCH(Orçamentária!A173,Composições!A:A,0),8),2,0)","v":46.044366299999993},9899.5400000000009,{"$f":"BDI!$B$17","v":0.191},54.84,11790.6]
["SF-00168","Tubo PVC esgoto ou aguas pluviais predial DN 40mm","m",80,{"$f":"OFFSET(INDEX(Composições!A:J,MATCH(Orçamentária!A174,Composições!A:A,0),8),2,0)","v":14.455551499999999},1156.44,{"$f":"BDI!$B$17","v":0.191},17.22,1377.6]
["SF-00169","Tubo PVC esgoto ou aguas pluviais predial DN 50mm","m",80,{"$f":"OFFSET(INDEX(Composições!A:J,MATCH(Orçamentária!A175,Composições!A:A,0),8),2,0)","v":19.770180199999999},1581.61,{"$f":"BDI!$B$17","v":0.191},23.55,1884]
["SF-00170","Tubo PVC esgoto ou aguas pluviais predial DN 75mm","m",100,{"$f":"OFFSET(INDEX(Composições!A:J,MATCH(Orçamentária!A176,Composições!A:A,0),8),2,0)","v":29.535938900000001},2953.59,{"$f":"BDI!$B$17","v":0.191},35.18,3518]
["SF-00171","Tubo PVC soldável agua fria DN 25mm","m",300,{"$f":"OFFSET(INDEX(Composições!A:J,MATCH(Orçamentária!A177,Composições!A:A,0),8),2,0)","v":3.4186604999999997},1025.5999999999999,{"$f":"BDI!$B$17","v":0.191},4.07,1221]
["SF-00172","Tubo PVC soldável agua fria DN 32mm","m",200,{"$f":"OFFSET(INDEX(Composições!A:J,MATCH(Orçamentária!A178,Composições!A:A,0),8),2,0)","v":7.0678669999999988},1413.57,{"$f":"BDI!$B$17","v":0.191},8.42,1684]
["SF-00173","Tubo PVC soldável agua fria DN 40mm","m",100,{"$f":"OFFSET(INDEX(Composições!A:J,MATCH(Orçamentária!A179,Composições!A:A,0),8),2,0)","v":10.115219999999999},1011.52,{"$f":"BDI!$B$17","v":0.191},12.05,1205]
["SF-00174","Tubo PVC soldável agua fria DN 50mm","m",100,{"$f":"OFFSET(INDEX(Composições!A:J,MATCH(Orçamentária!A180,Composições!A:A,0),8),2,0)","v":11.648567499999997},1164.8599999999999,{"$f":"BDI!$B$17","v":0.191},13.87,1387]
["SF-00175","Base registro gaveta 3/4\"","un",60,{"$f":"OFFSET(INDEX(Composições!A:J,MATCH(Orçamentária!A181,Composições!A:A,0),8),2,0)","v":42.132267499999998},2527.94,{"$f":"BDI!$B$17","v":0.191},50.18,3010.8]
["SF-00176","Caixa sifonada de PVC DN 150mm","un",45,{"$f":"OFFSET(INDEX(Composições!A:J,MATCH(Orçamentária!A182,Composições!A:A,0),8),2,0)","v":54.071104400000003},2433.1999999999998,{"$f":"BDI!$B$17","v":0.191},64.400000000000006,2898]
["SF-00177","Caixa sifonada de PVC DN 250mm","un",45,{"$f":"OFFSET(INDEX(Composições!A:J,MATCH(Orçamentária!A183,Composições!A:A,0),8),2,0)","v":92.004604400000005},4140.21,{"$f":"BDI!$B$17","v":0.191},109.58,4931.1000000000004]
["SF-00178","Grelha quadrada para ralo 10x10cm","un",45,{"$f":"OFFSET(INDEX(Composições!A:J,MATCH(Orçamentária!A184,Composições!A:A,0),8),2,0)","v":35.943975000000002},1617.48,{"$f":"BDI!$B$17","v":0.191},42.81,1926.45]
["SF-00179","Grelha quadrada para ralo 15x15cm","un",45,{"$f":"OFFSET(INDEX(Composições!A:J,MATCH(Orçamentária!A185,Composições!A:A,0),8),2,0)","v":61.843975},2782.98,{"$f":"BDI!$B$17","v":0.191},73.66,3314.7]
["SF-00180","Ralo seco PVC DN 100x40mm","un",45,{"$f":"OFFSET(INDEX(Composições!A:J,MATCH(Orçamentária!A186,Composições!A:A,0),8),2,0)","v":8.9334779500000003},402.01,{"$f":"BDI!$B$17","v":0.191},10.64,478.8]
["SF-00181","Assento para bacia convencional – Linha Administrativa","un",45,{"$f":"OFFSET(INDEX(Composições!A:J,MATCH(Orçamentária!A187,Composições!A:A,0),8),2,0)","v":61.242649999999998},2755.92,{"$f":"BDI!$B$17","v":0.191},72.94,3282.3]
["SF-00182","Bacia convencional – Linha Administrativa","un",45,{"$f":"OFFSET(INDEX(Composições!A:J,MATCH(Orçamentária!A188,Composições!A:A,0),8),2,0)","v":261.86674299999999},11784,{"$f":"BDI!$B$17","v":0.191},311.88,14034.6]
["SF-00183","Bacia convencional com saída horizontal","un",10,{"$f":"OFFSET(INDEX(Composições!A:J,MATCH(Orçamentária!A189,Composições!A:A,0),8),2,0)","v":292.76424300000002},2927.64,{"$f":"BDI!$B$17","v":0.191},348.68,3486.8]
["SF-00184","Cuba oval de embutir","un",45,{"$f":"OFFSET(INDEX(Composições!A:J,MATCH(Orçamentária!A190,Composições!A:A,0),8),2,0)","v":95.166786299999998},4282.51,{"$f":"BDI!$B$17","v":0.191},113.34,5100.3]
["SF-00185","Cuba retangular em aço inox – Linha Administrativa","un",30,{"$f":"OFFSET(INDEX(Composições!A:J,MATCH(Orçamentária!A191,Composições!A:A,0),8),2,0)","v":205.29873900000001},6158.96,{"$f":"BDI!$B$17","v":0.191},244.51,7335.3]
["SF-00186","Cuba semiencaixe quadrada com mesa","un",15,{"$f":"OFFSET(INDEX(Composições!A:J,MATCH(Orçamentária!A192,Composições!A:A,0),8),2,0)","v":701.15678630000002},10517.35,{"$f":"BDI!$B$17","v":0.191},835.08,12526.2]
["SF-00187","Instalação de lavatório reaproveitado","un",30,{"$f":"OFFSET(INDEX(Composições!A:J,MATCH(Orçamentária!A193,Composições!A:A,0),8),2,0)","v":38.416536999999998},1152.5,{"$f":"BDI!$B$17","v":0.191},45.75,1372.5]
["SF-00188","Instalação de mictório reaproveitado","un",30,{"$f":"OFFSET(INDEX(Composições!A:J,MATCH(Orçamentária!A194,Composições!A:A,0),8),2,0)","v":39.026512999999994},1170.8,{"$f":"BDI!$B$17","v":0.191},46.48,1394.4]
["SF-00189","Instalação de vaso sanitário reaproveitado","un",30,{"$f":"OFFSET(INDEX(Composições!A:J,MATCH(Orçamentária!A195,Composições!A:A,0),8),2,0)","v":56.955887699999991},1708.68,{"$f":"BDI!$B$17","v":0.191},67.83,2034.9]
["SF-00190","Lavatório suspenso","un",10,{"$f":"OFFSET(INDEX(Composições!A:J,MATCH(Orçamentária!A196,Composições!A:A,0),8),2,0)","v":110.30303699999999},1103.03,{"$f":"BDI!$B$17","v":0.191},131.37,1313.7]
["SF-00191","Mictório – Linha Administrativa","un",20,{"$f":"OFFSET(INDEX(Composições!A:J,MATCH(Orçamentária!A197,Composições!A:A,0),8),2,0)","v":289.47515550000003},5789.5,{"$f":"BDI!$B$17","v":0.191},344.76,6895.2]
["SF-00192","Tanque 38 litros – Linha Administrativa","un",25,{"$f":"OFFSET(INDEX(Composições!A:J,MATCH(Orçamentária!A198,Composições!A:A,0),8),2,0)","v":443.19505249999997},11079.88,{"$f":"BDI!$B$17","v":0.191},527.85,13196.25]
["SF-00193","Acabamento para registro GD – Linha Administrativa","un",35,{"$f":"OFFSET(INDEX(Composições!A:J,MATCH(Orçamentária!A199,Composições!A:A,0),8),2,0)","v":47.284680000000002},1654.96,{"$f":"BDI!$B$17","v":0.191},56.32,1971.2]
["SF-00194","Acabamento para registro PQ – Linha Administrativa","un",70,{"$f":"OFFSET(INDEX(Composições!A:J,MATCH(Orçamentária!A200,Composições!A:A,0),8),2,0)","v":35.68468},{"$f":"IF(ISNUMBER(E200),ROUND(D200*E200,2),\"\")","v":2497.9299999999998},{"$f":"BDI!$B$17","v":0.191},{"$f":"IF(ISNUMBER(E200),ROUND(E200*(1+G200),2),\"\")","v":42.5},{"$f":"IF(ISNUMBER(E200),ROUND(H200*D200,2),\"\")","v":2975}]
["SF-00195","Ducha higiênica – Linha Administrativa","un",60,{"$f":"OFFSET(INDEX(Composições!A:J,MATCH(Orçamentária!A201,Composições!A:A,0),8),2,0)","v":263.5025},15810.15,{"$f":"BDI!$B$17","v":0.191},313.83,18829.8]
["SF-00196","Instalação de metais e acessórios reaproveitados","un",200,{"$f":"OFFSET(INDEX(Composições!A:J,MATCH(Orçamentária!A202,Composições!A:A,0),8),2,0)","v":3.8308483999999998},766.17,{"$f":"BDI!$B$17","v":0.191},4.5599999999999996,912]
["SF-00197","Ligação flexível 1/2” x 40 cm – Linha Administrativa","un",80,{"$f":"OFFSET(INDEX(Composições!A:J,MATCH(Orçamentária!A203,Composições!A:A,0),8),2,0)","v":31.584293749999997},2526.7399999999998,{"$f":"BDI!$B$17","v":0.191},37.619999999999997,3009.6]
["SF-00198","Sifão articulado para cozinha – Linha Administrativa","un",50,{"$f":"OFFSET(INDEX(Composições!A:J,MATCH(Orçamentária!A204,Composições!A:A,0),8),2,0)","v":215.02288720000001},10751.14,{"$f":"BDI!$B$17","v":0.191},256.08999999999997,12804.5]
["SF-00199","Sifão para lavatório 1 1/2\"","un",60,{"$f":"OFFSET(INDEX(Composições!A:J,MATCH(Orçamentária!A205,Composições!A:A,0),8),2,0)","v":117.03230499999999},7021.94,{"$f":"BDI!$B$17","v":0.191},139.38999999999999,8363.4]
["SF-00200","Sifão para tanque – Linha Administrativa","un",25,{"$f":"OFFSET(INDEX(Composições!A:J,MATCH(Orçamentária!A206,Composições!A:A,0),8),2,0)","v":123.4693872},3086.73,{"$f":"BDI!$B$17","v":0.191},147.05000000000001,3676.25]
["SF-00201","Torneira de mesa para cozinha bica móvel – Linha Administrativa","un",0,{"$f":"OFFSET(INDEX(Composições!A:J,MATCH(Orçamentária!A207,Composições!A:A,0),8),2,0)","v":183.94035069999998},0,null,183.94,0]
["SF-00202","Torneira de mesa para cozinha bica móvel com arejador – Linha Administrativa","un",40,{"$f":"OFFSET(INDEX(Composições!A:J,MATCH(Orçamentária!A208,Composições!A:A,0),8),2,0)","v":180.82035070000001},7232.81,{"$f":"BDI!$B$17","v":0.191},215.36,8614.4]
["SF-00203","Torneira de mesa para lavatório – Linha Acessibilidade","un",10,{"$f":"OFFSET(INDEX(Composições!A:J,MATCH(Orçamentária!A209,Composições!A:A,0),8),2,0)","v":287.29805144999995},2872.98,{"$f":"BDI!$B$17","v":0.191},342.17,3421.7]
["SF-00204","Torneira de mesa para lavatório bica alta – Linha Administrativa","un",75,{"$f":"OFFSET(INDEX(Composições!A:J,MATCH(Orçamentária!A210,Composições!A:A,0),8),2,0)","v":162.47805144999998},12185.85,{"$f":"BDI!$B$17","v":0.191},193.51,14513.25]
["SF-00205","Torneira de mesa para lavatório bica baixa – Linha Administrativa","un",75,{"$f":"OFFSET(INDEX(Composições!A:J,MATCH(Orçamentária!A211,Composições!A:A,0),8),2,0)","v":137.44805144999998},10308.6,{"$f":"BDI!$B$17","v":0.191},163.69999999999999,12277.5]
["SF-00206","Torneira de mesa para lavatório com fechamento automático – Linha Administrativa","un",60,{"$f":"OFFSET(INDEX(Composições!A:J,MATCH(Orçamentária!A212,Composições!A:A,0),8),2,0)","v":151.87155144999997},9112.2900000000009,{"$f":"BDI!$B$17","v":0.191},180.88,10852.8]
["SF-00207","Torneira de parede para cozinha bica móvel – Linha Administrativa","un",35,{"$f":"OFFSET(INDEX(Composições!A:J,MATCH(Orçamentária!A213,Composições!A:A,0),8),2,0)","v":211.89531445},7416.34,{"$f":"BDI!$B$17","v":0.191},252.37,8832.9500000000007]
["SF-00208","Torneira de parede para tanque – Linha Administrativa","un",25,{"$f":"OFFSET(INDEX(Composições!A:J,MATCH(Orçamentária!A214,Composições!A:A,0),8),2,0)","v":57.201753399999994},1430.04,{"$f":"BDI!$B$17","v":0.191},68.13,1703.25]
["SF-00209","Válvula de descarga 1 1/2\" – Linha Acessibilidade","un",10,{"$f":"OFFSET(INDEX(Composições!A:J,MATCH(Orçamentária!A215,Composições!A:A,0),8),2,0)","v":464.63996249999997},4646.3999999999996,{"$f":"BDI!$B$17","v":0.191},553.39,5533.9]
["SF-00210","Válvula de descarga 1 1/2\" – Linha Administrativa","un",65,{"$f":"OFFSET(INDEX(Composições!A:J,MATCH(Orçamentária!A216,Composições!A:A,0),8),2,0)","v":209.1194625},13592.77,{"$f":"BDI!$B$17","v":0.191},249.06,16188.9]
["SF-00211","Válvula de descarga 1 1/4\" – Linha Acessibilidade","un",10,{"$f":"OFFSET(INDEX(Composições!A:J,MATCH(Orçamentária!A217,Composições!A:A,0),8),2,0)","v":430.30996249999998},4303.1000000000004,{"$f":"BDI!$B$17","v":0.191},512.5,5125]
["SF-00212","Válvula de descarga 1 1/4\" – Linha Administrativa","un",65,{"$f":"OFFSET(INDEX(Composições!A:J,MATCH(Orçamentária!A218,Composições!A:A,0),8),2,0)","v":175.12846249999998},11383.35,{"$f":"BDI!$B$17","v":0.191},208.58,13557.7]
["SF-00213","Válvula de escoamento para lavatório – Linha Administrativa","un",65,{"$f":"OFFSET(INDEX(Composições!A:J,MATCH(Orçamentária!A219,Composições!A:A,0),8),2,0)","v":32.1556912},2090.12,{"$f":"BDI!$B$17","v":0.191},38.299999999999997,2489.5]
["SF-00214","Válvula de escoamento para tanque – Linha Administrativa","un",25,{"$f":"OFFSET(INDEX(Composições!A:J,MATCH(Orçamentária!A220,Composições!A:A,0),8),2,0)","v":23.549694399999996},588.74,{"$f":"BDI!$B$17","v":0.191},28.05,701.25]
["SF-00215","Válvula descarga para mictório – Linha Administrativa","un",40,{"$f":"OFFSET(INDEX(Composições!A:J,MATCH(Orçamentária!A221,Composições!A:A,0),8),2,0)","v":184.2009625},7368.04,{"$f":"BDI!$B$17","v":0.191},219.38,8775.2000000000007]
["SF-00216","Alarme de emergência para sanitários PNE","un",15,{"$f":"OFFSET(INDEX(Composições!A:J,MATCH(Orçamentária!A222,Composições!A:A,0),8),2,0)","v":328.29825499999998},4924.47,{"$f":"BDI!$B$17","v":0.191},391,5865]
["SF-00217","Barra de apoio 40cm – Linha Acessibilidade","un",25,{"$f":"OFFSET(INDEX(Composições!A:J,MATCH(Orçamentária!A223,Composições!A:A,0),8),2,0)","v":85.750500000000002},2143.7600000000002,{"$f":"BDI!$B$17","v":0.191},102.13,2553.25]
["SF-00218","Barra de apoio 70cm – Linha Acessibilidade","un",20,{"$f":"OFFSET(INDEX(Composições!A:J,MATCH(Orçamentária!A224,Composições!A:A,0),8),2,0)","v":98.490499999999997},1969.81,{"$f":"BDI!$B$17","v":0.191},117.3,2346]
["SF-00219","Barra de apoio 80cm – Linha Acessibilidade","un",25,{"$f":"OFFSET(INDEX(Composições!A:J,MATCH(Orçamentária!A225,Composições!A:A,0),8),2,0)","v":98.650499999999994},2466.2600000000002,{"$f":"BDI!$B$17","v":0.191},117.49,2937.25]
["SF-00220","Barra de apoio lateral fixa 30cm – Linha Acessibilidade","un",25,{"$f":"OFFSET(INDEX(Composições!A:J,MATCH(Orçamentária!A226,Composições!A:A,0),8),2,0)","v":116.70049999999999},2917.51,{"$f":"BDI!$B$17","v":0.191},138.99,3474.75]
["SF-00221","Lavatório suspenso – Linha Acessibilidade","un",10,{"$f":"OFFSET(INDEX(Composições!A:J,MATCH(Orçamentária!A227,Composições!A:A,0),8),2,0)","v":202.27653699999999},2022.77,{"$f":"BDI!$B$17","v":0.191},240.91,2409.1]
["SF-00222","Lavatório suspenso com Coluna – Linha Acessibilidade","un",10,{"$f":"OFFSET(INDEX(Composições!A:J,MATCH(Orçamentária!A228,Composições!A:A,0),8),2,0)","v":435.96794289999997},4359.68,{"$f":"BDI!$B$17","v":0.191},519.24,5192.3999999999996]
["SF-00223","Cabide – Linha Administrativa","un",120,{"$f":"OFFSET(INDEX(Composições!A:J,MATCH(Orçamentária!A229,Composições!A:A,0),8),2,0)","v":64.850848400000004},7782.1,{"$f":"BDI!$B$17","v":0.191},77.239999999999995,9268.7999999999993]
["SF-00224","Papeleira – Linha Administrativa","un",120,{"$f":"OFFSET(INDEX(Composições!A:J,MATCH(Orçamentária!A230,Composições!A:A,0),8),2,0)","v":120.7539871},14490.48,{"$f":"BDI!$B$17","v":0.191},143.82,17258.400000000001]
["SF-00225","Porta toalha argola – Linha Administrativa","un",120,{"$f":"OFFSET(INDEX(Composições!A:J,MATCH(Orçamentária!A231,Composições!A:A,0),8),2,0)","v":111.84398710000001},13421.28,{"$f":"BDI!$B$17","v":0.191},133.21,15985.2]
["SF-00226","Porta toalha barra – Linha Administrativa","un",100,{"$f":"OFFSET(INDEX(Composições!A:J,MATCH(Orçamentária!A232,Composições!A:A,0),8),2,0)","v":152.90584335},15290.58,{"$f":"BDI!$B$17","v":0.191},182.11,18211]
["SF-00227","Caixa 4x2 de embutir para alvenaria","un",1500,{"$f":"OFFSET(INDEX(Composições!A:J,MATCH(Orçamentária!A233,Composições!A:A,0),8),2,0)","v":7.6208541655295488},11431.28,{"$f":"BDI!$B$17","v":0.191},9.08,13620]
["SF-00228","Caixa 4x2 para drywall","un",400,{"$f":"OFFSET(INDEX(Composições!A:J,MATCH(Orçamentária!A234,Composições!A:A,0),8),2,0)","v":11.039127499999999},4415.6499999999996,{"$f":"BDI!$B$17","v":0.191},13.15,5260]
["SF-00229","Caixa 4x4 de embutir para alvenaria","un",400,{"$f":"OFFSET(INDEX(Composições!A:J,MATCH(Orçamentária!A235,Composições!A:A,0),8),2,0)","v":10.0874125540394},4034.97,{"$f":"BDI!$B$17","v":0.191},12.01,4804]
["SF-00230","Caixa 4x4 para drywall","un",100,{"$f":"OFFSET(INDEX(Composições!A:J,MATCH(Orçamentária!A236,Composições!A:A,0),8),2,0)","v":16.607277},1660.73,{"$f":"BDI!$B$17","v":0.191},19.78,1978]
["SF-00231","Caixa de passagem em alumínio 100x100x50mm","un",1500,{"$f":"OFFSET(INDEX(Composições!A:J,MATCH(Orçamentária!A237,Composições!A:A,0),8),2,0)","v":37.999986999999997},56999.98,{"$f":"BDI!$B$17","v":0.191},45.26,67890]
["SF-00232","Caixa de passagem em alumínio 200x200x100mm","un",200,{"$f":"OFFSET(INDEX(Composições!A:J,MATCH(Orçamentária!A238,Composições!A:A,0),8),2,0)","v":78.759986999999995},15752,{"$f":"BDI!$B$17","v":0.191},93.8,18760]
["SF-00233","Caixa de passagem em PVC 150x150x75mm","un",1900,{"$f":"OFFSET(INDEX(Composições!A:J,MATCH(Orçamentária!A239,Composições!A:A,0),8),2,0)","v":45.057777999999999},85609.78,{"$f":"BDI!$B$17","v":0.191},53.66,101954]
["SF-00234","Caixa para piso elevado","un",200,{"$f":"OFFSET(INDEX(Composições!A:J,MATCH(Orçamentária!A240,Composições!A:A,0),8),2,0)","v":303.469987},60694,{"$f":"BDI!$B$17","v":0.191},361.43,72286]
["SF-00235","Canaleta em alumínio aparente 73mmx25mm","m",800,{"$f":"OFFSET(INDEX(Composições!A:J,MATCH(Orçamentária!A241,Composições!A:A,0),8),2,0)","v":91.779209999999978},73423.37,{"$f":"BDI!$B$17","v":0.191},109.31,87448]
["SF-00236","Condulete de alumínio de 1’’","un",1500,{"$f":"OFFSET(INDEX(Composições!A:J,MATCH(Orçamentária!A242,Composições!A:A,0),8),2,0)","v":33.367690749999994},50051.54,{"$f":"BDI!$B$17","v":0.191},39.74,59610]
["SF-00237","Eletrocalha 100x50 mm","m",1300,{"$f":"OFFSET(INDEX(Composições!A:J,MATCH(Orçamentária!A243,Composições!A:A,0),8),2,0)","v":48.698268100000007},63307.75,{"$f":"BDI!$B$17","v":0.191},58,75400]
["SF-00238","Eletrocalha 200x100 mm","m",1300,{"$f":"OFFSET(INDEX(Composições!A:J,MATCH(Orçamentária!A244,Composições!A:A,0),8),2,0)","v":87.155506900000006},113302.16,{"$f":"BDI!$B$17","v":0.191},103.8,134940]
["SF-00239","Eletrocalha 200x50 mm","m",1300,{"$f":"OFFSET(INDEX(Composições!A:J,MATCH(Orçamentária!A245,Composições!A:A,0),8),2,0)","v":74.205081899999982},96466.61,{"$f":"BDI!$B$17","v":0.191},88.38,114894]
["SF-00240","Eletrocalha 300x100 mm","m",1300,{"$f":"OFFSET(INDEX(Composições!A:J,MATCH(Orçamentária!A246,Composições!A:A,0),8),2,0)","v":102.48632189999999},133232.22,{"$f":"BDI!$B$17","v":0.191},122.06,158678]
["SF-00241","Eletrocalha 300x50 mm","m",1300,{"$f":"OFFSET(INDEX(Composições!A:J,MATCH(Orçamentária!A247,Composições!A:A,0),8),2,0)","v":88.107906899999975},114540.28,{"$f":"BDI!$B$17","v":0.191},104.94,136422]
["SF-00242","Eletrocalha 400x50 mm","m",1300,{"$f":"OFFSET(INDEX(Composições!A:J,MATCH(Orçamentária!A248,Composições!A:A,0),8),2,0)","v":117.46738690000001},152707.6,{"$f":"BDI!$B$17","v":0.191},139.9,181870]
["SF-00243","Eletrocalha 50x50 mm","m",2000,{"$f":"OFFSET(INDEX(Composições!A:J,MATCH(Orçamentária!A249,Composições!A:A,0),8),2,0)","v":40.912938100000005},81825.88,{"$f":"BDI!$B$17","v":0.191},48.73,97460]
["SF-00244","Eletroduto de aço galvanizado de 1 1/2\"","m",5000,{"$f":"OFFSET(INDEX(Composições!A:J,MATCH(Orçamentária!A250,Composições!A:A,0),8),2,0)","v":35.246330577885004},176231.65,{"$f":"BDI!$B$17","v":0.191},41.98,209900]
["SF-00245","Eletroduto de aço galvanizado de 1 1/4\"","m",5000,{"$f":"OFFSET(INDEX(Composições!A:J,MATCH(Orçamentária!A251,Composições!A:A,0),8),2,0)","v":31.269057703469997},156345.29,{"$f":"BDI!$B$17","v":0.191},37.24,186200]
["SF-00246","Eletroduto de aço galvanizado de 1\"","m",1500,{"$f":"OFFSET(INDEX(Composições!A:J,MATCH(Orçamentária!A252,Composições!A:A,0),8),2,0)","v":22.689937834454998},34034.910000000003,{"$f":"BDI!$B$17","v":0.191},27.02,40530]
["SF-00247","Eletroduto de aço galvanizado de 2\"","m",2000,{"$f":"OFFSET(INDEX(Composições!A:J,MATCH(Orçamentária!A253,Composições!A:A,0),8),2,0)","v":47.985002177884994},95970,{"$f":"BDI!$B$17","v":0.191},57.15,114300]
["SF-00248","Eletroduto de aço galvanizado de 3/4\"","m",2400,{"$f":"OFFSET(INDEX(Composições!A:J,MATCH(Orçamentária!A254,Composições!A:A,0),8),2,0)","v":19.877287236644996},47705.49,{"$f":"BDI!$B$17","v":0.191},23.67,56808]
["SF-00249","Eletroduto de PVC Corrugado Reforçado 1'' (DE 32mm)","m",1500,{"$f":"OFFSET(INDEX(Composições!A:J,MATCH(Orçamentária!A255,Composições!A:A,0),8),2,0)","v":10.831681499999998},16247.52,{"$f":"BDI!$B$17","v":0.191},12.9,19350]
["SF-00250","Eletroduto de PVC Corrugado Reforçado 3/4'' (DE 25mm)","m",1500,{"$f":"OFFSET(INDEX(Composições!A:J,MATCH(Orçamentária!A256,Composições!A:A,0),8),2,0)","v":7.6385415000000005},11457.81,{"$f":"BDI!$B$17","v":0.191},9.1,13650]
["SF-00251","Eletroduto flexível metálico com capa de PVC 1’’","m",3000,{"$f":"OFFSET(INDEX(Composições!A:J,MATCH(Orçamentária!A257,Composições!A:A,0),8),2,0)","v":16.505328500000001},49515.99,{"$f":"BDI!$B$17","v":0.191},19.66,58980]
["SF-00252","Eletroduto flexível metálico com capa de PVC 3/4\"","m",3000,{"$f":"OFFSET(INDEX(Composições!A:J,MATCH(Orçamentária!A258,Composições!A:A,0),8),2,0)","v":12.807932300000001},38423.800000000003,{"$f":"BDI!$B$17","v":0.191},15.25,45750]
["SF-00253","Perfilado 38x38mm","m",1000,{"$f":"OFFSET(INDEX(Composições!A:J,MATCH(Orçamentária!A259,Composições!A:A,0),8),2,0)","v":47.322589699999995},47322.59,{"$f":"BDI!$B$17","v":0.191},56.36,56360]
["SF-00254","Espelho 4x2","un",2500,{"$f":"OFFSET(INDEX(Composições!A:J,MATCH(Orçamentária!A260,Composições!A:A,0),8),2,0)","v":5.8141519999999991},14535.38,{"$f":"BDI!$B$17","v":0.191},6.92,17300]
["SF-00255","Espelho 4x4","un",600,{"$f":"OFFSET(INDEX(Composições!A:J,MATCH(Orçamentária!A261,Composições!A:A,0),8),2,0)","v":9.6513159999999996},5790.79,{"$f":"BDI!$B$17","v":0.191},11.49,6894]
["SF-00256","Espelho cego redondo","un",10,{"$f":"OFFSET(INDEX(Composições!A:J,MATCH(Orçamentária!A262,Composições!A:A,0),8),2,0)","v":8.084816},80.849999999999994,{"$f":"BDI!$B$17","v":0.191},9.6300000000000008,96.3]
["SF-00257","Interruptor para condulete","un",100,{"$f":"OFFSET(INDEX(Composições!A:J,MATCH(Orçamentária!A263,Composições!A:A,0),8),2,0)","v":24.463925},2446.39,{"$f":"BDI!$B$17","v":0.191},29.14,2914]
["SF-00258","Módulo cego","un",2000,{"$f":"OFFSET(INDEX(Composições!A:J,MATCH(Orçamentária!A264,Composições!A:A,0),8),2,0)","v":4.2916500000000006},{"$f":"IF(ISNUMBER(E264),ROUND(D264*E264,2),\"\")","v":8583.2999999999993},{"$f":"BDI!$B$17","v":0.191},{"$f":"IF(ISNUMBER(E264),ROUND(E264*(1+G264),2),\"\")","v":5.1100000000000003},{"$f":"IF(ISNUMBER(E264),ROUND(H264*D264,2),\"\")","v":10220}]
["SF-00259","Módulo interruptor paralelo","un",100,{"$f":"OFFSET(INDEX(Composições!A:J,MATCH(Orçamentária!A265,Composições!A:A,0),8),2,0)","v":19.865525999999999},1986.55,{"$f":"BDI!$B$17","v":0.191},23.66,2366]
["SF-00260","Módulo interruptor simples","un",600,{"$f":"OFFSET(INDEX(Composições!A:J,MATCH(Orçamentária!A266,Composições!A:A,0),8),2,0)","v":14.7983875},8879.0300000000007,{"$f":"BDI!$B$17","v":0.191},17.62,10572]
["SF-00261","Módulo para saída de fio","un",100,{"$f":"OFFSET(INDEX(Composições!A:J,MATCH(Orçamentária!A267,Composições!A:A,0),8),2,0)","v":4.3416499999999996},434.17,{"$f":"BDI!$B$17","v":0.191},5.17,517]
["SF-00262","Módulo sensor de presença","un",100,{"$f":"OFFSET(INDEX(Composições!A:J,MATCH(Orçamentária!A268,Composições!A:A,0),8),2,0)","v":186.57952600000002},18657.95,{"$f":"BDI!$B$17","v":0.191},222.22,22222]
["SF-00263","Módulo tomada 10 A","un",1800,{"$f":"OFFSET(INDEX(Composições!A:J,MATCH(Orçamentária!A269,Composições!A:A,0),8),2,0)","v":16.023982499999999},28843.17,{"$f":"BDI!$B$17","v":0.191},19.079999999999998,34344]
["SF-00264","Módulo tomada 20 A","un",360,{"$f":"OFFSET(INDEX(Composições!A:J,MATCH(Orçamentária!A270,Composições!A:A,0),8),2,0)","v":17.942982499999999},6459.47,{"$f":"BDI!$B$17","v":0.191},21.37,7693.2]
["SF-00265","Porta equipamentos para canaleta de alumínio aparente","un",50,{"$f":"OFFSET(INDEX(Composições!A:J,MATCH(Orçamentária!A271,Composições!A:A,0),8),2,0)","v":25.587912499999998},1279.4000000000001,{"$f":"BDI!$B$17","v":0.191},30.48,1524]
["SF-00266","Tampa cega metálica para caixas de piso 4x2","un",50,{"$f":"OFFSET(INDEX(Composições!A:J,MATCH(Orçamentária!A272,Composições!A:A,0),8),2,0)","v":11.144299999999999},557.22,{"$f":"BDI!$B$17","v":0.191},13.27,663.5]
["SF-00267","Tampa cega metálica para caixas de piso 4x4","un",50,{"$f":"OFFSET(INDEX(Composições!A:J,MATCH(Orçamentária!A273,Composições!A:A,0),8),2,0)","v":16.514299999999999},825.72,{"$f":"BDI!$B$17","v":0.191},19.670000000000002,983.5]
["SF-00268","Tampa cega para condulete","un",100,{"$f":"OFFSET(INDEX(Composições!A:J,MATCH(Orçamentária!A274,Composições!A:A,0),8),2,0)","v":6.46645},646.65,{"$f":"BDI!$B$17","v":0.191},7.7,770]
["SF-00269","Tampa RJ45 dupla para condulete","un",600,{"$f":"OFFSET(INDEX(Composições!A:J,MATCH(Orçamentária!A275,Composições!A:A,0),8),2,0)","v":11.973924999999999},7184.36,{"$f":"BDI!$B$17","v":0.191},14.26,8556]
["SF-00270","Tomada para condulete","un",880,{"$f":"OFFSET(INDEX(Composições!A:J,MATCH(Orçamentária!A276,Composições!A:A,0),8),2,0)","v":32.239525999999998},28370.78,{"$f":"BDI!$B$17","v":0.191},38.4,33792]
["SF-00271","Tomada para perfilado e eletrocalha","un",100,{"$f":"OFFSET(INDEX(Composições!A:J,MATCH(Orçamentária!A277,Composições!A:A,0),8),2,0)","v":33.883175000000001},3388.32,{"$f":"BDI!$B$17","v":0.191},40.35,4035]
["SF-00272","Bloco autônomo de emergência","un",100,{"$f":"OFFSET(INDEX(Composições!A:J,MATCH(Orçamentária!A278,Composições!A:A,0),8),2,0)","v":231.31882815},23131.88,{"$f":"BDI!$B$17","v":0.191},275.5,27550]
["SF-00273","Instalação de luminária reaproveitada","un",500,{"$f":"OFFSET(INDEX(Composições!A:J,MATCH(Orçamentária!A279,Composições!A:A,0),8),2,0)","v":45.519913149999994},22759.96,{"$f":"BDI!$B$17","v":0.191},54.21,27105]
["SF-00274","Luminária 2x14 W de embutir","un",50,{"$f":"OFFSET(INDEX(Composições!A:J,MATCH(Orçamentária!A280,Composições!A:A,0),8),2,0)","v":207.82991315000001},10391.5,{"$f":"BDI!$B$17","v":0.191},247.53,12376.5]
["SF-00275","Luminária 2x14 W de sobrepor","un",20,{"$f":"OFFSET(INDEX(Composições!A:J,MATCH(Orçamentária!A281,Composições!A:A,0),8),2,0)","v":238.68052370000001},4773.6099999999997,{"$f":"BDI!$B$17","v":0.191},284.27,5685.4]
["SF-00276","Luminária 2x28 W de embutir","un",500,{"$f":"OFFSET(INDEX(Composições!A:J,MATCH(Orçamentária!A282,Composições!A:A,0),8),2,0)","v":277.11991315},138559.96,{"$f":"BDI!$B$17","v":0.191},330.05,165025]
["SF-00277","Luminária 2x28 W de sobrepor","un",100,{"$f":"OFFSET(INDEX(Composições!A:J,MATCH(Orçamentária!A283,Composições!A:A,0),8),2,0)","v":264.51052370000002},26451.05,{"$f":"BDI!$B$17","v":0.191},315.02999999999997,31503]
["SF-00278","Condutor 10mm²","m",2000,{"$f":"OFFSET(INDEX(Composições!A:J,MATCH(Orçamentária!A284,Composições!A:A,0),8),2,0)","v":14.257343499999999},28514.69,{"$f":"BDI!$B$17","v":0.191},16.98,33960]
["SF-00279","Condutor 16mm²","m",2000,{"$f":"OFFSET(INDEX(Composições!A:J,MATCH(Orçamentária!A285,Composições!A:A,0),8),2,0)","v":21.174435999999996},42348.87,{"$f":"BDI!$B$17","v":0.191},25.22,50440]
["SF-00280","Condutor 2,5 mm²","m",24000,{"$f":"OFFSET(INDEX(Composições!A:J,MATCH(Orçamentária!A286,Composições!A:A,0),8),2,0)","v":4.1853534999999988},100448.48,{"$f":"BDI!$B$17","v":0.191},4.9800000000000004,119520]
["SF-00281","Condutor 3x2,5 mm²","m",5000,{"$f":"OFFSET(INDEX(Composições!A:J,MATCH(Orçamentária!A287,Composições!A:A,0),8),2,0)","v":11.706462499999997},58532.31,{"$f":"BDI!$B$17","v":0.191},13.94,69700]
["SF-00282","Condutor 4 mm²","m",9500,{"$f":"OFFSET(INDEX(Composições!A:J,MATCH(Orçamentária!A288,Composições!A:A,0),8),2,0)","v":6.193348499999999},58836.81,{"$f":"BDI!$B$17","v":0.191},7.38,70110]
["SF-00283","Condutor 4x2,5 mm²","m",5000,{"$f":"OFFSET(INDEX(Composições!A:J,MATCH(Orçamentária!A289,Composições!A:A,0),8),2,0)","v":10.6638705},53319.35,{"$f":"BDI!$B$17","v":0.191},12.7,63500]
["SF-00284","Condutor 6 mm²","m",6000,{"$f":"OFFSET(INDEX(Composições!A:J,MATCH(Orçamentária!A290,Composições!A:A,0),8),2,0)","v":9.064662499999999},54387.98,{"$f":"BDI!$B$17","v":0.191},10.8,64800]
["SF-00285","Quadro elétrico TTA","un",20,{"$f":"OFFSET(INDEX(Composições!A:J,MATCH(Orçamentária!A291,Composições!A:A,0),8),2,0)","v":6046.3582499999993},120927.17,{"$f":"BDI!$G$17","v":0.11260000000000001},6727.18,134543.6]
["SF-00286","Ar-condicionado do tipo split piso-teto inverter 54.000BTU/h","un",5,10604.02,53020.1,{"$f":"BDI!$G$17","v":0.11260000000000001},11798.03,58990.15]
["SF-00287","Ar-condicionado fancolete hidrônico dutado 2,5 TR","un",60,2871,172260,{"$f":"BDI!$G$17","v":0.11260000000000001},3194.27,191656.2]
["SF-00288","Ar-condicionado fancolete hidrônico dutado 4,5 TR","un",10,3367,33670,{"$f":"BDI!$G$17","v":0.11260000000000001},3746.12,37461.199999999997]
["SF-00289","Ar-condicionado fancolete hidrônico hi-wall 1,4 TR","un",5,3322.13,16610.650000000001,{"$f":"BDI!$G$17","v":0.11260000000000001},3696.2,18481]
["SF-00290","Ar-condicionado split dutado inverter 30.000 BTU/h","un",40,10067.18,402687.2,{"$f":"BDI!$G$17","v":0.11260000000000001},11200.74,448029.6]
["SF-00291","Ar-condicionado split hi-wall inverter 12.000 BTU/h","un",40,1555.37,62214.8,{"$f":"BDI!$G$17","v":0.11260000000000001},1730.5,69220]
["SF-00292","Ar-condicionado split hi-wall inverter 22.000 BTU/h","un",40,2157.9299999999998,86317.2,{"$f":"BDI!$G$17","v":0.11260000000000001},2400.91,96036.4]
["SF-00293","Instalação de fancolete reaproveitado","un",30,{"$f":"OFFSET(INDEX(Composições!A:J,MATCH(Orçamentária!A299,Composições!A:A,0),8),2,0)","v":79.667000000000002},2390.0100000000002,{"$f":"BDI!$B$17","v":0.191},94.88,2846.4]
["SF-00294","Instalação de split reaproveitado","un",50,{"$f":"OFFSET(INDEX(Composições!A:J,MATCH(Orçamentária!A300,Composições!A:A,0),8),2,0)","v":119.50049999999999},5975.03,{"$f":"BDI!$B$17","v":0.191},142.33000000000001,7116.5]
["SF-00295","Exaustor axial 340 m3/h","un",60,{"$f":"OFFSET(INDEX(Composições!A:J,MATCH(Orçamentária!A301,Composições!A:A,0),8),2,0)","v":186.24949999999998},11174.97,{"$f":"BDI!$B$17","v":0.191},221.82,13309.2]
["SF-00296","Exaustor axial 865 m3/h","un",5,{"$f":"OFFSET(INDEX(Composições!A:J,MATCH(Orçamentária!A302,Composições!A:A,0),8),2,0)","v":1009.9595},5049.8,{"$f":"BDI!$B$17","v":0.191},1202.8599999999999,6014.3]
["SF-00297","Duto chapa galvanizada # 22","m2",880,{"$f":"OFFSET(INDEX(Composições!A:J,MATCH(Orçamentária!A303,Composições!A:A,0),8),2,0)","v":198.62622799999997},174791.08,{"$f":"BDI!$B$17","v":0.191},236.56,208172.79999999999]
["SF-00298","Duto flexível 6”","m",40,{"$f":"OFFSET(INDEX(Composições!A:J,MATCH(Orçamentária!A304,Composições!A:A,0),8),2,0)","v":28.764600000000002},1150.58,{"$f":"BDI!$B$17","v":0.191},34.26,1370.4]
["SF-00299","Duto flexível 8”","m",20,{"$f":"OFFSET(INDEX(Composições!A:J,MATCH(Orçamentária!A305,Composições!A:A,0),8),2,0)","v":31.757100000000001},635.14,{"$f":"BDI!$B$17","v":0.191},37.82,756.4]
["SF-00300","Difusor de ar quadrado 360x360 mm","un",180,{"$f":"OFFSET(INDEX(Composições!A:J,MATCH(Orçamentária!A306,Composições!A:A,0),8),2,0)","v":262.28375},47211.08,{"$f":"BDI!$B$17","v":0.191},312.38,56228.4]
["SF-00301","Difusor de ar quadrado com caixa plenum AK6 360x360 mm","un",10,{"$f":"OFFSET(INDEX(Composições!A:J,MATCH(Orçamentária!A307,Composições!A:A,0),8),2,0)","v":312.48374999999999},3124.84,{"$f":"BDI!$B$17","v":0.191},372.17,3721.7]
["SF-00302","Difusor de ar quadrado para insuflamento em duas direções perpendiculares 376x376 mm","un",10,{"$f":"OFFSET(INDEX(Composições!A:J,MATCH(Orçamentária!A308,Composições!A:A,0),8),2,0)","v":279.75374999999997},2797.54,{"$f":"BDI!$B$17","v":0.191},333.19,3331.9]
["SF-00303","Difusor de ar retangular para insuflamento em duas direções 371x208 mm","un",5,{"$f":"OFFSET(INDEX(Composições!A:J,MATCH(Orçamentária!A309,Composições!A:A,0),8),2,0)","v":152.12375},760.62,{"$f":"BDI!$B$17","v":0.191},181.18,905.9]
["SF-00304","Difusor de ar retangular para insuflamento em três direções 264x432 mm","un",5,{"$f":"OFFSET(INDEX(Composições!A:J,MATCH(Orçamentária!A310,Composições!A:A,0),8),2,0)","v":220.29374999999999},1101.47,{"$f":"BDI!$B$17","v":0.191},262.37,1311.85]
["SF-00305","Difusor de ar retangular para insuflamento em três direções 320x562 mm","un",5,{"$f":"OFFSET(INDEX(Composições!A:J,MATCH(Orçamentária!A311,Composições!A:A,0),8),2,0)","v":264.15375},1320.77,{"$f":"BDI!$B$17","v":0.191},314.61,1573.05]
["SF-00306","Difusor de ar retangular para insuflamento em três direções 371x208 mm","un",5,{"$f":"OFFSET(INDEX(Composições!A:J,MATCH(Orçamentária!A312,Composições!A:A,0),8),2,0)","v":156.92374999999998},784.62,{"$f":"BDI!$B$17","v":0.191},186.9,934.5]
["SF-00307","Difusor de ar retangular para insuflamento em uma direção 371x208 mm","un",10,{"$f":"OFFSET(INDEX(Composições!A:J,MATCH(Orçamentária!A313,Composições!A:A,0),8),2,0)","v":151.94374999999999},1519.44,{"$f":"BDI!$B$17","v":0.191},180.97,1809.7]
["SF-00308","Grelha para retorno retangular 425x225 mm","un",180,{"$f":"OFFSET(INDEX(Composições!A:J,MATCH(Orçamentária!A314,Composições!A:A,0),8),2,0)","v":168.30674999999999},30295.22,{"$f":"BDI!$B$17","v":0.191},200.45,36081]
["SF-00309","Grelha para retorno retangular 525x325 mm","un",10,{"$f":"OFFSET(INDEX(Composições!A:J,MATCH(Orçamentária!A315,Composições!A:A,0),8),2,0)","v":182.09125},1820.91,{"$f":"BDI!$B$17","v":0.191},216.87,2168.6999999999998]
["SF-00310","Instalação de difusores, grelhas e acessórios de climatização reaproveitados","un",120,{"$f":"OFFSET(INDEX(Composições!A:J,MATCH(Orçamentária!A316,Composições!A:A,0),8),2,0)","v":99.583749999999995},11950.05,{"$f":"BDI!$B$17","v":0.191},118.6,14232]
["SF-00311","Instalação de exaustor reaproveitado","un",20,{"$f":"OFFSET(INDEX(Composições!A:J,MATCH(Orçamentária!A317,Composições!A:A,0),8),2,0)","v":38.959499999999998},779.19,{"$f":"BDI!$B$17","v":0.191},46.4,928]
["SF-00312","Preparação para instalação de difusores/grelhas de ar em portas","un",20,{"$f":"OFFSET(INDEX(Composições!A:J,MATCH(Orçamentária!A318,Composições!A:A,0),8),2,0)","v":30.095999999999997},601.91999999999996,{"$f":"BDI!$B$17","v":0.191},35.840000000000003,716.8]
["SF-00313","Bomba para condensado de ar-condicionado para instalação oculta","un",10,{"$f":"OFFSET(INDEX(Composições!A:J,MATCH(Orçamentária!A319,Composições!A:A,0),8),2,0)","v":527.21950000000004},5272.2,{"$f":"BDI!$B$17","v":0.191},627.91999999999996,6279.2]
["SF-00314","Fita aluminizada para refrigeração 48 mm","m",600,{"$f":"OFFSET(INDEX(Composições!A:J,MATCH(Orçamentária!A320,Composições!A:A,0),8),2,0)","v":0.99642500000000001},597.86,{"$f":"BDI!$B$17","v":0.191},1.19,714]
["SF-00315","Fita PVC 100 mm para acabamento em refrigeração","m",9600,{"$f":"OFFSET(INDEX(Composições!A:J,MATCH(Orçamentária!A321,Composições!A:A,0),8),2,0)","v":1.2064249999999999},11581.68,{"$f":"BDI!$B$17","v":0.191},1.44,13824]
["SF-00316","Mangueira emborrachada 3/4\" para água gelada","m",75,{"$f":"OFFSET(INDEX(Composições!A:J,MATCH(Orçamentária!A322,Composições!A:A,0),8),2,0)","v":122.83642500000001},9212.73,{"$f":"BDI!$B$17","v":0.191},146.30000000000001,10972.5]
["SF-00317","Suporte para unidade condensadora de aparelho split","un",125,{"$f":"OFFSET(INDEX(Composições!A:J,MATCH(Orçamentária!A323,Composições!A:A,0),8),2,0)","v":56.514308999999997},7064.29,{"$f":"BDI!$B$17","v":0.191},67.31,8413.75]
["SF-00318","Suporte para unidade evaporadora de aparelho split ou fancolete","un",200,{"$f":"OFFSET(INDEX(Composições!A:J,MATCH(Orçamentária!A324,Composições!A:A,0),8),2,0)","v":122.86430900000001},24572.86,{"$f":"BDI!$B$17","v":0.191},146.33000000000001,29266]
["SF-00319","Filtro em Y 1\"","un",10,{"$f":"OFFSET(INDEX(Composições!A:J,MATCH(Orçamentária!A325,Composições!A:A,0),8),2,0)","v":109.83888125},1098.3900000000001,{"$f":"BDI!$B$17","v":0.191},130.82,1308.2]
["SF-00320","Filtro em Y 3/4\"","un",65,{"$f":"OFFSET(INDEX(Composições!A:J,MATCH(Orçamentária!A326,Composições!A:A,0),8),2,0)","v":90.058881249999999},5853.83,{"$f":"BDI!$B$17","v":0.191},107.26,6971.9]
["SF-00321","Válvula de balanceamento e controle independente da pressão (PIBCV) 2 vias 1\"","un",10,{"$f":"OFFSET(INDEX(Composições!A:J,MATCH(Orçamentária!A327,Composições!A:A,0),8),2,0)","v":777.62888125000006},7776.29,{"$f":"BDI!$B$17","v":0.191},926.16,9261.6]
["SF-00322","Válvula de balanceamento e controle independente da pressão (PIBCV) 2 vias 3/4\"","un",65,{"$f":"OFFSET(INDEX(Composições!A:J,MATCH(Orçamentária!A328,Composições!A:A,0),8),2,0)","v":707.86888125000007},{"$f":"IF(ISNUMBER(E328),ROUND(D328*E328,2),\"\")","v":46011.48},{"$f":"BDI!$B$17","v":0.191},{"$f":"IF(ISNUMBER(E328),ROUND(E328*(1+G328),2),\"\")","v":843.07},{"$f":"IF(ISNUMBER(E328),ROUND(H328*D328,2),\"\")","v":54799.55}]
["SF-00323","Válvula de esfera em bronze 1 1/2\"","un",20,{"$f":"OFFSET(INDEX(Composições!A:J,MATCH(Orçamentária!A329,Composições!A:A,0),8),2,0)","v":142.98996249999999},2859.8,{"$f":"BDI!$B$17","v":0.191},170.3,3406]
["SF-00324","Válvula de esfera em bronze 1 1/4\"","un",20,{"$f":"OFFSET(INDEX(Composições!A:J,MATCH(Orçamentária!A330,Composições!A:A,0),8),2,0)","v":123.79046249999999},2475.81,{"$f":"BDI!$B$17","v":0.191},147.43,2948.6]
["SF-00325","Válvula de esfera em bronze 1\"","un",20,{"$f":"OFFSET(INDEX(Composições!A:J,MATCH(Orçamentária!A331,Composições!A:A,0),8),2,0)","v":92.311381249999997},1846.23,{"$f":"BDI!$B$17","v":0.191},109.94,2198.8000000000002]
["SF-00326","Válvula de esfera em bronze 3/4\"","un",150,{"$f":"OFFSET(INDEX(Composições!A:J,MATCH(Orçamentária!A332,Composições!A:A,0),8),2,0)","v":76.018881249999993},11402.83,{"$f":"BDI!$B$17","v":0.191},90.54,13581]
["SF-00327","Isolamento elastomérico em formato de prancha autoadesiva","m2",825,{"$f":"OFFSET(INDEX(Composições!A:J,MATCH(Orçamentária!A333,Composições!A:A,0),8),2,0)","v":90.320999999999998},74514.83,{"$f":"BDI!$B$17","v":0.191},107.57,88745.25]
["SF-00328","Isolamento elastomérico para tubulações de cobre de 1 1/8\" / tubulações de ferro de 3/4\"","m",810,{"$f":"OFFSET(INDEX(Composições!A:J,MATCH(Orçamentária!A334,Composições!A:A,0),8),2,0)","v":12.919709999999998},10464.969999999999,{"$f":"BDI!$B$17","v":0.191},15.39,12465.9]
["SF-00329","Isolamento elastomérico para tubulações de cobre de 1/2\"","m",400,{"$f":"OFFSET(INDEX(Composições!A:J,MATCH(Orçamentária!A335,Composições!A:A,0),8),2,0)","v":7.8413614999999997},3136.54,{"$f":"BDI!$B$17","v":0.191},9.34,3736]
["SF-00330","Isolamento elastomérico para tubulações de cobre de 1/4\"","m",400,{"$f":"OFFSET(INDEX(Composições!A:J,MATCH(Orçamentária!A336,Composições!A:A,0),8),2,0)","v":6.7383399999999982},2695.34,{"$f":"BDI!$B$17","v":0.191},8.0299999999999994,3212]
["SF-00331","Isolamento elastomérico para tubulações de cobre de 3/4\"","m",400,{"$f":"OFFSET(INDEX(Composições!A:J,MATCH(Orçamentária!A337,Composições!A:A,0),8),2,0)","v":9.4275479999999998},3771.02,{"$f":"BDI!$B$17","v":0.191},11.23,4492]
["SF-00332","Isolamento elastomérico para tubulações de cobre de 3/8\"","m",800,{"$f":"OFFSET(INDEX(Composições!A:J,MATCH(Orçamentária!A338,Composições!A:A,0),8),2,0)","v":7.1832154999999993},5746.57,{"$f":"BDI!$B$17","v":0.191},8.56,6848]
["SF-00333","Isolamento elastomérico para tubulações de cobre de 5/8\"","m",400,{"$f":"OFFSET(INDEX(Composições!A:J,MATCH(Orçamentária!A339,Composições!A:A,0),8),2,0)","v":8.8353099999999998},3534.12,{"$f":"BDI!$B$17","v":0.191},10.52,4208]
["SF-00334","Isolamento elastomérico para tubulações de cobre de 7/8\" / tubulações de ferro de 1/2\"","m",100,{"$f":"OFFSET(INDEX(Composições!A:J,MATCH(Orçamentária!A340,Composições!A:A,0),8),2,0)","v":10.775399999999999},1077.54,{"$f":"BDI!$B$17","v":0.191},12.83,1283]
["SF-00335","Isolamento elastomérico para tubulações de cobre de 1\"","m",30,{"$f":"OFFSET(INDEX(Composições!A:J,MATCH(Orçamentária!A341,Composições!A:A,0),8),2,0)","v":11.959876},358.8,{"$f":"BDI!$B$17","v":0.191},14.24,427.2]
["SF-00336","Isolamento elastomérico para tubulações de ferro de 1 1/2\"","m",100,{"$f":"OFFSET(INDEX(Composições!A:J,MATCH(Orçamentária!A342,Composições!A:A,0),8),2,0)","v":20.240996999999997},2024.1,{"$f":"BDI!$B$17","v":0.191},24.11,2411]
["SF-00337","Isolamento elastomérico para tubulações de ferro de 1 1/4\"","m",100,{"$f":"OFFSET(INDEX(Composições!A:J,MATCH(Orçamentária!A343,Composições!A:A,0),8),2,0)","v":18.933988999999993},1893.4,{"$f":"BDI!$B$17","v":0.191},22.55,2255]
["SF-00338","Isolamento elastomérico para tubulações de ferro de 1\"","m",100,{"$f":"OFFSET(INDEX(Composições!A:J,MATCH(Orçamentária!A344,Composições!A:A,0),8),2,0)","v":15.196762999999999},1519.68,{"$f":"BDI!$B$17","v":0.191},18.100000000000001,1810]
["SF-00339","Proteção mecânica em alumínio","m2",100,{"$f":"OFFSET(INDEX(Composições!A:J,MATCH(Orçamentária!A345,Composições!A:A,0),8),2,0)","v":21.378},2137.8000000000002,{"$f":"BDI!$B$17","v":0.191},25.46,2546]
["SF-00340","Tubo de aço-carbono galvanizado 1 1/2\"","m",100,{"$f":"OFFSET(INDEX(Composições!A:J,MATCH(Orçamentária!A346,Composições!A:A,0),8),2,0)","v":57.617537999999982},5761.75,{"$f":"BDI!$B$17","v":0.191},68.62,6862]
["SF-00341","Tubo de aço-carbono galvanizado 1 1/4\"","m",100,{"$f":"OFFSET(INDEX(Composições!A:J,MATCH(Orçamentária!A347,Composições!A:A,0),8),2,0)","v":53.143399000000002},5314.34,{"$f":"BDI!$B$17","v":0.191},63.29,6329]
["SF-00342","Tubo de aço-carbono galvanizado 1\"","m",100,{"$f":"OFFSET(INDEX(Composições!A:J,MATCH(Orçamentária!A348,Composições!A:A,0),8),2,0)","v":43.139499999999991},4313.95,{"$f":"BDI!$B$17","v":0.191},51.38,5138]
["SF-00343","Tubo de aço-carbono galvanizado 3/4\"","m",750,{"$f":"OFFSET(INDEX(Composições!A:J,MATCH(Orçamentária!A349,Composições!A:A,0),8),2,0)","v":39.586119999999994},29689.59,{"$f":"BDI!$B$17","v":0.191},47.15,35362.5]
["SF-00344","Tubo de cobre de 1/2\"","m",400,{"$f":"OFFSET(INDEX(Composições!A:J,MATCH(Orçamentária!A350,Composições!A:A,0),8),2,0)","v":29.109618799999996},11643.85,{"$f":"BDI!$B$17","v":0.191},34.67,13868]
["SF-00345","Tubo de cobre de 1/4\"","m",400,{"$f":"OFFSET(INDEX(Composições!A:J,MATCH(Orçamentária!A351,Composições!A:A,0),8),2,0)","v":14.552953099999998},5821.18,{"$f":"BDI!$B$17","v":0.191},17.329999999999998,6932]
["SF-00346","Tubo de cobre de 3/4\"","m",400,{"$f":"OFFSET(INDEX(Composições!A:J,MATCH(Orçamentária!A352,Composições!A:A,0),8),2,0)","v":43.051162349999998},17220.46,{"$f":"BDI!$B$17","v":0.191},51.27,20508]
["SF-00347","Tubo de cobre de 3/8\"","m",800,{"$f":"OFFSET(INDEX(Composições!A:J,MATCH(Orçamentária!A353,Composições!A:A,0),8),2,0)","v":21.776649549999998},17421.32,{"$f":"BDI!$B$17","v":0.191},25.94,20752]
["SF-00348","Tubo de cobre de 5/8\"","m",400,{"$f":"OFFSET(INDEX(Composições!A:J,MATCH(Orçamentária!A354,Composições!A:A,0),8),2,0)","v":35.89223024999999},14356.89,{"$f":"BDI!$B$17","v":0.191},42.75,17100]
["SF-00349","Tubo de cobre de 7/8\"","m",100,{"$f":"OFFSET(INDEX(Composições!A:J,MATCH(Orçamentária!A355,Composições!A:A,0),8),2,0)","v":33.913338449999998},3391.33,{"$f":"BDI!$B$17","v":0.191},40.39,4039]
["SF-00350","Tubo de cobre de 1\"","m",30,{"$f":"OFFSET(INDEX(Composições!A:J,MATCH(Orçamentária!A356,Composições!A:A,0),8),2,0)","v":38.297941849999994},1148.94,{"$f":"BDI!$B$17","v":0.191},45.61,1368.3]
["SF-00351","Tubo de cobre de 1 1/8\"","m",60,{"$f":"OFFSET(INDEX(Composições!A:J,MATCH(Orçamentária!A357,Composições!A:A,0),8),2,0)","v":42.585540749999993},2555.13,{"$f":"BDI!$B$17","v":0.191},50.72,3043.2]
["SF-00352-","Armário em MDF laminado com porta e prateleiras-","m2",0,{"$f":"OFFSET(INDEX(Composições!A:J,MATCH(Orçamentária!A358,Composições!A:A,0),8),2,0)","v":{"$error":"#N/A"}},"",null,"",""]
["SF-00353-","Armários em MDF laminado com porta e gavetas-","m2",0,{"$f":"OFFSET(INDEX(Composições!A:J,MATCH(Orçamentária!A359,Composições!A:A,0),8),2,0)","v":{"$error":"#N/A"}},"",null,"",""]
["SF-00354","Instalação de armários reaproveitados","m2",240,{"$f":"OFFSET(INDEX(Composições!A:J,MATCH(Orçamentária!A360,Composições!A:A,0),8),2,0)","v":96.764624999999995},23223.51,{"$f":"BDI!$B$17","v":0.191},115.25,27660]
["SF-00355-","Mesa/tampo de MDF, fixada em parede com mão-francesa-","m2",0,{"$f":"OFFSET(INDEX(Composições!A:J,MATCH(Orçamentária!A361,Composições!A:A,0),8),2,0)","v":{"$error":"#N/A"}},"",null,"",""]
["SF-00356-","Painel para TV de 120 x 180 cm-","un",0,{"$f":"OFFSET(INDEX(Composições!A:J,MATCH(Orçamentária!A362,Composições!A:A,0),8),2,0)","v":{"$error":"#N/A"}},"",null,"",""]
["SF-00357-","Painel para TV de 160 x 160 cm-","un",0,{"$f":"OFFSET(INDEX(Composições!A:J,MATCH(Orçamentária!A363,Composições!A:A,0),8),2,0)","v":{"$error":"#N/A"}},"",null,"",""]
["SF-00358","Painel para TV de 90 x 120 cm","un",0,{"$f":"OFFSET(INDEX(Composições!A:J,MATCH(Orçamentária!A364,Composições!A:A,0),8),2,0)","v":121.08799999999999},0,null,121.09,0]
["SF-00359","Batentes e guarnições em madeira, com verniz ou esmalte","un",80,{"$f":"OFFSET(INDEX(Composições!A:J,MATCH(Orçamentária!A365,Composições!A:A,0),8),2,0)","v":242.89325049999999},19431.46,{"$f":"BDI!$B$17","v":0.191},289.29000000000002,23143.200000000001]
["SF-00360","Chapa de proteção para porta – Linha Acessibilidade","m2",5,{"$f":"OFFSET(INDEX(Composições!A:J,MATCH(Orçamentária!A366,Composições!A:A,0),8),2,0)","v":219.12429999999998},1095.6199999999999,{"$f":"BDI!$B$17","v":0.191},260.98,1304.9000000000001]
["SF-00361","Folha de porta em madeira 2,10x0,60m, pintada","un",20,{"$f":"OFFSET(INDEX(Composições!A:J,MATCH(Orçamentária!A367,Composições!A:A,0),8),2,0)","v":265.19132919999998},5303.83,{"$f":"BDI!$B$17","v":0.191},315.83999999999997,6316.8]
["SF-00362","Folha de porta em madeira 2,10x0,70m, pintada","un",40,{"$f":"OFFSET(INDEX(Composições!A:J,MATCH(Orçamentária!A368,Composições!A:A,0),8),2,0)","v":217.03749839999995},8681.5,{"$f":"BDI!$B$17","v":0.191},258.49,10339.6]
["SF-00363","Folha de porta em madeira 2,10x0,80m, pintada","un",40,{"$f":"OFFSET(INDEX(Composições!A:J,MATCH(Orçamentária!A369,Composições!A:A,0),8),2,0)","v":319.42392260000003},12776.96,{"$f":"BDI!$B$17","v":0.191},380.43,15217.2]
["SF-00364","Folha de porta em madeira 2,10x0,90m, pintada","un",20,{"$f":"OFFSET(INDEX(Composições!A:J,MATCH(Orçamentária!A370,Composições!A:A,0),8),2,0)","v":312.0915918},6241.83,{"$f":"BDI!$B$17","v":0.191},371.7,7434]
["SF-00365","Folha de porta em madeira 2,10x1,0m, pintada","un",10,{"$f":"OFFSET(INDEX(Composições!A:J,MATCH(Orçamentária!A371,Composições!A:A,0),8),2,0)","v":339.44403679999999},3394.44,{"$f":"BDI!$B$17","v":0.191},404.28,4042.8]
["SF-00366","Instalação de batentes de madeira reaproveitados","un",30,{"$f":"OFFSET(INDEX(Composições!A:J,MATCH(Orçamentária!A372,Composições!A:A,0),8),2,0)","v":81.422999000000004},2442.69,{"$f":"BDI!$B$17","v":0.191},96.97,2909.1]
["SF-00367","Instalação de folhas de portas e dobradiças reaproveitadas","un",30,{"$f":"OFFSET(INDEX(Composições!A:J,MATCH(Orçamentária!A373,Composições!A:A,0),8),2,0)","v":58.308767500000002},1749.26,{"$f":"BDI!$B$17","v":0.191},69.45,2083.5]
["SF-00368","Dobradiça para porta","un",400,{"$f":"OFFSET(INDEX(Composições!A:J,MATCH(Orçamentária!A374,Composições!A:A,0),8),2,0)","v":46.184686999999997},18473.87,{"$f":"BDI!$B$17","v":0.191},55.01,22004]
["SF-00369","Fechadura para banheiro maçaneta em barra","un",15,{"$f":"OFFSET(INDEX(Composições!A:J,MATCH(Orçamentária!A375,Composições!A:A,0),8),2,0)","v":122.8309635},1842.46,{"$f":"BDI!$B$17","v":0.191},146.29,2194.35]
["SF-00370","Fechadura para porta externa maçaneta em barra","un",20,{"$f":"OFFSET(INDEX(Composições!A:J,MATCH(Orçamentária!A376,Composições!A:A,0),8),2,0)","v":154.88500150000002},3097.7,{"$f":"BDI!$B$17","v":0.191},184.47,3689.4]
["SF-00371","Fechadura para porta interna maçaneta tubular","un",160,{"$f":"OFFSET(INDEX(Composições!A:J,MATCH(Orçamentária!A377,Composições!A:A,0),8),2,0)","v":706.56500149999999},113050.4,{"$f":"BDI!$B$17","v":0.191},841.52,134643.20000000001]
["SF-00372","Instalação de fechadura/puxador de porta reaproveitados","un",30,{"$f":"OFFSET(INDEX(Composições!A:J,MATCH(Orçamentária!A378,Composições!A:A,0),8),2,0)","v":29.685001499999998},890.55,{"$f":"BDI!$B$17","v":0.191},35.35,1060.5]
["SF-00373","Mola hidráulica aérea","un",25,{"$f":"OFFSET(INDEX(Composições!A:J,MATCH(Orçamentária!A379,Composições!A:A,0),8),2,0)","v":243.71449999999999},6092.86,{"$f":"BDI!$B$17","v":0.191},290.26,7256.5]
["SF-00374","Pivô em latão com acabamento cromado para portas pivotantes","un",25,{"$f":"OFFSET(INDEX(Composições!A:J,MATCH(Orçamentária!A380,Composições!A:A,0),8),2,0)","v":109.87725},2746.93,{"$f":"BDI!$B$17","v":0.191},130.86000000000001,3271.5]
["SF-00375","Cabo de dados tipo UTP, tipo LSZH, categoria 6","m",30000,{"$f":"OFFSET(INDEX(Composições!A:J,MATCH(Orçamentária!A381,Composições!A:A,0),8),2,0)","v":4.6240866},138722.6,{"$f":"BDI!$B$17","v":0.191},5.51,165300]
["SF-00376","Módulo (tomada) de rede RJ45, categoria 6, com conectorização e certificação","un",1400,{"$f":"OFFSET(INDEX(Composições!A:J,MATCH(Orçamentária!A382,Composições!A:A,0),8),2,0)","v":70.61689779999999},98863.66,{"$f":"BDI!$B$17","v":0.191},84.1,117740]
["SF-00377","Painel de distribuição (patch panel) de 24 portas, categoria 6","un",30,{"$f":"OFFSET(INDEX(Composições!A:J,MATCH(Orçamentária!A383,Composições!A:A,0),8),2,0)","v":1775.3161716499999},53259.49,{"$f":"BDI!$B$17","v":0.191},2114.4,63432]
["SF-00378","Cabo de telefonia tipo CCI 50x2","m",10000,{"$f":"OFFSET(INDEX(Composições!A:J,MATCH(Orçamentária!A384,Composições!A:A,0),8),2,0)","v":3.5347039499999999},35347.040000000001,{"$f":"BDI!$B$17","v":0.191},4.21,42100]
["SF-00379","Módulo (tomada) de rede RJ45, para telefonia","un",1040,{"$f":"OFFSET(INDEX(Composições!A:J,MATCH(Orçamentária!A385,Composições!A:A,0),8),2,0)","v":43.724448899999999},45473.43,{"$f":"BDI!$B$17","v":0.191},52.08,54163.199999999997]
["SF-00380","Grelha para retorno para portas, divisórias e paredes 525x325 mm","un",100,{"$f":"OFFSET(INDEX(Composições!A:J,MATCH(Orçamentária!A386,Composições!A:A,0),8),2,0)","v":350.79724999999996},35079.730000000003,{"$f":"BDI!$B$17","v":0.191},417.8,41780]
["SF-00381","Anilina","kg",0,"","",null,"",""]
["SF-00382","Seladora incolor","Litro",0,"","",null,"",""]
["SF-00383","Veladura","900 ml",0,"","",null,"",""]
["SF-00384","Massa para calafetar madeira","kg",0,"","",null,"",""]
["SF-00385","Removedor pastoso","kg",0,"","",null,"",""]
["SF-00386","Tingidor para madeira","150 ml",0,"",{"$f":"IF(ISNUMBER(E392),ROUND(D392*E392,2),\"\")","v":""},null,{"$f":"IF(ISNUMBER(E392),ROUND(E392*(1+G392),2),\"\")","v":""},{"$f":"IF(ISNUMBER(E392),ROUND(H392*D392,2),\"\")","v":""}]
["SF-00387","Thinner","Litro",0,"","",null,"",""]
["SF-00388","Goma Laca Indiana","Kg",0,"","",null,"",""]
["SF-00389","Cera em pasta para madeira","kg",0,"","",null,"",""]
["SF-00390","Fita de borda de 22 mm para encabeçamento","m",0,"","",null,"",""]
["SF-00391","Fita de borda de 35 mm para encabeçamento","m",0,"","",null,"",""]
["SF-00392","Fita de borda de 64 mm para encabeçamento","m",0,"","",null,"",""]
["SF-00393","Fita de borda de 45 mm para encabeçamento","m",0,"","",null,"",""]
["SF-00394","Suporte para prateleira redondo - 10mm x 15mm","un",0,"","",null,"",""]
["SF-00395","Rodízio Giratório com Freio - 2 Polegadas","un",0,"","",null,"",""]
["SF-00396","Rodízio fixo de 4 Polegadas","un",0,"","",null,"",""]
["SF-00397","Rodízio Giratório  Ref. 1500HC – Base de Pino com Bucha","un",0,"","",null,"",""]
["SF-00398","Cordão para Persiana Horizontal (metro)","m",0,"","",null,"",""]
["SF-00399","Cordão para Persiana Vertical (metro)","m",0,"","",null,"",""]
["SF-00400","Freio de Cordão de Persiana (travador de cordão) e acionador","un",0,"","",null,"",""]
["SF-00401","Corrente para persiana (com clip)","m",0,"","",null,"",""]
["SF-00402","Peso envelope para persiana","un",0,"","",null,"",""]
["SF-00403","Rodízio de Cortina Comum","un",0,"","",null,"",""]
["SF-00404","Cantoneira 2 furos - Cioba","un",0,"","",null,"",""]
["SF-00405","Dobradiça para porta com anel","un",0,"","",null,"",""]
["SF-00406","Dobradiça curva para porta de armário (com parafuso de fixação)","un",0,"","",null,"",""]
["SF-00407","Fechadura para porta externa maçaneta em barra (fornecimento)","un",0,"","",null,"",""]
["SF-00408","Fechadura para Porta Externa com Espelho - Millenio","un",0,{"$f":"OFFSET(INDEX(Composições!A:J,MATCH(Orçamentária!A414,Composições!A:A,0),8),2,0)","v":47.404999999999994},0,null,47.41,0]
["SF-00409","Fechadura para Porta de Banheiro com Espelho - Millenio","un",0,"","",null,"",""]
["SF-00410","Fechadura para porta de divisória - Soprano","un",0,"","",null,"",""]
["SF-00411","Tarjeta Livre / Ocupado para portas de banheiro","un",0,"","",null,"",""]
["SF-00412","Fechadura tubular cilíndrica para porta de divisória","un",0,"","",null,"",""]
["SF-00413","Fechadura Cilíndrica para Armário","un",0,"","",null,"",""]
["SF-00414","Fechadura de embutir para armário e gaveta","un",0,"","",null,"",""]
["SF-00415","Fechadura de embutir para móveis – Fechamento Superior - Referência 861","un",0,"","",null,"",""]
["SF-00416","Fechadura de embutir para móveis – Fechamento lateral - Referência 871","un",0,"","",null,"",""]
["SF-00417","Fechadura para porta de correr (Bico de Papagaio)","un",0,"","",null,"",""]
["SF-00418","Fechadura para Gaveteiro","un",0,"","",null,"",""]
["SF-00419","Fechadura para porta de divisória – LaFonte","un",0,"","",null,"",""]
["SF-00420","Fechadura para Porta de divisória - Lockwell","un",0,"","",null,"",""]
["SF-00421","Fechadura para Vitrine de 140 mm","un",0,"","",null,"",""]
["SF-00422","Fecho para porta de armário – Tipo Gangorra – 75 mm","un",0,"","",null,"",""]
["SF-00423","Fecho para porta de armário – Tipo Gangorra – 130 mm","un",0,"","",null,"",""]
["SF-00424","Fecho de Pressão Tipo Roller","un",0,"","",null,"",""]
["SF-00425","Fecho Eletromagnético","un",0,"","",null,"",""]
["SF-00426","Acionador de Fechadura Elétrica","un",0,"","",null,"",""]
["SF-00427","Puxador em Botão côncavo de 25mm de diâmetro","un",0,"","",null,"",""]
["SF-00428","Puxador em botão convexo de 25mm de diâmetro","un",0,"","",null,"",""]
["SF-00429","Corrediça Simples de Roldanas - 250 mm a 300 mm","par",0,"","",null,"",""]
["SF-00430","Corrediça Simples de Roldanas - 350 mm a 400 mm","par",0,"","",null,"",""]
["SF-00431","Corrediça Simples de Roldanas - 450 mm a 500 mm","par",0,"","",null,"",""]
["SF-00432","Corrediça Simples de Roldanas - 550 mm","par",0,"","",null,"",""]
["SF-00433","Corrediça Telescópica - 300 mm","par",0,"","",null,"",""]
["SF-00434","Corrediça Telescópica - 400 mm; 450 mm; 500 mm","par",0,"","",null,"",""]
["SF-00435","Gancho de ferro com rosca – 17 x 50","un",0,"","",null,"",""]
["SF-00436","Gancho de ferro tipo \"pitão\" com rosca – 21 x 80","un",0,"","",null,"",""]
["SF-00437","Suporte triangular para quadro - nº 2","un",0,"","",null,"",""]
["SF-00438","Suporte triangular para quadro - nº 3","un",0,"","",null,"",""]
["SF-00439","Sapata niveladora para móveis com rosca 3/8\"","un",0,"","",null,"",""]
["SF-00440","Sapata niveladora para móveis com base de 40 mm","un",0,"","",null,"",""]
["SF-00441","Sapata niveladora para móveis com base de 60 mm","un",0,"","",null,"",""]
["SF-00442","Cabide duplo com gancho grande para banheiro","un",0,"","",null,"",""]
["SF-00443","Puxador alça 102mm","un",0,"","",null,"",""]
["SF-00444","Puxador tipo “C” em arco - 128mm","un",0,"","",null,"",""]
["SF-00445","Puxador tipo “C” em arco - 96mm","un",0,"","",null,"",""]
["SF-00446","Bucha para Gesso K 54","un",0,"","",null,"",""]
["SF-00447","Alavanca curva com argola para basculante com cavalete – Direita ou Esquerda","un",0,"","",null,"",""]
["SF-00448","Alavanca reta (chata) com argola para basculante com cavalete","un",0,"","",null,"",""]
["SF-00449","Fecho maximar alavanca 100mm cromado","un",0,"","",null,"",""]
["SF-00450","Gonzo com aba 1”","un",0,"",{"$f":"IF(ISNUMBER(E456),ROUND(D456*E456,2),\"\")","v":""},null,{"$f":"IF(ISNUMBER(E456),ROUND(E456*(1+G456),2),\"\")","v":""},{"$f":"IF(ISNUMBER(E456),ROUND(H456*D456,2),\"\")","v":""}]
["SF-00451","Gonzo com aba 3/4\"","un",0,"","",null,"",""]
["SF-00452","Gonzo com aba 7/8\"","un",0,"","",null,"",""]
["SF-00453","Gonzo sem aba 1\"","un",0,"","",null,"",""]
["SF-00454","Gonzo sem aba 3/4\"","un",0,"","",null,"",""]
["SF-00455","Gonzo sem aba 7/8\"","un",0,"","",null,"",""]
["SF-00456","Roldana em aço tipo Canal em (V) com eixo furado e 2 rolamentos (medidas: 2 1/2\" x 50mm ou 2 1/2\" x 70mm)","un",0,"","",null,"",""]
["SF-00457","Roldana em aço tipo Canal em (V) com eixo furado e 2 rolamentos  (medidas: 3” x 50mm ou 3 1/2\" x 50mm ou 3 1/2\" x 70mm)","un",0,"","",null,"",""]
["SF-00458","Mancal Pedestal","un",0,"","",null,"",""]
["SF-00459","Rolamento rígido de esfera","un",0,"","",null,"",""]
["SF-00460","Fixador trava porta de piso niquelado","un",0,"","",null,"",""]
["SF-00461","Batedor de porta cilíndrico de 25mmx25mm","un",0,"","",null,"",""]
["SF-00462","Porta cadeado de 4 1/2\"","un",0,"","",null,"",""]
["SF-00463","Porta Cadeado de 4”","un",0,"","",null,"",""]
["SF-00464","Suporte para mesa dobrável","un",0,"","",null,"",""]
["SF-00465","Suporte universal fixo de parede para TV","un",0,"","",null,"",""]
["SF-00466","Mola aérea hidráulica automática para portas","un",0,"","",null,"",""]
["SF-00467","Espuma Expansiva à base de poliuretano","500 ml",0,{"$f":"OFFSET(INDEX(Composições!A:J,MATCH(Orçamentária!A473,Composições!A:A,0),8),2,0)","v":19.9025},0,null,19.899999999999999,0]
["SF-00468","Adesivo de Contato à Base d’água","kg",0,"","",null,"",""]
["SF-00469","Adesivo de Contato de Alto Desempenho sem Toluol","kg",0,"","",null,"",""]
["SF-00470","Laminado fenólico melamínico texturizado - Azul Noturno","m2",0,"","",null,"",""]
["SF-00471","Laminado fenólico melamínico texturizado - Branco","m2",0,"","",null,"",""]
["SF-00472","Laminado fenólico melamínico texturizado - Ovo","m2",0,"","",null,"",""]
["SF-00473","Lâmina de Madeira - Mogno","m2",0,"","",null,"",""]
["SF-00474","Lâmina de Madeira - Marfim","m2",0,"","",null,"",""]
["SF-00475","Lâmina de Madeira - Cerejeira","m2",0,"","",null,"",""]
["SF-00476","Compensado laminado comum - 04 mm","m2",0,"","",null,"",""]
["SF-00477","Compensado laminado comum - 06 mm","m2",0,"","",null,"",""]
["SF-00478","Compensado laminado comum - 10 mm","m2",0,"","",null,"",""]
["SF-00479","Compensado laminado comum - 15 mm","m2",0,"","",null,"",""]
["SF-00480","Compensado laminado comum - 20 mm","m2",0,"","",null,"",""]
["SF-00481","Compensado Laminado de cerejeira em duas faces - 04 mm","m2",0,"","",null,"",""]
["SF-00482","Compensado Laminado de cerejeira em duas faces - 10 mm","m2",0,"","",null,"",""]
["SF-00483","Compensado Laminado de cerejeira em duas faces - 15 mm","m2",0,"","",null,"",""]
["SF-00484","Compensado Laminado de cerejeira em duas faces - 20 mm","m2",0,"","",null,"",""]
["SF-00485","Compensado Resinado – 10 mm","m2",0,"","",null,"",""]
["SF-00486","Tábua de madeira bruta certificada e aparelhada - Cedrinho","m3",0,"","",null,"",""]
["SF-00487","Tábua de madeira bruta certificada e aparelhada - Freijó","m3",0,"","",null,"",""]
["SF-00488","Tábua de madeira bruta certificada e aparelhada - Cedro","m3",0,"","",null,"",""]
["SF-00489","Tábua de Madeira bruta aparelhada - Pinus","m3",0,"","",null,"",""]
["SF-00490","Sarrafo De Madeira","m",0,"","",null,"",""]
["SF-00491","Caibro De Madeira","m",0,"","",null,"",""]
["SF-00492","Pontalete De Madeira","m",0,"","",null,"",""]
["SF-00493","Ripa De Madeira","m",0,"","",null,"",""]
["SF-00494","Painel de MDF Laminado – Branco - 06mm","m2",0,"","",null,"",""]
["SF-00495","Painel de MDF Laminado – Ovo - 06mm","m2",0,"","",null,"",""]
["SF-00496","Painel de MDF Laminado - Branco - 15mm","m2",0,"","",null,"",""]
["SF-00497","Painel de MDF Laminado – Ovo - 15mm","m2",0,"","",null,"",""]
["SF-00498","Painel de MDF Laminado – Branco - 18mm","m2",0,"","",null,"",""]
["SF-00499","Painel de MDF Laminado – Ovo - 18mm","m2",0,"","",null,"",""]
["SF-00500","Cantoneira laminada em aço abas iguais 1\" x 3/16\"","m",0,"","",null,"",""]
["SF-00501","Cantoneira laminada em aço abas iguais 1\"1/4 x 3/16\"","m",0,"","",null,"",""]
["SF-00502","Cantoneira laminada em aço abas iguais 2” x 1/8”","m",0,"","",null,"",""]
["SF-00503","Cantoneira laminada em aço abas Iguais 2” x 3/16”","m",0,"","",null,"",""]
["SF-00504","Cantoneira laminada em aço abas Iguais 5/8” x 1/8”","m",0,"","",null,"",""]
["SF-00505","Chapa aço galvanizado # 16 (kg)","kg",0,"","",null,"",""]
["SF-00506","Ferro chato 1\"x1/8\"","m",0,"","",null,"",""]
["SF-00507","Ferro chato 1\"x3/16\"","m",0,"","",null,"",""]
["SF-00508","Ferro chato  3/4\"x1/4\" ou 7/8\"x1/4\" ou 1” x 1/4”","m",0,"","",null,"",""]
["SF-00509","Ferro chato 3/4\"x1/8\"","m",0,"","",null,"",""]
["SF-00510","Ferro chato 3/4\"x3/16\"","m",0,"","",null,"",""]
["SF-00511","Ferro chato 5/8\"x1/8\"","m",0,"","",null,"",""]
["SF-00512","Ferro chato 5/8\"x3/16\"","m",0,"","",null,"",""]
["SF-00513","Ferro chato 7/8\"x1/8\"","m",0,"","",null,"",""]
["SF-00514","Ferro chato 7/8\"x3/16\"","m",0,"",{"$f":"IF(ISNUMBER(E520),ROUND(D520*E520,2),\"\")","v":""},null,{"$f":"IF(ISNUMBER(E520),ROUND(E520*(1+G520),2),\"\")","v":""},{"$f":"IF(ISNUMBER(E520),ROUND(H520*D520,2),\"\")","v":""}]
["SF-00515","Perfil trilho Stanley 60mm x 55mm, # 16","m",0,"","",null,"",""]
["SF-00516","Perfil U Enrijecido 100mm x 50mm x 17mm","m",0,"","",null,"",""]
["SF-00517","Perfil Cadeirinha Fechada - 85 x 30 mm a 100 x 30 mm","m",0,"","",null,"",""]
["SF-00518","Perfil Cadeirinha Fechada – 40 x 30 mm a 55 x 30 mm","m",0,"","",null,"",""]
["SF-00519","Perfil Cadeirinha Aberta – 65 x 30 mm","m",0,"","",null,"",""]
["SF-00520","Perfil Cadeirinha Aberta – 40 x 30 mm a 55 x 30 mm","m",0,"","",null,"",""]
["SF-00521","Perfil Cadeirinha Fêmea – 40 x 30 mm","m",0,"","",null,"",""]
["SF-00522","Perfil Cadeirinha Fechada Máximo Ar – 30 x 30 mm","m",0,"","",null,"",""]
["SF-00523","Perfil Cadeirinha Engate – Direito ou Esquerdo","m",0,"","",null,"",""]
["SF-00524","Perfil Cadeirinha Direito – 30 x 30 x 18 mm","m",0,"","",null,"",""]
["SF-00525","Perfil Cadeirinha Direito – 60 x 25 mm a 60 x 30 mm","m",0,"","",null,"",""]
["SF-00526","Perfil “T” dobrado Máximo Ar Abas Iguais – 50 x 30 mm a 60 x 30 mm","m",0,"","",null,"",""]
["SF-00527","Perfil “T” dobrado Máximo Ar Abas Desiguais – 50 x 25 mm a 50 x 30 mm","m",0,"","",null,"",""]
["SF-00528","Perfil Superior Máximo Ar – 48 x 30 mm","m",0,"","",null,"",""]
["SF-00529","Perfil “T” Abas Iguais – 25 x 25 mm","m",0,"","",null,"",""]
["SF-00530","Perfil “T” Dobrado – 75 x 30 mm","m",0,"","",null,"",""]
["SF-00531","Perfil “T” Dobrado – 39 x 30 mm; 55 x 30 mm; 65 x 30 mm; ou 60 x 25 mm","m",0,"","",null,"",""]
["SF-00532","Perfil “T” Dobrado – 39 x 25 mm","m",0,"","",null,"",""]
["SF-00533","Perfil “T” Dobrado – 1/8” x 7/8” x 6000 mm a  1/8’’ x 1’’ x 6000 mm","m",0,"","",null,"",""]
["SF-00534","Perfil Marco Vincado – 140 x 32 mm","m",0,"","",null,"",""]
["SF-00535","Perfil Acabamento - 140 x 15 mm","m",0,"","",null,"",""]
["SF-00536","Perfil Trilho Superior Tipo “G” - 45 x 30 mm","m",0,"","",null,"",""]
["SF-00537","Perfil Tampa Trilho “G”","m",0,"","",null,"",""]
["SF-00538","Chapa Perfurada de Aço Carbono - 3000 x 1200 x 3 mm","un",0,"","",null,"",""]
["SF-00539","Chapa de Aço Xadrez – 3000 x 1200 x 3 mm","un",0,"","",null,"",""]
["SF-00540","Ferro Redondo – 1/2”","m",0,"","",null,"",""]
["SF-00541","Ferro Redondo – 1/4\"","m",0,"","",null,"",""]
["SF-00542","Ferro Redondo – 3/8”","m",0,"","",null,"",""]
["SF-00543","Ferro Quadrado – 1/2”","m",0,"","",null,"",""]
["SF-00544","Ferro Quadrado – 1/4”","m",0,"","",null,"",""]
["SF-00545","Ferro Quadrado – 3/8”","m",0,"","",null,"",""]
["SF-00546","Ferro maciço 1 1/2”","m",0,"","",null,"",""]
["SF-00547","Tubo Industrial Redondo – 1”","m",0,"","",null,"",""]
["SF-00548","Tubo Industrial Redondo – 1 1/2”","m",0,"","",null,"",""]
["SF-00549","Tubo Industrial Redondo - 1 1/4”","m",0,"","",null,"",""]
["SF-00550","Tubo Industrial Redondo – 2”","m",0,"","",null,"",""]
["SF-00551","Tubo quadrado em metalon - 16x16 a 20x20 - chapa 18","m",0,"","",null,"",""]
["SF-00552","Tubo quadrado em metalon - 25x25 a 40x40 - chapa 18","m",0,"","",null,"",""]
["SF-00553","Tubo quadrado em metalon - 50x50 - chapa 18","m",0,"","",null,"",""]
["SF-00554","Tubo retangular em metalon - 30x20 - chapa 18","m",0,"","",null,"",""]
["SF-00555","Tubo retangular em metalon - 40x20 a 50x30 - chapa 18","m",0,"","",null,"",""]
["SF-00556","Concertina simples em aço galvanizado, lâminas de 22 x 15mm, diâmetro 45 cm (rolo com 40 espiras)","Rolo",0,"","",null,"",""]
["SF-00557","Tela de estuque","m2",0,"","",null,"",""]
["SF-00558","Tela tipo galinheiro (hexagonal) galvanizada 2\" BWG 22","m2",0,"","",null,"",""]
["SF-00559","Arame galvanizado, bitola 16 BWG (1,65mm)","kg",0,"","",null,"",""]
["SF-00560","Arame galvanizado nº 20","kg",0,"","",null,"",""]
["SF-00561","Tela em aço galvanizado, tipo alambrado, malha 2, fio 12","m",0,"","",null,"",""]
["SF-00562","Massa Adesiva Plástica","un",0,"","",null,"",""]
["SF-00563","Argamassa Para Contrapiso","40 kg",0,{"$f":"OFFSET(INDEX(Composições!A:J,MATCH(Orçamentária!A569,Composições!A:A,0),8),2,0)","v":16.72},0,null,16.72,0]
["SF-00564","Argamassa Múltiplo Uso","40 kg",0,{"$f":"OFFSET(INDEX(Composições!A:J,MATCH(Orçamentária!A570,Composições!A:A,0),8),2,0)","v":17.86},0,null,17.86,0]
["SF-00565","Cimento Portland CP II E 32","50 kg",0,{"$f":"OFFSET(INDEX(Composições!A:J,MATCH(Orçamentária!A571,Composições!A:A,0),8),2,0)","v":22.324999999999999},0,null,22.33,0]
["SF-00566","Argamassa Colante tipo AC III","20 kg",0,{"$f":"OFFSET(INDEX(Composições!A:J,MATCH(Orçamentária!A572,Composições!A:A,0),8),2,0)","v":25.08},0,null,25.08,0]
["SF-00567","Gesso Para Uso Geral","40 kg",0,{"$f":"OFFSET(INDEX(Composições!A:J,MATCH(Orçamentária!A573,Composições!A:A,0),8),2,0)","v":23.18},0,null,23.18,0]
["SF-00568","Areia Média","m3",0,{"$f":"OFFSET(INDEX(Composições!A:J,MATCH(Orçamentária!A574,Composições!A:A,0),8),2,0)","v":119.12553785},0,null,119.13,0]
["SF-00569","Brita Nº 0","m3",0,{"$f":"OFFSET(INDEX(Composições!A:J,MATCH(Orçamentária!A575,Composições!A:A,0),8),2,0)","v":122.35553785},0,null,122.36,0]
["SF-00570","Brita Nº 1","m3",0,{"$f":"OFFSET(INDEX(Composições!A:J,MATCH(Orçamentária!A576,Composições!A:A,0),8),2,0)","v":101.31303785},0,null,101.31,0]
["SF-00571","Bloco Cerâmico De 08 Furos","un",0,{"$f":"OFFSET(INDEX(Composições!A:J,MATCH(Orçamentária!A577,Composições!A:A,0),8),2,0)","v":0.69096349999999995},0,null,0.69,0]
["SF-00572","Tijolo Maciço","un",0,{"$f":"OFFSET(INDEX(Composições!A:J,MATCH(Orçamentária!A578,Composições!A:A,0),8),2,0)","v":0.58899999999999997},0,null,0.59,0]
["SF-00573","Bloco De Concreto Com 02 Furos","un",0,{"$f":"OFFSET(INDEX(Composições!A:J,MATCH(Orçamentária!A579,Composições!A:A,0),8),2,0)","v":1.6909999999999998},0,null,1.69,0]
["SF-00574","Bloco De Concreto Tipo Canaleta","un",0,{"$f":"OFFSET(INDEX(Composições!A:J,MATCH(Orçamentária!A580,Composições!A:A,0),8),2,0)","v":2.6315},0,null,2.63,0]
["SF-00575","Vergalhão Ca-60 Diâmetro 5,0 Mm","m",0,{"$f":"OFFSET(INDEX(Composições!A:J,MATCH(Orçamentária!A581,Composições!A:A,0),8),2,0)","v":0.58899999999999997},0,null,0.59,0]
["SF-00576","Vergalhão Ca-50 Diâmetro 6,3 Mm","m",0,{"$f":"OFFSET(INDEX(Composições!A:J,MATCH(Orçamentária!A582,Composições!A:A,0),8),2,0)","v":1.4314125},0,null,1.43,0]
["SF-00577","Vergalhão Ca-50 Diâmetro 8,0 Mm","m",0,{"$f":"OFFSET(INDEX(Composições!A:J,MATCH(Orçamentária!A583,Composições!A:A,0),8),2,0)","v":2.319045},0,null,2.3199999999999998,0]
["SF-00578","Vergalhão Ca-50 Diâmetro 10,0 Mm","m",0,{"$f":"OFFSET(INDEX(Composições!A:J,MATCH(Orçamentária!A584,Composições!A:A,0),8),2,0)","v":3.4172544999999999},{"$f":"IF(ISNUMBER(E584),ROUND(D584*E584,2),\"\")","v":0},null,{"$f":"IF(ISNUMBER(E584),ROUND(E584*(1+G584),2),\"\")","v":3.42},{"$f":"IF(ISNUMBER(E584),ROUND(H584*D584,2),\"\")","v":0}]
["SF-00579","Vergalhão Ca-50 Diâmetro 12,5 Mm","m",0,{"$f":"OFFSET(INDEX(Composições!A:J,MATCH(Orçamentária!A585,Composições!A:A,0),8),2,0)","v":4.6199924999999995},0,null,4.62,0]
["SF-00580","Arame Recozido Nº 18","kg",0,{"$f":"OFFSET(INDEX(Composições!A:J,MATCH(Orçamentária!A586,Composições!A:A,0),8),2,0)","v":13.281000000000001},0,null,13.28,0]
["SF-00581","Adesivo Estrutural Epóxi Bicomponente","kg",0,{"$f":"OFFSET(INDEX(Composições!A:J,MATCH(Orçamentária!A587,Composições!A:A,0),8),2,0)","v":32.271499999999996},0,null,32.270000000000003,0]
["SF-00582","Adesivo Selante Poliuretano","un",0,"","",null,"",""]
["SF-00583","Selante de Silicone","un",0,"","",null,"",""]
["SF-00584","Fita Asfáltica Autoadesiva (30 cm)","m",0,"","",null,"",""]
["SF-00585","Fita Asfáltica Autoadesiva (45 cm)","m",0,"","",null,"",""]
["SF-00586","Membrana Impermeabilizante De Alto Desempenho","kg",0,"","",null,"",""]
["SF-00587","Aditivo de Pega Ultrarrápida","L",0,"","",null,"",""]
["SF-00588","Aditivo Impermeabilizante","L",0,{"$f":"OFFSET(INDEX(Composições!A:J,MATCH(Orçamentária!A594,Composições!A:A,0),8),2,0)","v":5.0919999999999996},0,null,5.09,0]
["SF-00589","Aditivo Plastificante Para Argamassa","L",0,"","",null,"",""]
["SF-00590","Fita adesiva antiderrapante na cor preta","m",0,"","",null,"",""]
["SF-00591","Fita adesiva antiderrapante na cor preta com faixa fosforescente na cor branca","m",0,"","",null,"",""]
["SF-00592","Lona Plástica","m2",0,"","",null,"",""]
["SF-00593","Tapa Furo Plástico","un",0,"","",null,"",""]
["SF-00594","Arremate de Plástico - (Tampa para cabeça de parafuso)","un",0,"","",null,"",""]
["SF-00595","Rebite de Aço Maciço – 1/4” x 1/2\"","un",0,"","",null,"",""]
["SF-00596","Rebite de Aço Maciço – 3/16” x 1”","un",0,"","",null,"",""]
["SF-00597","Rebite de Aço Maciço – 3/16” x 1/2\"","un",0,"","",null,"",""]
["SF-00598","Arruela Lisa de  1/2”","un",0,"","",null,"",""]
["SF-00599","Arruela Lisa de  3/4”","un",0,"","",null,"",""]
["SF-00600","Arruela Lisa de  5/16”","un",0,"","",null,"",""]
["SF-00601","Arruela Lisa de  1/4”","un",0,"","",null,"",""]
["SF-00602","Bucha Plástica S5","un",0,"","",null,"",""]
["SF-00603","Bucha Plástica S6","un",0,"","",null,"",""]
["SF-00604","Bucha Plástica S8","un",0,"","",null,"",""]
["SF-00605","Bucha Plástica S10","un",0,"","",null,"",""]
["SF-00606","Bucha Plástica S12","un",0,"","",null,"",""]
["SF-00607","Rebite de Repuxo de 32 x 10","un",0,"","",null,"",""]
["SF-00608","Rebite de Repuxo de 40 x 12","un",0,"","",null,"",""]
["SF-00609","Rebite de repuxo de 62 x 30 mm","un",0,"","",null,"",""]
["SF-00610","Rebite de Repuxo de  3/16” x 30 mm","un",0,"","",null,"",""]
["SF-00611","Rebite de Repuxo de  4.8 x 12 mm","un",0,"","",null,"",""]
["SF-00612","Rebite de Repuxo de  4.8 x 25 mm","un",0,"","",null,"",""]
["SF-00613","Rebite de Repuxo de  6.2 x 22 mm","un",0,"","",null,"",""]
["SF-00614","Parafuso Phillips Cabeça Chata - 3.0 x 10 mm","un",0,"","",null,"",""]
["SF-00615","Parafuso Phillips Cabeça Chata - 3.0 x 12 mm","un",0,"","",null,"",""]
["SF-00616","Parafuso Philips Cabeça Chata - 3.0 x 16","un",0,"","",null,"",""]
["SF-00617","Parafuso Philips Cabeça Chata - 3.0 x 22","un",0,"","",null,"",""]
["SF-00618","Parafuso Philips Cabeça Chata - 3.0 x 25","un",0,"","",null,"",""]
["SF-00619","Parafuso Philips Cabeça Chata - 3.0 x 30","un",0,"","",null,"",""]
["SF-00620","Parafuso Philips Cabeça Chata - 3.5 x 14","un",0,"","",null,"",""]
["SF-00621","Parafuso Philips Cabeça Chata - 3.5 x 16","un",0,"","",null,"",""]
["SF-00622","Parafuso Philips Cabeça Chata - 3.5 x 20","un",0,"","",null,"",""]
["SF-00623","Parafuso Philips Cabeça Chata - 3.5 x 22  mm","un",0,"","",null,"",""]
["SF-00624","Parafuso Philips Cabeça Chata - 3.5 x 25 mm","un",0,"","",null,"",""]
["SF-00625","Parafuso Philips Cabeça Chata - 3.5 x 30","un",0,"","",null,"",""]
["SF-00626","Parafuso Philips Cabeça Chata - 3.5 x 35","un",0,"","",null,"",""]
["SF-00627","Parafuso Philips Cabeça Chata - 3.5 x 40","un",0,"","",null,"",""]
["SF-00628","Parafuso Phillips Cabeça Chata - 40x40mm","un",0,"","",null,"",""]
["SF-00629","Parafuso Phillips Cabeça Chata - 4.0x45mm","un",0,"","",null,"",""]
["SF-00630","Parafuso Phillips Cabeça Chata - 4.0x50mm","un",0,"","",null,"",""]
["SF-00631","Parafuso Phillips cabeça chata - 4.0x60mm","un",0,"","",null,"",""]
["SF-00632","Parafuso Philips Cabeça Chata - 4.0 x 30","un",0,"","",null,"",""]
["SF-00633","Parafuso Philips Cabeça Chata - 4.0 x 35","un",0,"","",null,"",""]
["SF-00634","Parafuso Philips Cabeça Chata - 5.0 x 60","un",0,"","",null,"",""]
["SF-00635","Parafuso Philips Cabeça Chata - 6.0 x 60","un",0,"","",null,"",""]
["SF-00636","Parafuso Philips Cabeça Chata - 6.0 x 65","un",0,"","",null,"",""]
["SF-00637","Porca Tipo Borboleta – 1/4”","un",0,"","",null,"",""]
["SF-00638","Parafuso Philips Cabeça Oval - 4.0 x 16","un",0,"","",null,"",""]
["SF-00639","Parafuso Tipo Board","un",0,"","",null,"",""]
["SF-00640","Cavilha de Madeira – 6 x 30 mm","un",0,"","",null,"",""]
["SF-00641","Cavilha de Madeira – 8 x 40 mm","un",0,"","",null,"",""]
["SF-00642","Cavilha de Madeira – 10 x 50 mm","un",0,"",{"$f":"IF(ISNUMBER(E648),ROUND(D648*E648,2),\"\")","v":""},null,{"$f":"IF(ISNUMBER(E648),ROUND(E648*(1+G648),2),\"\")","v":""},{"$f":"IF(ISNUMBER(E648),ROUND(H648*D648,2),\"\")","v":""}]
["SF-00643","Orelhinha para suporte de Vitrô","un",0,"","",null,"",""]
["SF-00644","Prego 18X27","kg",0,"","",null,"",""]
["SF-00645","Ácidos","Litro",0,"","",null,"",""]
["SF-00646","Aditivos químicos","Litro",0,"","",null,"",""]
["SF-00647","Água destilada","Litro",0,"","",null,"",""]
["SF-00648","Água sanitária","Litro",0,"","",null,"",""]
["SF-00649","Álcoois","Litro",0,"","",null,"",""]
["SF-00650","Botijões de gás inclusive p-13","un",0,"","",null,"",""]
["SF-00651","Cola branca","kg",0,"","",null,"",""]
["SF-00652","Desengraxantes","un",0,"","",null,"",""]
["SF-00653","Desengripante","un",0,"","",null,"",""]
["SF-00654","Detergentes","un",0,"","",null,"",""]
["SF-00655","Eletrodos para solda","un",0,"","",null,"",""]
["SF-00656","Espuma","un",0,"","",null,"",""]
["SF-00657","Escovas para limpeza","un",0,"","",null,"",""]
["SF-00658","Estopa","un",0,"","",null,"",""]
["SF-00659","Fita de arquear","un",0,"","",null,"",""]
["SF-00660","Fita teflon veda-rosca","un",0,"","",null,"",""]
["SF-00661","Fita vinílica de proteção","un",0,"","",null,"",""]
["SF-00662","Fitas adesivas","un",0,"","",null,"",""]
["SF-00663","Fitas isolantes","un",0,"","",null,"",""]
["SF-00664","Fluxo de solda","un",0,"","",null,"",""]
["SF-00665","Fundo anticorrosivo","un",0,"","",null,"",""]
["SF-00666","Gasolina","Litro",0,"","",null,"",""]
["SF-00667","Graxas","un",0,"","",null,"",""]
["SF-00668","Impermeabilizantes","un",0,"","",null,"",""]
["SF-00669","Jogo de brocas para concreto","un",0,"","",null,"",""]
["SF-00670","Jogo de brocas para madeira","un",0,"","",null,"",""]
["SF-00671","Jogo de discos para polir e para lixar","un",0,"","",null,"",""]
["SF-00672","Jogo de pontas e brocas para metal","un",0,"","",null,"",""]
["SF-00673","Jogo de pontas para parafusadeira","un",0,"","",null,"",""]
["SF-00674","Kit de brocas serra copos inclusive para metal","un",0,"","",null,"",""]
["SF-00675","Lâminas de serra de arco","un",0,"","",null,"",""]
["SF-00676","Lâminas de serra e de segueta","un",0,"","",null,"",""]
["SF-00677","Lâminas de serra tico-tico","un",0,"","",null,"",""]
["SF-00678","Limas chatas","un",0,"","",null,"",""]
["SF-00679","Limas triangulares","un",0,"","",null,"",""]
["SF-00680","Lixas","un",0,"","",null,"",""]
["SF-00681","Lonas","un",0,"","",null,"",""]
["SF-00682","Lubrificantes","un",0,"","",null,"",""]
["SF-00683","Materiais de escritório","un",0,"","",null,"",""]
["SF-00684","Óleos","un",0,"","",null,"",""]
["SF-00685","Palha de aço","un",0,"","",null,"",""]
["SF-00686","Panos","un",0,"","",null,"",""]
["SF-00687","Parafina","un",0,"","",null,"",""]
["SF-00688","Pasta para solda","un",0,"","",null,"",""]
["SF-00689","Pilhas e baterias","un",0,"","",null,"",""]
["SF-00690","Pincéis","un",0,"","",null,"",""]
["SF-00691","Pregos em tamanhos variados","un",0,"","",null,"",""]
["SF-00692","Produtos antiferrugem","un",0,"","",null,"",""]
["SF-00693","Querosene","un",0,"","",null,"",""]
["SF-00694","Rebolos","un",0,"","",null,"",""]
["SF-00695","Rebolos de esmeril retangular","un",0,"","",null,"",""]
["SF-00696","Resinas","un",0,"","",null,"",""]
["SF-00697","Sabão","un",0,"","",null,"",""]
["SF-00698","Serra copo","un",0,"","",null,"",""]
["SF-00699","Silicone","un",0,"","",null,"",""]
["SF-00700","Soldas","un",0,"","",null,"",""]
["SF-00701","Solventes","un",0,"","",null,"",""]
["SF-00702","Utensílios e produtos para limpeza","un",0,"","",null,"",""]
["SF-00703","Varetas soldadoras","un",0,"","",null,"",""]
["SF-00704","Vaselina","un",0,"","",null,"",""]
["SF-00705","Vedante em gel","un",0,"","",null,"",""]
["SF-00706","Massa epóxi","un",0,"",{"$f":"IF(ISNUMBER(E712),ROUND(D712*E712,2),\"\")","v":""},null,{"$f":"IF(ISNUMBER(E712),ROUND(E712*(1+G712),2),\"\")","v":""},{"$f":"IF(ISNUMBER(E712),ROUND(H712*D712,2),\"\")","v":""}]
["SF-00707","Algodão","un",0,"","",null,"",""]
["SF-00708","Supervisor(a)-Geral","Profissional",0,{"$f":"OFFSET(INDEX(Composições!A:J,MATCH(Orçamentária!A714,Composições!A:A,0),8),2,0)","v":9741.5529203999977},0,null,9741.5499999999993,0]
["SF-00709","Apoio Técnico Administrativo – Controle de Almoxarifado","Profissional",0,{"$f":"OFFSET(INDEX(Composições!A:J,MATCH(Orçamentária!A715,Composições!A:A,0),8),2,0)","v":2618.7603708000001},0,null,2618.7600000000002,0]
["SF-00710","Ajudante de Serviços Gerais","Profissional",0,{"$f":"OFFSET(INDEX(Composições!A:J,MATCH(Orçamentária!A716,Composições!A:A,0),8),2,0)","v":1656.4862188},0,null,1656.49,0]
["SF-00711","Ajudante de Marceneiro(a)","Profissional",0,{"$f":"OFFSET(INDEX(Composições!A:J,MATCH(Orçamentária!A717,Composições!A:A,0),8),2,0)","v":1878.3984211999998},0,null,1878.4,0]
["SF-00712","Ajudante de Serralheiro(a)","Profissional",0,{"$f":"OFFSET(INDEX(Composições!A:J,MATCH(Orçamentária!A718,Composições!A:A,0),8),2,0)","v":1813.5922027999998},0,null,1813.59,0]
["SF-00713","Lustrador(a) de Móveis","Profissional",0,{"$f":"OFFSET(INDEX(Composições!A:J,MATCH(Orçamentária!A719,Composições!A:A,0),8),2,0)","v":2269.1995563999999},0,null,2269.1999999999998,0]
["SF-00714","Marceneiro(a)","Profissional",0,{"$f":"OFFSET(INDEX(Composições!A:J,MATCH(Orçamentária!A720,Composições!A:A,0),8),2,0)","v":2269.1995563999999},0,null,2269.1999999999998,0]
["SF-00715","Serralheiro(a)","Profissional",0,{"$f":"OFFSET(INDEX(Composições!A:J,MATCH(Orçamentária!A721,Composições!A:A,0),8),2,0)","v":2233.8507100000002},0,null,2233.85,0]
["SF-00716","Mestre de Obras (Posto de Trabalho)","Profissional",0,{"$f":"OFFSET(INDEX(Composições!A:J,MATCH(Orçamentária!A722,Composições!A:A,0),8),2,0)","v":2684.5485015999998},0,null,2684.55,0]
["SF-00717","Oficial de Serviços Gerais","Profissional",0,{"$f":"OFFSET(INDEX(Composições!A:J,MATCH(Orçamentária!A723,Composições!A:A,0),8),2,0)","v":2244.6517463999999},0,null,2244.65,0]
["SF-00718","Alicate  de corte diagonal 6''","un",0,"","",null,"",""]
["SF-00719","Alicate de pressão de 10\"","un",0,"","",null,"",""]
["SF-00720","Alicate meia cana 6''","un",0,"","",null,"",""]
["SF-00721","Alicate torquês de 8\"","un",0,"","",null,"",""]
["SF-00722","Alicate universal de 8\"","un",0,"","",null,"",""]
["SF-00723","Arco de serra","un",0,"","",null,"",""]
["SF-00724","Aspirador de pó industrial","un",0,"","",null,"",""]
["SF-00725","Balde metálico para concreto 10 L","un",0,"","",null,"",""]
["SF-00726","Caixa para ferramenta sanfonada metálica com cadeado","un",0,"","",null,"",""]
["SF-00727","Carretel com linha em caixa de pó para marcação","un",0,"","",null,"",""]
["SF-00728","Carrinho de mão reforçado","un",0,"","",null,"",""]
["SF-00729","Cavadeira articulada","un",0,"","",null,"",""]
["SF-00730","Chave de fenda de 1/2\" x 10\"","un",0,"","",null,"",""]
["SF-00731","Chave de fenda de 1/4\" x 6\"","un",0,"","",null,"",""]
["SF-00732","Chave de fenda de 3/16\" x 5\"","un",0,"","",null,"",""]
["SF-00733","Chave Philips PH2 1/4\" x 6\"","un",0,"","",null,"",""]
["SF-00734","Chave Philips PH3 5/16\" x 8\"","un",0,"","",null,"",""]
["SF-00735","Compressor de Ar 50 L","un",0,"","",null,"",""]
["SF-00736","Enxadão com cabo","un",0,"","",null,"",""]
["SF-00737","Enxadão estreito com cabo","un",0,"","",null,"",""]
["SF-00738","Escada tipo tesoura duplo acesso de fibra com 2m","un",0,"","",null,"",""]
["SF-00739","Escada tipo tesoura e singela de fibra com 2 m","un",0,"","",null,"",""]
["SF-00740","Escala métrica de madeira 2m","un",0,"","",null,"",""]
["SF-00741","Esmerilhadeira Angular 4,5’’","un",0,"","",null,"",""]
["SF-00742","Esmerilhadeira Angular 7’’","un",0,"","",null,"",""]
["SF-00743","Espátula forjada de 12 cm","un",0,"","",null,"",""]
["SF-00744","Espátula forjada de 4 cm","un",0,"","",null,"",""]
["SF-00745","Espátula forjada de 8 cm","un",0,"","",null,"",""]
["SF-00746","Esquadro de metal de 300 mm","un",0,"","",null,"",""]
["SF-00747","Estilete emborrachado de 18 mm","un",0,"","",null,"",""]
["SF-00748","Estilete emborrachado de 25 mm","un",0,"","",null,"",""]
["SF-00749","Faca de 8\"","un",0,"","",null,"",""]
["SF-00750","Furadeira Industrial","un",0,"","",null,"",""]
["SF-00751","Jogo de chave combinada de 8 mm a 24 mm, com 14 peças","un",0,"","",null,"",""]
["SF-00752","Jogo de soquetes de 1/2’’, 10-32 mm","un",0,"","",null,"",""]
["SF-00753","Jogo de soquetes de 1/4’’, 4-13 mm","un",0,"","",null,"",""]
["SF-00754","Kit Parafusadeira de Impacto à Bateria","un",0,"","",null,"",""]
["SF-00755","Linha de pedreiro de 100m","un",0,"","",null,"",""]
["SF-00756","Marreta de 1 kg","un",0,"","",null,"",""]
["SF-00757","Marreta de borracha de 600g","un",0,"","",null,"",""]
["SF-00758","Martelo de bola, 500 gramas","un",0,"","",null,"",""]
["SF-00759","Martelo de pena, 300 gramas","un",0,"","",null,"",""]
["SF-00760","Martelo de unha","un",0,"","",null,"",""]
["SF-00761","Nível manual de alumínio com base magnética 350 mm","un",0,"","",null,"",""]
["SF-00762","Nível manual de alumínio com base magnética 220 mm","un",0,"","",null,"",""]
["SF-00763","Pá quadrada com 120 cm","un",0,"","",null,"",""]
["SF-00764","Pedra de afiar dupla face","un",0,"","",null,"",""]
["SF-00765","Peneira fina","un",0,"","",null,"",""]
["SF-00766","Peneira grossa","un",0,"","",null,"",""]
["SF-00767","Peneira média","un",0,"","",null,"",""]
["SF-00768","Picareta","un",0,"","",null,"",""]
["SF-00769","Prumo de centro","un",0,"","",null,"",""]
["SF-00770","Prumo de parede","un",0,"",{"$f":"IF(ISNUMBER(E776),ROUND(D776*E776,2),\"\")","v":""},null,{"$f":"IF(ISNUMBER(E776),ROUND(E776*(1+G776),2),\"\")","v":""},{"$f":"IF(ISNUMBER(E776),ROUND(H776*D776,2),\"\")","v":""}]
["SF-00771","Rebitador manual","un",0,"","",null,"",""]
["SF-00772","Régua de alumínio para pedreiro com 2m","un",0,"","",null,"",""]
["SF-00773","Serrote comum","un",0,"","",null,"",""]
["SF-00774","Serrote de costa","un",0,"","",null,"",""]
["SF-00775","Tesoura de 25 cm","un",0,"","",null,"",""]
["SF-00776","Tesoura de chapas tipo aviação","un",0,"","",null,"",""]
["SF-00777","Trena de 5m","un",0,"","",null,"",""]
["SF-00778","Desempenadeira 1800 x 200 mm","un",0,"","",null,"",""]
["SF-00779","Formão de 1/2\"","un",0,"","",null,"",""]
["SF-00780","Formão de 1/4\"","un",0,"","",null,"",""]
["SF-00781","Formão de 3/4\"","un",0,"","",null,"",""]
["SF-00782","Grampeador para Molduras","un",0,"","",null,"",""]
["SF-00783","Grampeador Uso Leve","un",0,"","",null,"",""]
["SF-00784","Lixadeira de cinta","un",0,"","",null,"",""]
["SF-00785","Lixadeira e politriz angular 7’’/9’’","un",0,"","",null,"",""]
["SF-00786","Lixadeira Excêntrica","un",0,"","",null,"",""]
["SF-00787","Lixadeira Fita","un",0,"","",null,"",""]
["SF-00788","Lixadeira orbital","un",0,"","",null,"",""]
["SF-00789","Pinador e Grampeador Pneumático","un",0,"","",null,"",""]
["SF-00790","Plaina desempenadeira","un",0,"","",null,"",""]
["SF-00791","Plaina desengrossadeira","un",0,"","",null,"",""]
["SF-00792","Plaina elétrica","un",0,"","",null,"",""]
["SF-00793","Plaina manual No. 5","un",0,"","",null,"",""]
["SF-00794","Policorte 14’’ 2000 W","un",0,"","",null,"",""]
["SF-00795","Raspador manual para madeira","un",0,"","",null,"",""]
["SF-00796","Serra meia esquadria","un",0,"","",null,"",""]
["SF-00797","Serra Meia Esquadria Radial","un",0,"","",null,"",""]
["SF-00798","Serra tico-tico com controle de velocidade","un",0,"","",null,"",""]
["SF-00799","Torno para Madeira com Copiador","un",0,"","",null,"",""]
["SF-00800","Tupia de Coluna","un",0,"","",null,"",""]
["SF-00801","Tupia de Laminação","un",0,"","",null,"",""]
["SF-00802","Tupia Estacionária Refiladora de Borda Pinça","un",0,"","",null,"",""]
["SF-00803","Calandra de chapas motorizada","un",0,"","",null,"",""]
["SF-00804","Calandra de tubos e perfis motorizada","un",0,"","",null,"",""]
["SF-00805","Conjunto de Solda Mig 250A","un",0,"","",null,"",""]
["SF-00806","Maçarico para gás GLP","un",0,"","",null,"",""]
["SF-00807","Máquina de solda inversora AC/DC 180 A 220 Volts","un",0,"","",null,"",""]
["SF-00808","Betoneira monofásica 400 litros","un",0,"","",null,"",""]
["SF-00809","Broxa Retangular","un",0,"","",null,"",""]
["SF-00810","Caixa plástica para massas (masseira) 20 L","un",0,"","",null,"",""]
["SF-00811","Colher de pedreiro 9\"","un",0,"","",null,"",""]
["SF-00812","Compactador de percussão elétrico monofásico 3 CV","un",0,"","",null,"",""]
["SF-00813","Desempenadeira de aço dentada","un",0,"","",null,"",""]
["SF-00814","Desempenadeira de aço lisa","un",0,"","",null,"",""]
["SF-00815","Desempenadeira estriada em PVC 14 x 27 cm","un",0,"","",null,"",""]
["SF-00816","Desempenadeira lisa em PVC 18 x 30 cm","un",0,"","",null,"",""]
["SF-00817","Martelete demolidor 1,7 kW (12 kg)","un",0,"","",null,"",""]
["SF-00818","Martelete demolidor 2kW (30 kg)","un",0,"","",null,"",""]
["SF-00819","Rolo lã de carneiro 23cm com suporte","un",0,"","",null,"",""]
["SF-00820","Trado perfurador para terra manual 25 cm","un",0,"","",null,"",""]
["SF-00821","Plataforma de trabalho aéreo articulada","dia",0,"","",null,"",""]
["SF-00822","Relógio Biométrico","un",0,"","",null,"",""]
["SF-00823","Camisa polo manga curta com logotipo da empresa na frente e indicação da categoria profissional nas costas","pç",0,"","",null,"",""]
["SF-00824","Camisa polo manga longa com logotipo da empresa na frente e indicação da categoria profissional nas costas","pç",0,"","",null,"",""]
["SF-00825","Calças de material resistente e cor escura","pç",0,"","",null,"",""]
["SF-00826","Gorros com pala (boné) na mesma cor da camisa","pç",0,"","",null,"",""]
["SF-00827","Bota com solado de borracha","par",0,"","",null,"",""]
["SF-00828","Bota de borracha de cano longo","par",0,"","",null,"",""]
["SF-00829","Capa de chuva","pç",0,"","",null,"",""]
["SF-00830","Capacete de segurança","pç",0,"","",null,"",""]
["SF-00831","Cinto de segurança tipo paraquedista","pç",0,"","",null,"",""]
["SF-00832","Lanterna profissional","pç",0,"","",null,"",""]
["SF-00833","Lanterna para capacete","pç",0,"","",null,"",""]
["SF-00834","Luva de borracha","par",0,"",{"$f":"IF(ISNUMBER(E840),ROUND(D840*E840,2),\"\")","v":""},null,{"$f":"IF(ISNUMBER(E840),ROUND(E840*(1+G840),2),\"\")","v":""},{"$f":"IF(ISNUMBER(E840),ROUND(H840*D840,2),\"\")","v":""}]
["SF-00835","Máscara de proteção respiratória com válvula e com película de carbono FFP2","pç",0,"","",null,"",""]
["SF-00836","Óculos de segurança com proteção lateral total","pç",0,"","",null,"",""]
["SF-00837","Protetor auditivo flexível de inserção","pç",0,"","",null,"",""]
["SF-00838","Protetor Facial","pç",0,"","",null,"",""]
["SF-00839","Talabarte de Posicionamento (Restrição de Movimento)","pç",0,"","",null,"",""]
["SF-00840","Talabarte em Y","pç",0,"","",null,"",""]
["SF-00841","Travaquedas Deslizante Para Corda","pç",0,"","",null,"",""]
["SF-00842","Travaquedas Deslizante Para Cabo de Aço","pç",0,"","",null,"",""]
["SF-00843","Uniforme Antichamas de Proteção Contra Arcos Elétricos","pç",0,"","",null,"",""]
["SF-00844","Instalação de vidro (comum, temperado, aramado ou laminado) reaproveitado","m2",0,{"$f":"OFFSET(INDEX(Composições!A:J,MATCH(Orçamentária!A850,Composições!A:A,0),8),2,0)","v":36.360299999999995},0,null,36.36,0]
["SF-00845","Vidro temperado incolor com 8mm de espessura","m2",0,{"$f":"OFFSET(INDEX(Composições!A:J,MATCH(Orçamentária!A851,Composições!A:A,0),8),2,0)","v":155.5283},0,null,155.53,0]
["SF-00846","Vidro liso comum transparente 5mm","m2",0,{"$f":"OFFSET(INDEX(Composições!A:J,MATCH(Orçamentária!A852,Composições!A:A,0),8),2,0)","v":131.39449999999999},0,null,131.38999999999999,0]
["SF-00847","Corte em vidro ou espelho reaproveitado","m",0,{"$f":"OFFSET(INDEX(Composições!A:J,MATCH(Orçamentária!A853,Composições!A:A,0),8),2,0)","v":18.102249999999998},0,null,18.100000000000001,0]
["SF-00848","Lapidação de vidro / espelho reaproveitado","m",0,{"$f":"OFFSET(INDEX(Composições!A:J,MATCH(Orçamentária!A854,Composições!A:A,0),8),2,0)","v":27.153374999999997},0,null,27.15,0]
["SF-00849","Vidro temperado incolor com 10 mm de espessura","m2",0,{"$f":"OFFSET(INDEX(Composições!A:J,MATCH(Orçamentária!A855,Composições!A:A,0),8),2,0)","v":162.27900000000002},0,null,162.28,0]
["SF-00850","Bucha para pivô de dobradiça para vidro temperado","un",0,{"$f":"OFFSET(INDEX(Composições!A:J,MATCH(Orçamentária!A856,Composições!A:A,0),8),2,0)","v":3.0266999999999995},0,null,3.03,0]
["SF-00851","Suporte para bandeira de vidro temperado, com ponto de giro para dobradiça","un",0,{"$f":"OFFSET(INDEX(Composições!A:J,MATCH(Orçamentária!A857,Composições!A:A,0),8),2,0)","v":6.053399999999999},0,null,6.05,0]
["SF-00852","Suporte de canto, simples, para vidro temperado","un",0,{"$f":"OFFSET(INDEX(Composições!A:J,MATCH(Orçamentária!A858,Composições!A:A,0),8),2,0)","v":3.0266999999999995},0,null,3.03,0]
["SF-00853","Suporte de união, sem batedor, para dois ou três vidros temperados","un",0,{"$f":"OFFSET(INDEX(Composições!A:J,MATCH(Orçamentária!A859,Composições!A:A,0),8),2,0)","v":6.053399999999999},0,null,6.05,0]
["SF-00854","Botão de correção para vidro temperado","un",0,{"$f":"OFFSET(INDEX(Composições!A:J,MATCH(Orçamentária!A860,Composições!A:A,0),8),2,0)","v":3.0266999999999995},0,null,3.03,0]
["SF-00855","Fechadura bico-de-papagaio, com furo, para vidro temperado","un",0,{"$f":"OFFSET(INDEX(Composições!A:J,MATCH(Orçamentária!A861,Composições!A:A,0),8),2,0)","v":8.0711999999999993},0,null,8.07,0]
["SF-00856","Fechadura bico-de-papagaio, com furo, para janela de vidro temperado","un",0,{"$f":"OFFSET(INDEX(Composições!A:J,MATCH(Orçamentária!A862,Composições!A:A,0),8),2,0)","v":8.0711999999999993},0,null,8.07,0]
["SF-00857","Fechadura para porta de abrir de vidro temperado","un",0,{"$f":"OFFSET(INDEX(Composições!A:J,MATCH(Orçamentária!A863,Composições!A:A,0),8),2,0)","v":8.0711999999999993},0,null,8.07,0]
["SF-00858","Contra fechadura, para alvenaria, para porta com fechadura 1520/9520","un",0,{"$f":"OFFSET(INDEX(Composições!A:J,MATCH(Orçamentária!A864,Composições!A:A,0),8),2,0)","v":5.0444999999999993},0,null,5.04,0]
["SF-00859","Contra fechadura de pressão para porta de vidro temperado","un",0,{"$f":"OFFSET(INDEX(Composições!A:J,MATCH(Orçamentária!A865,Composições!A:A,0),8),2,0)","v":5.0444999999999993},0,null,5.04,0]
["SF-00860","Contra fechadura, com furo, para porta com furo","un",0,{"$f":"OFFSET(INDEX(Composições!A:J,MATCH(Orçamentária!A866,Composições!A:A,0),8),2,0)","v":5.0444999999999993},0,null,5.04,0]
["SF-00861","Trinco inferior, com miolo, para porta de vidro temperado","un",0,{"$f":"OFFSET(INDEX(Composições!A:J,MATCH(Orçamentária!A867,Composições!A:A,0),8),2,0)","v":5.0444999999999993},0,null,5.04,0]
["SF-00862","Mola hidráulica BTS 75R","un",0,{"$f":"OFFSET(INDEX(Composições!A:J,MATCH(Orçamentária!A868,Composições!A:A,0),8),2,0)","v":946.54587400000003},0,null,946.55,0]
["SF-00863","Puxador redondo, padrão em poliéster, para porta de vidro temperado","un",0,{"$f":"OFFSET(INDEX(Composições!A:J,MATCH(Orçamentária!A869,Composições!A:A,0),8),2,0)","v":4.0355999999999996},0,null,4.04,0]
["SF-00864","Puxador em aço inox sob medida – Tipo A","un",0,{"$f":"OFFSET(INDEX(Composições!A:J,MATCH(Orçamentária!A870,Composições!A:A,0),8),2,0)","v":8.0711999999999993},0,null,8.07,0]
["SF-00865","Dobradiça superior para porta de vidro temperado","un",0,{"$f":"OFFSET(INDEX(Composições!A:J,MATCH(Orçamentária!A871,Composições!A:A,0),8),2,0)","v":6.053399999999999},0,null,6.05,0]
["SF-00866","Perfil em alumínio, tipo U - abas iguais - PU 5/8\" x 5/8\" – espessura 1,58mm","m",0,{"$f":"OFFSET(INDEX(Composições!A:J,MATCH(Orçamentária!A872,Composições!A:A,0),8),2,0)","v":9.5101649999999989},0,null,9.51,0]
["SF-00867","Trilho superior em alumínio 60mm x 49,5mm, para vidro temperado","m",0,{"$f":"OFFSET(INDEX(Composições!A:J,MATCH(Orçamentária!A873,Composições!A:A,0),8),2,0)","v":28.326235499999999},0,null,28.33,0]
["SF-00868","Perfil em alumínio para acabamento de trilho superior","m",0,{"$f":"OFFSET(INDEX(Composições!A:J,MATCH(Orçamentária!A874,Composições!A:A,0),8),2,0)","v":12.1321935},0,null,12.13,0]
["SF-00869","Perfil guia inferior de alumínio 39,3 mm x 24 mm para vidro temperado 10mm","m",0,{"$f":"OFFSET(INDEX(Composições!A:J,MATCH(Orçamentária!A875,Composições!A:A,0),8),2,0)","v":19.048288499999998},0,null,19.05,0]
["SF-00870","Capa do Perfil Guia Inferior “Click”","m",0,{"$f":"OFFSET(INDEX(Composições!A:J,MATCH(Orçamentária!A876,Composições!A:A,0),8),2,0)","v":6.1961849999999998},0,null,6.2,0]
["SF-00871","Dobradiça inferior para porta de vidro temperado","un",0,{"$f":"OFFSET(INDEX(Composições!A:J,MATCH(Orçamentária!A877,Composições!A:A,0),8),2,0)","v":6.053399999999999},0,null,6.05,0]
["SF-00872","Escova de vedação para vidro temperado","m",0,{"$f":"OFFSET(INDEX(Composições!A:J,MATCH(Orçamentária!A878,Composições!A:A,0),8),2,0)","v":6.053399999999999},0,null,6.05,0]
["SF-00873","Roldana simples para porta de correr em vidro temperado","un",0,{"$f":"OFFSET(INDEX(Composições!A:J,MATCH(Orçamentária!A879,Composições!A:A,0),8),2,0)","v":3.0266999999999995},0,null,3.03,0]
["SF-00874","Roldana dupla para porta de correr em vidro temperado","un",0,{"$f":"OFFSET(INDEX(Composições!A:J,MATCH(Orçamentária!A880,Composições!A:A,0),8),2,0)","v":3.0266999999999995},0,null,3.03,0]
["SF-00875","Capuchinho para trinco para vidro temperado","un",0,{"$f":"OFFSET(INDEX(Composições!A:J,MATCH(Orçamentária!A881,Composições!A:A,0),8),2,0)","v":2.0177999999999998},0,null,2.02,0]
["SF-00876","Facão simples para lateral e bandeira de vidro temperado","un",0,{"$f":"OFFSET(INDEX(Composições!A:J,MATCH(Orçamentária!A882,Composições!A:A,0),8),2,0)","v":8.0711999999999993},0,null,8.07,0]
["SF-00877","Fechadura de pressão para porta de abrir em vidro temperado","un",0,{"$f":"OFFSET(INDEX(Composições!A:J,MATCH(Orçamentária!A883,Composições!A:A,0),8),2,0)","v":8.0711999999999993},0,null,8.07,0]
["SF-00878","Suporte de união, com miolo, para vidro temperado","un",0,{"$f":"OFFSET(INDEX(Composições!A:J,MATCH(Orçamentária!A884,Composições!A:A,0),8),2,0)","v":6.053399999999999},0,null,6.05,0]
["SF-00879","Suporte para basculante e pivotante de vidro temperado","un",0,{"$f":"OFFSET(INDEX(Composições!A:J,MATCH(Orçamentária!A885,Composições!A:A,0),8),2,0)","v":4.0355999999999996},0,null,4.04,0]
["SF-00880","Trinco central para basculante em vidro temperado","un",0,{"$f":"OFFSET(INDEX(Composições!A:J,MATCH(Orçamentária!A886,Composições!A:A,0),8),2,0)","v":4.0355999999999996},0,null,4.04,0]
["SF-00881","Vidro laminado incolor de 8mm de espessura","m2",0,{"$f":"OFFSET(INDEX(Composições!A:J,MATCH(Orçamentária!A887,Composições!A:A,0),8),2,0)","v":27.834999999999997},0,null,27.84,0]
["SF-00882","Suporte tipo “Spiderglass” para vidro temperado","un",0,"","",null,"",""]
["SF-00883","Dobradiça automática para box de vidro temperado","un",0,{"$f":"OFFSET(INDEX(Composições!A:J,MATCH(Orçamentária!A889,Composições!A:A,0),8),2,0)","v":4.0355999999999996},0,null,4.04,0]
["SF-00884","Dobradiça horizontal para vidro basculante com trinco","un",0,{"$f":"OFFSET(INDEX(Composições!A:J,MATCH(Orçamentária!A890,Composições!A:A,0),8),2,0)","v":4.0355999999999996},0,null,4.04,0]
["SF-00885","Dobradiça horizontal para vidro basculante","un",0,{"$f":"OFFSET(INDEX(Composições!A:J,MATCH(Orçamentária!A891,Composições!A:A,0),8),2,0)","v":4.0355999999999996},0,null,4.04,0]
["SF-00886","Fechadura elétrica para porta de vidro temperado","un",0,{"$f":"OFFSET(INDEX(Composições!A:J,MATCH(Orçamentária!A892,Composições!A:A,0),8),2,0)","v":30.266999999999996},0,null,30.27,0]
["SF-00887","Porteiro eletrônico","un",0,{"$f":"OFFSET(INDEX(Composições!A:J,MATCH(Orçamentária!A893,Composições!A:A,0),8),2,0)","v":30.266999999999996},0,null,30.27,0]
["SF-00888","Acionador fixo","un",0,{"$f":"OFFSET(INDEX(Composições!A:J,MATCH(Orçamentária!A894,Composições!A:A,0),8),2,0)","v":20.177999999999997},0,null,20.18,0]
["SF-00889","Mini chapinha para trinco basculante","un",0,{"$f":"OFFSET(INDEX(Composições!A:J,MATCH(Orçamentária!A895,Composições!A:A,0),8),2,0)","v":2.0177999999999998},0,null,2.02,0]
["SF-00890","Puxador de latão - diâmetro 25mm","un",0,{"$f":"OFFSET(INDEX(Composições!A:J,MATCH(Orçamentária!A896,Composições!A:A,0),8),2,0)","v":4.0355999999999996},0,null,4.04,0]
["SF-00891","Trinco sem miolo para vidro temperado","un",0,{"$f":"OFFSET(INDEX(Composições!A:J,MATCH(Orçamentária!A897,Composições!A:A,0),8),2,0)","v":4.0355999999999996},0,null,4.04,0]
["SF-00892","Tubo de alumínio quadrado 50x50","m",0,{"$f":"OFFSET(INDEX(Composições!A:J,MATCH(Orçamentária!A898,Composições!A:A,0),8),2,0)","v":29.622415499999995},0,null,29.62,0]
["SF-00893","Veda fresta adesivo “E” branco","m",0,{"$f":"OFFSET(INDEX(Composições!A:J,MATCH(Orçamentária!A899,Composições!A:A,0),8),2,0)","v":4.0355999999999996},0,null,4.04,0]
["SF-00894","Vedapress 10mm","m",0,{"$f":"OFFSET(INDEX(Composições!A:J,MATCH(Orçamentária!A900,Composições!A:A,0),8),2,0)","v":9.4822064999999984},0,null,9.48,0]
["SF-00895","Regulagem de ferragens","un",0,{"$f":"OFFSET(INDEX(Composições!A:J,MATCH(Orçamentária!A901,Composições!A:A,0),8),2,0)","v":30.266999999999996},0,null,30.27,0]
["SF-00896","Vidro fumê / bronze temperado 10mm","m2",0,{"$f":"OFFSET(INDEX(Composições!A:J,MATCH(Orçamentária!A902,Composições!A:A,0),8),2,0)","v":27.834999999999997},0,null,27.84,0]
["SF-00897","Puxador em aço inox sob medida – Tipo B","un",0,{"$f":"OFFSET(INDEX(Composições!A:J,MATCH(Orçamentária!A903,Composições!A:A,0),8),2,0)","v":8.0711999999999993},0,null,8.07,0]
["SF-00898","Armação de aço CA-50 bitolas de 5,0mm a 8,00mm","kg",5,{"$f":"OFFSET(INDEX(Composições!A:J,MATCH(Orçamentária!A904,Composições!A:A,0),8),2,0)","v":10.5902029},{"$f":"IF(ISNUMBER(E904),ROUND(D904*E904,2),\"\")","v":52.95},{"$f":"BDI!$B$17","v":0.191},{"$f":"IF(ISNUMBER(E904),ROUND(E904*(1+G904),2),\"\")","v":12.61},{"$f":"IF(ISNUMBER(E904),ROUND(H904*D904,2),\"\")","v":63.05}]
["SF-00899","Pivô para dobradiça inferior (Montagem com a 1103-TQ)","un",0,{"$f":"OFFSET(INDEX(Composições!A:J,MATCH(Orçamentária!A905,Composições!A:A,0),8),2,0)","v":4.0355999999999996},0,null,4.04,0]
["SF-00900","Dobradiça direita inferior excêntrica","un",0,{"$f":"OFFSET(INDEX(Composições!A:J,MATCH(Orçamentária!A906,Composições!A:A,0),8),2,0)","v":6.053399999999999},0,null,6.05,0]
["SF-00901","Dobradiça esquerda inferior excêntrica","un",0,{"$f":"OFFSET(INDEX(Composições!A:J,MATCH(Orçamentária!A907,Composições!A:A,0),8),2,0)","v":6.053399999999999},0,null,6.05,0]
["SF-00902","Dobradiça pivotante inferior com trinco","un",0,{"$f":"OFFSET(INDEX(Composições!A:J,MATCH(Orçamentária!A908,Composições!A:A,0),8),2,0)","v":6.053399999999999},0,null,6.05,0]
["SF-00903","Carrinho para porta de correr 1 roldana e 2 furos","un",0,{"$f":"OFFSET(INDEX(Composições!A:J,MATCH(Orçamentária!A909,Composições!A:A,0),8),2,0)","v":3.0266999999999995},0,null,3.03,0]
["SF-00904","Carrinho para porta de correr 2 roldanas e 2 furos","un",0,{"$f":"OFFSET(INDEX(Composições!A:J,MATCH(Orçamentária!A910,Composições!A:A,0),8),2,0)","v":3.0266999999999995},0,null,3.03,0]
["SF-00905","Carrinho para porta de correr com roldana côncava","un",0,{"$f":"OFFSET(INDEX(Composições!A:J,MATCH(Orçamentária!A911,Composições!A:A,0),8),2,0)","v":3.0266999999999995},0,null,3.03,0]
["SF-00906","Guia de nylon para porta de correr","un",0,{"$f":"OFFSET(INDEX(Composições!A:J,MATCH(Orçamentária!A912,Composições!A:A,0),8),2,0)","v":3.0266999999999995},0,null,3.03,0]
["SF-00907","Puxador H tubular em aço inox, comprimento 45cm, para portas de vidro temperado","un",0,{"$f":"OFFSET(INDEX(Composições!A:J,MATCH(Orçamentária!A913,Composições!A:A,0),8),2,0)","v":8.0711999999999993},0,null,8.07,0]
["SF-00908","Transporte de vidros","m2 x km",0,{"$f":"OFFSET(INDEX(Composições!A:J,MATCH(Orçamentária!A914,Composições!A:A,0),8),2,0)","v":46.813406499999992},0,null,46.81,0]
["SF-00909","Vidro fantasia 4mm (canelado, martelado, pontilhado e mini-boreal)","m2",0,{"$f":"OFFSET(INDEX(Composições!A:J,MATCH(Orçamentária!A915,Composições!A:A,0),8),2,0)","v":111.13527500000001},0,null,111.14,0]
["SF-00910","Vidro fumê/bronze 5mm","m2",0,{"$f":"OFFSET(INDEX(Composições!A:J,MATCH(Orçamentária!A916,Composições!A:A,0),8),2,0)","v":183.36330000000001},0,null,183.36,0]
["SF-00911","Recuperação de massa em esquadria metálica","m",0,{"$f":"OFFSET(INDEX(Composições!A:J,MATCH(Orçamentária!A917,Composições!A:A,0),8),2,0)","v":22.907627399999999},0,null,22.91,0]
["SF-00912","Instalação de espelho reaproveitado","m2",0,{"$f":"OFFSET(INDEX(Composições!A:J,MATCH(Orçamentária!A918,Composições!A:A,0),8),2,0)","v":60.788599999999995},0,null,60.79,0]
["SF-00913","Espelho fumê/bronze 4mm lapidado","m2",0,{"$f":"OFFSET(INDEX(Composições!A:J,MATCH(Orçamentária!A919,Composições!A:A,0),8),2,0)","v":60.788599999999988},0,null,60.79,0]
["SF-00914","Finesson (parafuso de fixação francês)","un",0,{"$f":"OFFSET(INDEX(Composições!A:J,MATCH(Orçamentária!A920,Composições!A:A,0),8),2,0)","v":5.523299999999999},0,null,5.52,0]
["SF-00915","Graute industrializado, fck ≥ 25MPa","m3",1,{"$f":"OFFSET(INDEX(Composições!A:J,MATCH(Orçamentária!A921,Composições!A:A,0),8),2,0)","v":2400.7610986999994},2400.7600000000002,{"$f":"BDI!$B$17","v":0.191},2859.31,2859.31]
["SF-00916","Armação de aço CA-50 bitolas de 10,0mm a 12,50mm","kg",5,{"$f":"OFFSET(INDEX(Composições!A:J,MATCH(Orçamentária!A922,Composições!A:A,0),8),2,0)","v":7.5699781000000002},37.85,{"$f":"BDI!$B$17","v":0.191},9.02,45.1]
["SF-00917","Armação de aço CA-50 bitolas de 16,0mm a 25,0mm","kg",5,{"$f":"OFFSET(INDEX(Composições!A:J,MATCH(Orçamentária!A923,Composições!A:A,0),8),2,0)","v":7.4519443999999986},37.26,{"$f":"BDI!$B$17","v":0.191},8.8800000000000008,44.4]
["SF-00918","Remoção de mola hidráulica de piso","un",15,{"$f":"OFFSET(INDEX(Composições!A:J,MATCH(Orçamentária!A924,Composições!A:A,0),8),2,0)","v":19.912475000000001},298.69,{"$f":"BDI!$B$17","v":0.191},23.72,355.8]
["SF-00919","Escavação manual de valas","m3",15,{"$f":"OFFSET(INDEX(Composições!A:J,MATCH(Orçamentária!A925,Composições!A:A,0),8),2,0)","v":63.400833999999996},951.01,{"$f":"BDI!$B$17","v":0.191},75.510000000000005,1132.6500000000001]
["SF-00920","Reaterro de vala com compactação mecanizada","m3",15,{"$f":"OFFSET(INDEX(Composições!A:J,MATCH(Orçamentária!A926,Composições!A:A,0),8),2,0)","v":22.573776500000001},338.61,{"$f":"BDI!$B$17","v":0.191},26.89,403.35]
["SF-00921","Aterro de vala com compactação mecanizada","m3",15,{"$f":"OFFSET(INDEX(Composições!A:J,MATCH(Orçamentária!A927,Composições!A:A,0),8),2,0)","v":78.41969631249998},1176.3,{"$f":"BDI!$B$17","v":0.191},93.4,1401]
["SF-00922","Tubo de cobre classe \"E\" 22mm","m",10,{"$f":"OFFSET(INDEX(Composições!A:J,MATCH(Orçamentária!A928,Composições!A:A,0),8),2,0)","v":41.349984999999997},413.5,{"$f":"BDI!$B$17","v":0.191},49.25,492.5]
["SF-00923","Tubo de cobre classe \"E\" 28 mm","m",10,{"$f":"OFFSET(INDEX(Composições!A:J,MATCH(Orçamentária!A929,Composições!A:A,0),8),2,0)","v":51.618113199999996},516.17999999999995,{"$f":"BDI!$B$17","v":0.191},61.48,614.79999999999995]
["SF-00924","Tubo de cobre classe \"E\" 42mm","m",10,{"$f":"OFFSET(INDEX(Composições!A:J,MATCH(Orçamentária!A930,Composições!A:A,0),8),2,0)","v":92.212224049999989},922.12,{"$f":"BDI!$B$17","v":0.191},109.82,1098.2]
["SF-00925","Bacia convencional - Linha Acessibilidade","un",5,{"$f":"OFFSET(INDEX(Composições!A:J,MATCH(Orçamentária!A931,Composições!A:A,0),8),2,0)","v":700.47188770000002},3502.36,{"$f":"BDI!$B$17","v":0.191},834.26,4171.3]
["SF-00926","Assento para bacia convencional - Linha Acessibilidade","un",25,{"$f":"OFFSET(INDEX(Composições!A:J,MATCH(Orçamentária!A932,Composições!A:A,0),8),2,0)","v":777.54265000000009},19438.57,{"$f":"BDI!$B$17","v":0.191},926.05,23151.25]
["SF-00927","Base registro de gaveta 1 1/2”","un",10,{"$f":"OFFSET(INDEX(Composições!A:J,MATCH(Orçamentária!A933,Composições!A:A,0),8),2,0)","v":105.00996249999999},1050.0999999999999,{"$f":"BDI!$B$17","v":0.191},125.07,1250.7]
["SF-00928","Condutor 25mm²","m",0,{"$f":"OFFSET(INDEX(Composições!A:J,MATCH(Orçamentária!A934,Composições!A:A,0),8),2,0)","v":2.5230765000000002},0,null,2.52,0]
["SF-00929","Condutor 35mm²","m",0,{"$f":"OFFSET(INDEX(Composições!A:J,MATCH(Orçamentária!A935,Composições!A:A,0),8),2,0)","v":2.8737119999999998},0,null,2.87,0]
["SF-00930","Condutor 50mm²","m",0,{"$f":"OFFSET(INDEX(Composições!A:J,MATCH(Orçamentária!A936,Composições!A:A,0),8),2,0)","v":3.4191449999999994},0,null,3.42,0]
["SF-00931","Condutor 70mm²","m",0,{"$f":"OFFSET(INDEX(Composições!A:J,MATCH(Orçamentária!A937,Composições!A:A,0),8),2,0)","v":4.1204159999999996},0,null,4.12,0]
["SF-00932","Condutor 95mm²","m",0,{"$f":"OFFSET(INDEX(Composições!A:J,MATCH(Orçamentária!A938,Composições!A:A,0),8),2,0)","v":5.0164844999999998},0,null,5.0199999999999996,0]
["SF-00933","Condutor 120mm²","m",0,{"$f":"OFFSET(INDEX(Composições!A:J,MATCH(Orçamentária!A939,Composições!A:A,0),8),2,0)","v":5.9515124999999998},0,null,5.95,0]
["SF-00934","Condutor 150mm²","m",0,{"$f":"OFFSET(INDEX(Composições!A:J,MATCH(Orçamentária!A940,Composições!A:A,0),8),2,0)","v":7.0034189999999992},0,null,7,0]
["SF-00935","Condutor 185mm²","m",0,{"$f":"OFFSET(INDEX(Composições!A:J,MATCH(Orçamentária!A941,Composições!A:A,0),8),2,0)","v":8.2890824999999992},0,null,8.2899999999999991,0]
["SF-00936","Condutor 240mm²","m",0,{"$f":"OFFSET(INDEX(Composições!A:J,MATCH(Orçamentária!A942,Composições!A:A,0),8),2,0)","v":2.5230765000000002},0,null,2.52,0]
["SF-00937","Montagem e desmontagem de andaime fachadeiro","m2",350,{"$f":"OFFSET(INDEX(Composições!A:J,MATCH(Orçamentária!A943,Composições!A:A,0),8),2,0)","v":7.483569274709998},2619.25,{"$f":"BDI!$B$17","v":0.191},8.91,3118.5]
["SF-00938","Montagem e desmontagem de andaime tubular","m",70,{"$f":"OFFSET(INDEX(Composições!A:J,MATCH(Orçamentária!A944,Composições!A:A,0),8),2,0)","v":13.8425151054},968.98,{"$f":"BDI!$B$17","v":0.191},16.489999999999998,1154.3]
["SF-00939","Tensor com indicador de tensão para linha de vida","un",5,1005.98,5029.8999999999996,{"$f":"BDI!$B$17","v":0.191},1198.1199999999999,5990.6]
["SF-00940","Locação de fechamento para andaimes com tela 100% polietileno","m2 x mês",350,{"$f":"OFFSET(INDEX(Composições!A:J,MATCH(Orçamentária!A946,Composições!A:A,0),8),2,0)","v":3.7522254500000001},1313.28,{"$f":"BDI!$B$17","v":0.191},4.47,1564.5]
["SF-00941","Plataforma de trabalho aéreo tesoura","dia",0,"","",null,"",""]
["SF-00942","Remoção de folha de porta de enrolar","un",0,{"$f":"OFFSET(INDEX(Composições!A:J,MATCH(Orçamentária!A948,Composições!A:A,0),8),2,0)","v":141.76374999999999},0,null,141.76,0]
["SF-00943","Base registro de gaveta 1\"","un",0,{"$f":"OFFSET(INDEX(Composições!A:J,MATCH(Orçamentária!A949,Composições!A:A,0),8),2,0)","v":29.468881249999995},0,null,29.47,0]
["SF-00944","Base registro de pressão 3/4\"","un",0,{"$f":"OFFSET(INDEX(Composições!A:J,MATCH(Orçamentária!A950,Composições!A:A,0),8),2,0)","v":7.7335225000000003},0,null,7.73,0]
["SF-00945","Porta para box de banheiro em laminado estrutural","un",0,"","",null,"",""]
["SF-00946","Tampa em ferro fundido T33","un",0,{"$f":"OFFSET(INDEX(Composições!A:J,MATCH(Orçamentária!A952,Composições!A:A,0),8),2,0)","v":220.08698740264902},0,null,220.09,0]
["SF-00947","Arquiteto(a) com experiência em intervenção no patrimônio cultural","hh ",0,{"$f":"OFFSET(INDEX(Composições!A:J,MATCH(Orçamentária!A953,Composições!A:A,0),8),2,0)","v":86.383499999999998},0,null,86.38,0]
["SF-00948","Locação de andaime suspenso tipo leve","un x mês ",0,{"$f":"OFFSET(INDEX(Composições!A:J,MATCH(Orçamentária!A954,Composições!A:A,0),8),2,0)","v":570},0,null,570,0]
["SF-00949","Cadeira suspensa (balancim individual)","un x mês ",0,"","",null,"",""]
["SF-00950","Limpeza de superfície por hidrojateamento de média pressão","m2",0,{"$f":"OFFSET(INDEX(Composições!A:J,MATCH(Orçamentária!A956,Composições!A:A,0),8),2,0)","v":1.4406085},0,null,1.44,0]
["SF-00951","Inspeção da integridade e adesão de placas de rocha ornamental por percussão","m2",0,{"$f":"OFFSET(INDEX(Composições!A:J,MATCH(Orçamentária!A957,Composições!A:A,0),8),2,0)","v":4.5196250000000004},0,null,4.5199999999999996,0]
["SF-00952","Demolição de proteção mecânica de impermeabilização","m2",0,{"$f":"OFFSET(INDEX(Composições!A:J,MATCH(Orçamentária!A958,Composições!A:A,0),8),2,0)","v":20.033124999999998},0,null,20.03,0]
["SF-00953","Impermeabilização com emulsão asfáltica","m2",0,{"$f":"OFFSET(INDEX(Composições!A:J,MATCH(Orçamentária!A959,Composições!A:A,0),8),2,0)","v":38.075705499999998},0,null,38.08,0]
["SF-00954","Camada de proteção mecânica simples de impermeabilização","m2",0,{"$f":"OFFSET(INDEX(Composições!A:J,MATCH(Orçamentária!A960,Composições!A:A,0),8),2,0)","v":38.846119880937501},0,null,38.85,0]
["SF-00955","Camada de proteção mecânica estruturada de impermeabilização","m2",0,{"$f":"OFFSET(INDEX(Composições!A:J,MATCH(Orçamentária!A961,Composições!A:A,0),8),2,0)","v":47.003123880937501},0,null,47,0]
["SF-00956","Remoção de placas  de mármore encaixadas por fixadores metálicos (modelo Ed. Principal)","m2",0,{"$f":"OFFSET(INDEX(Composições!A:J,MATCH(Orçamentária!A962,Composições!A:A,0),8),2,0)","v":13.641999999999999},0,null,13.64,0]
["SF-00957","Remoção de placas de rocha ornamental argamassada, para reaproveitamento","m2",0,{"$f":"OFFSET(INDEX(Composições!A:J,MATCH(Orçamentária!A963,Composições!A:A,0),8),2,0)","v":40.926000000000002},0,null,40.93,0]
["SF-00958","Identificação e acondicionamento de placas de rocha ornamental","m2",0,{"$f":"OFFSET(INDEX(Composições!A:J,MATCH(Orçamentária!A964,Composições!A:A,0),8),2,0)","v":6.9758499999999994},0,null,6.98,0]
["SF-00959","Limpeza de placas de rocha ornamental argamassada, para reaproveitamento","m2",0,{"$f":"OFFSET(INDEX(Composições!A:J,MATCH(Orçamentária!A965,Composições!A:A,0),8),2,0)","v":4.8079499999999991},0,null,4.8099999999999996,0]
["SF-00960","Remoção e acondicionamento de fixadores metálicos para placas de mármore em fachada (modelo Ed. Principal)","un",0,{"$f":"OFFSET(INDEX(Composições!A:J,MATCH(Orçamentária!A966,Composições!A:A,0),8),2,0)","v":1.6026499999999999},0,null,1.6,0]
["SF-00961","Instalação de fixadores metálicos para placas de mármore em fachada reaproveitados (modelo Ed. Principal)","un",0,{"$f":"OFFSET(INDEX(Composições!A:J,MATCH(Orçamentária!A967,Composições!A:A,0),8),2,0)","v":7.7098681490969998},0,null,7.71,0]
["SF-00962","Fixadores metálicos para rochas ornamentais (tipo Ed. Principal, peça superior)","un",0,{"$f":"OFFSET(INDEX(Composições!A:J,MATCH(Orçamentária!A968,Composições!A:A,0),8),2,0)","v":7.7098681490969998},{"$f":"IF(ISNUMBER(E968),ROUND(D968*E968,2),\"\")","v":0},null,{"$f":"IF(ISNUMBER(E968),ROUND(E968*(1+G968),2),\"\")","v":7.71},{"$f":"IF(ISNUMBER(E968),ROUND(H968*D968,2),\"\")","v":0}]
["SF-00963","Fixadores metálicos para rochas ornamentais, sob medida","un",0,"","",null,"",""]
["SF-00964","Mármore Branco Especial 20mm argamassado (Ed. Principal e Anexo 1)","m2",0,{"$f":"OFFSET(INDEX(Composições!A:J,MATCH(Orçamentária!A970,Composições!A:A,0),8),2,0)","v":40.383075000000005},0,null,40.380000000000003,0]
["SF-00965","Mármore Branco Especial 20mm com inserts e argamassa (Ed. Principal e Anexo 1)","m2",0,{"$f":"OFFSET(INDEX(Composições!A:J,MATCH(Orçamentária!A971,Composições!A:A,0),8),2,0)","v":57.259742037274258},0,null,57.26,0]
["SF-00966","Mármore Branco Especial 30mm argamassado (Ed. Principal e Anexo 1)","m2",0,{"$f":"OFFSET(INDEX(Composições!A:J,MATCH(Orçamentária!A972,Composições!A:A,0),8),2,0)","v":40.383075000000005},0,null,40.380000000000003,0]
["SF-00967","Mármore Branco Especial 30mm com inserts e argamassa (Ed. Principal e Anexo 1)","m2",0,{"$f":"OFFSET(INDEX(Composições!A:J,MATCH(Orçamentária!A973,Composições!A:A,0),8),2,0)","v":57.259742037274258},0,null,57.26,0]
["SF-00968","Mármore branco especial, e=30mm, instalação em fixadores metálicos existentes (modelo Edifício Principal)","m2",0,{"$f":"OFFSET(INDEX(Composições!A:J,MATCH(Orçamentária!A974,Composições!A:A,0),8),2,0)","v":6.1625670372742505},0,null,6.16,0]
["SF-00969","Instalação de placas de mármore 30mm reaproveitadas em fixadores metálicos existentes (modelo Edifício Principal)","m2",0,"","",null,"",""]
["SF-00970","Instalação de placas de rocha ornamental reaproveitadas, por meio de argamassa","m2",0,{"$f":"OFFSET(INDEX(Composições!A:J,MATCH(Orçamentária!A976,Composições!A:A,0),8),2,0)","v":40.383075000000005},0,null,40.380000000000003,0]
["SF-00971","Instalação de placas de rocha ornamental reaproveitadas, por meio de argamassa e fixadores metálicos","m2",0,{"$f":"OFFSET(INDEX(Composições!A:J,MATCH(Orçamentária!A977,Composições!A:A,0),8),2,0)","v":57.259742037274258},0,null,57.26,0]
["SF-00972","Aplicação de hidrofugante à base de silano e silicone","m2",0,{"$f":"OFFSET(INDEX(Composições!A:J,MATCH(Orçamentária!A978,Composições!A:A,0),8),2,0)","v":10.931650000000001},0,null,10.93,0]
["SF-00973","Cantoneira em alumínio abas iguais 1\" x 1/8\" – Pingadeira “L”","m",0,{"$f":"OFFSET(INDEX(Composições!A:J,MATCH(Orçamentária!A979,Composições!A:A,0),8),2,0)","v":17.2577},0,null,17.260000000000002,0]
["SF-00974","Granito Amarelo Maracujá para rodapé","m2",0,{"$f":"OFFSET(INDEX(Composições!A:J,MATCH(Orçamentária!A980,Composições!A:A,0),8),2,0)","v":91.769221000000002},0,null,91.77,0]
["SF-00975","Acabamento das extremidades aparentes dos parafusos de fixação (lixamento e revestimento)","un",0,{"$f":"OFFSET(INDEX(Composições!A:J,MATCH(Orçamentária!A981,Composições!A:A,0),8),2,0)","v":0.92102499999999998},0,null,0.92,0]
["SF-00976","Rejuntamento de placas de rocha ornamental em fachada","m2",0,{"$f":"OFFSET(INDEX(Composições!A:J,MATCH(Orçamentária!A982,Composições!A:A,0),8),2,0)","v":5.2730509999999997},0,null,5.27,0]
["SF-00977","Junta de movimentação em fachada","m",0,{"$f":"OFFSET(INDEX(Composições!A:J,MATCH(Orçamentária!A983,Composições!A:A,0),8),2,0)","v":20.583678500000001},0,null,20.58,0]
["SF-00978","Adesivo Selante Poliuretano – fornecimento e aplicação","m",0,{"$f":"OFFSET(INDEX(Composições!A:J,MATCH(Orçamentária!A984,Composições!A:A,0),8),2,0)","v":13.321033},0,null,13.32,0]
["SF-00979","Esquadria para fachada do Bloco 14","un",0,"","",null,"",""]
["SF-00980","Chuveiro elétrico","un",0,{"$f":"OFFSET(INDEX(Composições!A:J,MATCH(Orçamentária!A986,Composições!A:A,0),8),2,0)","v":63.624767999999989},0,null,63.62,0]
["SF-00981","Base para pavimentação com concreto magro","m3 ",0,{"$f":"OFFSET(INDEX(Composições!A:J,MATCH(Orçamentária!A987,Composições!A:A,0),8),2,0)","v":465.62068575989997},0,null,465.62,0]
["SF-00982","Pavimentação em concreto armado simples","m2",0,{"$f":"OFFSET(INDEX(Composições!A:J,MATCH(Orçamentária!A988,Composições!A:A,0),8),2,0)","v":72.182721400000005},0,null,72.180000000000007,0]
["SF-00983","Remoção de reservatório d’água","un",0,{"$f":"OFFSET(INDEX(Composições!A:J,MATCH(Orçamentária!A989,Composições!A:A,0),8),2,0)","v":149.33999999999997},0,null,149.34,0]
["SF-00984","Transporte e destinação final de entulho para distâncias até 30 km","m3 x km",0,{"$f":"OFFSET(INDEX(Composições!A:J,MATCH(Orçamentária!A990,Composições!A:A,0),8),2,0)","v":1.5377013499999996},0,null,1.54,0]
["SF-00985","Locação de Caminhão Munck","dia",0,"","",null,"",""]
["SF-00986","Demolição de estrutura metálica","kg ",0,{"$f":"OFFSET(INDEX(Composições!A:J,MATCH(Orçamentária!A992,Composições!A:A,0),8),2,0)","v":2.8578659999999996},0,null,2.86,0]
["SF-00987","Escavação manual com profundidade maior do que 1,30 m","m3 ",0,{"$f":"OFFSET(INDEX(Composições!A:J,MATCH(Orçamentária!A993,Composições!A:A,0),8),2,0)","v":68.913949999999986},0,null,68.91,0]
["SF-00988","Escavação mecânica com profundidade maior do que 1,30 m","m3 ",0,{"$f":"OFFSET(INDEX(Composições!A:J,MATCH(Orçamentária!A994,Composições!A:A,0),8),2,0)","v":4.3766452499999993},0,null,4.38,0]
["SF-00989","Grama Batatais em placas de 40 x 40 cm","m2",0,{"$f":"OFFSET(INDEX(Composições!A:J,MATCH(Orçamentária!A995,Composições!A:A,0),8),2,0)","v":37.895996431163994},0,null,37.9,0]
["SF-00990","Pintura de meios-fios com tinta acrílica","m",0,{"$f":"OFFSET(INDEX(Composições!A:J,MATCH(Orçamentária!A996,Composições!A:A,0),8),2,0)","v":4.4809129749999999},0,null,4.4800000000000004,0]
["SF-00991","Meios-fios em concreto pré-moldado","m",0,{"$f":"OFFSET(INDEX(Composições!A:J,MATCH(Orçamentária!A997,Composições!A:A,0),8),2,0)","v":37.572400574349011},0,null,37.57,0]
["SF-00992","Tubo PEAD corrugado para drenagem – Diâmetro 100 mm","m",0,{"$f":"OFFSET(INDEX(Composições!A:J,MATCH(Orçamentária!A998,Composições!A:A,0),8),2,0)","v":27.500019113284996},0,null,27.5,0]
["SF-00993","Carpete aveludado azul royal","m2",0,"","",null,"",""]
["SF-00994","Fixadores metálicos para rochas ornamentais (Modelo Edifício Principal, peça inferior)","un",0,{"$f":"OFFSET(INDEX(Composições!A:J,MATCH(Orçamentária!A1000,Composições!A:A,0),8),2,0)","v":7.7098681490969998},0,null,7.71,0]
["SF-00995","Montagem e desmontagem de andaime suspenso tipo leve (balancim)","un",0,"","",null,"",""]
["SF-00996","Deslocamento de andaime suspenso tipo leve (balancim)","un",0,"","",null,"",""]
["SF-00997","Plataforma elevatória vertical para acessibilidade - Bloco 15 (Espaço do Servidor)","un",0,"","",null,"",""]
["SF-00998","Linha de vida horizontal em trilho","pavimento ",0,"","",null,"",""]
["SF-00999","Trava quedas retrátil","un",0,"","",null,"",""]
["SF-01000","Corda de poliéster 8mm","m",0,"","",null,"",""]
["SF-01001","Locação de Container - Escritório","mês ",0,{"$f":"OFFSET(INDEX(Composições!A:J,MATCH(Orçamentária!A1007,Composições!A:A,0),8),2,0)","v":495.9},0,null,495.9,0]
["SF-01002","Dobradiça Piano","m",0,"","",null,"",""]
["SF-01003","Compensado Laminado de Imbuia em duas faces - 04 mm","m2",0,"","",null,"",""]
["SF-01004","Compensado Laminado de Imbuia em duas faces - 10 mm","m2",0,"","",null,"",""]
["SF-01005","Compensado Laminado de Freijó em duas faces - 04 mm","m2",0,"","",null,"",""]
["SF-01006","Compensado Laminado de Freijó em duas faces - 10 mm","m2",0,"","",null,"",""]
["SF-01007","Painel de MDF Laminado – Ovo - 25mm","m2",0,"","",null,"",""]
["SF-01008","Rodízio Giratório sem Freio - 2 Polegadas","un",0,"","",null,"",""]
["SF-01009","Estrutura metálica em aço – Bloco 19 (Centro de Treinamento)","kg ",0,"","",null,"",""]
["SF-01010","Mão francesa metálica","un",0,"","",null,"",""]
["SF-01011","Abertura/fechamento de rasgo em concreto","m",0,{"$f":"OFFSET(INDEX(Composições!A:J,MATCH(Orçamentária!A1017,Composições!A:A,0),8),2,0)","v":35.321392693595996},0,null,35.32,0]
["SF-01012","Recomposição de rejuntamento sobre revestimentos","m2",0,{"$f":"OFFSET(INDEX(Composições!A:J,MATCH(Orçamentária!A1018,Composições!A:A,0),8),2,0)","v":8.6332959999999996},0,null,8.6300000000000008,0]
["SF-01013","Impermeabilização de revestimentos em pedra","m2",0,{"$f":"OFFSET(INDEX(Composições!A:J,MATCH(Orçamentária!A1019,Composições!A:A,0),8),2,0)","v":17.838149999999999},0,null,17.84,0]
["SF-01014","Piso vinílico semiflexível","m2",0,{"$f":"OFFSET(INDEX(Composições!A:J,MATCH(Orçamentária!A1020,Composições!A:A,0),8),2,0)","v":101.85296749999999},0,null,101.85,0]
["SF-01015","Porta metálica de giro com dimensões 0,92 x 2,20m","un",0,"","",null,"",""]
["SF-01016","Porta metálica de giro com dimensões 0,92 x 2,35 m","un",0,"","",null,"",""]
["SF-01017","Esquadria metálica de 4 folhas fixas com dimensões de 5,30x1,00m – Bloco 19 (Centro de Treinamento)","un",0,"","",null,"",""]
["SF-01018","Esquadria metálica de 3 folhas, sendo 2 folhas fixas e 1 de correr com dimensões de 4,10x1,15m – Bloco 19 (Centro de Treinamento)","un",0,"","",null,"",""]
["SF-01019","Esquadria metálica de 4 folhas, sendo 2 folhas fixas e 2 folhas de correr, com dimensões total de 5,15x1,00m  – Bloco 19 (Centro de Treinamento)","un",0,"","",null,"",""]
["SF-01020","Esquadria metálica de 4 folhas, sendo 2 fixas e 2 de correr dimensões de 5,30x1,15m – Bloco 19 (Centro de Treinamento)","un",0,"","",null,"",""]
["SF-01021","Esquadria metálica de 2 folhas basculante com dimensões de 2,31x0,45m – Bloco 19 (Centro de Treinamento)","un",0,"","",null,"",""]
["SF-01022","Perfil Veneziana Enrijecido 70x19mm","m",0,"","",null,"",""]
["SF-01023","Perfil U Enrijecido 150mm x 40mm x 15mm","m",0,"","",null,"",""]
["SF-01024","Perfil Trilho Peitoril - 150mm","m",0,"","",null,"",""]
["SF-01025","Perfil Marco Reto - 150 x 32 mm","m",0,"","",null,"",""]
["SF-01026","Perfil Cadeirinha Fechada – 60 x 30 mm","m",0,"",{"$f":"IF(ISNUMBER(E1032),ROUND(D1032*E1032,2),\"\")","v":""},null,{"$f":"IF(ISNUMBER(E1032),ROUND(E1032*(1+G1032),2),\"\")","v":""},{"$f":"IF(ISNUMBER(E1032),ROUND(H1032*D1032,2),\"\")","v":""}]
["SF-01027","Perfil Cadeirinha Fechada – 50 x 35 mm","m",0,"","",null,"",""]
["SF-01028","Perfil Cadeirinha Fechada – 30 x 25 mm","m",0,"","",null,"",""]
["SF-01029","Locação de Container - Sanitário","mês ",0,{"$f":"OFFSET(INDEX(Composições!A:J,MATCH(Orçamentária!A1035,Composições!A:A,0),8),2,0)","v":619.875},0,null,619.88,0]
["SF-01030","Locação de Container - Almoxarifado","mês ",0,{"$f":"OFFSET(INDEX(Composições!A:J,MATCH(Orçamentária!A1036,Composições!A:A,0),8),2,0)","v":387.41949999999997},0,null,387.42,0]
["SF-01031","Placa de Obra","m2",0,{"$f":"OFFSET(INDEX(Composições!A:J,MATCH(Orçamentária!A1037,Composições!A:A,0),8),2,0)","v":285},0,null,285,0]
["SF-01032","Supervisor(a) de Obras e Manutenção – Apoio a Projetos de Obras – Arquitetura, civil e hidrossanitária","Profissional",0,"","",null,"",""]
["SF-01033","Supervisor de Obras e Manutenção - Apoio a Projetos e Obras - Eletromecânico","Profissional",0,"","",null,"",""]
["SF-01034","Supervisor de Obras e Manutenção – Apoio a projetos e obras - Orçamentos","Profissional",0,"","",null,"",""]
["SF-01035","Supervisor de Obras e Manutenção – Apoio de campo – Sistemas de climatização","Profissional",0,"","",null,"",""]
["SF-01036","Supervisor de Obras e Manutenção – Apoio de campo - Elevadores","Profissional",0,"","",null,"",""]
["SF-01037","Supervisor de Obras e Manutenção – Apoio de campo - Eletrotécnico","Profissional",0,"","",null,"",""]
["SF-01038","Supervisor de Obras e Manutenção – Apoio de Campo - Obras Civis","Profissional",0,"","",null,"",""]
["SF-01039","Supervisor de Obras e Manutenção – Apoio de Campo - Hidrossanitário","Profissional",0,"","",null,"",""]
["SF-01040","Supervisor de Obras e Manutenção – Apoio de campo – Planejamento","Profissional",0,"","",null,"",""]
["SF-01041","Supervisor de Obras e Manutenção – Apoio de campo – Segurança do Trabalho","Profissional",0,{"$f":"OFFSET(INDEX(Composições!A:J,MATCH(Orçamentária!A1047,Composições!A:A,0),8),2,0)","v":3800.6655624},0,null,3800.67,0]
["SF-01042","Máquina fotográfica digital","pç",0,"","",null,"",""]
["SF-01043","Trena de 100m","pç",0,"","",null,"",""]
["SF-01044","Paquímetro digital","pç",0,"","",null,"",""]
["SF-01045","Nível laser","pç",0,"","",null,"",""]
["SF-01046","Trena Laser (curto alcance)","un",0,"","",null,"",""]
["SF-01047","Trena Laser (longo alcance)","cj",0,"","",null,"",""]
["SF-01048","Tripé para trena laser","cj",0,"","",null,"",""]
["SF-01049","Suporte universal para trena laser","pç",0,"","",null,"",""]
["SF-01050","Detector Multigás","pç",0,"","",null,"",""]
["SF-01051","Prancheta portátil A3","pç",0,"","",null,"",""]
["SF-01052","Luva isolante","par",0,"","",null,"",""]
["SF-01053","Reparo de placas de mármore com adesivo estrutural epóxi branco/transparente ","m2",0,{"$f":"OFFSET(INDEX(Composições!A:J,MATCH(Orçamentária!A1059,Composições!A:A,0),8),2,0)","v":0.18078500000000003},0,null,0.18,0]
["SF-01054","Perfil de chapa de aço galvanizado para esquadria (Anexo 1)","m2",0,{"$f":"OFFSET(INDEX(Composições!A:J,MATCH(Orçamentária!A1060,Composições!A:A,0),8),2,0)","v":28.778223595034898},0,null,28.78,0]
["SF-01055","Modelagem, análise estrutural da edificação em programa computacional de análise estrutural e laudo com parecer técnico - Bloco 15 (Espaço do Servidor)","un",0,"","",null,"",""]
["SF-01056","Projeto de adaptação/modificação/reforço da estrutura e suas fundações para os novos usos - Bloco 15 (Espaço do Servidor)","un",0,"","",null,"",""]
["SF-01057","Estrutura metálica em aço para o Bloco 15 (Espaço do Servidor)","kg",0,"","",null,"",""]
["SF-01058","Projeto de distribuição de gás GLP","un",0,"","",null,"",""]
["SF-01059","Granito Vermelho Brasília 20 mm para bancadas","m2",0,{"$f":"OFFSET(INDEX(Composições!A:J,MATCH(Orçamentária!A1065,Composições!A:A,0),8),2,0)","v":96.470212399999994},0,null,96.47,0]
["SF-01060","Porta em alumínio tipo veneziana","m2",0,{"$f":"OFFSET(INDEX(Composições!A:J,MATCH(Orçamentária!A1066,Composições!A:A,0),8),2,0)","v":382.80677404999994},0,null,382.81,0]
["SF-01061","Janela em alumínio, duas seções, 120x60cm","m2",0,{"$f":"OFFSET(INDEX(Composições!A:J,MATCH(Orçamentária!A1067,Composições!A:A,0),8),2,0)","v":363.17654120000003},0,null,363.18,0]
["SF-01062","Porta metálica de enrolar","m2",0,{"$f":"OFFSET(INDEX(Composições!A:J,MATCH(Orçamentária!A1068,Composições!A:A,0),8),2,0)","v":240.43980906604997},0,null,240.44,0]
["SF-01063","Medidor de Gás","un",0,{"$f":"OFFSET(INDEX(Composições!A:J,MATCH(Orçamentária!A1069,Composições!A:A,0),8),2,0)","v":521.48349904999986},0,null,521.48,0]
["SF-01064","Registro Esfera para Gás 3/4”","un",0,{"$f":"OFFSET(INDEX(Composições!A:J,MATCH(Orçamentária!A1070,Composições!A:A,0),8),2,0)","v":7.7335225000000003},0,null,7.73,0]
["SF-01065","Placa de Concreto Pré-Moldado 15 Mpa","m3",0,{"$f":"OFFSET(INDEX(Composições!A:J,MATCH(Orçamentária!A1071,Composições!A:A,0),8),2,0)","v":2560.0906671699249},0,null,2560.09,0]
["SF-01066","Eletroduto PEAD 3”","m",0,{"$f":"OFFSET(INDEX(Composições!A:J,MATCH(Orçamentária!A1072,Composições!A:A,0),8),2,0)","v":15.285461999999999},0,null,15.29,0]
["SF-01067","Caixa de Proteção para Alimentação de Gás","un",0,"","",null,"",""]
["SF-01068","Eletroduto de aço galvanizado de 3”","m",0,{"$f":"OFFSET(INDEX(Composições!A:J,MATCH(Orçamentária!A1074,Composições!A:A,0),8),2,0)","v":38.959499999999998},0,null,38.96,0]
["SF-01069","Grelha reta para ralo","m",0,{"$f":"OFFSET(INDEX(Composições!A:J,MATCH(Orçamentária!A1075,Composições!A:A,0),8),2,0)","v":25.288145},0,null,25.29,0]
["SF-01070","Granito Vermelho Brasília para soleira e peitoril","m2",0,{"$f":"OFFSET(INDEX(Composições!A:J,MATCH(Orçamentária!A1076,Composições!A:A,0),8),2,0)","v":105.87949595000001},0,null,105.88,0]
["SF-01071","Luminária LED redonda de embutir","un",0,{"$f":"OFFSET(INDEX(Composições!A:J,MATCH(Orçamentária!A1077,Composições!A:A,0),8),2,0)","v":45.519913150000001},0,null,45.52,0]
["SF-01072","Piso tátil de borracha","m2",0,{"$f":"OFFSET(INDEX(Composições!A:J,MATCH(Orçamentária!A1078,Composições!A:A,0),8),2,0)","v":22.223406999999998},0,null,22.22,0]
["SF-01073","Granito Vermelho Brasília 20 mm para divisória","m2",0,{"$f":"OFFSET(INDEX(Composições!A:J,MATCH(Orçamentária!A1079,Composições!A:A,0),8),2,0)","v":127.00293051684075},0,null,127,0]
["SF-01074","Tampa em ferro fundido 20x20 cm","un",0,{"$f":"OFFSET(INDEX(Composições!A:J,MATCH(Orçamentária!A1080,Composições!A:A,0),8),2,0)","v":128.15548740264899},0,null,128.16,0]
["SF-01075","Sondagem","un",0,"","",null,"",""]
["SF-01076","Cerâmica para revestimento de superfícies internas ou externas – Linha GAIL","m2",0,{"$f":"OFFSET(INDEX(Composições!A:J,MATCH(Orçamentária!A1082,Composições!A:A,0),8),2,0)","v":25.251949999999997},0,null,25.25,0]
["SF-01077","Aterro de vala com areia média e compactação mecanizada","m3",0,{"$f":"OFFSET(INDEX(Composições!A:J,MATCH(Orçamentária!A1083,Composições!A:A,0),8),2,0)","v":178.2290713125},0,null,178.23,0]
["SF-01078","Guarda-corpo panorâmico","m",0,{"$f":"OFFSET(INDEX(Composições!A:J,MATCH(Orçamentária!A1084,Composições!A:A,0),8),2,0)","v":766.24578450000001},0,null,766.25,0]
["SF-01079","Divisória Naval com painel liso cego e bandeira","m2",0,"","",null,"",""]
["SF-01080","Perfil “U” em aço 25 x 25mm","m",0,{"$f":"OFFSET(INDEX(Composições!A:J,MATCH(Orçamentária!A1086,Composições!A:A,0),8),2,0)","v":2.0177999999999998},0,null,2.02,0]
["SF-01081","Tubo retangular em aço 100 x 50mm","m",0,"","",null,"",""]
["SF-01082","Alimentação para mão-de-obra indireta","h",0,{"$f":"OFFSET(INDEX(Composições!A:J,MATCH(Orçamentária!A1088,Composições!A:A,0),8),2,0)","v":2.4414999999999996},0,null,2.44,0]
["SF-01083","Transporte para mão-de-obra indireta","h",0,{"$f":"OFFSET(INDEX(Composições!A:J,MATCH(Orçamentária!A1089,Composições!A:A,0),8),2,0)","v":1.3566},0,null,1.36,0]
["SF-01084","Transporte de andaime","un",0,"","",null,"",""]
["SF-01085","Transporte de Container","un",0,"","",null,"",""]
["SF-01086","Coifa Convencional Tipo Caixa para Cozinha Industrial - Bloco 15 (Espaço do Servidor)","un",0,"","",null,"",""]
["SF-01087","Puxador com fecho embutido (punho) para janela metálica","par",0,"","",null,"",""]
["SF-01088","Cotovelo bolsa–bolsa 90° para solda em tubulação de cobre diâmetro de 1 3/8\"","un",0,{"$f":"OFFSET(INDEX(Composições!A:J,MATCH(Orçamentária!A1094,Composições!A:A,0),8),2,0)","v":33.334650700000005},0,null,33.33,0]
["SF-01089","Cotovelo bolsa–bolsa 90° para solda em tubulação de cobre diâmetro de 1 5/8\"","un",0,{"$f":"OFFSET(INDEX(Composições!A:J,MATCH(Orçamentária!A1095,Composições!A:A,0),8),2,0)","v":50.336725649999991},0,null,50.34,0]
["SF-01090","Cotovelo bolsa–bolsa 90° para solda em tubulação de cobre diâmetro de 7/8\"","un",0,{"$f":"OFFSET(INDEX(Composições!A:J,MATCH(Orçamentária!A1096,Composições!A:A,0),8),2,0)","v":12.602046399999999},{"$f":"IF(ISNUMBER(E1096),ROUND(D1096*E1096,2),\"\")","v":0},null,{"$f":"IF(ISNUMBER(E1096),ROUND(E1096*(1+G1096),2),\"\")","v":12.6},{"$f":"IF(ISNUMBER(E1096),ROUND(H1096*D1096,2),\"\")","v":0}]
["SF-01091","Painel metálico para retorno","un",0,"","",null,"",""]
["SF-01092","Luva bolsa–bolsa para solda em tubulação de cobre diâmetro de 1 3/8\"","un",0,{"$f":"OFFSET(INDEX(Composições!A:J,MATCH(Orçamentária!A1098,Composições!A:A,0),8),2,0)","v":21.720425700000003},0,null,21.72,0]
["SF-01093","Luva bolsa–bolsa para solda em tubulação de cobre diâmetro de 1 5/8\"","un",0,{"$f":"OFFSET(INDEX(Composições!A:J,MATCH(Orçamentária!A1099,Composições!A:A,0),8),2,0)","v":28.833665649999997},0,null,28.83,0]
["SF-01094","Luva bolsa–bolsa para solda em tubulação de cobre diâmetro de 7/8\"","un",0,{"$f":"OFFSET(INDEX(Composições!A:J,MATCH(Orçamentária!A1100,Composições!A:A,0),8),2,0)","v":7.3135863999999993},0,null,7.31,0]
["SF-01095","Ar condicionado unitário com compressor montado em condensadora remota, capacidade nominal 49 kW","un",0,"","",null,"",""]
["SF-01096","Ar condicionado unitário com compressor montado em condensadora remota, capacidade nominal 64 kW","un",0,"","",null,"",""]
["SF-01097","Tubo de cobre rígido 1 3/8\"","m",0,{"$f":"OFFSET(INDEX(Composições!A:J,MATCH(Orçamentária!A1103,Composições!A:A,0),8),2,0)","v":102.93048884999999},0,null,102.93,0]
["SF-01098","Tubo de cobre rígido 1 5/8\"","m",0,{"$f":"OFFSET(INDEX(Composições!A:J,MATCH(Orçamentária!A1104,Composições!A:A,0),8),2,0)","v":123.70958519999998},0,null,123.71,0]
["SF-01099","Porta metálica dupla de giro com dimensões 2,00 x 2,12 m","un",0,"","",null,"",""]
["SF-01100","Conjunto de porta metálica de giro com dimensões 0,80 x 2,10m e painel fixo","un",0,"","",null,"",""]
["SF-01101","Eletroduto flexível metálico com capa de PVC 1 1/2\"","m",0,{"$f":"OFFSET(INDEX(Composições!A:J,MATCH(Orçamentária!A1107,Composições!A:A,0),8),2,0)","v":29.054290800000004},0,null,29.05,0]
["SF-01102","Técnico(a) em Edificações - Planejamento de Manutenção","Profissional",0,{"$f":"OFFSET(INDEX(Composições!A:J,MATCH(Orçamentária!A1108,Composições!A:A,0),8),2,0)","v":1701.5926899999997},0,null,1701.59,0]
["SF-01103","Locação de Retroescavadeira com Pá Carregadeira sobre Rodas","dia",0,"","",null,"",""]
["SF-01104","Projeto de Impermeabilização","m2",0,{"$f":"OFFSET(INDEX(Composições!A:J,MATCH(Orçamentária!A1110,Composições!A:A,0),8),2,0)","v":9.4572500000000002},0,null,9.4600000000000009,0]
["SF-01105","Laminado decorativo de alta pressão (LDAP)","m2",0,{"$f":"OFFSET(INDEX(Composições!A:J,MATCH(Orçamentária!A1111,Composições!A:A,0),8),2,0)","v":33.510869999999997},0,null,33.51,0]
["SF-01106","Granito Preto Absoluto para revestimento de superfícies internas e externas - Linha Administrativa","m2",0,{"$f":"OFFSET(INDEX(Composições!A:J,MATCH(Orçamentária!A1112,Composições!A:A,0),8),2,0)","v":42.141638999999998},0,null,42.14,0]
["SF-01107","Granito Arabesco para revestimento de superfícies internas e externas - Linha Administrativa","m2",0,{"$f":"OFFSET(INDEX(Composições!A:J,MATCH(Orçamentária!A1113,Composições!A:A,0),8),2,0)","v":42.141638999999998},0,null,42.14,0]
["SF-01108","Porcelanato para revestimento de superfícies internas e externas - Linha Residencial","m2",250,{"$f":"OFFSET(INDEX(Composições!A:J,MATCH(Orçamentária!A1114,Composições!A:A,0),8),2,0)","v":78.029865000000001},19507.47,{"$f":"BDI!$B$17","v":0.191},92.93,23232.5]
["SF-01109","Granitina para revestimento de pisos","m2",0,{"$f":"OFFSET(INDEX(Composições!A:J,MATCH(Orçamentária!A1115,Composições!A:A,0),8),2,0)","v":33.529678943073705},0,null,33.53,0]
["SF-01110","Piso vinílico flexível em manta","m2",0,{"$f":"OFFSET(INDEX(Composições!A:J,MATCH(Orçamentária!A1116,Composições!A:A,0),8),2,0)","v":13.990649999999999},0,null,13.99,0]
["SF-01111","Tratamento de juntas de dilatação ou movimentação","m",0,{"$f":"OFFSET(INDEX(Composições!A:J,MATCH(Orçamentária!A1117,Composições!A:A,0),8),2,0)","v":47.012364999999996},0,null,47.01,0]
["SF-01112","Recuperação superficial de preparação para pintura epóxi de alto desempenho","m2",0,{"$f":"OFFSET(INDEX(Composições!A:J,MATCH(Orçamentária!A1118,Composições!A:A,0),8),2,0)","v":15.329674999999998},0,null,15.33,0]
["SF-01113","Lixamento, calafetação e aplicação de sinteco em piso de madeira - Linha Residencial","m2",500,{"$f":"OFFSET(INDEX(Composições!A:J,MATCH(Orçamentária!A1119,Composições!A:A,0),8),2,0)","v":42.75},21375,{"$f":"BDI!$B$17","v":0.191},50.92,25460]
["SF-01114","Piso em taco de madeira - Linha Residencial","m2",200,{"$f":"OFFSET(INDEX(Composições!A:J,MATCH(Orçamentária!A1120,Composições!A:A,0),8),2,0)","v":133.42109509999997},26684.22,{"$f":"BDI!$B$17","v":0.191},158.9,31780]
["SF-01115","Piso de borracha antiderrapante tipo moeda","m2",0,{"$f":"OFFSET(INDEX(Composições!A:J,MATCH(Orçamentária!A1121,Composições!A:A,0),8),2,0)","v":78.966551699999997},0,null,78.97,0]
["SF-01116","Piso sintético flutuante - Linha Residencial","m2",400,{"$f":"OFFSET(INDEX(Composições!A:J,MATCH(Orçamentária!A1122,Composições!A:A,0),8),2,0)","v":68.959203775000006},27583.68,{"$f":"BDI!$B$17","v":0.191},82.13,32852]
["SF-01117","Revestimento acústico perfilado - Linha Administrativa","m2",0,{"$f":"OFFSET(INDEX(Composições!A:J,MATCH(Orçamentária!A1123,Composições!A:A,0),8),2,0)","v":7.8289500000000007},0,null,7.83,0]
["SF-01118","Revestimento acústico plano - Linha Administrativa","m2",0,{"$f":"OFFSET(INDEX(Composições!A:J,MATCH(Orçamentária!A1124,Composições!A:A,0),8),2,0)","v":7.8289500000000007},0,null,7.83,0]
["SF-01119","Forro monolítico de gesso em placas","m2",0,{"$f":"OFFSET(INDEX(Composições!A:J,MATCH(Orçamentária!A1125,Composições!A:A,0),8),2,0)","v":38.995668400000007},0,null,39,0]
["SF-01120","Textura acrílica - Linha Administrativa","m2",0,{"$f":"OFFSET(INDEX(Composições!A:J,MATCH(Orçamentária!A1126,Composições!A:A,0),8),2,0)","v":12.348774499999999},0,null,12.35,0]
["SF-01121","Pintura com tinta látex acrílica Premium - cores especiais (sistema tintométrico)","m2",0,{"$f":"OFFSET(INDEX(Composições!A:J,MATCH(Orçamentária!A1127,Composições!A:A,0),8),2,0)","v":12.890084499999999},0,null,12.89,0]
["SF-01122","Pintura Eletrostática","m2",0,"","",null,"",""]
["SF-01123","Pintura com tinta acrílica (pisos)","m2",0,{"$f":"OFFSET(INDEX(Composições!A:J,MATCH(Orçamentária!A1129,Composições!A:A,0),8),2,0)","v":14.223019999999998},0,null,14.22,0]
["SF-01124","Pintura com tinta epóxi de alto desempenho (pisos)","m2",0,{"$f":"OFFSET(INDEX(Composições!A:J,MATCH(Orçamentária!A1130,Composições!A:A,0),8),2,0)","v":57.241672399999992},0,null,57.24,0]
["SF-01125","Verniz de poliuretano sobre pintura epóxi de alto desempenho","m2",0,{"$f":"OFFSET(INDEX(Composições!A:J,MATCH(Orçamentária!A1131,Composições!A:A,0),8),2,0)","v":18.675404},0,null,18.68,0]
["SF-01126","Tratamento antiderrapante em verniz de poliuretano sobre pintura epóxi","m2",0,{"$f":"OFFSET(INDEX(Composições!A:J,MATCH(Orçamentária!A1132,Composições!A:A,0),8),2,0)","v":1.1058285000000001},0,null,1.1100000000000001,0]
["SF-01127","Pintura para superfícies galvanizadas","m2",0,{"$f":"OFFSET(INDEX(Composições!A:J,MATCH(Orçamentária!A1133,Composições!A:A,0),8),2,0)","v":25.449731449999991},0,null,25.45,0]
["SF-01128","Selagem ou resselagem de juntas em pavimentação de concreto armado","m",0,{"$f":"OFFSET(INDEX(Composições!A:J,MATCH(Orçamentária!A1134,Composições!A:A,0),8),2,0)","v":6.9686793999999992},0,null,6.97,0]
["SF-01129","Pavimentação em elementos intertravados de concreto","m2",0,{"$f":"OFFSET(INDEX(Composições!A:J,MATCH(Orçamentária!A1135,Composições!A:A,0),8),2,0)","v":48.65071109534},0,null,48.65,0]
["SF-01130","Pavimentação com Asfalto Pré-Misturado a Frio (PMF)","m3",0,{"$f":"OFFSET(INDEX(Composições!A:J,MATCH(Orçamentária!A1136,Composições!A:A,0),8),2,0)","v":572.53117042400004},0,null,572.53,0]
["SF-01131","Pavimentação asfáltica com CBUQ para aplicação a frio (remendo)","m3",0,{"$f":"OFFSET(INDEX(Composições!A:J,MATCH(Orçamentária!A1137,Composições!A:A,0),8),2,0)","v":192.31799999999998},0,null,192.32,0]
["SF-01132","Pintura para sinalização e demarcação viária horizontal","m2",0,{"$f":"OFFSET(INDEX(Composições!A:J,MATCH(Orçamentária!A1138,Composições!A:A,0),8),2,0)","v":14.501878249999999},0,null,14.5,0]
["SF-01133","Telha metálica trapezoidal galvanizada - GR-40","m2",0,{"$f":"OFFSET(INDEX(Composições!A:J,MATCH(Orçamentária!A1139,Composições!A:A,0),8),2,0)","v":52.064037499999991},0,null,52.06,0]
["SF-01134","Cumeeira para telha metálica trapezoidal galvanizada - GR-40","m",0,{"$f":"OFFSET(INDEX(Composições!A:J,MATCH(Orçamentária!A1140,Composições!A:A,0),8),2,0)","v":7.3605334999999998},0,null,7.36,0]
["SF-01135","Telha metálica trapezoidal galvanizada - GR-25","m2",0,{"$f":"OFFSET(INDEX(Composições!A:J,MATCH(Orçamentária!A1141,Composições!A:A,0),8),2,0)","v":8.420657499999999},0,null,8.42,0]
["SF-01136","Cumeeira para telha metálica trapezoidal galvanizada - GR-25","m",0,{"$f":"OFFSET(INDEX(Composições!A:J,MATCH(Orçamentária!A1142,Composições!A:A,0),8),2,0)","v":7.3605334999999998},0,null,7.36,0]
["SF-01137","Telha de fibrocimento modulada - espessura 8mm","m2",0,{"$f":"OFFSET(INDEX(Composições!A:J,MATCH(Orçamentária!A1143,Composições!A:A,0),8),2,0)","v":16.527149999999999},0,null,16.53,0]
["SF-01138","Cumeeira articulada ABA SUPERIOR de fibrocimento para telha modulada - espessura 6 mm","m",0,{"$f":"OFFSET(INDEX(Composições!A:J,MATCH(Orçamentária!A1144,Composições!A:A,0),8),2,0)","v":2.3438399999999997},0,null,2.34,0]
["SF-01139","Cumeeira articulada ABA INFERIOR de fibrocimento para telha modulada - espessura 6 mm","m",0,{"$f":"OFFSET(INDEX(Composições!A:J,MATCH(Orçamentária!A1145,Composições!A:A,0),8),2,0)","v":2.3438399999999997},0,null,2.34,0]
["SF-01140","Telha de fibrocimento ondulada - espessura 6mm","m2",0,{"$f":"OFFSET(INDEX(Composições!A:J,MATCH(Orçamentária!A1146,Composições!A:A,0),8),2,0)","v":28.130829049999996},0,null,28.13,0]
["SF-01141","Cumeeira UNIVERSAL para telha de fibrocimento ondulada - espessura 6 mm","m",0,{"$f":"OFFSET(INDEX(Composições!A:J,MATCH(Orçamentária!A1147,Composições!A:A,0),8),2,0)","v":35.573566999999997},0,null,35.57,0]
["SF-01142","Cumeeira TIPO SHED para telha de fibrocimento ondulada - espessura 6 mm","m",0,{"$f":"OFFSET(INDEX(Composições!A:J,MATCH(Orçamentária!A1148,Composições!A:A,0),8),2,0)","v":34.084888500000005},0,null,34.08,0]
["SF-01143","Telha de fibrocimento - Canalete 49 Eternit","m2",0,{"$f":"OFFSET(INDEX(Composições!A:J,MATCH(Orçamentária!A1149,Composições!A:A,0),8),2,0)","v":5.8595999999999986},0,null,5.86,0]
["SF-01144","Passarela móvel para telhado (sem degraus)","un",0,"","",null,"",""]
["SF-01145","Passarela móvel para telhado (com degraus)","un",0,"","",null,"",""]
["SF-01146","Locação de guincho elétrico de coluna","conj x mês",0,"","",null,"",""]
["SF-01147","Escada tipo marinheiro COM proteção","m",0,{"$f":"OFFSET(INDEX(Composições!A:J,MATCH(Orçamentária!A1153,Composições!A:A,0),8),2,0)","v":227.20255536594826},0,null,227.2,0]
["SF-01148","Escada tipo marinheiro SEM proteção","m",0,{"$f":"OFFSET(INDEX(Composições!A:J,MATCH(Orçamentária!A1154,Composições!A:A,0),8),2,0)","v":67.464615365948248},0,null,67.459999999999994,0]
["SF-01149","Limpeza e Preparação do Substrato para Impermeabilização","m2",0,{"$f":"OFFSET(INDEX(Composições!A:J,MATCH(Orçamentária!A1155,Composições!A:A,0),8),2,0)","v":1.7629149999999998},0,null,1.76,0]
["SF-01150","Substituição de Coletores de Águas Pluviais","un",0,{"$f":"OFFSET(INDEX(Composições!A:J,MATCH(Orçamentária!A1156,Composições!A:A,0),8),2,0)","v":156.78893005},0,null,156.79,0]
["SF-01151","Tratamento de Tubulação Passante para Impermeabilização","un",0,{"$f":"OFFSET(INDEX(Composições!A:J,MATCH(Orçamentária!A1157,Composições!A:A,0),8),2,0)","v":33.991033250000001},0,null,33.99,0]
["SF-01152","Regularização de substrato para Impermeabilização - 3cm","m2",0,{"$f":"OFFSET(INDEX(Composições!A:J,MATCH(Orçamentária!A1158,Composições!A:A,0),8),2,0)","v":34.905768352675601},0,null,34.909999999999997,0]
["SF-01153","Regularização de substrato para Impermeabilização - 6cm","m2",0,{"$f":"OFFSET(INDEX(Composições!A:J,MATCH(Orçamentária!A1159,Composições!A:A,0),8),2,0)","v":41.762415356423602},0,null,41.76,0]
["SF-01154","Camada Separadora para Impermeabilização","m2",0,{"$f":"OFFSET(INDEX(Composições!A:J,MATCH(Orçamentária!A1160,Composições!A:A,0),8),2,0)","v":5.594265},{"$f":"IF(ISNUMBER(E1160),ROUND(D1160*E1160,2),\"\")","v":0},null,{"$f":"IF(ISNUMBER(E1160),ROUND(E1160*(1+G1160),2),\"\")","v":5.59},{"$f":"IF(ISNUMBER(E1160),ROUND(H1160*D1160,2),\"\")","v":0}]
["SF-01155","Camada de Proteção Térmica para Impermeabilização","m2",0,{"$f":"OFFSET(INDEX(Composições!A:J,MATCH(Orçamentária!A1161,Composições!A:A,0),8),2,0)","v":7.4845750000000004},0,null,7.48,0]
["SF-01156","Camada de Amortecimento para Impermeabilização","m2",0,{"$f":"OFFSET(INDEX(Composições!A:J,MATCH(Orçamentária!A1162,Composições!A:A,0),8),2,0)","v":22.412023594685994},0,null,22.41,0]
["SF-01157","Camada de Proteção Mecânica em Placas de Impermeabilização","m2",0,{"$f":"OFFSET(INDEX(Composições!A:J,MATCH(Orçamentária!A1163,Composições!A:A,0),8),2,0)","v":66.071719921750002},0,null,66.069999999999993,0]
["SF-01158","Pintura Inibidora de Raízes em Estrutura Impermeabilizada","m2",0,{"$f":"OFFSET(INDEX(Composições!A:J,MATCH(Orçamentária!A1164,Composições!A:A,0),8),2,0)","v":11.63655},0,null,11.64,0]
["SF-01159","Camada Drenante para Impermeabilização","m2",0,{"$f":"OFFSET(INDEX(Composições!A:J,MATCH(Orçamentária!A1165,Composições!A:A,0),8),2,0)","v":5.7545299999999999},0,null,5.75,0]
["SF-01160","Calha em Chapa de Aço Galvanizado nº 24","m2",0,{"$f":"OFFSET(INDEX(Composições!A:J,MATCH(Orçamentária!A1166,Composições!A:A,0),8),2,0)","v":99.721959799999993},0,null,99.72,0]
["SF-01161","Rufo em Chapa de Aço Galvanizado nº 24","m2",0,{"$f":"OFFSET(INDEX(Composições!A:J,MATCH(Orçamentária!A1167,Composições!A:A,0),8),2,0)","v":88.868404549999994},0,null,88.87,0]
["SF-01162","Resina de Poliuretano para Estrutura de Concreto","kg",0,"","",null,"",""]
["SF-01163","Chapim Pré-Moldado de Concreto Aparente","m",0,{"$f":"OFFSET(INDEX(Composições!A:J,MATCH(Orçamentária!A1169,Composições!A:A,0),8),2,0)","v":90.378020660499999},0,null,90.38,0]
["SF-01164","Armação em tela de aço soldado nervurada","m2",0,{"$f":"OFFSET(INDEX(Composições!A:J,MATCH(Orçamentária!A1170,Composições!A:A,0),8),2,0)","v":11.254903650000001},0,null,11.25,0]
["SF-01165","Trama de aço composta por terças para telhados de até 2 águas","m2",0,{"$f":"OFFSET(INDEX(Composições!A:J,MATCH(Orçamentária!A1171,Composições!A:A,0),8),2,0)","v":29.155726099999999},0,null,29.16,0]
["SF-01166","Revestimento impermeabilizante bloqueador de umidade","m2",0,{"$f":"OFFSET(INDEX(Composições!A:J,MATCH(Orçamentária!A1172,Composições!A:A,0),8),2,0)","v":6.3792500000000008},0,null,6.38,0]
["SF-01167","Pintura com tinta refletiva aluminizada para impermeabilização","m2",0,{"$f":"OFFSET(INDEX(Composições!A:J,MATCH(Orçamentária!A1173,Composições!A:A,0),8),2,0)","v":6.3792500000000008},0,null,6.38,0]
["SF-01168","Concreto leve com poliestireno expandido","m3",0,{"$f":"OFFSET(INDEX(Composições!A:J,MATCH(Orçamentária!A1174,Composições!A:A,0),8),2,0)","v":715.08403343429995},0,null,715.08,0]
["SF-01169","Colagem da camada de proteção térmica de impermeabilização","m2",0,{"$f":"OFFSET(INDEX(Composições!A:J,MATCH(Orçamentária!A1175,Composições!A:A,0),8),2,0)","v":6.9373275000000003},0,null,6.94,0]
["SF-01170","Impermeabilização com Membrana de Poliuretano","m2",0,{"$f":"OFFSET(INDEX(Composições!A:J,MATCH(Orçamentária!A1176,Composições!A:A,0),8),2,0)","v":96.869675999999998},0,null,96.87,0]
["SF-01171","Impermeabilização com Manta Asfáltica","m2",0,{"$f":"OFFSET(INDEX(Composições!A:J,MATCH(Orçamentária!A1177,Composições!A:A,0),8),2,0)","v":83.270606499999985},0,null,83.27,0]
["SF-01172","Impermeabilização com manta asfáltica aluminizada","m2",0,{"$f":"OFFSET(INDEX(Composições!A:J,MATCH(Orçamentária!A1178,Composições!A:A,0),8),2,0)","v":34.941731499999996},0,null,34.94,0]
["SF-01173","Impermeabilização com manta elastomérica de etileno-propileno-dieno-monômero (EPDM)","m2",0,{"$f":"OFFSET(INDEX(Composições!A:J,MATCH(Orçamentária!A1179,Composições!A:A,0),8),2,0)","v":20.391749999999998},0,null,20.39,0]
["SF-01174","Impermeabilização com membrana acrílica","m2",0,{"$f":"OFFSET(INDEX(Composições!A:J,MATCH(Orçamentária!A1180,Composições!A:A,0),8),2,0)","v":34.4596065},0,null,34.46,0]
["SF-01175","Asfalto elastomérico para colagem de manta asfáltica","m2",0,{"$f":"OFFSET(INDEX(Composições!A:J,MATCH(Orçamentária!A1181,Composições!A:A,0),8),2,0)","v":4.3433999999999999},0,null,4.34,0]
["SF-01176","Impermeabilização com manta dupla (com maçarico)","m2",0,{"$f":"OFFSET(INDEX(Composições!A:J,MATCH(Orçamentária!A1182,Composições!A:A,0),8),2,0)","v":134.88594949999998},0,null,134.88999999999999,0]
["SF-01177","Impermeabilização com manta dupla (com asfalto elastomérico)","m2",0,{"$f":"OFFSET(INDEX(Composições!A:J,MATCH(Orçamentária!A1183,Composições!A:A,0),8),2,0)","v":137.48425649999999},0,null,137.47999999999999,0]
["SF-01178","Fibra de Polipropileno","kg",0,"","",null,"",""]
["SF-01179","Aditivo Incorporador de Ar","kg",0,{"$f":"OFFSET(INDEX(Composições!A:J,MATCH(Orçamentária!A1185,Composições!A:A,0),8),2,0)","v":5.0949449999999992},0,null,5.09,0]
["SF-01180","Brita Nº 2","m3",0,{"$f":"OFFSET(INDEX(Composições!A:J,MATCH(Orçamentária!A1186,Composições!A:A,0),8),2,0)","v":111.49973584999999},0,null,111.5,0]
["SF-01181","Parafusos para fixação de telhas ou chapas","un",0,"","",null,"",""]
["SF-01182","Pino para fixação e acessórios de telha de fibrocimento modulada","un",0,"","",null,"",""]
["SF-01183","Rebite de Repuxo de 3.2 x 8 mm","un",0,"","",null,"",""]
["SF-01184","Calha em chapa de zinco # 24 - Modelo 1","m",0,"","",null,"",""]
["SF-01185","Calha em chapa de zinco # 24 - Modelo 2","m",0,"","",null,"",""]
["SF-01186","Chave de fenda de 3/8\" x 10\"","un",0,"","",null,"",""]
["SF-01187","Chave de fenda de 5/16\" x 8\"","un",0,"","",null,"",""]
["SF-01188","Chave de fenda de 1/8\" x 3\"","un",0,"","",null,"",""]
["SF-01189","Chave Philips PH2 3/16\" x 4\"","un",0,"","",null,"",""]
["SF-01190","Chave Philips PH2 3/16\" x 5\"","un",0,"","",null,"",""]
["SF-01191","Conjunto de cavadeiras (grande e pequena)","un",0,"","",null,"",""]
["SF-01192","Conjunto de chaves allen CURTAS","un",0,"","",null,"",""]
["SF-01193","Conjunto de chaves allen LONGAS","un",0,"","",null,"",""]
["SF-01194","Conjunto de chaves de boca de 6 a 36 mm","un",0,"","",null,"",""]
["SF-01195","Conjunto de chaves de boca de 1/4\" a 1 1/2\"","un",0,"","",null,"",""]
["SF-01196","Conjunto de escovas de aço (pequena, média e grande)","un",0,"","",null,"",""]
["SF-01197","Marreta de 2 kg","un",0,"","",null,"",""]
["SF-01198","Marreta de 5 kg","un",0,"","",null,"",""]
["SF-01199","Marreta de 10 kg","un",0,"","",null,"",""]
["SF-01200","Conjunto Pé de cabra 15\"\u009d x 16mm e 24\" \u009dx 19mm","un",0,"","",null,"",""]
["SF-01201","Conjunto de talhadeiras e ponteiro SIMPLES","un",0,"","",null,"",""]
["SF-01202","Serra copo diamantada (conjunto de 1/2\" a 1 1/2\")","un",0,"","",null,"",""]
["SF-01203","Cortadora de Piso a Gasolina","un",0,"","",null,"",""]
["SF-01204","Cortadora de Parede","un",0,"","",null,"",""]
["SF-01205","Enxada com cabo (2,5 libras)","pç",0,"","",null,"",""]
["SF-01206","Escada extensível de alumínio dupla 2x8","un",0,"","",null,"",""]
["SF-01207","Escada extensível de alumínio dupla 2x12","un",0,"","",null,"",""]
["SF-01208","Escada tipo tesoura duplo acesso de fibra com 12 degraus","un",0,"","",null,"",""]
["SF-01209","Exaustor para Trabalho em Espaço Confinado","un",0,"","",null,"",""]
["SF-01210","Furadeira/Parafusadeira elétrica","un",0,"","",null,"",""]
["SF-01211","Furadeira de impacto/parafusadeira à bateria","un",0,"","",null,"",""]
["SF-01212","Jogo de Bits pontas e soquetes para Furadeira/ Parafusadeira","cj",0,"","",null,"",""]
["SF-01213","Jogo de chaves Torx com 9 Peças","un",0,"","",null,"",""]
["SF-01214","Mangueira de nível de 20m","un",0,"","",null,"",""]
["SF-01215","Martelete demolidor 1kW (5 Kg)","un",0,"","",null,"",""]
["SF-01216","Pistola aplicadora de silicone e PU","un",0,"","",null,"",""]
["SF-01217","Serra mármore","un",0,"","",null,"",""]
["SF-01218","Serrote para gesso","cj",0,"",{"$f":"IF(ISNUMBER(E1224),ROUND(D1224*E1224,2),\"\")","v":""},null,{"$f":"IF(ISNUMBER(E1224),ROUND(E1224*(1+G1224),2),\"\")","v":""},{"$f":"IF(ISNUMBER(E1224),ROUND(H1224*D1224,2),\"\")","v":""}]
["SF-01219","Talha Manual para Elevação de Cargas (2 ton)","un",0,"","",null,"",""]
["SF-01220","Veículo do tipo utilitário para transporte de mercadorias","un",0,"","",null,"",""]
["SF-01221","Plataforma de trabalho aéreo - em ambiente interno","un",0,"","",null,"",""]
["SF-01222","Dispositivo Individual Móvel de Proteção Contra Queda","un",0,"","",null,"",""]
["SF-01223","Sondagem - Perfuração adicional de furo","m",0,"","",null,"",""]
["SF-01224","Lavadora de alta pressão","un",0,"","",null,"",""]
["SF-01225","Manta autocolante aluminizada","m2",0,"","",null,"",""]
["SF-01226","Primer para aplicação de manta autocolante aluminizada","Litro",0,"","",null,"",""]
["SF-01227","Estudo de Viabilidade Técnica, Laudo Técnico, Projeto Executivo, Projeto de Segurança do Trabalho, Planejamento da Obra e Plano de Manutenção – Modernização de Elevadores na SQS309","un",0,"","",null,"",""]
["SF-01228","Serviços Preliminares (instalação de canteiro, mobilização de equipamentos e mão de obra e substituição de infraestrutura elétrica nos Blocos C e G) – Modernização de Elevadores na SQS309","un",0,"","",null,"",""]
["SF-01229","Substituição de infraestrutura elétrica no Bloco D – Modernização de Elevadores na SQS309","un",0,"","",null,"",""]
["SF-01230","Modernização dos elevadores dos Blocos C, D e G da SQS 309","un",0,"","",null,"",""]
["SF-01231","Serviços de Assistência Técnica – Modernização de Elevadores na SQS309","un",0,"","",null,"",""]
["SF-01232","Carpete aveludado azul royal - fornecimento e instalação","m2",0,{"$f":"OFFSET(INDEX(Composições!A:J,MATCH(Orçamentária!A1238,Composições!A:A,0),8),2,0)","v":11.992800000000001},0,null,11.99,0]
["SF-01233","Demolição de revestimento de piso têxtil (carpete)","m2",0,{"$f":"OFFSET(INDEX(Composições!A:J,MATCH(Orçamentária!A1239,Composições!A:A,0),8),2,0)","v":1.81982},0,null,1.82,0]
["SF-01234","Tapume/cortina de proteção para solda com suporte","un",0,"","",null,"",""]
["SF-01235","Bancada em granito cinza andorinha polido - 2,40 m x 0,60 m","un",0,{"$f":"OFFSET(INDEX(Composições!A:J,MATCH(Orçamentária!A1241,Composições!A:A,0),8),2,0)","v":871.19762273999993},0,null,{"$f":"IF(ISNUMBER(E1241),ROUND(E1241*(1+G1241),2),\"\")","v":871.2},{"$f":"IF(ISNUMBER(E1241),ROUND(H1241*D1241,2),\"\")","v":0}]
["SF-01236","Bancada em granito cinza andorinha polido - 2,50 m x 0,60 m","un",0,{"$f":"OFFSET(INDEX(Composições!A:J,MATCH(Orçamentária!A1242,Composições!A:A,0),8),2,0)","v":903.85908741666651},0,null,903.86,0]
["SF-01237","Pedido de autorização ambiental para desativação do posto de combustíveis","un",0,"","",null,"",""]
["SF-01238","Relatório de Investigação de Passivo Ambiental - RIPA","un",0,"","",null,"",""]
["SF-01239","Remoção do Sistema de Abastecimento Subterrâneo de Combustíveis - SASC","un",0,"","",null,"",""]
["SF-01240","Batedor/limitador inferior para box de correr","un",0,{"$f":"OFFSET(INDEX(Composições!A:J,MATCH(Orçamentária!A1246,Composições!A:A,0),8),2,0)","v":3.0266999999999995},0,null,3.03,0]
["SF-01241","Batedor/amortecedor lateral para box de correr","un",0,{"$f":"OFFSET(INDEX(Composições!A:J,MATCH(Orçamentária!A1247,Composições!A:A,0),8),2,0)","v":3.0266999999999995},0,null,3.03,0]
["SF-01242","Batedor/limitador superior para box de correr","un",0,{"$f":"OFFSET(INDEX(Composições!A:J,MATCH(Orçamentária!A1248,Composições!A:A,0),8),2,0)","v":3.0266999999999995},0,null,3.03,0]
["SF-01243","Perfil cadeirinha em alumínio com encaixe para escova de vedação para vidro temperado 8mm","m",0,{"$f":"OFFSET(INDEX(Composições!A:J,MATCH(Orçamentária!A1249,Composições!A:A,0),8),2,0)","v":7.6661009999999994},0,null,7.67,0]
["SF-01244","Perfil em alumínio para acabamento de trilho superior - Vidro temperado 8mm","m",0,{"$f":"OFFSET(INDEX(Composições!A:J,MATCH(Orçamentária!A1250,Composições!A:A,0),8),2,0)","v":10.518637500000001},0,null,10.52,0]
["SF-01245","Capa do Perfil Guia Inferior “Click” - Vidro temperado 8mm","m",0,{"$f":"OFFSET(INDEX(Composições!A:J,MATCH(Orçamentária!A1251,Composições!A:A,0),8),2,0)","v":4.611442499999999},0,null,4.6100000000000003,0]
["SF-01246","Perfil guia inferior de alumínio para porta de giro em vidro temperado 8mm","m",0,{"$f":"OFFSET(INDEX(Composições!A:J,MATCH(Orçamentária!A1252,Composições!A:A,0),8),2,0)","v":12.046607999999999},0,null,12.05,0]
["SF-01247","Perfil guia inferior de alumínio para porta de correr em vidro temperado 8mm","m",0,{"$f":"OFFSET(INDEX(Composições!A:J,MATCH(Orçamentária!A1253,Composições!A:A,0),8),2,0)","v":13.5160965},0,null,13.52,0]
["SF-01248","Trilho superior em alumínio 53,8mm x 49,6mm, para vidro temperado","m",0,{"$f":"OFFSET(INDEX(Composições!A:J,MATCH(Orçamentária!A1254,Composições!A:A,0),8),2,0)","v":21.497436},0,null,21.5,0]
["SF-01249","Perfil em alumínio, tipo U - 10,5 x 20mm - para box de vidro temperado 8mm","m",0,{"$f":"OFFSET(INDEX(Composições!A:J,MATCH(Orçamentária!A1255,Composições!A:A,0),8),2,0)","v":7.0610174999999993},0,null,7.06,0]
["SF-01250","Perfil em alumínio , tipo U –  14 x 20mm - para box de vidro temperado 8mm","m",0,{"$f":"OFFSET(INDEX(Composições!A:J,MATCH(Orçamentária!A1256,Composições!A:A,0),8),2,0)","v":7.4644064999999991},0,null,7.46,0]
["SF-01251","Bacia convencional – Linha Residencial","un",20,{"$f":"OFFSET(INDEX(Composições!A:J,MATCH(Orçamentária!A1257,Composições!A:A,0),8),2,0)","v":505.12588769999991},10102.52,{"$f":"BDI!$B$17","v":0.191},601.6,12032]
["SF-01252","Bidê 3 furos - Linha Residencial","un",15,{"$f":"OFFSET(INDEX(Composições!A:J,MATCH(Orçamentária!A1258,Composições!A:A,0),8),2,0)","v":445.07938769999993},6676.19,{"$f":"BDI!$B$17","v":0.191},530.09,7951.35]
["SF-01253-","Divisória de Vidro temperado para box de CORRER e ferragens – Linha Residencial-","m2",0,{"$f":"OFFSET(INDEX(Composições!A:J,MATCH(Orçamentária!A1259,Composições!A:A,0),8),2,0)","v":{"$error":"#N/A"}},"",null,"",""]
["SF-01254-","Divisória de Vidro temperado para box com porta de GIRO e ferragens – Linha Residencial-","m2",0,{"$f":"OFFSET(INDEX(Composições!A:J,MATCH(Orçamentária!A1260,Composições!A:A,0),8),2,0)","v":{"$error":"#N/A"}},"",null,"",""]
["SF-01255","Chuveiro de metal com tubo de parede – Linha Residencial","un",30,{"$f":"OFFSET(INDEX(Composições!A:J,MATCH(Orçamentária!A1261,Composições!A:A,0),8),2,0)","v":267.24026800000001},8017.21,{"$f":"BDI!$B$17","v":0.191},318.27999999999997,9548.4]
["SF-01256","Misturador para bidê – Linha Residencial","un",15,{"$f":"OFFSET(INDEX(Composições!A:J,MATCH(Orçamentária!A1262,Composições!A:A,0),8),2,0)","v":615.66576205000001},9234.99,{"$f":"BDI!$B$17","v":0.191},733.26,10998.9]
["SF-01257","Misturador de mesa para cozinha bica móvel – Linha Residencial","un",15,{"$f":"OFFSET(INDEX(Composições!A:J,MATCH(Orçamentária!A1263,Composições!A:A,0),8),2,0)","v":481.29646320000001},7219.45,{"$f":"BDI!$B$17","v":0.191},573.22,8598.2999999999993]
["SF-01258","Misturador de mesa para lavatório bica alta – Linha Residencial","un",15,{"$f":"OFFSET(INDEX(Composições!A:J,MATCH(Orçamentária!A1264,Composições!A:A,0),8),2,0)","v":438.94576205000004},6584.19,{"$f":"BDI!$B$17","v":0.191},522.78,7841.7]
["SF-01259","Misturador de parede para cozinha bica móvel – Linha Residencial","un",15,{"$f":"OFFSET(INDEX(Composições!A:J,MATCH(Orçamentária!A1265,Composições!A:A,0),8),2,0)","v":572.00646319999998},8580.1,{"$f":"BDI!$B$17","v":0.191},681.26,10218.9]
["SF-01260","Dobradiça automática vidro/vidro para box de vidro temperado","un",0,{"$f":"OFFSET(INDEX(Composições!A:J,MATCH(Orçamentária!A1266,Composições!A:A,0),8),2,0)","v":6.053399999999999},0,null,6.05,0]
["SF-01261","Luminária tipo arandela – Linha Residencial","un",25,{"$f":"OFFSET(INDEX(Composições!A:J,MATCH(Orçamentária!A1267,Composições!A:A,0),8),2,0)","v":58.631767399999994},1465.79,{"$f":"BDI!$B$17","v":0.191},69.83,1745.75]
["SF-01262","Tê misturador de transição 1/2” ou 3/4” – Linha Residencial","un",20,{"$f":"OFFSET(INDEX(Composições!A:J,MATCH(Orçamentária!A1268,Composições!A:A,0),8),2,0)","v":27.544242999999998},550.88,{"$f":"BDI!$B$17","v":0.191},32.81,656.2]
["SF-01263","Base para válvula de descarga 1 1/2”","un",10,{"$f":"OFFSET(INDEX(Composições!A:J,MATCH(Orçamentária!A1269,Composições!A:A,0),8),2,0)","v":137.09855350000001},1370.99,{"$f":"BDI!$B$17","v":0.191},163.28,1632.8]
["SF-01264","Base para válvula de descarga 1 1/4”","un",10,{"$f":"OFFSET(INDEX(Composições!A:J,MATCH(Orçamentária!A1270,Composições!A:A,0),8),2,0)","v":131.73855349999999},1317.39,{"$f":"BDI!$B$17","v":0.191},156.9,1569]
["SF-01265","Anel de Vedação para bacia sanitária","un",10,{"$f":"OFFSET(INDEX(Composições!A:J,MATCH(Orçamentária!A1271,Composições!A:A,0),8),2,0)","v":3.9073500000000001},39.07,{"$f":"BDI!$B$17","v":0.191},4.6500000000000004,46.5]
["SF-01266","Folha de porta em madeira e MDF 2,10x0,60m","un",10,{"$f":"OFFSET(INDEX(Composições!A:J,MATCH(Orçamentária!A1272,Composições!A:A,0),8),2,0)","v":201.59316920000001},2015.93,{"$f":"BDI!$B$17","v":0.191},240.1,2401]
["SF-01267","Folha de porta em madeira e MDF 2,10x0,70m","un",20,{"$f":"OFFSET(INDEX(Composições!A:J,MATCH(Orçamentária!A1273,Composições!A:A,0),8),2,0)","v":217.8981484},4357.96,{"$f":"BDI!$B$17","v":0.191},259.52,5190.3999999999996]
["SF-01268","Folha de porta em madeira e MDF 2,10x0,80m","un",20,{"$f":"OFFSET(INDEX(Composições!A:J,MATCH(Orçamentária!A1274,Composições!A:A,0),8),2,0)","v":260.53712759999996},5210.74,{"$f":"BDI!$B$17","v":0.191},310.3,6206]
["SF-01269","Folha de porta em madeira e MDF 2,10x0,90m","un",10,{"$f":"OFFSET(INDEX(Composições!A:J,MATCH(Orçamentária!A1275,Composições!A:A,0),8),2,0)","v":243.77260679999998},2437.73,{"$f":"BDI!$B$17","v":0.191},290.33,2903.3]
["SF-01270","Remoção de boiler","un",15,{"$f":"OFFSET(INDEX(Composições!A:J,MATCH(Orçamentária!A1276,Composições!A:A,0),8),2,0)","v":68.861699999999985},1032.93,{"$f":"BDI!$B$17","v":0.191},82.01,1230.1500000000001]
["SF-01271","Remoção de tacos de madeira","m2",200,{"$f":"OFFSET(INDEX(Composições!A:J,MATCH(Orçamentária!A1277,Composições!A:A,0),8),2,0)","v":24.401699999999995},4880.34,{"$f":"BDI!$B$17","v":0.191},29.06,5812]
["SF-01272","Cerâmica 30x60cm - Glacier White - Portobello – Linha Residencial","m2",100,{"$f":"OFFSET(INDEX(Composições!A:J,MATCH(Orçamentária!A1278,Composições!A:A,0),8),2,0)","v":87.783950000000004},8778.4,{"$f":"BDI!$B$17","v":0.191},104.55,10455]
["SF-01273","Instalação de tacos de madeira reaproveitados","m2",150,{"$f":"OFFSET(INDEX(Composições!A:J,MATCH(Orçamentária!A1279,Composições!A:A,0),8),2,0)","v":27.765895099999998},4164.88,{"$f":"BDI!$B$17","v":0.191},33.07,4960.5]
["SF-01274-","Cortina de linho sintético / BLECAUTE COM VARÃO – Linha Residencial-","m",0,{"$f":"OFFSET(INDEX(Composições!A:J,MATCH(Orçamentária!A1280,Composições!A:A,0),8),2,0)","v":{"$error":"#N/A"}},"",null,"",""]
["SF-01275-","Cortina de linho sintético / BLECAUTE SEM VARÃO – Linha Residencial-","m",0,{"$f":"OFFSET(INDEX(Composições!A:J,MATCH(Orçamentária!A1281,Composições!A:A,0),8),2,0)","v":{"$error":"#N/A"}},"",null,"",""]
["SF-01276-","Cortina de linho sintético / FORRO COM VARÃO – Linha Residencial-","m",0,{"$f":"OFFSET(INDEX(Composições!A:J,MATCH(Orçamentária!A1282,Composições!A:A,0),8),2,0)","v":{"$error":"#N/A"}},"",null,"",""]
["SF-01277-","Cortina de linho sintético / FORRO SEM VARÃO – Linha Residencial-","m",0,{"$f":"OFFSET(INDEX(Composições!A:J,MATCH(Orçamentária!A1283,Composições!A:A,0),8),2,0)","v":{"$error":"#N/A"}},"",null,"",""]
["SF-01278","Instalação de cortinas reaproveitadas","m",50,{"$f":"OFFSET(INDEX(Composições!A:J,MATCH(Orçamentária!A1284,Composições!A:A,0),8),2,0)","v":9.5332499999999989},476.66,{"$f":"BDI!$B$17","v":0.191},11.35,567.5]
["SF-01279","Tubo CPVC soldável 22mm – Linha Residencial","m",40,{"$f":"OFFSET(INDEX(Composições!A:J,MATCH(Orçamentária!A1285,Composições!A:A,0),8),2,0)","v":23.070408},922.82,{"$f":"BDI!$B$17","v":0.191},27.48,1099.2]
["SF-01280","Tubo CPVC soldável 28mm – Linha Residencial","m",40,{"$f":"OFFSET(INDEX(Composições!A:J,MATCH(Orçamentária!A1286,Composições!A:A,0),8),2,0)","v":31.571426000000002},1262.8599999999999,{"$f":"BDI!$B$17","v":0.191},37.6,1504]
["SF-01281","Instalação de bidê reaproveitado","un",5,{"$f":"OFFSET(INDEX(Composições!A:J,MATCH(Orçamentária!A1287,Composições!A:A,0),8),2,0)","v":55.179387699999992},275.89999999999998,{"$f":"BDI!$B$17","v":0.191},65.72,328.6]
["SF-01282","Aquecedor elétrico para pia – Linha Residencial","un",20,{"$f":"OFFSET(INDEX(Composições!A:J,MATCH(Orçamentária!A1288,Composições!A:A,0),8),2,0)","v":833.02278550000005},{"$f":"IF(ISNUMBER(E1288),ROUND(D1288*E1288,2),\"\")","v":16660.46},{"$f":"BDI!$B$17","v":0.191},992.13,19842.599999999999]
["SF-01283","Chuveiro elétrico – Linha Residencial","un",40,{"$f":"OFFSET(INDEX(Composições!A:J,MATCH(Orçamentária!A1289,Composições!A:A,0),8),2,0)","v":283.190268},11327.61,{"$f":"BDI!$B$17","v":0.191},337.28,13491.2]
["SF-01284","Instalação de boiler reaproveitado","un",10,{"$f":"OFFSET(INDEX(Composições!A:J,MATCH(Orçamentária!A1290,Composições!A:A,0),8),2,0)","v":229.92090000000002},2299.21,{"$f":"BDI!$B$17","v":0.191},273.83999999999997,2738.4]
["SF-01285","Prateleira – Linha Residencial","un",40,{"$f":"OFFSET(INDEX(Composições!A:J,MATCH(Orçamentária!A1291,Composições!A:A,0),8),2,0)","v":230.75584335000002},9230.23,{"$f":"BDI!$B$17","v":0.191},274.83,10993.2]
["SF-01286","Saboneteira – Linha Residencial","un",40,{"$f":"OFFSET(INDEX(Composições!A:J,MATCH(Orçamentária!A1292,Composições!A:A,0),8),2,0)","v":153.82398710000001},6152.96,{"$f":"BDI!$B$17","v":0.191},183.2,7328]
["SF-01287","Módulo campainha eletrônica – Linha Residencial","un",15,{"$f":"OFFSET(INDEX(Composições!A:J,MATCH(Orçamentária!A1293,Composições!A:A,0),8),2,0)","v":125.17478449999999},1877.62,{"$f":"BDI!$B$17","v":0.191},{"$f":"IF(ISNUMBER(E1293),ROUND(E1293*(1+G1293),2),\"\")","v":149.08000000000001},{"$f":"IF(ISNUMBER(E1293),ROUND(H1293*D1293,2),\"\")","v":2236.1999999999998}]
["SF-01288","Módulo pulsador – Linha Residencial","un",15,{"$f":"OFFSET(INDEX(Composições!A:J,MATCH(Orçamentária!A1294,Composições!A:A,0),8),2,0)","v":13.8198875},207.3,{"$f":"BDI!$B$17","v":0.191},16.46,246.9]
["SF-01289","Luminária redonda de sobrepor (plafond) – Linha Residencial","un",40,{"$f":"OFFSET(INDEX(Composições!A:J,MATCH(Orçamentária!A1295,Composições!A:A,0),8),2,0)","v":79.388214899999994},3175.53,{"$f":"BDI!$B$17","v":0.191},94.55,3782]
["SF-01290","Acabamento Passa-fio 59mm","un",0,10.45,0,null,10.45,0]
["SF-01291-","Armário em MDF laminado com porta e módulo de gaveta – Linha Residencial-","m2",0,{"$f":"OFFSET(INDEX(Composições!A:J,MATCH(Orçamentária!A1297,Composições!A:A,0),8),2,0)","v":{"$error":"#N/A"}},"",null,"",""]
["SF-01292","Difusor em acrílico e aro metálico para luminárias (modelo Edifício Principal - INTERIOR)","un",0,"","",null,{"$f":"IF(ISNUMBER(E1298),ROUND(E1298*(1+G1298),2),\"\")","v":""},{"$f":"IF(ISNUMBER(E1298),ROUND(H1298*D1298,2),\"\")","v":""}]
["SF-01293","Difusor em acrílico e aro metálico para luminárias (modelo Edifício Principal - EXTERIOR)","un",0,"","",null,"",""]
["SF-01294","Difusor em acrílico e presilhas metálicas para luminárias (modelo Comissões)","un",0,"","",null,"",""]
["SF-01295","Bandeira de porta, em madeira e MDF","m²",30,{"$f":"OFFSET(INDEX(Composições!A:J,MATCH(Orçamentária!A1301,Composições!A:A,0),8),2,0)","v":173.22690572142858},5196.8100000000004,{"$f":"BDI!$B$17","v":0.191},{"$f":"IF(ISNUMBER(E1301),ROUND(E1301*(1+G1301),2),\"\")","v":206.31},{"$f":"IF(ISNUMBER(E1301),ROUND(H1301*D1301,2),\"\")","v":6189.3}]
["SF-01296","Bandeira de porta, em madeira pintada","m²",13.5,{"$f":"OFFSET(INDEX(Composições!A:J,MATCH(Orçamentária!A1302,Composições!A:A,0),8),2,0)","v":190.20403191190476},2567.75,{"$f":"BDI!$B$17","v":0.191},226.53,3058.16]
["SF-01297","Levantamentos como construído (“As Built”) e Relatório de Avaliação Técnica – Bloco 01 (PRODASEN)","un",0,"","",null,"",""]
["SF-01298","Levantamentos como construído (“As Built”) e Relatório de Avaliação Técnica – Áreas Técnicas 10 (CM-3), 13 (CM-2) e Espaços Externos","un",0,"","",null,"",""]
["SF-01299","Levantamentos como construído (“As Built”) e Relatório de Avaliação Técnica - Anexo II e Túnel do Tempo","un",0,"","",null,"",""]
["SF-01300","Estudos Preliminares de Prevenção e Combate a Incêndio e Pânico (incluindo Acessibilidade e Segurança de Pessoa com Deficiência) - Bloco 01 (PRODASEN)","un",0,"","",null,"",""]
["SF-01301","Estudos Preliminares de Prevenção e Combate a Incêndio e Pânico (incluindo Acessibilidade e Segurança de Pessoa com Deficiência) - Áreas Técnicas 10 (CM-3), 13 (CM-2) e Espaços Externos","un",0,"","",null,"",""]
["SF-01302","Estudos Preliminares de Prevenção e Combate a Incêndio e Pânico (incluindo Acessibilidade e Segurança de Pessoa com Deficiência) - Anexo II e Túnel do Tempo","un",0,"","",null,"",""]
["SF-01303","Anteprojetos e Orçamentos Preliminares para Prevenção e Combate a Incêndio e Pânico (incluindo Acessibilidade e Segurança de Pessoa com Deficiência) - Bloco 01 (PRODASEN)","un",0,"","",null,"",""]
["SF-01304","Anteprojetos e Orçamentos Preliminares para Prevenção e Combate a Incêndio e Pânico (incluindo Acessibilidade e Segurança de Pessoa com Deficiência) - Áreas Técnicas 10 (CM-3), 13 (CM-2) e Espaços Externos","un",0,"","",null,"",""]
["SF-01305","Anteprojetos e Orçamentos Preliminares para Prevenção e Combate a Incêndio e Pânico (incluindo Acessibilidade e Segurança de Pessoa com Deficiência) - Anexo II e Túnel do Tempo","un",0,"","",null,"",""]
["SF-01306","Projetos Executivos de Prevenção e Combate a Incêndio e Pânico (incluindo Acessibilidade e Segurança de Pessoa com Deficiência) - Bloco 01 (PRODASEN)","un",0,"","",null,"",""]
["SF-01307","Projetos Executivos de Prevenção e Combate a Incêndio e Pânico (incluindo Acessibilidade e Segurança de Pessoa com Deficiência) - Áreas Técnicas 10 (CM-3), 13 (CM-2) e Espaços Externos","un",0,"","",null,"",""]
["SF-01308","Projetos Executivos de Prevenção e Combate a Incêndio e Pânico (incluindo Acessibilidade e Segurança de Pessoa com Deficiência) - Anexo II e Túnel do Tempo","un",0,"","",null,"",""]
["SF-01309","Orçamentos Finais e Cronograma Físico-Financeiro para intervenções de Prevenção e Combate a Incêndio e Pânico (incluindo Acessibilidade e Segurança de Pessoa com Deficiência)","un",0,"","",null,"",""]
["SF-01310","Cambota elastomérica de 8”","un",0,{"$f":"OFFSET(INDEX(Composições!A:J,MATCH(Orçamentária!A1316,Composições!A:A,0),8),2,0)","v":35.251649999999998},0,null,35.25,0]
["SF-01311","Curva raio curto 45° em aço carbono para solda de topo DN 125 (5\" NPS)","un",0,{"$f":"OFFSET(INDEX(Composições!A:J,MATCH(Orçamentária!A1317,Composições!A:A,0),8),2,0)","v":74.679536099999993},0,null,74.680000000000007,0]
["SF-01312","Curva raio curto 90° em aço carbono para solda de topo DN 125 (5\" NPS)","un",0,{"$f":"OFFSET(INDEX(Composições!A:J,MATCH(Orçamentária!A1318,Composições!A:A,0),8),2,0)","v":74.679536099999993},0,null,74.680000000000007,0]
["SF-01313","Curva raio longo 90° em aço carbono para solda de topo DN 125 (5\" NPS)","un",0,{"$f":"OFFSET(INDEX(Composições!A:J,MATCH(Orçamentária!A1319,Composições!A:A,0),8),2,0)","v":74.679536099999993},0,null,74.680000000000007,0]
["SF-01314","Curva raio longo 90° em aço carbono para solda de topo DN 200 (8\" NPS)","un",0,{"$f":"OFFSET(INDEX(Composições!A:J,MATCH(Orçamentária!A1320,Composições!A:A,0),8),2,0)","v":86.168695499999998},0,null,86.17,0]
["SF-01315","Eliminador de ar para líquidos DN 20 (3/4\" NPS)","un",0,{"$f":"OFFSET(INDEX(Composições!A:J,MATCH(Orçamentária!A1321,Composições!A:A,0),8),2,0)","v":14.85876},0,null,14.86,0]
["SF-01316","Flange de pescoço, aço carbono, classe 150, DN 125 (5\" NPS)","un",0,{"$f":"OFFSET(INDEX(Composições!A:J,MATCH(Orçamentária!A1322,Composições!A:A,0),8),2,0)","v":74.679536099999993},0,null,74.680000000000007,0]
["SF-01317","Isolamento elastomérico para tubulações de ferro de 5”","m",0,{"$f":"OFFSET(INDEX(Composições!A:J,MATCH(Orçamentária!A1323,Composições!A:A,0),8),2,0)","v":3.6388799999999999},0,null,3.64,0]
["SF-01318","Meia luva em aço carbono DN 15 (1/2\" NPS)","un",0,{"$f":"OFFSET(INDEX(Composições!A:J,MATCH(Orçamentária!A1324,Composições!A:A,0),8),2,0)","v":7.0108289999999993},0,null,7.01,0]
["SF-01319","Redução concêntrica em aço carbono para solda de topo DN 200 (8\" NPS) × DN 125 (5\" NPS)","un",0,{"$f":"OFFSET(INDEX(Composições!A:J,MATCH(Orçamentária!A1325,Composições!A:A,0),8),2,0)","v":50.410674600000007},0,null,50.41,0]
["SF-01320","Suporte metálico tipo T com alça","un",0,"","",null,"",""]
["SF-01321","Suporte metálico tipo T","un",0,"","",null,"",""]
["SF-01322","Suporte metálico tipo trave alta","un",0,"","",null,"",""]
["SF-01323","Suporte metálico tipo trave baixa","un",0,"","",null,"",""]
["SF-01324","Suporte metálico tipo trave com suportes desiguais","un",0,"","",null,"",""]
["SF-01325","Tê em aço carbono para solda de topo DN 200 (8\" NPS)","un",0,{"$f":"OFFSET(INDEX(Composições!A:J,MATCH(Orçamentária!A1331,Composições!A:A,0),8),2,0)","v":78.110662499999989},0,null,78.11,0]
["SF-01326","Tubo de aço-carbono preto DN 125 (5\" NPS)","m",0,{"$f":"OFFSET(INDEX(Composições!A:J,MATCH(Orçamentária!A1332,Composições!A:A,0),8),2,0)","v":270.88838650000002},0,null,270.89,0]
["SF-01327","Tubo de aço-carbono preto DN 200 (8\" NPS)","m",0,{"$f":"OFFSET(INDEX(Composições!A:J,MATCH(Orçamentária!A1333,Composições!A:A,0),8),2,0)","v":451.54828670000001},0,null,451.55,0]
["SF-01328","Válvula de esfera em bronze 1/2”","un",0,{"$f":"OFFSET(INDEX(Composições!A:J,MATCH(Orçamentária!A1334,Composições!A:A,0),8),2,0)","v":69.796381249999996},0,null,69.8,0]
["SF-01329","Válvula gaveta com flange DN 125 (5\" NPS)","un",0,{"$f":"OFFSET(INDEX(Composições!A:J,MATCH(Orçamentária!A1335,Composições!A:A,0),8),2,0)","v":32.7742875},0,null,32.770000000000003,0]
["SF-01330","Ar-condicionado split hi-wall inverter 18.000 BTU/h","un",40,3031.24,121249.60000000001,{"$f":"BDI!$G$17","v":0.11260000000000001},3372.56,134902.39999999999]
["SF-01331","Cabo de fibra óptica monomodo 12 fibras","m",0,{"$f":"OFFSET(INDEX(Composições!A:J,MATCH(Orçamentária!A1337,Composições!A:A,0),8),2,0)","v":2.7700204499999996},0,null,2.77,0]
["SF-01332","Cabo de fibra óptica monomodo 144 fibras","m",0,{"$f":"OFFSET(INDEX(Composições!A:J,MATCH(Orçamentária!A1338,Composições!A:A,0),8),2,0)","v":5.4075785999999999},0,null,5.41,0]
["SF-01333","Caixa de passagem em alumínio 300x300x120mm","un",0,{"$f":"OFFSET(INDEX(Composições!A:J,MATCH(Orçamentária!A1339,Composições!A:A,0),8),2,0)","v":49.560777999999999},0,null,49.56,0]
["SF-01334","Caixa de Passagem Subterrânea 1600x2000mm","un",0,{"$f":"OFFSET(INDEX(Composições!A:J,MATCH(Orçamentária!A1340,Composições!A:A,0),8),2,0)","v":1541.3864734356846},0,null,1541.39,0]
["SF-01335","Projeto Executivo de Rede de Telecomunicações Backbone","un",0,"","",null,"",""]
["SF-01336","Eletroduto PEAD 2”","m",0,{"$f":"OFFSET(INDEX(Composições!A:J,MATCH(Orçamentária!A1342,Composições!A:A,0),8),2,0)","v":9.5560974999999999},0,null,9.56,0]
["SF-01337","Furo direcional por método não-destrutivo com fornecimento de duto","m",0,"","",null,"",""]
["SF-01338","Sondagem por Radar de Penetração de Solo - GPR","m",0,"","",null,"",""]
["SF-01339","Tampa em Ferro Fundido - Circular DN-600 mm Classe 400","un",0,{"$f":"OFFSET(INDEX(Composições!A:J,MATCH(Orçamentária!A1345,Composições!A:A,0),8),2,0)","v":534.39709547313146},0,null,534.4,0]
[null,"ITEM 2 - SERVIÇOS DE MARCENARIA",null,null,null,{"$f":"SUBTOTAL(109,F1347:F1352)","v":496338.75000000006},null,null,{"$f":"SUBTOTAL(109,I1347:I1352)","v":505189.5}]
["SF-00352","Armário em MDF laminado com porta e prateleiras","m2",500,500,250000,0,{"$f":"IF(ISNUMBER(E1347),ROUND(E1347*(1+G1347),2),\"\")","v":500},{"$f":"IF(ISNUMBER(E1347),ROUND(H1347*D1347,2),\"\")","v":250000}]
["SF-00353","Armários em MDF laminado com porta e gavetas","m2",100,500,50000,0,500,50000]
["SF-00355","Mesa/tampo de MDF, fixada em parede com mão-francesa","m2",20,{"$f":"OFFSET(INDEX(Composições!A:J,MATCH(Orçamentária!A1349,Composições!A:A,0),8),2,0)","v":150.29736249999999},3005.95,{"$f":"BDI!$B$17","v":0.191},179,3580]
["SF-00356","Painel para TV de 120 x 180 cm","un",50,{"$f":"OFFSET(INDEX(Composições!A:J,MATCH(Orçamentária!A1350,Composições!A:A,0),8),2,0)","v":289.57799999999997},14478.9,{"$f":"BDI!$B$17","v":0.191},344.89,17244.5]
["SF-00357","Painel para TV de 160 x 160 cm","un",50,{"$f":"OFFSET(INDEX(Composições!A:J,MATCH(Orçamentária!A1351,Composições!A:A,0),8),2,0)","v":577.07800000000009},28853.9,{"$f":"BDI!$B$17","v":0.191},687.3,34365]
["SF-01291","Armário em MDF laminado com porta e módulo de gaveta – Linha Residencial","m2",300,500,{"$f":"IF(ISNUMBER(E1352),ROUND(D1352*E1352,2),\"\")","v":150000},0,500,150000]
[null,"ITEM 3 - VIDROS E PELÍCULAS",null,null,null,{"$f":"SUBTOTAL(109,F1354:F1358)","v":94871.900000000009},null,null,{"$f":"SUBTOTAL(109,I1354:I1358)","v":109978.70000000001}]
["SF-00154","Espelho cristal, e=5 mm","m2",130,{"$f":"OFFSET(INDEX(Composições!A:J,MATCH(Orçamentária!A1354,Composições!A:A,0),8),2,0)","v":430.66159999999991},{"$f":"IF(ISNUMBER(E1354),ROUND(D1354*E1354,2),\"\")","v":55986.01},{"$f":"BDI!$B$17","v":0.191},{"$f":"IF(ISNUMBER(E1354),ROUND(E1354*(1+G1354),2),\"\")","v":512.91999999999996},{"$f":"IF(ISNUMBER(E1354),ROUND(H1354*D1354,2),\"\")","v":66679.600000000006}]
["SF-00160","Mola hidráulica de piso","un",25,{"$f":"OFFSET(INDEX(Composições!A:J,MATCH(Orçamentária!A1355,Composições!A:A,0),8),2,0)","v":924.21145000000001},23105.29,{"$f":"BDI!$B$17","v":0.191},1100.74,27518.5]
["SF-00165","Película jateada","m2",80,64.27,5141.6000000000004,0,64.27,5141.6000000000004]
["SF-01253","Divisória de Vidro temperado para box de CORRER e ferragens – Linha Residencial","m2",25,205.56,5139,0,205.56,5139]
["SF-01254","Divisória de Vidro temperado para box com porta de GIRO e ferragens – Linha Residencial","m2",25,220,5500,0,220,5500]
[null,"ITEM 4 - PERSIANAS E CORTINAS",null,null,null,{"$f":"SUBTOTAL(109,F1360:F1365)","v":162489.79999999999},null,null,{"$f":"SUBTOTAL(109,I1360:I1365)","v":162489.79999999999}]
["SF-00163","Persiana vertical em tecido Juta Resinado sem blecaute de 90mm, cor bege","m2",300,111.02,{"$f":"IF(ISNUMBER(E1360),ROUND(D1360*E1360,2),\"\")","v":33306},0,{"$f":"IF(ISNUMBER(E1360),ROUND(E1360*(1+G1360),2),\"\")","v":111.02},{"$f":"IF(ISNUMBER(E1360),ROUND(H1360*D1360,2),\"\")","v":33306}]
["SF-00164","Persiana vertical em tecido sintético sem blecaute de 90mm, cores verde escuro ou branca","m2",300,92.64,27792,0,92.64,27792]
["SF-01274","Cortina de linho sintético / BLECAUTE COM VARÃO – Linha Residencial","m",65,511.67,33258.550000000003,0,511.67,33258.550000000003]
["SF-01275","Cortina de linho sintético / BLECAUTE SEM VARÃO – Linha Residencial","m",65,440.75,28648.75,0,440.75,28648.75]
["SF-01276","Cortina de linho sintético / FORRO COM VARÃO – Linha Residencial","m",50,414.43,20721.5,0,414.43,20721.5]
["SF-01277","Cortina de linho sintético / FORRO SEM VARÃO – Linha Residencial","m",50,375.26,18763,0,375.26,18763]
[]
[{"$f":"SUBTOTAL(103,A7:A1366)","v":425},null,null,null,null,null,null,"CUSTO DIRETO",{"$f":"SUBTOTAL(109,F7:F1366)","v":10442833.199999997}]
[null,null,null,null,null,null,null,"CUSTO TOTAL",{"$f":"SUBTOTAL(109,I7:I1366)","v":12072315.050000001}]

{"sheet":"BDI","index":4,"n_rows":48,"n_cols":9,"rows_kept":48,"cut":false,"hidden":false,"merged":[[4,0,6,0],[4,5,6,5],[47,0,47,8]]}
[{"$f":"Orçamentária!A1","v":"Execução de serviços comuns de engenharia nas edificações do CASF"}]
["BENEFÍCIOS E DESPESAS INDIRETAS - BDI"]
[]
["BDI Edificações",null,null,null,null,"BDI mero fornecimento"]
["Componentes do BDI","Cálculo sem CPRB","Cálculo com CPRB",null,null,"Componentes do BDI","Cálculo sem CPRB","Cálculo com CPRB"]
[null,"não-desonerado","desonerado",null,null,null,"não-desonerado","desonerado"]
[null,"% considerado","% considerado",null,null,null,"% considerado","% considerado"]
["AC",3.5000000000000003E-2,3.5000000000000003E-2,null,null,"AC",1.7500000000000002E-2,1.7500000000000002E-2]
["S+G",8.0000000000000002E-3,8.0000000000000002E-3,null,null,"S+G",3.8999999999999998E-3,3.8999999999999998E-3]
["R",1.2500000000000001E-2,1.2500000000000001E-2,null,null,"R",5.5999999999999999E-3,5.5999999999999999E-3]
["DF",7.6E-3,7.6E-3,null,null,"DF",8.5000000000000006E-3,8.5000000000000006E-3]
["L",6.7799999999999999E-2,6.7799999999999999E-2,null,null,"L",3.5000000000000003E-2,3.5000000000000003E-2]
["PIS",6.4999999999999997E-3,6.4999999999999997E-3,null,null,"PIS",6.4999999999999997E-3,6.4999999999999997E-3]
["COFINS",0.03,0.03,null,null,"COFINS",0.03,0.03]
["CPRB",0,4.4999999999999998E-2,null,null,"CPRB",0,4.4999999999999998E-2]
["ISS",0.01,0.01,null,null,"ISS",0,0]
["BDI Edificações",{"$f":"ROUND(((1+B8+B9+B10)*(1+B11)*(1+B12))/(1-(B13+B14+B15+B16))-1,4)","v":0.191},{"$f":"ROUND(((1+C8+C9+C10)*(1+C11)*(1+C12))/(1-(C13+C14+C15+C16))-1,4)","v":0.25},null,null,"BDI mero fornecimento",{"$f":"ROUND(((1+G8+G9+G10)*(1+G11)*(1+G12))/(1-(G13+G14+G15+G16))-1,4)","v":0.11260000000000001},{"$f":"ROUND(((1+H8+H9+H10)*(1+H11)*(1+H12))/(1-(H13+H14+H15+H16))-1,4)","v":0.1671}]
[]
["Referências TCU - BDI Edificações",null,null,null,null,"Referências TCU - BDI mero fornecimento"]
["Componentes do BDI","1º Quartil","Médio","3º Quartil",null,"Componentes do BDI","1º Quartil","Médio","3º Quartil"]
["AC",0.03,0.04,5.5E-2,null,"AC",1.4999999999999999E-2,3.4500000000000003E-2,4.4900000000000002E-2]
["S+G",8.0000000000000002E-3,8.0000000000000002E-3,0.01,null,"S+G",3.0000000000000001E-3,4.7999999999999996E-3,8.2000000000000007E-3]
["R",9.7000000000000003E-3,1.2699999999999999E-2,1.2699999999999999E-2,null,"R",5.5999999999999999E-3,8.5000000000000006E-3,8.8999999999999999E-3]
["DF",5.8999999999999999E-3,1.23E-2,1.3899999999999999E-2,null,"DF",8.5000000000000006E-3,8.5000000000000006E-3,1.11E-2]
["L",6.1600000000000002E-2,7.400000000000001E-2,8.9599999999999999E-2,null,"L",3.5000000000000003E-2,5.11E-2,6.2199999999999998E-2]
["BDI Edificações",0.2034,0.22120000000000001,0.25,null,"BDI mero fornecimento",0.111,0.14019999999999999,0.16800000000000001]
[]
[]
[]
[]
[]
[]
[]
[]
[]
[]
[]
[]
[]
[]
[]
[]
[]
[]
[]
[]
[]
["Fontes: Acórdãos 2.369/2011-TCU-Plenário e 2.622/2013-TCU-Plenário."]