{"text_format":"1","workbook":"xlsx","n_sheets":10,"sheets":["Itens ARP 2021","Cálculo de Hh","Serviços de Engenharia","Armário","Vidros e Película","Cortinas e Persianas","BDI","Levantamento_SEPROARQQQ","Cálculo de Hh e Prazo","SETORES"],"not_rendered":{"charts":0,"images":3,"macros":1,"external_links":2,"defined_names":28,"comments":0,"pivot_tables":0},"unopened":[],"bounds":{"document_bytes":16777216,"sheet_cells":100000,"rows_first":2000,"rows_last":500,"rows_between":2000,"halvings":0,"cell_chars":16384,"cell_head_chars":4096},"cells_cut":0,"cells_raw":0,"read":"whole","date_system":"1900"}

{"sheet":"Itens ARP 2021","index":0,"n_rows":428,"n_cols":13,"rows_kept":428,"cut":false,"hidden":false,"merged":[]}
[]
[]
["Número-SF","Grupo ARP","Grande Área","Categoria","Linha","Discriminação","Und.","Qtd.","Preço Unitário","Custo Direto","BDI (%)","Preço Unitário c/ BDI","Custo Total"]
["SF-00001","Grupo 01","Serviços de Apoio","Serviços Técnicos","-","Engenheiro(a) /Arquiteto(a) júnior","hh",3000]
["SF-00002","Grupo 01","Serviços de Apoio","Serviços Técnicos","-","Mestre de obras","hh",6000]
["SF-00004","Grupo 01","Serviços de Apoio","Serviços Técnicos","-","Projetos de segurança do trabalho","un",10]
["SF-00005","Grupo 01","Serviços de Apoio","Serviços Preliminares","-","Demolição de alvenarias","m3",100]
["SF-00006","Grupo 01","Serviços de Apoio","Serviços Preliminares","-","Demolição de concreto simples","m3",20]
["SF-00007","Grupo 01","Serviços de Apoio","Serviços Preliminares","-","Demolição de contrapiso","m2",400]
["SF-00008","Grupo 01","Serviços de Apoio","Serviços Preliminares","-","Demolição de fechamento ou parede em gesso acartonado","m2",200]
["SF-00009","Grupo 01","Serviços de Apoio","Serviços Preliminares","-","Demolição de forro de gesso","m2",3000]
["SF-00010","Grupo 01","Serviços de Apoio","Serviços Preliminares","-","Demolição de infraestrutura elétrica (eletrodutos, eletrocalhas, cabos)","m",4000]
["SF-00011","Grupo 01","Serviços de Apoio","Serviços Preliminares","-","Demolição de revestimento cerâmico, granito, mármore ou granitina","m2",340]
["SF-00012","Grupo 01","Serviços de Apoio","Serviços Preliminares","-","Demolição de revestimento em argamassa","m2",1000]
["SF-00013","Grupo 01","Serviços de Apoio","Serviços Preliminares","-","Demolição de tubulação hidrossanitária embutida com conexões e acessórios","m",100]
["SF-00014","Grupo 01","Serviços de Apoio","Serviços Preliminares","-","Demolição em concreto armado","m3",10]
["SF-00015","Grupo 01","Serviços de Apoio","Serviços Preliminares","-","Locação de caçambas","un",110]
["SF-00016","Grupo 01","Serviços de Apoio","Serviços Preliminares","-","Remoção de armários","m2",240]
["SF-00017","Grupo 01","Serviços de Apoio","Serviços Preliminares","-","Remoção de bancadas","m2",40]
["SF-00018","Grupo 01","Serviços de Apoio","Serviços Preliminares","-","Remoção de batentes de madeira","un",50]
["SF-00019","Grupo 01","Serviços de Apoio","Serviços Preliminares","-","Remoção de canaleta em alumínio","m",200]
["SF-00020","Grupo 01","Serviços de Apoio","Serviços Preliminares","-","Remoção de carpete","m2",300]
["SF-00021","Grupo 01","Serviços de Apoio","Serviços Preliminares","-","Remoção de cortinas","m",50]
["SF-00022","Grupo 01","Serviços de Apoio","Serviços Preliminares","-","Remoção de difusores, grelhas e acessórios de climatização","un",120]
["SF-00023","Grupo 01","Serviços de Apoio","Serviços Preliminares","-","Remoção de divisória de mármore ou granito","m2",40]
["SF-00024","Grupo 01","Serviços de Apoio","Serviços Preliminares","-","Remoção de divisórias de MDF e gesso acartonado","m2",1500]
["SF-00025","Grupo 01","Serviços de Apoio","Serviços Preliminares","-","Remoção de dutos/tubulações","m",1500]
["SF-00026","Grupo 01","Serviços de Apoio","Serviços Preliminares","-","Remoção de esquadrias metálicas","m2",70]
["SF-00027","Grupo 01","Serviços de Apoio","Serviços Preliminares","-","Remoção de exaustor","un",15]
["SF-00028","Grupo 01","Serviços de Apoio","Serviços Preliminares","-","Remoção de fechadura/puxador de porta","un",101]
["SF-00029","Grupo 01","Serviços de Apoio","Serviços Preliminares","-","Remoção de folha de porta e dobradiças / pivôs","un",82]
["SF-00030","Grupo 01","Serviços de Apoio","Serviços Preliminares","-","Remoção de laminado melamínico (LDAP), em PVC ou vinílico","m2",1000]
["SF-00031","Grupo 01","Serviços de Apoio","Serviços Preliminares","-","Remoção de louças","un",80]
["SF-00032","Grupo 01","Serviços de Apoio","Serviços Preliminares","-","Remoção de luminária","un",500]
["SF-00033","Grupo 01","Serviços de Apoio","Serviços Preliminares","-","Remoção de metais e acessórios","un",300]
["SF-00034","Grupo 01","Serviços de Apoio","Serviços Preliminares","-","Remoção de painéis de vidro temperado","m2",586]
["SF-00035","Grupo 01","Serviços de Apoio","Serviços Preliminares","-","Remoção de película","m2",196]
["SF-00036","Grupo 01","Serviços de Apoio","Serviços Preliminares","-","Remoção de persianas","m",400]
["SF-00037","Grupo 01","Serviços de Apoio","Serviços Preliminares","-","Remoção de pintura ou textura","m2",4000]
["SF-00038","Grupo 01","Serviços de Apoio","Serviços Preliminares","-","Remoção de placas de forro","m2",500]
["SF-00039","Grupo 01","Serviços de Apoio","Serviços Preliminares","-","Remoção de quadros de elétricos ou de telecomunicações","un",30]
["SF-00040","Grupo 01","Serviços de Apoio","Serviços Preliminares","-","Remoção de revestimento acústico","m2",300]
["SF-00041","Grupo 01","Serviços de Apoio","Serviços Preliminares","-","Remoção de rodapé/rodabanca de mármore ou granito","m",350]
["SF-00042","Grupo 01","Serviços de Apoio","Serviços Preliminares","-","Remoção de rodapés de madeira","m2",10]
["SF-00043","Grupo 01","Serviços de Apoio","Serviços Preliminares","-","Remoção de soleira de mármore ou granito","m",20]
["SF-00044","Grupo 01","Serviços de Apoio","Serviços Preliminares","-","Remoção de split/fancolete/ACJ (equipamento unitário)","un",150]
["SF-00045","Grupo 01","Serviços de Apoio","Serviços Preliminares","-","Remoção de vidro comum / espelho","m2",60]
["SF-00046","Grupo 01","Serviços de Apoio","Serviços Preliminares","-","Retirada de entulhos","m3",410]
["SF-00047","Grupo 01","Serviços de Apoio","Segurança do Trabalho","-","Absorvedor de energia para linha de vida","un",5]
["SF-00048","Grupo 01","Serviços de Apoio","Segurança do Trabalho","-","Andaime fachadeiro","m2 x mês",400]
["SF-00049","Grupo 01","Serviços de Apoio","Segurança do Trabalho","-","Andaime tubular (aluguel/mês)","m x mês",70]
["SF-00050","Grupo 01","Serviços de Apoio","Segurança do Trabalho","-","Cabo de aço com 8 mm de diâmetro galvanizado para linha de vida","m",280]
["SF-00051","Grupo 01","Serviços de Apoio","Segurança do Trabalho","-","Corda de poliamida 12 mm tipo bombeiro, para trabalho em altura","m",84]
["SF-00052","Grupo 01","Serviços de Apoio","Segurança do Trabalho","-","Ensaio de ponto de ancoragem existente","un",20]
["SF-00057","Grupo 01","Serviços de Apoio","Segurança do Trabalho","-","Isolamento de obra com tela plástica com malha de 5mm e estrutura de madeira pontaleteada","m2",200]
["SF-00058","Grupo 01","Serviços de Apoio","Segurança do Trabalho","-","Suporte intermediário curvo para linha de vida","un",5]
["SF-00060","Grupo 01","Serviços de Apoio","Segurança do Trabalho","-","Kit para montagem de dois olhais","un",5]
["SF-00061","Grupo 01","Serviços de Apoio","Segurança do Trabalho","-","Manilha com travamento por porca e cupilha","un",14]
["SF-00062","Grupo 01","Serviços de Apoio","Segurança do Trabalho","-","Pilar de ancoragem para linha de vida","un",14]
["SF-00065","Grupo 01","Serviços de Apoio","Segurança do Trabalho","-","Placa de ancoragem para montagem no pilar","un",10]
["SF-00066","Grupo 01","Serviços de Apoio","Segurança do Trabalho","-","Ponto de ancoragem","un",25]
["SF-00068","Grupo 01","Serviços de Apoio","Segurança do Trabalho","-","Sistema Guarda-corpo-Rodapé (GcR) metálico","m x mês",280]
["SF-00069","Grupo 01","Serviços de Apoio","Segurança do Trabalho","-","Suporte intermediário para linha de vida","un",15]
["SF-00070","Grupo 01","Serviços de Apoio","Segurança do Trabalho","-","Tapume","m2",300]
["SF-00071","Grupo 01","Serviços de Apoio","Segurança do Trabalho","-","Trole para linha de vida horizontal","un",5]
["SF-00073","Grupo 01","Serviços de Apoio","Limpeza","-","Limpeza final de obra","m2",10000]
["SF-00074","Grupo 01","Civil","Furos, Rasgos e Escariação","-","Abertura/fechamento rasgo em alvenaria","m",3000]
["SF-00075","Grupo 01","Civil","Furos, Rasgos e Escariação","-","Furo em concreto de até 75mm de diâmetro","un",25]
["SF-00076","Grupo 01","Civil","Furos, Rasgos e Escariação","-","Furo em concreto para diâmetros maiores que 75mm","un",40]
["SF-00077","Grupo 01","Civil","Estrutural","-","Concreto virado em betoneira, fck = 15 MPa","m3",10]
["SF-00078","Grupo 01","Civil","Estrutural","-","Concreto virado em betoneira, fck = 25MPa","m3",10]
["SF-00079","Grupo 01","Civil","Estrutural","-","Escoramento metálico","m2 x mês",100]
["SF-00081","Grupo 01","Civil","Estrutural","-","Forma para estruturas de concreto","m2",100]
["SF-00082","Grupo 01","Civil","Estrutural","-","Verga/contraverga/cinta em bloco de concreto canaleta 11,5 x 19 x 39 cm","m",50]
["SF-00083","Grupo 01","Civil","Impermeabilização","-","Impermeabilização de superfície com revestimento bicomponente semi flexível","m2",500]
["SF-00084","Grupo 01","Civil","Vedações","-","Alvenaria de vedação","m2",500]
["SF-00085","Grupo 01","Civil","Vedações","-","Fechamento ou shaft em gesso acartonado tipo drywall","m2",50]
["SF-00086","Grupo 01","Civil","Vedações","-","Fixação (encunhamento) de Alvenaria de Vedação","m",300]
["SF-00087","Grupo 01","Civil","Vedações","-","Parede em gesso acartonado (drywall)","m2",1000]
["SF-00088","Grupo 01","Civil","Vedações","-","Reparos superficiais em painéis de gesso acartonado","m2",20]
["SF-00089","Grupo 01","Civil","Vedações","-","Sóculo h=10 cm","m2",40]
["SF-00090","Grupo 01","Civil","Revestimentos","-","Chapisco colante industrializado em vigas e pilares","m2",40]
["SF-00091","Grupo 01","Civil","Revestimentos","-","Chapisco com argamassa traço 1:3","m2",1000]
["SF-00092","Grupo 01","Civil","Revestimentos","-","Gesso cola","m2",440]
["SF-00093","Grupo 01","Civil","Revestimentos","-","Reboco com argamassa industrializada e=2,0 cm","m2",1000]
["SF-00094","Grupo 01","Civil","Revestimentos","-","Regularização com argamassa industrializada e=0,5 cm","m2",200]
["SF-00095","Grupo 01","Civil","Revestimentos","-","Tratamento de trincas superficiais","m",100]
["SF-00096","Grupo 01","Civil","Pinturas","-","Aplicação de fundo selador base água","m2",5400]
["SF-00097","Grupo 01","Civil","Pinturas","-","Fundo anticorrosivo e de aderência (base água)","m2",400]
["SF-00098","Grupo 01","Civil","Pinturas","-","Massa acrílica","m2",1000]
["SF-00099","Grupo 01","Civil","Pinturas","-","Massa corrida","m2",3000]
["SF-00100","Grupo 01","Civil","Pinturas","-","Pintura com tinta látex acrílica Premium (paredes)","m2",9000]
["SF-00101","Grupo 01","Civil","Pinturas","-","Pintura em verniz sintético","m2",300]
["SF-00102","Grupo 01","Civil","Pinturas","-","Pintura esmalte acetinado (metais e madeiras)","m2",500]
["SF-00103","Grupo 01","Civil","Pinturas","-","Pintura tinta látex acrílica standard (tetos)","m2",6000]
["SF-00104","Grupo 01","Civil","Pisos, Revestimentos e Pavimentação","Administrativa","Cerâmica para revestimento de superfícies internas ou externas – Linha Administrativa","m2",150]
["SF-00105","Grupo 01","Civil","Pisos, Revestimentos e Pavimentação","-","Contrapiso em argamassa","m2",60]
["SF-00106","Grupo 01","Civil","Pisos, Revestimentos e Pavimentação","-","Contrapiso em argamassa (e=2cm) ou Regularização de contrapiso existente","m2",550]
["SF-00107","Grupo 01","Civil","Pisos, Revestimentos e Pavimentação","-","Granito cinza andorinha para piso","m2",800]
["SF-00108","Grupo 01","Civil","Pisos, Revestimentos e Pavimentação","-","Granito Cinza Andorinha para rodapé","m2",200]
["SF-00109","Grupo 01","Civil","Pisos, Revestimentos e Pavimentação","-","Granito Cinza Andorinha para soleira e peitoril","m2",20]
["SF-00110","Grupo 01","Civil","Pisos, Revestimentos e Pavimentação","-","Granito Preto São Gabriel para piso","m2",30]
["SF-00111","Grupo 01","Civil","Pisos, Revestimentos e Pavimentação","-","Granito Preto São Gabriel para rodapé","m2",3]
["SF-00112","Grupo 01","Civil","Pisos, Revestimentos e Pavimentação","-","Granito Preto São Gabriel para soleira e peitoril","m2",2]
["SF-00113","Grupo 01","Civil","Pisos, Revestimentos e Pavimentação","-","Instalação de rodapé de madeira reaproveitado","m",70]
["SF-00114","Grupo 01","Civil","Pisos, Revestimentos e Pavimentação","-","Mármore Bege Bahia para piso e parede","m2",10]
["SF-00115","Grupo 01","Civil","Pisos, Revestimentos e Pavimentação","-","Mármore Branco Especial para piso e parede","m2",40]
["SF-00116","Grupo 01","Civil","Pisos, Revestimentos e Pavimentação","-","Rodapé de madeira","m",70]
["SF-00117","Grupo 01","Civil","Mármores e Granitos","-","Acabamento abaulado em placas de granito ou mármore reaproveitadas","m",20]
["SF-00118","Grupo 01","Civil","Mármores e Granitos","-","Acabamento em meia esquadria em placas de granito ou mármore reaproveitadas","m",20]
["SF-00119","Grupo 01","Civil","Mármores e Granitos","-","Acabamento reto em placas de granito ou mármore reaproveitadas","m",20]
["SF-00120","Grupo 01","Civil","Mármores e Granitos","-","Corte de peça de granito ou mármore reaproveitada","m",20]
["SF-00121","Grupo 01","Civil","Mármores e Granitos","-","Corte em placas de granito ou mármore reaproveitadas, para instalação de cubas","un",20]
["SF-00122","Grupo 01","Civil","Mármores e Granitos","-","Furo em placas de granito ou mármore reaproveitadas, para instalação de torneira ou misturador","un",20]
["SF-00123","Grupo 01","Civil","Mármores e Granitos","-","Granito Cinza Andorinha 20mm para rodabancada","m2",120]
["SF-00124","Grupo 01","Civil","Mármores e Granitos","-","Granito Cinza Andorinha 20mm para bancadas","m2",50]
["SF-00125","Grupo 01","Civil","Mármores e Granitos","-","Granito Cinza Andorinha 20mm para divisória","m2",100]
["SF-00126","Grupo 01","Civil","Mármores e Granitos","-","Granito Preto São Gabriel 20mm para rodabancada","m2",30]
["SF-00127","Grupo 01","Civil","Mármores e Granitos","-","Granito Preto São Gabriel 20mm para bancadas","m2",8]
["SF-00128","Grupo 01","Civil","Mármores e Granitos","-","Instalação de bancada de granito ou mármore reaproveitada","m2",30]
["SF-00129","Grupo 01","Civil","Mármores e Granitos","-","Instalação de rodapé/rodabanca reaproveitado, de mármore ou granito","m2",20]
["SF-00130","Grupo 01","Civil","Mármores e Granitos","-","Instalação de soleira ou peitoril, de mármore ou granito, reaproveitados","m2",10]
["SF-00131","Grupo 01","Civil","Mármores e Granitos","-","Mármore Branco Especial 20mm para rodabancada","m2",1]
["SF-00132","Grupo 01","Civil","Divisórias","-","Divisória em gesso acartonado revestido - Painel liso cego - Ed. Anexo I","m2",500]
["SF-00133","Grupo 01","Civil","Divisórias","-","Divisória em gesso acartonado revestido - Painel liso, painel de vidro e bandeira – ed. Anexo I","m2",300]
["SF-00134","Grupo 01","Civil","Divisórias","-","Divisória MDF com painel liso cego e bandeira","m2",900]
["SF-00135","Grupo 01","Civil","Divisórias","-","Divisória MDF com painel liso, painel de vidro e bandeira","m2",900]
["SF-00136","Grupo 01","Civil","Divisórias","-","Divisória MDF com painel paginado cego e bandeira - Interlegis","m2",200]
["SF-00137","Grupo 01","Civil","Divisórias","-","Divisória MDF com painel paginado, painel de vidro e bandeira - Interlegis","m2",200]
["SF-00138","Grupo 01","Civil","Divisórias","-","Instalação de divisória e porta de divisória com dobradiça reaproveitadas","m2",700]
["SF-00139","Grupo 01","Civil","Forros","-","Alçapão em forro de gesso acartonado","m2",100]
["SF-00140","Grupo 01","Civil","Forros","-","Forro de PVC em réguas de 100 x 6000mm","m2",50]
["SF-00141","Grupo 01","Civil","Forros","-","Forro de PVC em réguas de 100 x 6000mm, sem estrutura","m2",100]
["SF-00142","Grupo 01","Civil","Forros","-","Forro de PVC modular em placas","m2",20]
["SF-00143","Grupo 01","Civil","Forros","-","Forro em chapas metálicas","m2",500]
["SF-00144","Grupo 01","Civil","Forros","-","Forro em gesso acartonado monolítico","m2",2500]
["SF-00145","Grupo 01","Civil","Forros","-","Forro em gesso acartonado monolítico, sem estrutura","m2",2300]
["SF-00146","Grupo 01","Civil","Forros","-","Forro mineral modulado","m2",300]
["SF-00147","Grupo 01","Civil","Forros","-","Forro mineral modulado, sem estrutura","m2",100]
["SF-00148","Grupo 01","Civil","Forros","-","Instalação de forro de PVC reaproveitado","m2",100]
["SF-00149","Grupo 01","Civil","Forros","-","Instalação de forro mineral reaproveitado","m2",100]
["SF-00150","Grupo 01","Civil","Forros","-","Tabica metálica em forro de gesso acartonado","m",2500]
["SF-00151","Grupo 01","Civil","Carpete","-","Instalação de revestimento de piso têxtil (carpete) reaproveitado","m2",400]
["SF-00154","Grupo 01","Civil","Vidro Comum","-","Espelho cristal, e=5 mm","m2",130]
["SF-00155","Grupo 01","Civil","Vidro Comum Reaproveitado","-","Instalação de vidro reaproveitado","m2",50]
["SF-00159","Grupo 01","Civil","Vidro Tremperado Reaproveitado","-","Instalação de painéis de vidro temperado reaproveitados","m2",70]
["SF-00161","Grupo 01","Civil","Persianas Reaproveitada","-","Instalação de persianas reaproveitadas","m",800]
["SF-00165","Grupo 01","Civil","Película","-","Película jateada","m2",80]
["SF-00166","Grupo 01","Hidrossanitário","Tubos","-","Tubo de ligação para bacia sanitária","un",15]
["SF-00167","Grupo 01","Hidrossanitário","Tubos","-","Tubo PVC esgoto ou aguas pluviais predial DN 100mm","m",215]
["SF-00168","Grupo 01","Hidrossanitário","Tubos","-","Tubo PVC esgoto ou aguas pluviais predial DN 40mm","m",80]
["SF-00169","Grupo 01","Hidrossanitário","Tubos","-","Tubo PVC esgoto ou aguas pluviais predial DN 50mm","m",80]
["SF-00170","Grupo 01","Hidrossanitário","Tubos","-","Tubo PVC esgoto ou aguas pluviais predial DN 75mm","m",100]
["SF-00171","Grupo 01","Hidrossanitário","Tubos","-","Tubo PVC soldavel agua fria DN 25mm","m",300]
["SF-00172","Grupo 01","Hidrossanitário","Tubos","-","Tubo PVC soldavel agua fria DN 32mm","m",200]
["SF-00173","Grupo 01","Hidrossanitário","Tubos","-","Tubo PVC soldavel agua fria DN 40mm","m",100]
["SF-00174","Grupo 01","Hidrossanitário","Tubos","-","Tubo PVC soldavel agua fria DN 50mm","m",100]
["SF-00175","Grupo 01","Hidrossanitário","Registros e Válvulas","-","Base registro gaveta 3/4\"\n","un",60]
["SF-00176","Grupo 01","Hidrossanitário","Ralos e Caixas","-","Caixa sifonada de PVC DN 150mm","un",45]
["SF-00177","Grupo 01","Hidrossanitário","Ralos e Caixas","-","Caixa sifonada de PVC DN 250mm","un",45]
["SF-00178","Grupo 01","Hidrossanitário","Ralos e Caixas","-","Grelha quadrada para ralo 10x10cm","un",45]
["SF-00179","Grupo 01","Hidrossanitário","Ralos e Caixas","-","Grelha quadrada para ralo 15x15cm","un",45]
["SF-00180","Grupo 01","Hidrossanitário","Ralos e Caixas","-","Ralo seco PVC DN 100x40mm","un",45]
["SF-00181","Grupo 01","Hidrossanitário","Louças","Administrativa","Assento para bacia convencional - Linha Administrativa","un",45]
["SF-00182","Grupo 01","Hidrossanitário","Louças","Administrativa","Bacia convencional – Linha Administrativa","un",45]
["SF-00183","Grupo 01","Hidrossanitário","Louças","-","Bacia convencional com saída horizontal","un",10]
["SF-00184","Grupo 01","Hidrossanitário","Louças","-","Cuba oval de embutir","un",45]
["SF-00185","Grupo 01","Hidrossanitário","Louças","-","Cuba retangular em aço inox","un",30]
["SF-00186","Grupo 01","Hidrossanitário","Louças","-","Cuba semiencaixe quadrada com mesa","un",15]
["SF-00187","Grupo 01","Hidrossanitário","Louças","-","Instalação de lavatório reaproveitado","un",30]
["SF-00188","Grupo 01","Hidrossanitário","Louças","-","Instalação de mictório reaproveitado","un",30]
["SF-00189","Grupo 01","Hidrossanitário","Louças","-","Instalação de vaso sanitário reaproveitado","un",30]
["SF-00190","Grupo 01","Hidrossanitário","Louças","-","Lavatório suspenso","un",10]
["SF-00191","Grupo 01","Hidrossanitário","Louças","Administrativa","Mictório – Linha Administrativa","un",20]
["SF-00192","Grupo 01","Hidrossanitário","Louças","-","Tanque 38 litros","un",25]
["SF-00193","Grupo 01","Hidrossanitário","Metais","-","Acabamento para registro GD","un",35]
["SF-00194","Grupo 01","Hidrossanitário","Metais","-","Acabamento para registro PQ","un",70]
["SF-00195","Grupo 01","Hidrossanitário","Metais","-","Ducha higiênica","un",60]
["SF-00196","Grupo 01","Hidrossanitário","Metais","-","Instalação de metais e acessórios reaproveitados","un",200]
["SF-00197","Grupo 01","Hidrossanitário","Metais","-","Ligação flexível 1/2” x 40 cm","un",80]
["SF-00198","Grupo 01","Hidrossanitário","Metais","-","Sifão articulado para cozinha","un",50]
["SF-00199","Grupo 01","Hidrossanitário","Metais","-","Sifão para lavatório 1 1/2\"","un",60]
["SF-00200","Grupo 01","Hidrossanitário","Metais","-","Sifão para tanque","un",25]
["SF-00202","Grupo 01","Hidrossanitário","Metais","-","Torneira de mesa para cozinha bica móvel","un",40]
["SF-00203","Grupo 01","Hidrossanitário","Metais","-","Torneira de mesa para lavatório – Linha Acessibilidade","un",10]
["SF-00204","Grupo 01","Hidrossanitário","Metais","-","Torneira de mesa para lavatório bica alta","un",75]
["SF-00205","Grupo 01","Hidrossanitário","Metais","-","Torneira de mesa para lavatório bica baixa","un",75]
["SF-00206","Grupo 01","Hidrossanitário","Metais","Administrativa","Torneira de mesa para lavatório com fechamento automático – Linha Administrativa","un",60]
["SF-00207","Grupo 01","Hidrossanitário","Metais","-","Torneira de parede para cozinha","un",35]
["SF-00208","Grupo 01","Hidrossanitário","Metais","-","Torneira de parede para tanque","un",25]
["SF-00209","Grupo 01","Hidrossanitário","Metais","Acessibilidade","Acabamento para válvula de descarga 1 1/2” – Linha Acessibilidade","un",10]
["SF-00210","Grupo 01","Hidrossanitário","Metais","-","Acabamento para válvula de descarga 1 1/2”","un",65]
["SF-00211","Grupo 01","Hidrossanitário","Metais","Acessibilidade","Acabamento para válvula de descarga 1 1/4” – Linha Acessibilidade","un",10]
["SF-00212","Grupo 01","Hidrossanitário","Metais","-","Acabamento para válvula de descarga 1 1/4”","un",65]
["SF-00213","Grupo 01","Hidrossanitário","Metais","-","Válvula de escoamento para lavatório e bidê","un",65]
["SF-00214","Grupo 01","Hidrossanitário","Metais","-","Válvula de escoamento para tanque","un",25]
["SF-00215","Grupo 01","Hidrossanitário","Metais","Administrativa","Válvula descarga para mictório – Linha Administrativa","un",40]
["SF-00216","Grupo 01","Hidrossanitário","Acessibilidade","-","Alarme de emergência para sanitários PNE","un",15]
["SF-00217","Grupo 01","Hidrossanitário","Acessibilidade","-","Barra de apoio 40cm – Linha Acessibilidade","un",25]
["SF-00218","Grupo 01","Hidrossanitário","Acessibilidade","-","Barra de apoio 70cm – Linha Acessibilidade","un",20]
["SF-00219","Grupo 01","Hidrossanitário","Acessibilidade","-","Barra de apoio 80cm – Linha Acessibilidade","un",25]
["SF-00220","Grupo 01","Hidrossanitário","Acessibilidade","-","Barra de apoio lateral fixa 30cm – Linha Acessibilidade","un",25]
["SF-00221","Grupo 01","Hidrossanitário","Acessibilidade","-","Lavatório suspenso – Linha Acessibilidade","un",10]
["SF-00222","Grupo 01","Hidrossanitário","Acessibilidade","-","Lavatório suspenso com Coluna – Linha Acessibilidade","un",10]
["SF-00223","Grupo 01","Hidrossanitário","Acessórios","-","Cabide","un",120]
["SF-00224","Grupo 01","Hidrossanitário","Acessórios","-","Papeleira","un",120]
["SF-00225","Grupo 01","Hidrossanitário","Acessórios","-","Porta toalha argola","un",120]
["SF-00226","Grupo 01","Hidrossanitário","Acessórios","-","Porta toalha barra","un",100]
["SF-00227","Grupo 01","Elétrica","Infraestrutura","-","Caixa 4x2 de embutir para alvenaria","un",1500]
["SF-00228","Grupo 01","Elétrica","Infraestrutura","-","Caixa 4x2 para drywall","un",400]
["SF-00229","Grupo 01","Elétrica","Infraestrutura","-","Caixa 4x4 de embutir para alvenaria","un",400]
["SF-00230","Grupo 01","Elétrica","Infraestrutura","-","Caixa 4x4 para drywall","un",100]
["SF-00231","Grupo 01","Elétrica","Infraestrutura","-","Caixa de passagem em alumínio 100x100x50mm","un",1500]
["SF-00232","Grupo 01","Elétrica","Infraestrutura","-","Caixa de passagem em alumínio 200x200x100mm","un",200]
["SF-00233","Grupo 01","Elétrica","Infraestrutura","-","Caixa de passagem em PVC 150x150x75mm","un",1900]
["SF-00234","Grupo 01","Elétrica","Infraestrutura","-","Caixa para piso elevado","un",200]
["SF-00235","Grupo 01","Elétrica","Infraestrutura","-","Canaleta em alumínio aparente 73mmx25mm","m",800]
["SF-00236","Grupo 01","Elétrica","Infraestrutura","-","Condulete de alumínio de 1’’","un",1500]
["SF-00237","Grupo 01","Elétrica","Infraestrutura","-","Eletrocalha 100x50 mm","m",1300]
["SF-00238","Grupo 01","Elétrica","Infraestrutura","-","Eletrocalha 200x100 mm","m",1300]
["SF-00239","Grupo 01","Elétrica","Infraestrutura","-","Eletrocalha 200x50 mm","m",1300]
["SF-00240","Grupo 01","Elétrica","Infraestrutura","-","Eletrocalha 300x100 mm","m",1300]
["SF-00241","Grupo 01","Elétrica","Infraestrutura","-","Eletrocalha 300x50 mm","m",1300]
["SF-00242","Grupo 01","Elétrica","Infraestrutura","-","Eletrocalha 400x50 mm","m",1300]
["SF-00243","Grupo 01","Elétrica","Infraestrutura","-","Eletrocalha 50x50 mm","m",2000]
["SF-00244","Grupo 01","Elétrica","Infraestrutura","-","Eletroduto de aço galvanizado de 1 1/2\"","m",5000]
["SF-00245","Grupo 01","Elétrica","Infraestrutura","-","Eletroduto de aço galvanizado de 1 1/4\"","m",5000]
["SF-00246","Grupo 01","Elétrica","Infraestrutura","-","Eletroduto de aço galvanizado de 1\"","m",1500]
["SF-00247","Grupo 01","Elétrica","Infraestrutura","-","Eletroduto de aço galvanizado de 2\"","m",2000]
["SF-00248","Grupo 01","Elétrica","Infraestrutura","-","Eletroduto de aço galvanizado de 3/4\"","m",2400]
["SF-00249","Grupo 01","Elétrica","Infraestrutura","-","Eletroduto de PVC Corrugado Reforçado 1'' (DE 32mm)","m",1500]
["SF-00250","Grupo 01","Elétrica","Infraestrutura","-","Eletroduto de PVC Corrugado Reforçado 3/4'' (DE 25mm)","m",1500]
["SF-00251","Grupo 01","Elétrica","Infraestrutura","-","Eletroduto flexível metálico com capa de PVC 1’’","m",3000]
["SF-00252","Grupo 01","Elétrica","Infraestrutura","-","Eletroduto flexível metálico com capa de PVC 3/4\"","m",3000]
["SF-00253","Grupo 01","Elétrica","Infraestrutura","-","Perfilado 38x38mm","m",1000]
["SF-00254","Grupo 01","Elétrica","Interruptores e Tomadas","-","Espelho 4x2","un",2500]
["SF-00255","Grupo 01","Elétrica","Interruptores e Tomadas","-","Espelho 4x4","un",600]
["SF-00256","Grupo 01","Elétrica","Interruptores e Tomadas","-","Espelho cego redondo","un",10]
["SF-00257","Grupo 01","Elétrica","Interruptores e Tomadas","-","Interruptor para condulete","un",100]
["SF-00258","Grupo 01","Elétrica","Interruptores e Tomadas","-","Módulo cego","un",2000]
["SF-00259","Grupo 01","Elétrica","Interruptores e Tomadas","-","Módulo interruptor paralelo","un",100]
["SF-00260","Grupo 01","Elétrica","Interruptores e Tomadas","-","Módulo interruptor simples","un",600]
["SF-00261","Grupo 01","Elétrica","Interruptores e Tomadas","-","Módulo para saída de fio","un",100]
["SF-00262","Grupo 01","Elétrica","Interruptores e Tomadas","-","Módulo sensor de presença","un",100]
["SF-00263","Grupo 01","Elétrica","Interruptores e Tomadas","-","Módulo tomada 10 A","un",1800]
["SF-00264","Grupo 01","Elétrica","Interruptores e Tomadas","-","Módulo tomada 20 A","un",360]
["SF-00265","Grupo 01","Elétrica","Interruptores e Tomadas","-","Porta equipamentos para canaleta de alumínio aparente","un",50]
["SF-00266","Grupo 01","Elétrica","Interruptores e Tomadas","-","Tampa cega metálica para caixas de piso 4x2","un",50]
["SF-00267","Grupo 01","Elétrica","Interruptores e Tomadas","-","Tampa cega metálica para caixas de piso 4x4","un",50]
["SF-00268","Grupo 01","Elétrica","Interruptores e Tomadas","-","Tampa cega para condulete","un",100]
["SF-00269","Grupo 01","Elétrica","Interruptores e Tomadas","-","Tampa RJ45 dupla para condulete","un",600]
["SF-00270","Grupo 01","Elétrica","Interruptores e Tomadas","-","Tomada para condulete","un",880]
["SF-00271","Grupo 01","Elétrica","Interruptores e Tomadas","-","Tomada para perfilado e eletrocalha","un",100]
["SF-00272","Grupo 01","Elétrica","Iluminação","-","Bloco autônomo de emergência","un",100]
["SF-00273","Grupo 01","Elétrica","Iluminação","-","Instalação de luminária reaproveitada","un",500]
["SF-00274","Grupo 01","Elétrica","Iluminação","-","Luminária 2x14 W de embutir","un",50]
["SF-00275","Grupo 01","Elétrica","Iluminação","-","Luminária 2x14 W de sobrepor","un",20]
["SF-00276","Grupo 01","Elétrica","Iluminação","-","Luminária 2x28 W de embutir","un",500]
["SF-00277","Grupo 01","Elétrica","Iluminação","-","Luminária 2x28 W de sobrepor","un",100]
["SF-00278","Grupo 01","Elétrica","Condutores","-","Condutor 10mm²","m",2000]
["SF-00279","Grupo 01","Elétrica","Condutores","-","Condutor 16mm²","m",2000]
["SF-00280","Grupo 01","Elétrica","Condutores","-","Condutor 2,5 mm²","m",24000]
["SF-00281","Grupo 01","Elétrica","Condutores","-","Condutor 3x2,5 mm²","m",5000]
["SF-00282","Grupo 01","Elétrica","Condutores","-","Condutor 4 mm²","m",9500]
["SF-00283","Grupo 01","Elétrica","Condutores","-","Condutor 4x2,5 mm²","m",5000]
["SF-00284","Grupo 01","Elétrica","Condutores","-","Condutor 6 mm²","m",6000]
["SF-00285","Grupo 01","Elétrica","Quadros","-","Quadro elétrico TTA","un",20]
["SF-00286","Grupo 01","Ar Condicionado","Equipamentos Terminais e Unitários","-","Ar-condicionado do tipo split piso-teto inverter 54.000BTU/h","un",5]
["SF-00287","Grupo 01","Ar Condicionado","Equipamentos Terminais e Unitários","-","Ar-condicionado fancolete hidrônico dutado 2,5 TR","un",60]
["SF-00288","Grupo 01","Ar Condicionado","Equipamentos Terminais e Unitários","-","Ar-condicionado fancolete hidrônico dutado 4,5 TR","un",10]
["SF-00289","Grupo 01","Ar Condicionado","Equipamentos Terminais e Unitários","-","Ar-condicionado fancolete hidrônico hi-wall 1,4 TR","un",5]
["SF-00290","Grupo 01","Ar Condicionado","Equipamentos Terminais e Unitários","-","Ar-condicionado split dutado inverter 30.000 BTU/h","un",40]
["SF-00291","Grupo 01","Ar Condicionado","Equipamentos Terminais e Unitários","-","Ar-condicionado split hi-wall inverter 12.000 BTU/h","un",40]
["SF-00292","Grupo 01","Ar Condicionado","Equipamentos Terminais e Unitários","-","Ar-condicionado split hi-wall inverter 22.000 BTU/h","un",40]
["SF-00293","Grupo 01","Ar Condicionado","Equipamentos Terminais e Unitários","-","Instalação de fancolete reaproveitado","un",30]
["SF-00294","Grupo 01","Ar Condicionado","Equipamentos Terminais e Unitários","-","Instalação de split reaproveitado","un",50]
["SF-00295","Grupo 01","Ar Condicionado","Exaustores","-","Exaustor axial 340 m3/h","un",60]
["SF-00296","Grupo 01","Ar Condicionado","Exaustores","-","Exaustor axial 865 m3/h","un",5]
["SF-00297","Grupo 01","Ar Condicionado","Dutos","-","Duto chapa galvanizada # 22","m2",880]
["SF-00298","Grupo 01","Ar Condicionado","Dutos","-","Duto flexível 6”","m",40]
["SF-00299","Grupo 01","Ar Condicionado","Dutos","-","Duto flexível 8”","m",20]
["SF-00300","Grupo 01","Ar Condicionado","Difusores e Grelhas","-","Difusor de ar quadrado 360x360 mm","un",180]
["SF-00301","Grupo 01","Ar Condicionado","Difusores e Grelhas","-","Difusor de ar quadrado com caixa plenum AK6 360x360 mm","un",10]
["SF-00302","Grupo 01","Ar Condicionado","Difusores e Grelhas","-","Difusor de ar quadrado para insuflamento em duas direções perpendiculares 376x376 mm","un",10]
["SF-00303","Grupo 01","Ar Condicionado","Difusores e Grelhas","-","Difusor de ar retangular para insuflamento em duas direções 371x208 mm","un",5]
["SF-00304","Grupo 01","Ar Condicionado","Difusores e Grelhas","-","Difusor de ar retangular para insuflamento em três direções 264x432 mm","un",5]
["SF-00305","Grupo 01","Ar Condicionado","Difusores e Grelhas","-","Difusor de ar retangular para insuflamento em três direções 320x562 mm","un",5]
["SF-00306","Grupo 01","Ar Condicionado","Difusores e Grelhas","-","Difusor de ar retangular para insuflamento em três direções 371x208 mm","un",5]
["SF-00307","Grupo 01","Ar Condicionado","Difusores e Grelhas","-","Difusor de ar retangular para insuflamento em uma direção 371x208 mm","un",10]
["SF-00308","Grupo 01","Ar Condicionado","Difusores e Grelhas","-","Grelha para retorno retangular 425x225 mm","un",180]
["SF-00309","Grupo 01","Ar Condicionado","Difusores e Grelhas","-","Grelha para retorno retangular 525x325 mm","un",10]
["SF-00310","Grupo 01","Ar Condicionado","Difusores e Grelhas","-","Instalação de difusores, grelhas e acessórios de climatização reaproveitados","un",120]
["SF-00311","Grupo 01","Ar Condicionado","Difusores e Grelhas","-","Instalação de exaustor reaproveitado","un",20]
["SF-00312","Grupo 01","Ar Condicionado","Difusores e Grelhas","-","Preparação para instalação de difusores/grelhas de ar em portas","un",20]
["SF-00313","Grupo 01","Ar Condicionado","Acessórios Para Equipamentos Unitários","-","Bomba para condensado de ar-condicionado para instalação oculta","un",10]
["SF-00314","Grupo 01","Ar Condicionado","Acessórios Para Equipamentos Unitários","-","Fita aluminizada para refrigeração 48 mm","m",600]
["SF-00315","Grupo 01","Ar Condicionado","Acessórios Para Equipamentos Unitários","-","Fita PVC 100 mm para acabamento em refrigeração","m",9600]
["SF-00316","Grupo 01","Ar Condicionado","Acessórios Para Equipamentos Unitários","-","Mangueira emborrachada 3/4\" para água gelada","m",75]
["SF-00317","Grupo 01","Ar Condicionado","Acessórios Para Equipamentos Unitários","-","Suporte para unidade condensadora de aparelho split","un",125]
["SF-00318","Grupo 01","Ar Condicionado","Acessórios Para Equipamentos Unitários","-","Suporte para unidade evaporadora de aparelho split ou fancolete","un",200]
["SF-00319","Grupo 01","Ar Condicionado","Válvulas","-","Filtro em Y 1\"","un",10]
["SF-00320","Grupo 01","Ar Condicionado","Válvulas","-","Filtro em Y 3/4\"","un",65]
["SF-00321","Grupo 01","Ar Condicionado","Válvulas","-","Válvula de balanceamento e controle independente da pressão (PIBCV) 2 vias 1\"","un",10]
["SF-00322","Grupo 01","Ar Condicionado","Válvulas","-","Válvula de balanceamento e controle independente da pressão (PIBCV) 2 vias 3/4\"","un",65]
["SF-00323","Grupo 01","Ar Condicionado","Válvulas","-","Válvula de esfera em bronze 1 1/2\"","un",20]
["SF-00324","Grupo 01","Ar Condicionado","Válvulas","-","Válvula de esfera em bronze 1 1/4\"","un",20]
["SF-00325","Grupo 01","Ar Condicionado","Válvulas","-","Válvula de esfera em bronze 1\"","un",20]
["SF-00326","Grupo 01","Ar Condicionado","Válvulas","-","Válvula de esfera em bronze 3/4\"","un",150]
["SF-00327","Grupo 01","Ar Condicionado","Tubos e isolamento térmico","-","Isolamento elastomérico em formato de prancha autoadesiva","m2",825]
["SF-00328","Grupo 01","Ar Condicionado","Tubos e isolamento térmico","-","Isolamento elastomérico para tubulações de cobre de 1 1/8\" / tubulações de ferro de 3/4\"","m",810]
["SF-00329","Grupo 01","Ar Condicionado","Tubos e isolamento térmico","-","Isolamento elastomérico para tubulações de cobre de 1/2\"","m",400]
["SF-00330","Grupo 01","Ar Condicionado","Tubos e isolamento térmico","-","Isolamento elastomérico para tubulações de cobre de 1/4\"","m",400]
["SF-00331","Grupo 01","Ar Condicionado","Tubos e isolamento térmico","-","Isolamento elastomérico para tubulações de cobre de 3/4\"","m",400]
["SF-00332","Grupo 01","Ar Condicionado","Tubos e isolamento térmico","-","Isolamento elastomérico para tubulações de cobre de 3/8\"","m",800]
["SF-00333","Grupo 01","Ar Condicionado","Tubos e isolamento térmico","-","Isolamento elastomérico para tubulações de cobre de 5/8\"","m",400]
["SF-00334","Grupo 01","Ar Condicionado","Tubos e isolamento térmico","-","Isolamento elastomérico para tubulações de cobre de 7/8\" / tubulações de ferro de 1/2\"","m",100]
["SF-00335","Grupo 01","Ar Condicionado","Tubos e isolamento térmico","-","Isolamento elastomérico para tubulações de cobre de 1\"","m",30]
["SF-00336","Grupo 01","Ar Condicionado","Tubos e isolamento térmico","-","Isolamento elastomérico para tubulações de ferro de 1 1/2\"","m",100]
["SF-00337","Grupo 01","Ar Condicionado","Tubos e isolamento térmico","-","Isolamento elastomérico para tubulações de ferro de 1 1/4\"","m",100]
["SF-00338","Grupo 01","Ar Condicionado","Tubos e isolamento térmico","-","Isolamento elastomérico para tubulações de ferro de 1\"","m",100]
["SF-00339","Grupo 01","Ar Condicionado","Tubos e isolamento térmico","-","Proteção mecânica em alumínio","m2",100]
["SF-00340","Grupo 01","Ar Condicionado","Tubos e isolamento térmico","-","Tubo de aço-carbono galvanizado 1 1/2\"","m",100]
["SF-00341","Grupo 01","Ar Condicionado","Tubos e isolamento térmico","-","Tubo de aço-carbono galvanizado 1 1/4\"","m",100]
["SF-00342","Grupo 01","Ar Condicionado","Tubos e isolamento térmico","-","Tubo de aço-carbono galvanizado 1\"","m",100]
["SF-00343","Grupo 01","Ar Condicionado","Tubos e isolamento térmico","-","Tubo de aço-carbono galvanizado 3/4\"","m",750]
["SF-00344","Grupo 01","Ar Condicionado","Tubos e isolamento térmico","-","Tubo de cobre de 1/2\"","m",400]
["SF-00345","Grupo 01","Ar Condicionado","Tubos e isolamento térmico","-","Tubo de cobre de 1/4\"","m",400]
["SF-00346","Grupo 01","Ar Condicionado","Tubos e isolamento térmico","-","Tubo de cobre de 3/4\"","m",400]
["SF-00347","Grupo 01","Ar Condicionado","Tubos e isolamento térmico","-","Tubo de cobre de 3/8\"","m",800]
["SF-00348","Grupo 01","Ar Condicionado","Tubos e isolamento térmico","-","Tubo de cobre de 5/8\"","m",400]
["SF-00349","Grupo 01","Ar Condicionado","Tubos e isolamento térmico","-","Tubo de cobre de 7/8\"","m",100]
["SF-00350","Grupo 01","Ar Condicionado","Tubos e isolamento térmico","-","Tubo de cobre de 1\"","m",30]
["SF-00351","Grupo 01","Ar Condicionado","Tubos e isolamento térmico","-","Tubo de cobre de 1 1/8\"","m",60]
["SF-00354","Grupo 01","Marcenaria e Serralheria","Armários Reaproveitado","-","Instalação de armários reaproveitados","m2",240]
["SF-00359","Grupo 01","Marcenaria e Serralheria","Portas","-","Batentes e guarnições em madeira, com verniz ou esmalte","un",80]
["SF-00360","Grupo 01","Marcenaria e Serralheria","Portas","-","Chapa de proteção para porta – Linha Acessibilidade","m2",5]
["SF-00361","Grupo 01","Marcenaria e Serralheria","Portas","-","Folha de porta em madeira 2,10x0,60m, pintada, com ou sem bandeira, e dobradiças","un",20]
["SF-00362","Grupo 01","Marcenaria e Serralheria","Portas","-","Folha de porta em madeira 2,10x0,70m, pintada, com ou sem bandeira, e dobradiças","un",40]
["SF-00363","Grupo 01","Marcenaria e Serralheria","Portas","-","Folha de porta em madeira 2,10x0,80m, pintada, com ou sem bandeira, e dobradiças","un",40]
["SF-00364","Grupo 01","Marcenaria e Serralheria","Portas","-","Folha de porta em madeira 2,10x0,90m, pintada, com ou sem bandeira, e dobradiças","un",20]
["SF-00365","Grupo 01","Marcenaria e Serralheria","Portas","-","Folha de porta em madeira 2,10x1,0m, pintada, com ou sem bandeira, e dobradiças","un",10]
["SF-00366","Grupo 01","Marcenaria e Serralheria","Portas","-","Instalação de batentes de madeira reaproveitados","un",30]
["SF-00367","Grupo 01","Marcenaria e Serralheria","Portas","-","Instalação de folhas de portas e dobradiças reaproveitadas","un",30]
["SF-00368","Grupo 01","Marcenaria e Serralheria","Ferragens","-","Dobradiça para porta","un",400]
["SF-00369","Grupo 01","Marcenaria e Serralheria","Ferragens","-","Fechadura para banheiro maçaneta em barra","un",15]
["SF-00370","Grupo 01","Marcenaria e Serralheria","Ferragens","-","Fechadura para porta externa maçaneta em barra","un",20]
["SF-00371","Grupo 01","Marcenaria e Serralheria","Ferragens","-","Fechadura para porta interna maçaneta tubular","un",160]
["SF-00372","Grupo 01","Marcenaria e Serralheria","Ferragens","-","Instalação de fechadura/puxador de porta reaproveitados","m",30]
["SF-00373","Grupo 01","Marcenaria e Serralheria","Ferragens","-","Mola hidráulica aérea","un",25]
["SF-00374","Grupo 01","Marcenaria e Serralheria","Ferragens","-","Pivô em latão com acabamento cromado para portas pivotantes","un",25]
["SF-00375","Grupo 01","Rede e Telefonia","Rede","-","Cabo de dados tipo UTP, tipo LSZH, categoria 6","m",30000]
["SF-00376","Grupo 01","Rede e Telefonia","Rede","-","Módulo (tomada) de rede RJ45, categoria 6, com conectorização e certificação","un",1400]
["SF-00377","Grupo 01","Rede e Telefonia","Rede","-","Painel de distribuição (patch panel) de 24 portas, categoria 6","un",30]
["SF-00378","Grupo 01","Rede e Telefonia","Telefonia","-","Cabo de telefonia tipo CCI 50x2","m",10000]
["SF-00379","Grupo 01","Rede e Telefonia","Telefonia","-","Módulo (tomada) de rede RJ45, para telefonia","un",1040]
["SF-00380","Grupo 01","Ar Condicionado","Difusores e Grelhas","-","Grelha para retorno para portas, divisórias e paredes 525x325 mm","un",100]
["SF-00898","Grupo 01","Civil","Estrutural","-","Armação de aço CA-50 bitolas de 5,0mm a 8,00mm","kg",5]
["SF-00915","Grupo 01","Civil","Estrutural","-","Graute industrializado, fck ≥ 25MPa","m3",1]
["SF-00916","Grupo 01","Civil","Estrutural","-","Armação de aço CA-50 bitolas de 10,0mm a 12,50mm","kg",5]
["SF-00917","Grupo 01","Civil","Estrutural","-","Armação de aço CA-50 bitolas de 16,0mm a 25,0mm","kg",5]
["SF-00918","Grupo 01","Civil","Serviços Preliminares","-","Remoção de mola hidráulica de piso","un",15]
["SF-00919","Grupo 01","Civil","Escavação e Reaterro","-","Escavação manual de valas","m3",15]
["SF-00920","Grupo 01","Civil","Escavação e Reaterro","-","Reaterro de vala com compactação mecanizada","m3",15]
["SF-00921","Grupo 01","Civil","Escavação e Reaterro","-","Aterro de vala com compactação mecanizada","m3",15]
["SF-00922","Grupo 01","Hidrossanitário","Tubos","-","Tubo de cobre classe \"E\" 22mm","m",10]
["SF-00923","Grupo 01","Hidrossanitário","Tubos","-","Tubo de cobre classe \"E\" 28 mm","m",10]
["SF-00924","Grupo 01","Hidrossanitário","Tubos","-","Tubo de cobre classe \"E\" 42mm","m",10]
["SF-00925","Grupo 01","Hidrossanitário","Acessibilidade","Acessibilidade","Bacia conforto (h=44cm) com assento poliéster e acessórios – Linha Acessibilidade","un",5]
["SF-00926","Grupo 01","Hidrossanitário","Acessibilidade","Acessibilidade","Assento para bacia convencional - Linha Acessibilidade","un",25]
["SF-00927","Grupo 01","Hidrossanitário","Registros e Válvulas","-","Base registro de gaveta 1 1/2”","un",10]
["SF-00937","Grupo 01","Serviços de Apoio","Segurança do Trabalho","-","Montagem e desmontagem de andaime fachadeiro","m2",350]
["SF-00938","Grupo 01","Serviços de Apoio","Segurança do Trabalho","-","Montagem e desmontagem de andaime tubular","m",70]
["SF-00939","Grupo 01","Serviços de Apoio","Segurança do Trabalho","-","Tensor com indicador de tensão para linha de vida","un",5]
["SF-00940","Grupo 01","Serviços de Apoio","Segurança do Trabalho","-","Locação de fechamento para andaimes com tela 100% polietileno","m2 x mês",350]
["SF-01108","Grupo 01","Civil","Pisos, Revestimentos e Pavimentação","Residencial","Porcelanato para revestimento de superfícies internas e externas – Linha Residencial","m2",250]
["SF-01113","Grupo 01","Civil","Pisos, Revestimentos e Pavimentação","Residencial","Lixamento, calafetação e aplicação de sinteco em piso de madeira - Linha Residencial","m2",500]
["SF-01114","Grupo 01","Civil","Pisos, Revestimentos e Pavimentação","Residencial","Piso em taco de madeira – Linha Residencial","m2",200]
["SF-01116","Grupo 01","Civil","Pisos, Revestimentos e Pavimentação","Residencial","Piso sintético flutuante – Linha Residencial","m2",400]
["SF-01251","Grupo 01","Hidrossanitário","Louças","Residencial","Bacia convencional – Linha Residencial","un",20]
["SF-01252","Grupo 01","Hidrossanitário","Louças","Residencial","Bidê 3 furos - Linha Residencial","un",15]
["SF-01255","Grupo 01","Hidrossanitário","Metais","Residencial","Chuveiro de metal com tubo de parede – Linha Residencial","un",30]
["SF-01256","Grupo 01","Hidrossanitário","Metais","Residencial","Misturador para bidê - Linha Residencial","un",15]
["SF-01257","Grupo 01","Hidrossanitário","Metais","Residencial","Misturador de mesa para cozinha bica móvel – Linha Residencial","un",15]
["SF-01258","Grupo 01","Hidrossanitário","Metais","Residencial","Misturador de mesa para lavatório bica alta – Linha Residencial","un",15]
["SF-01259","Grupo 01","Hidrossanitário","Metais","Residencial","Misturador de parede para cozinha – Linha Residencial","un",15]
["SF-01261","Grupo 01","Elétrica","Iluminação","Residencial","Luminária tipo arandela – Linha Residencial","un",25]
["SF-01262","Grupo 01","Hidrossanitário","Metais","Residencial","Tê misturador de transição 1/2\" ou 3/4\" – Linha Residencial","un",20]
["SF-01263","Grupo 01","Hidrossanitário","Metais","Residencial","Base para válvula de descarga 1 1/2","un",10]
["SF-01264","Grupo 01","Hidrossanitário","Metais","Residencial","Base para válvula de descarga 1 1/4","un",10]
["SF-01265","Grupo 01","Hidrossanitário","Plástico","Residencial","Anel de Vedação para bacia sanitária","un",10]
["SF-01266","Grupo 01","Marcenaria e Serralheria","Portas",null,"Folha de porta em madeira e MDF 2,10x0,60m, com ou sem bandeira, e dobradiças","un",10]
["SF-01267","Grupo 01","Marcenaria e Serralheria","Portas",null,"Folha de porta em madeira e MDF 2,10x0,70m, com ou sem bandeira, e dobradiças","un",20]
["SF-01268","Grupo 01","Marcenaria e Serralheria","Portas",null,"Folha de porta em madeira e MDF 2,10x0,80m, com ou sem bandeira, e dobradiças","un",20]
["SF-01269","Grupo 01","Marcenaria e Serralheria","Portas",null,"Folha de porta em madeira e MDF 2,10x0,90m, com ou sem bandeira, e dobradiças","un",10]
["SF-01270","Grupo 01","Serviços de Apoio","Serviços Preliminares","Residencial","Remoção de boiler","un",15]
["SF-01271","Grupo 01","Serviços de Apoio","Serviços Preliminares","Residencial","Remoção de tacos de madeira","m2",200]
["SF-01272","Grupo 01","Civil","Pisos, Revestimentos e Pavimentação","Residencial","Cerâmica 30x60cm- Glacier White - Portobello – Linha Residencial","m2",100]
["SF-01273","Grupo 01","Civil","Pisos, Revestimentos e Pavimentação","Residencial","Instalação de tacos de madeira reaproveitados","m2",150]
["SF-01274","Grupo 01","Civil","Cortinas","Residencial","Cortina de linho sintético / BLECAUTE COM VARÃO – Linha Residencial","m",65]
["SF-01275","Grupo 01","Civil","Cortinas","Residencial","Cortina de linho sintético / BLECAUTE SEM VARÃO – Linha Residencial","m",65]
["SF-01276","Grupo 01","Civil","Cortinas","Residencial","Cortina de linho sintético / FORRO COM VARÃO – Linha Residencial","m",50]
["SF-01277","Grupo 01","Civil","Cortinas","Residencial","Cortina de linho sintético / FORRO SEM VARÃO – Linha Residencial","m",50]
["SF-01278","Grupo 01","Civil","Cortinas Reaproveitada","Residencial","Instalação de cortinas reaproveitadas","m",50]
["SF-01279","Grupo 01","Hidrossanitários","Tubos","Residencial","Tubo CPVC soldável 22mm – Linha Residencial","m",40]
["SF-01280","Grupo 01","Hidrossanitários","Tubos","Residencial","Tubo CPVC soldável 28mm – Linha Residencial","m",40]
["SF-01281","Grupo 01","Hidrossanitário","Metais","Residencial","Instalação de bidê reaproveitado","un",5]
["SF-01282","Grupo 01","Hidrossanitário","Acessórios","Residencial","Aquecedor elétrico para pia – Linha Residencial","un",20]
["SF-01283","Grupo 01","Hidrossanitário","Metais","Residencial","Chuveiro elétrico – Linha Residencial","un",40]
["SF-01284","Grupo 01","Hidrossanitário","Acessórios","Residencial","Instalação de boiler reaproveitado","un",10]
["SF-01285","Grupo 01","Hidrossanitário","Acessórios","Residencial","Prateleira – Linha Residencial","un",40]
["SF-01286","Grupo 01","Hidrossanitário","Acessórios","Residencial","Saboneteira – Linha Residencial","un",40]
["SF-01287","Grupo 01","Elétrica","Interruptores e Tomadas","Residencial","Módulo campainha eletrônica – Linha Residencial","un",15]
["SF-01288","Grupo 01","Elétrica","Interruptores e Tomadas","Residencial","Módulo pulsador – Linha Residencial","un",15]
["SF-01289","Grupo 01","Elétrica","Iluminação","Residencial","Luminária redonda de sobrepor (plafond) – Linha Residencial","un",40]
["SF-00352","Grupo 02","Marcenaria e Serralheria","Armários","-","Armário em MDF laminado com porta e prateleiras","m2",500]
["SF-00353","Grupo 02","Marcenaria e Serralheria","Armários","-","Armário em MDF laminado com módulo de gaveta (sem porta)","m2",100]
["SF-00355","Grupo 02","Marcenaria e Serralheria","Armários","-","Mesa/tampo de MDF, fixada em parede com mão-francesa","m2",20]
["SF-00356","Grupo 02","Marcenaria e Serralheria","Armários","Residencial","Painel de TV em Compensado","m2",50]
["SF-00357","Grupo 02","Marcenaria e Serralheria","Armários","Residencial","Painel de TV em MDF","m2",50]
["SF-01291","Grupo 02","Marcenaria e Serralheria","Armários","Residencial","Armário em MDF laminado com porta e módulo de gaveta – Linha Residencial","m2",300]
["SF-00160","Grupo 03","Civil","Vidro Tremperado","-","Mola hidráulica de piso","un",25]
["SF-01253","Grupo 03","Civil","Vidro Temperado","Residencial","Divisória de Vidro temperado para box de correr e ferragens – Linha Residencial","m2",25]
["SF-01254","Grupo 03","Civil","Vidro Temperado","Residencial","Divisória de Vidro temperado para box com porta de giro e ferragens – Linha Residencial","m2",25]
["SF-00163","Grupo 05","Civil","Persiana em Juta","-","Persiana vertical em tecido Juta Resinado sem blecaute de 90mm, cor bege","m2",300]
["SF-00164","Grupo 06","Civil","Persiana em Tecido Sintético","-","Persiana vertical em tecido sintético sem blecaute de 90mm, cores verde escuro ou branca","m2",300]
["SF-01295","Grupo 06","Civil","Portas","-","Bandeira de porta, em madeira e MDF","m2",30]
["SF-01296","Grupo 06","Civil","Portas","-","Bandeira de porta, em madeira pintada","m2",13.5]
["SF-01330","Grupo 01","Ar Condicionado","Equipamentos Terminais e Unitários","-","Ar-condicionado split hi-wall inverter 18.000 BTU/h","un",40]

{"sheet":"Cálculo de Hh","index":1,"n_rows":459,"n_cols":51,"rows_kept":459,"cut":false,"hidden":true,"merged":[[445,0,445,2],[0,35,0,40],[0,4,0,34],[0,2,0,3],[0,0,1,0],[0,1,1,1]]}
["Número-SF","Discriminação","Qtd.",null,"Composição do Hh direto",null,null,null,null,null,null,null,null,null,null,null,null,null,null,null,null,null,null,null,null,null,null,null,null,null,null,null,null,null,null,"Cálculo Hh indireto"]
[null,null,2021,2020,"Engenheiro civil de obra júnior com encargos complementares","Mestre de obras com encargos complementares","Engenheiro Civil de Obra Pleno","Engenheiro de Segurança do Trabalho","Pedreiro com Encargos Complementares","Servente com Encargos Complementares","Gesseiro com encargos complementares","Eletricista com encargos complementares","Azulejista ou ladrilhista com encargos complementares","Encanador ou Bombeiro Hidráulico com Encargos Complementares","Carpinteiro de esquadria com encargos complementares","Ajudante especializado com encargos complementares","Ajudante de operação em geral com encargos complementares","Marmorista/graniteiro com encargos complementares","Montador de estrutura metálica com encargos complementares","Auxiliar de eletricista com encargos complementares","Montador eletromecânico com encargos complementares","Vidraceiro com encargos complementares","Ajudante de carpinteiro com encargos complementares","Carpinteiro de formas com encargos complementares","Pintor com encargos complementares","Auxiliar de encanador ou bombeiro hidráulico com encargos complementares","Operador de betoneira estacionária/misturador com encargos complementares","Impermeabilizador com encargos complementares","Ajudante de Pedreiro com Encargos Complementares","Marceneiro com encargos complementares","Serralheiro com encargos complementares","Auxiliar de serralheiro com encargos complementares","Subtotal Profissional","Subtotal Auxiliar","Total Hh","Hh Total Engenheiro","Hh Total Mestre","Coef. Engenheiro","Coef. Mestre","Coef. Engenheiro / HhD","Coef. Mestre  / HhD"]
["SF-00001",{"$f":"VLOOKUP(A3,'Itens ARP 2021'!$A$4:$M$425,6,FALSE)","v":"Engenheiro(a) /Arquiteto(a) júnior"},{"$f":"AJ446","v":{"$error":"#N/A"}},3000,null,null,null,null,null,null,null,null,null,null,null,null,null,null,null,null,null,null,null,null,null,null,null,null,null,null,null,null,{"$f":"SUM(I3,K3,L3,M3,N3,O3,R3,S3,U3,V3,X3,Y3,AA3,AB3,AD3,AE3)","v":0},{"$f":"SUM(P3,Q3,T3,W3,Z3,AC3,AF3)+J3","v":0},{"$f":"AG3+AH3","v":0},0,0,0,0,0,0]
["SF-00002",{"$f":"VLOOKUP(A4,'Itens ARP 2021'!$A$4:$M$425,6,FALSE)","v":"Mestre de obras"},{"$f":"AK446","v":{"$error":"#N/A"}},6000,null,null,null,null,null,null,null,null,null,null,null,null,null,null,null,null,null,null,null,null,null,null,null,null,null,null,null,null,0,0,{"$f":"AG4+AH4","v":0},0,0,0,0,0,0]
["SF-00003",{"$f":"VLOOKUP(A5,'Itens ARP 2021'!$A$4:$M$425,6,FALSE)","v":{"$error":"#N/A"}},{"$f":"VLOOKUP(A5,'Itens ARP 2021'!$A$4:$M$425,8,FALSE)","v":{"$error":"#N/A"}},10,null,null,{"$f":"C5*16","v":{"$error":"#N/A"}},null,null,null,null,null,null,null,null,null,null,null,null,null,null,null,null,null,null,null,null,null,null,null,null,null,0,0,0,0,0,0,0,0,0,null,null,"Código de cores"]
["SF-00004",{"$f":"VLOOKUP(A6,'Itens ARP 2021'!$A$4:$M$425,6,FALSE)","v":"Projetos de segurança do trabalho"},{"$f":"VLOOKUP(A6,'Itens ARP 2021'!$A$4:$M$425,8,FALSE)","v":10},6,null,null,null,{"$f":"C6*20","v":200},null,null,null,null,null,null,null,null,null,null,null,null,null,null,null,null,null,null,null,null,null,null,null,null,0,0,0,0,0,0,0,0,0]
["SF-00005",{"$f":"VLOOKUP(A7,'Itens ARP 2021'!$A$4:$M$425,6,FALSE)","v":"Demolição de alvenarias"},{"$f":"VLOOKUP(A7,'Itens ARP 2021'!$A$4:$M$425,8,FALSE)","v":100},50,{"$f":"IFERROR(AL7*C7,0)","v":7.4703589152964947},{"$f":"IFERROR(AM7*C7,0)","v":14.940717830592989},null,null,{"$f":"C7*0.225","v":22.5},{"$f":"C7*2.3248","v":232.48000000000002},null,null,null,null,null,null,null,null,null,null,null,null,null,null,null,null,null,null,null,null,null,null,22.5,232.48000000000002,254.98000000000002,{"$f":"C7*AL7","v":7.4703589152964947},{"$f":"C7*AM7","v":14.940717830592989},7.4703589152964947E-2,0.14940717830592989,{"$f":"AL7/AI7","v":2.9297823026498134E-4},{"$f":"AM7/AI7","v":5.8595646052996269E-4},null,null,null,"Não contribui para Hh indireto"]
["SF-00006",{"$f":"VLOOKUP(A8,'Itens ARP 2021'!$A$4:$M$425,6,FALSE)","v":"Demolição de concreto simples"},{"$f":"VLOOKUP(A8,'Itens ARP 2021'!$A$4:$M$425,8,FALSE)","v":20},20,8.3791773855784673,16.758354771156935,null,null,{"$f":"C8*1.3","v":26},{"$f":"C8*13","v":260},null,null,null,null,null,null,null,null,null,null,null,null,null,null,null,null,null,null,null,null,null,null,26,260,286,8.3791773855784673,16.758354771156935,0.41895886927892334,0.83791773855784668,1.4648911513249069E-3,2.9297823026498138E-3]
["SF-00007",{"$f":"VLOOKUP(A9,'Itens ARP 2021'!$A$4:$M$425,6,FALSE)","v":"Demolição de contrapiso"},{"$f":"VLOOKUP(A9,'Itens ARP 2021'!$A$4:$M$425,8,FALSE)","v":400},634,8.2033904474194763,16.406780894838953,null,null,null,{"$f":"C9*0.7","v":280},null,null,null,null,null,null,null,null,null,null,null,null,null,null,null,null,null,null,null,null,null,null,0,280,280,8.2033904474194763,16.406780894838953,2.0508476118548693E-2,4.1016952237097386E-2,7.3244557566245336E-5,1.4648911513249067E-4,null,null,null,"Hh direto estimado por analogia"]
["SF-00008",{"$f":"VLOOKUP(A10,'Itens ARP 2021'!$A$4:$M$425,6,FALSE)","v":"Demolição de fechamento ou parede em gesso acartonado"},{"$f":"VLOOKUP(A10,'Itens ARP 2021'!$A$4:$M$425,8,FALSE)","v":200},100,2.0596369587628192,4.1192739175256383,null,null,null,{"$f":"C10*0.3515","v":70.3},null,null,null,null,null,null,null,null,null,null,null,null,null,null,null,null,null,null,null,null,null,null,0,70.3,70.3,2.0596369587628192,4.1192739175256383,1.0298184793814096E-2,2.0596369587628192E-2,1.464891151324907E-4,2.929782302649814E-4]
["SF-00009",{"$f":"VLOOKUP(A11,'Itens ARP 2021'!$A$4:$M$425,6,FALSE)","v":"Demolição de forro de gesso"},{"$f":"VLOOKUP(A11,'Itens ARP 2021'!$A$4:$M$425,8,FALSE)","v":3000},3300,18.580679363405117,37.161358726810235,null,null,null,{"$f":"C11*0.1401","v":420.3},{"$f":"C11*0.0713","v":213.9},null,null,null,null,null,null,null,null,null,null,null,null,null,null,null,null,null,null,null,null,null,213.9,420.3,634.20000000000005,18.580679363405117,37.161358726810235,6.1935597878017053E-3,1.2387119575603411E-2,9.7659410088327101E-6,1.953188201766542E-5,null,null,null,"Dados não disponíveis pelo SEORC - estimado por consulta ao SINAPI"]
["SF-00010",{"$f":"VLOOKUP(A12,'Itens ARP 2021'!$A$4:$M$425,6,FALSE)","v":"Demolição de infraestrutura elétrica (eletrodutos, eletrocalhas, cabos)"},{"$f":"VLOOKUP(A12,'Itens ARP 2021'!$A$4:$M$425,8,FALSE)","v":4000},5000,16.641163479050942,33.282326958101883,null,null,null,{"$f":"C12*0.094","v":376},null,{"$f":"C12*0.048","v":192},null,null,null,null,null,null,null,null,null,null,null,null,null,null,null,null,null,null,null,null,192,376,568,16.641163479050942,33.282326958101883,4.1602908697627354E-3,8.3205817395254709E-3,7.3244557566245343E-6,1.4648911513249069E-5]
["SF-00011",{"$f":"VLOOKUP(A13,'Itens ARP 2021'!$A$4:$M$425,6,FALSE)","v":"Demolição de revestimento cerâmico, granito, mármore ou granitina"},{"$f":"VLOOKUP(A13,'Itens ARP 2021'!$A$4:$M$425,8,FALSE)","v":340},340,4.0113993331420721,8.0227986662841442,null,null,null,{"$f":"C13*0.2972","v":101.048},null,null,{"$f":"C13*0.1055","v":35.869999999999997},null,null,null,null,null,null,null,null,null,null,null,null,null,null,null,null,null,null,null,35.869999999999997,101.048,136.91800000000001,4.0113993331420721,8.0227986662841442,1.17982333327708E-2,2.3596466665541601E-2,8.6170067724994527E-5,1.7234013544998905E-4,null,null,null,"Hh indireto calculado a partir da média histórica 2020"]
["SF-00012",{"$f":"VLOOKUP(A14,'Itens ARP 2021'!$A$4:$M$425,6,FALSE)","v":"Demolição de revestimento em argamassa"},{"$f":"VLOOKUP(A14,'Itens ARP 2021'!$A$4:$M$425,8,FALSE)","v":1000},2000,4.1807993458812849,8.3615986917625698,null,null,{"$f":"C14*0.0374","v":37.400000000000006},{"$f":"C14*0.1053","v":105.30000000000001},null,null,null,null,null,null,null,null,null,null,null,null,null,null,null,null,null,null,null,null,null,null,37.400000000000006,105.30000000000001,142.70000000000002,4.1807993458812849,8.3615986917625698,4.1807993458812852E-3,8.3615986917625704E-3,2.929782302649814E-5,5.8595646052996281E-5]
["SF-00013",{"$f":"VLOOKUP(A15,'Itens ARP 2021'!$A$4:$M$425,6,FALSE)","v":"Demolição de tubulação hidrossanitária embutida com conexões e acessórios"},{"$f":"VLOOKUP(A15,'Itens ARP 2021'!$A$4:$M$425,8,FALSE)","v":100},100,6.1818406585911076E-2,0.12363681317182215,null,null,null,{"$f":"C15*0.014","v":1.4000000000000001},null,null,null,{"$f":"C15*0.0071","v":0.71000000000000008},null,null,null,null,null,null,null,null,null,null,null,null,null,null,null,null,null,null,0.71000000000000008,1.4000000000000001,2.1100000000000003,6.1818406585911076E-2,0.12363681317182215,6.1818406585911073E-4,1.2363681317182215E-3,2.9297823026498134E-4,5.8595646052996269E-4]
["SF-00014",{"$f":"VLOOKUP(A16,'Itens ARP 2021'!$A$4:$M$425,6,FALSE)","v":"Demolição em concreto armado"},{"$f":"VLOOKUP(A16,'Itens ARP 2021'!$A$4:$M$425,8,FALSE)","v":10},10,2.113867229184867,4.227734458369734,null,null,{"$f":"C16*0.6366","v":6.3660000000000005},{"$f":"C16*6.5785","v":65.784999999999997},null,null,null,null,null,null,null,null,null,null,null,null,null,null,null,null,null,null,null,null,null,null,6.3660000000000005,65.784999999999997,72.150999999999996,2.113867229184867,4.227734458369734,0.2113867229184867,0.4227734458369734,2.9297823026498138E-3,5.8595646052996275E-3]
["SF-00015",{"$f":"VLOOKUP(A17,'Itens ARP 2021'!$A$4:$M$425,6,FALSE)","v":"Locação de caçambas"},{"$f":"VLOOKUP(A17,'Itens ARP 2021'!$A$4:$M$425,8,FALSE)","v":110},110,0,0,null,null,null,null,null,null,null,null,null,null,null,null,null,null,null,null,null,null,null,null,null,null,null,null,null,null,0,0,0,0,0,0,0,0,0,null,null,"Cálculo coeficientes médios c/ base 2020"]
["SF-00016",{"$f":"VLOOKUP(A18,'Itens ARP 2021'!$A$4:$M$425,6,FALSE)","v":"Remoção de armários"},{"$f":"VLOOKUP(A18,'Itens ARP 2021'!$A$4:$M$425,8,FALSE)","v":240},240,4.9220342684516867,9.8440685369033734,null,null,null,{"$f":"C18*0.35","v":84},null,null,null,null,{"$f":"C18*0.35","v":84},null,null,null,null,null,null,null,null,null,null,null,null,null,null,null,null,null,84,84,168,{"$f":"C18*AL18","v":4.9220342684516867},{"$f":"C18*AM18","v":9.8440685369033734},2.0508476118548693E-2,4.1016952237097386E-2,1.2207426261040888E-4,2.4414852522081776E-4]
["SF-00017",{"$f":"VLOOKUP(A19,'Itens ARP 2021'!$A$4:$M$425,6,FALSE)","v":"Remoção de bancadas"},{"$f":"VLOOKUP(A19,'Itens ARP 2021'!$A$4:$M$425,8,FALSE)","v":40},40,1.3476998592189142,2.6953997184378284,null,null,{"$f":"C19*0.15","v":6},{"$f":"C19*1","v":40},null,null,null,null,null,null,null,null,null,null,null,null,null,null,null,null,null,null,null,null,null,null,6,40,46,1.3476998592189142,2.6953997184378284,3.3692496480472858E-2,6.7384992960945717E-2,7.3244557566245344E-4,1.4648911513249069E-3,null,null,"Dados obtidos por meio de rateio:",null,null,null,"AL3:AM391"]
["SF-00018",{"$f":"VLOOKUP(A20,'Itens ARP 2021'!$A$4:$M$425,6,FALSE)","v":"Remoção de batentes de madeira"},{"$f":"VLOOKUP(A20,'Itens ARP 2021'!$A$4:$M$425,8,FALSE)","v":50},43,0.39960765716992142,0.79921531433984283,null,null,{"$f":"C20*0.09205","v":4.6025},{"$f":"C20*0.18074","v":9.0370000000000008},null,null,null,null,null,null,null,null,null,null,null,null,null,null,null,null,null,null,null,null,null,null,4.6025,9.0370000000000008,13.639500000000002,0.39960765716992142,0.79921531433984283,7.9921531433984287E-3,1.5984306286796857E-2,5.859564605299628E-4,1.1719129210599256E-3]
["SF-00019",{"$f":"VLOOKUP(A21,'Itens ARP 2021'!$A$4:$M$425,6,FALSE)","v":"Remoção de canaleta em alumínio"},{"$f":"VLOOKUP(A21,'Itens ARP 2021'!$A$4:$M$425,8,FALSE)","v":200},300,1.3184020361924162,2.6368040723848325,null,null,null,{"$f":"C21*0.15","v":30},null,{"$f":"C21*0.075","v":15},null,null,null,null,null,null,null,null,null,null,null,null,null,null,null,null,null,null,null,null,15,30,45,1.3184020361924162,2.6368040723848325,6.592010180962081E-3,1.3184020361924162E-2,1.464891151324907E-4,2.929782302649814E-4,null,null,"Coeficientes HhI normalizados por HhD",null,null,null,"AN3:AO391"]
["SF-00020",{"$f":"VLOOKUP(A22,'Itens ARP 2021'!$A$4:$M$425,6,FALSE)","v":"Remoção de carpete"},{"$f":"VLOOKUP(A22,'Itens ARP 2021'!$A$4:$M$425,8,FALSE)","v":300},400,0.96682815987443849,1.933656319748877,null,null,{"$f":"C22*0.01","v":3},{"$f":"C22*0.1","v":30},null,null,null,null,null,null,null,null,null,null,null,null,null,null,null,null,null,null,null,null,null,null,3,30,33,0.96682815987443849,1.933656319748877,3.2227605329147951E-3,6.4455210658295901E-3,9.7659410088327128E-5,1.9531882017665426E-4]
["SF-00021",{"$f":"VLOOKUP(A23,'Itens ARP 2021'!$A$4:$M$425,6,FALSE)","v":"Remoção de cortinas"},{"$f":"VLOOKUP(A23,'Itens ARP 2021'!$A$4:$M$425,8,FALSE)","v":50},50,0.24903149572523417,0.49806299145046834,null,null,null,null,null,null,null,null,null,{"$f":"C23*0.17","v":8.5},null,null,null,null,null,null,null,null,null,null,null,null,null,null,null,null,0,8.5,8.5,0.24903149572523417,0.49806299145046834,4.9806299145046832E-3,9.9612598290093664E-3,5.8595646052996269E-4,1.1719129210599254E-3,null,null,"Coef. Engenheiro / HhD",null,null," (médio)",1.7047465087644306E-2,"=",{"$f":"100*AV23","v":1.7047465087644307},"%"]
["SF-00022",{"$f":"VLOOKUP(A24,'Itens ARP 2021'!$A$4:$M$425,6,FALSE)","v":"Remoção de difusores, grelhas e acessórios de climatização"},{"$f":"VLOOKUP(A24,'Itens ARP 2021'!$A$4:$M$425,8,FALSE)","v":120},120,4.2188865158157318,8.4377730316314636,null,null,null,{"$f":"C24*0.6","v":72},null,null,null,null,null,null,{"$f":"C24*0.6","v":72},null,null,null,null,null,null,null,null,null,null,null,null,null,null,null,0,144,144,4.2188865158157318,8.4377730316314636,3.5157387631797765E-2,7.031477526359553E-2,2.4414852522081781E-4,4.8829705044163563E-4]
["SF-00023",{"$f":"VLOOKUP(A25,'Itens ARP 2021'!$A$4:$M$425,6,FALSE)","v":"Remoção de divisória de mármore ou granito"},{"$f":"VLOOKUP(A25,'Itens ARP 2021'!$A$4:$M$425,8,FALSE)","v":40},60,2.1094432579078655,4.2188865158157309,null,null,null,{"$f":"C25*1.2","v":48},null,null,null,null,null,null,null,{"$f":"C25*0.6","v":24},null,null,null,null,null,null,null,null,null,null,null,null,null,null,24,48,72,2.1094432579078655,4.2188865158157309,5.2736081447696641E-2,0.10547216289539328,7.3244557566245333E-4,1.4648911513249067E-3,null,null,"Coef. Mestre / HhD",null,null," (médio)",3.4094930175288612E-2,"=",{"$f":"100*AV25","v":3.4094930175288614},"%"]
["SF-00024",{"$f":"VLOOKUP(A26,'Itens ARP 2021'!$A$4:$M$425,6,FALSE)","v":"Remoção de divisórias de MDF e gesso acartonado"},{"$f":"VLOOKUP(A26,'Itens ARP 2021'!$A$4:$M$425,8,FALSE)","v":1500},1387,52.736081447696648,105.4721628953933,null,null,null,null,null,null,null,null,{"$f":"C26*1.2","v":1800},null,null,null,null,null,null,null,null,null,null,null,null,null,null,null,null,null,1800,0,1800,52.736081447696648,105.4721628953933,3.5157387631797765E-2,7.031477526359553E-2,1.9531882017665424E-5,3.9063764035330847E-5]
["SF-00025",{"$f":"VLOOKUP(A27,'Itens ARP 2021'!$A$4:$M$425,6,FALSE)","v":"Remoção de dutos/tubulações"},{"$f":"VLOOKUP(A27,'Itens ARP 2021'!$A$4:$M$425,8,FALSE)","v":1500},2000,20.874698906379923,41.749397812759845,null,null,null,{"$f":"C27*0.3","v":450},null,null,null,{"$f":"C27*0.175","v":262.5},null,null,null,null,null,null,null,null,null,null,null,null,null,null,null,null,null,null,262.5,450,712.5,20.874698906379923,41.749397812759845,1.3916465937586615E-2,2.7832931875173231E-2,1.9531882017665424E-5,3.9063764035330847E-5,null,null,"NOTAS IMPORTANTES: "]
["SF-00026",{"$f":"VLOOKUP(A28,'Itens ARP 2021'!$A$4:$M$425,6,FALSE)","v":"Remoção de esquadrias metálicas"},{"$f":"VLOOKUP(A28,'Itens ARP 2021'!$A$4:$M$425,8,FALSE)","v":70},100,1.1279661865201782,2.2559323730403564,null,null,{"$f":"C28*0.05","v":3.5},{"$f":"C28*0.5","v":35},null,null,null,null,null,null,null,null,null,null,null,null,null,null,null,null,null,null,null,null,null,null,3.5,35,38.5,1.1279661865201782,2.2559323730403564,1.6113802664573976E-2,3.2227605329147951E-2,4.1854032894997339E-4,8.3708065789994679E-4,null,null,"COEFICIENTES MÉDIOS FORAM CALCULADOS PROPORCIONALMENTE AOS QUANTITATIVOS FÍSICOS ORIGINAIS DE 2020"]
["SF-00027",{"$f":"VLOOKUP(A29,'Itens ARP 2021'!$A$4:$M$425,6,FALSE)","v":"Remoção de exaustor"},{"$f":"VLOOKUP(A29,'Itens ARP 2021'!$A$4:$M$425,8,FALSE)","v":15},20,0.43946734539747206,0.87893469079494413,null,null,{"$f":"C29*0.5","v":7.5},{"$f":"C29*0.5","v":7.5},null,null,null,null,null,null,null,null,null,null,null,null,null,null,null,null,null,null,null,null,null,null,7.5,7.5,15,0.43946734539747206,0.87893469079494413,2.9297823026498138E-2,5.8595646052996275E-2,1.9531882017665425E-3,3.906376403533085E-3,null,null,"COEFICIENTES NORMALIZADOS NAS COLUNAS 'AN E'AO SÃO PROPORCIONAIS AOS QUANTITATIVOS DA ATA VIGENTE"]
["SF-00028",{"$f":"VLOOKUP(A30,'Itens ARP 2021'!$A$4:$M$425,6,FALSE)","v":"Remoção de fechadura/puxador de porta"},{"$f":"VLOOKUP(A30,'Itens ARP 2021'!$A$4:$M$425,8,FALSE)","v":101},101,0.73977003141907793,1.4795400628381559,null,null,null,null,null,null,null,null,{"$f":"C30*0.25","v":25.25},null,null,null,null,null,null,null,null,null,null,null,null,null,null,null,null,null,25.25,0,25.25,0.73977003141907793,1.4795400628381559,7.3244557566245344E-3,1.4648911513249069E-2,2.9007745570790237E-4,5.8015491141580474E-4,null,null,"EM OUTRAS PALAVRAS, SE CALCULADA NOVA MÉDIA DE 'AN E 'AO, NÃO SERÁ IGUAL AOS VALORES EM 'AV23 E 'AV25"]
["SF-00029",{"$f":"VLOOKUP(A31,'Itens ARP 2021'!$A$4:$M$425,6,FALSE)","v":"Remoção de folha de porta e dobradiças / pivôs"},{"$f":"VLOOKUP(A31,'Itens ARP 2021'!$A$4:$M$425,8,FALSE)","v":82},82,0.93622365394095841,1.8724473078819168,null,null,{"$f":"C31*0.1315","v":10.783000000000001},{"$f":"C31*0.2582","v":21.1724},null,null,null,null,null,null,null,null,null,null,null,null,null,null,null,null,null,null,null,null,null,null,10.783000000000001,21.1724,31.955400000000001,0.93622365394095841,1.8724473078819168,1.1417361633426323E-2,2.2834723266852645E-2,3.5729052471339184E-4,7.1458104942678368E-4]
["SF-00030",{"$f":"VLOOKUP(A32,'Itens ARP 2021'!$A$4:$M$425,6,FALSE)","v":"Remoção de laminado melamínico (LDAP), em PVC ou vinílico"},{"$f":"VLOOKUP(A32,'Itens ARP 2021'!$A$4:$M$425,8,FALSE)","v":1000},1000,29.004844796233154,58.009689592466309,null,null,{"$f":"C32*0.09","v":90},{"$f":"C32*0.9","v":900},null,null,null,null,null,null,null,null,null,null,null,null,null,null,null,null,null,null,null,null,null,null,90,900,990,29.004844796233154,58.009689592466309,2.9004844796233154E-2,5.8009689592466308E-2,2.9297823026498137E-5,5.8595646052996274E-5]
["SF-00031",{"$f":"VLOOKUP(A33,'Itens ARP 2021'!$A$4:$M$425,6,FALSE)","v":"Remoção de louças"},{"$f":"VLOOKUP(A33,'Itens ARP 2021'!$A$4:$M$425,8,FALSE)","v":80},120,1.2194925856549581,2.4389851713099162,null,null,null,{"$f":"C33*0.3448","v":27.584},null,null,null,{"$f":"C33*0.1755","v":14.04},null,null,null,null,null,null,null,null,null,null,null,null,null,null,null,null,null,null,14.04,27.584,41.623999999999995,1.2194925856549581,2.4389851713099162,1.5243657320686978E-2,3.0487314641373955E-2,3.6622278783122667E-4,7.3244557566245333E-4]
["SF-00032",{"$f":"VLOOKUP(A34,'Itens ARP 2021'!$A$4:$M$425,6,FALSE)","v":"Remoção de luminária"},{"$f":"VLOOKUP(A34,'Itens ARP 2021'!$A$4:$M$425,8,FALSE)","v":500},500,3.9698550200904976,7.9397100401809952,null,null,null,{"$f":"C34*0.1795","v":89.75},null,{"$f":"C34*0.0915","v":45.75},null,null,null,null,null,null,null,null,null,null,null,null,null,null,null,null,null,null,null,null,45.75,89.75,135.5,3.9698550200904976,7.9397100401809952,7.9397100401809948E-3,1.587942008036199E-2,5.8595646052996274E-5,1.1719129210599255E-4]
["SF-00033",{"$f":"VLOOKUP(A35,'Itens ARP 2021'!$A$4:$M$425,6,FALSE)","v":"Remoção de metais e acessórios"},{"$f":"VLOOKUP(A35,'Itens ARP 2021'!$A$4:$M$425,8,FALSE)","v":300},300,3.3346782168760174,6.6693564337520348,null,null,null,{"$f":"C35*0.2514","v":75.42},null,null,null,{"$f":"C35*0.128","v":38.4},null,null,null,null,null,null,null,null,null,null,null,null,null,null,null,null,null,null,38.4,75.42,113.82,3.3346782168760174,6.6693564337520348,1.1115594056253392E-2,2.2231188112506784E-2,9.7659410088327115E-5,1.9531882017665423E-4]
["SF-00034",{"$f":"VLOOKUP(A36,'Itens ARP 2021'!$A$4:$M$425,6,FALSE)","v":"Remoção de painéis de vidro temperado"},{"$f":"VLOOKUP(A36,'Itens ARP 2021'!$A$4:$M$425,8,FALSE)","v":586},586,12.017967005469536,24.035934010939073,null,null,{"$f":"C36*0.35","v":205.1},{"$f":"C36*0.35","v":205.1},null,null,null,null,null,null,null,null,null,null,null,null,null,null,null,null,null,null,null,null,null,null,205.1,205.1,410.2,12.017967005469536,24.035934010939073,2.0508476118548696E-2,4.1016952237097393E-2,4.9996285028153817E-5,9.9992570056307633E-5]
["SF-00035",{"$f":"VLOOKUP(A37,'Itens ARP 2021'!$A$4:$M$425,6,FALSE)","v":"Remoção de película"},{"$f":"VLOOKUP(A37,'Itens ARP 2021'!$A$4:$M$425,8,FALSE)","v":196},196,0,0,null,null,null,null,null,null,null,null,null,null,null,null,null,null,null,null,null,null,null,null,null,null,null,null,null,null,0,0,0,0,0,0,0,0,0]
["SF-00036",{"$f":"VLOOKUP(A38,'Itens ARP 2021'!$A$4:$M$425,6,FALSE)","v":"Remoção de persianas"},{"$f":"VLOOKUP(A38,'Itens ARP 2021'!$A$4:$M$425,8,FALSE)","v":400},186,1.9531882017665463,3.9063764035330926,null,null,null,null,null,null,null,null,null,{"$f":"C38*0.166666666666667","v":66.666666666666799},null,null,null,null,null,null,null,null,null,null,null,null,null,null,null,null,0,66.666666666666799,66.666666666666799,{"$f":"C38*AL38","v":1.9531882017665463},{"$f":"C38*AM38","v":3.9063764035330926},4.8829705044163658E-3,9.7659410088327316E-3,7.3244557566245336E-5,1.4648911513249067E-4]
["SF-00037",{"$f":"VLOOKUP(A39,'Itens ARP 2021'!$A$4:$M$425,6,FALSE)","v":"Remoção de pintura ou textura"},{"$f":"VLOOKUP(A39,'Itens ARP 2021'!$A$4:$M$425,8,FALSE)","v":4000},5800,46.876516842397024,93.753033684794048,null,null,null,{"$f":"C39*0.4","v":1600},null,null,null,null,null,null,null,null,null,null,null,null,null,null,null,null,null,null,null,null,null,null,0,1600,1600,46.876516842397024,93.753033684794048,1.1719129210599255E-2,2.343825842119851E-2,7.3244557566245343E-6,1.4648911513249069E-5]
["SF-00038",{"$f":"VLOOKUP(A40,'Itens ARP 2021'!$A$4:$M$425,6,FALSE)","v":"Remoção de placas de forro"},{"$f":"VLOOKUP(A40,'Itens ARP 2021'!$A$4:$M$425,8,FALSE)","v":500},831,3.361925192290661,6.723850384581322,null,null,null,{"$f":"C40*0.1521","v":76.050000000000011},null,null,null,null,null,null,null,null,{"$f":"C40*0.0774","v":38.699999999999996},null,null,null,null,null,null,null,null,null,null,null,null,null,38.699999999999996,76.050000000000011,114.75,3.361925192290661,6.723850384581322,6.7238503845813216E-3,1.3447700769162643E-2,5.8595646052996267E-5,1.1719129210599253E-4]
["SF-00039",{"$f":"VLOOKUP(A41,'Itens ARP 2021'!$A$4:$M$425,6,FALSE)","v":"Remoção de quadros de elétricos ou de telecomunicações"},{"$f":"VLOOKUP(A41,'Itens ARP 2021'!$A$4:$M$425,8,FALSE)","v":30},30,2.6368040723848325,5.273608144769665,null,null,{"$f":"C41*1","v":30},{"$f":"C41*1","v":30},null,{"$f":"C41*0.5","v":15},null,null,null,null,null,null,null,{"$f":"C41*0.5","v":15},null,null,null,null,null,null,null,null,null,null,null,null,45,45,90,2.6368040723848325,5.273608144769665,8.7893469079494413E-2,0.17578693815898883,9.7659410088327125E-4,1.9531882017665425E-3]
["SF-00040",{"$f":"VLOOKUP(A42,'Itens ARP 2021'!$A$4:$M$425,6,FALSE)","v":"Remoção de revestimento acústico"},{"$f":"VLOOKUP(A42,'Itens ARP 2021'!$A$4:$M$425,8,FALSE)","v":300},440,1.7578693815898883,3.5157387631797765,null,null,null,{"$f":"C42*0.2","v":60},null,null,null,null,null,null,null,null,null,null,null,null,null,null,null,null,null,null,null,null,null,null,0,60,60,1.7578693815898883,3.5157387631797765,5.8595646052996275E-3,1.1719129210599255E-2,9.7659410088327128E-5,1.9531882017665426E-4]
["SF-00041",{"$f":"VLOOKUP(A43,'Itens ARP 2021'!$A$4:$M$425,6,FALSE)","v":"Remoção de rodapé/rodabanca de mármore ou granito"},{"$f":"VLOOKUP(A43,'Itens ARP 2021'!$A$4:$M$425,8,FALSE)","v":350},333,4.4811020319028891,8.9622040638057783,null,null,null,{"$f":"C43*0.437","v":152.94999999999999},null,null,null,null,null,null,null,null,null,null,null,null,null,null,null,null,null,null,null,null,null,null,0,152.94999999999999,152.94999999999999,4.4811020319028891,8.9622040638057783,1.2803148662579684E-2,2.5606297325159368E-2,8.3708065789994674E-5,1.6741613157998935E-4]
["SF-00042",{"$f":"VLOOKUP(A44,'Itens ARP 2021'!$A$4:$M$425,6,FALSE)","v":"Remoção de rodapés de madeira"},{"$f":"VLOOKUP(A44,'Itens ARP 2021'!$A$4:$M$425,8,FALSE)","v":10},10,8.0569013322869878E-2,0.16113802664573976,null,null,null,{"$f":"C44*0.025","v":0.25},null,null,null,null,{"$f":"C44*0.25","v":2.5},null,null,null,null,null,null,null,null,null,null,null,null,null,null,null,null,null,2.5,0.25,2.75,8.0569013322869878E-2,0.16113802664573976,8.0569013322869878E-3,1.6113802664573976E-2,2.9297823026498138E-3,5.8595646052996275E-3]
["SF-00043",{"$f":"VLOOKUP(A45,'Itens ARP 2021'!$A$4:$M$425,6,FALSE)","v":"Remoção de soleira de mármore ou granito"},{"$f":"VLOOKUP(A45,'Itens ARP 2021'!$A$4:$M$425,8,FALSE)","v":20},20,0.32227605329147951,0.64455210658295903,null,null,null,{"$f":"C45*0.55","v":11},null,null,null,null,null,null,null,null,null,null,null,null,null,null,null,null,null,null,null,null,null,null,0,11,11,0.32227605329147951,0.64455210658295903,1.6113802664573976E-2,3.2227605329147951E-2,1.4648911513249069E-3,2.9297823026498138E-3]
["SF-00044",{"$f":"VLOOKUP(A46,'Itens ARP 2021'!$A$4:$M$425,6,FALSE)","v":"Remoção de split/fancolete/ACJ (equipamento unitário)"},{"$f":"VLOOKUP(A46,'Itens ARP 2021'!$A$4:$M$425,8,FALSE)","v":150},200,8.7893469079494402,17.57869381589888,null,null,null,null,null,null,null,null,null,null,{"$f":"C46*1","v":150},null,null,null,{"$f":"C46*1","v":150},null,null,null,null,null,null,null,null,null,null,null,150,150,300,8.7893469079494402,17.57869381589888,5.8595646052996268E-2,0.11719129210599254,1.9531882017665423E-4,3.9063764035330846E-4]
["SF-00045",{"$f":"VLOOKUP(A47,'Itens ARP 2021'!$A$4:$M$425,6,FALSE)","v":"Remoção de vidro comum / espelho"},{"$f":"VLOOKUP(A47,'Itens ARP 2021'!$A$4:$M$425,8,FALSE)","v":60},53,1.2305085671129219,2.4610171342258438,null,null,null,{"$f":"C47*0.2","v":12},null,null,null,null,null,null,null,null,null,null,null,{"$f":"C47*0.5","v":30},null,null,null,null,null,null,null,null,null,null,30,12,42,1.2305085671129219,2.4610171342258438,2.0508476118548696E-2,4.1016952237097393E-2,4.8829705044163563E-4,9.7659410088327125E-4]
["SF-00046",{"$f":"VLOOKUP(A48,'Itens ARP 2021'!$A$4:$M$425,6,FALSE)","v":"Retirada de entulhos"},{"$f":"VLOOKUP(A48,'Itens ARP 2021'!$A$4:$M$425,8,FALSE)","v":410},410,12.012107440864234,24.024214881728469,null,null,null,{"$f":"C48*1","v":410},null,null,null,null,null,null,null,null,null,null,null,null,null,null,null,null,null,null,null,null,null,null,0,410,410,12.012107440864234,24.024214881728469,2.9297823026498131E-2,5.8595646052996261E-2,7.1458104942678373E-5,1.4291620988535675E-4]
["SF-00047",{"$f":"VLOOKUP(A49,'Itens ARP 2021'!$A$4:$M$425,6,FALSE)","v":"Absorvedor de energia para linha de vida"},{"$f":"VLOOKUP(A49,'Itens ARP 2021'!$A$4:$M$425,8,FALSE)","v":5},5,2.490314957252342E-2,4.9806299145046841E-2,null,null,null,null,null,null,null,null,null,null,null,null,{"$f":"0.17*C49","v":0.85000000000000009},null,null,null,null,null,null,null,null,null,null,null,null,null,0.85000000000000009,0,0.85000000000000009,2.490314957252342E-2,4.9806299145046841E-2,4.9806299145046841E-3,9.9612598290093682E-3,5.8595646052996275E-3,1.1719129210599255E-2]
["SF-00048",{"$f":"VLOOKUP(A50,'Itens ARP 2021'!$A$4:$M$425,6,FALSE)","v":"Andaime fachadeiro"},{"$f":"VLOOKUP(A50,'Itens ARP 2021'!$A$4:$M$425,8,FALSE)","v":400},350,0,0,null,null,null,null,null,null,null,null,null,null,null,null,null,null,null,null,null,null,null,null,null,null,null,null,null,null,0,0,0,0,0,0,0,0,0]
["SF-00049",{"$f":"VLOOKUP(A51,'Itens ARP 2021'!$A$4:$M$425,6,FALSE)","v":"Andaime tubular (aluguel/mês)"},{"$f":"VLOOKUP(A51,'Itens ARP 2021'!$A$4:$M$425,8,FALSE)","v":70},70,0,0,null,null,null,null,null,null,null,null,null,null,null,null,null,null,null,null,null,null,null,null,null,null,null,null,null,null,0,0,0,0,0,0,0,0,0]
["SF-00050",{"$f":"VLOOKUP(A52,'Itens ARP 2021'!$A$4:$M$425,6,FALSE)","v":"Cabo de aço com 8 mm de diâmetro galvanizado para linha de vida"},{"$f":"VLOOKUP(A52,'Itens ARP 2021'!$A$4:$M$425,8,FALSE)","v":280},280,1.3675051875848268,2.7350103751696535,null,null,null,null,null,null,null,null,null,null,null,null,{"$f":"0.1667*C52","v":46.675999999999995},null,null,null,null,null,null,null,null,null,null,null,null,null,46.675999999999995,0,46.675999999999995,{"$f":"C52*AL52","v":1.3675051875848268},{"$f":"C52*AM52","v":2.7350103751696535},4.8839470985172382E-3,9.7678941970344765E-3,1.0463508223749334E-4,2.0927016447498667E-4]
["SF-00051",{"$f":"VLOOKUP(A53,'Itens ARP 2021'!$A$4:$M$425,6,FALSE)","v":"Corda de poliamida 12 mm tipo bombeiro, para trabalho em altura"},{"$f":"VLOOKUP(A53,'Itens ARP 2021'!$A$4:$M$425,8,FALSE)","v":84},84,0.12305085671129218,0.24610171342258436,null,null,null,null,null,null,null,null,null,null,null,null,{"$f":"0.05*C53","v":4.2},null,null,null,null,null,null,null,null,null,null,null,null,null,4.2,0,4.2,{"$f":"C53*AL53","v":0.12305085671129218},{"$f":"C53*AM53","v":0.24610171342258436},1.4648911513249069E-3,2.9297823026498138E-3,3.4878360745831116E-4,6.9756721491662232E-4]
["SF-00052",{"$f":"VLOOKUP(A54,'Itens ARP 2021'!$A$4:$M$425,6,FALSE)","v":"Ensaio de ponto de ancoragem existente"},{"$f":"VLOOKUP(A54,'Itens ARP 2021'!$A$4:$M$425,8,FALSE)","v":20},28,0.58595646052996275,1.1719129210599255,null,null,null,null,null,null,null,null,null,{"$f":"0.5*C54","v":10},null,null,{"$f":"0.5*C54","v":10},null,null,null,null,null,null,null,null,null,null,null,null,null,10,10,20,{"$f":"C54*AL54","v":0.58595646052996275},{"$f":"C54*AM54","v":1.1719129210599255},2.9297823026498138E-2,5.8595646052996275E-2,1.4648911513249069E-3,2.9297823026498138E-3]
["SF-00053",{"$f":"VLOOKUP(A55,'Itens ARP 2021'!$A$4:$M$425,6,FALSE)","v":{"$error":"#N/A"}},{"$f":"VLOOKUP(A55,'Itens ARP 2021'!$A$4:$M$425,8,FALSE)","v":{"$error":"#N/A"}},40,0,0,null,null,null,null,null,null,null,null,null,null,null,null,null,null,null,null,null,null,null,null,null,null,null,null,null,null,0,0,0,0,0,0,0,0,0]
["SF-00054",{"$f":"VLOOKUP(A56,'Itens ARP 2021'!$A$4:$M$425,6,FALSE)","v":{"$error":"#N/A"}},{"$f":"VLOOKUP(A56,'Itens ARP 2021'!$A$4:$M$425,8,FALSE)","v":{"$error":"#N/A"}},{"$error":"#N/A"},0,0,null,null,null,null,null,null,null,null,null,null,null,null,null,null,null,null,null,null,null,null,null,null,null,null,null,null,0,0,0,0,0,0,0,0,0]
["SF-00055",{"$f":"VLOOKUP(A57,'Itens ARP 2021'!$A$4:$M$425,6,FALSE)","v":{"$error":"#N/A"}},{"$f":"VLOOKUP(A57,'Itens ARP 2021'!$A$4:$M$425,8,FALSE)","v":{"$error":"#N/A"}},50,0,0,null,null,null,null,null,null,null,null,null,null,null,null,null,null,null,null,null,null,null,null,null,null,null,null,null,null,0,0,0,0,0,0,0,0,0]
["SF-00056",{"$f":"VLOOKUP(A58,'Itens ARP 2021'!$A$4:$M$425,6,FALSE)","v":{"$error":"#N/A"}},{"$f":"VLOOKUP(A58,'Itens ARP 2021'!$A$4:$M$425,8,FALSE)","v":{"$error":"#N/A"}},{"$error":"#N/A"},0,0,null,null,null,null,null,null,null,null,null,null,null,null,null,null,null,null,null,null,null,null,null,null,null,null,null,null,0,0,0,0,0,0,0,0,0]
["SF-00057",{"$f":"VLOOKUP(A59,'Itens ARP 2021'!$A$4:$M$425,6,FALSE)","v":"Isolamento de obra com tela plástica com malha de 5mm e estrutura de madeira pontaleteada"},{"$f":"VLOOKUP(A59,'Itens ARP 2021'!$A$4:$M$425,8,FALSE)","v":200},280,5.6837776671406397,11.367555334281279,null,null,null,null,null,null,null,null,null,null,null,null,null,null,null,null,{"$f":"C59*0.53","v":106},{"$f":"C59*0.44","v":88},null,null,null,null,null,null,null,null,88,106,194,{"$f":"C59*AL59","v":5.6837776671406397},{"$f":"C59*AM59","v":11.367555334281279},2.8418888335703198E-2,5.6837776671406395E-2,1.464891151324907E-4,2.929782302649814E-4]
["SF-00058",{"$f":"VLOOKUP(A60,'Itens ARP 2021'!$A$4:$M$425,6,FALSE)","v":"Suporte intermediário curvo para linha de vida"},{"$f":"VLOOKUP(A60,'Itens ARP 2021'!$A$4:$M$425,8,FALSE)","v":5},5,9.7605697412778539E-2,0.19521139482555708,null,null,null,null,null,null,null,null,null,{"$f":"0.333*C60","v":1.665},null,null,{"$f":"0.3333*C60","v":1.6664999999999999},null,null,null,null,null,null,null,null,null,null,null,null,null,1.6664999999999999,1.665,3.3315000000000001,{"$f":"C60*AL60","v":9.7605697412778539E-2},{"$f":"C60*AM60","v":0.19521139482555708},1.9521139482555707E-2,3.9042278965111414E-2,5.8595646052996267E-3,1.1719129210599253E-2]
["SF-00059",{"$f":"VLOOKUP(A61,'Itens ARP 2021'!$A$4:$M$425,6,FALSE)","v":{"$error":"#N/A"}},{"$f":"VLOOKUP(A61,'Itens ARP 2021'!$A$4:$M$425,8,FALSE)","v":{"$error":"#N/A"}},{"$error":"#N/A"},0,0,null,null,null,null,null,null,null,null,null,null,null,null,null,null,null,null,null,null,null,null,null,null,null,null,null,null,0,0,0,0,0,0,0,0,0]
["SF-00060",{"$f":"VLOOKUP(A62,'Itens ARP 2021'!$A$4:$M$425,6,FALSE)","v":"Kit para montagem de dois olhais"},{"$f":"VLOOKUP(A62,'Itens ARP 2021'!$A$4:$M$425,8,FALSE)","v":5},5,0,0,null,null,null,null,null,null,null,null,null,null,null,null,null,null,null,null,null,null,null,null,null,null,null,null,null,null,0,0,0,0,0,0,0,0,0]
["SF-00061",{"$f":"VLOOKUP(A63,'Itens ARP 2021'!$A$4:$M$425,6,FALSE)","v":"Manilha com travamento por porca e cupilha"},{"$f":"VLOOKUP(A63,'Itens ARP 2021'!$A$4:$M$425,8,FALSE)","v":14},14,6.8334242427004255E-2,0.13666848485400851,null,null,null,null,null,null,null,null,null,{"$f":"0.0833*C63","v":1.1661999999999999},null,null,{"$f":"0.0833*C63","v":1.1661999999999999},null,null,null,null,null,null,null,null,null,null,null,null,null,1.1661999999999999,1.1661999999999999,2.3323999999999998,{"$f":"C63*AL63","v":6.8334242427004255E-2},{"$f":"C63*AM63","v":0.13666848485400851},4.8810173162145898E-3,9.7620346324291795E-3,2.092701644749867E-3,4.1854032894997339E-3]
["SF-00062",{"$f":"VLOOKUP(A64,'Itens ARP 2021'!$A$4:$M$425,6,FALSE)","v":"Pilar de ancoragem para linha de vida"},{"$f":"VLOOKUP(A64,'Itens ARP 2021'!$A$4:$M$425,8,FALSE)","v":14},14,0.41016952237097393,0.82033904474194785,null,null,null,null,null,null,null,null,null,{"$f":"0.5*C64","v":7},null,null,{"$f":"0.5*C64","v":7},null,null,null,null,null,null,null,null,null,null,null,null,null,7,7,14,{"$f":"C64*AL64","v":0.41016952237097393},{"$f":"C64*AM64","v":0.82033904474194785},2.9297823026498138E-2,5.8595646052996275E-2,2.092701644749867E-3,4.1854032894997339E-3]
["SF-00063",{"$f":"VLOOKUP(A65,'Itens ARP 2021'!$A$4:$M$425,6,FALSE)","v":{"$error":"#N/A"}},{"$f":"VLOOKUP(A65,'Itens ARP 2021'!$A$4:$M$425,8,FALSE)","v":{"$error":"#N/A"}},50,0,0,null,null,null,null,null,null,null,null,null,null,null,null,null,null,null,null,null,null,null,null,null,null,null,null,null,null,0,0,0,0,0,0,0,0,0]
["SF-00064",{"$f":"VLOOKUP(A66,'Itens ARP 2021'!$A$4:$M$425,6,FALSE)","v":{"$error":"#N/A"}},{"$f":"VLOOKUP(A66,'Itens ARP 2021'!$A$4:$M$425,8,FALSE)","v":{"$error":"#N/A"}},{"$error":"#N/A"},0,0,null,null,null,null,null,null,null,null,null,null,null,null,null,null,null,null,null,null,null,null,null,null,null,null,null,null,0,0,0,0,0,0,0,0,0]
["SF-00065",{"$f":"VLOOKUP(A67,'Itens ARP 2021'!$A$4:$M$425,6,FALSE)","v":"Placa de ancoragem para montagem no pilar"},{"$f":"VLOOKUP(A67,'Itens ARP 2021'!$A$4:$M$425,8,FALSE)","v":10},10,4.8810173162145892E-2,9.7620346324291785E-2,null,null,null,null,null,null,null,null,null,{"$f":"0.0833*C67","v":0.83299999999999996},null,null,{"$f":"0.0833*C67","v":0.83299999999999996},null,null,null,null,null,null,null,null,null,null,null,null,null,{"$f":"SUM(I67,K67,L67,M67,N67,O67,R67,S67,U67,V67,X67,Y67,AA67,AB67,AD67,AE67)","v":0.83299999999999996},{"$f":"SUM(P67,Q67,T67,W67,Z67,AC67,AF67)+J67","v":0.83299999999999996},1.6659999999999999,{"$f":"C67*AL67","v":4.8810173162145892E-2},{"$f":"C67*AM67","v":9.7620346324291785E-2},4.8810173162145889E-3,9.7620346324291778E-3,2.9297823026498133E-3,5.8595646052996267E-3]
["SF-00066",{"$f":"VLOOKUP(A68,'Itens ARP 2021'!$A$4:$M$425,6,FALSE)","v":"Ponto de ancoragem"},{"$f":"VLOOKUP(A68,'Itens ARP 2021'!$A$4:$M$425,8,FALSE)","v":25},32,0.7324455756624535,1.464891151324907,null,null,null,null,null,null,null,null,null,{"$f":"0.5*C68","v":12.5},null,null,{"$f":"0.5*C68","v":12.5},null,null,null,null,null,null,null,null,null,null,null,null,null,12.5,12.5,{"$f":"AG68+AH68","v":25},{"$f":"C68*AL68","v":0.7324455756624535},{"$f":"C68*AM68","v":1.464891151324907},2.9297823026498138E-2,5.8595646052996275E-2,{"$f":"AL68/AI68","v":1.1719129210599256E-3},{"$f":"AM68/AI68","v":2.3438258421198512E-3}]
["SF-00067",{"$f":"VLOOKUP(A69,'Itens ARP 2021'!$A$4:$M$425,6,FALSE)","v":{"$error":"#N/A"}},{"$f":"VLOOKUP(A69,'Itens ARP 2021'!$A$4:$M$425,8,FALSE)","v":{"$error":"#N/A"}},25,0,0,null,null,null,null,null,null,null,null,null,null,null,null,null,null,null,null,null,null,null,null,null,null,null,null,null,null,0,0,0,0,0,0,0,0,0]
["SF-00068",{"$f":"VLOOKUP(A70,'Itens ARP 2021'!$A$4:$M$425,6,FALSE)","v":"Sistema Guarda-corpo-Rodapé (GcR) metálico"},{"$f":"VLOOKUP(A70,'Itens ARP 2021'!$A$4:$M$425,8,FALSE)","v":280},315,0,0,null,null,null,null,null,null,null,null,null,null,null,null,null,null,null,null,null,null,null,null,null,null,null,null,null,null,0,0,0,0,0,0,0,0,0]
["SF-00069",{"$f":"VLOOKUP(A71,'Itens ARP 2021'!$A$4:$M$425,6,FALSE)","v":"Suporte intermediário para linha de vida"},{"$f":"VLOOKUP(A71,'Itens ARP 2021'!$A$4:$M$425,8,FALSE)","v":15},17,{"$f":"IFERROR(AL71*C71,0)","v":0.29294893244195491},{"$f":"IFERROR(AM71*C71,0)","v":0.58589786488390982},null,null,null,null,null,null,null,null,null,{"$f":"0.3333*C71","v":4.9994999999999994},null,null,{"$f":"0.3333*C71","v":4.9994999999999994},null,null,null,null,null,null,null,null,null,null,null,null,null,4.9994999999999994,4.9994999999999994,9.9989999999999988,{"$f":"C71*AL71","v":0.29294893244195491},{"$f":"C71*AM71","v":0.58589786488390982},1.9529928829463659E-2,3.9059857658927319E-2,1.9531882017665429E-3,3.9063764035330859E-3]
["SF-00070",{"$f":"VLOOKUP(A72,'Itens ARP 2021'!$A$4:$M$425,6,FALSE)","v":"Tapume"},{"$f":"VLOOKUP(A72,'Itens ARP 2021'!$A$4:$M$425,8,FALSE)","v":300},55,18.018161161296355,36.03632232259271,null,null,null,{"$f":"C72*0.95","v":285},null,null,null,null,null,null,null,null,null,null,null,null,null,{"$f":"C72*0.8","v":240},{"$f":"C72*0.3","v":90},null,null,null,null,null,null,null,330,285,615,{"$f":"C72*AL72","v":18.018161161296355},{"$f":"C72*AM72","v":36.03632232259271},6.0060537204321182E-2,0.12012107440864236,9.7659410088327128E-5,1.9531882017665426E-4]
["SF-00071",{"$f":"VLOOKUP(A73,'Itens ARP 2021'!$A$4:$M$425,6,FALSE)","v":"Trole para linha de vida horizontal"},{"$f":"VLOOKUP(A73,'Itens ARP 2021'!$A$4:$M$425,8,FALSE)","v":5},5,2.446368222712594E-3,4.892736445425188E-3,null,null,null,null,null,null,null,null,null,null,null,null,{"$f":"0.0167*C73","v":8.3499999999999991E-2},null,null,null,null,null,null,null,null,null,null,null,null,null,8.3499999999999991E-2,0,8.3499999999999991E-2,{"$f":"C73*AL73","v":2.446368222712594E-3},{"$f":"C73*AM73","v":4.892736445425188E-3},4.8927364454251878E-4,9.7854728908503756E-4,5.8595646052996267E-3,1.1719129210599253E-2]
["SF-00072",{"$f":"VLOOKUP(A74,'Itens ARP 2021'!$A$4:$M$425,6,FALSE)","v":{"$error":"#N/A"}},{"$f":"VLOOKUP(A74,'Itens ARP 2021'!$A$4:$M$425,8,FALSE)","v":{"$error":"#N/A"}},{"$error":"#N/A"},0,0,null,null,null,null,null,null,null,null,null,null,null,null,null,null,null,null,null,null,null,null,null,null,null,null,null,null,0,0,0,0,0,0,0,0,0]
["SF-00073",{"$f":"VLOOKUP(A75,'Itens ARP 2021'!$A$4:$M$425,6,FALSE)","v":"Limpeza final de obra"},{"$f":"VLOOKUP(A75,'Itens ARP 2021'!$A$4:$M$425,8,FALSE)","v":10000},5904,29.297823026498133,58.595646052996265,null,null,null,{"$f":"C75*0.1","v":1000},null,null,null,null,null,null,null,null,null,null,null,null,null,null,null,null,null,null,null,null,null,null,0,1000,1000,{"$f":"C75*AL75","v":29.297823026498133},{"$f":"C75*AM75","v":58.595646052996265},2.9297823026498133E-3,5.8595646052996267E-3,2.9297823026498135E-6,5.8595646052996269E-6]
["SF-00074",{"$f":"VLOOKUP(A76,'Itens ARP 2021'!$A$4:$M$425,6,FALSE)","v":"Abertura/fechamento rasgo em alvenaria"},{"$f":"VLOOKUP(A76,'Itens ARP 2021'!$A$4:$M$425,8,FALSE)","v":3000},3000,61.173854479328106,122.34770895865621,null,null,null,null,null,{"$f":"C76*0.216","v":648},null,{"$f":"C76*0.391","v":1173},null,null,null,null,null,{"$f":"C76*0.034","v":102.00000000000001},null,null,null,null,null,{"$f":"C76*0.055","v":165},null,null,null,null,null,null,1821,267,2088,61.173854479328106,122.34770895865621,2.0391284826442702E-2,4.0782569652885403E-2,9.7659410088327118E-6,1.9531882017665424E-5]
["SF-00075",{"$f":"VLOOKUP(A77,'Itens ARP 2021'!$A$4:$M$425,6,FALSE)","v":"Furo em concreto de até 75mm de diâmetro"},{"$f":"VLOOKUP(A77,'Itens ARP 2021'!$A$4:$M$425,8,FALSE)","v":25},20,1.5894068991875239,3.1788137983750477,null,null,null,null,null,null,null,{"$f":"C77*1.877","v":46.924999999999997},null,null,null,null,null,null,null,null,null,null,null,{"$f":"C77*0.293","v":7.3249999999999993},null,null,null,null,null,null,46.924999999999997,7.3249999999999993,54.25,1.5894068991875239,3.1788137983750477,6.3576275967500956E-2,0.12715255193500191,1.1719129210599254E-3,2.3438258421198508E-3]
["SF-00076",{"$f":"VLOOKUP(A78,'Itens ARP 2021'!$A$4:$M$425,6,FALSE)","v":"Furo em concreto para diâmetros maiores que 75mm"},{"$f":"VLOOKUP(A78,'Itens ARP 2021'!$A$4:$M$425,8,FALSE)","v":40},20,3.2485426171781135,6.4970852343562271,null,null,null,null,null,null,null,{"$f":"C78*2.397","v":95.88},null,null,null,null,null,null,null,null,null,null,null,{"$f":"C78*0.375","v":15},null,null,null,null,null,null,95.88,15,110.88,3.2485426171781135,6.4970852343562271,8.1213565429452836E-2,0.16242713085890567,7.3244557566245344E-4,1.4648911513249069E-3]
["SF-00077",{"$f":"VLOOKUP(A79,'Itens ARP 2021'!$A$4:$M$425,6,FALSE)","v":"Concreto virado em betoneira, fck = 15 MPa"},{"$f":"VLOOKUP(A79,'Itens ARP 2021'!$A$4:$M$425,8,FALSE)","v":10},10,3.8175063403527076,7.6350126807054153,null,null,{"$f":"C79*1.846","v":18.46},{"$f":"C79*7.868","v":78.680000000000007},null,null,null,null,null,null,null,null,null,null,null,null,null,{"$f":"C79*1.846","v":18.46},null,null,{"$f":"C79*1.47","v":14.7},null,null,null,null,null,51.620000000000005,78.680000000000007,130.30000000000001,3.8175063403527076,7.6350126807054153,0.38175063403527076,0.76350126807054153,2.9297823026498138E-3,5.8595646052996275E-3]
["SF-00078",{"$f":"VLOOKUP(A80,'Itens ARP 2021'!$A$4:$M$425,6,FALSE)","v":"Concreto virado em betoneira, fck = 25MPa"},{"$f":"VLOOKUP(A80,'Itens ARP 2021'!$A$4:$M$425,8,FALSE)","v":10},10,3.8087169934447571,7.6174339868895142,null,null,{"$f":"C80*1.846","v":18.46},{"$f":"C80*7.848","v":78.48},null,null,null,null,null,null,null,null,null,null,null,null,null,{"$f":"C80*1.846","v":18.46},null,null,{"$f":"C80*1.46","v":14.6},null,null,null,null,null,51.52,78.48,130,3.8087169934447571,7.6174339868895142,0.38087169934447573,0.76174339868895147,2.9297823026498133E-3,5.8595646052996267E-3]
["SF-00079",{"$f":"VLOOKUP(A81,'Itens ARP 2021'!$A$4:$M$425,6,FALSE)","v":"Escoramento metálico"},{"$f":"VLOOKUP(A81,'Itens ARP 2021'!$A$4:$M$425,8,FALSE)","v":100},100,0.58595646052996275,1.1719129210599255,null,null,null,{"$f":"C81*0.2","v":20},null,null,null,null,null,null,null,null,null,null,null,null,null,null,null,null,null,null,null,null,null,null,0,20,20,0.58595646052996275,1.1719129210599255,5.8595646052996275E-3,1.1719129210599255E-2,2.929782302649814E-4,5.859564605299628E-4]
["SF-00080",{"$f":"VLOOKUP(A82,'Itens ARP 2021'!$A$4:$M$425,6,FALSE)","v":{"$error":"#N/A"}},{"$f":"VLOOKUP(A82,'Itens ARP 2021'!$A$4:$M$425,8,FALSE)","v":{"$error":"#N/A"}},105,0,0,null,null,null,{"$f":"C82*0.1","v":{"$error":"#N/A"}},null,null,null,null,null,null,null,null,{"$f":"C82*0.4","v":{"$error":"#N/A"}},null,null,null,null,null,null,null,null,null,null,null,null,null,{"$error":"#N/A"},{"$error":"#N/A"},{"$error":"#N/A"},0,0,1.4648911513249069E-2,2.9297823026498138E-2,0,0]
["SF-00081",{"$f":"VLOOKUP(A83,'Itens ARP 2021'!$A$4:$M$425,6,FALSE)","v":"Forma para estruturas de concreto"},{"$f":"VLOOKUP(A83,'Itens ARP 2021'!$A$4:$M$425,8,FALSE)","v":100},100,3.881961551011003,7.7639231020220061,null,null,null,null,null,null,null,null,null,null,null,null,null,null,null,null,{"$f":"C83*0.205","v":20.5},{"$f":"C83*1.12","v":112.00000000000001},null,null,null,null,null,null,null,null,112.00000000000001,20.5,132.5,{"$f":"C83*AL83","v":3.881961551011003},{"$f":"C83*AM83","v":7.7639231020220061},3.8819615510110032E-2,7.7639231020220065E-2,2.929782302649814E-4,5.859564605299628E-4]
["SF-00082",{"$f":"VLOOKUP(A84,'Itens ARP 2021'!$A$4:$M$425,6,FALSE)","v":"Verga/contraverga/cinta em bloco de concreto canaleta 11,5 x 19 x 39 cm"},{"$f":"VLOOKUP(A84,'Itens ARP 2021'!$A$4:$M$425,8,FALSE)","v":50},20,1.0254238059274348,2.0508476118548695,null,null,{"$f":"C84*0.4","v":20},{"$f":"C84*0.3","v":15},null,null,null,null,null,null,null,null,null,null,null,null,null,null,null,null,null,null,null,null,null,null,20,15,35,1.0254238059274348,2.0508476118548695,2.0508476118548696E-2,4.1016952237097393E-2,5.859564605299628E-4,1.1719129210599256E-3]
["SF-00083",{"$f":"VLOOKUP(A85,'Itens ARP 2021'!$A$4:$M$425,6,FALSE)","v":"Impermeabilização de superfície com revestimento bicomponente semi flexível"},{"$f":"VLOOKUP(A85,'Itens ARP 2021'!$A$4:$M$425,8,FALSE)","v":500},500,9.375303368479404,18.750606736958808,null,null,null,null,null,null,null,null,null,{"$f":"C85*0.108","v":54},null,null,null,null,null,null,null,null,null,null,null,{"$f":"C85*0.532","v":266},null,null,null,null,266,54,320,9.375303368479404,18.750606736958808,1.8750606736958809E-2,3.7501213473917619E-2,5.8595646052996281E-5,1.1719129210599256E-4]
["SF-00084",{"$f":"VLOOKUP(A86,'Itens ARP 2021'!$A$4:$M$425,6,FALSE)","v":"Alvenaria de vedação"},{"$f":"VLOOKUP(A86,'Itens ARP 2021'!$A$4:$M$425,8,FALSE)","v":500},250,30.103513159726834,60.207026319453668,null,null,{"$f":"C86*1.37","v":685},{"$f":"C86*0.685","v":342.5},null,null,null,null,null,null,null,null,null,null,null,null,null,null,null,null,null,null,null,null,null,null,685,342.5,1027.5,30.103513159726834,60.207026319453668,6.0207026319453669E-2,0.12041405263890734,5.8595646052996274E-5,1.1719129210599255E-4]
["SF-00085",{"$f":"VLOOKUP(A87,'Itens ARP 2021'!$A$4:$M$425,6,FALSE)","v":"Fechamento ou shaft em gesso acartonado tipo drywall"},{"$f":"VLOOKUP(A87,'Itens ARP 2021'!$A$4:$M$425,8,FALSE)","v":50},10,0.66579302827717013,1.3315860565543403,null,null,null,{"$f":"C87*0.0909","v":4.5449999999999999},null,null,null,null,null,null,null,null,{"$f":"C87*0.3636","v":18.18},null,null,null,null,null,null,null,null,null,null,null,null,null,18.18,4.5449999999999999,22.725000000000001,0.66579302827717013,1.3315860565543403,1.3315860565543403E-2,2.6631721131086805E-2,5.8595646052996269E-4,1.1719129210599254E-3]
["SF-00086",{"$f":"VLOOKUP(A88,'Itens ARP 2021'!$A$4:$M$425,6,FALSE)","v":"Fixação (encunhamento) de Alvenaria de Vedação"},{"$f":"VLOOKUP(A88,'Itens ARP 2021'!$A$4:$M$425,8,FALSE)","v":300},30,5.581235286547896,11.162470573095792,null,null,{"$f":"C88*0.529","v":158.70000000000002},{"$f":"C88*0.106","v":31.8},null,null,null,null,null,null,null,null,null,null,null,null,null,null,null,null,null,null,null,null,null,null,158.70000000000002,31.8,190.50000000000003,5.581235286547896,11.162470573095792,1.8604117621826319E-2,3.7208235243652639E-2,9.7659410088327128E-5,1.9531882017665426E-4]
["SF-00087",{"$f":"VLOOKUP(A89,'Itens ARP 2021'!$A$4:$M$425,6,FALSE)","v":"Parede em gesso acartonado (drywall)"},{"$f":"VLOOKUP(A89,'Itens ARP 2021'!$A$4:$M$425,8,FALSE)","v":1000},400,19.95474726334788,39.909494526695759,null,null,null,{"$f":"C89*0.1362","v":136.19999999999999},null,null,null,null,null,null,null,null,{"$f":"C89*0.5449","v":544.90000000000009},null,null,null,null,null,null,null,null,null,null,null,null,null,544.90000000000009,136.19999999999999,681.10000000000014,19.95474726334788,39.909494526695759,1.995474726334788E-2,3.990949452669576E-2,2.929782302649813E-5,5.8595646052996261E-5]
["SF-00088",{"$f":"VLOOKUP(A90,'Itens ARP 2021'!$A$4:$M$425,6,FALSE)","v":"Reparos superficiais em painéis de gesso acartonado"},{"$f":"VLOOKUP(A90,'Itens ARP 2021'!$A$4:$M$425,8,FALSE)","v":20},20,0.10830233259975303,0.21660466519950605,null,null,null,{"$f":"C90*0.06363","v":1.2726000000000002},null,null,null,null,null,null,null,null,{"$f":"C90*0.1212","v":2.4239999999999999},null,null,null,null,null,null,null,null,null,null,null,null,null,2.4239999999999999,1.2726000000000002,3.6966000000000001,0.10830233259975303,0.21660466519950605,5.4151166299876517E-3,1.0830233259975303E-2,1.4648911513249071E-3,2.9297823026498142E-3]
["SF-00089",{"$f":"VLOOKUP(A91,'Itens ARP 2021'!$A$4:$M$425,6,FALSE)","v":"Sóculo h=10 cm"},{"$f":"VLOOKUP(A91,'Itens ARP 2021'!$A$4:$M$425,8,FALSE)","v":40},20,0.73478940150457328,1.4695788030091466,null,null,{"$f":"C91*0.46","v":18.400000000000002},{"$f":"C91*0.167","v":6.6800000000000006},null,null,null,null,null,null,null,null,null,null,null,null,null,null,null,null,null,null,null,null,null,null,18.400000000000002,6.6800000000000006,25.080000000000002,0.73478940150457328,1.4695788030091466,1.8369735037614333E-2,3.6739470075228667E-2,7.3244557566245344E-4,1.4648911513249069E-3]
["SF-00090",{"$f":"VLOOKUP(A92,'Itens ARP 2021'!$A$4:$M$425,6,FALSE)","v":"Chapisco colante industrializado em vigas e pilares"},{"$f":"VLOOKUP(A92,'Itens ARP 2021'!$A$4:$M$425,8,FALSE)","v":40},50,0.18176369405639439,0.36352738811278879,null,null,{"$f":"C92*0.141","v":5.64},{"$f":"C92*0.0141","v":0.56399999999999995},null,null,null,null,null,null,null,null,null,null,null,null,null,null,null,null,null,null,null,null,null,null,5.64,0.56399999999999995,6.2039999999999997,0.18176369405639439,0.36352738811278879,4.54409235140986E-3,9.08818470281972E-3,7.3244557566245333E-4,1.4648911513249067E-3]
["SF-00091",{"$f":"VLOOKUP(A93,'Itens ARP 2021'!$A$4:$M$425,6,FALSE)","v":"Chapisco com argamassa traço 1:3"},{"$f":"VLOOKUP(A93,'Itens ARP 2021'!$A$4:$M$425,8,FALSE)","v":1000},500,2.2559323730403564,4.5118647460807129,null,null,{"$f":"C93*0.07","v":70},{"$f":"C93*0.007","v":7},null,null,null,null,null,null,null,null,null,null,null,null,null,null,null,null,null,null,null,null,null,null,70,7,77,2.2559323730403564,4.5118647460807129,2.2559323730403564E-3,4.5118647460807128E-3,2.9297823026498134E-5,5.8595646052996267E-5]
["SF-00092",{"$f":"VLOOKUP(A94,'Itens ARP 2021'!$A$4:$M$425,6,FALSE)","v":"Gesso cola"},{"$f":"VLOOKUP(A94,'Itens ARP 2021'!$A$4:$M$425,8,FALSE)","v":440},440,6.1877002231964067,12.375400446392813,null,null,null,{"$f":"C94*0.08","v":35.200000000000003},{"$f":"C94*0.4","v":176},null,null,null,null,null,null,null,null,null,null,null,null,null,null,null,null,null,null,null,null,null,176,35.200000000000003,211.2,6.1877002231964067,12.375400446392813,1.4062955052719105E-2,2.8125910105438211E-2,6.6585961423859402E-5,1.331719228477188E-4]
["SF-00093",{"$f":"VLOOKUP(A95,'Itens ARP 2021'!$A$4:$M$425,6,FALSE)","v":"Reboco com argamassa industrializada e=2,0 cm"},{"$f":"VLOOKUP(A95,'Itens ARP 2021'!$A$4:$M$425,8,FALSE)","v":1000},600,25.219566061209594,50.439132122419188,null,null,{"$f":"C95*0.43","v":430},{"$f":"C95*0.4308","v":430.8},null,null,null,null,null,null,null,null,null,null,null,null,null,null,null,null,null,null,null,null,null,null,430,430.8,860.8,25.219566061209594,50.439132122419188,2.5219566061209595E-2,5.043913212241919E-2,2.9297823026498137E-5,5.8595646052996274E-5]
["SF-00094",{"$f":"VLOOKUP(A96,'Itens ARP 2021'!$A$4:$M$425,6,FALSE)","v":"Regularização com argamassa industrializada e=0,5 cm"},{"$f":"VLOOKUP(A96,'Itens ARP 2021'!$A$4:$M$425,8,FALSE)","v":200},200,1.7180243422738508,3.4360486845477016,null,null,{"$f":"C96*0.2","v":40},{"$f":"C96*0.0932","v":18.64},null,null,null,null,null,null,null,null,null,null,null,null,null,null,null,null,null,null,null,null,null,null,40,18.64,58.64,1.7180243422738508,3.4360486845477016,8.5901217113692543E-3,1.7180243422738509E-2,1.464891151324907E-4,2.929782302649814E-4]
["SF-00095",{"$f":"VLOOKUP(A97,'Itens ARP 2021'!$A$4:$M$425,6,FALSE)","v":"Tratamento de trincas superficiais"},{"$f":"VLOOKUP(A97,'Itens ARP 2021'!$A$4:$M$425,8,FALSE)","v":100},100,2.2119856385006091,4.4239712770012183,null,null,{"$f":"C97*0.155","v":15.5},{"$f":"C97*0.6","v":60},null,null,null,null,null,null,null,null,null,null,null,null,null,null,null,null,null,null,null,null,null,null,15.5,60,75.5,2.2119856385006091,4.4239712770012183,2.211985638500609E-2,4.4239712770012179E-2,2.9297823026498134E-4,5.8595646052996269E-4]
["SF-00096",{"$f":"VLOOKUP(A98,'Itens ARP 2021'!$A$4:$M$425,6,FALSE)","v":"Aplicação de fundo selador base água"},{"$f":"VLOOKUP(A98,'Itens ARP 2021'!$A$4:$M$425,8,FALSE)","v":5400},5400,21.041696497630962,42.083392995261924,null,null,null,{"$f":"C98*0.027","v":145.80000000000001},null,null,null,null,null,null,null,null,null,null,null,null,null,null,{"$f":"C98*0.106","v":572.4},null,null,null,null,null,null,null,572.4,145.80000000000001,718.2,21.041696497630962,42.083392995261924,3.8966104625242524E-3,7.7932209250485048E-3,5.4255227826848404E-6,1.0851045565369681E-5]
["SF-00097",{"$f":"VLOOKUP(A99,'Itens ARP 2021'!$A$4:$M$425,6,FALSE)","v":"Fundo anticorrosivo e de aderência (base água)"},{"$f":"VLOOKUP(A99,'Itens ARP 2021'!$A$4:$M$425,8,FALSE)","v":400},400,8.2033904474194781,16.406780894838956,null,null,null,{"$f":"C99*0.3","v":120},null,null,null,null,null,null,null,null,null,null,null,null,null,null,{"$f":"C99*0.4","v":160},null,null,null,null,null,null,null,160,120,280,8.2033904474194781,16.406780894838956,2.0508476118548696E-2,4.1016952237097393E-2,7.324455756624535E-5,1.464891151324907E-4]
["SF-00098",{"$f":"VLOOKUP(A100,'Itens ARP 2021'!$A$4:$M$425,6,FALSE)","v":"Massa acrílica"},{"$f":"VLOOKUP(A100,'Itens ARP 2021'!$A$4:$M$425,8,FALSE)","v":1000},500,12.217192202049723,24.434384404099447,null,null,null,{"$f":"C100*0.083","v":83},null,null,null,null,null,null,null,null,null,null,null,null,null,null,{"$f":"C100*0.334","v":334},null,null,null,null,null,null,null,334,83,417,12.217192202049723,24.434384404099447,1.2217192202049724E-2,2.4434384404099448E-2,2.929782302649814E-5,5.8595646052996281E-5]
["SF-00099",{"$f":"VLOOKUP(A101,'Itens ARP 2021'!$A$4:$M$425,6,FALSE)","v":"Massa corrida"},{"$f":"VLOOKUP(A101,'Itens ARP 2021'!$A$4:$M$425,8,FALSE)","v":3000},2700,37.442617827864616,74.885235655729232,null,null,null,{"$f":"C101*0.114","v":342},null,null,null,null,null,null,null,null,null,null,null,null,null,null,{"$f":"C101*0.312","v":936},null,null,null,null,null,null,null,936,342,1278,37.442617827864616,74.885235655729232,1.2480872609288205E-2,2.4961745218576411E-2,9.7659410088327118E-6,1.9531882017665424E-5]
["SF-00100",{"$f":"VLOOKUP(A102,'Itens ARP 2021'!$A$4:$M$425,6,FALSE)","v":"Pintura com tinta látex acrílica Premium (paredes)"},{"$f":"VLOOKUP(A102,'Itens ARP 2021'!$A$4:$M$425,8,FALSE)","v":9000},9000,67.502184253051709,135.00436850610342,null,null,null,{"$f":"C102*0.069","v":621},null,null,null,null,null,null,null,null,null,null,null,null,null,null,{"$f":"C102*0.187","v":1683},null,null,null,null,null,null,null,1683,621,2304,67.502184253051709,135.00436850610342,7.5002426947835231E-3,1.5000485389567046E-2,3.2553136696109042E-6,6.5106273392218084E-6]
["SF-00101",{"$f":"VLOOKUP(A103,'Itens ARP 2021'!$A$4:$M$425,6,FALSE)","v":"Pintura em verniz sintético"},{"$f":"VLOOKUP(A103,'Itens ARP 2021'!$A$4:$M$425,8,FALSE)","v":300},300,6.152542835564609,12.305085671129218,null,null,null,{"$f":"C103*0.3","v":90},null,null,null,null,null,null,null,null,null,null,null,null,null,null,{"$f":"C103*0.4","v":120},null,null,null,null,null,null,null,120,90,210,6.152542835564609,12.305085671129218,2.0508476118548696E-2,4.1016952237097393E-2,9.7659410088327128E-5,1.9531882017665426E-4]
["SF-00102",{"$f":"VLOOKUP(A104,'Itens ARP 2021'!$A$4:$M$425,6,FALSE)","v":"Pintura esmalte acetinado (metais e madeiras)"},{"$f":"VLOOKUP(A104,'Itens ARP 2021'!$A$4:$M$425,8,FALSE)","v":500},650,14.648911513249068,29.297823026498136,null,null,null,{"$f":"C104*0.5","v":250},null,null,null,null,null,null,null,null,null,null,null,null,null,null,{"$f":"C104*0.5","v":250},null,null,null,null,null,null,null,250,250,500,14.648911513249068,29.297823026498136,2.9297823026498138E-2,5.8595646052996275E-2,5.8595646052996274E-5,1.1719129210599255E-4]
["SF-00103",{"$f":"VLOOKUP(A105,'Itens ARP 2021'!$A$4:$M$425,6,FALSE)","v":"Pintura tinta látex acrílica standard (tetos)"},{"$f":"VLOOKUP(A105,'Itens ARP 2021'!$A$4:$M$425,8,FALSE)","v":6000},6000,58.537050406943287,117.07410081388657,null,null,null,{"$f":"C105*0.089","v":534},null,null,null,null,null,null,null,null,null,null,null,null,null,null,{"$f":"C105*0.244","v":1464},null,null,null,null,null,null,null,1464,534,1998,58.537050406943287,117.07410081388657,9.7561750678238808E-3,1.9512350135647762E-2,4.8829705044163567E-6,9.7659410088327135E-6]
["SF-00104",{"$f":"VLOOKUP(A106,'Itens ARP 2021'!$A$4:$M$425,6,FALSE)","v":"Cerâmica para revestimento de superfícies internas ou externas – Linha Administrativa"},{"$f":"VLOOKUP(A106,'Itens ARP 2021'!$A$4:$M$425,8,FALSE)","v":150},200,4.4825669230542147,8.9651338461084293,null,null,null,{"$f":"C106*0.36","v":54},null,null,{"$f":"C106*0.66","v":99},null,null,null,null,null,null,null,null,null,null,null,null,null,null,null,null,null,null,null,99,54,153,4.4825669230542147,8.9651338461084293,2.9883779487028098E-2,5.9767558974056195E-2,1.9531882017665423E-4,3.9063764035330846E-4]
["SF-00105",{"$f":"VLOOKUP(A107,'Itens ARP 2021'!$A$4:$M$425,6,FALSE)","v":"Contrapiso em argamassa"},{"$f":"VLOOKUP(A107,'Itens ARP 2021'!$A$4:$M$425,8,FALSE)","v":60},60,0.94924946605853977,1.8984989321170795,null,null,{"$f":"C107*0.36","v":21.599999999999998},{"$f":"C107*0.18","v":10.799999999999999},null,null,null,null,null,null,null,null,null,null,null,null,null,null,null,null,null,null,null,null,null,null,21.599999999999998,10.799999999999999,32.4,0.94924946605853977,1.8984989321170795,1.5820824434308996E-2,3.1641648868617991E-2,4.8829705044163574E-4,9.7659410088327147E-4]
["SF-00106",{"$f":"VLOOKUP(A108,'Itens ARP 2021'!$A$4:$M$425,6,FALSE)","v":"Contrapiso em argamassa (e=2cm) ou Regularização de contrapiso existente"},{"$f":"VLOOKUP(A108,'Itens ARP 2021'!$A$4:$M$425,8,FALSE)","v":550},550,7.0095041590896789,14.019008318179358,null,null,{"$f":"C108*0.29","v":159.5},{"$f":"C108*0.145","v":79.75},null,null,null,null,null,null,null,null,null,null,null,null,null,null,null,null,null,null,null,null,null,null,159.5,79.75,239.25,7.0095041590896789,14.019008318179358,1.2744553016526688E-2,2.5489106033053377E-2,5.3268769139087515E-5,1.0653753827817503E-4]
["SF-00107",{"$f":"VLOOKUP(A109,'Itens ARP 2021'!$A$4:$M$425,6,FALSE)","v":"Granito cinza andorinha para piso"},{"$f":"VLOOKUP(A109,'Itens ARP 2021'!$A$4:$M$425,8,FALSE)","v":800},1050,41.766976506575745,83.533953013151489,null,null,null,{"$f":"C109*0.594","v":475.2},null,null,null,null,null,null,null,{"$f":"C109*1.188","v":950.4},null,null,null,null,null,null,null,null,null,null,null,null,null,null,950.4,475.2,1425.6,41.766976506575745,83.533953013151489,5.2208720633219678E-2,0.10441744126643936,3.6622278783122675E-5,7.324455756624535E-5]
["SF-00108",{"$f":"VLOOKUP(A110,'Itens ARP 2021'!$A$4:$M$425,6,FALSE)","v":"Granito Cinza Andorinha para rodapé"},{"$f":"VLOOKUP(A110,'Itens ARP 2021'!$A$4:$M$425,8,FALSE)","v":200},270,10.441744126643936,20.883488253287872,null,null,null,{"$f":"C110*0.594","v":118.8},null,null,null,null,null,null,null,{"$f":"C110*1.188","v":237.6},null,null,null,null,null,null,null,null,null,null,null,null,null,null,237.6,118.8,356.4,10.441744126643936,20.883488253287872,5.2208720633219685E-2,0.10441744126643937,1.464891151324907E-4,2.929782302649814E-4]
["SF-00109",{"$f":"VLOOKUP(A111,'Itens ARP 2021'!$A$4:$M$425,6,FALSE)","v":"Granito Cinza Andorinha para soleira e peitoril"},{"$f":"VLOOKUP(A111,'Itens ARP 2021'!$A$4:$M$425,8,FALSE)","v":20},25,3.2032286508971319,6.4064573017942639,null,null,null,{"$f":"C111*1.82","v":36.4},null,null,null,null,null,null,null,{"$f":"C111*3.64666666666667","v":72.933333333333394},null,null,null,null,null,null,null,null,null,null,null,null,null,null,72.933333333333394,36.4,109.3333333333334,3.2032286508971319,6.4064573017942639,0.1601614325448566,0.32032286508971319,1.4648911513249071E-3,2.9297823026498142E-3]
["SF-00110",{"$f":"VLOOKUP(A112,'Itens ARP 2021'!$A$4:$M$425,6,FALSE)","v":"Granito Preto São Gabriel para piso"},{"$f":"VLOOKUP(A112,'Itens ARP 2021'!$A$4:$M$425,8,FALSE)","v":30},30,1.5662616189965903,3.1325232379931807,null,null,null,{"$f":"C112*0.594","v":17.82},null,null,null,null,null,null,null,{"$f":"C112*1.188","v":35.64},null,null,null,null,null,null,null,null,null,null,null,null,null,null,35.64,17.82,53.46,1.5662616189965903,3.1325232379931807,5.2208720633219678E-2,0.10441744126643936,9.7659410088327125E-4,1.9531882017665425E-3]
["SF-00111",{"$f":"VLOOKUP(A113,'Itens ARP 2021'!$A$4:$M$425,6,FALSE)","v":"Granito Preto São Gabriel para rodapé"},{"$f":"VLOOKUP(A113,'Itens ARP 2021'!$A$4:$M$425,8,FALSE)","v":3},3,0.15662616189965903,0.31325232379931806,null,null,null,{"$f":"C113*0.594","v":1.782},null,null,null,null,null,null,null,{"$f":"C113*1.188","v":3.5640000000000001},null,null,null,null,null,null,null,null,null,null,null,null,null,null,3.5640000000000001,1.782,5.3460000000000001,0.15662616189965903,0.31325232379931806,5.2208720633219678E-2,0.10441744126643936,9.7659410088327125E-3,1.9531882017665425E-2]
["SF-00112",{"$f":"VLOOKUP(A114,'Itens ARP 2021'!$A$4:$M$425,6,FALSE)","v":"Granito Preto São Gabriel para soleira e peitoril"},{"$f":"VLOOKUP(A114,'Itens ARP 2021'!$A$4:$M$425,8,FALSE)","v":2},2,0.32032286508971319,0.64064573017942639,null,null,null,{"$f":"C114*1.82","v":3.64},null,null,null,null,null,null,null,{"$f":"C114*3.64666666666667","v":7.2933333333333401},null,null,null,null,null,null,null,null,null,null,null,null,null,null,7.2933333333333401,3.64,10.933333333333341,0.32032286508971319,0.64064573017942639,0.1601614325448566,0.32032286508971319,1.4648911513249069E-2,2.9297823026498138E-2]
["SF-00113",{"$f":"VLOOKUP(A115,'Itens ARP 2021'!$A$4:$M$425,6,FALSE)","v":"Instalação de rodapé de madeira reaproveitado"},{"$f":"VLOOKUP(A115,'Itens ARP 2021'!$A$4:$M$425,8,FALSE)","v":70},70,0.61525428355646095,1.2305085671129219,null,null,null,null,null,null,null,null,{"$f":"C115*0.15","v":10.5},{"$f":"C115*0.15","v":10.5},null,null,null,null,null,null,null,null,null,null,null,null,null,null,null,null,10.5,10.5,21,{"$f":"C115*AL115","v":0.61525428355646095},{"$f":"C115*AM115","v":1.2305085671129219},8.7893469079494413E-3,1.7578693815898883E-2,4.1854032894997339E-4,8.3708065789994679E-4]
["SF-00114",{"$f":"VLOOKUP(A116,'Itens ARP 2021'!$A$4:$M$425,6,FALSE)","v":"Mármore Bege Bahia para piso e parede"},{"$f":"VLOOKUP(A116,'Itens ARP 2021'!$A$4:$M$425,8,FALSE)","v":10},10,0.52208720633219685,1.0441744126643937,null,null,null,{"$f":"C116*0.594","v":5.9399999999999995},null,null,null,null,null,null,null,{"$f":"C116*1.188","v":11.879999999999999},null,null,null,null,null,null,null,null,null,null,null,null,null,null,11.879999999999999,5.9399999999999995,17.82,0.52208720633219685,1.0441744126643937,5.2208720633219685E-2,0.10441744126643937,2.9297823026498138E-3,5.8595646052996275E-3]
["SF-00115",{"$f":"VLOOKUP(A117,'Itens ARP 2021'!$A$4:$M$425,6,FALSE)","v":"Mármore Branco Especial para piso e parede"},{"$f":"VLOOKUP(A117,'Itens ARP 2021'!$A$4:$M$425,8,FALSE)","v":40},40,2.0883488253287874,4.1766976506575748,null,null,null,{"$f":"C117*0.594","v":23.759999999999998},null,null,null,null,null,null,null,{"$f":"C117*1.188","v":47.519999999999996},null,null,null,null,null,null,null,null,null,null,null,null,null,null,47.519999999999996,23.759999999999998,71.28,2.0883488253287874,4.1766976506575748,5.2208720633219685E-2,0.10441744126643937,7.3244557566245344E-4,1.4648911513249069E-3]
["SF-00116",{"$f":"VLOOKUP(A118,'Itens ARP 2021'!$A$4:$M$425,6,FALSE)","v":"Rodapé de madeira"},{"$f":"VLOOKUP(A118,'Itens ARP 2021'!$A$4:$M$425,8,FALSE)","v":70},70,0.61525428355646095,1.2305085671129219,null,null,null,null,null,null,null,null,{"$f":"C118*0.15","v":10.5},{"$f":"C118*0.15","v":10.5},null,null,null,null,null,null,null,null,null,null,null,null,null,null,null,null,10.5,10.5,21,0.61525428355646095,1.2305085671129219,8.7893469079494413E-3,1.7578693815898883E-2,4.1854032894997339E-4,8.3708065789994679E-4]
["SF-00117",{"$f":"VLOOKUP(A119,'Itens ARP 2021'!$A$4:$M$425,6,FALSE)","v":"Acabamento abaulado em placas de granito ou mármore reaproveitadas"},{"$f":"VLOOKUP(A119,'Itens ARP 2021'!$A$4:$M$425,8,FALSE)","v":20},20,0.52208720633219685,1.0441744126643937,null,null,null,{"$f":"C119*0.594*50%","v":5.9399999999999995},null,null,null,null,null,null,null,{"$f":"C119*1.188*50%","v":11.879999999999999},null,null,null,null,null,null,null,null,null,null,null,null,null,null,11.879999999999999,5.9399999999999995,17.82,0.52208720633219685,1.0441744126643937,2.6104360316609843E-2,5.2208720633219685E-2,1.4648911513249069E-3,2.9297823026498138E-3]
["SF-00118",{"$f":"VLOOKUP(A120,'Itens ARP 2021'!$A$4:$M$425,6,FALSE)","v":"Acabamento em meia esquadria em placas de granito ou mármore reaproveitadas"},{"$f":"VLOOKUP(A120,'Itens ARP 2021'!$A$4:$M$425,8,FALSE)","v":20},20,0.52208720633219685,1.0441744126643937,null,null,null,5.9399999999999995,null,null,null,null,null,null,null,11.879999999999999,null,null,null,null,null,null,null,null,null,null,null,null,null,null,11.879999999999999,5.9399999999999995,17.82,0.52208720633219685,1.0441744126643937,2.6104360316609843E-2,5.2208720633219685E-2,1.4648911513249069E-3,2.9297823026498138E-3]
["SF-00119",{"$f":"VLOOKUP(A121,'Itens ARP 2021'!$A$4:$M$425,6,FALSE)","v":"Acabamento reto em placas de granito ou mármore reaproveitadas"},{"$f":"VLOOKUP(A121,'Itens ARP 2021'!$A$4:$M$425,8,FALSE)","v":20},20,0.52208720633219685,1.0441744126643937,null,null,null,5.9399999999999995,null,null,null,null,null,null,null,11.879999999999999,null,null,null,null,null,null,null,null,null,null,null,null,null,null,11.879999999999999,5.9399999999999995,17.82,0.52208720633219685,1.0441744126643937,2.6104360316609843E-2,5.2208720633219685E-2,1.4648911513249069E-3,2.9297823026498138E-3]
["SF-00120",{"$f":"VLOOKUP(A122,'Itens ARP 2021'!$A$4:$M$425,6,FALSE)","v":"Corte de peça de granito ou mármore reaproveitada"},{"$f":"VLOOKUP(A122,'Itens ARP 2021'!$A$4:$M$425,8,FALSE)","v":20},20,0.52208720633219685,1.0441744126643937,null,null,null,5.9399999999999995,null,null,null,null,null,null,null,11.879999999999999,null,null,null,null,null,null,null,null,null,null,null,null,null,null,11.879999999999999,5.9399999999999995,17.82,0.52208720633219685,1.0441744126643937,2.6104360316609843E-2,5.2208720633219685E-2,1.4648911513249069E-3,2.9297823026498138E-3]
["SF-00121",{"$f":"VLOOKUP(A123,'Itens ARP 2021'!$A$4:$M$425,6,FALSE)","v":"Corte em placas de granito ou mármore reaproveitadas, para instalação de cubas"},{"$f":"VLOOKUP(A123,'Itens ARP 2021'!$A$4:$M$425,8,FALSE)","v":20},20,0.52208720633219685,1.0441744126643937,null,null,null,5.9399999999999995,null,null,null,null,null,null,null,11.879999999999999,null,null,null,null,null,null,null,null,null,null,null,null,null,null,11.879999999999999,5.9399999999999995,17.82,0.52208720633219685,1.0441744126643937,2.6104360316609843E-2,5.2208720633219685E-2,1.4648911513249069E-3,2.9297823026498138E-3]
["SF-00122",{"$f":"VLOOKUP(A124,'Itens ARP 2021'!$A$4:$M$425,6,FALSE)","v":"Furo em placas de granito ou mármore reaproveitadas, para instalação de torneira ou misturador"},{"$f":"VLOOKUP(A124,'Itens ARP 2021'!$A$4:$M$425,8,FALSE)","v":20},20,0.52208720633219685,1.0441744126643937,null,null,null,5.9399999999999995,null,null,null,null,null,null,null,11.879999999999999,null,null,null,null,null,null,null,null,null,null,null,null,null,null,11.879999999999999,5.9399999999999995,17.82,0.52208720633219685,1.0441744126643937,2.6104360316609843E-2,5.2208720633219685E-2,1.4648911513249069E-3,2.9297823026498138E-3]
["SF-00123",{"$f":"VLOOKUP(A125,'Itens ARP 2021'!$A$4:$M$425,6,FALSE)","v":"Granito Cinza Andorinha 20mm para rodabancada"},{"$f":"VLOOKUP(A125,'Itens ARP 2021'!$A$4:$M$425,8,FALSE)","v":120},30,6.2650464759863613,12.530092951972723,null,null,null,{"$f":"C125*0.594","v":71.28},null,null,null,null,null,null,null,{"$f":"C125*1.188","v":142.56},null,null,null,null,null,null,null,null,null,null,null,null,null,null,142.56,71.28,213.84,6.2650464759863613,12.530092951972723,5.2208720633219678E-2,0.10441744126643936,2.4414852522081781E-4,4.8829705044163563E-4]
["SF-00124",{"$f":"VLOOKUP(A126,'Itens ARP 2021'!$A$4:$M$425,6,FALSE)","v":"Granito Cinza Andorinha 20mm para bancadas"},{"$f":"VLOOKUP(A126,'Itens ARP 2021'!$A$4:$M$425,8,FALSE)","v":50},50,2.6221551608715834,5.2443103217431668,null,null,null,{"$f":"C126*1.14","v":56.999999999999993},null,null,null,null,null,null,null,{"$f":"C126*0.65","v":32.5},null,null,null,null,null,null,null,null,null,null,null,null,null,null,32.5,56.999999999999993,89.5,2.6221551608715834,5.2443103217431668,5.2443103217431668E-2,0.10488620643486334,5.859564605299628E-4,1.1719129210599256E-3]
["SF-00125",{"$f":"VLOOKUP(A127,'Itens ARP 2021'!$A$4:$M$425,6,FALSE)","v":"Granito Cinza Andorinha 20mm para divisória"},{"$f":"VLOOKUP(A127,'Itens ARP 2021'!$A$4:$M$425,8,FALSE)","v":100},100,20.801454348813678,41.602908697627356,null,null,null,{"$f":"C127*2.3","v":229.99999999999997},null,null,null,null,null,null,null,{"$f":"C127*4.8","v":480},null,null,null,null,null,null,null,null,null,null,null,null,null,null,480,229.99999999999997,710,20.801454348813678,41.602908697627356,0.20801454348813678,0.41602908697627355,2.929782302649814E-4,5.859564605299628E-4]
["SF-00126",{"$f":"VLOOKUP(A128,'Itens ARP 2021'!$A$4:$M$425,6,FALSE)","v":"Granito Preto São Gabriel 20mm para rodabancada"},{"$f":"VLOOKUP(A128,'Itens ARP 2021'!$A$4:$M$425,8,FALSE)","v":30},30,1.5732930965229499,3.1465861930458998,null,null,null,{"$f":"C128*1.14","v":34.199999999999996},null,null,null,null,null,null,null,{"$f":"C128*0.65","v":19.5},null,null,null,null,null,null,null,null,null,null,null,null,null,null,19.5,34.199999999999996,53.699999999999996,1.5732930965229499,3.1465861930458998,5.2443103217431661E-2,0.10488620643486332,9.7659410088327125E-4,1.9531882017665425E-3]
["SF-00127",{"$f":"VLOOKUP(A129,'Itens ARP 2021'!$A$4:$M$425,6,FALSE)","v":"Granito Preto São Gabriel 20mm para bancadas"},{"$f":"VLOOKUP(A129,'Itens ARP 2021'!$A$4:$M$425,8,FALSE)","v":8},8,0.41766976506575743,0.83533953013151485,null,null,null,{"$f":"C129*0.594","v":4.7519999999999998},null,null,null,null,null,null,null,{"$f":"C129*1.188","v":9.5039999999999996},null,null,null,null,null,null,null,null,null,null,null,null,null,null,9.5039999999999996,4.7519999999999998,14.256,0.41766976506575743,0.83533953013151485,5.2208720633219678E-2,0.10441744126643936,3.6622278783122668E-3,7.3244557566245335E-3]
["SF-00128",{"$f":"VLOOKUP(A130,'Itens ARP 2021'!$A$4:$M$425,6,FALSE)","v":"Instalação de bancada de granito ou mármore reaproveitada"},{"$f":"VLOOKUP(A130,'Itens ARP 2021'!$A$4:$M$425,8,FALSE)","v":30},30,1.5732930965229499,3.1465861930458998,null,null,null,{"$f":"C130*1.14","v":34.199999999999996},null,null,null,null,null,null,null,{"$f":"C130*0.65","v":19.5},null,null,null,null,null,null,null,null,null,null,null,null,null,null,19.5,34.199999999999996,53.699999999999996,1.5732930965229499,3.1465861930458998,5.2443103217431661E-2,0.10488620643486332,9.7659410088327125E-4,1.9531882017665425E-3]
["SF-00129",{"$f":"VLOOKUP(A131,'Itens ARP 2021'!$A$4:$M$425,6,FALSE)","v":"Instalação de rodapé/rodabanca reaproveitado, de mármore ou granito"},{"$f":"VLOOKUP(A131,'Itens ARP 2021'!$A$4:$M$425,8,FALSE)","v":20},15,1.0441744126643935,2.088348825328787,null,null,null,{"$f":"C131*0.594","v":11.879999999999999},null,null,null,null,null,null,null,{"$f":"C131*1.188","v":23.759999999999998},null,null,null,null,null,null,null,null,null,null,null,null,null,null,{"$f":"SUM(I131,K131,L131,M131,N131,O131,R131,S131,U131,V131,X131,Y131,AA131,AB131,AD131,AE131)","v":23.759999999999998},{"$f":"SUM(P131,Q131,T131,W131,Z131,AC131,AF131)+J131","v":11.879999999999999},35.64,1.0441744126643935,2.088348825328787,5.2208720633219678E-2,0.10441744126643936,1.4648911513249067E-3,2.9297823026498133E-3]
["SF-00130",{"$f":"VLOOKUP(A132,'Itens ARP 2021'!$A$4:$M$425,6,FALSE)","v":"Instalação de soleira ou peitoril, de mármore ou granito, reaproveitados"},{"$f":"VLOOKUP(A132,'Itens ARP 2021'!$A$4:$M$425,8,FALSE)","v":10},10,0.52208720633219685,1.0441744126643937,null,null,null,{"$f":"C132*0.594","v":5.9399999999999995},null,null,null,null,null,null,null,11.879999999999999,null,null,null,null,null,null,null,null,null,null,null,null,null,null,11.879999999999999,5.9399999999999995,{"$f":"AG132+AH132","v":17.82},0.52208720633219685,1.0441744126643937,5.2208720633219685E-2,0.10441744126643937,{"$f":"AL132/AI132","v":2.9297823026498138E-3},{"$f":"AM132/AI132","v":5.8595646052996275E-3}]
["SF-00131",{"$f":"VLOOKUP(A133,'Itens ARP 2021'!$A$4:$M$425,6,FALSE)","v":"Mármore Branco Especial 20mm para rodabancada"},{"$f":"VLOOKUP(A133,'Itens ARP 2021'!$A$4:$M$425,8,FALSE)","v":1},1,5.2208720633219678E-2,0.10441744126643936,null,null,null,{"$f":"C133*0.594","v":0.59399999999999997},null,null,null,null,null,null,null,1.1879999999999999,null,null,null,null,null,null,null,null,null,null,null,null,null,null,1.1879999999999999,0.59399999999999997,1.782,5.2208720633219678E-2,0.10441744126643936,5.2208720633219678E-2,0.10441744126643936,2.9297823026498134E-2,5.8595646052996268E-2]
["SF-00132",{"$f":"VLOOKUP(A134,'Itens ARP 2021'!$A$4:$M$425,6,FALSE)","v":"Divisória em gesso acartonado revestido - Painel liso cego - Ed. Anexo I"},{"$f":"VLOOKUP(A134,'Itens ARP 2021'!$A$4:$M$425,8,FALSE)","v":500},500,9.9773736316739434,19.954747263347887,null,null,null,{"$f":"C134*0.1362","v":68.099999999999994},null,null,null,null,null,null,null,594,{"$f":"C134*0.5449","v":272.45000000000005},null,null,null,null,null,null,null,null,null,null,null,null,null,866.45,68.099999999999994,934.55000000000007,9.9773736316739434,19.954747263347887,1.9954747263347887E-2,3.9909494526695774E-2,2.1352252167725521E-5,4.2704504335451043E-5]
["SF-00133",{"$f":"VLOOKUP(A135,'Itens ARP 2021'!$A$4:$M$425,6,FALSE)","v":"Divisória em gesso acartonado revestido - Painel liso, painel de vidro e bandeira – ed. Anexo I"},{"$f":"VLOOKUP(A135,'Itens ARP 2021'!$A$4:$M$425,8,FALSE)","v":300},500,{"$f":"IFERROR(AL135*C135,0)","v":5.9864241790043664},{"$f":"IFERROR(AM135*C135,0)","v":11.972848358008733},null,null,null,40.86,null,null,null,null,null,null,null,356.4,163.47000000000003,null,null,null,null,null,null,null,null,null,null,null,null,null,519.87,40.86,560.73,5.9864241790043664,11.972848358008733,1.9954747263347887E-2,3.9909494526695774E-2,3.5587086946209201E-5,7.1174173892418402E-5]
["SF-00134",{"$f":"VLOOKUP(A136,'Itens ARP 2021'!$A$4:$M$425,6,FALSE)","v":"Divisória MDF com painel liso cego e bandeira"},{"$f":"VLOOKUP(A136,'Itens ARP 2021'!$A$4:$M$425,8,FALSE)","v":900},1000,17.959272537013099,35.918545074026198,null,null,null,122.57999999999998,null,null,null,null,null,null,null,1069.2,490.41,null,null,null,null,null,null,null,null,null,null,null,null,null,1559.6100000000001,122.57999999999998,1682.19,17.959272537013099,35.918545074026198,1.9954747263347887E-2,3.9909494526695774E-2,1.1862362315403068E-5,2.3724724630806136E-5]
["SF-00135",{"$f":"VLOOKUP(A137,'Itens ARP 2021'!$A$4:$M$425,6,FALSE)","v":"Divisória MDF com painel liso, painel de vidro e bandeira"},{"$f":"VLOOKUP(A137,'Itens ARP 2021'!$A$4:$M$425,8,FALSE)","v":900},1000,17.959272537013099,35.918545074026198,null,null,null,122.57999999999998,null,null,null,null,null,null,null,1069.2,490.41,null,null,null,null,null,null,null,null,null,null,null,null,null,1559.6100000000001,122.57999999999998,1682.19,17.959272537013099,35.918545074026198,1.9954747263347887E-2,3.9909494526695774E-2,1.1862362315403068E-5,2.3724724630806136E-5]
["SF-00136",{"$f":"VLOOKUP(A138,'Itens ARP 2021'!$A$4:$M$425,6,FALSE)","v":"Divisória MDF com painel paginado cego e bandeira - Interlegis"},{"$f":"VLOOKUP(A138,'Itens ARP 2021'!$A$4:$M$425,8,FALSE)","v":200},200,3.9909494526695761,7.9818989053391523,null,null,null,27.24,null,null,null,null,null,null,null,237.6,108.98,null,null,null,null,null,null,null,null,null,null,null,null,null,346.58,27.24,373.82,3.9909494526695761,7.9818989053391523,1.995474726334788E-2,3.990949452669576E-2,5.3380630419313791E-5,1.0676126083862758E-4]
["SF-00137",{"$f":"VLOOKUP(A139,'Itens ARP 2021'!$A$4:$M$425,6,FALSE)","v":"Divisória MDF com painel paginado, painel de vidro e bandeira - Interlegis"},{"$f":"VLOOKUP(A139,'Itens ARP 2021'!$A$4:$M$425,8,FALSE)","v":200},200,3.9909494526695761,7.9818989053391523,null,null,null,27.24,null,null,null,null,null,null,null,237.6,108.98,null,null,null,null,null,null,null,null,null,null,null,null,null,346.58,27.24,373.82,3.9909494526695761,7.9818989053391523,1.995474726334788E-2,3.990949452669576E-2,5.3380630419313791E-5,1.0676126083862758E-4]
["SF-00138",{"$f":"VLOOKUP(A140,'Itens ARP 2021'!$A$4:$M$425,6,FALSE)","v":"Instalação de divisória e porta de divisória com dobradiça reaproveitadas"},{"$f":"VLOOKUP(A140,'Itens ARP 2021'!$A$4:$M$425,8,FALSE)","v":700},700,20.508476118548696,41.016952237097392,null,null,null,95.339999999999989,null,null,null,null,null,{"$f":"C140*1","v":700},null,831.59999999999991,381.43000000000006,null,null,null,null,null,null,null,null,null,null,null,null,null,1213.03,795.34,2008.37,20.508476118548696,41.016952237097392,2.9297823026498138E-2,5.8595646052996275E-2,1.4587861313651438E-5,2.9175722627302876E-5]
["SF-00139",{"$f":"VLOOKUP(A141,'Itens ARP 2021'!$A$4:$M$425,6,FALSE)","v":"Alçapão em forro de gesso acartonado"},{"$f":"VLOOKUP(A141,'Itens ARP 2021'!$A$4:$M$425,8,FALSE)","v":100},100,7.6499871235856389,15.299974247171278,null,null,null,{"$f":"C141*1.80555555555556","v":180.555555555556},{"$f":"C141*0.805555555555556","v":80.5555555555556},null,null,null,null,null,null,118.8,54.49,null,null,null,null,null,null,null,null,null,null,null,null,null,253.84555555555562,180.555555555556,434.40111111111162,7.6499871235856389,15.299974247171278,7.6499871235856387E-2,0.15299974247171277,1.7610422551679239E-4,3.5220845103358479E-4]
["SF-00140",{"$f":"VLOOKUP(A142,'Itens ARP 2021'!$A$4:$M$425,6,FALSE)","v":"Forro de PVC em réguas de 100 x 6000mm"},{"$f":"VLOOKUP(A142,'Itens ARP 2021'!$A$4:$M$425,8,FALSE)","v":50},50,0.73156664097165847,1.4631332819433169,null,null,null,{"$f":"C142*1.80555555555556","v":90.277777777777999},null,null,null,null,null,null,null,59.4,{"$f":"C142*0.4994","v":24.97},null,null,null,null,null,null,null,null,null,null,null,null,null,84.37,90.277777777777999,174.647777777778,0.73156664097165847,1.4631332819433169,1.4631332819433169E-2,2.9262665638866339E-2,8.3776232401021962E-5,1.6755246480204392E-4]
["SF-00141",{"$f":"VLOOKUP(A143,'Itens ARP 2021'!$A$4:$M$425,6,FALSE)","v":"Forro de PVC em réguas de 100 x 6000mm, sem estrutura"},{"$f":"VLOOKUP(A143,'Itens ARP 2021'!$A$4:$M$425,8,FALSE)","v":100},100,0.48771109398110662,0.97542218796221325,null,null,null,null,null,null,null,null,null,null,null,118.8,{"$f":"C143*0.166466666666667","v":16.6466666666667},null,null,null,null,null,null,null,null,null,null,null,null,null,135.44666666666669,0,135.44666666666669,0.48771109398110662,0.97542218796221325,4.8771109398110662E-3,9.7542218796221325E-3,3.600761140776984E-5,7.2015222815539681E-5]
["SF-00142",{"$f":"VLOOKUP(A144,'Itens ARP 2021'!$A$4:$M$425,6,FALSE)","v":"Forro de PVC modular em placas"},{"$f":"VLOOKUP(A144,'Itens ARP 2021'!$A$4:$M$425,8,FALSE)","v":20},20,0.29262665638866336,0.58525331277732673,null,null,null,null,null,null,null,null,null,null,null,23.759999999999998,{"$f":"C144*0.4994","v":9.9879999999999995},null,null,null,null,null,null,null,null,null,null,null,null,null,33.747999999999998,0,33.747999999999998,0.29262665638866336,0.58525331277732673,1.4631332819433168E-2,2.9262665638866335E-2,4.3354666408181725E-4,8.6709332816363449E-4]
["SF-00143",{"$f":"VLOOKUP(A145,'Itens ARP 2021'!$A$4:$M$425,6,FALSE)","v":"Forro em chapas metálicas"},{"$f":"VLOOKUP(A145,'Itens ARP 2021'!$A$4:$M$425,8,FALSE)","v":500},{"$error":"#N/A"},18.64992680588287,37.299853611765741,null,null,null,null,null,null,null,null,null,null,{"$f":"C145*0.5","v":250},594,{"$f":"C145*0.5","v":250},null,null,null,null,null,null,null,null,null,null,null,null,null,844,250,1094,{"$f":"AL145*C145","v":18.64992680588287},{"$f":"AM145*C145","v":37.299853611765741},{"$f":"AN145*AI145/C145","v":3.7299853611765743E-2},{"$f":"AO145*AI145/C145","v":7.4599707223531486E-2},1.7047465087644306E-2,3.4094930175288612E-2]
["SF-00144",{"$f":"VLOOKUP(A146,'Itens ARP 2021'!$A$4:$M$425,6,FALSE)","v":"Forro em gesso acartonado monolítico"},{"$f":"VLOOKUP(A146,'Itens ARP 2021'!$A$4:$M$425,8,FALSE)","v":2500},2500,53.146250970067619,106.29250194013524,null,null,null,{"$f":"C146*0.3628","v":907},null,null,null,null,null,null,null,2970,{"$f":"C146*0.3628","v":907},null,null,null,null,null,null,null,null,null,null,null,null,null,3877,907,4784,{"$f":"C146*AL146","v":53.146250970067619},{"$f":"C146*AM146","v":106.29250194013524},2.1258500388027048E-2,4.2517000776054095E-2,4.4436664690691989E-6,8.8873329381383978E-6]
["SF-00145",{"$f":"VLOOKUP(A147,'Itens ARP 2021'!$A$4:$M$425,6,FALSE)","v":"Forro em gesso acartonado monolítico, sem estrutura"},{"$f":"VLOOKUP(A147,'Itens ARP 2021'!$A$4:$M$425,8,FALSE)","v":2300},2300,48.894550892462206,97.789101784924412,null,null,null,{"$f":"C147*0.3628","v":834.44},null,null,null,null,null,null,null,2732.4,{"$f":"C147*0.3628","v":834.44},null,null,null,null,null,null,null,null,null,null,null,null,null,3566.84,834.44,4401.2800000000007,48.894550892462206,97.789101784924412,2.1258500388027048E-2,4.2517000776054095E-2,4.8300722489882586E-6,9.6601444979765172E-6]
["SF-00146",{"$f":"VLOOKUP(A148,'Itens ARP 2021'!$A$4:$M$425,6,FALSE)","v":"Forro mineral modulado"},{"$f":"VLOOKUP(A148,'Itens ARP 2021'!$A$4:$M$425,8,FALSE)","v":300},300,6.3775501164081145,12.755100232816229,null,null,null,{"$f":"C148*0.3628","v":108.84},null,null,null,null,null,null,null,356.4,{"$f":"C148*0.3628","v":108.84},null,null,null,null,null,null,null,null,null,null,null,null,null,465.24,108.84,574.08000000000004,6.3775501164081145,12.755100232816229,2.1258500388027048E-2,4.2517000776054095E-2,3.7030553908909987E-5,7.4061107817819974E-5]
["SF-00147",{"$f":"VLOOKUP(A149,'Itens ARP 2021'!$A$4:$M$425,6,FALSE)","v":"Forro mineral modulado, sem estrutura"},{"$f":"VLOOKUP(A149,'Itens ARP 2021'!$A$4:$M$425,8,FALSE)","v":100},100,0.87893469079494413,1.7578693815898883,null,null,null,null,null,null,null,null,null,{"$f":"C149*0.3","v":30},null,118.8,null,null,null,null,null,null,null,null,null,null,null,null,null,null,118.8,30,148.80000000000001,0.87893469079494413,1.7578693815898883,8.7893469079494413E-3,1.7578693815898883E-2,5.9068191585681724E-5,1.1813638317136345E-4]
["SF-00148",{"$f":"VLOOKUP(A150,'Itens ARP 2021'!$A$4:$M$425,6,FALSE)","v":"Instalação de forro de PVC reaproveitado"},{"$f":"VLOOKUP(A150,'Itens ARP 2021'!$A$4:$M$425,8,FALSE)","v":100},100,1.7578693815898883,3.5157387631797765,null,null,null,{"$f":"C150*0.3","v":30},null,null,null,null,{"$f":"C150*0.3","v":30},null,null,118.8,null,null,null,null,null,null,null,null,null,null,null,null,null,null,148.80000000000001,30,178.8,1.7578693815898883,3.5157387631797765,1.7578693815898883E-2,3.5157387631797765E-2,9.8314842370799112E-5,1.9662968474159822E-4]
["SF-00149",{"$f":"VLOOKUP(A151,'Itens ARP 2021'!$A$4:$M$425,6,FALSE)","v":"Instalação de forro mineral reaproveitado"},{"$f":"VLOOKUP(A151,'Itens ARP 2021'!$A$4:$M$425,8,FALSE)","v":100},100,7.031477526359553,14.062955052719106,null,null,null,null,null,null,null,null,null,{"$f":"C151*1.2","v":120},null,118.8,{"$f":"C151*1.2","v":120},null,null,null,null,null,null,null,null,null,null,null,null,null,238.8,120,358.8,7.031477526359553,14.062955052719106,7.031477526359553E-2,0.14062955052719106,1.9597206037791395E-4,3.9194412075582789E-4]
["SF-00150",{"$f":"VLOOKUP(A152,'Itens ARP 2021'!$A$4:$M$425,6,FALSE)","v":"Tabica metálica em forro de gesso acartonado"},{"$f":"VLOOKUP(A152,'Itens ARP 2021'!$A$4:$M$425,8,FALSE)","v":2500},3300,10.752301050724819,21.504602101449638,null,null,null,null,null,null,null,null,null,null,null,2970,{"$f":"C152*0.1468","v":367.00000000000006},null,null,null,null,null,null,null,null,null,null,null,null,null,3337,0,3337,10.752301050724819,21.504602101449638,4.3009204202899276E-3,8.6018408405798552E-3,1.2888583818669246E-6,2.5777167637338493E-6]
["SF-00151",{"$f":"VLOOKUP(A153,'Itens ARP 2021'!$A$4:$M$425,6,FALSE)","v":"Instalação de revestimento de piso têxtil (carpete) reaproveitado"},{"$f":"VLOOKUP(A153,'Itens ARP 2021'!$A$4:$M$425,8,FALSE)","v":400},400,2.343825842119851,4.687651684239702,null,null,{"$f":"C153*0.1","v":40},{"$f":"C153*0.1","v":40},null,null,null,null,null,null,null,475.2,null,null,null,null,null,null,null,null,null,null,null,null,null,null,515.20000000000005,40,555.20000000000005,2.343825842119851,4.687651684239702,5.8595646052996275E-3,1.1719129210599255E-2,1.0553970830871087E-5,2.1107941661742173E-5]
["SF-00152",{"$f":"VLOOKUP(A154,'Itens ARP 2021'!$A$4:$M$425,6,FALSE)","v":{"$error":"#N/A"}},{"$f":"VLOOKUP(A154,'Itens ARP 2021'!$A$4:$M$425,8,FALSE)","v":{"$error":"#N/A"}},{"$error":"#N/A"},0,0,null,null,null,null,null,null,null,null,null,null,null,{"$error":"#N/A"},null,null,null,{"$f":"C154*0.5","v":{"$error":"#N/A"}},null,null,null,null,null,null,null,null,null,null,{"$error":"#N/A"},0,{"$error":"#N/A"},0,0,0,0,0,0]
["SF-00153",{"$f":"VLOOKUP(A155,'Itens ARP 2021'!$A$4:$M$425,6,FALSE)","v":{"$error":"#N/A"}},{"$f":"VLOOKUP(A155,'Itens ARP 2021'!$A$4:$M$425,8,FALSE)","v":{"$error":"#N/A"}},{"$error":"#N/A"},0,0,null,null,null,null,null,null,null,null,null,null,null,{"$error":"#N/A"},null,null,null,{"$f":"C155*0.5","v":{"$error":"#N/A"}},null,null,null,null,null,null,null,null,null,null,{"$error":"#N/A"},0,{"$error":"#N/A"},0,0,0,0,0,0]
["SF-00154",{"$f":"VLOOKUP(A156,'Itens ARP 2021'!$A$4:$M$425,6,FALSE)","v":"Espelho cristal, e=5 mm"},{"$f":"VLOOKUP(A156,'Itens ARP 2021'!$A$4:$M$425,8,FALSE)","v":130},130,9.1409207842674185,18.281841568534837,null,null,null,{"$f":"C156*0.4","v":52},null,null,null,null,null,null,null,154.44,null,null,null,{"$f":"C156*2","v":260},null,null,null,null,null,null,null,null,null,null,414.44,52,466.44,{"$f":"C156*AL156","v":9.1409207842674185},{"$f":"C156*AM156","v":18.281841568534837},7.031477526359553E-2,0.14062955052719106,1.5074773875224152E-4,3.0149547750448304E-4]
["SF-00155",{"$f":"VLOOKUP(A157,'Itens ARP 2021'!$A$4:$M$425,6,FALSE)","v":"Instalação de vidro reaproveitado"},{"$f":"VLOOKUP(A157,'Itens ARP 2021'!$A$4:$M$425,8,FALSE)","v":50},50,1.3184020361924162,2.6368040723848325,null,null,null,{"$f":"C157*0.45","v":22.5},null,null,null,null,null,null,null,59.4,null,null,null,{"$f":"C157*0.45","v":22.5},null,null,null,null,null,null,null,null,null,null,81.900000000000006,22.5,104.4,{"$f":"C157*AL157","v":1.3184020361924162},{"$f":"C157*AM157","v":2.6368040723848325},2.6368040723848324E-2,5.2736081447696648E-2,2.5256743988360462E-4,5.0513487976720924E-4]
["SF-00156",{"$f":"VLOOKUP(A158,'Itens ARP 2021'!$A$4:$M$425,6,FALSE)","v":{"$error":"#N/A"}},{"$f":"VLOOKUP(A158,'Itens ARP 2021'!$A$4:$M$425,8,FALSE)","v":{"$error":"#N/A"}},{"$error":"#N/A"},0,0,null,null,null,null,null,null,null,null,null,null,null,{"$error":"#N/A"},null,null,null,{"$f":"C158*0.6","v":{"$error":"#N/A"}},null,null,null,null,null,null,null,null,null,null,{"$error":"#N/A"},0,{"$error":"#N/A"},0,0,0,0,0,0]
["SF-00157",{"$f":"VLOOKUP(A159,'Itens ARP 2021'!$A$4:$M$425,6,FALSE)","v":{"$error":"#N/A"}},{"$f":"VLOOKUP(A159,'Itens ARP 2021'!$A$4:$M$425,8,FALSE)","v":{"$error":"#N/A"}},{"$error":"#N/A"},0,0,null,null,null,{"$f":"C159*0.45","v":{"$error":"#N/A"}},null,null,null,null,null,null,null,{"$error":"#N/A"},null,null,null,{"$f":"C159*0.45","v":{"$error":"#N/A"}},null,null,null,null,null,null,null,null,null,null,{"$error":"#N/A"},{"$error":"#N/A"},{"$error":"#N/A"},0,0,0,0,0,0]
["SF-00158",{"$f":"VLOOKUP(A160,'Itens ARP 2021'!$A$4:$M$425,6,FALSE)","v":{"$error":"#N/A"}},{"$f":"VLOOKUP(A160,'Itens ARP 2021'!$A$4:$M$425,8,FALSE)","v":{"$error":"#N/A"}},{"$error":"#N/A"},0,0,null,null,null,{"$f":"C160*0.2","v":{"$error":"#N/A"}},null,null,null,null,null,null,null,{"$error":"#N/A"},null,null,null,{"$f":"C160*1","v":{"$error":"#N/A"}},null,null,null,null,null,null,null,null,null,null,{"$error":"#N/A"},{"$error":"#N/A"},{"$error":"#N/A"},0,0,0,0,0,0]
["SF-00159",{"$f":"VLOOKUP(A161,'Itens ARP 2021'!$A$4:$M$425,6,FALSE)","v":"Instalação de painéis de vidro temperado reaproveitados"},{"$f":"VLOOKUP(A161,'Itens ARP 2021'!$A$4:$M$425,8,FALSE)","v":70},100,4.5118647460807129,9.0237294921614257,null,null,null,{"$f":"C161*1.1","v":77},null,null,null,null,null,null,null,83.16,null,null,null,{"$f":"C161*1.1","v":77},null,null,null,null,null,null,null,null,null,null,160.16,77,237.16,{"$f":"C161*AL161","v":4.5118647460807129},{"$f":"C161*AM161","v":9.0237294921614257},6.4455210658295903E-2,0.12891042131659181,2.7177943438309963E-4,5.4355886876619925E-4]
["SF-00160",{"$f":"VLOOKUP(A162,'Itens ARP 2021'!$A$4:$M$425,6,FALSE)","v":"Mola hidráulica de piso"},{"$f":"VLOOKUP(A162,'Itens ARP 2021'!$A$4:$M$425,8,FALSE)","v":25},{"$error":"#N/A"},0,0,null,null,null,{"$f":"C162*0.3","v":7.5},null,null,null,null,null,null,null,29.7,null,null,null,{"$f":"C162*0.75","v":18.75},null,null,null,null,null,null,null,null,null,null,48.45,7.5,55.95,0,0,0,0,0,0]
["SF-00161",{"$f":"VLOOKUP(A163,'Itens ARP 2021'!$A$4:$M$425,6,FALSE)","v":"Instalação de persianas reaproveitadas"},{"$f":"VLOOKUP(A163,'Itens ARP 2021'!$A$4:$M$425,8,FALSE)","v":800},1200,7.812752807066162,15.625505614132324,null,null,null,null,null,null,null,null,null,{"$f":"C163*0.333333333333333","v":266.6666666666664},null,{"$f":"C163*1.188","v":950.4},null,null,null,null,null,null,null,null,null,null,null,null,null,null,950.4,266.6666666666664,1217.0666666666664,{"$f":"C163*AL163","v":7.812752807066162},{"$f":"C163*AM163","v":15.625505614132324},9.7659410088327021E-3,1.9531882017665404E-2,8.0241627482740229E-6,1.6048325496548046E-5]
["SF-00165",{"$f":"VLOOKUP(A164,'Itens ARP 2021'!$A$4:$M$425,6,FALSE)","v":"Película jateada"},{"$f":"VLOOKUP(A164,'Itens ARP 2021'!$A$4:$M$425,8,FALSE)","v":80},80,0.78127528070661612,1.5625505614132322,null,null,null,null,null,null,null,null,null,{"$f":"C164*0.333333333333333","v":26.666666666666639},null,95.039999999999992,null,null,null,null,null,null,null,null,null,null,null,null,null,null,95.039999999999992,26.666666666666639,121.70666666666664,0.78127528070661612,1.5625505614132322,9.7659410088327021E-3,1.9531882017665404E-2,8.024162748274024E-5,1.6048325496548048E-4]
["SF-00166",{"$f":"VLOOKUP(A165,'Itens ARP 2021'!$A$4:$M$425,6,FALSE)","v":"Tubo de ligação para bacia sanitária"},{"$f":"VLOOKUP(A165,'Itens ARP 2021'!$A$4:$M$425,8,FALSE)","v":15},15,8.7893469079494413E-2,0.17578693815898883,null,null,null,null,null,null,null,{"$f":"C165*0.2","v":3},null,null,null,17.82,null,null,null,null,null,null,null,null,null,null,null,null,null,null,20.82,0,20.82,8.7893469079494413E-2,0.17578693815898883,5.8595646052996275E-3,1.1719129210599255E-2,2.8143922215656232E-4,5.6287844431312465E-4]
["SF-00167",{"$f":"VLOOKUP(A166,'Itens ARP 2021'!$A$4:$M$425,6,FALSE)","v":"Tubo PVC esgoto ou aguas pluviais predial DN 100mm"},{"$f":"VLOOKUP(A166,'Itens ARP 2021'!$A$4:$M$425,8,FALSE)","v":215},215,5.6061384361204185,11.212276872240837,null,null,null,null,null,null,null,{"$f":"C166*0.445","v":95.674999999999997},null,null,null,255.42,null,null,null,null,null,null,null,{"$f":"C166*0.445","v":95.674999999999997},null,null,null,null,null,null,351.09499999999997,95.674999999999997,446.77,5.6061384361204185,11.212276872240837,2.607506249358334E-2,5.2150124987166681E-2,5.836350357809016E-5,1.1672700715618032E-4]
["SF-00168",{"$f":"VLOOKUP(A167,'Itens ARP 2021'!$A$4:$M$425,6,FALSE)","v":"Tubo PVC esgoto ou aguas pluviais predial DN 40mm"},{"$f":"VLOOKUP(A167,'Itens ARP 2021'!$A$4:$M$425,8,FALSE)","v":80},80,0.77346252789955083,1.5469250557991017,null,null,null,null,null,null,null,{"$f":"C167*0.165","v":13.200000000000001},null,null,null,95.039999999999992,null,null,null,null,null,null,null,{"$f":"C167*0.165","v":13.200000000000001},null,null,null,null,null,null,108.24,13.200000000000001,121.44,0.77346252789955083,1.5469250557991017,9.6682815987443847E-3,1.9336563197488769E-2,7.9613649528527546E-5,1.5922729905705509E-4]
["SF-00169",{"$f":"VLOOKUP(A168,'Itens ARP 2021'!$A$4:$M$425,6,FALSE)","v":"Tubo PVC esgoto ou aguas pluviais predial DN 50mm"},{"$f":"VLOOKUP(A168,'Itens ARP 2021'!$A$4:$M$425,8,FALSE)","v":80},80,0.98440685369033742,1.9688137073806748,null,null,null,null,null,null,null,{"$f":"C168*0.21","v":16.8},null,null,null,95.039999999999992,null,null,null,null,null,null,null,{"$f":"C168*0.21","v":16.8},null,null,null,null,null,null,111.83999999999999,16.8,128.63999999999999,0.98440685369033742,1.9688137073806748,1.2305085671129218E-2,2.4610171342258437E-2,9.5655205776812966E-5,1.9131041155362593E-4]
["SF-00170",{"$f":"VLOOKUP(A169,'Itens ARP 2021'!$A$4:$M$425,6,FALSE)","v":"Tubo PVC esgoto ou aguas pluviais predial DN 75mm"},{"$f":"VLOOKUP(A169,'Itens ARP 2021'!$A$4:$M$425,8,FALSE)","v":100},100,1.904358496722379,3.808716993444758,null,null,null,null,null,null,null,{"$f":"C169*0.325","v":32.5},null,null,null,118.8,null,null,null,null,null,null,null,{"$f":"C169*0.325","v":32.5},null,null,null,null,null,null,151.30000000000001,32.5,183.8,1.904358496722379,3.808716993444758,1.9043584967223789E-2,3.8087169934447579E-2,1.0361036434833399E-4,2.0722072869666799E-4]
["SF-00171",{"$f":"VLOOKUP(A170,'Itens ARP 2021'!$A$4:$M$425,6,FALSE)","v":"Tubo PVC soldavel agua fria DN 25mm"},{"$f":"VLOOKUP(A170,'Itens ARP 2021'!$A$4:$M$425,8,FALSE)","v":300},200,0.28125910105438212,0.56251820210876424,null,null,null,null,null,null,null,{"$f":"C170*0.016","v":4.8},null,null,null,356.4,null,null,null,null,null,null,null,{"$f":"C170*0.016","v":4.8},null,null,null,null,null,null,361.2,4.8,366,0.28125910105438212,0.56251820210876424,9.3753033684794039E-4,1.8750606736958808E-3,2.5615582973987441E-6,5.1231165947974883E-6]
["SF-00172",{"$f":"VLOOKUP(A171,'Itens ARP 2021'!$A$4:$M$425,6,FALSE)","v":"Tubo PVC soldavel agua fria DN 32mm"},{"$f":"VLOOKUP(A171,'Itens ARP 2021'!$A$4:$M$425,8,FALSE)","v":200},100,0.23438258421198513,0.46876516842397026,null,null,null,null,null,null,null,{"$f":"C171*0.02","v":4},null,null,null,237.6,null,null,null,null,null,null,null,{"$f":"C171*0.02","v":4},null,null,null,null,null,null,241.6,4,245.6,0.23438258421198513,0.46876516842397026,1.1719129210599256E-3,2.3438258421198512E-3,4.771632414739111E-6,9.5432648294782221E-6]
["SF-00173",{"$f":"VLOOKUP(A172,'Itens ARP 2021'!$A$4:$M$425,6,FALSE)","v":"Tubo PVC soldavel agua fria DN 40mm"},{"$f":"VLOOKUP(A172,'Itens ARP 2021'!$A$4:$M$425,8,FALSE)","v":100},100,0.14062955052719106,0.28125910105438212,null,null,null,null,null,null,null,{"$f":"C172*0.024","v":2.4},null,null,null,118.8,null,null,null,null,null,null,null,{"$f":"C172*0.024","v":2.4},null,null,null,null,null,null,121.2,2.4,123.60000000000001,0.14062955052719106,0.28125910105438212,1.4062955052719106E-3,2.8125910105438212E-3,1.1377795350096364E-5,2.2755590700192727E-5]
["SF-00174",{"$f":"VLOOKUP(A173,'Itens ARP 2021'!$A$4:$M$425,6,FALSE)","v":"Tubo PVC soldavel agua fria DN 50mm"},{"$f":"VLOOKUP(A173,'Itens ARP 2021'!$A$4:$M$425,8,FALSE)","v":100},100,0.16992737355368923,0.33985474710737845,null,null,null,null,null,null,null,{"$f":"C173*0.029","v":2.9000000000000004},null,null,null,118.8,null,null,null,null,null,null,null,{"$f":"C173*0.029","v":2.9000000000000004},null,null,null,null,null,null,121.7,2.9000000000000004,124.60000000000001,0.16992737355368923,0.33985474710737845,1.6992737355368923E-3,3.3985474710737846E-3,1.3637830943313741E-5,2.7275661886627482E-5]
["SF-00175",{"$f":"VLOOKUP(A174,'Itens ARP 2021'!$A$4:$M$425,6,FALSE)","v":"Base registro gaveta 3/4\"\n"},{"$f":"VLOOKUP(A174,'Itens ARP 2021'!$A$4:$M$425,8,FALSE)","v":60},80,0.93167077224264072,1.8633415444852814,null,null,null,null,null,null,null,{"$f":"C174*0.3","v":18},null,null,null,71.28,null,null,null,null,null,null,null,{"$f":"C174*0.23","v":13.8},null,null,null,null,null,null,89.28,13.8,103.08,0.93167077224264072,1.8633415444852814,1.5527846204044012E-2,3.1055692408088025E-2,1.5063878738886315E-4,3.0127757477772631E-4]
["SF-00176",{"$f":"VLOOKUP(A175,'Itens ARP 2021'!$A$4:$M$425,6,FALSE)","v":"Caixa sifonada de PVC DN 150mm"},{"$f":"VLOOKUP(A175,'Itens ARP 2021'!$A$4:$M$425,8,FALSE)","v":45},60,1.0019855475062363,2.0039710950124725,null,null,null,null,null,null,null,{"$f":"C175*0.38","v":17.100000000000001},null,null,null,53.46,null,null,null,null,null,null,null,{"$f":"C175*0.38","v":17.100000000000001},null,null,null,null,null,null,70.56,17.100000000000001,87.66,1.0019855475062363,2.0039710950124725,2.2266345500138583E-2,4.4532691000277166E-2,2.5400804814212393E-4,5.0801609628424785E-4]
["SF-00177",{"$f":"VLOOKUP(A176,'Itens ARP 2021'!$A$4:$M$425,6,FALSE)","v":"Caixa sifonada de PVC DN 250mm"},{"$f":"VLOOKUP(A176,'Itens ARP 2021'!$A$4:$M$425,8,FALSE)","v":45},60,1.0019855475062363,2.0039710950124725,null,null,null,null,null,null,null,{"$f":"C176*0.38","v":17.100000000000001},null,null,null,53.46,null,null,null,null,null,null,null,{"$f":"C176*0.38","v":17.100000000000001},null,null,null,null,null,null,70.56,17.100000000000001,87.66,1.0019855475062363,2.0039710950124725,2.2266345500138583E-2,4.4532691000277166E-2,2.5400804814212393E-4,5.0801609628424785E-4]
["SF-00178",{"$f":"VLOOKUP(A177,'Itens ARP 2021'!$A$4:$M$425,6,FALSE)","v":"Grelha quadrada para ralo 10x10cm"},{"$f":"VLOOKUP(A177,'Itens ARP 2021'!$A$4:$M$425,8,FALSE)","v":45},60,0.19776030542886242,0.39552061085772483,null,null,null,{"$f":"C177*0.15","v":6.75},null,null,null,null,null,null,null,53.46,null,null,null,null,null,null,null,null,null,null,null,null,null,null,53.46,6.75,60.21,0.19776030542886242,0.39552061085772483,4.3946734539747206E-3,8.7893469079494413E-3,7.2989095731186191E-5,1.4597819146237238E-4]
["SF-00179",{"$f":"VLOOKUP(A178,'Itens ARP 2021'!$A$4:$M$425,6,FALSE)","v":"Grelha quadrada para ralo 15x15cm"},{"$f":"VLOOKUP(A178,'Itens ARP 2021'!$A$4:$M$425,8,FALSE)","v":45},60,0.19776030542886242,0.39552061085772483,null,null,null,{"$f":"C178*0.15","v":6.75},null,null,null,null,null,null,null,53.46,null,null,null,null,null,null,null,null,null,null,null,null,null,null,53.46,6.75,60.21,0.19776030542886242,0.39552061085772483,4.3946734539747206E-3,8.7893469079494413E-3,7.2989095731186191E-5,1.4597819146237238E-4]
["SF-00180",{"$f":"VLOOKUP(A179,'Itens ARP 2021'!$A$4:$M$425,6,FALSE)","v":"Ralo seco PVC DN 100x40mm"},{"$f":"VLOOKUP(A179,'Itens ARP 2021'!$A$4:$M$425,8,FALSE)","v":45},60,0.18457628506693824,0.36915257013387648,null,null,null,null,null,null,null,{"$f":"C179*0.07","v":3.1500000000000004},null,null,null,53.46,null,null,null,null,null,null,null,{"$f":"C179*0.07","v":3.1500000000000004},null,null,null,null,null,null,56.61,3.1500000000000004,59.76,0.18457628506693824,0.36915257013387648,4.1016952237097389E-3,8.2033904474194778E-3,6.8636131588181715E-5,1.3727226317636343E-4]
["SF-00181",{"$f":"VLOOKUP(A180,'Itens ARP 2021'!$A$4:$M$425,6,FALSE)","v":"Assento para bacia convencional - Linha Administrativa"},{"$f":"VLOOKUP(A180,'Itens ARP 2021'!$A$4:$M$425,8,FALSE)","v":45},60,0.13184020361924162,0.26368040723848324,null,null,null,{"$f":"C180*0.1","v":4.5},null,null,null,null,null,null,null,53.46,null,null,null,null,null,null,null,null,null,null,null,null,null,null,53.46,4.5,57.96,0.13184020361924162,0.26368040723848324,2.9297823026498138E-3,5.8595646052996275E-3,5.0548348907001616E-5,1.0109669781400323E-4]
["SF-00182",{"$f":"VLOOKUP(A181,'Itens ARP 2021'!$A$4:$M$425,6,FALSE)","v":"Bacia convencional – Linha Administrativa"},{"$f":"VLOOKUP(A181,'Itens ARP 2021'!$A$4:$M$425,8,FALSE)","v":45},60,1.6084504841547476,3.2169009683094951,null,null,null,{"$f":"C181*0.44","v":19.8},null,null,null,{"$f":"C181*0.78","v":35.1},null,null,null,53.46,null,null,null,null,null,null,null,null,null,null,null,null,null,null,88.56,19.8,108.36,1.6084504841547476,3.2169009683094951,3.5743344092327725E-2,7.148668818465545E-2,3.2985736519313146E-4,6.5971473038626291E-4]
["SF-00183",{"$f":"VLOOKUP(A182,'Itens ARP 2021'!$A$4:$M$425,6,FALSE)","v":"Bacia convencional com saída horizontal"},{"$f":"VLOOKUP(A182,'Itens ARP 2021'!$A$4:$M$425,8,FALSE)","v":10},2,0.35743344092327722,0.71486688184655445,null,null,null,{"$f":"C182*0.44","v":4.4000000000000004},null,null,null,{"$f":"C182*0.78","v":7.8000000000000007},null,null,null,11.879999999999999,null,null,null,null,null,null,null,null,null,null,null,null,null,null,19.68,4.4000000000000004,24.08,0.35743344092327722,0.71486688184655445,3.5743344092327725E-2,7.148668818465545E-2,1.4843581433690916E-3,2.9687162867381833E-3]
["SF-00184",{"$f":"VLOOKUP(A183,'Itens ARP 2021'!$A$4:$M$425,6,FALSE)","v":"Cuba oval de embutir"},{"$f":"VLOOKUP(A183,'Itens ARP 2021'!$A$4:$M$425,8,FALSE)","v":45},60,1.4766102805355059,2.9532205610710118,null,null,null,{"$f":"C183*0.27","v":12.15},null,null,null,null,null,null,null,{"$f":"C183*0.85","v":38.25},null,null,null,null,null,null,null,null,null,null,null,null,null,null,38.25,12.15,50.4,1.4766102805355059,2.9532205610710118,3.2813561789677911E-2,6.5627123579355823E-2,6.5106273392218084E-4,1.3021254678443617E-3]
["SF-00185",{"$f":"VLOOKUP(A184,'Itens ARP 2021'!$A$4:$M$425,6,FALSE)","v":"Cuba retangular em aço inox"},{"$f":"VLOOKUP(A184,'Itens ARP 2021'!$A$4:$M$425,8,FALSE)","v":30},20,0.55372885520081483,1.1074577104016297,null,null,null,{"$f":"C184*0.15","v":4.5},null,null,null,null,null,null,null,{"$f":"C184*0.48","v":14.399999999999999},null,null,null,null,null,null,null,null,null,null,null,null,null,null,14.399999999999999,4.5,18.899999999999999,0.55372885520081483,1.1074577104016297,1.8457628506693826E-2,3.6915257013387652E-2,9.7659410088327125E-4,1.9531882017665425E-3]
["SF-00186",{"$f":"VLOOKUP(A185,'Itens ARP 2021'!$A$4:$M$425,6,FALSE)","v":"Cuba semiencaixe quadrada com mesa"},{"$f":"VLOOKUP(A185,'Itens ARP 2021'!$A$4:$M$425,8,FALSE)","v":15},10,0.49220342684516866,0.98440685369033731,null,null,null,{"$f":"C185*0.27","v":4.0500000000000007},null,null,null,null,null,null,null,{"$f":"C185*0.85","v":12.75},null,null,null,null,null,null,null,null,null,null,null,null,null,null,12.75,4.0500000000000007,16.8,0.49220342684516866,0.98440685369033731,3.2813561789677911E-2,6.5627123579355823E-2,1.9531882017665421E-3,3.9063764035330842E-3]
["SF-00187",{"$f":"VLOOKUP(A186,'Itens ARP 2021'!$A$4:$M$425,6,FALSE)","v":"Instalação de lavatório reaproveitado"},{"$f":"VLOOKUP(A186,'Itens ARP 2021'!$A$4:$M$425,8,FALSE)","v":30},60,0.50978212066106765,1.0195642413221353,null,null,null,{"$f":"C186*0.19","v":5.7},null,null,null,{"$f":"C186*0.39","v":11.700000000000001},null,null,null,null,null,null,null,null,null,null,null,null,null,null,null,null,null,null,11.700000000000001,5.7,17.400000000000002,0.50978212066106765,1.0195642413221353,1.6992737355368923E-2,3.3985474710737845E-2,9.7659410088327125E-4,1.9531882017665425E-3]
["SF-00188",{"$f":"VLOOKUP(A187,'Itens ARP 2021'!$A$4:$M$425,6,FALSE)","v":"Instalação de mictório reaproveitado"},{"$f":"VLOOKUP(A187,'Itens ARP 2021'!$A$4:$M$425,8,FALSE)","v":30},60,4.0870463121964899,8.1740926243929799,null,null,null,null,null,null,null,{"$f":"C187*2.2","v":66},null,null,null,null,null,null,null,null,null,null,null,{"$f":"C187*2.45","v":73.5},null,null,null,null,null,null,66,73.5,139.5,4.0870463121964899,8.1740926243929799,0.13623487707321633,0.27246975414643265,9.7659410088327125E-4,1.9531882017665425E-3]
["SF-00189",{"$f":"VLOOKUP(A188,'Itens ARP 2021'!$A$4:$M$425,6,FALSE)","v":"Instalação de vaso sanitário reaproveitado"},{"$f":"VLOOKUP(A188,'Itens ARP 2021'!$A$4:$M$425,8,FALSE)","v":30},60,1.0723003227698318,2.1446006455396636,null,null,null,{"$f":"C188*0.44","v":13.2},null,null,null,{"$f":"C188*0.78","v":23.400000000000002},null,null,null,null,null,null,null,null,null,null,null,null,null,null,null,null,null,null,23.400000000000002,13.2,36.6,1.0723003227698318,2.1446006455396636,3.5743344092327725E-2,7.148668818465545E-2,9.7659410088327104E-4,1.9531882017665421E-3]
["SF-00190",{"$f":"VLOOKUP(A189,'Itens ARP 2021'!$A$4:$M$425,6,FALSE)","v":"Lavatório suspenso"},{"$f":"VLOOKUP(A189,'Itens ARP 2021'!$A$4:$M$425,8,FALSE)","v":10},10,0.16992737355368923,0.33985474710737845,null,null,null,{"$f":"C189*0.19","v":1.9},null,null,null,{"$f":"C189*0.39","v":3.9000000000000004},null,null,null,null,null,null,null,null,null,null,null,null,null,null,null,null,null,null,3.9000000000000004,1.9,5.8000000000000007,0.16992737355368923,0.33985474710737845,1.6992737355368923E-2,3.3985474710737845E-2,2.9297823026498138E-3,5.8595646052996275E-3]
["SF-00191",{"$f":"VLOOKUP(A190,'Itens ARP 2021'!$A$4:$M$425,6,FALSE)","v":"Mictório – Linha Administrativa"},{"$f":"VLOOKUP(A190,'Itens ARP 2021'!$A$4:$M$425,8,FALSE)","v":20},20,2.7246975414643266,5.4493950829286533,null,null,null,null,null,null,null,{"$f":"C190*2.2","v":44},null,null,null,null,null,null,null,null,null,null,null,{"$f":"C190*2.45","v":49},null,null,null,null,null,null,44,49,93,2.7246975414643266,5.4493950829286533,0.13623487707321633,0.27246975414643265,1.4648911513249067E-3,2.9297823026498133E-3]
["SF-00192",{"$f":"VLOOKUP(A191,'Itens ARP 2021'!$A$4:$M$425,6,FALSE)","v":"Tanque 38 litros"},{"$f":"VLOOKUP(A191,'Itens ARP 2021'!$A$4:$M$425,8,FALSE)","v":25},5,0.84963686776844594,1.6992737355368919,null,null,null,{"$f":"C191*0.34","v":8.5},null,null,null,{"$f":"C191*0.82","v":20.5},null,null,null,null,null,null,null,null,null,null,null,null,null,null,null,null,null,null,20.5,8.5,29,0.84963686776844594,1.6992737355368919,3.3985474710737838E-2,6.7970949421475677E-2,1.1719129210599254E-3,2.3438258421198508E-3]
["SF-00193",{"$f":"VLOOKUP(A192,'Itens ARP 2021'!$A$4:$M$425,6,FALSE)","v":"Acabamento para registro GD"},{"$f":"VLOOKUP(A192,'Itens ARP 2021'!$A$4:$M$425,8,FALSE)","v":35},40,8.2033904474194785E-2,0.16406780894838957,null,null,null,null,null,null,null,{"$f":"C192*0.08","v":2.8000000000000003},null,null,null,null,null,null,null,null,null,null,null,null,null,null,null,null,null,null,2.8000000000000003,0,2.8000000000000003,8.2033904474194785E-2,0.16406780894838957,2.3438258421198512E-3,4.6876516842397024E-3,8.3708065789994679E-4,1.6741613157998936E-3]
["SF-00194",{"$f":"VLOOKUP(A193,'Itens ARP 2021'!$A$4:$M$425,6,FALSE)","v":"Acabamento para registro PQ"},{"$f":"VLOOKUP(A193,'Itens ARP 2021'!$A$4:$M$425,8,FALSE)","v":70},40,0.16406780894838957,0.32813561789677914,null,null,null,null,null,null,null,{"$f":"C193*0.08","v":5.6000000000000005},null,null,null,null,null,null,null,null,null,null,null,null,null,null,null,null,null,null,5.6000000000000005,0,5.6000000000000005,0.16406780894838957,0.32813561789677914,2.3438258421198512E-3,4.6876516842397024E-3,4.1854032894997339E-4,8.3708065789994679E-4]
["SF-00195",{"$f":"VLOOKUP(A194,'Itens ARP 2021'!$A$4:$M$425,6,FALSE)","v":"Ducha higiênica"},{"$f":"VLOOKUP(A194,'Itens ARP 2021'!$A$4:$M$425,8,FALSE)","v":60},60,1.7578693815898883,3.5157387631797765,null,null,null,null,null,null,null,{"$f":"C194*0.5","v":30},null,null,null,null,null,null,null,null,null,null,null,{"$f":"C194*0.5","v":30},null,null,null,null,null,null,30,30,60,1.7578693815898883,3.5157387631797765,2.9297823026498138E-2,5.8595646052996275E-2,4.8829705044163563E-4,9.7659410088327125E-4]
["SF-00196",{"$f":"VLOOKUP(A195,'Itens ARP 2021'!$A$4:$M$425,6,FALSE)","v":"Instalação de metais e acessórios reaproveitados"},{"$f":"VLOOKUP(A195,'Itens ARP 2021'!$A$4:$M$425,8,FALSE)","v":200},200,1.082847539059371,2.1656950781187421,null,null,null,null,null,null,null,{"$f":"C195*0.1621","v":32.42},null,null,null,null,null,null,null,null,null,null,null,{"$f":"C195*0.0227","v":4.54},null,null,null,null,null,null,{"$f":"SUM(I195,K195,L195,M195,N195,O195,R195,S195,U195,V195,X195,Y195,AA195,AB195,AD195,AE195)","v":32.42},{"$f":"SUM(P195,Q195,T195,W195,Z195,AC195,AF195)+J195","v":4.54},36.96,1.082847539059371,2.1656950781187421,5.4142376952968554E-3,1.0828475390593711E-2,1.4648911513249067E-4,2.9297823026498134E-4]
["SF-00197",{"$f":"VLOOKUP(A196,'Itens ARP 2021'!$A$4:$M$425,6,FALSE)","v":"Ligação flexível 1/2” x 40 cm"},{"$f":"VLOOKUP(A196,'Itens ARP 2021'!$A$4:$M$425,8,FALSE)","v":80},60,0.4687651684239702,0.9375303368479404,null,null,null,{"$f":"C196*0.05","v":4},null,null,null,{"$f":"C196*0.15","v":12},null,null,null,null,null,null,null,null,null,null,null,null,null,null,null,null,null,null,12,4,{"$f":"AG196+AH196","v":16},0.4687651684239702,0.9375303368479404,5.8595646052996275E-3,1.1719129210599255E-2,{"$f":"AL196/AI196","v":3.6622278783122672E-4},{"$f":"AM196/AI196","v":7.3244557566245344E-4}]
["SF-00198",{"$f":"VLOOKUP(A197,'Itens ARP 2021'!$A$4:$M$425,6,FALSE)","v":"Sifão articulado para cozinha"},{"$f":"VLOOKUP(A197,'Itens ARP 2021'!$A$4:$M$425,8,FALSE)","v":50},20,0.52736081447696648,1.054721628953933,null,null,null,{"$f":"C197*0.09","v":4.5},null,null,null,{"$f":"C197*0.27","v":13.5},null,null,null,null,null,null,null,null,null,null,null,null,null,null,null,null,null,null,13.5,4.5,18,0.52736081447696648,1.054721628953933,1.054721628953933E-2,2.109443257907866E-2,5.859564605299628E-4,1.1719129210599256E-3]
["SF-00199",{"$f":"VLOOKUP(A198,'Itens ARP 2021'!$A$4:$M$425,6,FALSE)","v":"Sifão para lavatório 1 1/2\""},{"$f":"VLOOKUP(A198,'Itens ARP 2021'!$A$4:$M$425,8,FALSE)","v":60},60,0.28125910105438212,0.56251820210876424,null,null,null,{"$f":"C198*0.04","v":2.4},null,null,null,{"$f":"C198*0.12","v":7.1999999999999993},null,null,null,null,null,null,null,null,null,null,null,null,null,null,null,null,null,null,7.1999999999999993,2.4,9.6,0.28125910105438212,0.56251820210876424,4.6876516842397024E-3,9.3753033684794047E-3,4.8829705044163574E-4,9.7659410088327147E-4]
["SF-00200",{"$f":"VLOOKUP(A199,'Itens ARP 2021'!$A$4:$M$425,6,FALSE)","v":"Sifão para tanque"},{"$f":"VLOOKUP(A199,'Itens ARP 2021'!$A$4:$M$425,8,FALSE)","v":25},5,{"$f":"IFERROR(AL199*C199,0)","v":0.26368040723848324},{"$f":"IFERROR(AM199*C199,0)","v":0.52736081447696648},null,null,null,{"$f":"C199*0.09","v":2.25},null,null,null,{"$f":"C199*0.27","v":6.75},null,null,null,null,null,null,null,null,null,null,null,null,null,null,null,null,null,null,6.75,2.25,9,0.26368040723848324,0.52736081447696648,1.054721628953933E-2,2.109443257907866E-2,1.1719129210599256E-3,2.3438258421198512E-3]
["SF-00201",{"$f":"VLOOKUP(A200,'Itens ARP 2021'!$A$4:$M$425,6,FALSE)","v":{"$error":"#N/A"}},{"$f":"VLOOKUP(A200,'Itens ARP 2021'!$A$4:$M$425,8,FALSE)","v":{"$error":"#N/A"}},20,0,0,null,null,null,{"$f":"C200*0.05","v":{"$error":"#N/A"}},null,null,null,{"$f":"C200*0.17","v":{"$error":"#N/A"}},null,null,null,null,null,null,null,null,null,null,null,null,null,null,null,null,null,null,{"$error":"#N/A"},{"$error":"#N/A"},{"$error":"#N/A"},0,0,6.4455210658295901E-3,1.289104213165918E-2,{"$error":"#N/A"},{"$error":"#N/A"}]
["SF-00202",{"$f":"VLOOKUP(A201,'Itens ARP 2021'!$A$4:$M$425,6,FALSE)","v":"Torneira de mesa para cozinha bica móvel"},{"$f":"VLOOKUP(A201,'Itens ARP 2021'!$A$4:$M$425,8,FALSE)","v":40},20,0.25782084263318361,0.51564168526636722,null,null,null,{"$f":"C201*0.05","v":2},null,null,null,{"$f":"C201*0.17","v":6.8000000000000007},null,null,null,null,null,null,null,null,null,null,null,null,null,null,null,null,null,null,6.8000000000000007,2,8.8000000000000007,{"$f":"C201*AL201","v":0.25782084263318361},{"$f":"C201*AM201","v":0.51564168526636722},6.4455210658295901E-3,1.289104213165918E-2,7.3244557566245333E-4,1.4648911513249067E-3]
["SF-00203",{"$f":"VLOOKUP(A202,'Itens ARP 2021'!$A$4:$M$425,6,FALSE)","v":"Torneira de mesa para lavatório – Linha Acessibilidade"},{"$f":"VLOOKUP(A202,'Itens ARP 2021'!$A$4:$M$425,8,FALSE)","v":10},10,3.8087169934447579E-2,7.6174339868895158E-2,null,null,null,{"$f":"C202*0.03","v":0.3},null,null,null,{"$f":"C202*0.1","v":1},null,null,null,null,null,null,null,null,null,null,null,null,null,null,null,null,null,null,1,0.3,1.3,3.8087169934447579E-2,7.6174339868895158E-2,3.8087169934447581E-3,7.6174339868895161E-3,2.9297823026498138E-3,5.8595646052996275E-3]
["SF-00204",{"$f":"VLOOKUP(A203,'Itens ARP 2021'!$A$4:$M$425,6,FALSE)","v":"Torneira de mesa para lavatório bica alta"},{"$f":"VLOOKUP(A203,'Itens ARP 2021'!$A$4:$M$425,8,FALSE)","v":75},60,0.28565377450835683,0.57130754901671366,null,null,null,{"$f":"C203*0.03","v":2.25},null,null,null,{"$f":"C203*0.1","v":7.5},null,null,null,null,null,null,null,null,null,null,null,null,null,null,null,null,null,null,7.5,2.25,9.75,0.28565377450835683,0.57130754901671366,3.8087169934447581E-3,7.6174339868895161E-3,3.9063764035330851E-4,7.8127528070661703E-4]
["SF-00205",{"$f":"VLOOKUP(A204,'Itens ARP 2021'!$A$4:$M$425,6,FALSE)","v":"Torneira de mesa para lavatório bica baixa"},{"$f":"VLOOKUP(A204,'Itens ARP 2021'!$A$4:$M$425,8,FALSE)","v":75},60,0.28565377450835683,0.57130754901671366,null,null,null,{"$f":"C204*0.03","v":2.25},null,null,null,{"$f":"C204*0.1","v":7.5},null,null,null,null,null,null,null,null,null,null,null,null,null,null,null,null,null,null,7.5,2.25,9.75,0.28565377450835683,0.57130754901671366,3.8087169934447581E-3,7.6174339868895161E-3,3.9063764035330851E-4,7.8127528070661703E-4]
["SF-00206",{"$f":"VLOOKUP(A205,'Itens ARP 2021'!$A$4:$M$425,6,FALSE)","v":"Torneira de mesa para lavatório com fechamento automático – Linha Administrativa"},{"$f":"VLOOKUP(A205,'Itens ARP 2021'!$A$4:$M$425,8,FALSE)","v":60},60,0.22852301960668547,0.45704603921337095,null,null,null,{"$f":"C205*0.03","v":1.7999999999999998},null,null,null,{"$f":"C205*0.1","v":6},null,null,null,null,null,null,null,null,null,null,null,null,null,null,null,null,null,null,6,1.7999999999999998,7.8,0.22852301960668547,0.45704603921337095,3.8087169934447581E-3,7.6174339868895161E-3,4.8829705044163563E-4,9.7659410088327125E-4]
["SF-00207",{"$f":"VLOOKUP(A206,'Itens ARP 2021'!$A$4:$M$425,6,FALSE)","v":"Torneira de parede para cozinha"},{"$f":"VLOOKUP(A206,'Itens ARP 2021'!$A$4:$M$425,8,FALSE)","v":35},20,0.22559323730403566,0.45118647460807132,null,null,null,{"$f":"C206*0.05","v":1.75},null,null,null,{"$f":"C206*0.17","v":5.95},null,null,null,null,null,null,null,null,null,null,null,null,null,null,null,null,null,null,5.95,1.75,7.7,0.22559323730403566,0.45118647460807132,6.4455210658295901E-3,1.289104213165918E-2,8.3708065789994679E-4,1.6741613157998936E-3]
["SF-00208",{"$f":"VLOOKUP(A207,'Itens ARP 2021'!$A$4:$M$425,6,FALSE)","v":"Torneira de parede para tanque"},{"$f":"VLOOKUP(A207,'Itens ARP 2021'!$A$4:$M$425,8,FALSE)","v":25},5,0.14648911513249069,0.29297823026498138,null,null,null,{"$f":"C207*0.05","v":1.25},null,null,null,{"$f":"C207*0.15","v":3.75},null,null,null,null,null,null,null,null,null,null,null,null,null,null,null,null,null,null,3.75,1.25,5,0.14648911513249069,0.29297823026498138,5.8595646052996275E-3,1.1719129210599255E-2,1.1719129210599256E-3,2.3438258421198512E-3]
["SF-00209",{"$f":"VLOOKUP(A208,'Itens ARP 2021'!$A$4:$M$425,6,FALSE)","v":"Acabamento para válvula de descarga 1 1/2” – Linha Acessibilidade"},{"$f":"VLOOKUP(A208,'Itens ARP 2021'!$A$4:$M$425,8,FALSE)","v":10},10,0.45411625691072111,0.90823251382144221,null,null,null,null,null,null,null,{"$f":"C208*0.85","v":8.5},null,null,null,null,null,null,null,null,null,null,null,null,null,null,{"$f":"C208*0.7","v":7},null,null,null,8.5,7,15.5,0.45411625691072111,0.90823251382144221,4.5411625691072113E-2,9.0823251382144227E-2,2.9297823026498138E-3,5.8595646052996275E-3]
["SF-00210",{"$f":"VLOOKUP(A209,'Itens ARP 2021'!$A$4:$M$425,6,FALSE)","v":"Acabamento para válvula de descarga 1 1/2”"},{"$f":"VLOOKUP(A209,'Itens ARP 2021'!$A$4:$M$425,8,FALSE)","v":65},60,2.9517556699196872,5.9035113398393744,null,null,null,null,null,null,null,{"$f":"C209*0.85","v":55.25},null,null,null,null,null,null,null,null,null,null,null,null,null,null,45.5,null,null,null,55.25,45.5,100.75,2.9517556699196872,5.9035113398393744,4.5411625691072113E-2,9.0823251382144227E-2,4.5073573886920211E-4,9.0147147773840422E-4]
["SF-00211",{"$f":"VLOOKUP(A210,'Itens ARP 2021'!$A$4:$M$425,6,FALSE)","v":"Acabamento para válvula de descarga 1 1/4” – Linha Acessibilidade"},{"$f":"VLOOKUP(A210,'Itens ARP 2021'!$A$4:$M$425,8,FALSE)","v":10},10,0.45411625691072111,0.90823251382144221,null,null,null,null,null,null,null,{"$f":"C210*0.85","v":8.5},null,null,null,null,null,null,null,null,null,null,null,null,null,null,7,null,null,null,8.5,7,15.5,0.45411625691072111,0.90823251382144221,4.5411625691072113E-2,9.0823251382144227E-2,2.9297823026498138E-3,5.8595646052996275E-3]
["SF-00212",{"$f":"VLOOKUP(A211,'Itens ARP 2021'!$A$4:$M$425,6,FALSE)","v":"Acabamento para válvula de descarga 1 1/4”"},{"$f":"VLOOKUP(A211,'Itens ARP 2021'!$A$4:$M$425,8,FALSE)","v":65},60,2.9517556699196872,5.9035113398393744,null,null,null,null,null,null,null,{"$f":"C211*0.85","v":55.25},null,null,null,null,null,null,null,null,null,null,null,null,null,null,45.5,null,null,null,55.25,45.5,100.75,2.9517556699196872,5.9035113398393744,4.5411625691072113E-2,9.0823251382144227E-2,4.5073573886920211E-4,9.0147147773840422E-4]
["SF-00213",{"$f":"VLOOKUP(A212,'Itens ARP 2021'!$A$4:$M$425,6,FALSE)","v":"Válvula de escoamento para lavatório e bidê"},{"$f":"VLOOKUP(A212,'Itens ARP 2021'!$A$4:$M$425,8,FALSE)","v":65},60,0.41895886927892334,0.83791773855784668,null,null,null,{"$f":"C212*0.05","v":3.25},null,null,null,{"$f":"C212*0.17","v":11.05},null,null,null,null,null,null,null,null,null,null,null,null,null,null,45.5,null,null,null,11.05,48.75,59.8,0.41895886927892334,0.83791773855784668,6.4455210658295901E-3,1.289104213165918E-2,1.0778463320785268E-4,2.1556926641570537E-4]
["SF-00214",{"$f":"VLOOKUP(A213,'Itens ARP 2021'!$A$4:$M$425,6,FALSE)","v":"Válvula de escoamento para tanque"},{"$f":"VLOOKUP(A213,'Itens ARP 2021'!$A$4:$M$425,8,FALSE)","v":25},5,0.16113802664573976,0.32227605329147951,null,null,null,{"$f":"C213*0.05","v":1.25},null,null,null,{"$f":"C213*0.17","v":4.25},null,null,null,null,null,null,null,null,null,null,null,null,null,null,17.5,null,null,null,4.25,18.75,23,0.16113802664573976,0.32227605329147951,6.4455210658295901E-3,1.289104213165918E-2,2.8024004634041698E-4,5.6048009268083396E-4]
["SF-00215",{"$f":"VLOOKUP(A214,'Itens ARP 2021'!$A$4:$M$425,6,FALSE)","v":"Válvula descarga para mictório – Linha Administrativa"},{"$f":"VLOOKUP(A214,'Itens ARP 2021'!$A$4:$M$425,8,FALSE)","v":40},60,1.8164650276428844,3.6329300552857688,null,null,null,null,null,null,null,{"$f":"C214*0.85","v":34},null,null,null,null,null,null,null,null,null,null,null,null,null,null,28,null,null,null,34,28,62,1.8164650276428844,3.6329300552857688,4.5411625691072113E-2,9.0823251382144227E-2,7.3244557566245344E-4,1.4648911513249069E-3]
["SF-00216",{"$f":"VLOOKUP(A215,'Itens ARP 2021'!$A$4:$M$425,6,FALSE)","v":"Alarme de emergência para sanitários PNE"},{"$f":"VLOOKUP(A215,'Itens ARP 2021'!$A$4:$M$425,8,FALSE)","v":15},15,0.1494188974351405,0.298837794870281,null,null,null,{"$f":"C215*0.17","v":2.5500000000000003},null,{"$f":"C215*0.17","v":2.5500000000000003},null,null,null,null,null,null,null,null,null,null,null,null,null,null,null,null,10.5,null,null,null,2.5500000000000003,13.05,15.600000000000001,0.1494188974351405,0.298837794870281,9.9612598290093664E-3,1.9922519658018733E-2,6.3854229673136959E-4,1.2770845934627392E-3]
["SF-00217",{"$f":"VLOOKUP(A216,'Itens ARP 2021'!$A$4:$M$425,6,FALSE)","v":"Barra de apoio 40cm – Linha Acessibilidade"},{"$f":"VLOOKUP(A216,'Itens ARP 2021'!$A$4:$M$425,8,FALSE)","v":25},25,1.4648911513249068,2.9297823026498135,null,null,{"$f":"C216*1","v":25},{"$f":"C216*1","v":25},null,null,null,null,null,null,null,null,null,null,null,null,null,null,null,null,null,null,17.5,null,null,null,25,42.5,67.5,1.4648911513249068,2.9297823026498135,5.8595646052996268E-2,0.11719129210599254,8.6808364522957438E-4,1.7361672904591488E-3]
["SF-00218",{"$f":"VLOOKUP(A217,'Itens ARP 2021'!$A$4:$M$425,6,FALSE)","v":"Barra de apoio 70cm – Linha Acessibilidade"},{"$f":"VLOOKUP(A217,'Itens ARP 2021'!$A$4:$M$425,8,FALSE)","v":20},20,1.1719129210599255,2.343825842119851,null,null,20,{"$f":"C217*1","v":20},null,null,null,null,null,null,null,null,null,null,null,null,null,null,null,null,null,null,14,null,null,null,20,34,54,1.1719129210599255,2.343825842119851,5.8595646052996275E-2,0.11719129210599255,1.0851045565369681E-3,2.1702091130739363E-3]
["SF-00219",{"$f":"VLOOKUP(A218,'Itens ARP 2021'!$A$4:$M$425,6,FALSE)","v":"Barra de apoio 80cm – Linha Acessibilidade"},{"$f":"VLOOKUP(A218,'Itens ARP 2021'!$A$4:$M$425,8,FALSE)","v":25},25,1.4648911513249068,2.9297823026498135,null,null,25,{"$f":"C218*1","v":25},null,null,null,null,null,null,null,null,null,null,null,null,null,null,null,null,null,null,17.5,null,null,null,25,42.5,67.5,1.4648911513249068,2.9297823026498135,5.8595646052996268E-2,0.11719129210599254,8.6808364522957438E-4,1.7361672904591488E-3]
["SF-00220",{"$f":"VLOOKUP(A219,'Itens ARP 2021'!$A$4:$M$425,6,FALSE)","v":"Barra de apoio lateral fixa 30cm – Linha Acessibilidade"},{"$f":"VLOOKUP(A219,'Itens ARP 2021'!$A$4:$M$425,8,FALSE)","v":25},25,1.4648911513249068,2.9297823026498135,null,null,25,{"$f":"C219*1","v":25},null,null,null,null,null,null,null,null,null,null,null,null,null,null,null,null,null,null,17.5,null,null,null,25,42.5,67.5,1.4648911513249068,2.9297823026498135,5.8595646052996268E-2,0.11719129210599254,8.6808364522957438E-4,1.7361672904591488E-3]
["SF-00221",{"$f":"VLOOKUP(A220,'Itens ARP 2021'!$A$4:$M$425,6,FALSE)","v":"Lavatório suspenso – Linha Acessibilidade"},{"$f":"VLOOKUP(A220,'Itens ARP 2021'!$A$4:$M$425,8,FALSE)","v":10},10,0.16992737355368923,0.33985474710737845,null,null,10,{"$f":"C220*0.19","v":1.9},null,null,null,{"$f":"C220*0.39","v":3.9000000000000004},null,null,null,null,null,null,null,null,null,null,null,null,null,null,7,null,null,null,13.9,8.9,22.8,0.16992737355368923,0.33985474710737845,1.6992737355368923E-2,3.3985474710737845E-2,7.4529549804249655E-4,1.4905909960849931E-3]
["SF-00222",{"$f":"VLOOKUP(A221,'Itens ARP 2021'!$A$4:$M$425,6,FALSE)","v":"Lavatório suspenso com Coluna – Linha Acessibilidade"},{"$f":"VLOOKUP(A221,'Itens ARP 2021'!$A$4:$M$425,8,FALSE)","v":10},10,0.16992737355368923,0.33985474710737845,null,null,10,1.9,null,null,null,{"$f":"C221*0.39","v":3.9000000000000004},null,null,null,null,null,null,null,null,null,null,null,null,null,null,7,null,null,null,13.9,8.9,22.8,0.16992737355368923,0.33985474710737845,1.6992737355368923E-2,3.3985474710737845E-2,7.4529549804249655E-4,1.4905909960849931E-3]
["SF-00223",{"$f":"VLOOKUP(A222,'Itens ARP 2021'!$A$4:$M$425,6,FALSE)","v":"Cabide"},{"$f":"VLOOKUP(A222,'Itens ARP 2021'!$A$4:$M$425,8,FALSE)","v":120},60,0.66799036500415754,1.3359807300083151,null,null,120,22.8,null,null,null,null,null,null,null,null,null,null,null,null,null,null,null,null,null,null,84,null,null,null,120,106.8,226.8,0.66799036500415754,1.3359807300083151,5.5665863750346458E-3,1.1133172750069292E-2,2.4544031635955226E-5,4.9088063271910452E-5]
["SF-00224",{"$f":"VLOOKUP(A223,'Itens ARP 2021'!$A$4:$M$425,6,FALSE)","v":"Papeleira"},{"$f":"VLOOKUP(A223,'Itens ARP 2021'!$A$4:$M$425,8,FALSE)","v":120},60,0.66799036500415754,1.3359807300083151,null,null,120,22.8,null,null,null,null,null,null,null,null,null,null,null,null,null,null,null,null,null,null,84,null,null,null,120,106.8,226.8,0.66799036500415754,1.3359807300083151,5.5665863750346458E-3,1.1133172750069292E-2,2.4544031635955226E-5,4.9088063271910452E-5]
["SF-00225",{"$f":"VLOOKUP(A224,'Itens ARP 2021'!$A$4:$M$425,6,FALSE)","v":"Porta toalha argola"},{"$f":"VLOOKUP(A224,'Itens ARP 2021'!$A$4:$M$425,8,FALSE)","v":120},60,0.66799036500415754,1.3359807300083151,null,null,120,22.8,null,null,null,null,null,null,null,null,null,null,null,null,null,null,null,null,null,null,84,null,null,null,120,106.8,226.8,0.66799036500415754,1.3359807300083151,5.5665863750346458E-3,1.1133172750069292E-2,2.4544031635955226E-5,4.9088063271910452E-5]
["SF-00226",{"$f":"VLOOKUP(A225,'Itens ARP 2021'!$A$4:$M$425,6,FALSE)","v":"Porta toalha barra"},{"$f":"VLOOKUP(A225,'Itens ARP 2021'!$A$4:$M$425,8,FALSE)","v":100},60,0.55665863750346456,1.1133172750069291,null,null,100,19,null,null,null,null,null,null,null,null,null,null,null,null,null,null,null,null,null,null,70,null,null,null,100,89,189,0.55665863750346456,1.1133172750069291,5.5665863750346458E-3,1.1133172750069292E-2,2.9452837963146275E-5,5.890567592629255E-5]
["SF-00227",{"$f":"VLOOKUP(A226,'Itens ARP 2021'!$A$4:$M$425,6,FALSE)","v":"Caixa 4x2 de embutir para alvenaria"},{"$f":"VLOOKUP(A226,'Itens ARP 2021'!$A$4:$M$425,8,FALSE)","v":1500},2000,12.744553016526689,25.489106033053378,null,null,1500,285,null,{"$f":"C226*0.145","v":217.49999999999997},null,null,null,null,null,null,null,{"$f":"C226*0.145","v":217.49999999999997},null,null,null,null,null,null,null,null,1050,null,null,null,1717.5,1552.5,3270,12.744553016526689,25.489106033053378,8.4963686776844596E-3,1.6992737355368919E-2,2.5982778830839326E-6,5.1965557661678652E-6]
["SF-00228",{"$f":"VLOOKUP(A227,'Itens ARP 2021'!$A$4:$M$425,6,FALSE)","v":"Caixa 4x2 para drywall"},{"$f":"VLOOKUP(A227,'Itens ARP 2021'!$A$4:$M$425,8,FALSE)","v":400},500,3.3985474710737837,6.7970949421475675,null,null,400,76,null,{"$f":"C227*0.145","v":57.999999999999993},null,null,null,null,null,null,null,{"$f":"C227*0.145","v":57.999999999999993},null,null,null,null,null,null,null,null,280,null,null,null,458,414,872,3.3985474710737837,6.7970949421475675,8.4963686776844596E-3,1.6992737355368919E-2,9.7435420615647473E-6,1.9487084123129495E-5]
["SF-00229",{"$f":"VLOOKUP(A228,'Itens ARP 2021'!$A$4:$M$425,6,FALSE)","v":"Caixa 4x4 de embutir para alvenaria"},{"$f":"VLOOKUP(A228,'Itens ARP 2021'!$A$4:$M$425,8,FALSE)","v":400},500,3.8907508979189522,7.7815017958379045,null,null,400,76,null,{"$f":"C228*0.166","v":66.400000000000006},null,null,null,null,null,null,null,{"$f":"C228*0.166","v":66.400000000000006},null,null,null,null,null,null,null,null,280,null,null,null,466.4,422.4,888.8,3.8907508979189522,7.7815017958379045,9.7268772447973804E-3,1.9453754489594761E-2,1.0943831283525405E-5,2.1887662567050811E-5]
["SF-00230",{"$f":"VLOOKUP(A229,'Itens ARP 2021'!$A$4:$M$425,6,FALSE)","v":"Caixa 4x4 para drywall"},{"$f":"VLOOKUP(A229,'Itens ARP 2021'!$A$4:$M$425,8,FALSE)","v":100},100,0.97268772447973817,1.9453754489594763,null,null,100,19,null,{"$f":"C229*0.166","v":16.600000000000001},null,null,null,null,null,null,null,{"$f":"C229*0.166","v":16.600000000000001},null,null,null,null,null,null,null,null,70,null,null,null,116.6,105.6,222.2,0.97268772447973817,1.9453754489594763,9.7268772447973821E-3,1.9453754489594764E-2,4.3775325134101629E-5,8.7550650268203257E-5]
["SF-00231",{"$f":"VLOOKUP(A230,'Itens ARP 2021'!$A$4:$M$425,6,FALSE)","v":"Caixa de passagem em alumínio 100x100x50mm"},{"$f":"VLOOKUP(A230,'Itens ARP 2021'!$A$4:$M$425,8,FALSE)","v":1500},1900,54.933418174684,109.866836349368,null,null,1500,285,null,{"$f":"C230*0.625","v":937.5},null,null,null,null,null,null,null,{"$f":"C230*0.625","v":937.5},null,null,null,null,null,null,null,null,1050,null,null,null,2437.5,2272.5,4710,54.933418174684,109.866836349368,3.6622278783122665E-2,7.324455756624533E-2,7.7754307395164893E-6,1.5550861479032979E-5]
["SF-00232",{"$f":"VLOOKUP(A231,'Itens ARP 2021'!$A$4:$M$425,6,FALSE)","v":"Caixa de passagem em alumínio 200x200x100mm"},{"$f":"VLOOKUP(A231,'Itens ARP 2021'!$A$4:$M$425,8,FALSE)","v":200},200,7.3244557566245341,14.648911513249068,null,null,200,38,null,{"$f":"C231*0.625","v":125},null,null,null,null,null,null,null,{"$f":"C231*0.625","v":125},null,null,null,null,null,null,null,null,140,null,null,null,325,303,628,7.3244557566245341,14.648911513249068,3.6622278783122672E-2,7.3244557566245344E-2,5.831573054637368E-5,1.1663146109274736E-4]
["SF-00233",{"$f":"VLOOKUP(A232,'Itens ARP 2021'!$A$4:$M$425,6,FALSE)","v":"Caixa de passagem em PVC 150x150x75mm"},{"$f":"VLOOKUP(A232,'Itens ARP 2021'!$A$4:$M$425,8,FALSE)","v":1900},1900,50.099277375311814,100.19855475062363,null,null,1900,{"$f":"C232*0.45","v":855},null,{"$f":"C232*0.45","v":855},null,null,null,null,null,null,null,null,null,null,null,null,null,null,null,null,1330,null,null,null,2755,2185,4940,50.099277375311814,100.19855475062363,2.6368040723848324E-2,5.2736081447696648E-2,5.3376600655563406E-6,1.0675320131112681E-5]
["SF-00234",{"$f":"VLOOKUP(A233,'Itens ARP 2021'!$A$4:$M$425,6,FALSE)","v":"Caixa para piso elevado"},{"$f":"VLOOKUP(A233,'Itens ARP 2021'!$A$4:$M$425,8,FALSE)","v":200},200,14.648911513249068,29.297823026498136,null,null,200,{"$f":"C233*0.45","v":90},null,{"$f":"C233*1.25","v":250},null,null,null,null,null,null,null,{"$f":"C233*1.25","v":250},null,null,null,null,null,null,null,null,140,null,null,null,450,480,930,{"$f":"C233*AL233","v":14.648911513249068},{"$f":"C233*AM233","v":29.297823026498136},7.3244557566245344E-2,0.14648911513249069,7.8757588780908975E-5,1.5751517756181795E-4]
["SF-00235",{"$f":"VLOOKUP(A234,'Itens ARP 2021'!$A$4:$M$425,6,FALSE)","v":"Canaleta em alumínio aparente 73mmx25mm"},{"$f":"VLOOKUP(A234,'Itens ARP 2021'!$A$4:$M$425,8,FALSE)","v":800},1000,8.4377730316314636,16.875546063262927,null,null,800,null,null,{"$f":"C234*0.18","v":144},null,null,null,null,null,null,null,{"$f":"C234*0.18","v":144},null,null,null,null,null,null,null,null,560,null,null,null,944,704,1648,8.4377730316314636,16.875546063262927,1.054721628953933E-2,2.109443257907866E-2,6.4000098844292047E-6,1.2800019768858409E-5]
["SF-00236",{"$f":"VLOOKUP(A235,'Itens ARP 2021'!$A$4:$M$425,6,FALSE)","v":"Condulete de alumínio de 1’’"},{"$f":"VLOOKUP(A235,'Itens ARP 2021'!$A$4:$M$425,8,FALSE)","v":1500},1900,47.33063309930774,94.661266198615479,null,null,1500,null,null,{"$f":"C235*0.5385","v":807.75},null,null,null,null,null,null,null,{"$f":"C235*0.5385","v":807.75},null,null,null,null,null,null,null,null,1050,null,null,null,2307.75,1857.75,4165.5,47.33063309930774,94.661266198615479,3.1553755399538495E-2,6.3107510799076991E-2,7.5750223021338364E-6,1.5150044604267673E-5]
["SF-00237",{"$f":"VLOOKUP(A236,'Itens ARP 2021'!$A$4:$M$425,6,FALSE)","v":"Eletrocalha 100x50 mm"},{"$f":"VLOOKUP(A236,'Itens ARP 2021'!$A$4:$M$425,8,FALSE)","v":1300},1500,34.278452941002818,68.556905882005637,null,null,1300,null,null,{"$f":"C236*0.45","v":585},null,null,null,null,null,null,null,{"$f":"C236*0.45","v":585},null,null,null,null,null,null,null,null,909.99999999999989,null,null,null,1885,1495,3380,34.278452941002818,68.556905882005637,2.6368040723848324E-2,5.2736081447696648E-2,7.8011954804284975E-6,1.5602390960856995E-5]
["SF-00238",{"$f":"VLOOKUP(A237,'Itens ARP 2021'!$A$4:$M$425,6,FALSE)","v":"Eletrocalha 200x100 mm"},{"$f":"VLOOKUP(A237,'Itens ARP 2021'!$A$4:$M$425,8,FALSE)","v":1300},1500,45.704603921337096,91.409207842674192,null,null,1300,null,null,{"$f":"C237*0.6","v":780},null,null,null,null,null,null,null,{"$f":"C237*0.6","v":780},null,null,null,null,null,null,null,null,909.99999999999989,null,null,null,2080,1690,3770,45.704603921337096,91.409207842674192,3.5157387631797765E-2,7.031477526359553E-2,9.3255670110869403E-6,1.8651134022173881E-5]
["SF-00239",{"$f":"VLOOKUP(A238,'Itens ARP 2021'!$A$4:$M$425,6,FALSE)","v":"Eletrocalha 200x50 mm"},{"$f":"VLOOKUP(A238,'Itens ARP 2021'!$A$4:$M$425,8,FALSE)","v":1300},1500,38.08716993444758,76.17433986889516,null,null,1300,null,null,{"$f":"C238*0.5","v":650},null,null,null,null,null,null,null,{"$f":"C238*0.5","v":650},null,null,null,null,null,null,null,null,909.99999999999989,null,null,null,1950,1560,3510,38.08716993444758,76.17433986889516,2.9297823026498138E-2,5.8595646052996275E-2,8.346958127207447E-6,1.6693916254414894E-5]
["SF-00240",{"$f":"VLOOKUP(A239,'Itens ARP 2021'!$A$4:$M$425,6,FALSE)","v":"Eletrocalha 300x100 mm"},{"$f":"VLOOKUP(A239,'Itens ARP 2021'!$A$4:$M$425,8,FALSE)","v":1300},1500,49.51332091478185,99.026641829563701,null,null,1300,null,null,{"$f":"C239*0.65","v":845},null,null,null,null,null,null,null,{"$f":"C239*0.65","v":845},null,null,null,null,null,null,null,null,909.99999999999989,null,null,null,2145,1755,3900,49.51332091478185,99.026641829563701,3.8087169934447579E-2,7.6174339868895158E-2,9.7659410088327118E-6,1.9531882017665424E-5]
["SF-00241",{"$f":"VLOOKUP(A240,'Itens ARP 2021'!$A$4:$M$425,6,FALSE)","v":"Eletrocalha 300x50 mm"},{"$f":"VLOOKUP(A240,'Itens ARP 2021'!$A$4:$M$425,8,FALSE)","v":1300},1500,41.895886927892349,83.791773855784697,null,null,1300,null,null,{"$f":"C240*0.55","v":715.00000000000011},null,null,null,null,null,null,null,{"$f":"C240*0.55","v":715.00000000000011},null,null,null,null,null,null,null,null,{"$f":"C240*0.7","v":909.99999999999989},null,null,null,2015,1625,3640,41.895886927892349,83.791773855784697,3.2227605329147958E-2,6.4455210658295917E-2,8.8537377277879005E-6,1.7707475455575801E-5]
["SF-00242",{"$f":"VLOOKUP(A241,'Itens ARP 2021'!$A$4:$M$425,6,FALSE)","v":"Eletrocalha 400x50 mm"},{"$f":"VLOOKUP(A241,'Itens ARP 2021'!$A$4:$M$425,8,FALSE)","v":1300},1500,41.895886927892349,83.791773855784697,null,null,1300,null,null,{"$f":"C241*0.55","v":715.00000000000011},null,null,null,null,null,null,null,{"$f":"C241*0.55","v":715.00000000000011},null,null,null,null,null,null,null,null,909.99999999999989,null,null,null,2015,1625,3640,41.895886927892349,83.791773855784697,3.2227605329147958E-2,6.4455210658295917E-2,8.8537377277879005E-6,1.7707475455575801E-5]
["SF-00243",{"$f":"VLOOKUP(A242,'Itens ARP 2021'!$A$4:$M$425,6,FALSE)","v":"Eletrocalha 50x50 mm"},{"$f":"VLOOKUP(A242,'Itens ARP 2021'!$A$4:$M$425,8,FALSE)","v":2000},3000,52.736081447696648,105.4721628953933,null,null,2000,null,null,{"$f":"C242*0.45","v":900},null,null,null,null,null,null,null,{"$f":"C242*0.45","v":900},null,null,null,null,null,null,null,null,1400,null,null,null,2900,2300,5200,52.736081447696648,105.4721628953933,2.6368040723848324E-2,5.2736081447696648E-2,5.0707770622785237E-6,1.0141554124557047E-5]
["SF-00244",{"$f":"VLOOKUP(A243,'Itens ARP 2021'!$A$4:$M$425,6,FALSE)","v":"Eletroduto de aço galvanizado de 1 1/2\""},{"$f":"VLOOKUP(A243,'Itens ARP 2021'!$A$4:$M$425,8,FALSE)","v":5000},6000,82.649158757751252,165.2983175155025,null,null,5000,null,null,{"$f":"C243*0.2821","v":1410.5},null,null,null,null,null,null,null,{"$f":"C243*0.2821","v":1410.5},null,null,null,null,null,null,null,null,3500,null,null,null,6410.5,4910.5,11321,82.649158757751252,165.2983175155025,1.6529831751550251E-2,3.3059663503100502E-2,1.4601035024777185E-6,2.9202070049554371E-6]
["SF-00245",{"$f":"VLOOKUP(A244,'Itens ARP 2021'!$A$4:$M$425,6,FALSE)","v":"Eletroduto de aço galvanizado de 1 1/4\""},{"$f":"VLOOKUP(A244,'Itens ARP 2021'!$A$4:$M$425,8,FALSE)","v":5000},8000,72.365622875450399,144.7312457509008,null,null,5000,null,null,{"$f":"C244*0.247","v":1235},null,null,null,null,null,null,null,{"$f":"C244*0.247","v":1235},null,null,null,null,null,null,null,null,3500,null,null,null,6235,4735,10970,72.365622875450399,144.7312457509008,1.4473124575090078E-2,2.8946249150180157E-2,1.3193367889781294E-6,2.6386735779562587E-6]
["SF-00246",{"$f":"VLOOKUP(A245,'Itens ARP 2021'!$A$4:$M$425,6,FALSE)","v":"Eletroduto de aço galvanizado de 1\""},{"$f":"VLOOKUP(A245,'Itens ARP 2021'!$A$4:$M$425,8,FALSE)","v":1500},1500,19.011357361894643,38.022714723789285,null,null,1500,null,null,{"$f":"C245*0.2163","v":324.45},null,null,null,null,null,null,null,{"$f":"C245*0.2163","v":324.45},null,null,null,null,null,null,null,null,1050,null,null,null,1824.45,1374.45,3198.9,19.011357361894643,38.022714723789285,1.2674238241263095E-2,2.5348476482526191E-2,3.9620614090040622E-6,7.9241228180081244E-6]
["SF-00247",{"$f":"VLOOKUP(A246,'Itens ARP 2021'!$A$4:$M$425,6,FALSE)","v":"Eletroduto de aço galvanizado de 2\""},{"$f":"VLOOKUP(A246,'Itens ARP 2021'!$A$4:$M$425,8,FALSE)","v":2000},3000,33.059663503100502,66.119327006201004,null,null,2000,null,null,{"$f":"C246*0.2821","v":564.20000000000005},null,null,null,null,null,null,null,{"$f":"C246*0.2821","v":564.20000000000005},null,null,null,null,null,null,null,null,1400,null,null,null,2564.1999999999998,1964.2,4528.3999999999996,33.059663503100502,66.119327006201004,1.6529831751550251E-2,3.3059663503100502E-2,3.6502587561942966E-6,7.3005175123885931E-6]
["SF-00248",{"$f":"VLOOKUP(A247,'Itens ARP 2021'!$A$4:$M$425,6,FALSE)","v":"Eletroduto de aço galvanizado de 3/4\""},{"$f":"VLOOKUP(A247,'Itens ARP 2021'!$A$4:$M$425,8,FALSE)","v":2400},2400,27.33838462248594,54.676769244971879,null,null,2400,null,null,{"$f":"C247*0.1944","v":466.56},null,null,null,null,null,null,null,{"$f":"C247*0.1944","v":466.56},null,null,null,null,null,null,null,null,1680,null,null,null,2866.56,2146.56,5013.12,27.33838462248594,54.676769244971879,1.1390993592702474E-2,2.2781987185404948E-2,2.272236370304815E-6,4.54447274060963E-6]
["SF-00249",{"$f":"VLOOKUP(A248,'Itens ARP 2021'!$A$4:$M$425,6,FALSE)","v":"Eletroduto de PVC Corrugado Reforçado 1'' (DE 32mm)"},{"$f":"VLOOKUP(A248,'Itens ARP 2021'!$A$4:$M$425,8,FALSE)","v":1500},1900,7.9104122171544962,15.820824434308992,null,null,{"$f":"C248*1","v":1500},null,null,{"$f":"C248*0.09","v":135},null,null,null,null,null,null,null,{"$f":"C248*0.09","v":135},null,null,null,null,null,null,null,null,1050,null,null,null,1635,1185,2820,7.9104122171544962,15.820824434308992,5.2736081447696641E-3,1.0547216289539328E-2,1.8700738102020086E-6,3.7401476204040173E-6]
["SF-00250",{"$f":"VLOOKUP(A249,'Itens ARP 2021'!$A$4:$M$425,6,FALSE)","v":"Eletroduto de PVC Corrugado Reforçado 3/4'' (DE 25mm)"},{"$f":"VLOOKUP(A249,'Itens ARP 2021'!$A$4:$M$425,8,FALSE)","v":1500},1900,6.1525428355646081,12.305085671129216,null,null,1500,null,null,{"$f":"C249*0.07","v":105.00000000000001},null,null,null,null,null,null,null,{"$f":"C249*0.07","v":105.00000000000001},null,null,null,null,null,null,null,null,1050,null,null,null,1605,1155,2760,6.1525428355646081,12.305085671129216,4.1016952237097389E-3,8.2033904474194778E-3,1.4861214578658475E-6,2.972242915731695E-6]
["SF-00251",{"$f":"VLOOKUP(A250,'Itens ARP 2021'!$A$4:$M$425,6,FALSE)","v":"Eletroduto flexível metálico com capa de PVC 1’’"},{"$f":"VLOOKUP(A250,'Itens ARP 2021'!$A$4:$M$425,8,FALSE)","v":3000},3000,18.809202383011804,37.618404766023609,null,null,3000,null,null,{"$f":"C250*0.107","v":321},null,null,null,null,null,null,null,{"$f":"C250*0.107","v":321},null,null,null,null,null,null,null,null,2100,null,null,null,3321,2421,5742,18.809202383011804,37.618404766023609,6.2697341276706014E-3,1.2539468255341203E-2,1.0919077199008363E-6,2.1838154398016726E-6]
["SF-00252",{"$f":"VLOOKUP(A251,'Itens ARP 2021'!$A$4:$M$425,6,FALSE)","v":"Eletroduto flexível metálico com capa de PVC 3/4\""},{"$f":"VLOOKUP(A251,'Itens ARP 2021'!$A$4:$M$425,8,FALSE)","v":3000},3000,15.293463619832027,30.586927239664053,null,null,3000,null,null,{"$f":"C251*0.087","v":261},null,null,null,null,null,null,null,{"$f":"C251*0.087","v":261},null,null,null,null,null,null,null,null,2100,null,null,null,3261,2361,5622,15.293463619832027,30.586927239664053,5.0978212066106754E-3,1.0195642413221351E-2,9.0676293251701805E-7,1.8135258650340361E-6]
["SF-00253",{"$f":"VLOOKUP(A252,'Itens ARP 2021'!$A$4:$M$425,6,FALSE)","v":"Perfilado 38x38mm"},{"$f":"VLOOKUP(A252,'Itens ARP 2021'!$A$4:$M$425,8,FALSE)","v":1000},1500,26.368040723848324,52.736081447696648,null,null,1000,null,null,{"$f":"C252*0.45","v":450},null,null,null,null,null,null,null,{"$f":"C252*0.45","v":450},null,null,null,null,null,null,null,null,700,null,null,null,1450,1150,2600,26.368040723848324,52.736081447696648,2.6368040723848324E-2,5.2736081447696648E-2,1.0141554124557047E-5,2.0283108249114095E-5]
["SF-00254",{"$f":"VLOOKUP(A253,'Itens ARP 2021'!$A$4:$M$425,6,FALSE)","v":"Espelho 4x2"},{"$f":"VLOOKUP(A253,'Itens ARP 2021'!$A$4:$M$425,8,FALSE)","v":2500},2500,6.4455210658295901,12.89104213165918,null,null,2500,null,null,{"$f":"C253*0.088","v":220},null,null,null,null,null,null,null,null,null,null,null,null,null,null,null,null,1750,null,null,null,2720,1750,4470,6.4455210658295901,12.89104213165918,2.578208426331836E-3,5.1564168526636719E-3,5.7678040857535476E-7,1.1535608171507095E-6]
["SF-00255",{"$f":"VLOOKUP(A254,'Itens ARP 2021'!$A$4:$M$425,6,FALSE)","v":"Espelho 4x4"},{"$f":"VLOOKUP(A254,'Itens ARP 2021'!$A$4:$M$425,8,FALSE)","v":600},600,1.8281841568534838,3.6563683137069676,null,null,600,null,null,{"$f":"C254*0.104","v":62.4},null,null,null,null,null,null,null,null,null,null,null,null,null,null,null,null,420,null,null,null,662.4,420,1082.4000000000001,1.8281841568534838,3.6563683137069676,3.0469735947558064E-3,6.0939471895116127E-3,2.8150162553176331E-6,5.6300325106352661E-6]
["SF-00256",{"$f":"VLOOKUP(A255,'Itens ARP 2021'!$A$4:$M$425,6,FALSE)","v":"Espelho cego redondo"},{"$f":"VLOOKUP(A255,'Itens ARP 2021'!$A$4:$M$425,8,FALSE)","v":10},10,3.0469735947558058E-2,6.0939471895116115E-2,null,null,10,null,null,{"$f":"C255*0.104","v":1.04},null,null,null,null,null,null,null,null,null,null,null,null,null,null,null,null,7,null,null,null,11.04,7,18.04,3.0469735947558058E-2,6.0939471895116115E-2,3.0469735947558059E-3,6.0939471895116119E-3,1.6890097531905798E-4,3.3780195063811596E-4]
["SF-00257",{"$f":"VLOOKUP(A256,'Itens ARP 2021'!$A$4:$M$425,6,FALSE)","v":"Interruptor para condulete"},{"$f":"VLOOKUP(A256,'Itens ARP 2021'!$A$4:$M$425,8,FALSE)","v":100},100,1.7578693815898883,3.5157387631797765,null,null,100,null,null,{"$f":"C256*0.3","v":30},null,null,null,null,null,null,null,{"$f":"C256*0.3","v":30},null,null,null,null,null,null,null,null,70,null,null,null,130,100,230,1.7578693815898883,3.5157387631797765,1.7578693815898883E-2,3.5157387631797765E-2,7.6429103547386441E-5,1.5285820709477288E-4]
["SF-00258",{"$f":"VLOOKUP(A257,'Itens ARP 2021'!$A$4:$M$425,6,FALSE)","v":"Módulo cego"},{"$f":"VLOOKUP(A257,'Itens ARP 2021'!$A$4:$M$425,8,FALSE)","v":2000},2000,5.8595646052996271,11.719129210599254,null,null,2000,null,null,{"$f":"C257*0.1","v":200},null,null,null,null,null,null,null,null,null,null,null,null,null,null,null,null,1400,null,null,null,2200,1400,3600,5.8595646052996271,11.719129210599254,2.9297823026498133E-3,5.8595646052996267E-3,8.1382841740272595E-7,1.6276568348054519E-6]
["SF-00259",{"$f":"VLOOKUP(A258,'Itens ARP 2021'!$A$4:$M$425,6,FALSE)","v":"Módulo interruptor paralelo"},{"$f":"VLOOKUP(A258,'Itens ARP 2021'!$A$4:$M$425,8,FALSE)","v":100},100,1.8047458984322851,3.6094917968645701,null,null,100,null,null,{"$f":"C258*0.308","v":30.8},null,null,null,null,null,null,null,{"$f":"C258*0.308","v":30.8},null,null,null,null,null,null,null,null,70,null,null,null,130.80000000000001,100.8,231.60000000000002,1.8047458984322851,3.6094917968645701,1.8047458984322851E-2,3.6094917968645703E-2,7.7925125148198835E-5,1.5585025029639767E-4]
["SF-00260",{"$f":"VLOOKUP(A259,'Itens ARP 2021'!$A$4:$M$425,6,FALSE)","v":"Módulo interruptor simples"},{"$f":"VLOOKUP(A259,'Itens ARP 2021'!$A$4:$M$425,8,FALSE)","v":600},800,7.910412217154497,15.820824434308994,null,null,600,null,null,{"$f":"C259*0.225","v":135},null,null,null,null,null,null,null,{"$f":"C259*0.225","v":135},null,null,null,null,null,null,null,null,420,null,null,null,{"$f":"SUM(I259,K259,L259,M259,N259,O259,R259,S259,U259,V259,X259,Y259,AA259,AB259,AD259,AE259)","v":735},{"$f":"SUM(P259,Q259,T259,W259,Z259,AC259,AF259)+J259","v":555},1290,7.910412217154497,15.820824434308994,1.3184020361924162E-2,2.6368040723848324E-2,1.0220170823197026E-5,2.0440341646394051E-5]
["SF-00261",{"$f":"VLOOKUP(A260,'Itens ARP 2021'!$A$4:$M$425,6,FALSE)","v":"Módulo para saída de fio"},{"$f":"VLOOKUP(A260,'Itens ARP 2021'!$A$4:$M$425,8,FALSE)","v":100},100,0.29297823026498138,0.58595646052996275,null,null,100,null,null,{"$f":"C260*0.1","v":10},null,null,null,null,null,null,null,null,null,null,null,null,null,null,null,null,70,null,null,null,110,70,{"$f":"AG260+AH260","v":180},0.29297823026498138,0.58595646052996275,2.9297823026498138E-3,5.8595646052996275E-3,{"$f":"AL260/AI260","v":1.627656834805452E-5},{"$f":"AM260/AI260","v":3.255313669610904E-5}]
["SF-00262",{"$f":"VLOOKUP(A261,'Itens ARP 2021'!$A$4:$M$425,6,FALSE)","v":"Módulo sensor de presença"},{"$f":"VLOOKUP(A261,'Itens ARP 2021'!$A$4:$M$425,8,FALSE)","v":100},100,1.8047458984322851,3.6094917968645701,null,null,100,null,null,{"$f":"C261*0.308","v":30.8},null,null,null,null,null,null,null,{"$f":"C261*0.308","v":30.8},null,null,null,null,null,null,null,null,70,null,null,null,130.80000000000001,100.8,231.60000000000002,1.8047458984322851,3.6094917968645701,1.8047458984322851E-2,3.6094917968645703E-2,7.7925125148198835E-5,1.5585025029639767E-4]
["SF-00263",{"$f":"VLOOKUP(A262,'Itens ARP 2021'!$A$4:$M$425,6,FALSE)","v":"Módulo tomada 10 A"},{"$f":"VLOOKUP(A262,'Itens ARP 2021'!$A$4:$M$425,8,FALSE)","v":1800},1800,24.785958280417425,49.57191656083485,null,null,1800,null,null,{"$f":"C262*0.235","v":423},null,null,null,null,null,null,null,{"$f":"C262*0.235","v":423},null,null,null,null,null,null,null,null,1260,null,null,null,2223,1683,3906,24.785958280417425,49.57191656083485,1.3769976822454125E-2,2.7539953644908251E-2,3.5253396882883066E-6,7.0506793765766133E-6]
["SF-00264",{"$f":"VLOOKUP(A263,'Itens ARP 2021'!$A$4:$M$425,6,FALSE)","v":"Módulo tomada 20 A"},{"$f":"VLOOKUP(A263,'Itens ARP 2021'!$A$4:$M$425,8,FALSE)","v":360},360,{"$f":"IFERROR(AL263*C263,0)","v":4.9571916560834843},{"$f":"IFERROR(AM263*C263,0)","v":9.9143833121669687},null,null,360,null,null,{"$f":"C263*0.235","v":84.6},null,null,null,null,null,null,null,{"$f":"C263*0.235","v":84.6},null,null,null,null,null,null,null,null,251.99999999999997,null,null,null,444.6,336.59999999999997,781.2,4.9571916560834843,9.9143833121669687,1.3769976822454124E-2,2.7539953644908247E-2,1.762669844144153E-5,3.525339688288306E-5]
["SF-00265",{"$f":"VLOOKUP(A264,'Itens ARP 2021'!$A$4:$M$425,6,FALSE)","v":"Porta equipamentos para canaleta de alumínio aparente"},{"$f":"VLOOKUP(A264,'Itens ARP 2021'!$A$4:$M$425,8,FALSE)","v":50},50,0.14648911513249069,0.29297823026498138,null,null,50,null,null,{"$f":"C264*0.1","v":5},null,null,null,null,null,null,null,null,null,null,null,null,null,null,null,null,35,null,null,null,55,35,90,0.14648911513249069,0.29297823026498138,2.9297823026498138E-3,5.8595646052996275E-3,3.255313669610904E-5,6.5106273392218081E-5]
["SF-00266",{"$f":"VLOOKUP(A265,'Itens ARP 2021'!$A$4:$M$425,6,FALSE)","v":"Tampa cega metálica para caixas de piso 4x2"},{"$f":"VLOOKUP(A265,'Itens ARP 2021'!$A$4:$M$425,8,FALSE)","v":50},50,7.3244557566245344E-2,0.14648911513249069,null,null,50,null,null,null,null,null,null,null,null,null,null,{"$f":"C265*0.05","v":2.5},null,null,null,null,null,null,null,null,35,null,null,null,50,37.5,87.5,{"$f":"C265*AL265","v":7.3244557566245344E-2},{"$f":"C265*AM265","v":0.14648911513249069},1.4648911513249069E-3,2.9297823026498138E-3,1.6741613157998937E-5,3.3483226315997875E-5]
["SF-00267",{"$f":"VLOOKUP(A266,'Itens ARP 2021'!$A$4:$M$425,6,FALSE)","v":"Tampa cega metálica para caixas de piso 4x4"},{"$f":"VLOOKUP(A266,'Itens ARP 2021'!$A$4:$M$425,8,FALSE)","v":50},50,7.3244557566245344E-2,0.14648911513249069,null,null,50,null,null,null,null,null,null,null,null,null,null,{"$f":"C266*0.05","v":2.5},null,null,null,null,null,null,null,null,35,null,null,null,50,37.5,87.5,7.3244557566245344E-2,0.14648911513249069,1.4648911513249069E-3,2.9297823026498138E-3,1.6741613157998937E-5,3.3483226315997875E-5]
["SF-00268",{"$f":"VLOOKUP(A267,'Itens ARP 2021'!$A$4:$M$425,6,FALSE)","v":"Tampa cega para condulete"},{"$f":"VLOOKUP(A267,'Itens ARP 2021'!$A$4:$M$425,8,FALSE)","v":100},100,0.29297823026498138,0.58595646052996275,null,null,100,null,null,{"$f":"C267*0.1","v":10},null,null,null,null,null,null,null,null,null,null,null,null,null,null,null,null,70,null,null,null,110,70,180,0.29297823026498138,0.58595646052996275,2.9297823026498138E-3,5.8595646052996275E-3,1.627656834805452E-5,3.255313669610904E-5]
["SF-00269",{"$f":"VLOOKUP(A268,'Itens ARP 2021'!$A$4:$M$425,6,FALSE)","v":"Tampa RJ45 dupla para condulete"},{"$f":"VLOOKUP(A268,'Itens ARP 2021'!$A$4:$M$425,8,FALSE)","v":600},600,1.7578693815898883,3.5157387631797765,null,null,600,null,null,{"$f":"C268*0.1","v":60},null,null,null,null,null,null,null,null,null,null,null,null,null,null,null,null,420,null,null,null,660,420,1080,1.7578693815898883,3.5157387631797765,2.9297823026498138E-3,5.8595646052996275E-3,2.7127613913424202E-6,5.4255227826848404E-6]
["SF-00270",{"$f":"VLOOKUP(A269,'Itens ARP 2021'!$A$4:$M$425,6,FALSE)","v":"Tomada para condulete"},{"$f":"VLOOKUP(A269,'Itens ARP 2021'!$A$4:$M$425,8,FALSE)","v":880},880,15.469250557991018,30.938501115982035,null,null,880,null,null,{"$f":"C269*0.3","v":264},null,null,null,null,null,null,null,{"$f":"C269*0.3","v":264},null,null,null,null,null,null,null,null,616,null,null,null,1144,880,2024,15.469250557991018,30.938501115982035,1.7578693815898883E-2,3.5157387631797765E-2,8.6851254031120963E-6,1.7370250806224193E-5]
["SF-00271",{"$f":"VLOOKUP(A270,'Itens ARP 2021'!$A$4:$M$425,6,FALSE)","v":"Tomada para perfilado e eletrocalha"},{"$f":"VLOOKUP(A270,'Itens ARP 2021'!$A$4:$M$425,8,FALSE)","v":100},100,3.808716993444758,7.617433986889516,null,null,100,null,null,{"$f":"C270*0.65","v":65},null,null,null,null,null,null,null,{"$f":"C270*0.65","v":65},null,null,null,null,null,null,null,null,70,null,null,null,165,135,300,3.808716993444758,7.617433986889516,3.8087169934447579E-2,7.6174339868895158E-2,1.2695723311482527E-4,2.5391446622965053E-4]
["SF-00272",{"$f":"VLOOKUP(A271,'Itens ARP 2021'!$A$4:$M$425,6,FALSE)","v":"Bloco autônomo de emergência"},{"$f":"VLOOKUP(A271,'Itens ARP 2021'!$A$4:$M$425,8,FALSE)","v":100},100,0.74504363956384767,1.4900872791276953,null,null,100,null,null,{"$f":"C271*0.1795","v":17.95},null,null,null,null,null,null,null,{"$f":"C271*0.0748","v":7.48},null,null,null,null,null,null,null,null,70,null,null,null,117.95,77.48,195.43,0.74504363956384767,1.4900872791276953,7.4504363956384764E-3,1.4900872791276953E-2,3.8123299368768748E-5,7.6246598737537497E-5]
["SF-00273",{"$f":"VLOOKUP(A272,'Itens ARP 2021'!$A$4:$M$425,6,FALSE)","v":"Instalação de luminária reaproveitada"},{"$f":"VLOOKUP(A272,'Itens ARP 2021'!$A$4:$M$425,8,FALSE)","v":500},500,6.4206179162570667,12.841235832514133,null,null,500,null,null,{"$f":"C272*0.3094","v":154.70000000000002},null,null,null,null,null,null,null,{"$f":"C272*0.1289","v":64.449999999999989},null,null,null,null,null,null,null,null,{"$f":"C272*0.7","v":350},null,null,null,654.70000000000005,414.45,1069.1500000000001,6.4206179162570667,12.841235832514133,1.2841235832514133E-2,2.5682471665028267E-2,1.2010696190912531E-5,2.4021392381825063E-5]
["SF-00274",{"$f":"VLOOKUP(A273,'Itens ARP 2021'!$A$4:$M$425,6,FALSE)","v":"Luminária 2x14 W de embutir"},{"$f":"VLOOKUP(A273,'Itens ARP 2021'!$A$4:$M$425,8,FALSE)","v":50},50,0.64206179162570665,1.2841235832514133,null,null,50,null,null,{"$f":"C273*0.3094","v":15.47},null,null,null,null,null,null,null,{"$f":"C273*0.1289","v":6.4449999999999994},null,null,null,null,null,null,null,null,35,null,null,null,65.47,41.445,106.91499999999999,0.64206179162570665,1.2841235832514133,1.2841235832514133E-2,2.5682471665028267E-2,1.2010696190912533E-4,2.4021392381825066E-4]
["SF-00275",{"$f":"VLOOKUP(A274,'Itens ARP 2021'!$A$4:$M$425,6,FALSE)","v":"Luminária 2x14 W de sobrepor"},{"$f":"VLOOKUP(A274,'Itens ARP 2021'!$A$4:$M$425,8,FALSE)","v":20},20,0.39100874611164416,0.78201749222328831,null,null,20,null,null,{"$f":"C274*0.471","v":9.42},null,null,null,null,null,null,null,{"$f":"C274*0.1963","v":3.9260000000000002},null,null,null,null,null,null,null,null,14,null,null,null,29.42,17.926000000000002,47.346000000000004,0.39100874611164416,0.78201749222328831,1.9550437305582209E-2,3.9100874611164418E-2,4.1292690629793875E-4,8.258538125958775E-4]
["SF-00276",{"$f":"VLOOKUP(A275,'Itens ARP 2021'!$A$4:$M$425,6,FALSE)","v":"Luminária 2x28 W de embutir"},{"$f":"VLOOKUP(A275,'Itens ARP 2021'!$A$4:$M$425,8,FALSE)","v":500},500,6.4206179162570667,12.841235832514133,null,null,500,null,null,{"$f":"C275*0.3094","v":154.70000000000002},null,null,null,null,null,null,null,{"$f":"C275*0.1289","v":64.449999999999989},null,null,null,null,null,null,null,null,350,null,null,null,654.70000000000005,414.45,1069.1500000000001,6.4206179162570667,12.841235832514133,1.2841235832514133E-2,2.5682471665028267E-2,1.2010696190912531E-5,2.4021392381825063E-5]
["SF-00277",{"$f":"VLOOKUP(A276,'Itens ARP 2021'!$A$4:$M$425,6,FALSE)","v":"Luminária 2x28 W de sobrepor"},{"$f":"VLOOKUP(A276,'Itens ARP 2021'!$A$4:$M$425,8,FALSE)","v":100},100,1.9550437305582207,3.9100874611164413,null,null,100,null,null,{"$f":"C276*0.471","v":47.099999999999994},null,null,null,null,null,null,null,{"$f":"C276*0.1963","v":19.63},null,null,null,null,null,null,null,null,70,null,null,null,147.1,89.63,236.73,1.9550437305582207,3.9100874611164413,1.9550437305582206E-2,3.9100874611164411E-2,8.258538125958774E-5,1.6517076251917548E-4]
["SF-00278",{"$f":"VLOOKUP(A277,'Itens ARP 2021'!$A$4:$M$425,6,FALSE)","v":"Condutor 10mm²"},{"$f":"VLOOKUP(A277,'Itens ARP 2021'!$A$4:$M$425,8,FALSE)","v":2000},2000,1.054721628953933,2.1094432579078659,null,null,2000,null,null,{"$f":"C277*0.009","v":18},null,null,null,null,null,null,null,{"$f":"C277*0.009","v":18},null,null,null,null,null,null,null,null,1400,null,null,null,2018,1418,3436,1.054721628953933,2.1094432579078659,5.2736081447696649E-4,1.054721628953933E-3,1.5348102866035114E-7,3.0696205732070228E-7]
["SF-00279",{"$f":"VLOOKUP(A278,'Itens ARP 2021'!$A$4:$M$425,6,FALSE)","v":"Condutor 16mm²"},{"$f":"VLOOKUP(A278,'Itens ARP 2021'!$A$4:$M$425,8,FALSE)","v":2000},2000,1.5234867973779032,3.0469735947558063,null,null,2000,null,null,{"$f":"C278*0.013","v":26},null,null,null,null,null,null,null,{"$f":"C278*0.013","v":26},null,null,null,null,null,null,null,null,1400,null,null,null,2026,1426,3452,1.5234867973779032,3.0469735947558063,7.6174339868895159E-4,1.5234867973779032E-3,2.2066726497362443E-7,4.4133452994724887E-7]
["SF-00280",{"$f":"VLOOKUP(A279,'Itens ARP 2021'!$A$4:$M$425,6,FALSE)","v":"Condutor 2,5 mm²"},{"$f":"VLOOKUP(A279,'Itens ARP 2021'!$A$4:$M$425,8,FALSE)","v":24000},24000,42.18886515815732,84.37773031631464,null,null,24000,null,null,{"$f":"C279*0.03","v":720},null,null,null,null,null,null,null,{"$f":"C279*0.03","v":720},null,null,null,null,null,null,null,null,16800,null,null,null,24720,17520,42240,42.18886515815732,84.37773031631464,1.7578693815898884E-3,3.5157387631797768E-3,4.1616225889912133E-8,8.3232451779824266E-8]
["SF-00281",{"$f":"VLOOKUP(A280,'Itens ARP 2021'!$A$4:$M$425,6,FALSE)","v":"Condutor 3x2,5 mm²"},{"$f":"VLOOKUP(A280,'Itens ARP 2021'!$A$4:$M$425,8,FALSE)","v":5000},5000,15.23486797377903,30.46973594755806,null,null,{"$f":"C280*1","v":5000},null,null,{"$f":"C280*0.052","v":260},null,null,null,null,null,null,null,{"$f":"C280*0.052","v":260},null,null,null,null,null,null,null,null,3500,null,null,null,5260,3760,9020,15.23486797377903,30.46973594755806,3.0469735947558059E-3,6.0939471895116119E-3,3.3780195063811598E-7,6.7560390127623195E-7]
["SF-00282",{"$f":"VLOOKUP(A281,'Itens ARP 2021'!$A$4:$M$425,6,FALSE)","v":"Condutor 4 mm²"},{"$f":"VLOOKUP(A281,'Itens ARP 2021'!$A$4:$M$425,8,FALSE)","v":9500},9500,22.266345500138581,44.532691000277161,null,null,9500,null,null,{"$f":"C281*0.04","v":380},null,null,null,null,null,null,null,{"$f":"C281*0.04","v":380},null,null,null,null,null,null,null,null,6650,null,null,null,9880,7030,16910,22.266345500138581,44.532691000277161,2.3438258421198508E-3,4.6876516842397015E-3,1.3860590432405978E-7,2.7721180864811957E-7]
["SF-00283",{"$f":"VLOOKUP(A282,'Itens ARP 2021'!$A$4:$M$425,6,FALSE)","v":"Condutor 4x2,5 mm²"},{"$f":"VLOOKUP(A282,'Itens ARP 2021'!$A$4:$M$425,8,FALSE)","v":5000},5000,2.6368040723848325,5.273608144769665,null,null,5000,null,null,{"$f":"C282*0.009","v":45},null,null,null,null,null,null,null,{"$f":"C282*0.009","v":45},null,null,null,null,null,null,null,null,3500,null,null,null,5045,3545,8590,2.6368040723848325,5.273608144769665,5.2736081447696649E-4,1.054721628953933E-3,6.1392411464140458E-8,1.2278482292828092E-7]
["SF-00284",{"$f":"VLOOKUP(A283,'Itens ARP 2021'!$A$4:$M$425,6,FALSE)","v":"Condutor 6 mm²"},{"$f":"VLOOKUP(A283,'Itens ARP 2021'!$A$4:$M$425,8,FALSE)","v":6000},6000,18.281841568534837,36.563683137069674,null,null,6000,null,null,{"$f":"C283*0.052","v":312},null,null,null,null,null,null,null,{"$f":"C283*0.052","v":312},null,null,null,null,null,null,null,null,4200,null,null,null,6312,4512,10824,18.281841568534837,36.563683137069674,3.0469735947558064E-3,6.0939471895116127E-3,2.8150162553176336E-7,5.6300325106352672E-7]
["SF-00285",{"$f":"VLOOKUP(A284,'Itens ARP 2021'!$A$4:$M$425,6,FALSE)","v":"Quadro elétrico TTA"},{"$f":"VLOOKUP(A284,'Itens ARP 2021'!$A$4:$M$425,8,FALSE)","v":20},20,4.101695223709739,8.2033904474194781,null,null,20,null,null,{"$f":"C284*3.5","v":70},null,null,null,null,null,null,null,{"$f":"C284*3.5","v":70},null,null,null,null,null,null,null,null,14,null,null,null,90,84,174,4.101695223709739,8.2033904474194781,0.20508476118548696,0.41016952237097393,1.1786480527901549E-3,2.3572961055803097E-3]
["SF-00286",{"$f":"VLOOKUP(A285,'Itens ARP 2021'!$A$4:$M$425,6,FALSE)","v":"Ar-condicionado do tipo split piso-teto inverter 54.000BTU/h"},{"$f":"VLOOKUP(A285,'Itens ARP 2021'!$A$4:$M$425,8,FALSE)","v":5},5,0.87893469079494413,1.7578693815898883,null,null,5,null,null,null,null,null,null,null,{"$f":"C285*3","v":15},null,null,null,{"$f":"C285*3","v":15},null,null,null,null,null,null,null,3.5,null,null,null,20,18.5,38.5,0.87893469079494413,1.7578693815898883,0.17578693815898883,0.35157387631797765,4.565894497636073E-3,9.131788995272146E-3]
["SF-00287",{"$f":"VLOOKUP(A286,'Itens ARP 2021'!$A$4:$M$425,6,FALSE)","v":"Ar-condicionado fancolete hidrônico dutado 2,5 TR"},{"$f":"VLOOKUP(A286,'Itens ARP 2021'!$A$4:$M$425,8,FALSE)","v":60},60,7.031477526359553,14.062955052719106,null,null,60,null,null,null,null,null,null,null,{"$f":"C286*2","v":120},null,null,null,{"$f":"C286*2","v":120},null,null,null,null,null,null,null,42,null,null,null,180,162,342,7.031477526359553,14.062955052719106,0.11719129210599255,0.2343825842119851,3.4266459680114779E-4,6.8532919360229558E-4]
["SF-00288",{"$f":"VLOOKUP(A287,'Itens ARP 2021'!$A$4:$M$425,6,FALSE)","v":"Ar-condicionado fancolete hidrônico dutado 4,5 TR"},{"$f":"VLOOKUP(A287,'Itens ARP 2021'!$A$4:$M$425,8,FALSE)","v":10},10,1.1719129210599255,2.343825842119851,null,null,10,null,null,null,null,null,null,null,{"$f":"C287*2","v":20},null,null,null,{"$f":"C287*2","v":20},null,null,null,null,null,null,null,7,null,null,null,30,27,57,1.1719129210599255,2.343825842119851,0.11719129210599255,0.2343825842119851,2.055987580806887E-3,4.1119751616137739E-3]
["SF-00289",{"$f":"VLOOKUP(A288,'Itens ARP 2021'!$A$4:$M$425,6,FALSE)","v":"Ar-condicionado fancolete hidrônico hi-wall 1,4 TR"},{"$f":"VLOOKUP(A288,'Itens ARP 2021'!$A$4:$M$425,8,FALSE)","v":5},5,0.58595646052996275,1.1719129210599255,null,null,5,null,null,null,null,null,null,null,{"$f":"C288*2","v":10},null,null,null,{"$f":"C288*2","v":10},null,null,null,null,null,null,null,3.5,null,null,null,15,13.5,28.5,0.58595646052996275,1.1719129210599255,0.11719129210599255,0.2343825842119851,4.1119751616137739E-3,8.2239503232275479E-3]
["SF-00290",{"$f":"VLOOKUP(A289,'Itens ARP 2021'!$A$4:$M$425,6,FALSE)","v":"Ar-condicionado split dutado inverter 30.000 BTU/h"},{"$f":"VLOOKUP(A289,'Itens ARP 2021'!$A$4:$M$425,8,FALSE)","v":40},40,7.031477526359553,14.062955052719106,null,null,40,null,null,null,null,null,null,null,{"$f":"C289*3","v":120},null,null,null,{"$f":"C289*3","v":120},null,null,null,null,null,null,null,28,null,null,null,160,148,308,7.031477526359553,14.062955052719106,0.17578693815898883,0.35157387631797765,5.7073681220450913E-4,1.1414736244090183E-3]
["SF-00291",{"$f":"VLOOKUP(A290,'Itens ARP 2021'!$A$4:$M$425,6,FALSE)","v":"Ar-condicionado split hi-wall inverter 12.000 BTU/h"},{"$f":"VLOOKUP(A290,'Itens ARP 2021'!$A$4:$M$425,8,FALSE)","v":40},40,7.031477526359553,14.062955052719106,null,null,40,null,null,null,null,null,null,null,{"$f":"C290*3","v":120},null,null,null,{"$f":"C290*3","v":120},null,null,null,null,null,null,null,28,null,null,null,160,148,308,7.031477526359553,14.062955052719106,0.17578693815898883,0.35157387631797765,5.7073681220450913E-4,1.1414736244090183E-3]
["SF-00292",{"$f":"VLOOKUP(A291,'Itens ARP 2021'!$A$4:$M$425,6,FALSE)","v":"Ar-condicionado split hi-wall inverter 22.000 BTU/h"},{"$f":"VLOOKUP(A291,'Itens ARP 2021'!$A$4:$M$425,8,FALSE)","v":40},40,7.031477526359553,14.062955052719106,null,null,40,null,null,null,null,null,null,null,{"$f":"C291*3","v":120},null,null,null,{"$f":"C291*3","v":120},null,null,null,null,null,null,null,28,null,null,null,160,148,308,7.031477526359553,14.062955052719106,0.17578693815898883,0.35157387631797765,5.7073681220450913E-4,1.1414736244090183E-3]
["SF-00293",{"$f":"VLOOKUP(A292,'Itens ARP 2021'!$A$4:$M$425,6,FALSE)","v":"Instalação de fancolete reaproveitado"},{"$f":"VLOOKUP(A292,'Itens ARP 2021'!$A$4:$M$425,8,FALSE)","v":30},30,3.5157387631797765,7.031477526359553,null,null,30,null,null,null,null,null,null,null,{"$f":"C292*2","v":60},null,null,null,{"$f":"C292*2","v":60},null,null,null,null,null,null,null,21,null,null,null,90,81,171,3.5157387631797765,7.031477526359553,0.11719129210599255,0.2343825842119851,6.8532919360229558E-4,1.3706583872045912E-3]
["SF-00294",{"$f":"VLOOKUP(A293,'Itens ARP 2021'!$A$4:$M$425,6,FALSE)","v":"Instalação de split reaproveitado"},{"$f":"VLOOKUP(A293,'Itens ARP 2021'!$A$4:$M$425,8,FALSE)","v":50},50,8.7893469079494402,17.57869381589888,null,null,50,null,null,null,null,null,null,null,{"$f":"C293*3","v":150},null,null,null,{"$f":"C293*3","v":150},null,null,null,null,null,null,null,35,null,null,null,200,185,385,8.7893469079494402,17.57869381589888,0.1757869381589888,0.3515738763179776,4.5658944976360725E-4,9.1317889952721449E-4]
["SF-00295",{"$f":"VLOOKUP(A294,'Itens ARP 2021'!$A$4:$M$425,6,FALSE)","v":"Exaustor axial 340 m3/h"},{"$f":"VLOOKUP(A294,'Itens ARP 2021'!$A$4:$M$425,8,FALSE)","v":60},60,3.5157387631797765,7.031477526359553,null,null,60,null,null,{"$f":"C294*1","v":60},null,null,null,null,180,null,null,{"$f":"C294*1","v":60},{"$f":"C294*3","v":180},null,null,null,null,null,null,null,42,null,null,null,300,282,582,3.5157387631797765,7.031477526359553,5.8595646052996275E-2,0.11719129210599255,1.0067980421477023E-4,2.0135960842954047E-4]
["SF-00296",{"$f":"VLOOKUP(A295,'Itens ARP 2021'!$A$4:$M$425,6,FALSE)","v":"Exaustor axial 865 m3/h"},{"$f":"VLOOKUP(A295,'Itens ARP 2021'!$A$4:$M$425,8,FALSE)","v":5},5,0.29297823026498138,0.58595646052996275,null,null,5,null,null,{"$f":"C295*1","v":5},null,null,null,null,15,null,null,{"$f":"C295*1","v":5},{"$f":"C295*3","v":15},null,null,null,null,null,null,null,3.5,null,null,null,25,23.5,48.5,0.29297823026498138,0.58595646052996275,5.8595646052996275E-2,0.11719129210599255,1.2081576505772428E-3,2.4163153011544855E-3]
["SF-00297",{"$f":"VLOOKUP(A296,'Itens ARP 2021'!$A$4:$M$425,6,FALSE)","v":"Duto chapa galvanizada # 22"},{"$f":"VLOOKUP(A296,'Itens ARP 2021'!$A$4:$M$425,8,FALSE)","v":880},880,198.00640714228501,396.01281428457003,null,null,880,{"$f":"C296*3.84","v":3379.2},null,null,null,null,null,null,2640,null,null,null,{"$f":"C296*3.84","v":3379.2},null,null,null,null,null,null,null,616,null,null,null,4259.2,6635.2,10894.4,198.00640714228501,396.01281428457003,0.22500728084350569,0.45001456168701137,2.0653480764751221E-5,4.1306961529502443E-5]
["SF-00298",{"$f":"VLOOKUP(A297,'Itens ARP 2021'!$A$4:$M$425,6,FALSE)","v":"Duto flexível 6”"},{"$f":"VLOOKUP(A297,'Itens ARP 2021'!$A$4:$M$425,8,FALSE)","v":40},40,0.9375303368479404,1.8750606736958808,null,null,40,{"$f":"C297*0.4","v":16},null,null,null,null,null,null,120,null,null,null,{"$f":"C297*0.4","v":16},null,null,null,null,null,null,null,28,null,null,null,56,164,220,{"$f":"C297*AL297","v":0.9375303368479404},{"$f":"C297*AM297","v":1.8750606736958808},2.343825842119851E-2,4.687651684239702E-2,1.0653753827817504E-4,2.1307507655635009E-4]
["SF-00299",{"$f":"VLOOKUP(A298,'Itens ARP 2021'!$A$4:$M$425,6,FALSE)","v":"Duto flexível 8”"},{"$f":"VLOOKUP(A298,'Itens ARP 2021'!$A$4:$M$425,8,FALSE)","v":20},20,0.4687651684239702,0.9375303368479404,null,null,20,{"$f":"C298*0.4","v":8},null,null,null,null,null,null,60,null,null,null,{"$f":"C298*0.4","v":8},null,null,null,null,null,null,null,14,null,null,null,28,82,110,0.4687651684239702,0.9375303368479404,2.343825842119851E-2,4.687651684239702E-2,2.1307507655635009E-4,4.2615015311270018E-4]
["SF-00300",{"$f":"VLOOKUP(A299,'Itens ARP 2021'!$A$4:$M$425,6,FALSE)","v":"Difusor de ar quadrado 360x360 mm"},{"$f":"VLOOKUP(A299,'Itens ARP 2021'!$A$4:$M$425,8,FALSE)","v":180},180,26.368040723848324,52.736081447696648,null,null,180,null,null,null,null,null,null,null,{"$f":"C299*2.5","v":450},null,null,null,{"$f":"C299*2.5","v":450},null,null,null,null,null,null,null,125.99999999999999,null,null,null,630,576,1206,26.368040723848324,52.736081447696648,0.14648911513249069,0.29297823026498138,1.2146692797055613E-4,2.4293385594111226E-4]
["SF-00301",{"$f":"VLOOKUP(A300,'Itens ARP 2021'!$A$4:$M$425,6,FALSE)","v":"Difusor de ar quadrado com caixa plenum AK6 360x360 mm"},{"$f":"VLOOKUP(A300,'Itens ARP 2021'!$A$4:$M$425,8,FALSE)","v":10},10,1.464891151324907,2.929782302649814,null,null,10,null,null,null,null,null,null,null,25,null,null,null,25,null,null,null,null,null,null,null,7,null,null,null,35,32,67,1.464891151324907,2.929782302649814,0.14648911513249069,0.29297823026498138,2.1864047034700104E-3,4.3728094069400208E-3]
["SF-00302",{"$f":"VLOOKUP(A301,'Itens ARP 2021'!$A$4:$M$425,6,FALSE)","v":"Difusor de ar quadrado para insuflamento em duas direções perpendiculares 376x376 mm"},{"$f":"VLOOKUP(A301,'Itens ARP 2021'!$A$4:$M$425,8,FALSE)","v":10},10,1.464891151324907,2.929782302649814,null,null,10,null,null,null,null,null,null,null,25,null,null,null,25,null,null,null,null,null,null,null,7,null,null,null,35,32,67,1.464891151324907,2.929782302649814,0.14648911513249069,0.29297823026498138,2.1864047034700104E-3,4.3728094069400208E-3]
["SF-00303",{"$f":"VLOOKUP(A302,'Itens ARP 2021'!$A$4:$M$425,6,FALSE)","v":"Difusor de ar retangular para insuflamento em duas direções 371x208 mm"},{"$f":"VLOOKUP(A302,'Itens ARP 2021'!$A$4:$M$425,8,FALSE)","v":5},5,0.7324455756624535,1.464891151324907,null,null,5,null,null,null,null,null,null,null,12.5,null,null,null,12.5,null,null,null,null,null,null,null,3.5,null,null,null,17.5,16,33.5,0.7324455756624535,1.464891151324907,0.14648911513249069,0.29297823026498138,4.3728094069400208E-3,8.7456188138800416E-3]
["SF-00304",{"$f":"VLOOKUP(A303,'Itens ARP 2021'!$A$4:$M$425,6,FALSE)","v":"Difusor de ar retangular para insuflamento em três direções 264x432 mm"},{"$f":"VLOOKUP(A303,'Itens ARP 2021'!$A$4:$M$425,8,FALSE)","v":5},5,0.7324455756624535,1.464891151324907,null,null,5,null,null,null,null,null,null,null,12.5,null,null,null,12.5,null,null,null,null,null,null,null,3.5,null,null,null,17.5,16,33.5,0.7324455756624535,1.464891151324907,0.14648911513249069,0.29297823026498138,4.3728094069400208E-3,8.7456188138800416E-3]
["SF-00305",{"$f":"VLOOKUP(A304,'Itens ARP 2021'!$A$4:$M$425,6,FALSE)","v":"Difusor de ar retangular para insuflamento em três direções 320x562 mm"},{"$f":"VLOOKUP(A304,'Itens ARP 2021'!$A$4:$M$425,8,FALSE)","v":5},5,0.7324455756624535,1.464891151324907,null,null,5,null,null,null,null,null,null,null,12.5,null,null,null,12.5,null,null,null,null,null,null,null,{"$f":"C304*0.7","v":3.5},null,null,null,17.5,16,33.5,0.7324455756624535,1.464891151324907,0.14648911513249069,0.29297823026498138,4.3728094069400208E-3,8.7456188138800416E-3]
["SF-00306",{"$f":"VLOOKUP(A305,'Itens ARP 2021'!$A$4:$M$425,6,FALSE)","v":"Difusor de ar retangular para insuflamento em três direções 371x208 mm"},{"$f":"VLOOKUP(A305,'Itens ARP 2021'!$A$4:$M$425,8,FALSE)","v":5},5,0.7324455756624535,1.464891151324907,null,null,5,null,null,null,null,null,null,null,12.5,null,null,null,12.5,null,null,null,null,null,null,null,3.5,null,null,null,17.5,16,33.5,0.7324455756624535,1.464891151324907,0.14648911513249069,0.29297823026498138,4.3728094069400208E-3,8.7456188138800416E-3]
["SF-00307",{"$f":"VLOOKUP(A306,'Itens ARP 2021'!$A$4:$M$425,6,FALSE)","v":"Difusor de ar retangular para insuflamento em uma direção 371x208 mm"},{"$f":"VLOOKUP(A306,'Itens ARP 2021'!$A$4:$M$425,8,FALSE)","v":10},10,1.464891151324907,2.929782302649814,null,null,10,null,null,null,null,null,null,null,25,null,null,null,25,null,null,null,null,null,null,null,7,null,null,null,35,32,67,1.464891151324907,2.929782302649814,0.14648911513249069,0.29297823026498138,2.1864047034700104E-3,4.3728094069400208E-3]
["SF-00308",{"$f":"VLOOKUP(A307,'Itens ARP 2021'!$A$4:$M$425,6,FALSE)","v":"Grelha para retorno retangular 425x225 mm"},{"$f":"VLOOKUP(A307,'Itens ARP 2021'!$A$4:$M$425,8,FALSE)","v":180},180,36.915257013387652,73.830514026775305,null,null,180,null,null,null,null,null,null,null,{"$f":"C307*3.5","v":630},null,null,null,{"$f":"C307*3.5","v":630},null,null,null,null,null,null,null,125.99999999999999,null,null,null,810,756,1566,36.915257013387652,73.830514026775305,0.20508476118548696,0.41016952237097393,1.3096089475446166E-4,2.6192178950892333E-4]
["SF-00309",{"$f":"VLOOKUP(A308,'Itens ARP 2021'!$A$4:$M$425,6,FALSE)","v":"Grelha para retorno retangular 525x325 mm"},{"$f":"VLOOKUP(A308,'Itens ARP 2021'!$A$4:$M$425,8,FALSE)","v":10},10,2.0508476118548695,4.101695223709739,null,null,10,null,null,null,null,null,null,null,{"$f":"C308*3.5","v":35},null,null,null,{"$f":"C308*3.5","v":35},null,null,null,null,null,null,null,7,null,null,null,45,42,87,2.0508476118548695,4.101695223709739,0.20508476118548696,0.41016952237097393,2.3572961055803097E-3,4.7145922111606195E-3]
["SF-00310",{"$f":"VLOOKUP(A309,'Itens ARP 2021'!$A$4:$M$425,6,FALSE)","v":"Instalação de difusores, grelhas e acessórios de climatização reaproveitados"},{"$f":"VLOOKUP(A309,'Itens ARP 2021'!$A$4:$M$425,8,FALSE)","v":120},120,2.6368040723848325,5.273608144769665,null,null,120,null,null,null,null,null,null,null,{"$f":"C309*0.5","v":60},null,null,null,{"$f":"C309*0.25","v":30},null,null,null,null,null,null,null,84,null,null,null,150,144,294,2.6368040723848325,5.273608144769665,2.1973367269873603E-2,4.3946734539747206E-2,7.4739344455352388E-5,1.4947868891070478E-4]
["SF-00311",{"$f":"VLOOKUP(A310,'Itens ARP 2021'!$A$4:$M$425,6,FALSE)","v":"Instalação de exaustor reaproveitado"},{"$f":"VLOOKUP(A310,'Itens ARP 2021'!$A$4:$M$425,8,FALSE)","v":20},20,1.7578693815898883,3.5157387631797765,null,null,20,null,null,{"$f":"C310*1","v":20},null,null,null,null,null,null,null,{"$f":"C310*2","v":40},null,null,null,null,null,null,null,null,14,null,null,null,40,54,94,1.7578693815898883,3.5157387631797765,8.7893469079494413E-2,0.17578693815898883,9.3503690510100444E-4,1.8700738102020089E-3]
["SF-00312",{"$f":"VLOOKUP(A311,'Itens ARP 2021'!$A$4:$M$425,6,FALSE)","v":"Preparação para instalação de difusores/grelhas de ar em portas"},{"$f":"VLOOKUP(A311,'Itens ARP 2021'!$A$4:$M$425,8,FALSE)","v":20},20,0.58595646052996275,1.1719129210599255,null,null,20,null,null,null,null,null,null,null,null,null,null,null,null,null,{"$f":"C311*0.5","v":10},null,null,null,null,null,14,{"$f":"C311*0.5","v":10},null,null,30,24,54,0.58595646052996275,1.1719129210599255,2.9297823026498138E-2,5.8595646052996275E-2,5.4255227826848407E-4,1.0851045565369681E-3]
["SF-00313",{"$f":"VLOOKUP(A312,'Itens ARP 2021'!$A$4:$M$425,6,FALSE)","v":"Bomba para condensado de ar-condicionado para instalação oculta"},{"$f":"VLOOKUP(A312,'Itens ARP 2021'!$A$4:$M$425,8,FALSE)","v":10},10,0.58595646052996275,1.1719129210599255,null,null,{"$f":"C312*1","v":10},null,null,{"$f":"C312*1","v":10},null,null,null,null,null,null,null,{"$f":"C312*1","v":10},null,null,null,null,null,null,null,null,7,null,null,null,20,17,37,0.58595646052996275,1.1719129210599255,5.8595646052996275E-2,0.11719129210599255,1.5836661095404399E-3,3.1673322190808799E-3]
["SF-00314",{"$f":"VLOOKUP(A313,'Itens ARP 2021'!$A$4:$M$425,6,FALSE)","v":"Fita aluminizada para refrigeração 48 mm"},{"$f":"VLOOKUP(A313,'Itens ARP 2021'!$A$4:$M$425,8,FALSE)","v":600},600,1.7578693815898883,3.5157387631797765,null,null,600,null,null,null,null,null,null,null,{"$f":"C313*0.1","v":60},null,null,null,null,null,null,null,null,null,null,null,420,null,null,null,600,480,1080,1.7578693815898883,3.5157387631797765,2.9297823026498138E-3,5.8595646052996275E-3,2.7127613913424202E-6,5.4255227826848404E-6]
["SF-00315",{"$f":"VLOOKUP(A314,'Itens ARP 2021'!$A$4:$M$425,6,FALSE)","v":"Fita PVC 100 mm para acabamento em refrigeração"},{"$f":"VLOOKUP(A314,'Itens ARP 2021'!$A$4:$M$425,8,FALSE)","v":9600},9600,28.125910105438212,56.251820210876424,null,null,9600,null,null,null,null,null,null,null,{"$f":"C314*0.1","v":960},null,null,null,null,null,null,null,null,null,null,null,6720,null,null,null,9600,7680,17280,28.125910105438212,56.251820210876424,2.9297823026498138E-3,5.8595646052996275E-3,1.6954758695890126E-7,3.3909517391780252E-7]
["SF-00316",{"$f":"VLOOKUP(A315,'Itens ARP 2021'!$A$4:$M$425,6,FALSE)","v":"Mangueira emborrachada 3/4\" para água gelada"},{"$f":"VLOOKUP(A315,'Itens ARP 2021'!$A$4:$M$425,8,FALSE)","v":75},75,0.21973367269873603,0.43946734539747206,null,null,75,null,null,null,null,null,null,null,{"$f":"C315*0.1","v":7.5},null,null,null,null,null,null,null,null,null,null,null,52.5,null,null,null,75,60,135,0.21973367269873603,0.43946734539747206,2.9297823026498138E-3,5.8595646052996275E-3,2.1702091130739361E-5,4.3404182261478723E-5]
["SF-00317",{"$f":"VLOOKUP(A316,'Itens ARP 2021'!$A$4:$M$425,6,FALSE)","v":"Suporte para unidade condensadora de aparelho split"},{"$f":"VLOOKUP(A316,'Itens ARP 2021'!$A$4:$M$425,8,FALSE)","v":125},125,6.2331118488874786,12.466223697774957,null,null,125,null,null,null,null,null,null,null,null,null,null,null,null,null,null,null,null,null,null,null,87.5,null,{"$f":"C316*0.851","v":106.375},{"$f":"C316*0.851","v":106.375},231.375,193.875,425.25,6.2331118488874786,12.466223697774957,4.9864894791099831E-2,9.9729789582199663E-2,1.1726018763339172E-4,2.3452037526678344E-4]
["SF-00318",{"$f":"VLOOKUP(A317,'Itens ARP 2021'!$A$4:$M$425,6,FALSE)","v":"Suporte para unidade evaporadora de aparelho split ou fancolete"},{"$f":"VLOOKUP(A317,'Itens ARP 2021'!$A$4:$M$425,8,FALSE)","v":200},200,9.9729789582199651,19.94595791643993,null,null,200,null,null,null,null,null,null,null,null,null,null,null,null,null,null,null,null,null,null,null,140,null,{"$f":"C317*0.851","v":170.2},{"$f":"C317*0.851","v":170.2},370.2,310.2,680.4,9.9729789582199651,19.94595791643993,4.9864894791099824E-2,9.9729789582199649E-2,7.3287617270869826E-5,1.4657523454173965E-4]
["SF-00319",{"$f":"VLOOKUP(A318,'Itens ARP 2021'!$A$4:$M$425,6,FALSE)","v":"Filtro em Y 1\""},{"$f":"VLOOKUP(A318,'Itens ARP 2021'!$A$4:$M$425,8,FALSE)","v":10},10,0.45382327868045608,0.90764655736091215,null,null,10,null,null,null,null,{"$f":"C318*0.7745","v":7.7449999999999992},null,null,null,null,null,null,null,null,null,null,null,{"$f":"C318*0.7745","v":7.7449999999999992},null,null,7,null,null,null,17.744999999999997,14.744999999999999,32.489999999999995,0.45382327868045608,0.90764655736091215,4.5382327868045608E-2,9.0764655736091215E-2,1.3968091064341524E-3,2.7936182128683049E-3]
["SF-00320",{"$f":"VLOOKUP(A319,'Itens ARP 2021'!$A$4:$M$425,6,FALSE)","v":"Filtro em Y 3/4\""},{"$f":"VLOOKUP(A319,'Itens ARP 2021'!$A$4:$M$425,8,FALSE)","v":65},65,2.949851311422965,5.8997026228459299,null,null,65,null,null,null,null,{"$f":"C319*0.7745","v":50.342500000000001},null,null,null,null,null,null,null,null,null,null,null,{"$f":"C319*0.7745","v":50.342500000000001},null,null,45.5,null,null,null,115.3425,95.842500000000001,211.185,2.949851311422965,5.8997026228459299,4.5382327868045615E-2,9.0764655736091229E-2,2.148937086821773E-4,4.2978741736435461E-4]
["SF-00321",{"$f":"VLOOKUP(A320,'Itens ARP 2021'!$A$4:$M$425,6,FALSE)","v":"Válvula de balanceamento e controle independente da pressão (PIBCV) 2 vias 1\""},{"$f":"VLOOKUP(A320,'Itens ARP 2021'!$A$4:$M$425,8,FALSE)","v":10},10,0.45382327868045608,0.90764655736091215,null,null,10,null,null,null,null,{"$f":"C320*0.7745","v":7.7449999999999992},null,null,null,null,null,null,null,null,null,null,null,{"$f":"C320*0.7745","v":7.7449999999999992},null,null,7,null,null,null,17.744999999999997,14.744999999999999,32.489999999999995,0.45382327868045608,0.90764655736091215,4.5382327868045608E-2,9.0764655736091215E-2,1.3968091064341524E-3,2.7936182128683049E-3]
["SF-00322",{"$f":"VLOOKUP(A321,'Itens ARP 2021'!$A$4:$M$425,6,FALSE)","v":"Válvula de balanceamento e controle independente da pressão (PIBCV) 2 vias 3/4\""},{"$f":"VLOOKUP(A321,'Itens ARP 2021'!$A$4:$M$425,8,FALSE)","v":65},65,2.949851311422965,5.8997026228459299,null,null,65,null,null,null,null,{"$f":"C321*0.7745","v":50.342500000000001},null,null,null,null,null,null,null,null,null,null,null,{"$f":"C321*0.7745","v":50.342500000000001},null,null,45.5,null,null,null,115.3425,95.842500000000001,211.185,2.949851311422965,5.8997026228459299,4.5382327868045615E-2,9.0764655736091229E-2,2.148937086821773E-4,4.2978741736435461E-4]
["SF-00323",{"$f":"VLOOKUP(A322,'Itens ARP 2021'!$A$4:$M$425,6,FALSE)","v":"Válvula de esfera em bronze 1 1/2\""},{"$f":"VLOOKUP(A322,'Itens ARP 2021'!$A$4:$M$425,8,FALSE)","v":20},20,0.92463929471628115,1.8492785894325623,null,null,20,null,null,null,null,{"$f":"C322*0.789","v":15.780000000000001},null,null,null,null,null,null,null,null,null,null,null,{"$f":"C322*0.789","v":15.780000000000001},null,null,14,null,null,null,35.78,29.78,65.56,0.92463929471628115,1.8492785894325623,4.6231964735814056E-2,9.2463929471628112E-2,7.0518555118691359E-4,1.4103711023738272E-3]
["SF-00324",{"$f":"VLOOKUP(A323,'Itens ARP 2021'!$A$4:$M$425,6,FALSE)","v":"Válvula de esfera em bronze 1 1/4\""},{"$f":"VLOOKUP(A323,'Itens ARP 2021'!$A$4:$M$425,8,FALSE)","v":20},20,0.92463929471628115,1.8492785894325623,null,null,20,null,null,null,null,{"$f":"C323*0.789","v":15.780000000000001},null,null,null,null,null,null,null,null,null,null,null,{"$f":"C323*0.789","v":15.780000000000001},null,null,14,null,null,null,{"$f":"SUM(I323,K323,L323,M323,N323,O323,R323,S323,U323,V323,X323,Y323,AA323,AB323,AD323,AE323)","v":35.78},{"$f":"SUM(P323,Q323,T323,W323,Z323,AC323,AF323)+J323","v":29.78},65.56,0.92463929471628115,1.8492785894325623,4.6231964735814056E-2,9.2463929471628112E-2,7.0518555118691359E-4,1.4103711023738272E-3]
["SF-00325",{"$f":"VLOOKUP(A324,'Itens ARP 2021'!$A$4:$M$425,6,FALSE)","v":"Válvula de esfera em bronze 1\""},{"$f":"VLOOKUP(A324,'Itens ARP 2021'!$A$4:$M$425,8,FALSE)","v":20},20,0.90764655736091215,1.8152931147218243,null,null,20,null,null,null,null,{"$f":"C324*0.7745","v":15.489999999999998},null,null,null,null,null,null,null,null,null,null,null,{"$f":"C324*0.7745","v":15.489999999999998},null,null,14,null,null,null,35.489999999999995,29.49,{"$f":"AG324+AH324","v":64.97999999999999},0.90764655736091215,1.8152931147218243,4.5382327868045608E-2,9.0764655736091215E-2,{"$f":"AL324/AI324","v":6.9840455321707622E-4},{"$f":"AM324/AI324","v":1.3968091064341524E-3}]
["SF-00326",{"$f":"VLOOKUP(A325,'Itens ARP 2021'!$A$4:$M$425,6,FALSE)","v":"Válvula de esfera em bronze 3/4\""},{"$f":"VLOOKUP(A325,'Itens ARP 2021'!$A$4:$M$425,8,FALSE)","v":150},150,6.8073491802068418,13.614698360413684,null,null,150,null,null,null,null,{"$f":"C325*0.7745","v":116.175},null,null,null,null,null,null,null,null,null,null,null,{"$f":"C325*0.7745","v":116.175},null,null,105,null,null,null,266.17500000000001,221.17500000000001,487.35,6.8073491802068418,13.614698360413684,4.5382327868045615E-2,9.0764655736091229E-2,9.3120607095610169E-5,1.8624121419122034E-4]
["SF-00327",{"$f":"VLOOKUP(A326,'Itens ARP 2021'!$A$4:$M$425,6,FALSE)","v":"Isolamento elastomérico em formato de prancha autoadesiva"},{"$f":"VLOOKUP(A326,'Itens ARP 2021'!$A$4:$M$425,8,FALSE)","v":825},825,4.834140799372193,9.668281598744386,null,null,825,null,null,null,null,{"$f":"C326*0.1","v":82.5},null,null,null,null,null,null,null,null,null,null,null,{"$f":"C326*0.1","v":82.5},null,null,577.5,null,null,null,907.5,660,1567.5,4.834140799372193,9.668281598744386,5.8595646052996275E-3,1.1719129210599255E-2,3.7381592378307033E-6,7.4763184756614066E-6]
["SF-00328",{"$f":"VLOOKUP(A327,'Itens ARP 2021'!$A$4:$M$425,6,FALSE)","v":"Isolamento elastomérico para tubulações de cobre de 1 1/8\" / tubulações de ferro de 3/4\""},{"$f":"VLOOKUP(A327,'Itens ARP 2021'!$A$4:$M$425,8,FALSE)","v":810},810,{"$f":"IFERROR(AL327*C327,0)","v":0.9112794874161978},{"$f":"IFERROR(AM327*C327,0)","v":1.8225589748323956},null,null,810,null,null,null,null,{"$f":"C327*0.0192","v":15.551999999999998},null,null,null,null,null,null,null,null,null,null,null,{"$f":"C327*0.0192","v":15.551999999999998},null,null,567,null,null,null,825.55200000000002,582.55200000000002,1408.104,0.9112794874161978,1.8225589748323956,1.1250364042175282E-3,2.2500728084350564E-3,7.9897252207047786E-7,1.5979450441409557E-6]
["SF-00329",{"$f":"VLOOKUP(A328,'Itens ARP 2021'!$A$4:$M$425,6,FALSE)","v":"Isolamento elastomérico para tubulações de cobre de 1/2\""},{"$f":"VLOOKUP(A328,'Itens ARP 2021'!$A$4:$M$425,8,FALSE)","v":400},400,0.42892012910793265,0.85784025821586529,null,null,400,null,null,null,null,{"$f":"C328*0.0183","v":7.32},null,null,null,null,null,null,null,null,null,null,null,{"$f":"C328*0.0183","v":7.32},null,null,280,null,null,null,407.32,287.32,694.64,0.42892012910793265,0.85784025821586529,1.0723003227698317E-3,2.1446006455396634E-3,1.543677765129897E-6,3.087355530259794E-6]
["SF-00330",{"$f":"VLOOKUP(A329,'Itens ARP 2021'!$A$4:$M$425,6,FALSE)","v":"Isolamento elastomérico para tubulações de cobre de 1/4\""},{"$f":"VLOOKUP(A329,'Itens ARP 2021'!$A$4:$M$425,8,FALSE)","v":400},400,0.36563683137069669,0.73127366274139338,null,null,400,null,null,null,null,{"$f":"C329*0.0156","v":6.2399999999999993},null,null,null,null,null,null,null,null,null,null,null,{"$f":"C329*0.0156","v":6.2399999999999993},null,null,280,null,null,null,406.24,286.24,692.48,{"$f":"C329*AL329","v":0.36563683137069669},{"$f":"C329*AM329","v":0.73127366274139338},9.1409207842674169E-4,1.8281841568534834E-3,1.3200266844193936E-6,2.6400533688387873E-6]
["SF-00331",{"$f":"VLOOKUP(A330,'Itens ARP 2021'!$A$4:$M$425,6,FALSE)","v":"Isolamento elastomérico para tubulações de cobre de 3/4\""},{"$f":"VLOOKUP(A330,'Itens ARP 2021'!$A$4:$M$425,8,FALSE)","v":400},400,0.45001456168701137,0.90002912337402274,null,null,400,null,null,null,null,{"$f":"C330*0.0192","v":7.68},null,null,null,null,null,null,null,null,null,null,null,{"$f":"C330*0.0192","v":7.68},null,null,280,null,null,null,407.68,287.68,695.36,0.45001456168701137,0.90002912337402274,1.1250364042175284E-3,2.2500728084350568E-3,1.617919357192718E-6,3.235838714385436E-6]
["SF-00332",{"$f":"VLOOKUP(A331,'Itens ARP 2021'!$A$4:$M$425,6,FALSE)","v":"Isolamento elastomérico para tubulações de cobre de 3/8\""},{"$f":"VLOOKUP(A331,'Itens ARP 2021'!$A$4:$M$425,8,FALSE)","v":800},800,0.80158843800498902,1.603176876009978,null,null,800,null,null,null,null,{"$f":"C331*0.0171","v":13.68},null,null,null,null,null,null,null,null,null,null,null,{"$f":"C331*0.0171","v":13.68},null,null,560,null,null,null,813.68,573.67999999999995,1387.36,0.80158843800498902,1.603176876009978,1.0019855475062363E-3,2.0039710950124725E-3,7.2222461906515705E-7,1.4444492381303141E-6]
["SF-00333",{"$f":"VLOOKUP(A332,'Itens ARP 2021'!$A$4:$M$425,6,FALSE)","v":"Isolamento elastomérico para tubulações de cobre de 5/8\""},{"$f":"VLOOKUP(A332,'Itens ARP 2021'!$A$4:$M$425,8,FALSE)","v":400},400,0.45001456168701137,0.90002912337402274,null,null,400,null,null,null,null,{"$f":"C332*0.0192","v":7.68},null,null,null,null,null,null,null,null,null,null,null,{"$f":"C332*0.0192","v":7.68},null,null,280,null,null,null,407.68,287.68,695.36,0.45001456168701137,0.90002912337402274,1.1250364042175284E-3,2.2500728084350568E-3,1.617919357192718E-6,3.235838714385436E-6]
["SF-00334",{"$f":"VLOOKUP(A333,'Itens ARP 2021'!$A$4:$M$425,6,FALSE)","v":"Isolamento elastomérico para tubulações de cobre de 7/8\" / tubulações de ferro de 1/2\""},{"$f":"VLOOKUP(A333,'Itens ARP 2021'!$A$4:$M$425,8,FALSE)","v":100},100,0.11250364042175284,0.22500728084350569,null,null,100,null,null,null,null,1.92,null,null,null,null,null,null,null,null,null,null,null,1.92,null,null,70,null,null,null,101.92,71.92,173.84,0.11250364042175284,0.22500728084350569,1.1250364042175284E-3,2.2500728084350568E-3,6.4716774287708721E-6,1.2943354857541744E-5]
["SF-00335",{"$f":"VLOOKUP(A334,'Itens ARP 2021'!$A$4:$M$425,6,FALSE)","v":"Isolamento elastomérico para tubulações de cobre de 1\""},{"$f":"VLOOKUP(A334,'Itens ARP 2021'!$A$4:$M$425,8,FALSE)","v":30},30,3.3751092126525849E-2,6.7502184253051697E-2,null,null,30,null,null,null,null,0.57599999999999996,null,null,null,null,null,null,null,null,null,null,null,0.57599999999999996,null,null,21,null,null,null,30.576000000000001,21.576000000000001,52.152000000000001,3.3751092126525849E-2,6.7502184253051697E-2,1.1250364042175282E-3,2.2500728084350564E-3,2.1572258095902902E-5,4.3144516191805804E-5]
["SF-00336",{"$f":"VLOOKUP(A335,'Itens ARP 2021'!$A$4:$M$425,6,FALSE)","v":"Isolamento elastomérico para tubulações de ferro de 1 1/2\""},{"$f":"VLOOKUP(A335,'Itens ARP 2021'!$A$4:$M$425,8,FALSE)","v":100},100,0.11250364042175284,0.22500728084350569,null,null,100,null,null,null,null,1.92,null,null,null,null,null,null,null,null,null,null,null,1.92,null,null,70,null,null,null,101.92,71.92,173.84,0.11250364042175284,0.22500728084350569,1.1250364042175284E-3,2.2500728084350568E-3,6.4716774287708721E-6,1.2943354857541744E-5]
["SF-00337",{"$f":"VLOOKUP(A336,'Itens ARP 2021'!$A$4:$M$425,6,FALSE)","v":"Isolamento elastomérico para tubulações de ferro de 1 1/4\""},{"$f":"VLOOKUP(A336,'Itens ARP 2021'!$A$4:$M$425,8,FALSE)","v":100},100,0.11250364042175284,0.22500728084350569,null,null,100,null,null,null,null,1.92,null,null,null,null,null,null,null,null,null,null,null,1.92,null,null,{"$f":"C336*0.7","v":70},null,null,null,101.92,71.92,173.84,0.11250364042175284,0.22500728084350569,1.1250364042175284E-3,2.2500728084350568E-3,6.4716774287708721E-6,1.2943354857541744E-5]
["SF-00338",{"$f":"VLOOKUP(A337,'Itens ARP 2021'!$A$4:$M$425,6,FALSE)","v":"Isolamento elastomérico para tubulações de ferro de 1\""},{"$f":"VLOOKUP(A337,'Itens ARP 2021'!$A$4:$M$425,8,FALSE)","v":100},100,0.11250364042175284,0.22500728084350569,null,null,100,null,null,null,null,1.92,null,null,null,null,null,null,null,null,null,null,null,1.92,null,null,70,null,null,null,101.92,71.92,173.84,0.11250364042175284,0.22500728084350569,1.1250364042175284E-3,2.2500728084350568E-3,6.4716774287708721E-6,1.2943354857541744E-5]
["SF-00339",{"$f":"VLOOKUP(A338,'Itens ARP 2021'!$A$4:$M$425,6,FALSE)","v":"Proteção mecânica em alumínio"},{"$f":"VLOOKUP(A338,'Itens ARP 2021'!$A$4:$M$425,8,FALSE)","v":100},100,0.58595646052996275,1.1719129210599255,null,null,100,null,null,null,null,{"$f":"C338*0.1","v":10},null,null,null,null,null,null,null,null,null,null,null,{"$f":"C338*0.1","v":10},null,null,70,null,null,null,110,80,190,0.58595646052996275,1.1719129210599255,5.8595646052996275E-3,1.1719129210599255E-2,3.08398137121033E-5,6.1679627424206601E-5]
["SF-00340",{"$f":"VLOOKUP(A339,'Itens ARP 2021'!$A$4:$M$425,6,FALSE)","v":"Tubo de aço-carbono galvanizado 1 1/2\""},{"$f":"VLOOKUP(A339,'Itens ARP 2021'!$A$4:$M$425,8,FALSE)","v":100},100,1.7109928647474915,3.4219857294949829,null,null,100,null,null,null,null,{"$f":"C339*0.292","v":29.2},null,null,null,null,null,null,null,null,null,null,null,{"$f":"C339*0.292","v":29.2},null,null,70,null,null,null,129.19999999999999,99.2,228.39999999999998,1.7109928647474915,3.4219857294949829,1.7109928647474914E-2,3.4219857294949828E-2,7.4912121924145859E-5,1.4982424384829172E-4]
["SF-00341",{"$f":"VLOOKUP(A340,'Itens ARP 2021'!$A$4:$M$425,6,FALSE)","v":"Tubo de aço-carbono galvanizado 1 1/4\""},{"$f":"VLOOKUP(A340,'Itens ARP 2021'!$A$4:$M$425,8,FALSE)","v":100},100,1.6113802664573975,3.222760532914795,null,null,100,null,null,null,null,{"$f":"C340*0.275","v":27.500000000000004},null,null,null,null,null,null,null,null,null,null,null,{"$f":"C340*0.275","v":27.500000000000004},null,null,70,null,null,null,127.5,97.5,225,1.6113802664573975,3.222760532914795,1.6113802664573976E-2,3.2227605329147951E-2,7.1616900731439888E-5,1.4323380146287978E-4]
["SF-00342",{"$f":"VLOOKUP(A341,'Itens ARP 2021'!$A$4:$M$425,6,FALSE)","v":"Tubo de aço-carbono galvanizado 1\""},{"$f":"VLOOKUP(A341,'Itens ARP 2021'!$A$4:$M$425,8,FALSE)","v":100},100,1.7402906877739894,3.4805813755479789,null,null,100,null,null,null,null,{"$f":"C341*0.297","v":29.7},null,null,null,null,null,null,null,null,null,null,null,{"$f":"C341*0.297","v":29.7},null,null,70,null,null,null,129.69999999999999,99.7,229.39999999999998,1.7402906877739894,3.4805813755479789,1.7402906877739894E-2,3.4805813755479788E-2,7.586271524734044E-5,1.5172543049468088E-4]
["SF-00343",{"$f":"VLOOKUP(A342,'Itens ARP 2021'!$A$4:$M$425,6,FALSE)","v":"Tubo de aço-carbono galvanizado 3/4\""},{"$f":"VLOOKUP(A342,'Itens ARP 2021'!$A$4:$M$425,8,FALSE)","v":750},750,13.052180158304921,26.104360316609842,null,null,750,null,null,null,null,{"$f":"C342*0.297","v":222.75},null,null,null,null,null,null,null,null,null,null,null,{"$f":"C342*0.297","v":222.75},null,null,525,null,null,null,972.75,747.75,1720.5,13.052180158304921,26.104360316609842,1.7402906877739894E-2,3.4805813755479788E-2,1.011502869964539E-5,2.0230057399290779E-5]
["SF-00344",{"$f":"VLOOKUP(A343,'Itens ARP 2021'!$A$4:$M$425,6,FALSE)","v":"Tubo de cobre de 1/2\""},{"$f":"VLOOKUP(A343,'Itens ARP 2021'!$A$4:$M$425,8,FALSE)","v":400},400,1.0008136345851766,2.0016272691703532,null,null,400,null,null,null,null,{"$f":"C343*0.0427","v":17.080000000000002},null,null,null,null,null,null,null,null,null,null,null,{"$f":"C343*0.0427","v":17.080000000000002},null,null,280,null,null,null,417.08,297.08,714.16,1.0008136345851766,2.0016272691703532,2.5020340864629416E-3,5.0040681729258832E-3,3.5034643307703341E-6,7.0069286615406682E-6]
["SF-00345",{"$f":"VLOOKUP(A344,'Itens ARP 2021'!$A$4:$M$425,6,FALSE)","v":"Tubo de cobre de 1/4\""},{"$f":"VLOOKUP(A344,'Itens ARP 2021'!$A$4:$M$425,8,FALSE)","v":400},400,0.85315260653162572,1.7063052130632514,null,null,{"$f":"C344*1","v":400},null,null,null,null,{"$f":"C344*0.0364","v":14.56},null,null,null,null,null,null,null,null,null,null,null,{"$f":"C344*0.0364","v":14.56},null,null,280,null,null,null,414.56,294.56,709.12,0.85315260653162572,1.7063052130632514,2.1328815163290642E-3,4.2657630326581285E-3,3.0077864343539377E-6,6.0155728687078755E-6]
["SF-00346",{"$f":"VLOOKUP(A345,'Itens ARP 2021'!$A$4:$M$425,6,FALSE)","v":"Tubo de cobre de 3/4\""},{"$f":"VLOOKUP(A345,'Itens ARP 2021'!$A$4:$M$425,8,FALSE)","v":400},400,1.0500339772696932,2.1000679545393863,null,null,400,null,null,null,null,{"$f":"C345*0.0448","v":17.919999999999998},null,null,null,null,null,null,null,null,null,null,null,{"$f":"C345*0.0448","v":17.919999999999998},null,null,280,null,null,null,417.92,297.92,715.84,1.0500339772696932,2.1000679545393863,2.6250849431742329E-3,5.2501698863484658E-3,3.6671392254892614E-6,7.3342784509785227E-6]
["SF-00347",{"$f":"VLOOKUP(A346,'Itens ARP 2021'!$A$4:$M$425,6,FALSE)","v":"Tubo de cobre de 3/8\""},{"$f":"VLOOKUP(A346,'Itens ARP 2021'!$A$4:$M$425,8,FALSE)","v":800},800,1.870373022011641,3.740746044023282,null,null,800,null,null,null,null,{"$f":"C346*0.0399","v":31.919999999999998},null,null,null,null,null,null,null,null,null,null,null,{"$f":"C346*0.0399","v":31.919999999999998},null,null,560,null,null,null,831.92,591.91999999999996,1423.84,1.870373022011641,3.740746044023282,2.3379662775145512E-3,4.6759325550291024E-3,1.6420147471025896E-6,3.2840294942051792E-6]
["SF-00348",{"$f":"VLOOKUP(A347,'Itens ARP 2021'!$A$4:$M$425,6,FALSE)","v":"Tubo de cobre de 5/8\""},{"$f":"VLOOKUP(A347,'Itens ARP 2021'!$A$4:$M$425,8,FALSE)","v":400},400,1.0500339772696932,2.1000679545393863,null,null,400,null,null,null,null,{"$f":"C347*0.0448","v":17.919999999999998},null,null,null,null,null,null,null,null,null,null,null,{"$f":"C347*0.0448","v":17.919999999999998},null,null,280,null,null,null,417.92,297.92,715.84,1.0500339772696932,2.1000679545393863,2.6250849431742329E-3,5.2501698863484658E-3,3.6671392254892614E-6,7.3342784509785227E-6]
["SF-00349",{"$f":"VLOOKUP(A348,'Itens ARP 2021'!$A$4:$M$425,6,FALSE)","v":"Tubo de cobre de 7/8\""},{"$f":"VLOOKUP(A348,'Itens ARP 2021'!$A$4:$M$425,8,FALSE)","v":100},100,0.26250849431742329,0.52501698863484658,null,null,100,null,null,null,null,4.4799999999999995,null,null,null,null,null,null,null,null,null,null,null,4.4799999999999995,null,null,70,null,null,null,104.48,74.48,178.96,0.26250849431742329,0.52501698863484658,2.6250849431742329E-3,5.2501698863484658E-3,1.4668556901957045E-5,2.9337113803914091E-5]
["SF-00350",{"$f":"VLOOKUP(A349,'Itens ARP 2021'!$A$4:$M$425,6,FALSE)","v":"Tubo de cobre de 1\""},{"$f":"VLOOKUP(A349,'Itens ARP 2021'!$A$4:$M$425,8,FALSE)","v":30},30,7.8752548295227001E-2,0.157505096590454,null,null,30,null,null,null,null,1.3440000000000001,null,null,null,null,null,null,null,null,null,null,null,1.3440000000000001,null,null,21,null,null,null,31.344000000000001,22.344000000000001,53.688000000000002,7.8752548295227001E-2,0.157505096590454,2.6250849431742333E-3,5.2501698863484667E-3,4.8895189673190157E-5,9.7790379346380314E-5]
["SF-00351",{"$f":"VLOOKUP(A350,'Itens ARP 2021'!$A$4:$M$425,6,FALSE)","v":"Tubo de cobre de 1 1/8\""},{"$f":"VLOOKUP(A350,'Itens ARP 2021'!$A$4:$M$425,8,FALSE)","v":60},60,0.157505096590454,0.315010193180908,null,null,60,null,null,null,null,2.6880000000000002,null,null,null,null,null,null,null,null,null,null,null,2.6880000000000002,null,null,42,null,null,null,62.688000000000002,44.688000000000002,107.376,0.157505096590454,0.315010193180908,2.6250849431742333E-3,5.2501698863484667E-3,2.4447594836595079E-5,4.8895189673190157E-5]
["SF-00354",{"$f":"VLOOKUP(A351,'Itens ARP 2021'!$A$4:$M$425,6,FALSE)","v":"Instalação de armários reaproveitados"},{"$f":"VLOOKUP(A351,'Itens ARP 2021'!$A$4:$M$425,8,FALSE)","v":240},240,10.54721628953933,21.09443257907866,null,null,240,null,null,null,null,10.752000000000001,null,null,null,null,null,null,null,null,null,null,null,10.752000000000001,null,null,168,{"$f":"C351*1.5","v":360},null,null,610.75199999999995,178.75200000000001,789.50399999999991,10.54721628953933,21.09443257907866,4.3946734539747206E-2,8.7893469079494413E-2,5.566372626325796E-5,1.1132745252651592E-4]
["SF-00359",{"$f":"VLOOKUP(A352,'Itens ARP 2021'!$A$4:$M$425,6,FALSE)","v":"Batentes e guarnições em madeira, com verniz ou esmalte"},{"$f":"VLOOKUP(A352,'Itens ARP 2021'!$A$4:$M$425,8,FALSE)","v":80},64,7.9877584699444535,15.975516939888907,null,null,{"$f":"C352*1.617","v":129.36000000000001},{"$f":"C352*1.136","v":90.88},null,null,null,3.5840000000000001,{"$f":"C352*0.655","v":52.400000000000006},null,null,null,null,null,null,null,null,null,null,3.5840000000000001,null,null,56,null,null,null,185.34400000000002,150.464,335.80799999999999,7.9877584699444535,15.975516939888907,9.9846980874305671E-2,0.19969396174861134,2.9733353843358607E-4,5.9466707686717214E-4]
["SF-00360",{"$f":"VLOOKUP(A353,'Itens ARP 2021'!$A$4:$M$425,6,FALSE)","v":"Chapa de proteção para porta – Linha Acessibilidade"},{"$f":"VLOOKUP(A353,'Itens ARP 2021'!$A$4:$M$425,8,FALSE)","v":5},5,8.7893469079494413E-2,0.17578693815898883,null,null,{"$f":"C353*1.617","v":8.0850000000000009},{"$f":"C353*0.3","v":1.5},null,null,null,0.224,null,null,null,null,null,null,null,null,null,null,null,0.224,null,null,3.5,{"$f":"C353*0.3","v":1.5},null,null,9.8090000000000011,5.2240000000000002,15.033000000000001,8.7893469079494413E-2,0.17578693815898883,1.7578693815898883E-2,3.5157387631797765E-2,1.1693403722409952E-3,2.3386807444819905E-3]
["SF-00361",{"$f":"VLOOKUP(A354,'Itens ARP 2021'!$A$4:$M$425,6,FALSE)","v":"Folha de porta em madeira 2,10x0,60m, pintada, com ou sem bandeira, e dobradiças"},{"$f":"VLOOKUP(A354,'Itens ARP 2021'!$A$4:$M$425,8,FALSE)","v":20},10,0.77522039728114067,1.5504407945622813,null,null,null,{"$f":"C354*0.341","v":6.82},null,null,null,0.89600000000000002,{"$f":"C354*0.982","v":19.64},null,null,null,null,null,null,null,null,null,null,0.89600000000000002,null,null,14,null,null,null,20.536000000000001,21.716000000000001,42.252000000000002,0.77522039728114067,1.5504407945622813,3.8761019864057035E-2,7.752203972811407E-2,9.1737716236052805E-4,1.8347543247210561E-3]
["SF-00362",{"$f":"VLOOKUP(A355,'Itens ARP 2021'!$A$4:$M$425,6,FALSE)","v":"Folha de porta em madeira 2,10x0,70m, pintada, com ou sem bandeira, e dobradiças"},{"$f":"VLOOKUP(A355,'Itens ARP 2021'!$A$4:$M$425,8,FALSE)","v":40},15,1.7824795529321467,3.5649591058642933,null,null,null,{"$f":"C355*0.407","v":16.279999999999998},null,null,null,1.792,{"$f":"C355*1.114","v":44.56},null,null,null,null,null,null,null,null,null,null,1.792,null,null,28,null,null,null,46.352000000000004,46.072000000000003,92.424000000000007,1.7824795529321467,3.5649591058642933,4.4561988823303665E-2,8.912397764660733E-2,4.8214737322885466E-4,9.6429474645770932E-4]
["SF-00363",{"$f":"VLOOKUP(A356,'Itens ARP 2021'!$A$4:$M$425,6,FALSE)","v":"Folha de porta em madeira 2,10x0,80m, pintada, com ou sem bandeira, e dobradiças"},{"$f":"VLOOKUP(A356,'Itens ARP 2021'!$A$4:$M$425,8,FALSE)","v":40},30,2.014518311302012,4.029036622604024,null,null,null,{"$f":"C356*0.473","v":18.919999999999998},null,null,null,1.792,{"$f":"C356*1.246","v":49.84},null,null,null,null,null,null,null,null,null,null,1.792,null,null,28,null,null,null,51.632000000000005,48.712000000000003,100.34400000000001,2.014518311302012,4.029036622604024,5.0362957782550295E-2,0.10072591556510059,5.0190303139749555E-4,1.0038060627949911E-3]
["SF-00364",{"$f":"VLOOKUP(A357,'Itens ARP 2021'!$A$4:$M$425,6,FALSE)","v":"Folha de porta em madeira 2,10x0,90m, pintada, com ou sem bandeira, e dobradiças"},{"$f":"VLOOKUP(A357,'Itens ARP 2021'!$A$4:$M$425,8,FALSE)","v":20},25,1.1232785348359384,2.2465570696718768,null,null,null,{"$f":"C357*0.539","v":10.780000000000001},null,null,null,0.89600000000000002,{"$f":"C357*1.378","v":27.56},null,null,null,null,null,null,null,null,null,null,0.89600000000000002,null,null,14,null,null,null,28.456,25.676000000000002,54.132000000000005,1.1232785348359384,2.2465570696718768,5.6163926741796925E-2,0.11232785348359385,1.0375365170656344E-3,2.0750730341312688E-3]
["SF-00365",{"$f":"VLOOKUP(A358,'Itens ARP 2021'!$A$4:$M$425,6,FALSE)","v":"Folha de porta em madeira 2,10x1,0m, pintada, com ou sem bandeira, e dobradiças"},{"$f":"VLOOKUP(A358,'Itens ARP 2021'!$A$4:$M$425,8,FALSE)","v":10},10,0.56163926741796932,1.1232785348359386,null,null,null,{"$f":"C358*0.539","v":5.3900000000000006},null,null,null,0.44800000000000001,{"$f":"C358*1.378","v":13.78},null,null,null,null,null,null,null,null,null,null,0.44800000000000001,null,null,7,null,null,null,14.228,12.838000000000001,27.066000000000003,0.56163926741796932,1.1232785348359386,5.6163926741796932E-2,0.11232785348359386,2.0750730341312692E-3,4.1501460682625384E-3]
["SF-00366",{"$f":"VLOOKUP(A359,'Itens ARP 2021'!$A$4:$M$425,6,FALSE)","v":"Instalação de batentes de madeira reaproveitados"},{"$f":"VLOOKUP(A359,'Itens ARP 2021'!$A$4:$M$425,8,FALSE)","v":30},30,2.9954094262291693,5.9908188524583386,null,null,{"$f":"C359*0.655","v":19.650000000000002},{"$f":"C359*1.136","v":34.08},null,null,null,1.3440000000000001,{"$f":"C359*1.617","v":48.51},null,null,null,null,null,null,null,null,null,null,1.3440000000000001,null,null,21,null,null,null,69.504000000000005,56.423999999999999,125.928,2.9954094262291693,5.9908188524583386,9.9846980874305644E-2,0.19969396174861129,7.9288943582289596E-4,1.5857788716457919E-3]
["SF-00367",{"$f":"VLOOKUP(A360,'Itens ARP 2021'!$A$4:$M$425,6,FALSE)","v":"Instalação de folhas de portas e dobradiças reaproveitadas"},{"$f":"VLOOKUP(A360,'Itens ARP 2021'!$A$4:$M$425,8,FALSE)","v":30},30,3.8673126394977544,7.7346252789955088,null,null,null,{"$f":"C360*2.2","v":66},null,null,null,1.3440000000000001,{"$f":"C360*2.2","v":66},null,null,null,null,null,null,null,null,null,null,1.3440000000000001,null,null,21,null,null,null,67.343999999999994,88.343999999999994,155.68799999999999,3.8673126394977544,7.7346252789955088,0.12891042131659181,0.25782084263318361,8.2800486432218167E-4,1.6560097286443633E-3]
["SF-00368",{"$f":"VLOOKUP(A361,'Itens ARP 2021'!$A$4:$M$425,6,FALSE)","v":"Dobradiça para porta"},{"$f":"VLOOKUP(A361,'Itens ARP 2021'!$A$4:$M$425,8,FALSE)","v":400},385,7.031477526359553,14.062955052719106,null,null,null,null,null,null,null,17.919999999999998,{"$f":"C361*0.3","v":120},null,null,null,null,null,null,null,{"$f":"C361*0.3","v":120},null,null,17.919999999999998,null,null,280,null,null,null,137.91999999999999,417.91999999999996,555.83999999999992,{"$f":"C361*AL361","v":7.031477526359553},{"$f":"C361*AM361","v":14.062955052719106},1.7578693815898883E-2,3.5157387631797765E-2,3.1625456634820962E-5,6.3250913269641924E-5]
["SF-00369",{"$f":"VLOOKUP(A362,'Itens ARP 2021'!$A$4:$M$425,6,FALSE)","v":"Fechadura para banheiro maçaneta em barra"},{"$f":"VLOOKUP(A362,'Itens ARP 2021'!$A$4:$M$425,8,FALSE)","v":15},15,0.6605194201324005,1.321038840264801,null,null,null,{"$f":"C362*0.501","v":7.5149999999999997},null,null,null,0.67200000000000004,{"$f":"C362*1.002","v":15.03},null,null,null,null,null,null,null,null,null,null,0.67200000000000004,null,null,10.5,null,null,null,15.702,18.687000000000001,34.389000000000003,0.6605194201324005,1.321038840264801,4.4034628008826703E-2,8.8069256017653405E-2,1.2804858532910726E-3,2.5609717065821452E-3]
["SF-00370",{"$f":"VLOOKUP(A363,'Itens ARP 2021'!$A$4:$M$425,6,FALSE)","v":"Fechadura para porta externa maçaneta em barra"},{"$f":"VLOOKUP(A363,'Itens ARP 2021'!$A$4:$M$425,8,FALSE)","v":20},16,0.88069256017653408,1.7613851203530682,null,null,null,10.02,null,null,null,0.89600000000000002,20.04,null,null,null,null,null,null,null,null,null,null,0.89600000000000002,null,null,14,null,null,null,20.936,24.916,45.852000000000004,0.88069256017653408,1.7613851203530682,4.4034628008826703E-2,8.8069256017653405E-2,9.6036438996830451E-4,1.920728779936609E-3]
["SF-00371",{"$f":"VLOOKUP(A364,'Itens ARP 2021'!$A$4:$M$425,6,FALSE)","v":"Fechadura para porta interna maçaneta tubular"},{"$f":"VLOOKUP(A364,'Itens ARP 2021'!$A$4:$M$425,8,FALSE)","v":160},167,7.0455404814122709,14.091080962824542,null,null,null,80.16,null,null,null,7.1680000000000001,160.32,null,null,null,null,null,null,null,null,null,null,7.1680000000000001,null,null,112,null,null,null,167.488,199.328,366.81600000000003,7.0455404814122709,14.091080962824542,4.4034628008826696E-2,8.8069256017653391E-2,1.2004554874603805E-4,2.400910974920761E-4]
["SF-00372",{"$f":"VLOOKUP(A365,'Itens ARP 2021'!$A$4:$M$425,6,FALSE)","v":"Instalação de fechadura/puxador de porta reaproveitados"},{"$f":"VLOOKUP(A365,'Itens ARP 2021'!$A$4:$M$425,8,FALSE)","v":30},30,1.321038840264801,2.642077680529602,null,null,null,15.03,null,null,null,1.3440000000000001,30.06,null,null,null,null,null,null,null,null,null,null,1.3440000000000001,null,null,21,null,null,null,31.404,37.374000000000002,68.778000000000006,1.321038840264801,2.642077680529602,4.4034628008826703E-2,8.8069256017653405E-2,6.402429266455363E-4,1.2804858532910726E-3]
["SF-00373",{"$f":"VLOOKUP(A366,'Itens ARP 2021'!$A$4:$M$425,6,FALSE)","v":"Mola hidráulica aérea"},{"$f":"VLOOKUP(A366,'Itens ARP 2021'!$A$4:$M$425,8,FALSE)","v":25},25,0.73244557566245339,1.4648911513249068,null,null,null,12.525,null,null,null,1.1199999999999999,25.05,null,null,null,null,null,null,null,null,null,null,1.1199999999999999,null,null,17.5,{"$f":"C366*1","v":25},null,null,51.17,31.145000000000003,82.314999999999998,0.73244557566245339,1.4648911513249068,2.9297823026498134E-2,5.8595646052996268E-2,3.5592325853730345E-4,7.118465170746069E-4]
["SF-00374",{"$f":"VLOOKUP(A367,'Itens ARP 2021'!$A$4:$M$425,6,FALSE)","v":"Pivô em latão com acabamento cromado para portas pivotantes"},{"$f":"VLOOKUP(A367,'Itens ARP 2021'!$A$4:$M$425,8,FALSE)","v":25},25,0.36622278783122669,0.73244557566245339,null,null,null,12.525,null,null,null,1.1199999999999999,25.05,null,null,null,null,null,null,null,null,null,null,1.1199999999999999,null,null,17.5,{"$f":"C367*0.5","v":12.5},null,null,38.67,31.145000000000003,69.814999999999998,0.36622278783122669,0.73244557566245339,1.4648911513249067E-2,2.9297823026498134E-2,2.0982470118526201E-4,4.1964940237052402E-4]
["SF-00375",{"$f":"VLOOKUP(A368,'Itens ARP 2021'!$A$4:$M$425,6,FALSE)","v":"Cabo de dados tipo UTP, tipo LSZH, categoria 6"},{"$f":"VLOOKUP(A368,'Itens ARP 2021'!$A$4:$M$425,8,FALSE)","v":30000},25000,4.9220342684516867,9.8440685369033734,null,null,null,15030,null,{"$f":"C368*0.0028","v":84},null,1344,30060,null,null,null,null,{"$f":"C368*0.0028","v":84},null,null,null,null,null,1344,null,null,{"$f":"C368*0.7","v":21000},null,null,null,31488,37458,68946,4.9220342684516867,9.8440685369033734,1.6406780894838956E-4,3.2813561789677911E-4,2.3796566725899917E-9,4.7593133451799834E-9]
["SF-00376",{"$f":"VLOOKUP(A369,'Itens ARP 2021'!$A$4:$M$425,6,FALSE)","v":"Módulo (tomada) de rede RJ45, categoria 6, com conectorização e certificação"},{"$f":"VLOOKUP(A369,'Itens ARP 2021'!$A$4:$M$425,8,FALSE)","v":1400},1400,33.830782205157931,67.661564410315862,null,null,null,701.4,null,{"$f":"C369*0.4124","v":577.36},null,62.72,1402.8,null,null,null,null,{"$f":"C369*0.4124","v":577.36},null,null,null,null,null,62.72,null,null,979.99999999999989,null,null,null,2042.88,2321.48,4364.3600000000006,33.830782205157931,67.661564410315862,2.4164844432255663E-2,4.8329688864511326E-2,5.5368586533319108E-6,1.1073717306663822E-5]
["SF-00377",{"$f":"VLOOKUP(A370,'Itens ARP 2021'!$A$4:$M$425,6,FALSE)","v":"Painel de distribuição (patch panel) de 24 portas, categoria 6"},{"$f":"VLOOKUP(A370,'Itens ARP 2021'!$A$4:$M$425,8,FALSE)","v":30},30,2.200676678812381,4.4013533576247621,null,null,null,15.03,null,{"$f":"C370*1.2519","v":37.557000000000002},null,1.3440000000000001,30.06,null,null,null,null,{"$f":"C370*1.2519","v":37.557000000000002},null,null,null,null,null,1.3440000000000001,null,null,21,null,null,null,68.960999999999999,74.930999999999997,143.892,2.200676678812381,4.4013533576247621,7.3355889293746035E-2,0.14671177858749207,5.0979824655815497E-4,1.0195964931163099E-3]
["SF-00378",{"$f":"VLOOKUP(A371,'Itens ARP 2021'!$A$4:$M$425,6,FALSE)","v":"Cabo de telefonia tipo CCI 50x2"},{"$f":"VLOOKUP(A371,'Itens ARP 2021'!$A$4:$M$425,8,FALSE)","v":10000},10000,37.559809119970609,75.119618239941218,null,null,null,5010,null,{"$f":"C371*0.0641","v":641},null,448,10020,null,null,null,null,{"$f":"C371*0.0641","v":641},null,null,null,null,null,448,null,null,7000,null,null,null,11109,13099,24208,37.559809119970609,75.119618239941218,3.7559809119970611E-3,7.5119618239941222E-3,1.5515453205539742E-7,3.1030906411079484E-7]
["SF-00379",{"$f":"VLOOKUP(A372,'Itens ARP 2021'!$A$4:$M$425,6,FALSE)","v":"Módulo (tomada) de rede RJ45, para telefonia"},{"$f":"VLOOKUP(A372,'Itens ARP 2021'!$A$4:$M$425,8,FALSE)","v":1040},1040,12.565719104772946,25.131438209545891,null,null,null,521.04,null,{"$f":"C372*0.2062","v":214.44800000000001},null,46.591999999999999,1042.08,null,null,null,null,{"$f":"C372*0.2062","v":214.44800000000001},null,null,null,null,null,46.591999999999999,null,null,728,null,null,null,1303.1199999999999,1510.08,2813.2,12.565719104772946,25.131438209545891,1.2082422216127832E-2,2.4164844432255663E-2,4.2949033897795512E-6,8.5898067795591023E-6]
["SF-00380",{"$f":"VLOOKUP(A373,'Itens ARP 2021'!$A$4:$M$425,6,FALSE)","v":"Grelha para retorno para portas, divisórias e paredes 525x325 mm"},{"$f":"VLOOKUP(A373,'Itens ARP 2021'!$A$4:$M$425,8,FALSE)","v":100},100,20.508476118548696,41.016952237097392,null,null,null,50.1,null,null,null,4.4799999999999995,100.2,null,{"$f":"C373*3.5","v":350},null,null,null,{"$f":"C373*3.5","v":350},null,null,null,null,4.4799999999999995,null,null,70,null,null,null,454.68,474.58000000000004,929.26,20.508476118548696,41.016952237097392,0.20508476118548696,0.41016952237097393,2.2069685683822284E-4,4.4139371367644568E-4]
["SF-00898",{"$f":"VLOOKUP(A374,'Itens ARP 2021'!$A$4:$M$425,6,FALSE)","v":"Armação de aço CA-50 bitolas de 5,0mm a 8,00mm"},{"$f":"VLOOKUP(A374,'Itens ARP 2021'!$A$4:$M$425,8,FALSE)","v":5},5,2.1782931420201365E-2,4.356586284040273E-2,null,null,null,{"$f":"0.0209*C374","v":0.1045},null,null,null,0.224,5.01,null,null,null,{"$f":"0.1278*C374","v":0.63900000000000001},null,null,null,null,null,null,0.224,null,null,3.5,null,null,null,5.8730000000000002,3.8285,9.7014999999999993,2.1782931420201365E-2,4.356586284040273E-2,4.356586284040273E-3,8.7131725680805461E-3,4.4906316384479443E-4,8.9812632768958886E-4]
["SF-00915",{"$f":"VLOOKUP(A375,'Itens ARP 2021'!$A$4:$M$425,6,FALSE)","v":"Graute industrializado, fck ≥ 25MPa"},{"$f":"VLOOKUP(A375,'Itens ARP 2021'!$A$4:$M$425,8,FALSE)","v":1},1,0.23666781440805196,0.47333562881610391,null,null,{"$f":"4.7314*C375","v":4.7313999999999998},{"$f":"3.3466*C375","v":3.3466},null,null,null,4.48E-2,1.002,null,null,null,null,null,null,null,null,null,null,4.48E-2,null,null,0.7,null,null,null,5.7782,4.0914000000000001,9.8696000000000002,0.23666781440805196,0.47333562881610391,0.23666781440805196,0.47333562881610391,2.3979473778881814E-2,4.7958947557763629E-2]
["SF-00916",{"$f":"VLOOKUP(A376,'Itens ARP 2021'!$A$4:$M$425,6,FALSE)","v":"Armação de aço CA-50 bitolas de 10,0mm a 12,50mm"},{"$f":"VLOOKUP(A376,'Itens ARP 2021'!$A$4:$M$425,8,FALSE)","v":5},5,1.1894916148758244E-2,2.3789832297516487E-2,null,null,null,{"$f":"0.0114*C376","v":5.7000000000000002E-2},null,null,null,0.224,5.01,null,null,null,{"$f":"0.0698*C376","v":0.34899999999999998},null,null,null,null,null,null,0.224,null,null,3.5,null,null,null,5.5830000000000002,3.7810000000000001,9.3640000000000008,1.1894916148758244E-2,2.3789832297516487E-2,2.3789832297516486E-3,4.7579664595032971E-3,2.5405630390342251E-4,5.0811260780684502E-4]
["SF-00917",{"$f":"VLOOKUP(A377,'Itens ARP 2021'!$A$4:$M$425,6,FALSE)","v":"Armação de aço CA-50 bitolas de 16,0mm a 25,0mm"},{"$f":"VLOOKUP(A377,'Itens ARP 2021'!$A$4:$M$425,8,FALSE)","v":5},5,5.3175548793094121E-3,1.0635109758618824E-2,null,null,null,{"$f":"0.0051*C377","v":2.5500000000000002E-2},null,null,null,0.224,5.01,null,null,null,{"$f":"0.0312*C377","v":0.156},null,null,null,null,null,null,0.224,null,null,3.5,null,null,null,5.39,3.7495000000000003,9.1395,5.3175548793094121E-3,1.0635109758618824E-2,1.0635109758618823E-3,2.1270219517237647E-3,1.1636424047944442E-4,2.3272848095888884E-4]
["SF-00918",{"$f":"VLOOKUP(A378,'Itens ARP 2021'!$A$4:$M$425,6,FALSE)","v":"Remoção de mola hidráulica de piso"},{"$f":"VLOOKUP(A378,'Itens ARP 2021'!$A$4:$M$425,8,FALSE)","v":15},15,0.4834140799372193,0.9668281598744386,null,null,null,{"$f":"0.55*C378","v":8.25},null,null,null,0.67200000000000004,15.03,null,null,null,null,null,null,{"$f":"0.55*C378","v":8.25},null,null,null,0.67200000000000004,null,null,10.5,null,null,null,23.951999999999998,19.422000000000001,43.373999999999995,0.4834140799372193,0.9668281598744386,3.2227605329147951E-2,6.4455210658295903E-2,7.4301667656079577E-4,1.4860333531215915E-3]
["SF-00919",{"$f":"VLOOKUP(A379,'Itens ARP 2021'!$A$4:$M$425,6,FALSE)","v":"Escavação manual de valas"},{"$f":"VLOOKUP(A379,'Itens ARP 2021'!$A$4:$M$425,8,FALSE)","v":15},15,1.7385328183923994,3.4770656367847987,null,null,null,{"$f":"3.956*C379","v":59.339999999999996},null,null,null,0.67200000000000004,15.03,null,null,null,null,null,null,null,null,null,null,0.67200000000000004,null,null,10.5,null,null,null,15.702,70.512,86.213999999999999,1.7385328183923994,3.4770656367847987,0.11590218789282662,0.23180437578565324,1.3443546047373586E-3,2.6887092094747172E-3]
["SF-00920",{"$f":"VLOOKUP(A380,'Itens ARP 2021'!$A$4:$M$425,6,FALSE)","v":"Reaterro de vala com compactação mecanizada"},{"$f":"VLOOKUP(A380,'Itens ARP 2021'!$A$4:$M$425,8,FALSE)","v":15},15,0.28565377450835683,0.57130754901671366,null,null,null,{"$f":"0.65*C380","v":9.75},null,null,null,0.67200000000000004,15.03,null,null,null,null,null,null,null,null,null,null,0.67200000000000004,null,null,10.5,null,null,null,15.702,20.922000000000001,36.624000000000002,0.28565377450835683,0.57130754901671366,1.9043584967223789E-2,3.8087169934447579E-2,5.1997556157775738E-4,1.0399511231555148E-3]
["SF-00921",{"$f":"VLOOKUP(A381,'Itens ARP 2021'!$A$4:$M$425,6,FALSE)","v":"Aterro de vala com compactação mecanizada"},{"$f":"VLOOKUP(A381,'Itens ARP 2021'!$A$4:$M$425,8,FALSE)","v":15},15,0.28960898061693408,0.57921796123386815,null,null,null,{"$f":"0.659*C381","v":9.8849999999999998},null,null,null,0.67200000000000004,15.03,null,null,null,null,null,null,null,null,null,null,0.67200000000000004,null,null,10.5,null,null,null,15.702,21.057000000000002,36.759,0.28960898061693408,0.57921796123386815,1.9307265374462271E-2,3.8614530748924542E-2,5.2523913529917219E-4,1.0504782705983444E-3]
["SF-00922",{"$f":"VLOOKUP(A382,'Itens ARP 2021'!$A$4:$M$425,6,FALSE)","v":"Tubo de cobre classe \"E\" 22mm"},{"$f":"VLOOKUP(A382,'Itens ARP 2021'!$A$4:$M$425,8,FALSE)","v":10},10,8.4377730316314639E-2,0.16875546063262928,null,null,null,null,null,null,null,{"$f":"0.144*C382","v":1.44},10.02,null,null,null,null,null,null,null,null,null,null,{"$f":"0.144*C382","v":1.44},null,null,7,null,null,null,11.459999999999999,8.44,19.899999999999999,8.4377730316314639E-2,0.16875546063262928,8.4377730316314639E-3,1.6875546063262928E-2,4.2400869505685752E-4,8.4801739011371505E-4]
["SF-00923",{"$f":"VLOOKUP(A383,'Itens ARP 2021'!$A$4:$M$425,6,FALSE)","v":"Tubo de cobre classe \"E\" 28 mm"},{"$f":"VLOOKUP(A383,'Itens ARP 2021'!$A$4:$M$425,8,FALSE)","v":10},10,9.375303368479404E-2,0.18750606736958808,null,null,null,null,null,null,null,{"$f":"0.16*C383","v":1.6},10.02,null,null,null,null,null,null,null,null,null,null,{"$f":"0.16*C383","v":1.6},null,null,7,null,null,null,11.62,8.6,20.22,9.375303368479404E-2,0.18750606736958808,9.3753033684794047E-3,1.8750606736958809E-2,4.6366485501876388E-4,9.2732971003752775E-4]
["SF-00924",{"$f":"VLOOKUP(A384,'Itens ARP 2021'!$A$4:$M$425,6,FALSE)","v":"Tubo de cobre classe \"E\" 42mm"},{"$f":"VLOOKUP(A384,'Itens ARP 2021'!$A$4:$M$425,8,FALSE)","v":10},10,4.4532691000277166E-2,8.9065382000554333E-2,null,null,null,null,null,null,null,{"$f":"0.076*C384","v":0.76},10.02,null,null,null,null,null,null,null,null,null,null,{"$f":"0.076*C384","v":0.76},null,null,7,null,null,null,10.78,7.76,18.54,4.4532691000277166E-2,8.9065382000554333E-2,4.4532691000277163E-3,8.9065382000554326E-3,2.4019790183536766E-4,4.8039580367073532E-4]
["SF-00925",{"$f":"VLOOKUP(A385,'Itens ARP 2021'!$A$4:$M$425,6,FALSE)","v":"Bacia conforto (h=44cm) com assento poliéster e acessórios – Linha Acessibilidade"},{"$f":"VLOOKUP(A385,'Itens ARP 2021'!$A$4:$M$425,8,FALSE)","v":5},5,0.17871672046163861,0.35743344092327722,null,null,null,{"$f":"0.44*C385","v":2.2000000000000002},null,null,null,{"$f":"0.78*C385","v":3.9000000000000004},5.01,null,null,null,null,null,null,null,null,null,null,null,null,null,3.5,null,null,null,8.91,5.7,14.61,0.17871672046163861,0.35743344092327722,3.5743344092327725E-2,7.148668818465545E-2,2.4464985689478251E-3,4.8929971378956503E-3]
["SF-00926",{"$f":"VLOOKUP(A386,'Itens ARP 2021'!$A$4:$M$425,6,FALSE)","v":"Assento para bacia convencional - Linha Acessibilidade"},{"$f":"VLOOKUP(A386,'Itens ARP 2021'!$A$4:$M$425,8,FALSE)","v":25},5,7.3244557566245344E-2,0.14648911513249069,null,null,null,{"$f":"0.1*C386","v":2.5},null,null,null,null,25.05,null,null,null,null,null,null,null,null,null,null,null,null,null,17.5,null,null,null,25.05,20,45.05,7.3244557566245344E-2,0.14648911513249069,2.9297823026498138E-3,5.8595646052996275E-3,6.503401337735436E-5,1.3006802675470872E-4]
["SF-00927",{"$f":"VLOOKUP(A387,'Itens ARP 2021'!$A$4:$M$425,6,FALSE)","v":"Base registro de gaveta 1 1/2”"},{"$f":"VLOOKUP(A387,'Itens ARP 2021'!$A$4:$M$425,8,FALSE)","v":10},10,0.46231964735814057,0.92463929471628115,null,null,null,null,null,null,null,{"$f":"0.789*C387","v":7.8900000000000006},10.02,null,null,null,null,null,null,null,null,null,null,{"$f":"0.789*C387","v":7.8900000000000006},null,null,7,null,null,null,{"$f":"SUM(I387,K387,L387,M387,N387,O387,R387,S387,U387,V387,X387,Y387,AA387,AB387,AD387,AE387)","v":17.91},{"$f":"SUM(P387,Q387,T387,W387,Z387,AC387,AF387)+J387","v":14.89},32.799999999999997,0.46231964735814057,0.92463929471628115,4.6231964735814056E-2,9.2463929471628112E-2,1.4095111199943311E-3,2.8190222399886622E-3]
["SF-00937",{"$f":"VLOOKUP(A388,'Itens ARP 2021'!$A$4:$M$425,6,FALSE)","v":"Montagem e desmontagem de andaime fachadeiro"},{"$f":"VLOOKUP(A388,'Itens ARP 2021'!$A$4:$M$425,8,FALSE)","v":350},350,3.6310256967890462,7.2620513935780924,null,null,null,{"$f":"0.059*C388","v":20.65},null,null,null,null,350.7,null,null,null,{"$f":"0.2951*C388","v":103.285},null,null,null,null,null,null,null,null,null,244.99999999999997,null,null,null,453.98500000000001,265.64999999999998,{"$f":"AG388+AH388","v":719.63499999999999},3.6310256967890462,7.2620513935780924,1.037435913368299E-2,2.0748718267365979E-2,{"$f":"AL388/AI388","v":1.4416140312356945E-5},{"$f":"AM388/AI388","v":2.883228062471389E-5}]
["SF-00938",{"$f":"VLOOKUP(A389,'Itens ARP 2021'!$A$4:$M$425,6,FALSE)","v":"Montagem e desmontagem de andaime tubular"},{"$f":"VLOOKUP(A389,'Itens ARP 2021'!$A$4:$M$425,8,FALSE)","v":70},70,1.2305085671129219,2.4610171342258438,null,null,null,{"$f":"0.1*C389","v":7},null,null,null,null,70.14,null,null,null,{"$f":"0.5*C389","v":35},null,null,null,null,null,null,null,null,null,49,null,null,null,105.14,56,161.13999999999999,1.2305085671129219,2.4610171342258438,1.7578693815898883E-2,3.5157387631797765E-2,1.0908957314074026E-4,2.1817914628148051E-4]
["SF-00939",{"$f":"VLOOKUP(A390,'Itens ARP 2021'!$A$4:$M$425,6,FALSE)","v":"Tensor com indicador de tensão para linha de vida"},{"$f":"VLOOKUP(A390,'Itens ARP 2021'!$A$4:$M$425,8,FALSE)","v":5},5,0.14507392789585305,0.2901478557917061,null,null,null,null,null,null,null,null,5.01,null,null,null,null,null,null,null,null,null,null,null,null,null,3.5,null,null,null,5.01,3.5,8.51,{"$f":"AL390*C390","v":0.14507392789585305},{"$f":"AM390*C390","v":0.2901478557917061},{"$f":"AN390*AI390/C390","v":2.9014785579170609E-2},{"$f":"AO390*AI390/C390","v":5.8029571158341217E-2},1.7047465087644306E-2,3.4094930175288612E-2]
["SF-00940",{"$f":"VLOOKUP(A391,'Itens ARP 2021'!$A$4:$M$425,6,FALSE)","v":"Locação de fechamento para andaimes com tela 100% polietileno"},{"$f":"VLOOKUP(A391,'Itens ARP 2021'!$A$4:$M$425,8,FALSE)","v":350},350,{"$f":"IFERROR(AL391*C391,0)","v":10.155174952709713},{"$f":"IFERROR(AM391*C391,0)","v":20.310349905419425},null,null,null,null,null,null,null,null,350.7,null,null,null,null,null,null,null,null,null,null,null,null,null,244.99999999999997,null,null,null,350.7,244.99999999999997,595.69999999999993,{"$f":"AL391*C391","v":10.155174952709713},{"$f":"AM391*C391","v":20.310349905419425},{"$f":"AN391*AI391/C391","v":2.9014785579170609E-2},{"$f":"AO391*AI391/C391","v":5.8029571158341217E-2},1.7047465087644306E-2,3.4094930175288612E-2]
["SF-00352",{"$f":"VLOOKUP(A392,'Itens ARP 2021'!$A$4:$M$425,6,FALSE)","v":"Armário em MDF laminado com porta e prateleiras"},{"$f":"VLOOKUP(A392,'Itens ARP 2021'!$A$4:$M$425,8,FALSE)","v":500},500,0,0,null,null,null,null,null,null,null,null,501,null,null,null,null,null,null,null,null,null,null,null,null,null,350,null,null,null,501,350,851,0,0,0,0,0,0]
["SF-00353",{"$f":"VLOOKUP(A393,'Itens ARP 2021'!$A$4:$M$425,6,FALSE)","v":"Armário em MDF laminado com módulo de gaveta (sem porta)"},{"$f":"VLOOKUP(A393,'Itens ARP 2021'!$A$4:$M$425,8,FALSE)","v":100},100,0,0,null,null,null,null,null,null,null,null,null,null,null,null,null,null,null,null,null,null,null,null,null,null,null,null,null,null,0,0,0,0,0,0,0,0,0]
["SF-00355",{"$f":"VLOOKUP(A394,'Itens ARP 2021'!$A$4:$M$425,6,FALSE)","v":"Mesa/tampo de MDF, fixada em parede com mão-francesa"},{"$f":"VLOOKUP(A394,'Itens ARP 2021'!$A$4:$M$425,8,FALSE)","v":20},20,0,0,null,null,null,null,null,null,null,null,null,null,null,null,null,null,null,null,null,null,null,null,null,null,null,null,null,null,0,0,0,0,0,0,0,0,0]
["SF-00356",{"$f":"VLOOKUP(A395,'Itens ARP 2021'!$A$4:$M$425,6,FALSE)","v":"Painel de TV em Compensado"},{"$f":"VLOOKUP(A395,'Itens ARP 2021'!$A$4:$M$425,8,FALSE)","v":50},16,0,0,null,null,null,null,null,null,null,null,null,null,null,null,null,null,null,null,null,null,null,null,null,null,null,null,null,null,0,0,0,0,0,0,0,0,0]
["SF-00357",{"$f":"VLOOKUP(A396,'Itens ARP 2021'!$A$4:$M$425,6,FALSE)","v":"Painel de TV em MDF"},{"$f":"VLOOKUP(A396,'Itens ARP 2021'!$A$4:$M$425,8,FALSE)","v":50},20,0,0,null,null,null,null,null,null,null,null,null,null,null,null,null,null,null,null,null,null,null,null,null,null,null,null,null,null,0,0,0,0,0,0,0,0,0]
["SF-00358",{"$f":"VLOOKUP(A397,'Itens ARP 2021'!$A$4:$M$425,6,FALSE)","v":{"$error":"#N/A"}},{"$f":"VLOOKUP(A397,'Itens ARP 2021'!$A$4:$M$425,8,FALSE)","v":{"$error":"#N/A"}},10,0,0,null,null,null,null,null,null,null,null,null,null,null,null,null,null,null,null,null,null,null,null,null,null,null,null,null,null,0,0,0,0,0,0,0,0,0]
["SF-00162",{"$f":"VLOOKUP(A398,'Itens ARP 2021'!$A$4:$M$425,6,FALSE)","v":{"$error":"#N/A"}},{"$f":"VLOOKUP(A398,'Itens ARP 2021'!$A$4:$M$425,8,FALSE)","v":{"$error":"#N/A"}},600,0,0,null,null,null,null,null,null,null,null,null,null,null,null,null,null,null,null,null,null,null,null,null,null,null,null,null,null,0,0,0,0,0,0,0,0,0]
["SF-00163",{"$f":"VLOOKUP(A399,'Itens ARP 2021'!$A$4:$M$425,6,FALSE)","v":"Persiana vertical em tecido Juta Resinado sem blecaute de 90mm, cor bege"},{"$f":"VLOOKUP(A399,'Itens ARP 2021'!$A$4:$M$425,8,FALSE)","v":300},300,0,0,null,null,null,null,null,null,null,null,null,null,null,null,null,null,null,null,null,null,null,null,null,null,null,null,null,null,0,0,0,0,0,0,0,0,0]
["SF-00164",{"$f":"VLOOKUP(A400,'Itens ARP 2021'!$A$4:$M$425,6,FALSE)","v":"Persiana vertical em tecido sintético sem blecaute de 90mm, cores verde escuro ou branca"},{"$f":"VLOOKUP(A400,'Itens ARP 2021'!$A$4:$M$425,8,FALSE)","v":300},250,0,0,null,null,null,null,null,null,null,null,null,null,null,null,null,null,null,null,null,null,null,null,null,null,null,null,null,null,0,0,0,0,0,0,0,0,0]
["SF-01071",{"$f":"VLOOKUP(A401,'Itens ARP 2021'!$A$4:$M$425,6,FALSE)","v":{"$error":"#N/A"}},{"$f":"VLOOKUP(A401,'Itens ARP 2021'!$A$4:$M$425,8,FALSE)","v":{"$error":"#N/A"}},{"$error":"#N/A"},null,null,null,null,null,null,null,{"$f":"0.5355*C401","v":{"$error":"#N/A"}},null,null,null,null,null,null,null,{"$f":"0.2231*C401","v":{"$error":"#N/A"}},null,null,null,null,null,null,null,null,null,null,null,null,{"$error":"#N/A"},{"$error":"#N/A"},{"$f":"AG401+AH401","v":{"$error":"#N/A"}},{"$f":"C401*AL401","v":{"$error":"#N/A"}},{"$f":"C401*AM401","v":{"$error":"#N/A"}},1.293220701548697E-2,2.5864414030973941E-2,1.7047465087644306E-2,3.4094930175288612E-2]
["SF-01108",{"$f":"VLOOKUP(A402,'Itens ARP 2021'!$A$4:$M$425,6,FALSE)","v":"Porcelanato para revestimento de superfícies internas e externas – Linha Residencial"},{"$f":"VLOOKUP(A402,'Itens ARP 2021'!$A$4:$M$425,8,FALSE)","v":250},{"$error":"#N/A"},null,null,null,null,null,{"$f":"0.27*C402","v":67.5},null,null,{"$f":"0.7*C402","v":175},null,null,null,null,null,null,null,null,null,null,null,null,null,null,null,null,null,null,null,175,67.5,242.5,4.134010283753744,8.268020567507488,1.6536041135014976E-2,3.3072082270029952E-2,1.7047465087644306E-2,3.4094930175288612E-2]
["SF-01113",{"$f":"VLOOKUP(A403,'Itens ARP 2021'!$A$4:$M$425,6,FALSE)","v":"Lixamento, calafetação e aplicação de sinteco em piso de madeira - Linha Residencial"},{"$f":"VLOOKUP(A403,'Itens ARP 2021'!$A$4:$M$425,8,FALSE)","v":500},{"$error":"#N/A"},null,null,null,null,{"$f":"0.75*C403","v":375},{"$f":"0.3*C403","v":150},null,null,null,null,null,null,null,null,null,null,null,null,null,null,null,null,null,null,null,null,null,null,375,150,525,8.9499191710132617,17.899838342026523,1.7899838342026523E-2,3.5799676684053046E-2,1.7047465087644306E-2,3.4094930175288612E-2]
["SF-01114",{"$f":"VLOOKUP(A404,'Itens ARP 2021'!$A$4:$M$425,6,FALSE)","v":"Piso em taco de madeira – Linha Residencial"},{"$f":"VLOOKUP(A404,'Itens ARP 2021'!$A$4:$M$425,8,FALSE)","v":200},{"$error":"#N/A"},null,null,null,null,null,{"$f":"1*C404","v":200},null,null,null,null,{"$f":"1*C404","v":200},null,null,null,null,null,null,null,null,null,null,null,null,null,null,null,null,null,200,200,400,6.8189860350577227,13.637972070115445,3.4094930175288612E-2,6.8189860350577225E-2,1.7047465087644306E-2,3.4094930175288612E-2]
["SF-01116",{"$f":"VLOOKUP(A405,'Itens ARP 2021'!$A$4:$M$425,6,FALSE)","v":"Piso sintético flutuante – Linha Residencial"},{"$f":"VLOOKUP(A405,'Itens ARP 2021'!$A$4:$M$425,8,FALSE)","v":400},{"$error":"#N/A"},null,null,null,null,{"$f":"0.261*C405","v":104.4},{"$f":"0.13*C405","v":52},null,null,null,null,null,null,null,null,null,null,null,null,null,null,null,null,null,null,null,null,null,null,104.4,52,156.4,2.6662235397075693,5.3324470794151386,6.6655588492689237E-3,1.3331117698537847E-2,1.7047465087644306E-2,3.4094930175288612E-2]
["SF-01251",{"$f":"VLOOKUP(A406,'Itens ARP 2021'!$A$4:$M$425,6,FALSE)","v":"Bacia convencional – Linha Residencial"},{"$f":"VLOOKUP(A406,'Itens ARP 2021'!$A$4:$M$425,8,FALSE)","v":20},{"$error":"#N/A"},null,null,null,null,null,{"$f":"0.3495*C406","v":6.9899999999999993},null,null,null,{"$f":"0.4968*C406","v":9.9359999999999999},null,null,null,null,null,null,null,null,null,null,null,null,null,null,null,null,null,null,9.9359999999999999,6.9899999999999993,16.925999999999998,0.28854539407346758,0.57709078814693515,1.4427269703673378E-2,2.8854539407346756E-2,1.7047465087644306E-2,3.4094930175288612E-2]
["SF-01252",{"$f":"VLOOKUP(A407,'Itens ARP 2021'!$A$4:$M$425,6,FALSE)","v":"Bidê 3 furos - Linha Residencial"},{"$f":"VLOOKUP(A407,'Itens ARP 2021'!$A$4:$M$425,8,FALSE)","v":15},{"$error":"#N/A"},null,null,null,null,null,{"$f":"0.3495*C407","v":5.2424999999999997},null,null,null,{"$f":"0.4968*C407","v":7.452},null,null,null,null,null,null,null,null,null,null,null,null,null,null,null,null,null,null,7.452,5.2424999999999997,12.6945,0.21640904555510065,0.43281809111020131,1.4427269703673378E-2,2.8854539407346756E-2,1.7047465087644306E-2,3.4094930175288612E-2]
["SF-01255",{"$f":"VLOOKUP(A408,'Itens ARP 2021'!$A$4:$M$425,6,FALSE)","v":"Chuveiro de metal com tubo de parede – Linha Residencial"},{"$f":"VLOOKUP(A408,'Itens ARP 2021'!$A$4:$M$425,8,FALSE)","v":30},{"$error":"#N/A"},null,null,null,null,null,{"$f":"0.1407*C408","v":4.2210000000000001},null,null,null,{"$f":"0.4467*C408","v":13.401},null,null,null,null,null,null,null,null,null,null,null,null,null,null,null,null,null,null,13.401,4.2210000000000001,17.622,0.30041042977446791,0.60082085954893583,1.0013680992482264E-2,2.0027361984964527E-2,1.7047465087644306E-2,3.4094930175288612E-2]
["SF-01256",{"$f":"VLOOKUP(A409,'Itens ARP 2021'!$A$4:$M$425,6,FALSE)","v":"Misturador para bidê - Linha Residencial"},{"$f":"VLOOKUP(A409,'Itens ARP 2021'!$A$4:$M$425,8,FALSE)","v":15},{"$error":"#N/A"},null,null,null,null,null,{"$f":"0.4*C409","v":6},null,null,null,{"$f":"0.4*C409","v":6},null,null,null,null,null,null,null,null,null,null,null,null,null,null,null,null,null,null,6,6,12,0.2045695810517317,0.40913916210346341,1.3637972070115446E-2,2.7275944140230893E-2,1.7047465087644306E-2,3.4094930175288612E-2]
["SF-01257",{"$f":"VLOOKUP(A410,'Itens ARP 2021'!$A$4:$M$425,6,FALSE)","v":"Misturador de mesa para cozinha bica móvel – Linha Residencial"},{"$f":"VLOOKUP(A410,'Itens ARP 2021'!$A$4:$M$425,8,FALSE)","v":15},{"$error":"#N/A"},null,null,null,null,null,{"$f":"0.0714*C410","v":1.0710000000000002},null,null,null,{"$f":"0.2266*C410","v":3.399},null,null,null,null,null,null,null,null,null,null,null,null,null,null,null,null,null,null,3.399,1.0710000000000002,4.4700000000000006,7.6202168941770052E-2,0.1524043378835401,5.080144596118003E-3,1.0160289192236006E-2,1.7047465087644306E-2,3.4094930175288612E-2]
["SF-01258",{"$f":"VLOOKUP(A411,'Itens ARP 2021'!$A$4:$M$425,6,FALSE)","v":"Misturador de mesa para lavatório bica alta – Linha Residencial"},{"$f":"VLOOKUP(A411,'Itens ARP 2021'!$A$4:$M$425,8,FALSE)","v":15},{"$error":"#N/A"},null,null,null,null,null,{"$f":"0.146*C411","v":2.19},null,null,null,{"$f":"0.4633*C411","v":6.9494999999999996},null,null,null,null,null,null,null,null,null,null,null,null,null,null,null,null,null,null,6.9494999999999996,2.19,9.1395,0.15580530716852511,0.31161061433705023,1.0387020477901675E-2,2.077404095580335E-2,1.7047465087644306E-2,3.4094930175288612E-2]
["SF-01259",{"$f":"VLOOKUP(A412,'Itens ARP 2021'!$A$4:$M$425,6,FALSE)","v":"Misturador de parede para cozinha – Linha Residencial"},{"$f":"VLOOKUP(A412,'Itens ARP 2021'!$A$4:$M$425,8,FALSE)","v":15},{"$error":"#N/A"},null,null,null,null,null,{"$f":"0.0714*C412","v":1.0710000000000002},null,null,null,{"$f":"0.2266*C412","v":3.399},null,null,null,null,null,null,null,null,null,null,null,null,null,null,null,null,null,null,3.399,1.0710000000000002,4.4700000000000006,7.6202168941770052E-2,0.1524043378835401,5.080144596118003E-3,1.0160289192236006E-2,1.7047465087644306E-2,3.4094930175288612E-2]
["SF-01261",{"$f":"VLOOKUP(A413,'Itens ARP 2021'!$A$4:$M$425,6,FALSE)","v":"Luminária tipo arandela – Linha Residencial"},{"$f":"VLOOKUP(A413,'Itens ARP 2021'!$A$4:$M$425,8,FALSE)","v":25},{"$error":"#N/A"},null,null,null,null,null,null,null,{"$f":"0.4732*C413","v":11.83},null,null,null,null,null,null,null,{"$f":"0.1972*C413","v":4.93},null,null,null,null,null,null,null,null,null,null,null,null,11.83,4.93,16.759999999999998,0.28571551486891855,0.5714310297378371,1.1428620594756743E-2,2.2857241189513485E-2,1.7047465087644306E-2,3.4094930175288612E-2]
["SF-01262",{"$f":"VLOOKUP(A414,'Itens ARP 2021'!$A$4:$M$425,6,FALSE)","v":"Tê misturador de transição 1/2\" ou 3/4\" – Linha Residencial"},{"$f":"VLOOKUP(A414,'Itens ARP 2021'!$A$4:$M$425,8,FALSE)","v":20},{"$error":"#N/A"},null,null,null,null,null,{"$f":"0.172*C414","v":3.4399999999999995},null,null,null,{"$f":"0.172*C414","v":3.4399999999999995},null,null,null,null,null,null,null,null,null,null,null,null,null,null,null,null,null,null,3.4399999999999995,3.4399999999999995,6.879999999999999,0.11728655980299282,0.23457311960598565,5.864327990149641E-3,1.1728655980299282E-2,1.7047465087644306E-2,3.4094930175288612E-2]
["SF-01263",{"$f":"VLOOKUP(A415,'Itens ARP 2021'!$A$4:$M$425,6,FALSE)","v":"Base para válvula de descarga 1 1/2"},{"$f":"VLOOKUP(A415,'Itens ARP 2021'!$A$4:$M$425,8,FALSE)","v":10},{"$error":"#N/A"},null,null,null,null,null,{"$f":"0.789*C415","v":7.8900000000000006},null,null,null,{"$f":"0.789*C415","v":7.8900000000000006},null,null,null,null,null,null,null,null,null,null,null,null,null,null,null,null,null,null,7.8900000000000006,7.8900000000000006,15.780000000000001,0.26900899908302717,0.53801799816605433,2.6900899908302717E-2,5.3801799816605433E-2,1.7047465087644306E-2,3.4094930175288612E-2]
["SF-01264",{"$f":"VLOOKUP(A416,'Itens ARP 2021'!$A$4:$M$425,6,FALSE)","v":"Base para válvula de descarga 1 1/4"},{"$f":"VLOOKUP(A416,'Itens ARP 2021'!$A$4:$M$425,8,FALSE)","v":10},{"$error":"#N/A"},null,null,null,null,null,{"$f":"0.789*C416","v":7.8900000000000006},null,null,null,{"$f":"0.789*C416","v":7.8900000000000006},null,null,null,null,null,null,null,null,null,null,null,null,null,null,null,null,null,null,7.8900000000000006,7.8900000000000006,15.780000000000001,0.26900899908302717,0.53801799816605433,2.6900899908302717E-2,5.3801799816605433E-2,1.7047465087644306E-2,3.4094930175288612E-2]
["SF-01265",{"$f":"VLOOKUP(A417,'Itens ARP 2021'!$A$4:$M$425,6,FALSE)","v":"Anel de Vedação para bacia sanitária"},10,{"$error":"#N/A"},null,null,null,null,null,{"$f":"0.3495*C417","v":3.4949999999999997},null,null,null,{"$f":"0.4968*C417","v":4.968},null,null,null,null,null,null,null,null,null,null,null,null,null,null,null,null,null,null,4.968,3.4949999999999997,8.4629999999999992,0.14427269703673379,0.28854539407346758,1.4427269703673378E-2,2.8854539407346756E-2,1.7047465087644306E-2,3.4094930175288612E-2]
["SF-01266",{"$f":"VLOOKUP(A418,'Itens ARP 2021'!$A$4:$M$425,6,FALSE)","v":"Folha de porta em madeira e MDF 2,10x0,60m, com ou sem bandeira, e dobradiças"},{"$f":"VLOOKUP(A418,'Itens ARP 2021'!$A$4:$M$425,8,FALSE)","v":10},{"$error":"#N/A"},null,null,null,null,null,{"$f":"0.966*C418","v":9.66},null,null,null,null,null,null,null,null,null,null,null,null,null,null,null,null,null,null,null,{"$f":"1.282*C418","v":12.82},null,null,12.82,9.66,22.48,{"$f":"C418*AL418","v":0.38322701517024405},{"$f":"C418*AM418","v":0.76645403034048809},3.8322701517024403E-2,7.6645403034048806E-2,1.7047465087644306E-2,3.4094930175288612E-2]
["SF-01267",{"$f":"VLOOKUP(A419,'Itens ARP 2021'!$A$4:$M$425,6,FALSE)","v":"Folha de porta em madeira e MDF 2,10x0,70m, com ou sem bandeira, e dobradiças"},{"$f":"VLOOKUP(A419,'Itens ARP 2021'!$A$4:$M$425,8,FALSE)","v":20},{"$error":"#N/A"},null,null,null,null,null,{"$f":"1.207*C419","v":24.14},null,null,null,null,null,null,null,null,null,null,null,null,null,null,null,null,null,null,null,{"$f":"1.546*C419","v":30.92},null,null,30.92,24.14,55.06,0.93863342772569558,1.8772668554513912,4.6931671386284776E-2,9.3863342772569552E-2,1.7047465087644306E-2,3.4094930175288612E-2]
["SF-01268",{"$f":"VLOOKUP(A420,'Itens ARP 2021'!$A$4:$M$425,6,FALSE)","v":"Folha de porta em madeira e MDF 2,10x0,80m, com ou sem bandeira, e dobradiças"},{"$f":"VLOOKUP(A420,'Itens ARP 2021'!$A$4:$M$425,8,FALSE)","v":20},{"$error":"#N/A"},null,null,null,null,null,{"$f":"1.086*C420","v":21.720000000000002},null,null,null,null,null,null,null,null,null,null,null,null,null,null,null,null,null,null,null,{"$f":"1.414*C420","v":28.279999999999998},null,null,28.279999999999998,21.720000000000002,50,0.85237325438221534,1.7047465087644307,4.2618662719110766E-2,8.5237325438221531E-2,1.7047465087644306E-2,3.4094930175288612E-2]
["SF-01269",{"$f":"VLOOKUP(A421,'Itens ARP 2021'!$A$4:$M$425,6,FALSE)","v":"Folha de porta em madeira e MDF 2,10x0,90m, com ou sem bandeira, e dobradiças"},{"$f":"VLOOKUP(A421,'Itens ARP 2021'!$A$4:$M$425,8,FALSE)","v":10},{"$error":"#N/A"},null,null,null,null,null,{"$f":"1.327*C421","v":13.27},null,null,null,null,null,null,null,null,null,null,null,null,null,null,null,null,null,null,null,{"$f":"1.678*C421","v":16.78},null,null,16.78,13.27,30.05,0.51227632588371141,1.0245526517674228,5.1227632588371139E-2,0.10245526517674228,1.7047465087644306E-2,3.4094930175288612E-2]
["SF-01270",{"$f":"VLOOKUP(A422,'Itens ARP 2021'!$A$4:$M$425,6,FALSE)","v":"Remoção de boiler"},{"$f":"VLOOKUP(A422,'Itens ARP 2021'!$A$4:$M$425,8,FALSE)","v":15},{"$error":"#N/A"},null,null,null,null,null,{"$f":"0.682*C422","v":10.23},null,null,null,{"$f":"0.682*C422","v":10.23},null,null,null,null,null,null,null,null,null,null,null,null,null,null,null,null,null,null,10.23,10.23,20.46,0.34879113569320253,0.69758227138640505,2.3252742379546835E-2,4.650548475909367E-2,1.7047465087644306E-2,3.4094930175288612E-2]
["SF-01271",{"$f":"VLOOKUP(A423,'Itens ARP 2021'!$A$4:$M$425,6,FALSE)","v":"Remoção de tacos de madeira"},{"$f":"VLOOKUP(A423,'Itens ARP 2021'!$A$4:$M$425,8,FALSE)","v":200},{"$error":"#N/A"},null,null,null,null,null,{"$f":"0.6879*C423","v":137.57999999999998},null,null,null,null,null,null,null,null,null,null,null,null,null,null,null,null,null,null,null,{"$f":"0.3503*C423","v":70.06},null,null,70.06,137.57999999999998,207.64,3.5397356507984639,7.0794713015969277,1.7698678253992319E-2,3.5397356507984638E-2,1.7047465087644306E-2,3.4094930175288612E-2]
["SF-01272",{"$f":"VLOOKUP(A424,'Itens ARP 2021'!$A$4:$M$425,6,FALSE)","v":"Cerâmica 30x60cm- Glacier White - Portobello – Linha Residencial"},{"$f":"VLOOKUP(A424,'Itens ARP 2021'!$A$4:$M$425,8,FALSE)","v":100},{"$error":"#N/A"},null,null,null,null,null,{"$f":"0.25*C424","v":25},null,null,{"$f":"0.61*C424","v":61},null,null,null,null,null,null,null,null,null,null,null,null,null,null,null,null,null,null,null,61,25,86,1.4660819975374102,2.9321639950748204,1.4660819975374103E-2,2.9321639950748206E-2,1.7047465087644306E-2,3.4094930175288612E-2]
["SF-01273",{"$f":"VLOOKUP(A425,'Itens ARP 2021'!$A$4:$M$425,6,FALSE)","v":"Instalação de tacos de madeira reaproveitados"},{"$f":"VLOOKUP(A425,'Itens ARP 2021'!$A$4:$M$425,8,FALSE)","v":150},{"$error":"#N/A"},null,null,null,null,null,{"$f":"0.35*C425","v":52.5},null,null,null,null,null,null,null,null,null,null,null,null,null,null,null,null,null,null,null,{"$f":"0.5*C425","v":75},null,null,75,52.5,127.5,2.1735517986746489,4.3471035973492977,1.449034532449766E-2,2.8980690648995319E-2,1.7047465087644306E-2,3.4094930175288612E-2]
["SF-01274",{"$f":"VLOOKUP(A426,'Itens ARP 2021'!$A$4:$M$425,6,FALSE)","v":"Cortina de linho sintético / BLECAUTE COM VARÃO – Linha Residencial"},{"$f":"VLOOKUP(A426,'Itens ARP 2021'!$A$4:$M$425,8,FALSE)","v":65},{"$error":"#N/A"},null,null,null,null,null,null,null,null,null,null,null,null,null,null,null,null,null,null,null,null,null,null,null,null,null,null,{"$f":"1.33*C426","v":86.45},{"$f":"1.093*C426","v":71.045000000000002},86.45,71.045000000000002,157.495,2.6848905139785399,5.3697810279570799,4.1306007907362156E-2,8.2612015814724313E-2,1.7047465087644306E-2,3.4094930175288612E-2]
["SF-01275",{"$f":"VLOOKUP(A427,'Itens ARP 2021'!$A$4:$M$425,6,FALSE)","v":"Cortina de linho sintético / BLECAUTE SEM VARÃO – Linha Residencial"},{"$f":"VLOOKUP(A427,'Itens ARP 2021'!$A$4:$M$425,8,FALSE)","v":65},{"$error":"#N/A"},null,null,null,null,null,null,null,null,null,null,null,null,null,null,null,null,null,null,null,null,null,null,null,null,null,null,86.45,71.045000000000002,86.45,71.045000000000002,157.495,2.6848905139785399,5.3697810279570799,4.1306007907362156E-2,8.2612015814724313E-2,1.7047465087644306E-2,3.4094930175288612E-2]
["SF-01276",{"$f":"VLOOKUP(A428,'Itens ARP 2021'!$A$4:$M$425,6,FALSE)","v":"Cortina de linho sintético / FORRO COM VARÃO – Linha Residencial"},{"$f":"VLOOKUP(A428,'Itens ARP 2021'!$A$4:$M$425,8,FALSE)","v":50},{"$error":"#N/A"},null,null,null,null,null,null,null,null,null,null,null,null,null,null,null,null,null,null,null,null,null,null,null,null,null,null,66.5,54.65,66.5,54.65,121.15,2.0653003953681077,4.1306007907362154,4.1306007907362156E-2,8.2612015814724313E-2,1.7047465087644306E-2,3.4094930175288612E-2]
["SF-01277",{"$f":"VLOOKUP(A429,'Itens ARP 2021'!$A$4:$M$425,6,FALSE)","v":"Cortina de linho sintético / FORRO SEM VARÃO – Linha Residencial"},{"$f":"VLOOKUP(A429,'Itens ARP 2021'!$A$4:$M$425,8,FALSE)","v":50},{"$error":"#N/A"},null,null,null,null,null,null,null,null,null,null,null,null,null,null,null,null,null,null,null,null,null,null,null,null,null,null,66.5,54.65,66.5,54.65,121.15,2.0653003953681077,4.1306007907362154,4.1306007907362156E-2,8.2612015814724313E-2,1.7047465087644306E-2,3.4094930175288612E-2]
["SF-01278",{"$f":"VLOOKUP(A430,'Itens ARP 2021'!$A$4:$M$425,6,FALSE)","v":"Instalação de cortinas reaproveitadas"},{"$f":"VLOOKUP(A430,'Itens ARP 2021'!$A$4:$M$425,8,FALSE)","v":50},{"$error":"#N/A"},null,null,null,null,null,null,null,null,null,null,null,null,null,null,null,null,null,null,null,null,null,null,null,null,null,null,66.5,54.65,66.5,54.65,121.15,2.0653003953681077,4.1306007907362154,4.1306007907362156E-2,8.2612015814724313E-2,1.7047465087644306E-2,3.4094930175288612E-2]
["SF-01279",{"$f":"VLOOKUP(A431,'Itens ARP 2021'!$A$4:$M$425,6,FALSE)","v":"Tubo CPVC soldável 22mm – Linha Residencial"},{"$f":"VLOOKUP(A431,'Itens ARP 2021'!$A$4:$M$425,8,FALSE)","v":40},{"$error":"#N/A"},null,null,null,null,null,{"$f":"0.103*C431","v":4.12},null,null,null,{"$f":"0.103*C431","v":4.12},null,null,null,null,null,null,null,null,null,null,null,null,null,null,null,null,53.2,43.72,57.32,47.839999999999996,105.16,1.7927114286166754,3.5854228572333509,4.4817785715416884E-2,8.9635571430833769E-2,1.7047465087644306E-2,3.4094930175288612E-2]
["SF-01280",{"$f":"VLOOKUP(A432,'Itens ARP 2021'!$A$4:$M$425,6,FALSE)","v":"Tubo CPVC soldável 28mm – Linha Residencial"},{"$f":"VLOOKUP(A432,'Itens ARP 2021'!$A$4:$M$425,8,FALSE)","v":40},{"$error":"#N/A"},null,null,null,null,null,{"$f":"0.122*C432","v":4.88},null,null,null,{"$f":"0.122*C432","v":4.88},null,null,null,null,null,null,null,null,null,null,null,null,null,null,null,null,null,null,4.88,4.88,9.76,0.16638325925540842,0.33276651851081684,4.1595814813852102E-3,8.3191629627704204E-3,1.7047465087644306E-2,3.4094930175288612E-2]
["SF-01281",{"$f":"VLOOKUP(A433,'Itens ARP 2021'!$A$4:$M$425,6,FALSE)","v":"Instalação de bidê reaproveitado"},{"$f":"VLOOKUP(A433,'Itens ARP 2021'!$A$4:$M$425,8,FALSE)","v":5},{"$error":"#N/A"},null,null,null,null,null,{"$f":"0.3495*C433","v":1.7474999999999998},null,null,null,{"$f":"0.4968*C433","v":2.484},null,null,null,null,null,null,null,null,null,null,null,null,null,null,null,null,null,null,2.484,1.7474999999999998,4.2314999999999996,7.2136348518366894E-2,0.14427269703673379,1.4427269703673378E-2,2.8854539407346756E-2,1.7047465087644306E-2,3.4094930175288612E-2]
["SF-01282",{"$f":"VLOOKUP(A434,'Itens ARP 2021'!$A$4:$M$425,6,FALSE)","v":"Aquecedor elétrico para pia – Linha Residencial"},{"$f":"VLOOKUP(A434,'Itens ARP 2021'!$A$4:$M$425,8,FALSE)","v":20},{"$error":"#N/A"},null,null,null,null,null,{"$f":"0.65*C434","v":13},null,null,null,{"$f":"0.65*C434","v":13},null,null,null,null,null,null,null,null,null,null,null,null,null,null,null,null,null,null,13,13,26,0.44323409227875199,0.88646818455750398,2.2161704613937599E-2,4.4323409227875199E-2,1.7047465087644306E-2,3.4094930175288612E-2]
["SF-01283",{"$f":"VLOOKUP(A435,'Itens ARP 2021'!$A$4:$M$425,6,FALSE)","v":"Chuveiro elétrico – Linha Residencial"},{"$f":"VLOOKUP(A435,'Itens ARP 2021'!$A$4:$M$425,8,FALSE)","v":40},{"$error":"#N/A"},null,null,null,null,null,{"$f":"0.1407*C435","v":5.6280000000000001},null,null,null,{"$f":"0.4467*C435","v":17.867999999999999},null,null,null,null,null,null,null,null,null,null,null,null,null,null,null,null,null,null,17.867999999999999,5.6280000000000001,23.495999999999999,0.40054723969929051,0.80109447939858103,1.0013680992482264E-2,2.0027361984964527E-2,1.7047465087644306E-2,3.4094930175288612E-2]
["SF-01284",{"$f":"VLOOKUP(A436,'Itens ARP 2021'!$A$4:$M$425,6,FALSE)","v":"Instalação de boiler reaproveitado"},{"$f":"VLOOKUP(A436,'Itens ARP 2021'!$A$4:$M$425,8,FALSE)","v":10},{"$error":"#N/A"},null,null,null,null,null,{"$f":"0.65*C436","v":6.5},null,null,null,{"$f":"0.65*C436","v":6.5},null,null,null,null,null,null,null,null,null,null,null,null,null,null,null,null,null,null,6.5,6.5,13,0.22161704613937599,0.44323409227875199,2.2161704613937599E-2,4.4323409227875199E-2,1.7047465087644306E-2,3.4094930175288612E-2]
["SF-01285",{"$f":"VLOOKUP(A437,'Itens ARP 2021'!$A$4:$M$425,6,FALSE)","v":"Prateleira – Linha Residencial"},{"$f":"VLOOKUP(A437,'Itens ARP 2021'!$A$4:$M$425,8,FALSE)","v":40},{"$error":"#N/A"},null,null,null,null,null,{"$f":"0.0996*C437","v":3.984},null,null,null,{"$f":"0.3162*C437","v":12.648},null,null,null,null,null,null,null,null,null,null,null,null,null,null,null,null,null,null,12.648,3.984,16.631999999999998,0.28353343933770003,0.56706687867540007,7.0883359834425013E-3,1.4176671966885003E-2,1.7047465087644306E-2,3.4094930175288612E-2]
["SF-01286",{"$f":"VLOOKUP(A438,'Itens ARP 2021'!$A$4:$M$425,6,FALSE)","v":"Saboneteira – Linha Residencial"},{"$f":"VLOOKUP(A438,'Itens ARP 2021'!$A$4:$M$425,8,FALSE)","v":40},{"$error":"#N/A"},null,null,null,null,null,{"$f":"0.0996*C438","v":3.984},null,null,null,{"$f":"0.3162*C438","v":12.648},null,null,null,null,null,null,null,null,null,null,null,null,null,null,null,null,null,null,12.648,3.984,16.631999999999998,0.28353343933770003,0.56706687867540007,7.0883359834425013E-3,1.4176671966885003E-2,1.7047465087644306E-2,3.4094930175288612E-2]
["SF-01287",{"$f":"VLOOKUP(A439,'Itens ARP 2021'!$A$4:$M$425,6,FALSE)","v":"Módulo campainha eletrônica – Linha Residencial"},{"$f":"VLOOKUP(A439,'Itens ARP 2021'!$A$4:$M$425,8,FALSE)","v":15},{"$error":"#N/A"},null,null,null,null,null,null,null,{"$f":"0.225*C439","v":3.375},null,null,null,null,null,null,null,{"$f":"0.225*C439","v":3.375},null,null,null,null,null,null,null,null,null,null,null,null,3.375,3.375,6.75,0.11507038934159908,0.23014077868319816,7.6713592894399382E-3,1.5342718578879876E-2,1.7047465087644306E-2,3.4094930175288612E-2]
["SF-01288",{"$f":"VLOOKUP(A440,'Itens ARP 2021'!$A$4:$M$425,6,FALSE)","v":"Módulo pulsador – Linha Residencial"},{"$f":"VLOOKUP(A440,'Itens ARP 2021'!$A$4:$M$425,8,FALSE)","v":15},{"$error":"#N/A"},null,null,null,null,null,null,null,{"$f":"0.225*C440","v":3.375},null,null,null,null,null,null,null,{"$f":"0.225*C440","v":3.375},null,null,null,null,null,null,null,null,null,null,null,null,3.375,3.375,6.75,0.11507038934159908,0.23014077868319816,7.6713592894399382E-3,1.5342718578879876E-2,1.7047465087644306E-2,3.4094930175288612E-2]
["SF-01289",{"$f":"VLOOKUP(A441,'Itens ARP 2021'!$A$4:$M$425,6,FALSE)","v":"Luminária redonda de sobrepor (plafond) – Linha Residencial"},{"$f":"VLOOKUP(A441,'Itens ARP 2021'!$A$4:$M$425,8,FALSE)","v":40},{"$error":"#N/A"},null,null,null,null,null,null,null,{"$f":"0.5355*C441","v":21.419999999999998},null,null,null,null,null,null,null,{"$f":"0.2231*C441","v":8.9239999999999995},null,null,null,null,null,null,null,null,null,null,null,null,21.419999999999998,8.9239999999999995,30.343999999999998,0.51728828061947885,1.0345765612389577,1.293220701548697E-2,2.5864414030973941E-2,1.7047465087644306E-2,3.4094930175288612E-2]
["SF-01290",{"$f":"VLOOKUP(A442,'Itens ARP 2021'!$A$4:$M$425,6,FALSE)","v":{"$error":"#N/A"}},{"$f":"VLOOKUP(A442,'Itens ARP 2021'!$A$4:$M$425,8,FALSE)","v":{"$error":"#N/A"}},{"$error":"#N/A"},null,null,null,null,null,null,null,{"$f":"0.3769*C442","v":{"$error":"#N/A"}},null,null,null,null,null,null,null,{"$f":"0.3769*C442","v":{"$error":"#N/A"}},null,null,null,null,null,null,null,null,null,null,null,null,{"$error":"#N/A"},{"$error":"#N/A"},{"$error":"#N/A"},0,0,0,0,1.7047465087644306E-2,3.4094930175288612E-2]
["SF-01291",{"$f":"VLOOKUP(A443,'Itens ARP 2021'!$A$4:$M$425,6,FALSE)","v":"Armário em MDF laminado com porta e módulo de gaveta – Linha Residencial"},{"$f":"VLOOKUP(A443,'Itens ARP 2021'!$A$4:$M$425,8,FALSE)","v":300},{"$error":"#N/A"},null,null,null,null,null,{"$f":"0.23*C443","v":69},null,null,null,null,null,null,null,null,null,null,null,null,null,null,null,null,null,null,null,{"$f":"0.46*C443","v":138},null,null,138,69,207,0,0,0,0,1.7047465087644306E-2,3.4094930175288612E-2]
["SF-01253",{"$f":"VLOOKUP(A444,'Itens ARP 2021'!$A$4:$M$425,6,FALSE)","v":"Divisória de Vidro temperado para box de correr e ferragens – Linha Residencial"},{"$f":"VLOOKUP(A444,'Itens ARP 2021'!$A$4:$M$425,8,FALSE)","v":25},{"$error":"#N/A"},null,null,null,null,null,{"$f":"0.5*C444","v":12.5},null,null,null,null,null,null,null,null,null,null,null,{"$f":"0.5*C444","v":12.5},null,null,null,null,null,null,null,null,null,null,12.5,12.5,25,0,0,0,0,1.7047465087644306E-2,3.4094930175288612E-2]
["SF-01254",{"$f":"VLOOKUP(A445,'Itens ARP 2021'!$A$4:$M$425,6,FALSE)","v":"Divisória de Vidro temperado para box com porta de giro e ferragens – Linha Residencial"},{"$f":"VLOOKUP(A445,'Itens ARP 2021'!$A$4:$M$425,8,FALSE)","v":25},{"$error":"#N/A"},null,null,null,null,null,{"$f":"0.5*C445","v":12.5},null,null,null,null,null,null,null,null,null,null,null,{"$f":"0.5*C445","v":12.5},null,null,null,null,null,null,null,null,null,null,12.5,12.5,25,0,0,0,0,1.7047465087644306E-2,3.4094930175288612E-2]
["Totais",null,null,null,{"$f":"SUM(E3:E445)","v":2810.6906765683475},{"$f":"SUM(F3:F445)","v":5621.381353136695},{"$error":"#N/A"},200,133740.23789999995,{"$error":"#N/A"},470.45555555555558,{"$error":"#N/A"},370.87,{"$error":"#N/A"},46959.571999999986,1331.6636999999998,6899.5,{"$error":"#N/A"},{"$error":"#N/A"},{"$error":"#N/A"},6103.2,{"$error":"#N/A"},256.5,476.91999999999996,5609.4,3398.7028000000005,29.299999999999997,266,123326.7,780.8599999999999,702.17499999999995,626.33500000000004,{"$f":"SUMIF(AG3:AG400,\">0\")","v":246050.41328888902},{"$f":"SUMIF(AH3:AH400,\">0\")","v":195998.57043333343},{"$f":"SUMIF(AI3:AI400,\">0\")","v":442048.9837222225},{"$f":"SUM(AJ5:AJ445)","v":{"$error":"#N/A"}},{"$f":"SUM(AK5:AK445)","v":{"$error":"#N/A"}},{"$f":"AVERAGEIF(AL3:AL445,\">0\")","v":3.5333918164840841E-2},{"$f":"AVERAGEIF(AM3:AM445,\">0\")","v":7.0667836329681682E-2},{"$f":"AVERAGEIF(AN3:AN445,\">0\")","v":2.7142705343302788E-3},{"$f":"AVERAGEIF(AO3:AO445,\">0\")","v":5.4285410686605575E-3}]
[]
[null,"Cálculo do prazo da obra","Jornada=",null,8,"h/dia"]
[]
[null,"Categoria profissional","Hh",null,"Efetivo","Dias"]
[null,"Profissional",{"$f":"SUM(I446,K446,L446,M446,N446,O446,R446,S446,U446,V446,X446,Y446,AA446,AB446,AD446,AE446)","v":{"$error":"#N/A"}},null,3,{"$f":"C451/E451","v":{"$error":"#N/A"}}]
[null,"Ajudante / Auxiliar / 1/2 Oficial / Servente",{"$f":"SUM(P446,Q446,T446,W446,Z446,AC446,AF446)+J446","v":{"$error":"#N/A"}},null,{"$f":"2*E451","v":6},{"$f":"C452/E452","v":{"$error":"#N/A"}}]
[]
[]
[null,"Prazo",{"$f":"MAX(F451:F452)","v":{"$error":"#N/A"}},null,"dias"]
[]
[null,"MO indireta (estimativa antiga)","Hh"]
[null,"Mestre de obras",{"$f":"20%*E448*C455","v":{"$error":"#N/A"}}]
[null,"Engenheiro",{"$f":"50%*C458","v":{"$error":"#N/A"}}]

{"sheet":"Serviços de Engenharia","index":2,"n_rows":410,"n_cols":11,"rows_kept":410,"cut":false,"hidden":false,"merged":[]}
["SUBITEM","GRANDE ÁREA","CATEGORIA","DISCRIMINAÇÃO","UN","QUANT. TOTAL","PREÇO UNITÁRIO  (R$)"," CUSTO DIRETO "," BDI (%) ","PREÇO UNITÁRIO COM BDI (R$)"," CUSTO TOTAL "]
["SF-00001","Serviços de Apoio","Serviços Técnicos","Engenheiro(a) /Arquiteto(a) júnior","hh",3000,82.934999999999988,248805,0.191,98.78,296340]
["SF-00002","Serviços de Apoio","Serviços Técnicos","Mestre de obras","hh",6000,25.972999999999999,155838,0.191,30.93,185580]
["SF-00004","Serviços de Apoio","Serviços Técnicos","Projetos de segurança do trabalho","un",10,2125.39,21253.9,0.191,2531.34,25313.4]
["SF-00005","Serviços de Apoio","Serviços Preliminares","Demolição de alvenarias","m3",100,42.1447322,4214.47,0.191,50.19,5019]
["SF-00006","Serviços de Apoio","Serviços Preliminares","Demolição de concreto simples","m3",20,236.57659999999998,4731.53,0.191,281.76,5635.2]
["SF-00007","Serviços de Apoio","Serviços Preliminares","Demolição de contrapiso","m2",400,11.218549999999999,4487.42,0.191,13.36,5344]
["SF-00008","Serviços de Apoio","Serviços Preliminares","Demolição de fechamento ou parede em gesso acartonado","m2",200,5.7009167499999993,1140.18,0.191,6.79,1358]
["SF-00009","Serviços de Apoio","Serviços Preliminares","Demolição de forro de gesso","m2",3000,1.2407332499999999,3722.2,0.191,1.48,4440]
["SF-00010","Serviços de Apoio","Serviços Preliminares","Demolição de infraestrutura elétrica (eletrodutos, eletrocalhas, cabos)","m",4000,2.5584829999999998,10233.93,0.191,3.05,12200]
["SF-00011","Serviços de Apoio","Serviços Preliminares","Demolição de revestimento cerâmico, granito, mármore ou granitina","m2",340,9.3210352000000007,3169.15,0.191,11.1,3774]
["SF-00012","Serviços de Apoio","Serviços Preliminares","Demolição de revestimento em argamassa","m2",1000,2.4998062499999998,2499.81,0.191,2.98,2980]
["SF-00013","Serviços de Apoio","Serviços Preliminares","Demolição de tubulação hidrossanitária embutida com conexões e acessórios","m",100,0.37566135,37.57,0.191,0.45,45]
["SF-00014","Serviços de Apoio","Serviços Preliminares","Demolição em concreto armado","m3",10,212.41722125000001,2124.17,0.191,252.99,2529.9]
["SF-00015","Serviços de Apoio","Serviços Preliminares","Locação de caçambas","un",110,320.5,35255,0.11260000000000001,356.59,39224.9]
["SF-00016","Serviços de Apoio","Serviços Preliminares","Remoção de armários","m2",240,13.173649999999999,3161.68,0.191,15.69,3765.6]
["SF-00017","Serviços de Apoio","Serviços Preliminares","Remoção de bancadas","m2",40,19.284049999999997,771.36,0.191,22.97,918.8]
["SF-00018","Serviços de Apoio","Serviços Preliminares","Remoção de batentes de madeira","un",50,7.27928,363.96,0.191,8.67,433.5]
["SF-00019","Serviços de Apoio","Serviços Preliminares","Remoção de canaleta em alumínio","m",200,4.0477125000000003,809.54,0.191,4.82,964]
["SF-00020","Serviços de Apoio","Serviços Preliminares","Remoção de carpete","m2",300,1.81982,545.95000000000005,0.191,2.17,651]
["SF-00021","Serviços de Apoio","Serviços Preliminares","Remoção de cortinas","m",50,3.1783855499999993,158.91999999999999,0.191,3.79,189.5]
["SF-00022","Serviços de Apoio","Serviços Preliminares","Remoção de difusores, grelhas e acessórios de climatização","un",120,19.892999999999997,2387.16,0.191,23.69,2842.8]
["SF-00023","Serviços de Apoio","Serviços Preliminares","Remoção de divisória de mármore ou granito","m2",40,30.078899999999997,1203.1600000000001,0.191,35.82,1432.8]
["SF-00024","Serviços de Apoio","Serviços Preliminares","Remoção de divisórias de MDF e gesso acartonado","m2",1500,25.934999999999999,38902.5,0.191,30.89,46335]
["SF-00025","Serviços de Apoio","Serviços Preliminares","Remoção de dutos/tubulações","m",1500,8.5369374999999987,12805.41,0.191,10.17,15255]
["SF-00026","Serviços de Apoio","Serviços Preliminares","Remoção de esquadrias metálicas","m2",70,9.0991,636.94000000000005,0.191,10.84,758.8]
["SF-00027","Serviços de Apoio","Serviços Preliminares","Remoção de exaustor","un",15,6.5749499999999994,98.62,0.191,7.83,117.45]
["SF-00028","Serviços de Apoio","Serviços Preliminares","Remoção de fechadura/puxador de porta","un",101,5.4031250000000002,545.72,0.191,6.44,650.44000000000005]
["SF-00029","Serviços de Apoio","Serviços Preliminares","Remoção de folha de porta e dobradiças","un",82,6.9938278,573.49,0.191,8.33,683.06]
["SF-00030","Serviços de Apoio","Serviços Preliminares","Remoção de laminado melamínico (LDAP), em PVC ou vinílico","m2",1000,16.37838,16378.38,0.191,19.510000000000002,19510]
["SF-00031","Serviços de Apoio","Serviços Preliminares","Remoção de louças","un",80,9.2655789499999983,741.25,0.191,11.04,883.2]
["SF-00032","Serviços de Apoio","Serviços Preliminares","Remoção de luminária","un",500,4.8821164999999995,2441.06,0.191,5.81,2905]
["SF-00033","Serviços de Apoio","Serviços Preliminares","Remoção de metais e acessórios","un",300,6.7565501000000001,2026.97,0.191,8.0500000000000007,2415]
["SF-00034","Serviços de Apoio","Serviços Preliminares","Remoção de painéis de vidro temperado","m2",586,13.210224999999998,7741.19,0.191,15.73,9217.7800000000007]
["SF-00035","Serviços de Apoio","Serviços Preliminares","Remoção de película","m2",196,8.0711999999999993,1581.96,0.191,9.61,1883.56]
["SF-00036","Serviços de Apoio","Serviços Preliminares","Remoção de persianas","m",400,3.1783855499999993,1271.3499999999999,0.191,3.79,1516]
["SF-00037","Serviços de Apoio","Serviços Preliminares","Remoção de pintura ou textura","m2",4000,6.4105999999999996,25642.400000000001,0.191,7.64,30560]
["SF-00038","Serviços de Apoio","Serviços Preliminares","Remoção de placas de forro","m2",500,3.7221997499999997,1861.1,0.191,4.43,2215]
["SF-00039","Serviços de Apoio","Serviços Preliminares","Remoção de quadros de elétricos ou de telecomunicações","un",30,57.223249999999993,1716.7,0.191,68.150000000000006,2044.5]
["SF-00040","Serviços de Apoio","Serviços Preliminares","Remoção de revestimento acústico","m2",300,3.2052999999999998,961.59,0.191,3.82,1146]
["SF-00041","Serviços de Apoio","Serviços Preliminares","Remoção de rodapé/rodabanca de mármore ou granito","m",350,1.4007160999999999,490.25,0.191,1.67,584.5]
["SF-00042","Serviços de Apoio","Serviços Preliminares","Remoção de rodapés de madeira","m2",10,5.7942875000000003,57.94,0.191,6.9,69]
["SF-00043","Serviços de Apoio","Serviços Preliminares","Remoção de soleira de mármore ou granito","m",20,8.8145749999999996,176.29,0.191,10.5,210]
["SF-00044","Serviços de Apoio","Serviços Preliminares","Remoção de split/fancolete/ACJ (equipamento unitário)","un",150,39.833500000000001,5975.03,0.191,47.44,7116]
["SF-00045","Serviços de Apoio","Serviços Preliminares","Remoção de vidro comum / espelho","m2",60,13.294299999999998,797.66,0.191,15.83,949.8]
["SF-00046","Serviços de Apoio","Serviços Preliminares","Retirada de entulhos","m3",410,16.026499999999999,6570.87,0.191,19.09,7826.9]
["SF-00047","Serviços de Apoio","Segurança do Trabalho","Absorvedor de energia para linha de vida","un",5,688.63,3443.15,0.191,820.16,4100.8]
["SF-00048","Serviços de Apoio","Segurança do Trabalho","Andaime fachadeiro","m2 x mês",400,3.7905000000000002,1516.2,0.191,4.51,1804]
["SF-00049","Serviços de Apoio","Segurança do Trabalho","Andaime tubular (aluguel/mês)","m x mês",70,11.399999999999999,798,0.191,13.58,950.6]
["SF-00050","Serviços de Apoio","Segurança do Trabalho","Cabo de aço com 8 mm de diâmetro galvanizado para linha de vida","m",280,19.079999999999998,5342.4,0.191,22.72,6361.6]
["SF-00051","Serviços de Apoio","Segurança do Trabalho","Corda de poliamida 12 mm tipo bombeiro, para trabalho em altura","m",84,4.4197800000000003,371.26,0.191,5.26,441.84]
["SF-00052","Serviços de Apoio","Segurança do Trabalho","Ensaio de ponto de ancoragem existente","un",20,351.79,7035.8,0.11260000000000001,391.4,7828]
["SF-00057","Serviços de Apoio","Segurança do Trabalho","Isolamento de obra com tela plástica com malha de 5mm e estrutura de madeira pontaleteada","m2",200,17.603499999999997,3520.7,0.191,20.97,4194]
["SF-00058","Serviços de Apoio","Segurança do Trabalho","Suporte intermediário curvo para linha de vida","un",5,600,3000,0.191,714.6,3573]
["SF-00060","Serviços de Apoio","Segurança do Trabalho","Kit para montagem de dois olhais","un",5,224.72,1123.5999999999999,0.191,267.64,1338.2]
["SF-00061","Serviços de Apoio","Segurança do Trabalho","Manilha com travamento por porca e cupilha","un",14,67.42,943.88,0.191,80.3,1124.2]
["SF-00062","Serviços de Apoio","Segurança do Trabalho","Pilar de ancoragem para linha de vida","un",14,635.87,8902.18,0.191,757.32,10602.48]
["SF-00065","Serviços de Apoio","Segurança do Trabalho","Placa de ancoragem para montagem no pilar","un",10,224.72,2247.1999999999998,0.191,267.64,2676.4]
["SF-00066","Serviços de Apoio","Segurança do Trabalho","Ponto de ancoragem","un",25,405.54,10138.5,0.11260000000000001,451.2,11280]
["SF-00068","Serviços de Apoio","Segurança do Trabalho","Sistema Guarda-corpo-Rodapé (GcR) metálico","m x mês",280,9,2520,0.11260000000000001,10.01,2802.8]
["SF-00069","Serviços de Apoio","Segurança do Trabalho","Suporte intermediário para linha de vida","un",15,370.5,5557.5,0.191,441.27,6619.05]
["SF-00070","Serviços de Apoio","Segurança do Trabalho","Tapume","m2",300,67.053821499999998,20116.150000000001,0.191,79.86,23958]
["SF-00071","Serviços de Apoio","Segurança do Trabalho","Trole para linha de vida horizontal","un",5,700,3500,0.191,833.7,4168.5]
["SF-00073","Serviços de Apoio","Limpeza","Limpeza final de obra","m2",10000,1.9552329999999998,19552.330000000002,0.191,2.33,23300]
["SF-00074","Civil","Furos, Rasgos e Escariação","Abertura/fechamento rasgo em alvenaria","m",3000,16.031945885098498,48095.839999999997,0.191,19.09,57270]
["SF-00075","Civil","Furos, Rasgos e Escariação","Furo em concreto de até 75mm de diâmetro","un",25,80.310653500000001,2007.77,0.191,95.65,2391.25]
["SF-00076","Civil","Furos, Rasgos e Escariação","Furo em concreto para diâmetros maiores que 75mm","un",40,102.57397949999998,4102.96,0.191,122.17,4886.8]
["SF-00077","Civil","Estrutural","Concreto virado em betoneira, fck = 15 MPa","m3",10,522.69809391640001,5226.9799999999996,0.191,622.53,6225.3]
["SF-00078","Civil","Estrutural","Concreto virado em betoneira, fck = 25MPa","m3",10,553.16769687859994,5531.68,0.191,658.82,6588.2]
["SF-00079","Civil","Estrutural","Escoramento metálico","m2 x mês",100,12.122475,1212.25,0.191,14.44,1444]
["SF-00081","Civil","Estrutural","Forma para estruturas de concreto","m2",100,111.59962474,11159.96,0.191,132.91999999999999,13292]
["SF-00082","Civil","Estrutural","Verga/contraverga/cinta em bloco de concreto canaleta 11,5 x 19 x 39 cm","m",50,25.579284717,1278.96,0.191,30.46,1523]
["SF-00083","Civil","Impermeabilização","Impermeabilização de superfície com revestimento bicomponente semi flexível","m2",500,21.060625999999999,10530.31,0.191,25.08,12540]
["SF-00084","Civil","Vedações","Alvenaria de vedação","m2",500,65.240160383158809,32620.080000000002,0.191,77.7,38850]
["SF-00085","Civil","Vedações","Fechamento ou shaft em gesso acartonado tipo drywall","m2",50,47.762047049999993,2388.1,0.191,56.88,2844]
["SF-00086","Civil","Vedações","Fixação (encunhamento) de Alvenaria de Vedação","m",300,22.012979986007597,6603.89,0.191,26.22,7866]
["SF-00087","Civil","Vedações","Parede em gesso acartonado (drywall)","m2",1000,75.859881650000005,75859.88,0.191,90.35,90350]
["SF-00088","Civil","Vedações","Reparos superficiais em painéis de gesso acartonado","m2",20,5.386325199999999,107.73,0.191,6.42,128.4]
["SF-00089","Civil","Vedações","Sóculo h=10 cm","m2",40,69.784052761340178,2791.36,0.191,83.11,3324.4]
["SF-00090","Civil","Revestimentos","Chapisco colante industrializado em vigas e pilares","m2",40,8.791489962,351.66,0.191,10.47,418.8]
["SF-00091","Civil","Revestimentos","Chapisco com argamassa traço 1:3","m2",1000,3.7755318481118003,3775.53,0.191,4.5,4500]
["SF-00092","Civil","Revestimentos","Gesso cola","m2",440,12.874620000000002,5664.83,0.191,15.33,6745.2]
["SF-00093","Civil","Revestimentos","Reboco com argamassa industrializada e=2,0 cm","m2",1000,32.783669699999997,32783.67,0.191,39.049999999999997,39050]
["SF-00094","Civil","Revestimentos","Regularização com argamassa industrializada e=0,5 cm","m2",200,11.376856574999998,2275.37,0.191,13.55,2710]
["SF-00095","Civil","Revestimentos","Tratamento de trincas superficiais","m",100,21.897359399999999,2189.7399999999998,0.191,26.08,2608]
["SF-00096","Civil","Pinturas","Aplicação de fundo selador base água","m2",5400,4.0886874999999998,22078.91,0.191,4.87,26298]
["SF-00097","Civil","Pinturas","Fundo anticorrosivo e de aderência (base água)","m2",400,15.035907600000002,6014.36,0.191,17.91,7164]
["SF-00098","Civil","Pinturas","Massa acrílica","m2",1000,16.278145500000001,16278.15,0.191,19.39,19390]
["SF-00099","Civil","Pinturas","Massa corrida","m2",3000,12.635437000000001,37906.31,0.191,15.05,45150]
["SF-00100","Civil","Pinturas","Pintura com tinta látex acrílica Premium (paredes)","m2",9000,11.9082025,107173.82,0.191,14.18,127620]
["SF-00101","Civil","Pinturas","Pintura em verniz sintético","m2",300,18.074149999999999,5422.25,0.191,21.53,6459]
["SF-00102","Civil","Pinturas","Pintura esmalte acetinado (metais e madeiras)","m2",500,16.419059999999998,8209.5300000000007,0.191,19.559999999999999,9780]
["SF-00103","Civil","Pinturas","Pintura tinta látex acrílica standard (tetos)","m2",6000,13.526166499999999,81157,0.191,16.11,96660]
["SF-00104","Civil","Pisos, Revestimentos e Pavimentação","Cerâmica para revestimento de superfícies internas ou externas – Linha Administrativa","m2",150,63.039529999999999,9455.93,0.191,75.08,11262]
["SF-00105","Civil","Pisos, Revestimentos e Pavimentação","Contrapiso em argamassa","m2",60,45.251820981167484,2715.11,0.191,53.89,3233.4]
["SF-00106","Civil","Pisos, Revestimentos e Pavimentação","Contrapiso em argamassa (e=2cm) ou Regularização de contrapiso existente","m2",550,30.979045055022489,17038.47,0.191,36.9,20295]
["SF-00107","Civil","Pisos, Revestimentos e Pavimentação","Granito cinza andorinha para piso","m2",800,220.63083899999998,176504.67,0.191,262.77,210216]
["SF-00108","Civil","Pisos, Revestimentos e Pavimentação","Granito Cinza Andorinha para rodapé","m2",200,604.33917100000008,120867.83,0.191,719.77,143954]
["SF-00109","Civil","Pisos, Revestimentos e Pavimentação","Granito Cinza Andorinha para soleira e peitoril","m2",20,407.74767195000004,8154.95,0.191,485.63,9712.6]
["SF-00110","Civil","Pisos, Revestimentos e Pavimentação","Granito Preto São Gabriel para piso","m2",30,299.696439,8990.89,0.191,356.94,10708.2]
["SF-00111","Civil","Pisos, Revestimentos e Pavimentação","Granito Preto São Gabriel para rodapé","m2",3,667.59422099999995,2002.78,0.191,795.1,2385.3000000000002]
["SF-00112","Civil","Pisos, Revestimentos e Pavimentação","Granito Preto São Gabriel para soleira e peitoril","m2",2,465.88129594999998,931.76,0.191,554.86,1109.72]
["SF-00113","Civil","Pisos, Revestimentos e Pavimentação","Instalação de rodapé de madeira reaproveitado","m",70,12.253292850000001,857.73,0.191,14.59,1021.3]
["SF-00114","Civil","Pisos, Revestimentos e Pavimentação","Mármore Bege Bahia para piso e parede","m2",10,276.90243899999996,2769.02,0.191,329.79,3297.9]
["SF-00115","Civil","Pisos, Revestimentos e Pavimentação","Mármore Branco Especial para piso e parede","m2",40,378.54163899999998,15141.67,0.191,450.84,18033.599999999999]
["SF-00116","Civil","Pisos, Revestimentos e Pavimentação","Rodapé de madeira","m",70,22.213615349999998,1554.95,0.191,26.46,1852.2]
["SF-00117","Civil","Mármores e Granitos","Acabamento abaulado em placas de granito ou mármore reaproveitadas","m",20,36.157000000000004,723.14,0.191,43.06,861.2]
["SF-00118","Civil","Mármores e Granitos","Acabamento em meia esquadria em placas de granito ou mármore reaproveitadas","m",20,31.637375000000002,632.75,0.191,37.68,753.6]
["SF-00119","Civil","Mármores e Granitos","Acabamento reto em placas de granito ou mármore reaproveitadas","m",20,18.078500000000002,361.57,0.191,21.53,430.6]
["SF-00120","Civil","Mármores e Granitos","Corte de peça de granito ou mármore reaproveitada","m",20,22.598125000000003,451.96,0.191,26.91,538.20000000000005]
["SF-00121","Civil","Mármores e Granitos","Corte em placas de granito ou mármore reaproveitadas, para instalação de cubas","un",20,69.597000000000008,1391.94,0.191,82.89,1657.8]
["SF-00122","Civil","Mármores e Granitos","Furo em placas de granito ou mármore reaproveitadas, para instalação de torneira ou misturador","un",20,10.430999999999999,208.62,0.191,12.42,248.4]
["SF-00123","Civil","Mármores e Granitos","Granito Cinza Andorinha 20mm para rodabancada","m2",120,373.52408485000007,44822.89,0.191,444.87,53384.4]
["SF-00124","Civil","Mármores e Granitos","Granito Cinza Andorinha 20mm para bancadas","m2",50,367.49330239999995,18374.669999999998,0.191,437.68,21884]
["SF-00125","Civil","Mármores e Granitos","Granito Cinza Andorinha 20mm para divisória","m2",100,367.55293051684077,36755.29,0.191,437.76,43776]
["SF-00126","Civil","Mármores e Granitos","Granito Preto São Gabriel 20mm para rodabancada","m2",30,428.64381985000006,12859.31,0.191,510.51,15315.3]
["SF-00127","Civil","Mármores e Granitos","Granito Preto São Gabriel 20mm para bancadas","m2",8,464.18835540000003,3713.51,0.191,552.85,4422.8]
["SF-00128","Civil","Mármores e Granitos","Instalação de bancada de granito ou mármore reaproveitada","m2",30,96.470212399999994,2894.11,0.191,114.9,3447]
["SF-00129","Civil","Mármores e Granitos","Instalação de rodapé reaproveitado, de mármore ou granito","m2",20,9.1769220999999987,183.54,0.191,10.93,218.6]
["SF-00130","Civil","Mármores e Granitos","Instalação de soleira ou peitoril, de mármore ou granito, reaproveitados","m2",10,41.806479000000003,418.06,0.191,49.79,497.9]
["SF-00131","Civil","Mármores e Granitos","Mármore Branco Especial 20mm para rodabancada","m2",1,437.82506999999998,437.83,0.191,521.45000000000005,521.45000000000005]
["SF-00132","Civil","Divisórias","Divisória em gesso acartonado revestido - Painel liso cego - Ed. Anexo I","m2",500,450,225000,0.11260000000000001,500.67,250335]
["SF-00133","Civil","Divisórias","Divisória em gesso acartonado revestido - Painel liso, painel de vidro e bandeira – ed. Anexo I","m2",300,850,255000,0.11260000000000001,945.71,283713]
["SF-00134","Civil","Divisórias","Divisória MDF com painel liso cego e bandeira","m2",900,558.91999999999996,503028,0.11260000000000001,621.85,559665]
["SF-00135","Civil","Divisórias","Divisória MDF com painel liso, painel de vidro e bandeira","m2",900,798.88,718992,0.11260000000000001,888.83,799947]
["SF-00136","Civil","Divisórias","Divisória MDF com painel paginado cego e bandeira - Interlegis","m2",200,657.37,131474,0.11260000000000001,731.39,146278]
["SF-00137","Civil","Divisórias","Divisória MDF com painel paginado, painel de vidro e bandeira - Interlegis","m2",200,847.03,169406,0.11260000000000001,942.41,188482]
["SF-00138","Civil","Divisórias","Instalação de divisória e porta de divisória com dobradiça reaproveitadas","m2",700,13.9175,9742.25,0.191,16.579999999999998,11606]
["SF-00139","Civil","Forros","Alçapão em forro de gesso acartonado","m2",100,106.11355999999999,10611.36,0.191,126.38,12638]
["SF-00140","Civil","Forros","Forro de PVC em réguas de 100 x 6000mm","m2",50,40.336178249999996,2016.81,0.191,48.04,2402]
["SF-00141","Civil","Forros","Forro de PVC em réguas de 100 x 6000mm, sem estrutura","m2",100,19.0143773,1901.44,0.191,22.65,2265]
["SF-00142","Civil","Forros","Forro de PVC modular em placas","m2",20,63.15204825,1263.04,0.191,75.209999999999994,1504.2]
["SF-00143","Civil","Forros","Forro em chapas metálicas","m2",500,115.16249999999999,57581.25,0.191,137.16,68580]
["SF-00144","Civil","Forros","Forro em gesso acartonado monolítico","m2",2500,55.668897999999992,139172.25,0.191,66.3,165750]
["SF-00145","Civil","Forros","Forro em gesso acartonado monolítico, sem estrutura","m2",2300,41.343865100000002,95090.89,0.191,49.24,113252]
["SF-00146","Civil","Forros","Forro mineral modulado","m2",300,89.214499999999987,26764.35,0.191,106.25,31875]
["SF-00147","Civil","Forros","Forro mineral modulado, sem estrutura","m2",100,25.59395,2559.4,0.191,30.48,3048]
["SF-00148","Civil","Forros","Instalação de forro de PVC reaproveitado","m2",100,2.4861556999999999,248.62,0.191,2.96,296]
["SF-00149","Civil","Forros","Instalação de forro mineral reaproveitado","m2",100,42.795599999999993,4279.5600000000004,0.191,50.97,5097]
["SF-00150","Civil","Forros","Tabica metálica em forro de gesso acartonado","m",2500,8.6703212999999995,21675.8,0.191,10.33,25825]
["SF-00151","Civil","Carpete","Instalação de revestimento de piso têxtil (carpete) reaproveitado","m2",400,6.1540999999999997,2461.64,0.191,7.33,2932]
["SF-00155","Civil","Vidro Comum Reaproveitado","Instalação de vidro reaproveitado","m2",50,26.673625000000001,1333.68,0.191,31.77,1588.5]
["SF-00159","Civil","Vidro Tremperado Reaproveitado","Instalação de painéis de vidro temperado reaproveitados","m2",70,39.824950000000001,2787.75,0.191,47.43,3320.1]
["SF-00161","Civil","Persianas Reaproveitada","Instalação de persianas reaproveitadas","m",800,6.3548644499999991,5083.8900000000003,0.191,7.57,6056]
["SF-00166","Hidrossanitário","Tubos","Tubo de ligação para bacia sanitária","un",15,100.7582,1511.37,0.191,120,1800]
["SF-00167","Hidrossanitário","Tubos","Tubo PVC esgoto ou aguas pluviais predial DN 100mm","m",215,46.044366299999993,9899.5400000000009,0.191,54.84,11790.6]
["SF-00168","Hidrossanitário","Tubos","Tubo PVC esgoto ou aguas pluviais predial DN 40mm","m",80,14.455551499999999,1156.44,0.191,17.22,1377.6]
["SF-00169","Hidrossanitário","Tubos","Tubo PVC esgoto ou aguas pluviais predial DN 50mm","m",80,19.770180199999999,1581.61,0.191,23.55,1884]
["SF-00170","Hidrossanitário","Tubos","Tubo PVC esgoto ou aguas pluviais predial DN 75mm","m",100,29.535938900000001,2953.59,0.191,35.18,3518]
["SF-00171","Hidrossanitário","Tubos","Tubo PVC soldável agua fria DN 25mm","m",300,3.4186604999999997,1025.5999999999999,0.191,4.07,1221]
["SF-00172","Hidrossanitário","Tubos","Tubo PVC soldável agua fria DN 32mm","m",200,7.0678669999999988,1413.57,0.191,8.42,1684]
["SF-00173","Hidrossanitário","Tubos","Tubo PVC soldável agua fria DN 40mm","m",100,10.115219999999999,1011.52,0.191,12.05,1205]
["SF-00174","Hidrossanitário","Tubos","Tubo PVC soldável agua fria DN 50mm","m",100,11.648567499999997,1164.8599999999999,0.191,13.87,1387]
["SF-00175","Hidrossanitário","Registros e Válvulas","Base registro gaveta 3/4\"","un",60,42.132267499999998,2527.94,0.191,50.18,3010.8]
["SF-00176","Hidrossanitário","Ralos e Caixas","Caixa sifonada de PVC DN 150mm","un",45,54.071104400000003,2433.1999999999998,0.191,64.400000000000006,2898]
["SF-00177","Hidrossanitário","Ralos e Caixas","Caixa sifonada de PVC DN 250mm","un",45,92.004604400000005,4140.21,0.191,109.58,4931.1000000000004]
["SF-00178","Hidrossanitário","Ralos e Caixas","Grelha quadrada para ralo 10x10cm","un",45,35.943975000000002,1617.48,0.191,42.81,1926.45]
["SF-00179","Hidrossanitário","Ralos e Caixas","Grelha quadrada para ralo 15x15cm","un",45,61.843975,2782.98,0.191,73.66,3314.7]
["SF-00180","Hidrossanitário","Ralos e Caixas","Ralo seco PVC DN 100x40mm","un",45,8.9334779500000003,402.01,0.191,10.64,478.8]
["SF-00181","Hidrossanitário","Louças","Assento para bacia convencional – Linha Administrativa","un",45,61.242649999999998,2755.92,0.191,72.94,3282.3]
["SF-00182","Hidrossanitário","Louças","Bacia convencional – Linha Administrativa","un",45,261.86674299999999,11784,0.191,311.88,14034.6]
["SF-00183","Hidrossanitário","Louças","Bacia convencional com saída horizontal","un",10,292.76424300000002,2927.64,0.191,348.68,3486.8]
["SF-00184","Hidrossanitário","Louças","Cuba oval de embutir","un",45,95.166786299999998,4282.51,0.191,113.34,5100.3]
["SF-00185","Hidrossanitário","Louças","Cuba retangular em aço inox – Linha Administrativa","un",30,205.29873900000001,6158.96,0.191,244.51,7335.3]
["SF-00186","Hidrossanitário","Louças","Cuba semiencaixe quadrada com mesa","un",15,701.15678630000002,10517.35,0.191,835.08,12526.2]
["SF-00187","Hidrossanitário","Louças","Instalação de lavatório reaproveitado","un",30,38.416536999999998,1152.5,0.191,45.75,1372.5]
["SF-00188","Hidrossanitário","Louças","Instalação de mictório reaproveitado","un",30,39.026512999999994,1170.8,0.191,46.48,1394.4]
["SF-00189","Hidrossanitário","Louças","Instalação de vaso sanitário reaproveitado","un",30,56.955887699999991,1708.68,0.191,67.83,2034.9]
["SF-00190","Hidrossanitário","Louças","Lavatório suspenso","un",10,110.30303699999999,1103.03,0.191,131.37,1313.7]
["SF-00191","Hidrossanitário","Louças","Mictório – Linha Administrativa","un",20,289.47515550000003,5789.5,0.191,344.76,6895.2]
["SF-00192","Hidrossanitário","Louças","Tanque 38 litros – Linha Administrativa","un",25,443.19505249999997,11079.88,0.191,527.85,13196.25]
["SF-00193","Hidrossanitário","Metais","Acabamento para registro GD – Linha Administrativa","un",35,47.284680000000002,1654.96,0.191,56.32,1971.2]
["SF-00194","Hidrossanitário","Metais","Acabamento para registro PQ – Linha Administrativa","un",70,35.68468,2497.9299999999998,0.191,42.5,2975]
["SF-00195","Hidrossanitário","Metais","Ducha higiênica – Linha Administrativa","un",60,263.5025,15810.15,0.191,313.83,18829.8]
["SF-00196","Hidrossanitário","Metais","Instalação de metais e acessórios reaproveitados","un",200,3.8308483999999998,766.17,0.191,4.5599999999999996,912]
["SF-00197","Hidrossanitário","Metais","Ligação flexível 1/2” x 40 cm – Linha Administrativa","un",80,31.584293749999997,2526.7399999999998,0.191,37.619999999999997,3009.6]
["SF-00198","Hidrossanitário","Metais","Sifão articulado para cozinha – Linha Administrativa","un",50,215.02288720000001,10751.14,0.191,256.08999999999997,12804.5]
["SF-00199","Hidrossanitário","Metais","Sifão para lavatório 1 1/2\"","un",60,117.03230499999999,7021.94,0.191,139.38999999999999,8363.4]
["SF-00200","Hidrossanitário","Metais","Sifão para tanque – Linha Administrativa","un",25,123.4693872,3086.73,0.191,147.05000000000001,3676.25]
["SF-00202","Hidrossanitário","Metais","Torneira de mesa para cozinha bica móvel com arejador – Linha Administrativa","un",40,180.82035070000001,7232.81,0.191,215.36,8614.4]
["SF-00203","Hidrossanitário","Metais","Torneira de mesa para lavatório – Linha Acessibilidade","un",10,287.29805144999995,2872.98,0.191,342.17,3421.7]
["SF-00204","Hidrossanitário","Metais","Torneira de mesa para lavatório bica alta – Linha Administrativa","un",75,162.47805144999998,12185.85,0.191,193.51,14513.25]
["SF-00205","Hidrossanitário","Metais","Torneira de mesa para lavatório bica baixa – Linha Administrativa","un",75,137.44805144999998,10308.6,0.191,163.69999999999999,12277.5]
["SF-00206","Hidrossanitário","Metais","Torneira de mesa para lavatório com fechamento automático – Linha Administrativa","un",60,151.87155144999997,9112.2900000000009,0.191,180.88,10852.8]
["SF-00207","Hidrossanitário","Metais","Torneira de parede para cozinha bica móvel – Linha Administrativa","un",35,211.89531445,7416.34,0.191,252.37,8832.9500000000007]
["SF-00208","Hidrossanitário","Metais","Torneira de parede para tanque – Linha Administrativa","un",25,57.201753399999994,1430.04,0.191,68.13,1703.25]
["SF-00209","Hidrossanitário","Metais","Válvula de descarga 1 1/2\" – Linha Acessibilidade","un",10,464.63996249999997,4646.3999999999996,0.191,553.39,5533.9]
["SF-00210","Hidrossanitário","Metais","Válvula de descarga 1 1/2\" – Linha Administrativa","un",65,209.1194625,13592.77,0.191,249.06,16188.9]
["SF-00211","Hidrossanitário","Metais","Válvula de descarga 1 1/4\" – Linha Acessibilidade","un",10,430.30996249999998,4303.1000000000004,0.191,512.5,5125]
["SF-00212","Hidrossanitário","Metais","Válvula de descarga 1 1/4\" – Linha Administrativa","un",65,175.12846249999998,11383.35,0.191,208.58,13557.7]
["SF-00213","Hidrossanitário","Metais","Válvula de escoamento para lavatório – Linha Administrativa","un",65,32.1556912,2090.12,0.191,38.299999999999997,2489.5]
["SF-00214","Hidrossanitário","Metais","Válvula de escoamento para tanque – Linha Administrativa","un",25,23.549694399999996,588.74,0.191,28.05,701.25]
["SF-00215","Hidrossanitário","Metais","Válvula descarga para mictório – Linha Administrativa","un",40,184.2009625,7368.04,0.191,219.38,8775.2000000000007]
["SF-00216","Hidrossanitário","Acessibilidade","Alarme de emergência para sanitários PNE","un",15,328.29825499999998,4924.47,0.191,391,5865]
["SF-00217","Hidrossanitário","Acessibilidade","Barra de apoio 40cm – Linha Acessibilidade","un",25,85.750500000000002,2143.7600000000002,0.191,102.13,2553.25]
["SF-00218","Hidrossanitário","Acessibilidade","Barra de apoio 70cm – Linha Acessibilidade","un",20,98.490499999999997,1969.81,0.191,117.3,2346]
["SF-00219","Hidrossanitário","Acessibilidade","Barra de apoio 80cm – Linha Acessibilidade","un",25,98.650499999999994,2466.2600000000002,0.191,117.49,2937.25]
["SF-00220","Hidrossanitário","Acessibilidade","Barra de apoio lateral fixa 30cm – Linha Acessibilidade","un",25,116.70049999999999,2917.51,0.191,138.99,3474.75]
["SF-00221","Hidrossanitário","Acessibilidade","Lavatório suspenso – Linha Acessibilidade","un",10,202.27653699999999,2022.77,0.191,240.91,2409.1]
["SF-00222","Hidrossanitário","Acessibilidade","Lavatório suspenso com Coluna – Linha Acessibilidade","un",10,435.96794289999997,4359.68,0.191,519.24,5192.3999999999996]
["SF-00223","Hidrossanitário","Acessórios","Cabide – Linha Administrativa","un",120,64.850848400000004,7782.1,0.191,77.239999999999995,9268.7999999999993]
["SF-00224","Hidrossanitário","Acessórios","Papeleira – Linha Administrativa","un",120,120.7539871,14490.48,0.191,143.82,17258.400000000001]
["SF-00225","Hidrossanitário","Acessórios","Porta toalha argola – Linha Administrativa","un",120,111.84398710000001,13421.28,0.191,133.21,15985.2]
["SF-00226","Hidrossanitário","Acessórios","Porta toalha barra – Linha Administrativa","un",100,152.90584335,15290.58,0.191,182.11,18211]
["SF-00227","Elétrica","Infraestrutura","Caixa 4x2 de embutir para alvenaria","un",1500,7.6208541655295488,11431.28,0.191,9.08,13620]
["SF-00228","Elétrica","Infraestrutura","Caixa 4x2 para drywall","un",400,11.039127499999999,4415.6499999999996,0.191,13.15,5260]
["SF-00229","Elétrica","Infraestrutura","Caixa 4x4 de embutir para alvenaria","un",400,10.0874125540394,4034.97,0.191,12.01,4804]
["SF-00230","Elétrica","Infraestrutura","Caixa 4x4 para drywall","un",100,16.607277,1660.73,0.191,19.78,1978]
["SF-00231","Elétrica","Infraestrutura","Caixa de passagem em alumínio 100x100x50mm","un",1500,37.999986999999997,56999.98,0.191,45.26,67890]
["SF-00232","Elétrica","Infraestrutura","Caixa de passagem em alumínio 200x200x100mm","un",200,78.759986999999995,15752,0.191,93.8,18760]
["SF-00233","Elétrica","Infraestrutura","Caixa de passagem em PVC 150x150x75mm","un",1900,45.057777999999999,85609.78,0.191,53.66,101954]
["SF-00234","Elétrica","Infraestrutura","Caixa para piso elevado","un",200,303.469987,60694,0.191,361.43,72286]
["SF-00235","Elétrica","Infraestrutura","Canaleta em alumínio aparente 73mmx25mm","m",800,91.779209999999978,73423.37,0.191,109.31,87448]
["SF-00236","Elétrica","Infraestrutura","Condulete de alumínio de 1’’","un",1500,33.367690749999994,50051.54,0.191,39.74,59610]
["SF-00237","Elétrica","Infraestrutura","Eletrocalha 100x50 mm","m",1300,48.698268100000007,63307.75,0.191,58,75400]
["SF-00238","Elétrica","Infraestrutura","Eletrocalha 200x100 mm","m",1300,87.155506900000006,113302.16,0.191,103.8,134940]
["SF-00239","Elétrica","Infraestrutura","Eletrocalha 200x50 mm","m",1300,74.205081899999982,96466.61,0.191,88.38,114894]
["SF-00240","Elétrica","Infraestrutura","Eletrocalha 300x100 mm","m",1300,102.48632189999999,133232.22,0.191,122.06,158678]
["SF-00241","Elétrica","Infraestrutura","Eletrocalha 300x50 mm","m",1300,88.107906899999975,114540.28,0.191,104.94,136422]
["SF-00242","Elétrica","Infraestrutura","Eletrocalha 400x50 mm","m",1300,117.46738690000001,152707.6,0.191,139.9,181870]
["SF-00243","Elétrica","Infraestrutura","Eletrocalha 50x50 mm","m",2000,40.912938100000005,81825.88,0.191,48.73,97460]
["SF-00244","Elétrica","Infraestrutura","Eletroduto de aço galvanizado de 1 1/2\"","m",5000,35.246330577885004,176231.65,0.191,41.98,209900]
["SF-00245","Elétrica","Infraestrutura","Eletroduto de aço galvanizado de 1 1/4\"","m",5000,31.269057703469997,156345.29,0.191,37.24,186200]
["SF-00246","Elétrica","Infraestrutura","Eletroduto de aço galvanizado de 1\"","m",1500,22.689937834454998,34034.910000000003,0.191,27.02,40530]
["SF-00247","Elétrica","Infraestrutura","Eletroduto de aço galvanizado de 2\"","m",2000,47.985002177884994,95970,0.191,57.15,114300]
["SF-00248","Elétrica","Infraestrutura","Eletroduto de aço galvanizado de 3/4\"","m",2400,19.877287236644996,47705.49,0.191,23.67,56808]
["SF-00249","Elétrica","Infraestrutura","Eletroduto de PVC Corrugado Reforçado 1'' (DE 32mm)","m",1500,10.831681499999998,16247.52,0.191,12.9,19350]
["SF-00250","Elétrica","Infraestrutura","Eletroduto de PVC Corrugado Reforçado 3/4'' (DE 25mm)","m",1500,7.6385415000000005,11457.81,0.191,9.1,13650]
["SF-00251","Elétrica","Infraestrutura","Eletroduto flexível metálico com capa de PVC 1’’","m",3000,16.505328500000001,49515.99,0.191,19.66,58980]
["SF-00252","Elétrica","Infraestrutura","Eletroduto flexível metálico com capa de PVC 3/4\"","m",3000,12.807932300000001,38423.800000000003,0.191,15.25,45750]
["SF-00253","Elétrica","Infraestrutura","Perfilado 38x38mm","m",1000,47.322589699999995,47322.59,0.191,56.36,56360]
["SF-00254","Elétrica","Interruptores e Tomadas","Espelho 4x2","un",2500,5.8141519999999991,14535.38,0.191,6.92,17300]
["SF-00255","Elétrica","Interruptores e Tomadas","Espelho 4x4","un",600,9.6513159999999996,5790.79,0.191,11.49,6894]
["SF-00256","Elétrica","Interruptores e Tomadas","Espelho cego redondo","un",10,8.084816,80.849999999999994,0.191,9.6300000000000008,96.3]
["SF-00257","Elétrica","Interruptores e Tomadas","Interruptor para condulete","un",100,24.463925,2446.39,0.191,29.14,2914]
["SF-00258","Elétrica","Interruptores e Tomadas","Módulo cego","un",2000,4.2916500000000006,8583.2999999999993,0.191,5.1100000000000003,10220]
["SF-00259","Elétrica","Interruptores e Tomadas","Módulo interruptor paralelo","un",100,19.865525999999999,1986.55,0.191,23.66,2366]
["SF-00260","Elétrica","Interruptores e Tomadas","Módulo interruptor simples","un",600,14.7983875,8879.0300000000007,0.191,17.62,10572]
["SF-00261","Elétrica","Interruptores e Tomadas","Módulo para saída de fio","un",100,4.3416499999999996,434.17,0.191,5.17,517]
["SF-00262","Elétrica","Interruptores e Tomadas","Módulo sensor de presença","un",100,186.57952600000002,18657.95,0.191,222.22,22222]
["SF-00263","Elétrica","Interruptores e Tomadas","Módulo tomada 10 A","un",1800,16.023982499999999,28843.17,0.191,19.079999999999998,34344]
["SF-00264","Elétrica","Interruptores e Tomadas","Módulo tomada 20 A","un",360,17.942982499999999,6459.47,0.191,21.37,7693.2]
["SF-00265","Elétrica","Interruptores e Tomadas","Porta equipamentos para canaleta de alumínio aparente","un",50,25.587912499999998,1279.4000000000001,0.191,30.48,1524]
["SF-00266","Elétrica","Interruptores e Tomadas","Tampa cega metálica para caixas de piso 4x2","un",50,11.144299999999999,557.22,0.191,13.27,663.5]
["SF-00267","Elétrica","Interruptores e Tomadas","Tampa cega metálica para caixas de piso 4x4","un",50,16.514299999999999,825.72,0.191,19.670000000000002,983.5]
["SF-00268","Elétrica","Interruptores e Tomadas","Tampa cega para condulete","un",100,6.46645,646.65,0.191,7.7,770]
["SF-00269","Elétrica","Interruptores e Tomadas","Tampa RJ45 dupla para condulete","un",600,11.973924999999999,7184.36,0.191,14.26,8556]
["SF-00270","Elétrica","Interruptores e Tomadas","Tomada para condulete","un",880,32.239525999999998,28370.78,0.191,38.4,33792]
["SF-00271","Elétrica","Interruptores e Tomadas","Tomada para perfilado e eletrocalha","un",100,33.883175000000001,3388.32,0.191,40.35,4035]
["SF-00272","Elétrica","Iluminação","Bloco autônomo de emergência","un",100,231.31882815,23131.88,0.191,275.5,27550]
["SF-00273","Elétrica","Iluminação","Instalação de luminária reaproveitada","un",500,45.519913149999994,22759.96,0.191,54.21,27105]
["SF-00274","Elétrica","Iluminação","Luminária 2x14 W de embutir","un",50,207.82991315000001,10391.5,0.191,247.53,12376.5]
["SF-00275","Elétrica","Iluminação","Luminária 2x14 W de sobrepor","un",20,238.68052370000001,4773.6099999999997,0.191,284.27,5685.4]
["SF-00276","Elétrica","Iluminação","Luminária 2x28 W de embutir","un",500,277.11991315,138559.96,0.191,330.05,165025]
["SF-00277","Elétrica","Iluminação","Luminária 2x28 W de sobrepor","un",100,264.51052370000002,26451.05,0.191,315.02999999999997,31503]
["SF-00278","Elétrica","Condutores","Condutor 10mm²","m",2000,14.257343499999999,28514.69,0.191,16.98,33960]
["SF-00279","Elétrica","Condutores","Condutor 16mm²","m",2000,21.174435999999996,42348.87,0.191,25.22,50440]
["SF-00280","Elétrica","Condutores","Condutor 2,5 mm²","m",24000,4.1853534999999988,100448.48,0.191,4.9800000000000004,119520]
["SF-00281","Elétrica","Condutores","Condutor 3x2,5 mm²","m",5000,11.706462499999997,58532.31,0.191,13.94,69700]
["SF-00282","Elétrica","Condutores","Condutor 4 mm²","m",9500,6.193348499999999,58836.81,0.191,7.38,70110]
["SF-00283","Elétrica","Condutores","Condutor 4x2,5 mm²","m",5000,10.6638705,53319.35,0.191,12.7,63500]
["SF-00284","Elétrica","Condutores","Condutor 6 mm²","m",6000,9.064662499999999,54387.98,0.191,10.8,64800]
["SF-00285","Elétrica","Quadros","Quadro elétrico TTA","un",20,6046.3582499999993,120927.17,0.11260000000000001,6727.18,134543.6]
["SF-00286","Ar Condicionado","Equipamentos Terminais e Unitários","Ar-condicionado do tipo split piso-teto inverter 54.000BTU/h","un",5,10604.02,53020.1,0.11260000000000001,11798.03,58990.15]
["SF-00287","Ar Condicionado","Equipamentos Terminais e Unitários","Ar-condicionado fancolete hidrônico dutado 2,5 TR","un",60,2871,172260,0.11260000000000001,3194.27,191656.2]
["SF-00288","Ar Condicionado","Equipamentos Terminais e Unitários","Ar-condicionado fancolete hidrônico dutado 4,5 TR","un",10,3367,33670,0.11260000000000001,3746.12,37461.199999999997]
["SF-00289","Ar Condicionado","Equipamentos Terminais e Unitários","Ar-condicionado fancolete hidrônico hi-wall 1,4 TR","un",5,3322.13,16610.650000000001,0.11260000000000001,3696.2,18481]
["SF-00290","Ar Condicionado","Equipamentos Terminais e Unitários","Ar-condicionado split dutado inverter 30.000 BTU/h","un",40,10067.18,402687.2,0.11260000000000001,11200.74,448029.6]
["SF-00291","Ar Condicionado","Equipamentos Terminais e Unitários","Ar-condicionado split hi-wall inverter 12.000 BTU/h","un",40,1555.37,62214.8,0.11260000000000001,1730.5,69220]
["SF-00292","Ar Condicionado","Equipamentos Terminais e Unitários","Ar-condicionado split hi-wall inverter 22.000 BTU/h","un",40,2157.9299999999998,86317.2,0.11260000000000001,2400.91,96036.4]
["SF-00293","Ar Condicionado","Equipamentos Terminais e Unitários","Instalação de fancolete reaproveitado","un",30,79.667000000000002,2390.0100000000002,0.191,94.88,2846.4]
["SF-00294","Ar Condicionado","Equipamentos Terminais e Unitários","Instalação de split reaproveitado","un",50,119.50049999999999,5975.03,0.191,142.33000000000001,7116.5]
["SF-00295","Ar Condicionado","Exaustores","Exaustor axial 340 m3/h","un",60,186.24949999999998,11174.97,0.191,221.82,13309.2]
["SF-00296","Ar Condicionado","Exaustores","Exaustor axial 865 m3/h","un",5,1009.9595,5049.8,0.191,1202.8599999999999,6014.3]
["SF-00297","Ar Condicionado","Dutos","Duto chapa galvanizada # 22","m2",880,198.62622799999997,174791.08,0.191,236.56,208172.79999999999]
["SF-00298","Ar Condicionado","Dutos","Duto flexível 6”","m",40,28.764600000000002,1150.58,0.191,34.26,1370.4]
["SF-00299","Ar Condicionado","Dutos","Duto flexível 8”","m",20,31.757100000000001,635.14,0.191,37.82,756.4]
["SF-00300","Ar Condicionado","Difusores e Grelhas","Difusor de ar quadrado 360x360 mm","un",180,262.28375,47211.08,0.191,312.38,56228.4]
["SF-00301","Ar Condicionado","Difusores e Grelhas","Difusor de ar quadrado com caixa plenum AK6 360x360 mm","un",10,312.48374999999999,3124.84,0.191,372.17,3721.7]
["SF-00302","Ar Condicionado","Difusores e Grelhas","Difusor de ar quadrado para insuflamento em duas direções perpendiculares 376x376 mm","un",10,279.75374999999997,2797.54,0.191,333.19,3331.9]
["SF-00303","Ar Condicionado","Difusores e Grelhas","Difusor de ar retangular para insuflamento em duas direções 371x208 mm","un",5,152.12375,760.62,0.191,181.18,905.9]
["SF-00304","Ar Condicionado","Difusores e Grelhas","Difusor de ar retangular para insuflamento em três direções 264x432 mm","un",5,220.29374999999999,1101.47,0.191,262.37,1311.85]
["SF-00305","Ar Condicionado","Difusores e Grelhas","Difusor de ar retangular para insuflamento em três direções 320x562 mm","un",5,264.15375,1320.77,0.191,314.61,1573.05]
["SF-00306","Ar Condicionado","Difusores e Grelhas","Difusor de ar retangular para insuflamento em três direções 371x208 mm","un",5,156.92374999999998,784.62,0.191,186.9,934.5]
["SF-00307","Ar Condicionado","Difusores e Grelhas","Difusor de ar retangular para insuflamento em uma direção 371x208 mm","un",10,151.94374999999999,1519.44,0.191,180.97,1809.7]
["SF-00308","Ar Condicionado","Difusores e Grelhas","Grelha para retorno retangular 425x225 mm","un",180,168.30674999999999,30295.22,0.191,200.45,36081]
["SF-00309","Ar Condicionado","Difusores e Grelhas","Grelha para retorno retangular 525x325 mm","un",10,182.09125,1820.91,0.191,216.87,2168.6999999999998]
["SF-00310","Ar Condicionado","Difusores e Grelhas","Instalação de difusores, grelhas e acessórios de climatização reaproveitados","un",120,99.583749999999995,11950.05,0.191,118.6,14232]
["SF-00311","Ar Condicionado","Difusores e Grelhas","Instalação de exaustor reaproveitado","un",20,38.959499999999998,779.19,0.191,46.4,928]
["SF-00312","Ar Condicionado","Difusores e Grelhas","Preparação para instalação de difusores/grelhas de ar em portas","un",20,30.095999999999997,601.91999999999996,0.191,35.840000000000003,716.8]
["SF-00313","Ar Condicionado","Acessórios Para Equipamentos Unitários","Bomba para condensado de ar-condicionado para instalação oculta","un",10,527.21950000000004,5272.2,0.191,627.91999999999996,6279.2]
["SF-00314","Ar Condicionado","Acessórios Para Equipamentos Unitários","Fita aluminizada para refrigeração 48 mm","m",600,0.99642500000000001,597.86,0.191,1.19,714]
["SF-00315","Ar Condicionado","Acessórios Para Equipamentos Unitários","Fita PVC 100 mm para acabamento em refrigeração","m",9600,1.2064249999999999,11581.68,0.191,1.44,13824]
["SF-00316","Ar Condicionado","Acessórios Para Equipamentos Unitários","Mangueira emborrachada 3/4\" para água gelada","m",75,122.83642500000001,9212.73,0.191,146.30000000000001,10972.5]
["SF-00317","Ar Condicionado","Acessórios Para Equipamentos Unitários","Suporte para unidade condensadora de aparelho split","un",125,56.514308999999997,7064.29,0.191,67.31,8413.75]
["SF-00318","Ar Condicionado","Acessórios Para Equipamentos Unitários","Suporte para unidade evaporadora de aparelho split ou fancolete","un",200,122.86430900000001,24572.86,0.191,146.33000000000001,29266]
["SF-00319","Ar Condicionado","Válvulas","Filtro em Y 1\"","un",10,109.83888125,1098.3900000000001,0.191,130.82,1308.2]
["SF-00320","Ar Condicionado","Válvulas","Filtro em Y 3/4\"","un",65,90.058881249999999,5853.83,0.191,107.26,6971.9]
["SF-00321","Ar Condicionado","Válvulas","Válvula de balanceamento e controle independente da pressão (PIBCV) 2 vias 1\"","un",10,777.62888125000006,7776.29,0.191,926.16,9261.6]
["SF-00322","Ar Condicionado","Válvulas","Válvula de balanceamento e controle independente da pressão (PIBCV) 2 vias 3/4\"","un",65,707.86888125000007,46011.48,0.191,843.07,54799.55]
["SF-00323","Ar Condicionado","Válvulas","Válvula de esfera em bronze 1 1/2\"","un",20,142.98996249999999,2859.8,0.191,170.3,3406]
["SF-00324","Ar Condicionado","Válvulas","Válvula de esfera em bronze 1 1/4\"","un",20,123.79046249999999,2475.81,0.191,147.43,2948.6]
["SF-00325","Ar Condicionado","Válvulas","Válvula de esfera em bronze 1\"","un",20,92.311381249999997,1846.23,0.191,109.94,2198.8000000000002]
["SF-00326","Ar Condicionado","Válvulas","Válvula de esfera em bronze 3/4\"","un",150,76.018881249999993,11402.83,0.191,90.54,13581]
["SF-00327","Ar Condicionado","Tubos e isolamento térmico","Isolamento elastomérico em formato de prancha autoadesiva","m2",825,90.320999999999998,74514.83,0.191,107.57,88745.25]
["SF-00328","Ar Condicionado","Tubos e isolamento térmico","Isolamento elastomérico para tubulações de cobre de 1 1/8\" / tubulações de ferro de 3/4\"","m",810,12.919709999999998,10464.969999999999,0.191,15.39,12465.9]
["SF-00329","Ar Condicionado","Tubos e isolamento térmico","Isolamento elastomérico para tubulações de cobre de 1/2\"","m",400,7.8413614999999997,3136.54,0.191,9.34,3736]
["SF-00330","Ar Condicionado","Tubos e isolamento térmico","Isolamento elastomérico para tubulações de cobre de 1/4\"","m",400,6.7383399999999982,2695.34,0.191,8.0299999999999994,3212]
["SF-00331","Ar Condicionado","Tubos e isolamento térmico","Isolamento elastomérico para tubulações de cobre de 3/4\"","m",400,9.4275479999999998,3771.02,0.191,11.23,4492]
["SF-00332","Ar Condicionado","Tubos e isolamento térmico","Isolamento elastomérico para tubulações de cobre de 3/8\"","m",800,7.1832154999999993,5746.57,0.191,8.56,6848]
["SF-00333","Ar Condicionado","Tubos e isolamento térmico","Isolamento elastomérico para tubulações de cobre de 5/8\"","m",400,8.8353099999999998,3534.12,0.191,10.52,4208]
["SF-00334","Ar Condicionado","Tubos e isolamento térmico","Isolamento elastomérico para tubulações de cobre de 7/8\" / tubulações de ferro de 1/2\"","m",100,10.775399999999999,1077.54,0.191,12.83,1283]
["SF-00335","Ar Condicionado","Tubos e isolamento térmico","Isolamento elastomérico para tubulações de cobre de 1\"","m",30,11.959876,358.8,0.191,14.24,427.2]
["SF-00336","Ar Condicionado","Tubos e isolamento térmico","Isolamento elastomérico para tubulações de ferro de 1 1/2\"","m",100,20.240996999999997,2024.1,0.191,24.11,2411]
["SF-00337","Ar Condicionado","Tubos e isolamento térmico","Isolamento elastomérico para tubulações de ferro de 1 1/4\"","m",100,18.933988999999993,1893.4,0.191,22.55,2255]
["SF-00338","Ar Condicionado","Tubos e isolamento térmico","Isolamento elastomérico para tubulações de ferro de 1\"","m",100,15.196762999999999,1519.68,0.191,18.100000000000001,1810]
["SF-00339","Ar Condicionado","Tubos e isolamento térmico","Proteção mecânica em alumínio","m2",100,21.378,2137.8000000000002,0.191,25.46,2546]
["SF-00340","Ar Condicionado","Tubos e isolamento térmico","Tubo de aço-carbono galvanizado 1 1/2\"","m",100,57.617537999999982,5761.75,0.191,68.62,6862]
["SF-00341","Ar Condicionado","Tubos e isolamento térmico","Tubo de aço-carbono galvanizado 1 1/4\"","m",100,53.143399000000002,5314.34,0.191,63.29,6329]
["SF-00342","Ar Condicionado","Tubos e isolamento térmico","Tubo de aço-carbono galvanizado 1\"","m",100,43.139499999999991,4313.95,0.191,51.38,5138]
["SF-00343","Ar Condicionado","Tubos e isolamento térmico","Tubo de aço-carbono galvanizado 3/4\"","m",750,39.586119999999994,29689.59,0.191,47.15,35362.5]
["SF-00344","Ar Condicionado","Tubos e isolamento térmico","Tubo de cobre de 1/2\"","m",400,29.109618799999996,11643.85,0.191,34.67,13868]
["SF-00345","Ar Condicionado","Tubos e isolamento térmico","Tubo de cobre de 1/4\"","m",400,14.552953099999998,5821.18,0.191,17.329999999999998,6932]
["SF-00346","Ar Condicionado","Tubos e isolamento térmico","Tubo de cobre de 3/4\"","m",400,43.051162349999998,17220.46,0.191,51.27,20508]
["SF-00347","Ar Condicionado","Tubos e isolamento térmico","Tubo de cobre de 3/8\"","m",800,21.776649549999998,17421.32,0.191,25.94,20752]
["SF-00348","Ar Condicionado","Tubos e isolamento térmico","Tubo de cobre de 5/8\"","m",400,35.89223024999999,14356.89,0.191,42.75,17100]
["SF-00349","Ar Condicionado","Tubos e isolamento térmico","Tubo de cobre de 7/8\"","m",100,33.913338449999998,3391.33,0.191,40.39,4039]
["SF-00350","Ar Condicionado","Tubos e isolamento térmico","Tubo de cobre de 1\"","m",30,38.297941849999994,1148.94,0.191,45.61,1368.3]
["SF-00351","Ar Condicionado","Tubos e isolamento térmico","Tubo de cobre de 1 1/8\"","m",60,42.585540749999993,2555.13,0.191,50.72,3043.2]
["SF-00354","Marcenaria e Serralheria","Armários Reaproveitado","Instalação de armários reaproveitados","m2",240,96.764624999999995,23223.51,0.191,115.25,27660]
["SF-00359","Marcenaria e Serralheria","Portas","Batentes e guarnições em madeira, com verniz ou esmalte","un",80,242.89325049999999,19431.46,0.191,289.29000000000002,23143.200000000001]
["SF-00360","Marcenaria e Serralheria","Portas","Chapa de proteção para porta – Linha Acessibilidade","m2",5,219.12429999999998,1095.6199999999999,0.191,260.98,1304.9000000000001]
["SF-00361","Marcenaria e Serralheria","Portas","Folha de porta em madeira 2,10x0,60m, pintada","un",20,265.19132919999998,5303.83,0.191,315.83999999999997,6316.8]
["SF-00362","Marcenaria e Serralheria","Portas","Folha de porta em madeira 2,10x0,70m, pintada","un",40,217.03749839999995,8681.5,0.191,258.49,10339.6]
["SF-00363","Marcenaria e Serralheria","Portas","Folha de porta em madeira 2,10x0,80m, pintada","un",40,319.42392260000003,12776.96,0.191,380.43,15217.2]
["SF-00364","Marcenaria e Serralheria","Portas","Folha de porta em madeira 2,10x0,90m, pintada","un",20,312.0915918,6241.83,0.191,371.7,7434]
["SF-00365","Marcenaria e Serralheria","Portas","Folha de porta em madeira 2,10x1,0m, pintada","un",10,339.44403679999999,3394.44,0.191,404.28,4042.8]
["SF-00366","Marcenaria e Serralheria","Portas","Instalação de batentes de madeira reaproveitados","un",30,81.422999000000004,2442.69,0.191,96.97,2909.1]
["SF-00367","Marcenaria e Serralheria","Portas","Instalação de folhas de portas e dobradiças reaproveitadas","un",30,58.308767500000002,1749.26,0.191,69.45,2083.5]
["SF-00368","Marcenaria e Serralheria","Ferragens","Dobradiça para porta","un",400,46.184686999999997,18473.87,0.191,55.01,22004]
["SF-00369","Marcenaria e Serralheria","Ferragens","Fechadura para banheiro maçaneta em barra","un",15,122.8309635,1842.46,0.191,146.29,2194.35]
["SF-00370","Marcenaria e Serralheria","Ferragens","Fechadura para porta externa maçaneta em barra","un",20,154.88500150000002,3097.7,0.191,184.47,3689.4]
["SF-00371","Marcenaria e Serralheria","Ferragens","Fechadura para porta interna maçaneta tubular","un",160,706.56500149999999,113050.4,0.191,841.52,134643.20000000001]
["SF-00372","Marcenaria e Serralheria","Ferragens","Instalação de fechadura/puxador de porta reaproveitados","m",30,29.685001499999998,890.55,0.191,35.35,1060.5]
["SF-00373","Marcenaria e Serralheria","Ferragens","Mola hidráulica aérea","un",25,243.71449999999999,6092.86,0.191,290.26,7256.5]
["SF-00374","Marcenaria e Serralheria","Ferragens","Pivô em latão com acabamento cromado para portas pivotantes","un",25,109.87725,2746.93,0.191,130.86000000000001,3271.5]
["SF-00375","Rede e Telefonia","Rede","Cabo de dados tipo UTP, tipo LSZH, categoria 6","m",30000,4.6240866,138722.6,0.191,5.51,165300]
["SF-00376","Rede e Telefonia","Rede","Módulo (tomada) de rede RJ45, categoria 6, com conectorização e certificação","un",1400,70.61689779999999,98863.66,0.191,84.1,117740]
["SF-00377","Rede e Telefonia","Rede","Painel de distribuição (patch panel) de 24 portas, categoria 6","un",30,1775.3161716499999,53259.49,0.191,2114.4,63432]
["SF-00378","Rede e Telefonia","Telefonia","Cabo de telefonia tipo CCI 50x2","m",10000,3.5347039499999999,35347.040000000001,0.191,4.21,42100]
["SF-00379","Rede e Telefonia","Telefonia","Módulo (tomada) de rede RJ45, para telefonia","un",1040,43.724448899999999,45473.43,0.191,52.08,54163.199999999997]
["SF-00380","Ar Condicionado","Difusores e Grelhas","Grelha para retorno para portas, divisórias e paredes 525x325 mm","un",100,350.79724999999996,35079.730000000003,0.191,417.8,41780]
["SF-00898","Civil","Estrutural","Armação de aço CA-50 bitolas de 5,0mm a 8,00mm","kg",5,10.5902029,52.95,0.191,12.61,63.05]
["SF-00915","Civil","Estrutural","Graute industrializado, fck ≥ 25MPa","m3",1,2400.7610986999994,2400.7600000000002,0.191,2859.31,2859.31]
["SF-00916","Civil","Estrutural","Armação de aço CA-50 bitolas de 10,0mm a 12,50mm","kg",5,7.5699781000000002,37.85,0.191,9.02,45.1]
["SF-00917","Civil","Estrutural","Armação de aço CA-50 bitolas de 16,0mm a 25,0mm","kg",5,7.4519443999999986,37.26,0.191,8.8800000000000008,44.4]
["SF-00918","Civil","Serviços Preliminares","Remoção de mola hidráulica de piso","un",15,19.912475000000001,298.69,0.191,23.72,355.8]
["SF-00919","Civil","Escavação e Reaterro","Escavação manual de valas","m3",15,63.400833999999996,951.01,0.191,75.510000000000005,1132.6500000000001]
["SF-00920","Civil","Escavação e Reaterro","Reaterro de vala com compactação mecanizada","m3",15,22.573776500000001,338.61,0.191,26.89,403.35]
["SF-00921","Civil","Escavação e Reaterro","Aterro de vala com compactação mecanizada","m3",15,78.41969631249998,1176.3,0.191,93.4,1401]
["SF-00922","Hidrossanitário","Tubos","Tubo de cobre classe \"E\" 22mm","m",10,41.349984999999997,413.5,0.191,49.25,492.5]
["SF-00923","Hidrossanitário","Tubos","Tubo de cobre classe \"E\" 28 mm","m",10,51.618113199999996,516.17999999999995,0.191,61.48,614.79999999999995]
["SF-00924","Hidrossanitário","Tubos","Tubo de cobre classe \"E\" 42mm","m",10,92.212224049999989,922.12,0.191,109.82,1098.2]
["SF-00925","Hidrossanitário","Acessibilidade","Bacia convencional - Linha Acessibilidade","un",5,700.47188770000002,3502.36,0.191,834.26,4171.3]
["SF-00926","Hidrossanitário","Acessibilidade","Assento para bacia convencional - Linha Acessibilidade","un",25,777.54265000000009,19438.57,0.191,926.05,23151.25]
["SF-00927","Hidrossanitário","Registros e Válvulas","Base registro de gaveta 1 1/2”","un",10,105.00996249999999,1050.0999999999999,0.191,125.07,1250.7]
["SF-00937","Serviços de Apoio","Segurança do Trabalho","Montagem e desmontagem de andaime fachadeiro","m2",350,7.483569274709998,2619.25,0.191,8.91,3118.5]
["SF-00938","Serviços de Apoio","Segurança do Trabalho","Montagem e desmontagem de andaime tubular","m",70,13.8425151054,968.98,0.191,16.489999999999998,1154.3]
["SF-00939","Serviços de Apoio","Segurança do Trabalho","Tensor com indicador de tensão para linha de vida","un",5,1005.98,5029.8999999999996,0.191,1198.1199999999999,5990.6]
["SF-00940","Serviços de Apoio","Segurança do Trabalho","Locação de fechamento para andaimes com tela 100% polietileno","m2 x mês",350,3.7522254500000001,1313.28,0.191,4.47,1564.5]
["SF-01108","Civil","Pisos, Revestimentos e Pavimentação","Porcelanato para revestimento de superfícies internas e externas - Linha Residencial","m2",250,78.029865000000001,19507.47,0.191,92.93,23232.5]
["SF-01113","Civil","Pisos, Revestimentos e Pavimentação","Lixamento, calafetação e aplicação de sinteco em piso de madeira - Linha Residencial","m2",500,42.75,21375,0.191,50.92,25460]
["SF-01114","Civil","Pisos, Revestimentos e Pavimentação","Piso em taco de madeira - Linha Residencial","m2",200,133.42109509999997,26684.22,0.191,158.9,31780]
["SF-01116","Civil","Pisos, Revestimentos e Pavimentação","Piso sintético flutuante - Linha Residencial","m2",400,68.959203775000006,27583.68,0.191,82.13,32852]
["SF-01251","Hidrossanitário","Louças","Bacia convencional – Linha Residencial","un",20,505.12588769999991,10102.52,0.191,601.6,12032]
["SF-01252","Hidrossanitário","Louças","Bidê 3 furos - Linha Residencial","un",15,445.07938769999993,6676.19,0.191,530.09,7951.35]
["SF-01255","Hidrossanitário","Metais","Chuveiro de metal com tubo de parede – Linha Residencial","un",30,267.24026800000001,8017.21,0.191,318.27999999999997,9548.4]
["SF-01256","Hidrossanitário","Metais","Misturador para bidê – Linha Residencial","un",15,615.66576205000001,9234.99,0.191,733.26,10998.9]
["SF-01257","Hidrossanitário","Metais","Misturador de mesa para cozinha bica móvel – Linha Residencial","un",15,481.29646320000001,7219.45,0.191,573.22,8598.2999999999993]
["SF-01258","Hidrossanitário","Metais","Misturador de mesa para lavatório bica alta – Linha Residencial","un",15,438.94576205000004,6584.19,0.191,522.78,7841.7]
["SF-01259","Hidrossanitário","Metais","Misturador de parede para cozinha bica móvel – Linha Residencial","un",15,572.00646319999998,8580.1,0.191,681.26,10218.9]
["SF-01261","Elétrica","Iluminação","Luminária tipo arandela – Linha Residencial","un",25,58.631767399999994,1465.79,0.191,69.83,1745.75]
["SF-01262","Hidrossanitário","Metais","Tê misturador de transição 1/2” ou 3/4” – Linha Residencial","un",20,27.544242999999998,550.88,0.191,32.81,656.2]
["SF-01263","Hidrossanitário","Metais","Base para válvula de descarga 1 1/2”","un",10,137.09855350000001,1370.99,0.191,163.28,1632.8]
["SF-01264","Hidrossanitário","Metais","Base para válvula de descarga 1 1/4”","un",10,131.73855349999999,1317.39,0.191,156.9,1569]
["SF-01265","Hidrossanitário","Plástico","Anel de Vedação para bacia sanitária","un",10,3.9073500000000001,39.07,0.191,4.6500000000000004,46.5]
["SF-01266","Marcenaria e Serralheria","Portas","Folha de porta em madeira e MDF 2,10x0,60m","un",10,201.59316920000001,2015.93,0.191,240.1,2401]
["SF-01267","Marcenaria e Serralheria","Portas","Folha de porta em madeira e MDF 2,10x0,70m","un",20,217.8981484,4357.96,0.191,259.52,5190.3999999999996]
["SF-01268","Marcenaria e Serralheria","Portas","Folha de porta em madeira e MDF 2,10x0,80m","un",20,260.53712759999996,5210.74,0.191,310.3,6206]
["SF-01269","Marcenaria e Serralheria","Portas","Folha de porta em madeira e MDF 2,10x0,90m","un",10,243.77260679999998,2437.73,0.191,290.33,2903.3]
["SF-01270","Serviços de Apoio","Serviços Preliminares","Remoção de boiler","un",15,68.861699999999985,1032.93,0.191,82.01,1230.1500000000001]
["SF-01271","Serviços de Apoio","Serviços Preliminares","Remoção de tacos de madeira","m2",200,24.401699999999995,4880.34,0.191,29.06,5812]
["SF-01272","Civil","Pisos, Revestimentos e Pavimentação","Cerâmica 30x60cm - Glacier White - Portobello – Linha Residencial","m2",100,87.783950000000004,8778.4,0.191,104.55,10455]
["SF-01273","Civil","Pisos, Revestimentos e Pavimentação","Instalação de tacos de madeira reaproveitados","m2",150,27.765895099999998,4164.88,0.191,33.07,4960.5]
["SF-01278","Civil","Cortinas Reaproveitada","Instalação de cortinas reaproveitadas","m",50,9.5332499999999989,476.66,0.191,11.35,567.5]
["SF-01279","Hidrossanitários","Tubos","Tubo CPVC soldável 22mm – Linha Residencial","m",40,23.070408,922.82,0.191,27.48,1099.2]
["SF-01280","Hidrossanitários","Tubos","Tubo CPVC soldável 28mm – Linha Residencial","m",40,31.571426000000002,1262.8599999999999,0.191,37.6,1504]
["SF-01281","Hidrossanitário","Metais","Instalação de bidê reaproveitado","un",5,55.179387699999992,275.89999999999998,0.191,65.72,328.6]
["SF-01282","Hidrossanitário","Acessórios","Aquecedor elétrico para pia – Linha Residencial","un",20,833.02278550000005,16660.46,0.191,992.13,19842.599999999999]
["SF-01283","Hidrossanitário","Metais","Chuveiro elétrico – Linha Residencial","un",40,283.190268,11327.61,0.191,337.28,13491.2]
["SF-01284","Hidrossanitário","Acessórios","Instalação de boiler reaproveitado","un",10,229.92090000000002,2299.21,0.191,273.83999999999997,2738.4]
["SF-01285","Hidrossanitário","Acessórios","Prateleira – Linha Residencial","un",40,230.75584335000002,9230.23,0.191,274.83,10993.2]
["SF-01286","Hidrossanitário","Acessórios","Saboneteira – Linha Residencial","un",40,153.82398710000001,6152.96,0.191,183.2,7328]
["SF-01287","Elétrica","Interruptores e Tomadas","Módulo campainha eletrônica – Linha Residencial","un",15,125.17478449999999,1877.62,0.191,149.08000000000001,2236.1999999999998]
["SF-01288","Elétrica","Interruptores e Tomadas","Módulo pulsador – Linha Residencial","un",15,13.8198875,207.3,0.191,16.46,246.9]
["SF-01289","Elétrica","Iluminação","Luminária redonda de sobrepor (plafond) – Linha Residencial","un",40,79.388214899999994,3175.53,0.191,94.55,3782]
["SF-01295","Civil","Portas","Bandeira de porta, em madeira e MDF","m2",30,173.22690572142858,5196.8100000000004,0.191,206.31,6189.3]
["SF-01296","Civil","Portas","Bandeira de porta, em madeira pintada","m2",13.5,190.20403191190476,2567.75,0.191,226.53,3058.16]
["SF-01330","Ar Condicionado","Equipamentos Terminais e Unitários","Ar-condicionado split hi-wall inverter 18.000 BTU/h","un",40,3031.24,121249.60000000001,0.11260000000000001,3372.56,134902.39999999999]
[null,null,null,null,null,null,null,null,null,null,{"$f":"SUM(K2:K409)","v":11294657.050000001}]

{"sheet":"Armário","index":3,"n_rows":8,"n_cols":11,"rows_kept":8,"cut":false,"hidden":false,"merged":[]}
["SUBITEM","GRANDE ÁREA","CATEGORIA","DISCRIMINAÇÃO","UN","QUANT. TOTAL","PREÇO UNITÁRIO  (R$)"," CUSTO DIRETO "," BDI (%) ","PREÇO UNITÁRIO COM BDI (R$)"," CUSTO TOTAL "]
["SF-00352","Marcenaria e Serralheria","Armários","Armário em MDF laminado com porta e prateleiras","m2",500,500,250000,0,500,250000]
["SF-00353","Marcenaria e Serralheria","Armários","Armários em MDF laminado com porta e gavetas","m2",100,500,50000,0,500,50000]
["SF-00355","Marcenaria e Serralheria","Armários","Mesa/tampo de MDF, fixada em parede com mão-francesa","m2",20,150.29736249999999,3005.95,0.191,179,3580]
["SF-00356","Marcenaria e Serralheria","Armários","Painel para TV de 120 x 180 cm","m2",50,289.57799999999997,14478.9,0.191,344.89,17244.5]
["SF-00357","Marcenaria e Serralheria","Armários","Painel para TV de 160 x 160 cm","m2",50,577.07800000000009,28853.9,0.191,687.3,34365]
["SF-01291","Marcenaria e Serralheria","Armários","Armário em MDF laminado com porta e módulo de gaveta – Linha Residencial","m2",300,500,150000,0,500,150000]
[null,null,null,null,null,null,null,null,null,null,{"$f":"SUM(K2:K7)","v":505189.5}]

{"sheet":"Vidros e Película","index":4,"n_rows":7,"n_cols":11,"rows_kept":7,"cut":false,"hidden":false,"merged":[]}
["SUBITEM","GRANDE ÁREA","CATEGORIA","DISCRIMINAÇÃO","UN","QUANT. TOTAL","PREÇO UNITÁRIO  (R$)"," CUSTO DIRETO "," BDI (%) ","PREÇO UNITÁRIO COM BDI (R$)"," CUSTO TOTAL "]
["SF-00154","Civil","Vidro Comum","Espelho cristal, e=5 mm","m2",130,430.66159999999991,55986.01,0.191,512.91999999999996,66679.600000000006]
["SF-00160","Civil","Vidro Temperado","Mola hidráulica de piso","un",25,924.21145000000001,23105.29,0.191,1100.74,27518.5]
["SF-00165","Civil","Película","Película jateada","m2",80,64.27,5141.6000000000004,0,64.27,5141.6000000000004]
["SF-01253","Civil","Vidro Temperado","Divisória de Vidro temperado para box de CORRER e ferragens – Linha Residencial","m2",25,205.56,5139,0,205.56,5139]
["SF-01254","Civil","Vidro Temperado","Divisória de Vidro temperado para box com porta de GIRO e ferragens – Linha Residencial","m2",25,220,5500,0,220,5500]
[null,null,null,null,null,null,null,null,null,null,{"$f":"SUM(K2:K6)","v":109978.70000000001}]

{"sheet":"Cortinas e Persianas","index":5,"n_rows":8,"n_cols":11,"rows_kept":8,"cut":false,"hidden":false,"merged":[]}
["SUBITEM","GRANDE ÁREA","CATEGORIA","DISCRIMINAÇÃO","UN","QUANT. TOTAL","PREÇO UNITÁRIO  (R$)"," CUSTO DIRETO "," BDI (%) ","PREÇO UNITÁRIO COM BDI (R$)"," CUSTO TOTAL "]
["SF-00163","Civil","Persiana em Juta","Persiana vertical em tecido Juta Resinado sem blecaute de 90mm, cor bege","m2",300,111.02,33306,0,111.02,33306]
["SF-00164","Civil","Persiana em Tecido Sintético","Persiana vertical em tecido sintético sem blecaute de 90mm, cores verde escuro ou branca","m2",300,92.64,27792,0,92.64,27792]
["SF-01274","Civil","Cortinas","Cortina de linho sintético / BLECAUTE COM VARÃO – Linha Residencial","m",65,511.67,33258.550000000003,0,511.67,33258.550000000003]
["SF-01275","Civil","Cortinas","Cortina de linho sintético / BLECAUTE SEM VARÃO – Linha Residencial","m",65,440.75,28648.75,0,440.75,28648.75]
["SF-01276","Civil","Cortinas","Cortina de linho sintético / FORRO COM VARÃO – Linha Residencial","m",50,414.43,20721.5,0,414.43,20721.5]
["SF-01277","Civil","Cortinas","Cortina de linho sintético / FORRO SEM VARÃO – Linha Residencial","m",50,375.26,18763,0,375.26,18763]
[null,null,null,null,null,null,null,null,null,null,{"$f":"SUM(K2:K7)","v":162489.79999999999}]

{"sheet":"BDI","index":6,"n_rows":48,"n_cols":9,"rows_kept":48,"cut":false,"hidden":false,"merged":[[4,0,6,0],[4,5,6,5],[47,0,47,8]]}
[{"$f":"[2]Orçamentária!A1","v":"Execução de serviços comuns de engenharia nas edificações do CASF"}]
["BENEFÍCIOS E DESPESAS INDIRETAS - BDI"]
[]
["BDI Edificações",null,null,null,null,"BDI mero fornecimento"]
["Componentes do BDI","Cálculo sem CPRB","Cálculo com CPRB",null,null,"Componentes do BDI","Cálculo sem CPRB","Cálculo com CPRB"]
[null,"não-desonerado","desonerado",null,null,null,"não-desonerado","desonerado"]
[null,"% considerado","% considerado",null,null,null,"% considerado","% considerado"]
["AC",3.5000000000000003E-2,3.5000000000000003E-2,null,null,"AC",1.7500000000000002E-2,1.7500000000000002E-2]
["S+G",8.0000000000000002E-3,8.0000000000000002E-3,null,null,"S+G",3.8999999999999998E-3,3.8999999999999998E-3]
["R",1.2500000000000001E-2,1.2500000000000001E-2,null,null,"R",5.5999999999999999E-3,5.5999999999999999E-3]
["DF",7.6E-3,7.6E-3,null,null,"DF",8.5000000000000006E-3,8.5000000000000006E-3]
["L",6.7799999999999999E-2,6.7799999999999999E-2,null,null,"L",3.5000000000000003E-2,3.5000000000000003E-2]
["PIS",6.4999999999999997E-3,6.4999999999999997E-3,null,null,"PIS",6.4999999999999997E-3,6.4999999999999997E-3]
["COFINS",0.03,0.03,null,null,"COFINS",0.03,0.03]
["CPRB",0,4.4999999999999998E-2,null,null,"CPRB",0,4.4999999999999998E-2]
["ISS",0.01,0.01,null,null,"ISS",0,0]
["BDI Edificações",{"$f":"ROUND(((1+B8+B9+B10)*(1+B11)*(1+B12))/(1-(B13+B14+B15+B16))-1,4)","v":0.191},{"$f":"ROUND(((1+C8+C9+C10)*(1+C11)*(1+C12))/(1-(C13+C14+C15+C16))-1,4)","v":0.25},null,null,"BDI mero fornecimento",{"$f":"ROUND(((1+G8+G9+G10)*(1+G11)*(1+G12))/(1-(G13+G14+G15+G16))-1,4)","v":0.11260000000000001},{"$f":"ROUND(((1+H8+H9+H10)*(1+H11)*(1+H12))/(1-(H13+H14+H15+H16))-1,4)","v":0.1671}]
[]
["Referências TCU - BDI Edificações",null,null,null,null,"Referências TCU - BDI mero fornecimento"]
["Componentes do BDI","1º Quartil","Médio","3º Quartil",null,"Componentes do BDI","1º Quartil","Médio","3º Quartil"]
["AC",0.03,0.04,5.5E-2,null,"AC",1.4999999999999999E-2,3.4500000000000003E-2,4.4900000000000002E-2]
["S+G",8.0000000000000002E-3,8.0000000000000002E-3,0.01,null,"S+G",3.0000000000000001E-3,4.7999999999999996E-3,8.2000000000000007E-3]
["R",9.7000000000000003E-3,1.2699999999999999E-2,1.2699999999999999E-2,null,"R",5.5999999999999999E-3,8.5000000000000006E-3,8.8999999999999999E-3]
["DF",5.8999999999999999E-3,1.23E-2,1.3899999999999999E-2,null,"DF",8.5000000000000006E-3,8.5000000000000006E-3,1.11E-2]
["L",6.1600000000000002E-2,7.400000000000001E-2,8.9599999999999999E-2,null,"L",3.5000000000000003E-2,5.11E-2,6.2199999999999998E-2]
["BDI Edificações",0.2034,0.22120000000000001,0.25,null,"BDI mero fornecimento",0.111,0.14019999999999999,0.16800000000000001]
[]
[]
[]
[]
[]
[]
[]
[]
[]
[]
[]
[]
[]
[]
[]
[]
[]
[]
[]
[]
[]
["Fontes: Acórdãos 2.369/2011-TCU-Plenário e 2.622/2013-TCU-Plenário."]

{"sheet":"Levantamento_SEPROARQQQ","index":7,"n_rows":499,"n_cols":6,"rows_kept":499,"cut":false,"hidden":true,"merged":[[0,0,0,5],[1,0,2,0],[1,1,2,1],[1,2,2,2],[1,3,2,3],[1,4,2,4],[1,5,2,5]]}
["ARP 2018/2019 - Levantamento arquitetura"]
["Nº","Item","Discriminação","Und.","Qtd.","Observação / Ambiente"]
[]
[{"$f":"IF(B4=\"\",\"\",COUNTA($B$4:B4))","v":""},null,{"$f":"IF(B4=\"\",\"\",IF(LEFT(B4,2)=LEFT(\"FA\",2),F4,INDEX(#REF!,MATCH(Levantamento_SEPROARQQQ!B4,#REF!,0),4)))","v":""},{"$f":"IF(LEFT(B4,2)=LEFT(\"FA\",8),\"\",IFERROR(VLOOKUP(B4,#REF!,5,FALSE),\"\"))","v":""}]
[{"$f":"IF(B5=\"\",\"\",COUNTA($B$4:B5))","v":""},null,{"$f":"IF(B5=\"\",\"\",IF(LEFT(B5,2)=LEFT(\"FA\",2),F5,INDEX(#REF!,MATCH(Levantamento_SEPROARQQQ!B5,#REF!,0),4)))","v":""},{"$f":"IF(LEFT(B5,2)=LEFT(\"FA\",8),\"\",IFERROR(VLOOKUP(B5,#REF!,5,FALSE),\"\"))","v":""}]
[{"$f":"IF(B6=\"\",\"\",COUNTA($B$4:B6))","v":""},null,{"$f":"IF(B6=\"\",\"\",IF(LEFT(B6,2)=LEFT(\"FA\",2),F6,INDEX(#REF!,MATCH(Levantamento_SEPROARQQQ!B6,#REF!,0),4)))","v":""},{"$f":"IF(LEFT(B6,2)=LEFT(\"FA\",8),\"\",IFERROR(VLOOKUP(B6,#REF!,5,FALSE),\"\"))","v":""}]
[{"$f":"IF(B7=\"\",\"\",COUNTA($B$4:B7))","v":""},null,{"$f":"IF(B7=\"\",\"\",IF(LEFT(B7,2)=LEFT(\"FA\",2),F7,INDEX(#REF!,MATCH(Levantamento_SEPROARQQQ!B7,#REF!,0),4)))","v":""},{"$f":"IF(LEFT(B7,2)=LEFT(\"FA\",8),\"\",IFERROR(VLOOKUP(B7,#REF!,5,FALSE),\"\"))","v":""}]
[{"$f":"IF(B8=\"\",\"\",COUNTA($B$4:B8))","v":""},null,{"$f":"IF(B8=\"\",\"\",IF(LEFT(B8,2)=LEFT(\"FA\",2),F8,INDEX(#REF!,MATCH(Levantamento_SEPROARQQQ!B8,#REF!,0),4)))","v":""},{"$f":"IF(LEFT(B8,2)=LEFT(\"FA\",8),\"\",IFERROR(VLOOKUP(B8,#REF!,5,FALSE),\"\"))","v":""}]
[{"$f":"IF(B9=\"\",\"\",COUNTA($B$4:B9))","v":""},null,{"$f":"IF(B9=\"\",\"\",IF(LEFT(B9,2)=LEFT(\"FA\",2),F9,INDEX(#REF!,MATCH(Levantamento_SEPROARQQQ!B9,#REF!,0),4)))","v":""},{"$f":"IF(LEFT(B9,2)=LEFT(\"FA\",8),\"\",IFERROR(VLOOKUP(B9,#REF!,5,FALSE),\"\"))","v":""}]
[{"$f":"IF(B10=\"\",\"\",COUNTA($B$4:B10))","v":""},null,{"$f":"IF(B10=\"\",\"\",IF(LEFT(B10,2)=LEFT(\"FA\",2),F10,INDEX(#REF!,MATCH(Levantamento_SEPROARQQQ!B10,#REF!,0),4)))","v":""},{"$f":"IF(LEFT(B10,2)=LEFT(\"FA\",8),\"\",IFERROR(VLOOKUP(B10,#REF!,5,FALSE),\"\"))","v":""}]
[{"$f":"IF(B11=\"\",\"\",COUNTA($B$4:B11))","v":""},null,{"$f":"IF(B11=\"\",\"\",IF(LEFT(B11,2)=LEFT(\"FA\",2),F11,INDEX(#REF!,MATCH(Levantamento_SEPROARQQQ!B11,#REF!,0),4)))","v":""},{"$f":"IF(LEFT(B11,2)=LEFT(\"FA\",8),\"\",IFERROR(VLOOKUP(B11,#REF!,5,FALSE),\"\"))","v":""}]
[{"$f":"IF(B12=\"\",\"\",COUNTA($B$4:B12))","v":""},null,{"$f":"IF(B12=\"\",\"\",IF(LEFT(B12,2)=LEFT(\"FA\",2),F12,INDEX(#REF!,MATCH(Levantamento_SEPROARQQQ!B12,#REF!,0),4)))","v":""},{"$f":"IF(LEFT(B12,2)=LEFT(\"FA\",8),\"\",IFERROR(VLOOKUP(B12,#REF!,5,FALSE),\"\"))","v":""}]
[{"$f":"IF(B13=\"\",\"\",COUNTA($B$4:B13))","v":""},null,{"$f":"IF(B13=\"\",\"\",IF(LEFT(B13,2)=LEFT(\"FA\",2),F13,INDEX(#REF!,MATCH(Levantamento_SEPROARQQQ!B13,#REF!,0),4)))","v":""},{"$f":"IF(LEFT(B13,2)=LEFT(\"FA\",8),\"\",IFERROR(VLOOKUP(B13,#REF!,5,FALSE),\"\"))","v":""}]
[{"$f":"IF(B14=\"\",\"\",COUNTA($B$4:B14))","v":""},null,{"$f":"IF(B14=\"\",\"\",IF(LEFT(B14,2)=LEFT(\"FA\",2),F14,INDEX(#REF!,MATCH(Levantamento_SEPROARQQQ!B14,#REF!,0),4)))","v":""},{"$f":"IF(LEFT(B14,2)=LEFT(\"FA\",8),\"\",IFERROR(VLOOKUP(B14,#REF!,5,FALSE),\"\"))","v":""}]
[{"$f":"IF(B15=\"\",\"\",COUNTA($B$4:B15))","v":""},null,{"$f":"IF(B15=\"\",\"\",IF(LEFT(B15,2)=LEFT(\"FA\",2),F15,INDEX(#REF!,MATCH(Levantamento_SEPROARQQQ!B15,#REF!,0),4)))","v":""},{"$f":"IF(LEFT(B15,2)=LEFT(\"FA\",8),\"\",IFERROR(VLOOKUP(B15,#REF!,5,FALSE),\"\"))","v":""}]
[{"$f":"IF(B16=\"\",\"\",COUNTA($B$4:B16))","v":""},null,{"$f":"IF(B16=\"\",\"\",IF(LEFT(B16,2)=LEFT(\"FA\",2),F16,INDEX(#REF!,MATCH(Levantamento_SEPROARQQQ!B16,#REF!,0),4)))","v":""},{"$f":"IF(LEFT(B16,2)=LEFT(\"FA\",8),\"\",IFERROR(VLOOKUP(B16,#REF!,5,FALSE),\"\"))","v":""}]
[{"$f":"IF(B17=\"\",\"\",COUNTA($B$4:B17))","v":""},null,{"$f":"IF(B17=\"\",\"\",IF(LEFT(B17,2)=LEFT(\"FA\",2),F17,INDEX(#REF!,MATCH(Levantamento_SEPROARQQQ!B17,#REF!,0),4)))","v":""},{"$f":"IF(LEFT(B17,2)=LEFT(\"FA\",8),\"\",IFERROR(VLOOKUP(B17,#REF!,5,FALSE),\"\"))","v":""}]
[{"$f":"IF(B18=\"\",\"\",COUNTA($B$4:B18))","v":""},null,{"$f":"IF(B18=\"\",\"\",IF(LEFT(B18,2)=LEFT(\"FA\",2),F18,INDEX(#REF!,MATCH(Levantamento_SEPROARQQQ!B18,#REF!,0),4)))","v":""},{"$f":"IF(LEFT(B18,2)=LEFT(\"FA\",8),\"\",IFERROR(VLOOKUP(B18,#REF!,5,FALSE),\"\"))","v":""}]
[{"$f":"IF(B19=\"\",\"\",COUNTA($B$4:B19))","v":""},null,{"$f":"IF(B19=\"\",\"\",IF(LEFT(B19,2)=LEFT(\"FA\",2),F19,INDEX(#REF!,MATCH(Levantamento_SEPROARQQQ!B19,#REF!,0),4)))","v":""},{"$f":"IF(LEFT(B19,2)=LEFT(\"FA\",8),\"\",IFERROR(VLOOKUP(B19,#REF!,5,FALSE),\"\"))","v":""}]
[{"$f":"IF(B20=\"\",\"\",COUNTA($B$4:B20))","v":""},null,{"$f":"IF(B20=\"\",\"\",IF(LEFT(B20,2)=LEFT(\"FA\",2),F20,INDEX(#REF!,MATCH(Levantamento_SEPROARQQQ!B20,#REF!,0),4)))","v":""},{"$f":"IF(LEFT(B20,2)=LEFT(\"FA\",8),\"\",IFERROR(VLOOKUP(B20,#REF!,5,FALSE),\"\"))","v":""}]
[{"$f":"IF(B21=\"\",\"\",COUNTA($B$4:B21))","v":""},null,{"$f":"IF(B21=\"\",\"\",IF(LEFT(B21,2)=LEFT(\"FA\",2),F21,INDEX(#REF!,MATCH(Levantamento_SEPROARQQQ!B21,#REF!,0),4)))","v":""},{"$f":"IF(LEFT(B21,2)=LEFT(\"FA\",8),\"\",IFERROR(VLOOKUP(B21,#REF!,5,FALSE),\"\"))","v":""}]
[{"$f":"IF(B22=\"\",\"\",COUNTA($B$4:B22))","v":""},null,{"$f":"IF(B22=\"\",\"\",IF(LEFT(B22,2)=LEFT(\"FA\",2),F22,INDEX(#REF!,MATCH(Levantamento_SEPROARQQQ!B22,#REF!,0),4)))","v":""},{"$f":"IF(LEFT(B22,2)=LEFT(\"FA\",8),\"\",IFERROR(VLOOKUP(B22,#REF!,5,FALSE),\"\"))","v":""}]
[{"$f":"IF(B23=\"\",\"\",COUNTA($B$4:B23))","v":""},null,{"$f":"IF(B23=\"\",\"\",IF(LEFT(B23,2)=LEFT(\"FA\",2),F23,INDEX(#REF!,MATCH(Levantamento_SEPROARQQQ!B23,#REF!,0),4)))","v":""},{"$f":"IF(LEFT(B23,2)=LEFT(\"FA\",8),\"\",IFERROR(VLOOKUP(B23,#REF!,5,FALSE),\"\"))","v":""}]
[{"$f":"IF(B24=\"\",\"\",COUNTA($B$4:B24))","v":""},null,{"$f":"IF(B24=\"\",\"\",IF(LEFT(B24,2)=LEFT(\"FA\",2),F24,INDEX(#REF!,MATCH(Levantamento_SEPROARQQQ!B24,#REF!,0),4)))","v":""},{"$f":"IF(LEFT(B24,2)=LEFT(\"FA\",8),\"\",IFERROR(VLOOKUP(B24,#REF!,5,FALSE),\"\"))","v":""}]
[{"$f":"IF(B25=\"\",\"\",COUNTA($B$4:B25))","v":""},null,{"$f":"IF(B25=\"\",\"\",IF(LEFT(B25,2)=LEFT(\"FA\",2),F25,INDEX(#REF!,MATCH(Levantamento_SEPROARQQQ!B25,#REF!,0),4)))","v":""},{"$f":"IF(LEFT(B25,2)=LEFT(\"FA\",8),\"\",IFERROR(VLOOKUP(B25,#REF!,5,FALSE),\"\"))","v":""}]
[{"$f":"IF(B26=\"\",\"\",COUNTA($B$4:B26))","v":""},null,{"$f":"IF(B26=\"\",\"\",IF(LEFT(B26,2)=LEFT(\"FA\",2),F26,INDEX(#REF!,MATCH(Levantamento_SEPROARQQQ!B26,#REF!,0),4)))","v":""},{"$f":"IF(LEFT(B26,2)=LEFT(\"FA\",8),\"\",IFERROR(VLOOKUP(B26,#REF!,5,FALSE),\"\"))","v":""}]
[{"$f":"IF(B27=\"\",\"\",COUNTA($B$4:B27))","v":""},null,{"$f":"IF(B27=\"\",\"\",IF(LEFT(B27,2)=LEFT(\"FA\",2),F27,INDEX(#REF!,MATCH(Levantamento_SEPROARQQQ!B27,#REF!,0),4)))","v":""},{"$f":"IF(LEFT(B27,2)=LEFT(\"FA\",8),\"\",IFERROR(VLOOKUP(B27,#REF!,5,FALSE),\"\"))","v":""}]
[{"$f":"IF(B28=\"\",\"\",COUNTA($B$4:B28))","v":""},null,{"$f":"IF(B28=\"\",\"\",IF(LEFT(B28,2)=LEFT(\"FA\",2),F28,INDEX(#REF!,MATCH(Levantamento_SEPROARQQQ!B28,#REF!,0),4)))","v":""},{"$f":"IF(LEFT(B28,2)=LEFT(\"FA\",8),\"\",IFERROR(VLOOKUP(B28,#REF!,5,FALSE),\"\"))","v":""}]
[{"$f":"IF(B29=\"\",\"\",COUNTA($B$4:B29))","v":""},null,{"$f":"IF(B29=\"\",\"\",IF(LEFT(B29,2)=LEFT(\"FA\",2),F29,INDEX(#REF!,MATCH(Levantamento_SEPROARQQQ!B29,#REF!,0),4)))","v":""},{"$f":"IF(LEFT(B29,2)=LEFT(\"FA\",8),\"\",IFERROR(VLOOKUP(B29,#REF!,5,FALSE),\"\"))","v":""}]
[{"$f":"IF(B30=\"\",\"\",COUNTA($B$4:B30))","v":""},null,{"$f":"IF(B30=\"\",\"\",IF(LEFT(B30,2)=LEFT(\"FA\",2),F30,INDEX(#REF!,MATCH(Levantamento_SEPROARQQQ!B30,#REF!,0),4)))","v":""},{"$f":"IF(LEFT(B30,2)=LEFT(\"FA\",8),\"\",IFERROR(VLOOKUP(B30,#REF!,5,FALSE),\"\"))","v":""}]
[{"$f":"IF(B31=\"\",\"\",COUNTA($B$4:B31))","v":""},null,{"$f":"IF(B31=\"\",\"\",IF(LEFT(B31,2)=LEFT(\"FA\",2),F31,INDEX(#REF!,MATCH(Levantamento_SEPROARQQQ!B31,#REF!,0),4)))","v":""},{"$f":"IF(LEFT(B31,2)=LEFT(\"FA\",8),\"\",IFERROR(VLOOKUP(B31,#REF!,5,FALSE),\"\"))","v":""}]
[{"$f":"IF(B32=\"\",\"\",COUNTA($B$4:B32))","v":""},null,{"$f":"IF(B32=\"\",\"\",IF(LEFT(B32,2)=LEFT(\"FA\",2),F32,INDEX(#REF!,MATCH(Levantamento_SEPROARQQQ!B32,#REF!,0),4)))","v":""},{"$f":"IF(LEFT(B32,2)=LEFT(\"FA\",8),\"\",IFERROR(VLOOKUP(B32,#REF!,5,FALSE),\"\"))","v":""}]
[{"$f":"IF(B33=\"\",\"\",COUNTA($B$4:B33))","v":""},null,{"$f":"IF(B33=\"\",\"\",IF(LEFT(B33,2)=LEFT(\"FA\",2),F33,INDEX(#REF!,MATCH(Levantamento_SEPROARQQQ!B33,#REF!,0),4)))","v":""},{"$f":"IF(LEFT(B33,2)=LEFT(\"FA\",8),\"\",IFERROR(VLOOKUP(B33,#REF!,5,FALSE),\"\"))","v":""}]
[{"$f":"IF(B34=\"\",\"\",COUNTA($B$4:B34))","v":""},null,{"$f":"IF(B34=\"\",\"\",IF(LEFT(B34,2)=LEFT(\"FA\",2),F34,INDEX(#REF!,MATCH(Levantamento_SEPROARQQQ!B34,#REF!,0),4)))","v":""},{"$f":"IF(LEFT(B34,2)=LEFT(\"FA\",8),\"\",IFERROR(VLOOKUP(B34,#REF!,5,FALSE),\"\"))","v":""}]
[{"$f":"IF(B35=\"\",\"\",COUNTA($B$4:B35))","v":""},null,{"$f":"IF(B35=\"\",\"\",IF(LEFT(B35,2)=LEFT(\"FA\",2),F35,INDEX(#REF!,MATCH(Levantamento_SEPROARQQQ!B35,#REF!,0),4)))","v":""},{"$f":"IF(LEFT(B35,2)=LEFT(\"FA\",8),\"\",IFERROR(VLOOKUP(B35,#REF!,5,FALSE),\"\"))","v":""}]
[{"$f":"IF(B36=\"\",\"\",COUNTA($B$4:B36))","v":""},null,{"$f":"IF(B36=\"\",\"\",IF(LEFT(B36,2)=LEFT(\"FA\",2),F36,INDEX(#REF!,MATCH(Levantamento_SEPROARQQQ!B36,#REF!,0),4)))","v":""},{"$f":"IF(LEFT(B36,2)=LEFT(\"FA\",8),\"\",IFERROR(VLOOKUP(B36,#REF!,5,FALSE),\"\"))","v":""}]
[{"$f":"IF(B37=\"\",\"\",COUNTA($B$4:B37))","v":""},null,{"$f":"IF(B37=\"\",\"\",IF(LEFT(B37,2)=LEFT(\"FA\",2),F37,INDEX(#REF!,MATCH(Levantamento_SEPROARQQQ!B37,#REF!,0),4)))","v":""},{"$f":"IF(LEFT(B37,2)=LEFT(\"FA\",8),\"\",IFERROR(VLOOKUP(B37,#REF!,5,FALSE),\"\"))","v":""}]
[{"$f":"IF(B38=\"\",\"\",COUNTA($B$4:B38))","v":""},null,{"$f":"IF(B38=\"\",\"\",IF(LEFT(B38,2)=LEFT(\"FA\",2),F38,INDEX(#REF!,MATCH(Levantamento_SEPROARQQQ!B38,#REF!,0),4)))","v":""},{"$f":"IF(LEFT(B38,2)=LEFT(\"FA\",8),\"\",IFERROR(VLOOKUP(B38,#REF!,5,FALSE),\"\"))","v":""}]
[{"$f":"IF(B39=\"\",\"\",COUNTA($B$4:B39))","v":""},null,{"$f":"IF(B39=\"\",\"\",IF(LEFT(B39,2)=LEFT(\"FA\",2),F39,INDEX(#REF!,MATCH(Levantamento_SEPROARQQQ!B39,#REF!,0),4)))","v":""},{"$f":"IF(LEFT(B39,2)=LEFT(\"FA\",8),\"\",IFERROR(VLOOKUP(B39,#REF!,5,FALSE),\"\"))","v":""}]
[{"$f":"IF(B40=\"\",\"\",COUNTA($B$4:B40))","v":""},null,{"$f":"IF(B40=\"\",\"\",IF(LEFT(B40,2)=LEFT(\"FA\",2),F40,INDEX(#REF!,MATCH(Levantamento_SEPROARQQQ!B40,#REF!,0),4)))","v":""},{"$f":"IF(LEFT(B40,2)=LEFT(\"FA\",8),\"\",IFERROR(VLOOKUP(B40,#REF!,5,FALSE),\"\"))","v":""}]
[{"$f":"IF(B41=\"\",\"\",COUNTA($B$4:B41))","v":""},null,{"$f":"IF(B41=\"\",\"\",IF(LEFT(B41,2)=LEFT(\"FA\",2),F41,INDEX(#REF!,MATCH(Levantamento_SEPROARQQQ!B41,#REF!,0),4)))","v":""},{"$f":"IF(LEFT(B41,2)=LEFT(\"FA\",8),\"\",IFERROR(VLOOKUP(B41,#REF!,5,FALSE),\"\"))","v":""}]
[{"$f":"IF(B42=\"\",\"\",COUNTA($B$4:B42))","v":""},null,{"$f":"IF(B42=\"\",\"\",IF(LEFT(B42,2)=LEFT(\"FA\",2),F42,INDEX(#REF!,MATCH(Levantamento_SEPROARQQQ!B42,#REF!,0),4)))","v":""},{"$f":"IF(LEFT(B42,2)=LEFT(\"FA\",8),\"\",IFERROR(VLOOKUP(B42,#REF!,5,FALSE),\"\"))","v":""}]
[{"$f":"IF(B43=\"\",\"\",COUNTA($B$4:B43))","v":""},null,{"$f":"IF(B43=\"\",\"\",IF(LEFT(B43,2)=LEFT(\"FA\",2),F43,INDEX(#REF!,MATCH(Levantamento_SEPROARQQQ!B43,#REF!,0),4)))","v":""},{"$f":"IF(LEFT(B43,2)=LEFT(\"FA\",8),\"\",IFERROR(VLOOKUP(B43,#REF!,5,FALSE),\"\"))","v":""}]
[{"$f":"IF(B44=\"\",\"\",COUNTA($B$4:B44))","v":""},null,{"$f":"IF(B44=\"\",\"\",IF(LEFT(B44,2)=LEFT(\"FA\",2),F44,INDEX(#REF!,MATCH(Levantamento_SEPROARQQQ!B44,#REF!,0),4)))","v":""},{"$f":"IF(LEFT(B44,2)=LEFT(\"FA\",8),\"\",IFERROR(VLOOKUP(B44,#REF!,5,FALSE),\"\"))","v":""}]
[{"$f":"IF(B45=\"\",\"\",COUNTA($B$4:B45))","v":""},null,{"$f":"IF(B45=\"\",\"\",IF(LEFT(B45,2)=LEFT(\"FA\",2),F45,INDEX(#REF!,MATCH(Levantamento_SEPROARQQQ!B45,#REF!,0),4)))","v":""},{"$f":"IF(LEFT(B45,2)=LEFT(\"FA\",8),\"\",IFERROR(VLOOKUP(B45,#REF!,5,FALSE),\"\"))","v":""}]
[{"$f":"IF(B46=\"\",\"\",COUNTA($B$4:B46))","v":""},null,{"$f":"IF(B46=\"\",\"\",IF(LEFT(B46,2)=LEFT(\"FA\",2),F46,INDEX(#REF!,MATCH(Levantamento_SEPROARQQQ!B46,#REF!,0),4)))","v":""},{"$f":"IF(LEFT(B46,2)=LEFT(\"FA\",8),\"\",IFERROR(VLOOKUP(B46,#REF!,5,FALSE),\"\"))","v":""}]
[{"$f":"IF(B47=\"\",\"\",COUNTA($B$4:B47))","v":""},null,{"$f":"IF(B47=\"\",\"\",IF(LEFT(B47,2)=LEFT(\"FA\",2),F47,INDEX(#REF!,MATCH(Levantamento_SEPROARQQQ!B47,#REF!,0),4)))","v":""},{"$f":"IF(LEFT(B47,2)=LEFT(\"FA\",8),\"\",IFERROR(VLOOKUP(B47,#REF!,5,FALSE),\"\"))","v":""}]
[{"$f":"IF(B48=\"\",\"\",COUNTA($B$4:B48))","v":""},null,{"$f":"IF(B48=\"\",\"\",IF(LEFT(B48,2)=LEFT(\"FA\",2),F48,INDEX(#REF!,MATCH(Levantamento_SEPROARQQQ!B48,#REF!,0),4)))","v":""},{"$f":"IF(LEFT(B48,2)=LEFT(\"FA\",8),\"\",IFERROR(VLOOKUP(B48,#REF!,5,FALSE),\"\"))","v":""}]
[{"$f":"IF(B49=\"\",\"\",COUNTA($B$4:B49))","v":""},null,{"$f":"IF(B49=\"\",\"\",IF(LEFT(B49,2)=LEFT(\"FA\",2),F49,INDEX(#REF!,MATCH(Levantamento_SEPROARQQQ!B49,#REF!,0),4)))","v":""},{"$f":"IF(LEFT(B49,2)=LEFT(\"FA\",8),\"\",IFERROR(VLOOKUP(B49,#REF!,5,FALSE),\"\"))","v":""}]
[{"$f":"IF(B50=\"\",\"\",COUNTA($B$4:B50))","v":""},null,{"$f":"IF(B50=\"\",\"\",IF(LEFT(B50,2)=LEFT(\"FA\",2),F50,INDEX(#REF!,MATCH(Levantamento_SEPROARQQQ!B50,#REF!,0),4)))","v":""},{"$f":"IF(LEFT(B50,2)=LEFT(\"FA\",8),\"\",IFERROR(VLOOKUP(B50,#REF!,5,FALSE),\"\"))","v":""}]
[{"$f":"IF(B51=\"\",\"\",COUNTA($B$4:B51))","v":""},null,{"$f":"IF(B51=\"\",\"\",IF(LEFT(B51,2)=LEFT(\"FA\",2),F51,INDEX(#REF!,MATCH(Levantamento_SEPROARQQQ!B51,#REF!,0),4)))","v":""},{"$f":"IF(LEFT(B51,2)=LEFT(\"FA\",8),\"\",IFERROR(VLOOKUP(B51,#REF!,5,FALSE),\"\"))","v":""}]
[{"$f":"IF(B52=\"\",\"\",COUNTA($B$4:B52))","v":""},null,{"$f":"IF(B52=\"\",\"\",IF(LEFT(B52,2)=LEFT(\"FA\",2),F52,INDEX(#REF!,MATCH(Levantamento_SEPROARQQQ!B52,#REF!,0),4)))","v":""},{"$f":"IF(LEFT(B52,2)=LEFT(\"FA\",8),\"\",IFERROR(VLOOKUP(B52,#REF!,5,FALSE),\"\"))","v":""}]
[{"$f":"IF(B53=\"\",\"\",COUNTA($B$4:B53))","v":""},null,{"$f":"IF(B53=\"\",\"\",IF(LEFT(B53,2)=LEFT(\"FA\",2),F53,INDEX(#REF!,MATCH(Levantamento_SEPROARQQQ!B53,#REF!,0),4)))","v":""},{"$f":"IF(LEFT(B53,2)=LEFT(\"FA\",8),\"\",IFERROR(VLOOKUP(B53,#REF!,5,FALSE),\"\"))","v":""}]
[{"$f":"IF(B54=\"\",\"\",COUNTA($B$4:B54))","v":""},null,{"$f":"IF(B54=\"\",\"\",IF(LEFT(B54,2)=LEFT(\"FA\",2),F54,INDEX(#REF!,MATCH(Levantamento_SEPROARQQQ!B54,#REF!,0),4)))","v":""},{"$f":"IF(LEFT(B54,2)=LEFT(\"FA\",8),\"\",IFERROR(VLOOKUP(B54,#REF!,5,FALSE),\"\"))","v":""}]
[{"$f":"IF(B55=\"\",\"\",COUNTA($B$4:B55))","v":""},null,{"$f":"IF(B55=\"\",\"\",IF(LEFT(B55,2)=LEFT(\"FA\",2),F55,INDEX(#REF!,MATCH(Levantamento_SEPROARQQQ!B55,#REF!,0),4)))","v":""},{"$f":"IF(LEFT(B55,2)=LEFT(\"FA\",8),\"\",IFERROR(VLOOKUP(B55,#REF!,5,FALSE),\"\"))","v":""}]
[{"$f":"IF(B56=\"\",\"\",COUNTA($B$4:B56))","v":""},null,{"$f":"IF(B56=\"\",\"\",IF(LEFT(B56,2)=LEFT(\"FA\",2),F56,INDEX(#REF!,MATCH(Levantamento_SEPROARQQQ!B56,#REF!,0),4)))","v":""},{"$f":"IF(LEFT(B56,2)=LEFT(\"FA\",8),\"\",IFERROR(VLOOKUP(B56,#REF!,5,FALSE),\"\"))","v":""}]
[{"$f":"IF(B57=\"\",\"\",COUNTA($B$4:B57))","v":""},null,{"$f":"IF(B57=\"\",\"\",IF(LEFT(B57,2)=LEFT(\"FA\",2),F57,INDEX(#REF!,MATCH(Levantamento_SEPROARQQQ!B57,#REF!,0),4)))","v":""},{"$f":"IF(LEFT(B57,2)=LEFT(\"FA\",8),\"\",IFERROR(VLOOKUP(B57,#REF!,5,FALSE),\"\"))","v":""}]
[{"$f":"IF(B58=\"\",\"\",COUNTA($B$4:B58))","v":""},null,{"$f":"IF(B58=\"\",\"\",IF(LEFT(B58,2)=LEFT(\"FA\",2),F58,INDEX(#REF!,MATCH(Levantamento_SEPROARQQQ!B58,#REF!,0),4)))","v":""},{"$f":"IF(LEFT(B58,2)=LEFT(\"FA\",8),\"\",IFERROR(VLOOKUP(B58,#REF!,5,FALSE),\"\"))","v":""}]
[{"$f":"IF(B59=\"\",\"\",COUNTA($B$4:B59))","v":""},null,{"$f":"IF(B59=\"\",\"\",IF(LEFT(B59,2)=LEFT(\"FA\",2),F59,INDEX(#REF!,MATCH(Levantamento_SEPROARQQQ!B59,#REF!,0),4)))","v":""},{"$f":"IF(LEFT(B59,2)=LEFT(\"FA\",8),\"\",IFERROR(VLOOKUP(B59,#REF!,5,FALSE),\"\"))","v":""}]
[{"$f":"IF(B60=\"\",\"\",COUNTA($B$4:B60))","v":""},null,{"$f":"IF(B60=\"\",\"\",IF(LEFT(B60,2)=LEFT(\"FA\",2),F60,INDEX(#REF!,MATCH(Levantamento_SEPROARQQQ!B60,#REF!,0),4)))","v":""},{"$f":"IF(LEFT(B60,2)=LEFT(\"FA\",8),\"\",IFERROR(VLOOKUP(B60,#REF!,5,FALSE),\"\"))","v":""}]
[{"$f":"IF(B61=\"\",\"\",COUNTA($B$4:B61))","v":""},null,{"$f":"IF(B61=\"\",\"\",IF(LEFT(B61,2)=LEFT(\"FA\",2),F61,INDEX(#REF!,MATCH(Levantamento_SEPROARQQQ!B61,#REF!,0),4)))","v":""},{"$f":"IF(LEFT(B61,2)=LEFT(\"FA\",8),\"\",IFERROR(VLOOKUP(B61,#REF!,5,FALSE),\"\"))","v":""}]
[{"$f":"IF(B62=\"\",\"\",COUNTA($B$4:B62))","v":""},null,{"$f":"IF(B62=\"\",\"\",IF(LEFT(B62,2)=LEFT(\"FA\",2),F62,INDEX(#REF!,MATCH(Levantamento_SEPROARQQQ!B62,#REF!,0),4)))","v":""},{"$f":"IF(LEFT(B62,2)=LEFT(\"FA\",8),\"\",IFERROR(VLOOKUP(B62,#REF!,5,FALSE),\"\"))","v":""}]
[{"$f":"IF(B63=\"\",\"\",COUNTA($B$4:B63))","v":""},null,{"$f":"IF(B63=\"\",\"\",IF(LEFT(B63,2)=LEFT(\"FA\",2),F63,INDEX(#REF!,MATCH(Levantamento_SEPROARQQQ!B63,#REF!,0),4)))","v":""},{"$f":"IF(LEFT(B63,2)=LEFT(\"FA\",8),\"\",IFERROR(VLOOKUP(B63,#REF!,5,FALSE),\"\"))","v":""}]
[{"$f":"IF(B64=\"\",\"\",COUNTA($B$4:B64))","v":""},null,{"$f":"IF(B64=\"\",\"\",IF(LEFT(B64,2)=LEFT(\"FA\",2),F64,INDEX(#REF!,MATCH(Levantamento_SEPROARQQQ!B64,#REF!,0),4)))","v":""},{"$f":"IF(LEFT(B64,2)=LEFT(\"FA\",8),\"\",IFERROR(VLOOKUP(B64,#REF!,5,FALSE),\"\"))","v":""}]
[{"$f":"IF(B65=\"\",\"\",COUNTA($B$4:B65))","v":""},null,{"$f":"IF(B65=\"\",\"\",IF(LEFT(B65,2)=LEFT(\"FA\",2),F65,INDEX(#REF!,MATCH(Levantamento_SEPROARQQQ!B65,#REF!,0),4)))","v":""},{"$f":"IF(LEFT(B65,2)=LEFT(\"FA\",8),\"\",IFERROR(VLOOKUP(B65,#REF!,5,FALSE),\"\"))","v":""}]
[{"$f":"IF(B66=\"\",\"\",COUNTA($B$4:B66))","v":""},null,{"$f":"IF(B66=\"\",\"\",IF(LEFT(B66,2)=LEFT(\"FA\",2),F66,INDEX(#REF!,MATCH(Levantamento_SEPROARQQQ!B66,#REF!,0),4)))","v":""},{"$f":"IF(LEFT(B66,2)=LEFT(\"FA\",8),\"\",IFERROR(VLOOKUP(B66,#REF!,5,FALSE),\"\"))","v":""}]
[{"$f":"IF(B67=\"\",\"\",COUNTA($B$4:B67))","v":""},null,{"$f":"IF(B67=\"\",\"\",IF(LEFT(B67,2)=LEFT(\"FA\",2),F67,INDEX(#REF!,MATCH(Levantamento_SEPROARQQQ!B67,#REF!,0),4)))","v":""},{"$f":"IF(LEFT(B67,2)=LEFT(\"FA\",8),\"\",IFERROR(VLOOKUP(B67,#REF!,5,FALSE),\"\"))","v":""}]
[{"$f":"IF(B68=\"\",\"\",COUNTA($B$4:B68))","v":""},null,{"$f":"IF(B68=\"\",\"\",IF(LEFT(B68,2)=LEFT(\"FA\",2),F68,INDEX(#REF!,MATCH(Levantamento_SEPROARQQQ!B68,#REF!,0),4)))","v":""},{"$f":"IF(LEFT(B68,2)=LEFT(\"FA\",8),\"\",IFERROR(VLOOKUP(B68,#REF!,5,FALSE),\"\"))","v":""}]
[{"$f":"IF(B69=\"\",\"\",COUNTA($B$4:B69))","v":""},null,{"$f":"IF(B69=\"\",\"\",IF(LEFT(B69,2)=LEFT(\"FA\",2),F69,INDEX(#REF!,MATCH(Levantamento_SEPROARQQQ!B69,#REF!,0),4)))","v":""},{"$f":"IF(LEFT(B69,2)=LEFT(\"FA\",8),\"\",IFERROR(VLOOKUP(B69,#REF!,5,FALSE),\"\"))","v":""}]
[{"$f":"IF(B70=\"\",\"\",COUNTA($B$4:B70))","v":""},null,{"$f":"IF(B70=\"\",\"\",IF(LEFT(B70,2)=LEFT(\"FA\",2),F70,INDEX(#REF!,MATCH(Levantamento_SEPROARQQQ!B70,#REF!,0),4)))","v":""},{"$f":"IF(LEFT(B70,2)=LEFT(\"FA\",8),\"\",IFERROR(VLOOKUP(B70,#REF!,5,FALSE),\"\"))","v":""}]
[{"$f":"IF(B71=\"\",\"\",COUNTA($B$4:B71))","v":""},null,{"$f":"IF(B71=\"\",\"\",IF(LEFT(B71,2)=LEFT(\"FA\",2),F71,INDEX(#REF!,MATCH(Levantamento_SEPROARQQQ!B71,#REF!,0),4)))","v":""},{"$f":"IF(LEFT(B71,2)=LEFT(\"FA\",8),\"\",IFERROR(VLOOKUP(B71,#REF!,5,FALSE),\"\"))","v":""}]
[{"$f":"IF(B72=\"\",\"\",COUNTA($B$4:B72))","v":""},null,{"$f":"IF(B72=\"\",\"\",IF(LEFT(B72,2)=LEFT(\"FA\",2),F72,INDEX(#REF!,MATCH(Levantamento_SEPROARQQQ!B72,#REF!,0),4)))","v":""},{"$f":"IF(LEFT(B72,2)=LEFT(\"FA\",8),\"\",IFERROR(VLOOKUP(B72,#REF!,5,FALSE),\"\"))","v":""}]
[{"$f":"IF(B73=\"\",\"\",COUNTA($B$4:B73))","v":""},null,{"$f":"IF(B73=\"\",\"\",IF(LEFT(B73,2)=LEFT(\"FA\",2),F73,INDEX(#REF!,MATCH(Levantamento_SEPROARQQQ!B73,#REF!,0),4)))","v":""},{"$f":"IF(LEFT(B73,2)=LEFT(\"FA\",8),\"\",IFERROR(VLOOKUP(B73,#REF!,5,FALSE),\"\"))","v":""}]
[{"$f":"IF(B74=\"\",\"\",COUNTA($B$4:B74))","v":""},null,{"$f":"IF(B74=\"\",\"\",IF(LEFT(B74,2)=LEFT(\"FA\",2),F74,INDEX(#REF!,MATCH(Levantamento_SEPROARQQQ!B74,#REF!,0),4)))","v":""},{"$f":"IF(LEFT(B74,2)=LEFT(\"FA\",8),\"\",IFERROR(VLOOKUP(B74,#REF!,5,FALSE),\"\"))","v":""}]
[{"$f":"IF(B75=\"\",\"\",COUNTA($B$4:B75))","v":""},null,{"$f":"IF(B75=\"\",\"\",IF(LEFT(B75,2)=LEFT(\"FA\",2),F75,INDEX(#REF!,MATCH(Levantamento_SEPROARQQQ!B75,#REF!,0),4)))","v":""},{"$f":"IF(LEFT(B75,2)=LEFT(\"FA\",8),\"\",IFERROR(VLOOKUP(B75,#REF!,5,FALSE),\"\"))","v":""}]
[{"$f":"IF(B76=\"\",\"\",COUNTA($B$4:B76))","v":""},null,{"$f":"IF(B76=\"\",\"\",IF(LEFT(B76,2)=LEFT(\"FA\",2),F76,INDEX(#REF!,MATCH(Levantamento_SEPROARQQQ!B76,#REF!,0),4)))","v":""},{"$f":"IF(LEFT(B76,2)=LEFT(\"FA\",8),\"\",IFERROR(VLOOKUP(B76,#REF!,5,FALSE),\"\"))","v":""}]
[{"$f":"IF(B77=\"\",\"\",COUNTA($B$4:B77))","v":""},null,{"$f":"IF(B77=\"\",\"\",IF(LEFT(B77,2)=LEFT(\"FA\",2),F77,INDEX(#REF!,MATCH(Levantamento_SEPROARQQQ!B77,#REF!,0),4)))","v":""},{"$f":"IF(LEFT(B77,2)=LEFT(\"FA\",8),\"\",IFERROR(VLOOKUP(B77,#REF!,5,FALSE),\"\"))","v":""}]
[{"$f":"IF(B78=\"\",\"\",COUNTA($B$4:B78))","v":""},null,{"$f":"IF(B78=\"\",\"\",IF(LEFT(B78,2)=LEFT(\"FA\",2),F78,INDEX(#REF!,MATCH(Levantamento_SEPROARQQQ!B78,#REF!,0),4)))","v":""},{"$f":"IF(LEFT(B78,2)=LEFT(\"FA\",8),\"\",IFERROR(VLOOKUP(B78,#REF!,5,FALSE),\"\"))","v":""}]
[{"$f":"IF(B79=\"\",\"\",COUNTA($B$4:B79))","v":""},null,{"$f":"IF(B79=\"\",\"\",IF(LEFT(B79,2)=LEFT(\"FA\",2),F79,INDEX(#REF!,MATCH(Levantamento_SEPROARQQQ!B79,#REF!,0),4)))","v":""},{"$f":"IF(LEFT(B79,2)=LEFT(\"FA\",8),\"\",IFERROR(VLOOKUP(B79,#REF!,5,FALSE),\"\"))","v":""}]
[{"$f":"IF(B80=\"\",\"\",COUNTA($B$4:B80))","v":""},null,{"$f":"IF(B80=\"\",\"\",IF(LEFT(B80,2)=LEFT(\"FA\",2),F80,INDEX(#REF!,MATCH(Levantamento_SEPROARQQQ!B80,#REF!,0),4)))","v":""},{"$f":"IF(LEFT(B80,2)=LEFT(\"FA\",8),\"\",IFERROR(VLOOKUP(B80,#REF!,5,FALSE),\"\"))","v":""}]
[{"$f":"IF(B81=\"\",\"\",COUNTA($B$4:B81))","v":""},null,{"$f":"IF(B81=\"\",\"\",IF(LEFT(B81,2)=LEFT(\"FA\",2),F81,INDEX(#REF!,MATCH(Levantamento_SEPROARQQQ!B81,#REF!,0),4)))","v":""},{"$f":"IF(LEFT(B81,2)=LEFT(\"FA\",8),\"\",IFERROR(VLOOKUP(B81,#REF!,5,FALSE),\"\"))","v":""}]
[{"$f":"IF(B82=\"\",\"\",COUNTA($B$4:B82))","v":""},null,{"$f":"IF(B82=\"\",\"\",IF(LEFT(B82,2)=LEFT(\"FA\",2),F82,INDEX(#REF!,MATCH(Levantamento_SEPROARQQQ!B82,#REF!,0),4)))","v":""},{"$f":"IF(LEFT(B82,2)=LEFT(\"FA\",8),\"\",IFERROR(VLOOKUP(B82,#REF!,5,FALSE),\"\"))","v":""}]
[{"$f":"IF(B83=\"\",\"\",COUNTA($B$4:B83))","v":""},null,{"$f":"IF(B83=\"\",\"\",IF(LEFT(B83,2)=LEFT(\"FA\",2),F83,INDEX(#REF!,MATCH(Levantamento_SEPROARQQQ!B83,#REF!,0),4)))","v":""},{"$f":"IF(LEFT(B83,2)=LEFT(\"FA\",8),\"\",IFERROR(VLOOKUP(B83,#REF!,5,FALSE),\"\"))","v":""}]
[{"$f":"IF(B84=\"\",\"\",COUNTA($B$4:B84))","v":""},null,{"$f":"IF(B84=\"\",\"\",IF(LEFT(B84,2)=LEFT(\"FA\",2),F84,INDEX(#REF!,MATCH(Levantamento_SEPROARQQQ!B84,#REF!,0),4)))","v":""},{"$f":"IF(LEFT(B84,2)=LEFT(\"FA\",8),\"\",IFERROR(VLOOKUP(B84,#REF!,5,FALSE),\"\"))","v":""}]
[{"$f":"IF(B85=\"\",\"\",COUNTA($B$4:B85))","v":""},null,{"$f":"IF(B85=\"\",\"\",IF(LEFT(B85,2)=LEFT(\"FA\",2),F85,INDEX(#REF!,MATCH(Levantamento_SEPROARQQQ!B85,#REF!,0),4)))","v":""},{"$f":"IF(LEFT(B85,2)=LEFT(\"FA\",8),\"\",IFERROR(VLOOKUP(B85,#REF!,5,FALSE),\"\"))","v":""}]
[{"$f":"IF(B86=\"\",\"\",COUNTA($B$4:B86))","v":""},null,{"$f":"IF(B86=\"\",\"\",IF(LEFT(B86,2)=LEFT(\"FA\",2),F86,INDEX(#REF!,MATCH(Levantamento_SEPROARQQQ!B86,#REF!,0),4)))","v":""},{"$f":"IF(LEFT(B86,2)=LEFT(\"FA\",8),\"\",IFERROR(VLOOKUP(B86,#REF!,5,FALSE),\"\"))","v":""}]
[{"$f":"IF(B87=\"\",\"\",COUNTA($B$4:B87))","v":""},null,{"$f":"IF(B87=\"\",\"\",IF(LEFT(B87,2)=LEFT(\"FA\",2),F87,INDEX(#REF!,MATCH(Levantamento_SEPROARQQQ!B87,#REF!,0),4)))","v":""},{"$f":"IF(LEFT(B87,2)=LEFT(\"FA\",8),\"\",IFERROR(VLOOKUP(B87,#REF!,5,FALSE),\"\"))","v":""}]
[{"$f":"IF(B88=\"\",\"\",COUNTA($B$4:B88))","v":""},null,{"$f":"IF(B88=\"\",\"\",IF(LEFT(B88,2)=LEFT(\"FA\",2),F88,INDEX(#REF!,MATCH(Levantamento_SEPROARQQQ!B88,#REF!,0),4)))","v":""},{"$f":"IF(LEFT(B88,2)=LEFT(\"FA\",8),\"\",IFERROR(VLOOKUP(B88,#REF!,5,FALSE),\"\"))","v":""}]
[{"$f":"IF(B89=\"\",\"\",COUNTA($B$4:B89))","v":""},null,{"$f":"IF(B89=\"\",\"\",IF(LEFT(B89,2)=LEFT(\"FA\",2),F89,INDEX(#REF!,MATCH(Levantamento_SEPROARQQQ!B89,#REF!,0),4)))","v":""},{"$f":"IF(LEFT(B89,2)=LEFT(\"FA\",8),\"\",IFERROR(VLOOKUP(B89,#REF!,5,FALSE),\"\"))","v":""}]
[{"$f":"IF(B90=\"\",\"\",COUNTA($B$4:B90))","v":""},null,{"$f":"IF(B90=\"\",\"\",IF(LEFT(B90,2)=LEFT(\"FA\",2),F90,INDEX(#REF!,MATCH(Levantamento_SEPROARQQQ!B90,#REF!,0),4)))","v":""},{"$f":"IF(LEFT(B90,2)=LEFT(\"FA\",8),\"\",IFERROR(VLOOKUP(B90,#REF!,5,FALSE),\"\"))","v":""}]
[{"$f":"IF(B91=\"\",\"\",COUNTA($B$4:B91))","v":""},null,{"$f":"IF(B91=\"\",\"\",IF(LEFT(B91,2)=LEFT(\"FA\",2),F91,INDEX(#REF!,MATCH(Levantamento_SEPROARQQQ!B91,#REF!,0),4)))","v":""},{"$f":"IF(LEFT(B91,2)=LEFT(\"FA\",8),\"\",IFERROR(VLOOKUP(B91,#REF!,5,FALSE),\"\"))","v":""}]
[{"$f":"IF(B92=\"\",\"\",COUNTA($B$4:B92))","v":""},null,{"$f":"IF(B92=\"\",\"\",IF(LEFT(B92,2)=LEFT(\"FA\",2),F92,INDEX(#REF!,MATCH(Levantamento_SEPROARQQQ!B92,#REF!,0),4)))","v":""},{"$f":"IF(LEFT(B92,2)=LEFT(\"FA\",8),\"\",IFERROR(VLOOKUP(B92,#REF!,5,FALSE),\"\"))","v":""}]
[{"$f":"IF(B93=\"\",\"\",COUNTA($B$4:B93))","v":""},null,{"$f":"IF(B93=\"\",\"\",IF(LEFT(B93,2)=LEFT(\"FA\",2),F93,INDEX(#REF!,MATCH(Levantamento_SEPROARQQQ!B93,#REF!,0),4)))","v":""},{"$f":"IF(LEFT(B93,2)=LEFT(\"FA\",8),\"\",IFERROR(VLOOKUP(B93,#REF!,5,FALSE),\"\"))","v":""}]
[{"$f":"IF(B94=\"\",\"\",COUNTA($B$4:B94))","v":""},null,{"$f":"IF(B94=\"\",\"\",IF(LEFT(B94,2)=LEFT(\"FA\",2),F94,INDEX(#REF!,MATCH(Levantamento_SEPROARQQQ!B94,#REF!,0),4)))","v":""},{"$f":"IF(LEFT(B94,2)=LEFT(\"FA\",8),\"\",IFERROR(VLOOKUP(B94,#REF!,5,FALSE),\"\"))","v":""}]
[{"$f":"IF(B95=\"\",\"\",COUNTA($B$4:B95))","v":""},null,{"$f":"IF(B95=\"\",\"\",IF(LEFT(B95,2)=LEFT(\"FA\",2),F95,INDEX(#REF!,MATCH(Levantamento_SEPROARQQQ!B95,#REF!,0),4)))","v":""},{"$f":"IF(LEFT(B95,2)=LEFT(\"FA\",8),\"\",IFERROR(VLOOKUP(B95,#REF!,5,FALSE),\"\"))","v":""}]
[{"$f":"IF(B96=\"\",\"\",COUNTA($B$4:B96))","v":""},null,{"$f":"IF(B96=\"\",\"\",IF(LEFT(B96,2)=LEFT(\"FA\",2),F96,INDEX(#REF!,MATCH(Levantamento_SEPROARQQQ!B96,#REF!,0),4)))","v":""},{"$f":"IF(LEFT(B96,2)=LEFT(\"FA\",8),\"\",IFERROR(VLOOKUP(B96,#REF!,5,FALSE),\"\"))","v":""}]
[{"$f":"IF(B97=\"\",\"\",COUNTA($B$4:B97))","v":""},null,{"$f":"IF(B97=\"\",\"\",IF(LEFT(B97,2)=LEFT(\"FA\",2),F97,INDEX(#REF!,MATCH(Levantamento_SEPROARQQQ!B97,#REF!,0),4)))","v":""},{"$f":"IF(LEFT(B97,2)=LEFT(\"FA\",8),\"\",IFERROR(VLOOKUP(B97,#REF!,5,FALSE),\"\"))","v":""}]
[{"$f":"IF(B98=\"\",\"\",COUNTA($B$4:B98))","v":""},null,{"$f":"IF(B98=\"\",\"\",IF(LEFT(B98,2)=LEFT(\"FA\",2),F98,INDEX(#REF!,MATCH(Levantamento_SEPROARQQQ!B98,#REF!,0),4)))","v":""},{"$f":"IF(LEFT(B98,2)=LEFT(\"FA\",8),\"\",IFERROR(VLOOKUP(B98,#REF!,5,FALSE),\"\"))","v":""}]
[{"$f":"IF(B99=\"\",\"\",COUNTA($B$4:B99))","v":""},null,{"$f":"IF(B99=\"\",\"\",IF(LEFT(B99,2)=LEFT(\"FA\",2),F99,INDEX(#REF!,MATCH(Levantamento_SEPROARQQQ!B99,#REF!,0),4)))","v":""},{"$f":"IF(LEFT(B99,2)=LEFT(\"FA\",8),\"\",IFERROR(VLOOKUP(B99,#REF!,5,FALSE),\"\"))","v":""}]
[{"$f":"IF(B100=\"\",\"\",COUNTA($B$4:B100))","v":""},null,{"$f":"IF(B100=\"\",\"\",IF(LEFT(B100,2)=LEFT(\"FA\",2),F100,INDEX(#REF!,MATCH(Levantamento_SEPROARQQQ!B100,#REF!,0),4)))","v":""},{"$f":"IF(LEFT(B100,2)=LEFT(\"FA\",8),\"\",IFERROR(VLOOKUP(B100,#REF!,5,FALSE),\"\"))","v":""}]
[{"$f":"IF(B101=\"\",\"\",COUNTA($B$4:B101))","v":""},null,{"$f":"IF(B101=\"\",\"\",IF(LEFT(B101,2)=LEFT(\"FA\",2),F101,INDEX(#REF!,MATCH(Levantamento_SEPROARQQQ!B101,#REF!,0),4)))","v":""},{"$f":"IF(LEFT(B101,2)=LEFT(\"FA\",8),\"\",IFERROR(VLOOKUP(B101,#REF!,5,FALSE),\"\"))","v":""}]
[{"$f":"IF(B102=\"\",\"\",COUNTA($B$4:B102))","v":""},null,{"$f":"IF(B102=\"\",\"\",IF(LEFT(B102,2)=LEFT(\"FA\",2),F102,INDEX(#REF!,MATCH(Levantamento_SEPROARQQQ!B102,#REF!,0),4)))","v":""},{"$f":"IF(LEFT(B102,2)=LEFT(\"FA\",8),\"\",IFERROR(VLOOKUP(B102,#REF!,5,FALSE),\"\"))","v":""}]
[{"$f":"IF(B103=\"\",\"\",COUNTA($B$4:B103))","v":""},null,{"$f":"IF(B103=\"\",\"\",IF(LEFT(B103,2)=LEFT(\"FA\",2),F103,INDEX(#REF!,MATCH(Levantamento_SEPROARQQQ!B103,#REF!,0),4)))","v":""},{"$f":"IF(LEFT(B103,2)=LEFT(\"FA\",8),\"\",IFERROR(VLOOKUP(B103,#REF!,5,FALSE),\"\"))","v":""}]
[{"$f":"IF(B104=\"\",\"\",COUNTA($B$4:B104))","v":""},null,{"$f":"IF(B104=\"\",\"\",IF(LEFT(B104,2)=LEFT(\"FA\",2),F104,INDEX(#REF!,MATCH(Levantamento_SEPROARQQQ!B104,#REF!,0),4)))","v":""},{"$f":"IF(LEFT(B104,2)=LEFT(\"FA\",8),\"\",IFERROR(VLOOKUP(B104,#REF!,5,FALSE),\"\"))","v":""}]
[{"$f":"IF(B105=\"\",\"\",COUNTA($B$4:B105))","v":""},null,{"$f":"IF(B105=\"\",\"\",IF(LEFT(B105,2)=LEFT(\"FA\",2),F105,INDEX(#REF!,MATCH(Levantamento_SEPROARQQQ!B105,#REF!,0),4)))","v":""},{"$f":"IF(LEFT(B105,2)=LEFT(\"FA\",8),\"\",IFERROR(VLOOKUP(B105,#REF!,5,FALSE),\"\"))","v":""}]
[{"$f":"IF(B106=\"\",\"\",COUNTA($B$4:B106))","v":""},null,{"$f":"IF(B106=\"\",\"\",IF(LEFT(B106,2)=LEFT(\"FA\",2),F106,INDEX(#REF!,MATCH(Levantamento_SEPROARQQQ!B106,#REF!,0),4)))","v":""},{"$f":"IF(LEFT(B106,2)=LEFT(\"FA\",8),\"\",IFERROR(VLOOKUP(B106,#REF!,5,FALSE),\"\"))","v":""}]
[{"$f":"IF(B107=\"\",\"\",COUNTA($B$4:B107))","v":""},null,{"$f":"IF(B107=\"\",\"\",IF(LEFT(B107,2)=LEFT(\"FA\",2),F107,INDEX(#REF!,MATCH(Levantamento_SEPROARQQQ!B107,#REF!,0),4)))","v":""},{"$f":"IF(LEFT(B107,2)=LEFT(\"FA\",8),\"\",IFERROR(VLOOKUP(B107,#REF!,5,FALSE),\"\"))","v":""}]
[{"$f":"IF(B108=\"\",\"\",COUNTA($B$4:B108))","v":""},null,{"$f":"IF(B108=\"\",\"\",IF(LEFT(B108,2)=LEFT(\"FA\",2),F108,INDEX(#REF!,MATCH(Levantamento_SEPROARQQQ!B108,#REF!,0),4)))","v":""},{"$f":"IF(LEFT(B108,2)=LEFT(\"FA\",8),\"\",IFERROR(VLOOKUP(B108,#REF!,5,FALSE),\"\"))","v":""}]
[{"$f":"IF(B109=\"\",\"\",COUNTA($B$4:B109))","v":""},null,{"$f":"IF(B109=\"\",\"\",IF(LEFT(B109,2)=LEFT(\"FA\",2),F109,INDEX(#REF!,MATCH(Levantamento_SEPROARQQQ!B109,#REF!,0),4)))","v":""},{"$f":"IF(LEFT(B109,2)=LEFT(\"FA\",8),\"\",IFERROR(VLOOKUP(B109,#REF!,5,FALSE),\"\"))","v":""}]
[{"$f":"IF(B110=\"\",\"\",COUNTA($B$4:B110))","v":""},null,{"$f":"IF(B110=\"\",\"\",IF(LEFT(B110,2)=LEFT(\"FA\",2),F110,INDEX(#REF!,MATCH(Levantamento_SEPROARQQQ!B110,#REF!,0),4)))","v":""},{"$f":"IF(LEFT(B110,2)=LEFT(\"FA\",8),\"\",IFERROR(VLOOKUP(B110,#REF!,5,FALSE),\"\"))","v":""}]
[{"$f":"IF(B111=\"\",\"\",COUNTA($B$4:B111))","v":""},null,{"$f":"IF(B111=\"\",\"\",IF(LEFT(B111,2)=LEFT(\"FA\",2),F111,INDEX(#REF!,MATCH(Levantamento_SEPROARQQQ!B111,#REF!,0),4)))","v":""},{"$f":"IF(LEFT(B111,2)=LEFT(\"FA\",8),\"\",IFERROR(VLOOKUP(B111,#REF!,5,FALSE),\"\"))","v":""}]
[{"$f":"IF(B112=\"\",\"\",COUNTA($B$4:B112))","v":""},null,{"$f":"IF(B112=\"\",\"\",IF(LEFT(B112,2)=LEFT(\"FA\",2),F112,INDEX(#REF!,MATCH(Levantamento_SEPROARQQQ!B112,#REF!,0),4)))","v":""},{"$f":"IF(LEFT(B112,2)=LEFT(\"FA\",8),\"\",IFERROR(VLOOKUP(B112,#REF!,5,FALSE),\"\"))","v":""}]
[{"$f":"IF(B113=\"\",\"\",COUNTA($B$4:B113))","v":""},null,{"$f":"IF(B113=\"\",\"\",IF(LEFT(B113,2)=LEFT(\"FA\",2),F113,INDEX(#REF!,MATCH(Levantamento_SEPROARQQQ!B113,#REF!,0),4)))","v":""},{"$f":"IF(LEFT(B113,2)=LEFT(\"FA\",8),\"\",IFERROR(VLOOKUP(B113,#REF!,5,FALSE),\"\"))","v":""}]
[{"$f":"IF(B114=\"\",\"\",COUNTA($B$4:B114))","v":""},null,{"$f":"IF(B114=\"\",\"\",IF(LEFT(B114,2)=LEFT(\"FA\",2),F114,INDEX(#REF!,MATCH(Levantamento_SEPROARQQQ!B114,#REF!,0),4)))","v":""},{"$f":"IF(LEFT(B114,2)=LEFT(\"FA\",8),\"\",IFERROR(VLOOKUP(B114,#REF!,5,FALSE),\"\"))","v":""}]
[{"$f":"IF(B115=\"\",\"\",COUNTA($B$4:B115))","v":""},null,{"$f":"IF(B115=\"\",\"\",IF(LEFT(B115,2)=LEFT(\"FA\",2),F115,INDEX(#REF!,MATCH(Levantamento_SEPROARQQQ!B115,#REF!,0),4)))","v":""},{"$f":"IF(LEFT(B115,2)=LEFT(\"FA\",8),\"\",IFERROR(VLOOKUP(B115,#REF!,5,FALSE),\"\"))","v":""}]
[{"$f":"IF(B116=\"\",\"\",COUNTA($B$4:B116))","v":""},null,{"$f":"IF(B116=\"\",\"\",IF(LEFT(B116,2)=LEFT(\"FA\",2),F116,INDEX(#REF!,MATCH(Levantamento_SEPROARQQQ!B116,#REF!,0),4)))","v":""},{"$f":"IF(LEFT(B116,2)=LEFT(\"FA\",8),\"\",IFERROR(VLOOKUP(B116,#REF!,5,FALSE),\"\"))","v":""}]
[{"$f":"IF(B117=\"\",\"\",COUNTA($B$4:B117))","v":""},null,{"$f":"IF(B117=\"\",\"\",IF(LEFT(B117,2)=LEFT(\"FA\",2),F117,INDEX(#REF!,MATCH(Levantamento_SEPROARQQQ!B117,#REF!,0),4)))","v":""},{"$f":"IF(LEFT(B117,2)=LEFT(\"FA\",8),\"\",IFERROR(VLOOKUP(B117,#REF!,5,FALSE),\"\"))","v":""}]
[{"$f":"IF(B118=\"\",\"\",COUNTA($B$4:B118))","v":""},null,{"$f":"IF(B118=\"\",\"\",IF(LEFT(B118,2)=LEFT(\"FA\",2),F118,INDEX(#REF!,MATCH(Levantamento_SEPROARQQQ!B118,#REF!,0),4)))","v":""},{"$f":"IF(LEFT(B118,2)=LEFT(\"FA\",8),\"\",IFERROR(VLOOKUP(B118,#REF!,5,FALSE),\"\"))","v":""}]
[{"$f":"IF(B119=\"\",\"\",COUNTA($B$4:B119))","v":""},null,{"$f":"IF(B119=\"\",\"\",IF(LEFT(B119,2)=LEFT(\"FA\",2),F119,INDEX(#REF!,MATCH(Levantamento_SEPROARQQQ!B119,#REF!,0),4)))","v":""},{"$f":"IF(LEFT(B119,2)=LEFT(\"FA\",8),\"\",IFERROR(VLOOKUP(B119,#REF!,5,FALSE),\"\"))","v":""}]
[{"$f":"IF(B120=\"\",\"\",COUNTA($B$4:B120))","v":""},null,{"$f":"IF(B120=\"\",\"\",IF(LEFT(B120,2)=LEFT(\"FA\",2),F120,INDEX(#REF!,MATCH(Levantamento_SEPROARQQQ!B120,#REF!,0),4)))","v":""},{"$f":"IF(LEFT(B120,2)=LEFT(\"FA\",8),\"\",IFERROR(VLOOKUP(B120,#REF!,5,FALSE),\"\"))","v":""}]
[{"$f":"IF(B121=\"\",\"\",COUNTA($B$4:B121))","v":""},null,{"$f":"IF(B121=\"\",\"\",IF(LEFT(B121,2)=LEFT(\"FA\",2),F121,INDEX(#REF!,MATCH(Levantamento_SEPROARQQQ!B121,#REF!,0),4)))","v":""},{"$f":"IF(LEFT(B121,2)=LEFT(\"FA\",8),\"\",IFERROR(VLOOKUP(B121,#REF!,5,FALSE),\"\"))","v":""}]
[{"$f":"IF(B122=\"\",\"\",COUNTA($B$4:B122))","v":""},null,{"$f":"IF(B122=\"\",\"\",IF(LEFT(B122,2)=LEFT(\"FA\",2),F122,INDEX(#REF!,MATCH(Levantamento_SEPROARQQQ!B122,#REF!,0),4)))","v":""},{"$f":"IF(LEFT(B122,2)=LEFT(\"FA\",8),\"\",IFERROR(VLOOKUP(B122,#REF!,5,FALSE),\"\"))","v":""}]
[{"$f":"IF(B123=\"\",\"\",COUNTA($B$4:B123))","v":""},null,{"$f":"IF(B123=\"\",\"\",IF(LEFT(B123,2)=LEFT(\"FA\",2),F123,INDEX(#REF!,MATCH(Levantamento_SEPROARQQQ!B123,#REF!,0),4)))","v":""},{"$f":"IF(LEFT(B123,2)=LEFT(\"FA\",8),\"\",IFERROR(VLOOKUP(B123,#REF!,5,FALSE),\"\"))","v":""}]
[{"$f":"IF(B124=\"\",\"\",COUNTA($B$4:B124))","v":""},null,{"$f":"IF(B124=\"\",\"\",IF(LEFT(B124,2)=LEFT(\"FA\",2),F124,INDEX(#REF!,MATCH(Levantamento_SEPROARQQQ!B124,#REF!,0),4)))","v":""},{"$f":"IF(LEFT(B124,2)=LEFT(\"FA\",8),\"\",IFERROR(VLOOKUP(B124,#REF!,5,FALSE),\"\"))","v":""}]
[{"$f":"IF(B125=\"\",\"\",COUNTA($B$4:B125))","v":""},null,{"$f":"IF(B125=\"\",\"\",IF(LEFT(B125,2)=LEFT(\"FA\",2),F125,INDEX(#REF!,MATCH(Levantamento_SEPROARQQQ!B125,#REF!,0),4)))","v":""},{"$f":"IF(LEFT(B125,2)=LEFT(\"FA\",8),\"\",IFERROR(VLOOKUP(B125,#REF!,5,FALSE),\"\"))","v":""}]
[{"$f":"IF(B126=\"\",\"\",COUNTA($B$4:B126))","v":""},null,{"$f":"IF(B126=\"\",\"\",IF(LEFT(B126,2)=LEFT(\"FA\",2),F126,INDEX(#REF!,MATCH(Levantamento_SEPROARQQQ!B126,#REF!,0),4)))","v":""},{"$f":"IF(LEFT(B126,2)=LEFT(\"FA\",8),\"\",IFERROR(VLOOKUP(B126,#REF!,5,FALSE),\"\"))","v":""}]
[{"$f":"IF(B127=\"\",\"\",COUNTA($B$4:B127))","v":""},null,{"$f":"IF(B127=\"\",\"\",IF(LEFT(B127,2)=LEFT(\"FA\",2),F127,INDEX(#REF!,MATCH(Levantamento_SEPROARQQQ!B127,#REF!,0),4)))","v":""},{"$f":"IF(LEFT(B127,2)=LEFT(\"FA\",8),\"\",IFERROR(VLOOKUP(B127,#REF!,5,FALSE),\"\"))","v":""}]
[{"$f":"IF(B128=\"\",\"\",COUNTA($B$4:B128))","v":""},null,{"$f":"IF(B128=\"\",\"\",IF(LEFT(B128,2)=LEFT(\"FA\",2),F128,INDEX(#REF!,MATCH(Levantamento_SEPROARQQQ!B128,#REF!,0),4)))","v":""},{"$f":"IF(LEFT(B128,2)=LEFT(\"FA\",8),\"\",IFERROR(VLOOKUP(B128,#REF!,5,FALSE),\"\"))","v":""}]
[{"$f":"IF(B129=\"\",\"\",COUNTA($B$4:B129))","v":""},null,{"$f":"IF(B129=\"\",\"\",IF(LEFT(B129,2)=LEFT(\"FA\",2),F129,INDEX(#REF!,MATCH(Levantamento_SEPROARQQQ!B129,#REF!,0),4)))","v":""},{"$f":"IF(LEFT(B129,2)=LEFT(\"FA\",8),\"\",IFERROR(VLOOKUP(B129,#REF!,5,FALSE),\"\"))","v":""}]
[{"$f":"IF(B130=\"\",\"\",COUNTA($B$4:B130))","v":""},null,{"$f":"IF(B130=\"\",\"\",IF(LEFT(B130,2)=LEFT(\"FA\",2),F130,INDEX(#REF!,MATCH(Levantamento_SEPROARQQQ!B130,#REF!,0),4)))","v":""},{"$f":"IF(LEFT(B130,2)=LEFT(\"FA\",8),\"\",IFERROR(VLOOKUP(B130,#REF!,5,FALSE),\"\"))","v":""}]
[{"$f":"IF(B131=\"\",\"\",COUNTA($B$4:B131))","v":""},null,{"$f":"IF(B131=\"\",\"\",IF(LEFT(B131,2)=LEFT(\"FA\",2),F131,INDEX(#REF!,MATCH(Levantamento_SEPROARQQQ!B131,#REF!,0),4)))","v":""},{"$f":"IF(LEFT(B131,2)=LEFT(\"FA\",8),\"\",IFERROR(VLOOKUP(B131,#REF!,5,FALSE),\"\"))","v":""}]
[{"$f":"IF(B132=\"\",\"\",COUNTA($B$4:B132))","v":""},null,{"$f":"IF(B132=\"\",\"\",IF(LEFT(B132,2)=LEFT(\"FA\",2),F132,INDEX(#REF!,MATCH(Levantamento_SEPROARQQQ!B132,#REF!,0),4)))","v":""},{"$f":"IF(LEFT(B132,2)=LEFT(\"FA\",8),\"\",IFERROR(VLOOKUP(B132,#REF!,5,FALSE),\"\"))","v":""}]
[{"$f":"IF(B133=\"\",\"\",COUNTA($B$4:B133))","v":""},null,{"$f":"IF(B133=\"\",\"\",IF(LEFT(B133,2)=LEFT(\"FA\",2),F133,INDEX(#REF!,MATCH(Levantamento_SEPROARQQQ!B133,#REF!,0),4)))","v":""},{"$f":"IF(LEFT(B133,2)=LEFT(\"FA\",8),\"\",IFERROR(VLOOKUP(B133,#REF!,5,FALSE),\"\"))","v":""}]
[{"$f":"IF(B134=\"\",\"\",COUNTA($B$4:B134))","v":""},null,{"$f":"IF(B134=\"\",\"\",IF(LEFT(B134,2)=LEFT(\"FA\",2),F134,INDEX(#REF!,MATCH(Levantamento_SEPROARQQQ!B134,#REF!,0),4)))","v":""},{"$f":"IF(LEFT(B134,2)=LEFT(\"FA\",8),\"\",IFERROR(VLOOKUP(B134,#REF!,5,FALSE),\"\"))","v":""}]
[{"$f":"IF(B135=\"\",\"\",COUNTA($B$4:B135))","v":""},null,{"$f":"IF(B135=\"\",\"\",IF(LEFT(B135,2)=LEFT(\"FA\",2),F135,INDEX(#REF!,MATCH(Levantamento_SEPROARQQQ!B135,#REF!,0),4)))","v":""},{"$f":"IF(LEFT(B135,2)=LEFT(\"FA\",8),\"\",IFERROR(VLOOKUP(B135,#REF!,5,FALSE),\"\"))","v":""}]
[{"$f":"IF(B136=\"\",\"\",COUNTA($B$4:B136))","v":""},null,{"$f":"IF(B136=\"\",\"\",IF(LEFT(B136,2)=LEFT(\"FA\",2),F136,INDEX(#REF!,MATCH(Levantamento_SEPROARQQQ!B136,#REF!,0),4)))","v":""},{"$f":"IF(LEFT(B136,2)=LEFT(\"FA\",8),\"\",IFERROR(VLOOKUP(B136,#REF!,5,FALSE),\"\"))","v":""}]
[{"$f":"IF(B137=\"\",\"\",COUNTA($B$4:B137))","v":""},null,{"$f":"IF(B137=\"\",\"\",IF(LEFT(B137,2)=LEFT(\"FA\",2),F137,INDEX(#REF!,MATCH(Levantamento_SEPROARQQQ!B137,#REF!,0),4)))","v":""},{"$f":"IF(LEFT(B137,2)=LEFT(\"FA\",8),\"\",IFERROR(VLOOKUP(B137,#REF!,5,FALSE),\"\"))","v":""}]
[{"$f":"IF(B138=\"\",\"\",COUNTA($B$4:B138))","v":""},null,{"$f":"IF(B138=\"\",\"\",IF(LEFT(B138,2)=LEFT(\"FA\",2),F138,INDEX(#REF!,MATCH(Levantamento_SEPROARQQQ!B138,#REF!,0),4)))","v":""},{"$f":"IF(LEFT(B138,2)=LEFT(\"FA\",8),\"\",IFERROR(VLOOKUP(B138,#REF!,5,FALSE),\"\"))","v":""}]
[{"$f":"IF(B139=\"\",\"\",COUNTA($B$4:B139))","v":""},null,{"$f":"IF(B139=\"\",\"\",IF(LEFT(B139,2)=LEFT(\"FA\",2),F139,INDEX(#REF!,MATCH(Levantamento_SEPROARQQQ!B139,#REF!,0),4)))","v":""},{"$f":"IF(LEFT(B139,2)=LEFT(\"FA\",8),\"\",IFERROR(VLOOKUP(B139,#REF!,5,FALSE),\"\"))","v":""}]
[{"$f":"IF(B140=\"\",\"\",COUNTA($B$4:B140))","v":""},null,{"$f":"IF(B140=\"\",\"\",IF(LEFT(B140,2)=LEFT(\"FA\",2),F140,INDEX(#REF!,MATCH(Levantamento_SEPROARQQQ!B140,#REF!,0),4)))","v":""},{"$f":"IF(LEFT(B140,2)=LEFT(\"FA\",8),\"\",IFERROR(VLOOKUP(B140,#REF!,5,FALSE),\"\"))","v":""}]
[{"$f":"IF(B141=\"\",\"\",COUNTA($B$4:B141))","v":""},null,{"$f":"IF(B141=\"\",\"\",IF(LEFT(B141,2)=LEFT(\"FA\",2),F141,INDEX(#REF!,MATCH(Levantamento_SEPROARQQQ!B141,#REF!,0),4)))","v":""},{"$f":"IF(LEFT(B141,2)=LEFT(\"FA\",8),\"\",IFERROR(VLOOKUP(B141,#REF!,5,FALSE),\"\"))","v":""}]
[{"$f":"IF(B142=\"\",\"\",COUNTA($B$4:B142))","v":""},null,{"$f":"IF(B142=\"\",\"\",IF(LEFT(B142,2)=LEFT(\"FA\",2),F142,INDEX(#REF!,MATCH(Levantamento_SEPROARQQQ!B142,#REF!,0),4)))","v":""},{"$f":"IF(LEFT(B142,2)=LEFT(\"FA\",8),\"\",IFERROR(VLOOKUP(B142,#REF!,5,FALSE),\"\"))","v":""}]
[{"$f":"IF(B143=\"\",\"\",COUNTA($B$4:B143))","v":""},null,{"$f":"IF(B143=\"\",\"\",IF(LEFT(B143,2)=LEFT(\"FA\",2),F143,INDEX(#REF!,MATCH(Levantamento_SEPROARQQQ!B143,#REF!,0),4)))","v":""},{"$f":"IF(LEFT(B143,2)=LEFT(\"FA\",8),\"\",IFERROR(VLOOKUP(B143,#REF!,5,FALSE),\"\"))","v":""}]
[{"$f":"IF(B144=\"\",\"\",COUNTA($B$4:B144))","v":""},null,{"$f":"IF(B144=\"\",\"\",IF(LEFT(B144,2)=LEFT(\"FA\",2),F144,INDEX(#REF!,MATCH(Levantamento_SEPROARQQQ!B144,#REF!,0),4)))","v":""},{"$f":"IF(LEFT(B144,2)=LEFT(\"FA\",8),\"\",IFERROR(VLOOKUP(B144,#REF!,5,FALSE),\"\"))","v":""}]
[{"$f":"IF(B145=\"\",\"\",COUNTA($B$4:B145))","v":""},null,{"$f":"IF(B145=\"\",\"\",IF(LEFT(B145,2)=LEFT(\"FA\",2),F145,INDEX(#REF!,MATCH(Levantamento_SEPROARQQQ!B145,#REF!,0),4)))","v":""},{"$f":"IF(LEFT(B145,2)=LEFT(\"FA\",8),\"\",IFERROR(VLOOKUP(B145,#REF!,5,FALSE),\"\"))","v":""}]
[{"$f":"IF(B146=\"\",\"\",COUNTA($B$4:B146))","v":""},null,{"$f":"IF(B146=\"\",\"\",IF(LEFT(B146,2)=LEFT(\"FA\",2),F146,INDEX(#REF!,MATCH(Levantamento_SEPROARQQQ!B146,#REF!,0),4)))","v":""},{"$f":"IF(LEFT(B146,2)=LEFT(\"FA\",8),\"\",IFERROR(VLOOKUP(B146,#REF!,5,FALSE),\"\"))","v":""}]
[{"$f":"IF(B147=\"\",\"\",COUNTA($B$4:B147))","v":""},null,{"$f":"IF(B147=\"\",\"\",IF(LEFT(B147,2)=LEFT(\"FA\",2),F147,INDEX(#REF!,MATCH(Levantamento_SEPROARQQQ!B147,#REF!,0),4)))","v":""},{"$f":"IF(LEFT(B147,2)=LEFT(\"FA\",8),\"\",IFERROR(VLOOKUP(B147,#REF!,5,FALSE),\"\"))","v":""}]
[{"$f":"IF(B148=\"\",\"\",COUNTA($B$4:B148))","v":""},null,{"$f":"IF(B148=\"\",\"\",IF(LEFT(B148,2)=LEFT(\"FA\",2),F148,INDEX(#REF!,MATCH(Levantamento_SEPROARQQQ!B148,#REF!,0),4)))","v":""},{"$f":"IF(LEFT(B148,2)=LEFT(\"FA\",8),\"\",IFERROR(VLOOKUP(B148,#REF!,5,FALSE),\"\"))","v":""}]
[{"$f":"IF(B149=\"\",\"\",COUNTA($B$4:B149))","v":""},null,{"$f":"IF(B149=\"\",\"\",IF(LEFT(B149,2)=LEFT(\"FA\",2),F149,INDEX(#REF!,MATCH(Levantamento_SEPROARQQQ!B149,#REF!,0),4)))","v":""},{"$f":"IF(LEFT(B149,2)=LEFT(\"FA\",8),\"\",IFERROR(VLOOKUP(B149,#REF!,5,FALSE),\"\"))","v":""}]
[{"$f":"IF(B150=\"\",\"\",COUNTA($B$4:B150))","v":""},null,{"$f":"IF(B150=\"\",\"\",IF(LEFT(B150,2)=LEFT(\"FA\",2),F150,INDEX(#REF!,MATCH(Levantamento_SEPROARQQQ!B150,#REF!,0),4)))","v":""},{"$f":"IF(LEFT(B150,2)=LEFT(\"FA\",8),\"\",IFERROR(VLOOKUP(B150,#REF!,5,FALSE),\"\"))","v":""}]
[{"$f":"IF(B151=\"\",\"\",COUNTA($B$4:B151))","v":""},null,{"$f":"IF(B151=\"\",\"\",IF(LEFT(B151,2)=LEFT(\"FA\",2),F151,INDEX(#REF!,MATCH(Levantamento_SEPROARQQQ!B151,#REF!,0),4)))","v":""},{"$f":"IF(LEFT(B151,2)=LEFT(\"FA\",8),\"\",IFERROR(VLOOKUP(B151,#REF!,5,FALSE),\"\"))","v":""}]
[{"$f":"IF(B152=\"\",\"\",COUNTA($B$4:B152))","v":""},null,{"$f":"IF(B152=\"\",\"\",IF(LEFT(B152,2)=LEFT(\"FA\",2),F152,INDEX(#REF!,MATCH(Levantamento_SEPROARQQQ!B152,#REF!,0),4)))","v":""},{"$f":"IF(LEFT(B152,2)=LEFT(\"FA\",8),\"\",IFERROR(VLOOKUP(B152,#REF!,5,FALSE),\"\"))","v":""}]
[{"$f":"IF(B153=\"\",\"\",COUNTA($B$4:B153))","v":""},null,{"$f":"IF(B153=\"\",\"\",IF(LEFT(B153,2)=LEFT(\"FA\",2),F153,INDEX(#REF!,MATCH(Levantamento_SEPROARQQQ!B153,#REF!,0),4)))","v":""},{"$f":"IF(LEFT(B153,2)=LEFT(\"FA\",8),\"\",IFERROR(VLOOKUP(B153,#REF!,5,FALSE),\"\"))","v":""}]
[{"$f":"IF(B154=\"\",\"\",COUNTA($B$4:B154))","v":""},null,{"$f":"IF(B154=\"\",\"\",IF(LEFT(B154,2)=LEFT(\"FA\",2),F154,INDEX(#REF!,MATCH(Levantamento_SEPROARQQQ!B154,#REF!,0),4)))","v":""},{"$f":"IF(LEFT(B154,2)=LEFT(\"FA\",8),\"\",IFERROR(VLOOKUP(B154,#REF!,5,FALSE),\"\"))","v":""}]
[{"$f":"IF(B155=\"\",\"\",COUNTA($B$4:B155))","v":""},null,{"$f":"IF(B155=\"\",\"\",IF(LEFT(B155,2)=LEFT(\"FA\",2),F155,INDEX(#REF!,MATCH(Levantamento_SEPROARQQQ!B155,#REF!,0),4)))","v":""},{"$f":"IF(LEFT(B155,2)=LEFT(\"FA\",8),\"\",IFERROR(VLOOKUP(B155,#REF!,5,FALSE),\"\"))","v":""}]
[{"$f":"IF(B156=\"\",\"\",COUNTA($B$4:B156))","v":""},null,{"$f":"IF(B156=\"\",\"\",IF(LEFT(B156,2)=LEFT(\"FA\",2),F156,INDEX(#REF!,MATCH(Levantamento_SEPROARQQQ!B156,#REF!,0),4)))","v":""},{"$f":"IF(LEFT(B156,2)=LEFT(\"FA\",8),\"\",IFERROR(VLOOKUP(B156,#REF!,5,FALSE),\"\"))","v":""}]
[{"$f":"IF(B157=\"\",\"\",COUNTA($B$4:B157))","v":""},null,{"$f":"IF(B157=\"\",\"\",IF(LEFT(B157,2)=LEFT(\"FA\",2),F157,INDEX(#REF!,MATCH(Levantamento_SEPROARQQQ!B157,#REF!,0),4)))","v":""},{"$f":"IF(LEFT(B157,2)=LEFT(\"FA\",8),\"\",IFERROR(VLOOKUP(B157,#REF!,5,FALSE),\"\"))","v":""}]
[{"$f":"IF(B158=\"\",\"\",COUNTA($B$4:B158))","v":""},null,{"$f":"IF(B158=\"\",\"\",IF(LEFT(B158,2)=LEFT(\"FA\",2),F158,INDEX(#REF!,MATCH(Levantamento_SEPROARQQQ!B158,#REF!,0),4)))","v":""},{"$f":"IF(LEFT(B158,2)=LEFT(\"FA\",8),\"\",IFERROR(VLOOKUP(B158,#REF!,5,FALSE),\"\"))","v":""}]
[{"$f":"IF(B159=\"\",\"\",COUNTA($B$4:B159))","v":""},null,{"$f":"IF(B159=\"\",\"\",IF(LEFT(B159,2)=LEFT(\"FA\",2),F159,INDEX(#REF!,MATCH(Levantamento_SEPROARQQQ!B159,#REF!,0),4)))","v":""},{"$f":"IF(LEFT(B159,2)=LEFT(\"FA\",8),\"\",IFERROR(VLOOKUP(B159,#REF!,5,FALSE),\"\"))","v":""}]
[{"$f":"IF(B160=\"\",\"\",COUNTA($B$4:B160))","v":""},null,{"$f":"IF(B160=\"\",\"\",IF(LEFT(B160,2)=LEFT(\"FA\",2),F160,INDEX(#REF!,MATCH(Levantamento_SEPROARQQQ!B160,#REF!,0),4)))","v":""},{"$f":"IF(LEFT(B160,2)=LEFT(\"FA\",8),\"\",IFERROR(VLOOKUP(B160,#REF!,5,FALSE),\"\"))","v":""}]
[{"$f":"IF(B161=\"\",\"\",COUNTA($B$4:B161))","v":""},null,{"$f":"IF(B161=\"\",\"\",IF(LEFT(B161,2)=LEFT(\"FA\",2),F161,INDEX(#REF!,MATCH(Levantamento_SEPROARQQQ!B161,#REF!,0),4)))","v":""},{"$f":"IF(LEFT(B161,2)=LEFT(\"FA\",8),\"\",IFERROR(VLOOKUP(B161,#REF!,5,FALSE),\"\"))","v":""}]
[{"$f":"IF(B162=\"\",\"\",COUNTA($B$4:B162))","v":""},null,{"$f":"IF(B162=\"\",\"\",IF(LEFT(B162,2)=LEFT(\"FA\",2),F162,INDEX(#REF!,MATCH(Levantamento_SEPROARQQQ!B162,#REF!,0),4)))","v":""},{"$f":"IF(LEFT(B162,2)=LEFT(\"FA\",8),\"\",IFERROR(VLOOKUP(B162,#REF!,5,FALSE),\"\"))","v":""}]
[{"$f":"IF(B163=\"\",\"\",COUNTA($B$4:B163))","v":""},null,{"$f":"IF(B163=\"\",\"\",IF(LEFT(B163,2)=LEFT(\"FA\",2),F163,INDEX(#REF!,MATCH(Levantamento_SEPROARQQQ!B163,#REF!,0),4)))","v":""},{"$f":"IF(LEFT(B163,2)=LEFT(\"FA\",8),\"\",IFERROR(VLOOKUP(B163,#REF!,5,FALSE),\"\"))","v":""}]
[{"$f":"IF(B164=\"\",\"\",COUNTA($B$4:B164))","v":""},null,{"$f":"IF(B164=\"\",\"\",IF(LEFT(B164,2)=LEFT(\"FA\",2),F164,INDEX(#REF!,MATCH(Levantamento_SEPROARQQQ!B164,#REF!,0),4)))","v":""},{"$f":"IF(LEFT(B164,2)=LEFT(\"FA\",8),\"\",IFERROR(VLOOKUP(B164,#REF!,5,FALSE),\"\"))","v":""}]
[{"$f":"IF(B165=\"\",\"\",COUNTA($B$4:B165))","v":""},null,{"$f":"IF(B165=\"\",\"\",IF(LEFT(B165,2)=LEFT(\"FA\",2),F165,INDEX(#REF!,MATCH(Levantamento_SEPROARQQQ!B165,#REF!,0),4)))","v":""},{"$f":"IF(LEFT(B165,2)=LEFT(\"FA\",8),\"\",IFERROR(VLOOKUP(B165,#REF!,5,FALSE),\"\"))","v":""}]
[{"$f":"IF(B166=\"\",\"\",COUNTA($B$4:B166))","v":""},null,{"$f":"IF(B166=\"\",\"\",IF(LEFT(B166,2)=LEFT(\"FA\",2),F166,INDEX(#REF!,MATCH(Levantamento_SEPROARQQQ!B166,#REF!,0),4)))","v":""},{"$f":"IF(LEFT(B166,2)=LEFT(\"FA\",8),\"\",IFERROR(VLOOKUP(B166,#REF!,5,FALSE),\"\"))","v":""}]
[{"$f":"IF(B167=\"\",\"\",COUNTA($B$4:B167))","v":""},null,{"$f":"IF(B167=\"\",\"\",IF(LEFT(B167,2)=LEFT(\"FA\",2),F167,INDEX(#REF!,MATCH(Levantamento_SEPROARQQQ!B167,#REF!,0),4)))","v":""},{"$f":"IF(LEFT(B167,2)=LEFT(\"FA\",8),\"\",IFERROR(VLOOKUP(B167,#REF!,5,FALSE),\"\"))","v":""}]
[{"$f":"IF(B168=\"\",\"\",COUNTA($B$4:B168))","v":""},null,{"$f":"IF(B168=\"\",\"\",IF(LEFT(B168,2)=LEFT(\"FA\",2),F168,INDEX(#REF!,MATCH(Levantamento_SEPROARQQQ!B168,#REF!,0),4)))","v":""},{"$f":"IF(LEFT(B168,2)=LEFT(\"FA\",8),\"\",IFERROR(VLOOKUP(B168,#REF!,5,FALSE),\"\"))","v":""}]
[{"$f":"IF(B169=\"\",\"\",COUNTA($B$4:B169))","v":""},null,{"$f":"IF(B169=\"\",\"\",IF(LEFT(B169,2)=LEFT(\"FA\",2),F169,INDEX(#REF!,MATCH(Levantamento_SEPROARQQQ!B169,#REF!,0),4)))","v":""},{"$f":"IF(LEFT(B169,2)=LEFT(\"FA\",8),\"\",IFERROR(VLOOKUP(B169,#REF!,5,FALSE),\"\"))","v":""}]
[{"$f":"IF(B170=\"\",\"\",COUNTA($B$4:B170))","v":""},null,{"$f":"IF(B170=\"\",\"\",IF(LEFT(B170,2)=LEFT(\"FA\",2),F170,INDEX(#REF!,MATCH(Levantamento_SEPROARQQQ!B170,#REF!,0),4)))","v":""},{"$f":"IF(LEFT(B170,2)=LEFT(\"FA\",8),\"\",IFERROR(VLOOKUP(B170,#REF!,5,FALSE),\"\"))","v":""}]
[{"$f":"IF(B171=\"\",\"\",COUNTA($B$4:B171))","v":""},null,{"$f":"IF(B171=\"\",\"\",IF(LEFT(B171,2)=LEFT(\"FA\",2),F171,INDEX(#REF!,MATCH(Levantamento_SEPROARQQQ!B171,#REF!,0),4)))","v":""},{"$f":"IF(LEFT(B171,2)=LEFT(\"FA\",8),\"\",IFERROR(VLOOKUP(B171,#REF!,5,FALSE),\"\"))","v":""}]
[{"$f":"IF(B172=\"\",\"\",COUNTA($B$4:B172))","v":""},null,{"$f":"IF(B172=\"\",\"\",IF(LEFT(B172,2)=LEFT(\"FA\",2),F172,INDEX(#REF!,MATCH(Levantamento_SEPROARQQQ!B172,#REF!,0),4)))","v":""},{"$f":"IF(LEFT(B172,2)=LEFT(\"FA\",8),\"\",IFERROR(VLOOKUP(B172,#REF!,5,FALSE),\"\"))","v":""}]
[{"$f":"IF(B173=\"\",\"\",COUNTA($B$4:B173))","v":""},null,{"$f":"IF(B173=\"\",\"\",IF(LEFT(B173,2)=LEFT(\"FA\",2),F173,INDEX(#REF!,MATCH(Levantamento_SEPROARQQQ!B173,#REF!,0),4)))","v":""},{"$f":"IF(LEFT(B173,2)=LEFT(\"FA\",8),\"\",IFERROR(VLOOKUP(B173,#REF!,5,FALSE),\"\"))","v":""}]
[{"$f":"IF(B174=\"\",\"\",COUNTA($B$4:B174))","v":""},null,{"$f":"IF(B174=\"\",\"\",IF(LEFT(B174,2)=LEFT(\"FA\",2),F174,INDEX(#REF!,MATCH(Levantamento_SEPROARQQQ!B174,#REF!,0),4)))","v":""},{"$f":"IF(LEFT(B174,2)=LEFT(\"FA\",8),\"\",IFERROR(VLOOKUP(B174,#REF!,5,FALSE),\"\"))","v":""}]
[{"$f":"IF(B175=\"\",\"\",COUNTA($B$4:B175))","v":""},null,{"$f":"IF(B175=\"\",\"\",IF(LEFT(B175,2)=LEFT(\"FA\",2),F175,INDEX(#REF!,MATCH(Levantamento_SEPROARQQQ!B175,#REF!,0),4)))","v":""},{"$f":"IF(LEFT(B175,2)=LEFT(\"FA\",8),\"\",IFERROR(VLOOKUP(B175,#REF!,5,FALSE),\"\"))","v":""}]
[{"$f":"IF(B176=\"\",\"\",COUNTA($B$4:B176))","v":""},null,{"$f":"IF(B176=\"\",\"\",IF(LEFT(B176,2)=LEFT(\"FA\",2),F176,INDEX(#REF!,MATCH(Levantamento_SEPROARQQQ!B176,#REF!,0),4)))","v":""},{"$f":"IF(LEFT(B176,2)=LEFT(\"FA\",8),\"\",IFERROR(VLOOKUP(B176,#REF!,5,FALSE),\"\"))","v":""}]
[{"$f":"IF(B177=\"\",\"\",COUNTA($B$4:B177))","v":""},null,{"$f":"IF(B177=\"\",\"\",IF(LEFT(B177,2)=LEFT(\"FA\",2),F177,INDEX(#REF!,MATCH(Levantamento_SEPROARQQQ!B177,#REF!,0),4)))","v":""},{"$f":"IF(LEFT(B177,2)=LEFT(\"FA\",8),\"\",IFERROR(VLOOKUP(B177,#REF!,5,FALSE),\"\"))","v":""}]
[{"$f":"IF(B178=\"\",\"\",COUNTA($B$4:B178))","v":""},null,{"$f":"IF(B178=\"\",\"\",IF(LEFT(B178,2)=LEFT(\"FA\",2),F178,INDEX(#REF!,MATCH(Levantamento_SEPROARQQQ!B178,#REF!,0),4)))","v":""},{"$f":"IF(LEFT(B178,2)=LEFT(\"FA\",8),\"\",IFERROR(VLOOKUP(B178,#REF!,5,FALSE),\"\"))","v":""}]
[{"$f":"IF(B179=\"\",\"\",COUNTA($B$4:B179))","v":""},null,{"$f":"IF(B179=\"\",\"\",IF(LEFT(B179,2)=LEFT(\"FA\",2),F179,INDEX(#REF!,MATCH(Levantamento_SEPROARQQQ!B179,#REF!,0),4)))","v":""},{"$f":"IF(LEFT(B179,2)=LEFT(\"FA\",8),\"\",IFERROR(VLOOKUP(B179,#REF!,5,FALSE),\"\"))","v":""}]
[{"$f":"IF(B180=\"\",\"\",COUNTA($B$4:B180))","v":""},null,{"$f":"IF(B180=\"\",\"\",IF(LEFT(B180,2)=LEFT(\"FA\",2),F180,INDEX(#REF!,MATCH(Levantamento_SEPROARQQQ!B180,#REF!,0),4)))","v":""},{"$f":"IF(LEFT(B180,2)=LEFT(\"FA\",8),\"\",IFERROR(VLOOKUP(B180,#REF!,5,FALSE),\"\"))","v":""}]
[{"$f":"IF(B181=\"\",\"\",COUNTA($B$4:B181))","v":""},null,{"$f":"IF(B181=\"\",\"\",IF(LEFT(B181,2)=LEFT(\"FA\",2),F181,INDEX(#REF!,MATCH(Levantamento_SEPROARQQQ!B181,#REF!,0),4)))","v":""},{"$f":"IF(LEFT(B181,2)=LEFT(\"FA\",8),\"\",IFERROR(VLOOKUP(B181,#REF!,5,FALSE),\"\"))","v":""}]
[{"$f":"IF(B182=\"\",\"\",COUNTA($B$4:B182))","v":""},null,{"$f":"IF(B182=\"\",\"\",IF(LEFT(B182,2)=LEFT(\"FA\",2),F182,INDEX(#REF!,MATCH(Levantamento_SEPROARQQQ!B182,#REF!,0),4)))","v":""},{"$f":"IF(LEFT(B182,2)=LEFT(\"FA\",8),\"\",IFERROR(VLOOKUP(B182,#REF!,5,FALSE),\"\"))","v":""}]
[{"$f":"IF(B183=\"\",\"\",COUNTA($B$4:B183))","v":""},null,{"$f":"IF(B183=\"\",\"\",IF(LEFT(B183,2)=LEFT(\"FA\",2),F183,INDEX(#REF!,MATCH(Levantamento_SEPROARQQQ!B183,#REF!,0),4)))","v":""},{"$f":"IF(LEFT(B183,2)=LEFT(\"FA\",8),\"\",IFERROR(VLOOKUP(B183,#REF!,5,FALSE),\"\"))","v":""}]
[{"$f":"IF(B184=\"\",\"\",COUNTA($B$4:B184))","v":""},null,{"$f":"IF(B184=\"\",\"\",IF(LEFT(B184,2)=LEFT(\"FA\",2),F184,INDEX(#REF!,MATCH(Levantamento_SEPROARQQQ!B184,#REF!,0),4)))","v":""},{"$f":"IF(LEFT(B184,2)=LEFT(\"FA\",8),\"\",IFERROR(VLOOKUP(B184,#REF!,5,FALSE),\"\"))","v":""}]
[{"$f":"IF(B185=\"\",\"\",COUNTA($B$4:B185))","v":""},null,{"$f":"IF(B185=\"\",\"\",IF(LEFT(B185,2)=LEFT(\"FA\",2),F185,INDEX(#REF!,MATCH(Levantamento_SEPROARQQQ!B185,#REF!,0),4)))","v":""},{"$f":"IF(LEFT(B185,2)=LEFT(\"FA\",8),\"\",IFERROR(VLOOKUP(B185,#REF!,5,FALSE),\"\"))","v":""}]
[{"$f":"IF(B186=\"\",\"\",COUNTA($B$4:B186))","v":""},null,{"$f":"IF(B186=\"\",\"\",IF(LEFT(B186,2)=LEFT(\"FA\",2),F186,INDEX(#REF!,MATCH(Levantamento_SEPROARQQQ!B186,#REF!,0),4)))","v":""},{"$f":"IF(LEFT(B186,2)=LEFT(\"FA\",8),\"\",IFERROR(VLOOKUP(B186,#REF!,5,FALSE),\"\"))","v":""}]
[{"$f":"IF(B187=\"\",\"\",COUNTA($B$4:B187))","v":""},null,{"$f":"IF(B187=\"\",\"\",IF(LEFT(B187,2)=LEFT(\"FA\",2),F187,INDEX(#REF!,MATCH(Levantamento_SEPROARQQQ!B187,#REF!,0),4)))","v":""},{"$f":"IF(LEFT(B187,2)=LEFT(\"FA\",8),\"\",IFERROR(VLOOKUP(B187,#REF!,5,FALSE),\"\"))","v":""}]
[{"$f":"IF(B188=\"\",\"\",COUNTA($B$4:B188))","v":""},null,{"$f":"IF(B188=\"\",\"\",IF(LEFT(B188,2)=LEFT(\"FA\",2),F188,INDEX(#REF!,MATCH(Levantamento_SEPROARQQQ!B188,#REF!,0),4)))","v":""},{"$f":"IF(LEFT(B188,2)=LEFT(\"FA\",8),\"\",IFERROR(VLOOKUP(B188,#REF!,5,FALSE),\"\"))","v":""}]
[{"$f":"IF(B189=\"\",\"\",COUNTA($B$4:B189))","v":""},null,{"$f":"IF(B189=\"\",\"\",IF(LEFT(B189,2)=LEFT(\"FA\",2),F189,INDEX(#REF!,MATCH(Levantamento_SEPROARQQQ!B189,#REF!,0),4)))","v":""},{"$f":"IF(LEFT(B189,2)=LEFT(\"FA\",8),\"\",IFERROR(VLOOKUP(B189,#REF!,5,FALSE),\"\"))","v":""}]
[{"$f":"IF(B190=\"\",\"\",COUNTA($B$4:B190))","v":""},null,{"$f":"IF(B190=\"\",\"\",IF(LEFT(B190,2)=LEFT(\"FA\",2),F190,INDEX(#REF!,MATCH(Levantamento_SEPROARQQQ!B190,#REF!,0),4)))","v":""},{"$f":"IF(LEFT(B190,2)=LEFT(\"FA\",8),\"\",IFERROR(VLOOKUP(B190,#REF!,5,FALSE),\"\"))","v":""}]
[{"$f":"IF(B191=\"\",\"\",COUNTA($B$4:B191))","v":""},null,{"$f":"IF(B191=\"\",\"\",IF(LEFT(B191,2)=LEFT(\"FA\",2),F191,INDEX(#REF!,MATCH(Levantamento_SEPROARQQQ!B191,#REF!,0),4)))","v":""},{"$f":"IF(LEFT(B191,2)=LEFT(\"FA\",8),\"\",IFERROR(VLOOKUP(B191,#REF!,5,FALSE),\"\"))","v":""}]
[{"$f":"IF(B192=\"\",\"\",COUNTA($B$4:B192))","v":""},null,{"$f":"IF(B192=\"\",\"\",IF(LEFT(B192,2)=LEFT(\"FA\",2),F192,INDEX(#REF!,MATCH(Levantamento_SEPROARQQQ!B192,#REF!,0),4)))","v":""},{"$f":"IF(LEFT(B192,2)=LEFT(\"FA\",8),\"\",IFERROR(VLOOKUP(B192,#REF!,5,FALSE),\"\"))","v":""}]
[{"$f":"IF(B193=\"\",\"\",COUNTA($B$4:B193))","v":""},null,{"$f":"IF(B193=\"\",\"\",IF(LEFT(B193,2)=LEFT(\"FA\",2),F193,INDEX(#REF!,MATCH(Levantamento_SEPROARQQQ!B193,#REF!,0),4)))","v":""},{"$f":"IF(LEFT(B193,2)=LEFT(\"FA\",8),\"\",IFERROR(VLOOKUP(B193,#REF!,5,FALSE),\"\"))","v":""}]
[{"$f":"IF(B194=\"\",\"\",COUNTA($B$4:B194))","v":""},null,{"$f":"IF(B194=\"\",\"\",IF(LEFT(B194,2)=LEFT(\"FA\",2),F194,INDEX(#REF!,MATCH(Levantamento_SEPROARQQQ!B194,#REF!,0),4)))","v":""},{"$f":"IF(LEFT(B194,2)=LEFT(\"FA\",8),\"\",IFERROR(VLOOKUP(B194,#REF!,5,FALSE),\"\"))","v":""}]
[{"$f":"IF(B195=\"\",\"\",COUNTA($B$4:B195))","v":""},null,{"$f":"IF(B195=\"\",\"\",IF(LEFT(B195,2)=LEFT(\"FA\",2),F195,INDEX(#REF!,MATCH(Levantamento_SEPROARQQQ!B195,#REF!,0),4)))","v":""},{"$f":"IF(LEFT(B195,2)=LEFT(\"FA\",8),\"\",IFERROR(VLOOKUP(B195,#REF!,5,FALSE),\"\"))","v":""}]
[{"$f":"IF(B196=\"\",\"\",COUNTA($B$4:B196))","v":""},null,{"$f":"IF(B196=\"\",\"\",IF(LEFT(B196,2)=LEFT(\"FA\",2),F196,INDEX(#REF!,MATCH(Levantamento_SEPROARQQQ!B196,#REF!,0),4)))","v":""},{"$f":"IF(LEFT(B196,2)=LEFT(\"FA\",8),\"\",IFERROR(VLOOKUP(B196,#REF!,5,FALSE),\"\"))","v":""}]
[{"$f":"IF(B197=\"\",\"\",COUNTA($B$4:B197))","v":""},null,{"$f":"IF(B197=\"\",\"\",IF(LEFT(B197,2)=LEFT(\"FA\",2),F197,INDEX(#REF!,MATCH(Levantamento_SEPROARQQQ!B197,#REF!,0),4)))","v":""},{"$f":"IF(LEFT(B197,2)=LEFT(\"FA\",8),\"\",IFERROR(VLOOKUP(B197,#REF!,5,FALSE),\"\"))","v":""}]
[{"$f":"IF(B198=\"\",\"\",COUNTA($B$4:B198))","v":""},null,{"$f":"IF(B198=\"\",\"\",IF(LEFT(B198,2)=LEFT(\"FA\",2),F198,INDEX(#REF!,MATCH(Levantamento_SEPROARQQQ!B198,#REF!,0),4)))","v":""},{"$f":"IF(LEFT(B198,2)=LEFT(\"FA\",8),\"\",IFERROR(VLOOKUP(B198,#REF!,5,FALSE),\"\"))","v":""}]
[{"$f":"IF(B199=\"\",\"\",COUNTA($B$4:B199))","v":""},null,{"$f":"IF(B199=\"\",\"\",IF(LEFT(B199,2)=LEFT(\"FA\",2),F199,INDEX(#REF!,MATCH(Levantamento_SEPROARQQQ!B199,#REF!,0),4)))","v":""},{"$f":"IF(LEFT(B199,2)=LEFT(\"FA\",8),\"\",IFERROR(VLOOKUP(B199,#REF!,5,FALSE),\"\"))","v":""}]
[{"$f":"IF(B200=\"\",\"\",COUNTA($B$4:B200))","v":""},null,{"$f":"IF(B200=\"\",\"\",IF(LEFT(B200,2)=LEFT(\"FA\",2),F200,INDEX(#REF!,MATCH(Levantamento_SEPROARQQQ!B200,#REF!,0),4)))","v":""},{"$f":"IF(LEFT(B200,2)=LEFT(\"FA\",8),\"\",IFERROR(VLOOKUP(B200,#REF!,5,FALSE),\"\"))","v":""}]
[{"$f":"IF(B201=\"\",\"\",COUNTA($B$4:B201))","v":""},null,{"$f":"IF(B201=\"\",\"\",IF(LEFT(B201,2)=LEFT(\"FA\",2),F201,INDEX(#REF!,MATCH(Levantamento_SEPROARQQQ!B201,#REF!,0),4)))","v":""},{"$f":"IF(LEFT(B201,2)=LEFT(\"FA\",8),\"\",IFERROR(VLOOKUP(B201,#REF!,5,FALSE),\"\"))","v":""}]
[{"$f":"IF(B202=\"\",\"\",COUNTA($B$4:B202))","v":""},null,{"$f":"IF(B202=\"\",\"\",IF(LEFT(B202,2)=LEFT(\"FA\",2),F202,INDEX(#REF!,MATCH(Levantamento_SEPROARQQQ!B202,#REF!,0),4)))","v":""},{"$f":"IF(LEFT(B202,2)=LEFT(\"FA\",8),\"\",IFERROR(VLOOKUP(B202,#REF!,5,FALSE),\"\"))","v":""}]
[{"$f":"IF(B203=\"\",\"\",COUNTA($B$4:B203))","v":""},null,{"$f":"IF(B203=\"\",\"\",IF(LEFT(B203,2)=LEFT(\"FA\",2),F203,INDEX(#REF!,MATCH(Levantamento_SEPROARQQQ!B203,#REF!,0),4)))","v":""},{"$f":"IF(LEFT(B203,2)=LEFT(\"FA\",8),\"\",IFERROR(VLOOKUP(B203,#REF!,5,FALSE),\"\"))","v":""}]
[{"$f":"IF(B204=\"\",\"\",COUNTA($B$4:B204))","v":""},null,{"$f":"IF(B204=\"\",\"\",IF(LEFT(B204,2)=LEFT(\"FA\",2),F204,INDEX(#REF!,MATCH(Levantamento_SEPROARQQQ!B204,#REF!,0),4)))","v":""},{"$f":"IF(LEFT(B204,2)=LEFT(\"FA\",8),\"\",IFERROR(VLOOKUP(B204,#REF!,5,FALSE),\"\"))","v":""}]
[{"$f":"IF(B205=\"\",\"\",COUNTA($B$4:B205))","v":""},null,{"$f":"IF(B205=\"\",\"\",IF(LEFT(B205,2)=LEFT(\"FA\",2),F205,INDEX(#REF!,MATCH(Levantamento_SEPROARQQQ!B205,#REF!,0),4)))","v":""},{"$f":"IF(LEFT(B205,2)=LEFT(\"FA\",8),\"\",IFERROR(VLOOKUP(B205,#REF!,5,FALSE),\"\"))","v":""}]
[{"$f":"IF(B206=\"\",\"\",COUNTA($B$4:B206))","v":""},null,{"$f":"IF(B206=\"\",\"\",IF(LEFT(B206,2)=LEFT(\"FA\",2),F206,INDEX(#REF!,MATCH(Levantamento_SEPROARQQQ!B206,#REF!,0),4)))","v":""},{"$f":"IF(LEFT(B206,2)=LEFT(\"FA\",8),\"\",IFERROR(VLOOKUP(B206,#REF!,5,FALSE),\"\"))","v":""}]
[{"$f":"IF(B207=\"\",\"\",COUNTA($B$4:B207))","v":""},null,{"$f":"IF(B207=\"\",\"\",IF(LEFT(B207,2)=LEFT(\"FA\",2),F207,INDEX(#REF!,MATCH(Levantamento_SEPROARQQQ!B207,#REF!,0),4)))","v":""},{"$f":"IF(LEFT(B207,2)=LEFT(\"FA\",8),\"\",IFERROR(VLOOKUP(B207,#REF!,5,FALSE),\"\"))","v":""}]
[{"$f":"IF(B208=\"\",\"\",COUNTA($B$4:B208))","v":""},null,{"$f":"IF(B208=\"\",\"\",IF(LEFT(B208,2)=LEFT(\"FA\",2),F208,INDEX(#REF!,MATCH(Levantamento_SEPROARQQQ!B208,#REF!,0),4)))","v":""},{"$f":"IF(LEFT(B208,2)=LEFT(\"FA\",8),\"\",IFERROR(VLOOKUP(B208,#REF!,5,FALSE),\"\"))","v":""}]
[{"$f":"IF(B209=\"\",\"\",COUNTA($B$4:B209))","v":""},null,{"$f":"IF(B209=\"\",\"\",IF(LEFT(B209,2)=LEFT(\"FA\",2),F209,INDEX(#REF!,MATCH(Levantamento_SEPROARQQQ!B209,#REF!,0),4)))","v":""},{"$f":"IF(LEFT(B209,2)=LEFT(\"FA\",8),\"\",IFERROR(VLOOKUP(B209,#REF!,5,FALSE),\"\"))","v":""}]
[{"$f":"IF(B210=\"\",\"\",COUNTA($B$4:B210))","v":""},null,{"$f":"IF(B210=\"\",\"\",IF(LEFT(B210,2)=LEFT(\"FA\",2),F210,INDEX(#REF!,MATCH(Levantamento_SEPROARQQQ!B210,#REF!,0),4)))","v":""},{"$f":"IF(LEFT(B210,2)=LEFT(\"FA\",8),\"\",IFERROR(VLOOKUP(B210,#REF!,5,FALSE),\"\"))","v":""}]
[{"$f":"IF(B211=\"\",\"\",COUNTA($B$4:B211))","v":""},null,{"$f":"IF(B211=\"\",\"\",IF(LEFT(B211,2)=LEFT(\"FA\",2),F211,INDEX(#REF!,MATCH(Levantamento_SEPROARQQQ!B211,#REF!,0),4)))","v":""},{"$f":"IF(LEFT(B211,2)=LEFT(\"FA\",8),\"\",IFERROR(VLOOKUP(B211,#REF!,5,FALSE),\"\"))","v":""}]
[{"$f":"IF(B212=\"\",\"\",COUNTA($B$4:B212))","v":""},null,{"$f":"IF(B212=\"\",\"\",IF(LEFT(B212,2)=LEFT(\"FA\",2),F212,INDEX(#REF!,MATCH(Levantamento_SEPROARQQQ!B212,#REF!,0),4)))","v":""},{"$f":"IF(LEFT(B212,2)=LEFT(\"FA\",8),\"\",IFERROR(VLOOKUP(B212,#REF!,5,FALSE),\"\"))","v":""}]
[{"$f":"IF(B213=\"\",\"\",COUNTA($B$4:B213))","v":""},null,{"$f":"IF(B213=\"\",\"\",IF(LEFT(B213,2)=LEFT(\"FA\",2),F213,INDEX(#REF!,MATCH(Levantamento_SEPROARQQQ!B213,#REF!,0),4)))","v":""},{"$f":"IF(LEFT(B213,2)=LEFT(\"FA\",8),\"\",IFERROR(VLOOKUP(B213,#REF!,5,FALSE),\"\"))","v":""}]
[{"$f":"IF(B214=\"\",\"\",COUNTA($B$4:B214))","v":""},null,{"$f":"IF(B214=\"\",\"\",IF(LEFT(B214,2)=LEFT(\"FA\",2),F214,INDEX(#REF!,MATCH(Levantamento_SEPROARQQQ!B214,#REF!,0),4)))","v":""},{"$f":"IF(LEFT(B214,2)=LEFT(\"FA\",8),\"\",IFERROR(VLOOKUP(B214,#REF!,5,FALSE),\"\"))","v":""}]
[{"$f":"IF(B215=\"\",\"\",COUNTA($B$4:B215))","v":""},null,{"$f":"IF(B215=\"\",\"\",IF(LEFT(B215,2)=LEFT(\"FA\",2),F215,INDEX(#REF!,MATCH(Levantamento_SEPROARQQQ!B215,#REF!,0),4)))","v":""},{"$f":"IF(LEFT(B215,2)=LEFT(\"FA\",8),\"\",IFERROR(VLOOKUP(B215,#REF!,5,FALSE),\"\"))","v":""}]
[{"$f":"IF(B216=\"\",\"\",COUNTA($B$4:B216))","v":""},null,{"$f":"IF(B216=\"\",\"\",IF(LEFT(B216,2)=LEFT(\"FA\",2),F216,INDEX(#REF!,MATCH(Levantamento_SEPROARQQQ!B216,#REF!,0),4)))","v":""},{"$f":"IF(LEFT(B216,2)=LEFT(\"FA\",8),\"\",IFERROR(VLOOKUP(B216,#REF!,5,FALSE),\"\"))","v":""}]
[{"$f":"IF(B217=\"\",\"\",COUNTA($B$4:B217))","v":""},null,{"$f":"IF(B217=\"\",\"\",IF(LEFT(B217,2)=LEFT(\"FA\",2),F217,INDEX(#REF!,MATCH(Levantamento_SEPROARQQQ!B217,#REF!,0),4)))","v":""},{"$f":"IF(LEFT(B217,2)=LEFT(\"FA\",8),\"\",IFERROR(VLOOKUP(B217,#REF!,5,FALSE),\"\"))","v":""}]
[{"$f":"IF(B218=\"\",\"\",COUNTA($B$4:B218))","v":""},null,{"$f":"IF(B218=\"\",\"\",IF(LEFT(B218,2)=LEFT(\"FA\",2),F218,INDEX(#REF!,MATCH(Levantamento_SEPROARQQQ!B218,#REF!,0),4)))","v":""},{"$f":"IF(LEFT(B218,2)=LEFT(\"FA\",8),\"\",IFERROR(VLOOKUP(B218,#REF!,5,FALSE),\"\"))","v":""}]
[{"$f":"IF(B219=\"\",\"\",COUNTA($B$4:B219))","v":""},null,{"$f":"IF(B219=\"\",\"\",IF(LEFT(B219,2)=LEFT(\"FA\",2),F219,INDEX(#REF!,MATCH(Levantamento_SEPROARQQQ!B219,#REF!,0),4)))","v":""},{"$f":"IF(LEFT(B219,2)=LEFT(\"FA\",8),\"\",IFERROR(VLOOKUP(B219,#REF!,5,FALSE),\"\"))","v":""}]
[{"$f":"IF(B220=\"\",\"\",COUNTA($B$4:B220))","v":""},null,{"$f":"IF(B220=\"\",\"\",IF(LEFT(B220,2)=LEFT(\"FA\",2),F220,INDEX(#REF!,MATCH(Levantamento_SEPROARQQQ!B220,#REF!,0),4)))","v":""},{"$f":"IF(LEFT(B220,2)=LEFT(\"FA\",8),\"\",IFERROR(VLOOKUP(B220,#REF!,5,FALSE),\"\"))","v":""}]
[{"$f":"IF(B221=\"\",\"\",COUNTA($B$4:B221))","v":""},null,{"$f":"IF(B221=\"\",\"\",IF(LEFT(B221,2)=LEFT(\"FA\",2),F221,INDEX(#REF!,MATCH(Levantamento_SEPROARQQQ!B221,#REF!,0),4)))","v":""},{"$f":"IF(LEFT(B221,2)=LEFT(\"FA\",8),\"\",IFERROR(VLOOKUP(B221,#REF!,5,FALSE),\"\"))","v":""}]
[{"$f":"IF(B222=\"\",\"\",COUNTA($B$4:B222))","v":""},null,{"$f":"IF(B222=\"\",\"\",IF(LEFT(B222,2)=LEFT(\"FA\",2),F222,INDEX(#REF!,MATCH(Levantamento_SEPROARQQQ!B222,#REF!,0),4)))","v":""},{"$f":"IF(LEFT(B222,2)=LEFT(\"FA\",8),\"\",IFERROR(VLOOKUP(B222,#REF!,5,FALSE),\"\"))","v":""}]
[{"$f":"IF(B223=\"\",\"\",COUNTA($B$4:B223))","v":""},null,{"$f":"IF(B223=\"\",\"\",IF(LEFT(B223,2)=LEFT(\"FA\",2),F223,INDEX(#REF!,MATCH(Levantamento_SEPROARQQQ!B223,#REF!,0),4)))","v":""},{"$f":"IF(LEFT(B223,2)=LEFT(\"FA\",8),\"\",IFERROR(VLOOKUP(B223,#REF!,5,FALSE),\"\"))","v":""}]
[{"$f":"IF(B224=\"\",\"\",COUNTA($B$4:B224))","v":""},null,{"$f":"IF(B224=\"\",\"\",IF(LEFT(B224,2)=LEFT(\"FA\",2),F224,INDEX(#REF!,MATCH(Levantamento_SEPROARQQQ!B224,#REF!,0),4)))","v":""},{"$f":"IF(LEFT(B224,2)=LEFT(\"FA\",8),\"\",IFERROR(VLOOKUP(B224,#REF!,5,FALSE),\"\"))","v":""}]
[{"$f":"IF(B225=\"\",\"\",COUNTA($B$4:B225))","v":""},null,{"$f":"IF(B225=\"\",\"\",IF(LEFT(B225,2)=LEFT(\"FA\",2),F225,INDEX(#REF!,MATCH(Levantamento_SEPROARQQQ!B225,#REF!,0),4)))","v":""},{"$f":"IF(LEFT(B225,2)=LEFT(\"FA\",8),\"\",IFERROR(VLOOKUP(B225,#REF!,5,FALSE),\"\"))","v":""}]
[{"$f":"IF(B226=\"\",\"\",COUNTA($B$4:B226))","v":""},null,{"$f":"IF(B226=\"\",\"\",IF(LEFT(B226,2)=LEFT(\"FA\",2),F226,INDEX(#REF!,MATCH(Levantamento_SEPROARQQQ!B226,#REF!,0),4)))","v":""},{"$f":"IF(LEFT(B226,2)=LEFT(\"FA\",8),\"\",IFERROR(VLOOKUP(B226,#REF!,5,FALSE),\"\"))","v":""}]
[{"$f":"IF(B227=\"\",\"\",COUNTA($B$4:B227))","v":""},null,{"$f":"IF(B227=\"\",\"\",IF(LEFT(B227,2)=LEFT(\"FA\",2),F227,INDEX(#REF!,MATCH(Levantamento_SEPROARQQQ!B227,#REF!,0),4)))","v":""},{"$f":"IF(LEFT(B227,2)=LEFT(\"FA\",8),\"\",IFERROR(VLOOKUP(B227,#REF!,5,FALSE),\"\"))","v":""}]
[{"$f":"IF(B228=\"\",\"\",COUNTA($B$4:B228))","v":""},null,{"$f":"IF(B228=\"\",\"\",IF(LEFT(B228,2)=LEFT(\"FA\",2),F228,INDEX(#REF!,MATCH(Levantamento_SEPROARQQQ!B228,#REF!,0),4)))","v":""},{"$f":"IF(LEFT(B228,2)=LEFT(\"FA\",8),\"\",IFERROR(VLOOKUP(B228,#REF!,5,FALSE),\"\"))","v":""}]
[{"$f":"IF(B229=\"\",\"\",COUNTA($B$4:B229))","v":""},null,{"$f":"IF(B229=\"\",\"\",IF(LEFT(B229,2)=LEFT(\"FA\",2),F229,INDEX(#REF!,MATCH(Levantamento_SEPROARQQQ!B229,#REF!,0),4)))","v":""},{"$f":"IF(LEFT(B229,2)=LEFT(\"FA\",8),\"\",IFERROR(VLOOKUP(B229,#REF!,5,FALSE),\"\"))","v":""}]
[{"$f":"IF(B230=\"\",\"\",COUNTA($B$4:B230))","v":""},null,{"$f":"IF(B230=\"\",\"\",IF(LEFT(B230,2)=LEFT(\"FA\",2),F230,INDEX(#REF!,MATCH(Levantamento_SEPROARQQQ!B230,#REF!,0),4)))","v":""},{"$f":"IF(LEFT(B230,2)=LEFT(\"FA\",8),\"\",IFERROR(VLOOKUP(B230,#REF!,5,FALSE),\"\"))","v":""}]
[{"$f":"IF(B231=\"\",\"\",COUNTA($B$4:B231))","v":""},null,{"$f":"IF(B231=\"\",\"\",IF(LEFT(B231,2)=LEFT(\"FA\",2),F231,INDEX(#REF!,MATCH(Levantamento_SEPROARQQQ!B231,#REF!,0),4)))","v":""},{"$f":"IF(LEFT(B231,2)=LEFT(\"FA\",8),\"\",IFERROR(VLOOKUP(B231,#REF!,5,FALSE),\"\"))","v":""}]
[{"$f":"IF(B232=\"\",\"\",COUNTA($B$4:B232))","v":""},null,{"$f":"IF(B232=\"\",\"\",IF(LEFT(B232,2)=LEFT(\"FA\",2),F232,INDEX(#REF!,MATCH(Levantamento_SEPROARQQQ!B232,#REF!,0),4)))","v":""},{"$f":"IF(LEFT(B232,2)=LEFT(\"FA\",8),\"\",IFERROR(VLOOKUP(B232,#REF!,5,FALSE),\"\"))","v":""}]
[{"$f":"IF(B233=\"\",\"\",COUNTA($B$4:B233))","v":""},null,{"$f":"IF(B233=\"\",\"\",IF(LEFT(B233,2)=LEFT(\"FA\",2),F233,INDEX(#REF!,MATCH(Levantamento_SEPROARQQQ!B233,#REF!,0),4)))","v":""},{"$f":"IF(LEFT(B233,2)=LEFT(\"FA\",8),\"\",IFERROR(VLOOKUP(B233,#REF!,5,FALSE),\"\"))","v":""}]
[{"$f":"IF(B234=\"\",\"\",COUNTA($B$4:B234))","v":""},null,{"$f":"IF(B234=\"\",\"\",IF(LEFT(B234,2)=LEFT(\"FA\",2),F234,INDEX(#REF!,MATCH(Levantamento_SEPROARQQQ!B234,#REF!,0),4)))","v":""},{"$f":"IF(LEFT(B234,2)=LEFT(\"FA\",8),\"\",IFERROR(VLOOKUP(B234,#REF!,5,FALSE),\"\"))","v":""}]
[{"$f":"IF(B235=\"\",\"\",COUNTA($B$4:B235))","v":""},null,{"$f":"IF(B235=\"\",\"\",IF(LEFT(B235,2)=LEFT(\"FA\",2),F235,INDEX(#REF!,MATCH(Levantamento_SEPROARQQQ!B235,#REF!,0),4)))","v":""},{"$f":"IF(LEFT(B235,2)=LEFT(\"FA\",8),\"\",IFERROR(VLOOKUP(B235,#REF!,5,FALSE),\"\"))","v":""}]
[{"$f":"IF(B236=\"\",\"\",COUNTA($B$4:B236))","v":""},null,{"$f":"IF(B236=\"\",\"\",IF(LEFT(B236,2)=LEFT(\"FA\",2),F236,INDEX(#REF!,MATCH(Levantamento_SEPROARQQQ!B236,#REF!,0),4)))","v":""},{"$f":"IF(LEFT(B236,2)=LEFT(\"FA\",8),\"\",IFERROR(VLOOKUP(B236,#REF!,5,FALSE),\"\"))","v":""}]
[{"$f":"IF(B237=\"\",\"\",COUNTA($B$4:B237))","v":""},null,{"$f":"IF(B237=\"\",\"\",IF(LEFT(B237,2)=LEFT(\"FA\",2),F237,INDEX(#REF!,MATCH(Levantamento_SEPROARQQQ!B237,#REF!,0),4)))","v":""},{"$f":"IF(LEFT(B237,2)=LEFT(\"FA\",8),\"\",IFERROR(VLOOKUP(B237,#REF!,5,FALSE),\"\"))","v":""}]
[{"$f":"IF(B238=\"\",\"\",COUNTA($B$4:B238))","v":""},null,{"$f":"IF(B238=\"\",\"\",IF(LEFT(B238,2)=LEFT(\"FA\",2),F238,INDEX(#REF!,MATCH(Levantamento_SEPROARQQQ!B238,#REF!,0),4)))","v":""},{"$f":"IF(LEFT(B238,2)=LEFT(\"FA\",8),\"\",IFERROR(VLOOKUP(B238,#REF!,5,FALSE),\"\"))","v":""}]
[{"$f":"IF(B239=\"\",\"\",COUNTA($B$4:B239))","v":""},null,{"$f":"IF(B239=\"\",\"\",IF(LEFT(B239,2)=LEFT(\"FA\",2),F239,INDEX(#REF!,MATCH(Levantamento_SEPROARQQQ!B239,#REF!,0),4)))","v":""},{"$f":"IF(LEFT(B239,2)=LEFT(\"FA\",8),\"\",IFERROR(VLOOKUP(B239,#REF!,5,FALSE),\"\"))","v":""}]
[{"$f":"IF(B240=\"\",\"\",COUNTA($B$4:B240))","v":""},null,{"$f":"IF(B240=\"\",\"\",IF(LEFT(B240,2)=LEFT(\"FA\",2),F240,INDEX(#REF!,MATCH(Levantamento_SEPROARQQQ!B240,#REF!,0),4)))","v":""},{"$f":"IF(LEFT(B240,2)=LEFT(\"FA\",8),\"\",IFERROR(VLOOKUP(B240,#REF!,5,FALSE),\"\"))","v":""}]
[{"$f":"IF(B241=\"\",\"\",COUNTA($B$4:B241))","v":""},null,{"$f":"IF(B241=\"\",\"\",IF(LEFT(B241,2)=LEFT(\"FA\",2),F241,INDEX(#REF!,MATCH(Levantamento_SEPROARQQQ!B241,#REF!,0),4)))","v":""},{"$f":"IF(LEFT(B241,2)=LEFT(\"FA\",8),\"\",IFERROR(VLOOKUP(B241,#REF!,5,FALSE),\"\"))","v":""}]
[{"$f":"IF(B242=\"\",\"\",COUNTA($B$4:B242))","v":""},null,{"$f":"IF(B242=\"\",\"\",IF(LEFT(B242,2)=LEFT(\"FA\",2),F242,INDEX(#REF!,MATCH(Levantamento_SEPROARQQQ!B242,#REF!,0),4)))","v":""},{"$f":"IF(LEFT(B242,2)=LEFT(\"FA\",8),\"\",IFERROR(VLOOKUP(B242,#REF!,5,FALSE),\"\"))","v":""}]
[{"$f":"IF(B243=\"\",\"\",COUNTA($B$4:B243))","v":""},null,{"$f":"IF(B243=\"\",\"\",IF(LEFT(B243,2)=LEFT(\"FA\",2),F243,INDEX(#REF!,MATCH(Levantamento_SEPROARQQQ!B243,#REF!,0),4)))","v":""},{"$f":"IF(LEFT(B243,2)=LEFT(\"FA\",8),\"\",IFERROR(VLOOKUP(B243,#REF!,5,FALSE),\"\"))","v":""}]
[{"$f":"IF(B244=\"\",\"\",COUNTA($B$4:B244))","v":""},null,{"$f":"IF(B244=\"\",\"\",IF(LEFT(B244,2)=LEFT(\"FA\",2),F244,INDEX(#REF!,MATCH(Levantamento_SEPROARQQQ!B244,#REF!,0),4)))","v":""},{"$f":"IF(LEFT(B244,2)=LEFT(\"FA\",8),\"\",IFERROR(VLOOKUP(B244,#REF!,5,FALSE),\"\"))","v":""}]
[{"$f":"IF(B245=\"\",\"\",COUNTA($B$4:B245))","v":""},null,{"$f":"IF(B245=\"\",\"\",IF(LEFT(B245,2)=LEFT(\"FA\",2),F245,INDEX(#REF!,MATCH(Levantamento_SEPROARQQQ!B245,#REF!,0),4)))","v":""},{"$f":"IF(LEFT(B245,2)=LEFT(\"FA\",8),\"\",IFERROR(VLOOKUP(B245,#REF!,5,FALSE),\"\"))","v":""}]
[{"$f":"IF(B246=\"\",\"\",COUNTA($B$4:B246))","v":""},null,{"$f":"IF(B246=\"\",\"\",IF(LEFT(B246,2)=LEFT(\"FA\",2),F246,INDEX(#REF!,MATCH(Levantamento_SEPROARQQQ!B246,#REF!,0),4)))","v":""},{"$f":"IF(LEFT(B246,2)=LEFT(\"FA\",8),\"\",IFERROR(VLOOKUP(B246,#REF!,5,FALSE),\"\"))","v":""}]
[{"$f":"IF(B247=\"\",\"\",COUNTA($B$4:B247))","v":""},null,{"$f":"IF(B247=\"\",\"\",IF(LEFT(B247,2)=LEFT(\"FA\",2),F247,INDEX(#REF!,MATCH(Levantamento_SEPROARQQQ!B247,#REF!,0),4)))","v":""},{"$f":"IF(LEFT(B247,2)=LEFT(\"FA\",8),\"\",IFERROR(VLOOKUP(B247,#REF!,5,FALSE),\"\"))","v":""}]
[{"$f":"IF(B248=\"\",\"\",COUNTA($B$4:B248))","v":""},null,{"$f":"IF(B248=\"\",\"\",IF(LEFT(B248,2)=LEFT(\"FA\",2),F248,INDEX(#REF!,MATCH(Levantamento_SEPROARQQQ!B248,#REF!,0),4)))","v":""},{"$f":"IF(LEFT(B248,2)=LEFT(\"FA\",8),\"\",IFERROR(VLOOKUP(B248,#REF!,5,FALSE),\"\"))","v":""}]
[{"$f":"IF(B249=\"\",\"\",COUNTA($B$4:B249))","v":""},null,{"$f":"IF(B249=\"\",\"\",IF(LEFT(B249,2)=LEFT(\"FA\",2),F249,INDEX(#REF!,MATCH(Levantamento_SEPROARQQQ!B249,#REF!,0),4)))","v":""},{"$f":"IF(LEFT(B249,2)=LEFT(\"FA\",8),\"\",IFERROR(VLOOKUP(B249,#REF!,5,FALSE),\"\"))","v":""}]
[{"$f":"IF(B250=\"\",\"\",COUNTA($B$4:B250))","v":""},null,{"$f":"IF(B250=\"\",\"\",IF(LEFT(B250,2)=LEFT(\"FA\",2),F250,INDEX(#REF!,MATCH(Levantamento_SEPROARQQQ!B250,#REF!,0),4)))","v":""},{"$f":"IF(LEFT(B250,2)=LEFT(\"FA\",8),\"\",IFERROR(VLOOKUP(B250,#REF!,5,FALSE),\"\"))","v":""}]
[{"$f":"IF(B251=\"\",\"\",COUNTA($B$4:B251))","v":""},null,{"$f":"IF(B251=\"\",\"\",IF(LEFT(B251,2)=LEFT(\"FA\",2),F251,INDEX(#REF!,MATCH(Levantamento_SEPROARQQQ!B251,#REF!,0),4)))","v":""},{"$f":"IF(LEFT(B251,2)=LEFT(\"FA\",8),\"\",IFERROR(VLOOKUP(B251,#REF!,5,FALSE),\"\"))","v":""}]
[{"$f":"IF(B252=\"\",\"\",COUNTA($B$4:B252))","v":""},null,{"$f":"IF(B252=\"\",\"\",IF(LEFT(B252,2)=LEFT(\"FA\",2),F252,INDEX(#REF!,MATCH(Levantamento_SEPROARQQQ!B252,#REF!,0),4)))","v":""},{"$f":"IF(LEFT(B252,2)=LEFT(\"FA\",8),\"\",IFERROR(VLOOKUP(B252,#REF!,5,FALSE),\"\"))","v":""}]
[{"$f":"IF(B253=\"\",\"\",COUNTA($B$4:B253))","v":""},null,{"$f":"IF(B253=\"\",\"\",IF(LEFT(B253,2)=LEFT(\"FA\",2),F253,INDEX(#REF!,MATCH(Levantamento_SEPROARQQQ!B253,#REF!,0),4)))","v":""},{"$f":"IF(LEFT(B253,2)=LEFT(\"FA\",8),\"\",IFERROR(VLOOKUP(B253,#REF!,5,FALSE),\"\"))","v":""}]
[{"$f":"IF(B254=\"\",\"\",COUNTA($B$4:B254))","v":""},null,{"$f":"IF(B254=\"\",\"\",IF(LEFT(B254,2)=LEFT(\"FA\",2),F254,INDEX(#REF!,MATCH(Levantamento_SEPROARQQQ!B254,#REF!,0),4)))","v":""},{"$f":"IF(LEFT(B254,2)=LEFT(\"FA\",8),\"\",IFERROR(VLOOKUP(B254,#REF!,5,FALSE),\"\"))","v":""}]
[{"$f":"IF(B255=\"\",\"\",COUNTA($B$4:B255))","v":""},null,{"$f":"IF(B255=\"\",\"\",IF(LEFT(B255,2)=LEFT(\"FA\",2),F255,INDEX(#REF!,MATCH(Levantamento_SEPROARQQQ!B255,#REF!,0),4)))","v":""},{"$f":"IF(LEFT(B255,2)=LEFT(\"FA\",8),\"\",IFERROR(VLOOKUP(B255,#REF!,5,FALSE),\"\"))","v":""}]
[{"$f":"IF(B256=\"\",\"\",COUNTA($B$4:B256))","v":""},null,{"$f":"IF(B256=\"\",\"\",IF(LEFT(B256,2)=LEFT(\"FA\",2),F256,INDEX(#REF!,MATCH(Levantamento_SEPROARQQQ!B256,#REF!,0),4)))","v":""},{"$f":"IF(LEFT(B256,2)=LEFT(\"FA\",8),\"\",IFERROR(VLOOKUP(B256,#REF!,5,FALSE),\"\"))","v":""}]
[{"$f":"IF(B257=\"\",\"\",COUNTA($B$4:B257))","v":""},null,{"$f":"IF(B257=\"\",\"\",IF(LEFT(B257,2)=LEFT(\"FA\",2),F257,INDEX(#REF!,MATCH(Levantamento_SEPROARQQQ!B257,#REF!,0),4)))","v":""},{"$f":"IF(LEFT(B257,2)=LEFT(\"FA\",8),\"\",IFERROR(VLOOKUP(B257,#REF!,5,FALSE),\"\"))","v":""}]
[{"$f":"IF(B258=\"\",\"\",COUNTA($B$4:B258))","v":""},null,{"$f":"IF(B258=\"\",\"\",IF(LEFT(B258,2)=LEFT(\"FA\",2),F258,INDEX(#REF!,MATCH(Levantamento_SEPROARQQQ!B258,#REF!,0),4)))","v":""},{"$f":"IF(LEFT(B258,2)=LEFT(\"FA\",8),\"\",IFERROR(VLOOKUP(B258,#REF!,5,FALSE),\"\"))","v":""}]
[{"$f":"IF(B259=\"\",\"\",COUNTA($B$4:B259))","v":""},null,{"$f":"IF(B259=\"\",\"\",IF(LEFT(B259,2)=LEFT(\"FA\",2),F259,INDEX(#REF!,MATCH(Levantamento_SEPROARQQQ!B259,#REF!,0),4)))","v":""},{"$f":"IF(LEFT(B259,2)=LEFT(\"FA\",8),\"\",IFERROR(VLOOKUP(B259,#REF!,5,FALSE),\"\"))","v":""}]
[{"$f":"IF(B260=\"\",\"\",COUNTA($B$4:B260))","v":""},null,{"$f":"IF(B260=\"\",\"\",IF(LEFT(B260,2)=LEFT(\"FA\",2),F260,INDEX(#REF!,MATCH(Levantamento_SEPROARQQQ!B260,#REF!,0),4)))","v":""},{"$f":"IF(LEFT(B260,2)=LEFT(\"FA\",8),\"\",IFERROR(VLOOKUP(B260,#REF!,5,FALSE),\"\"))","v":""}]
[{"$f":"IF(B261=\"\",\"\",COUNTA($B$4:B261))","v":""},null,{"$f":"IF(B261=\"\",\"\",IF(LEFT(B261,2)=LEFT(\"FA\",2),F261,INDEX(#REF!,MATCH(Levantamento_SEPROARQQQ!B261,#REF!,0),4)))","v":""},{"$f":"IF(LEFT(B261,2)=LEFT(\"FA\",8),\"\",IFERROR(VLOOKUP(B261,#REF!,5,FALSE),\"\"))","v":""}]
[{"$f":"IF(B262=\"\",\"\",COUNTA($B$4:B262))","v":""},null,{"$f":"IF(B262=\"\",\"\",IF(LEFT(B262,2)=LEFT(\"FA\",2),F262,INDEX(#REF!,MATCH(Levantamento_SEPROARQQQ!B262,#REF!,0),4)))","v":""},{"$f":"IF(LEFT(B262,2)=LEFT(\"FA\",8),\"\",IFERROR(VLOOKUP(B262,#REF!,5,FALSE),\"\"))","v":""}]
[{"$f":"IF(B263=\"\",\"\",COUNTA($B$4:B263))","v":""},null,{"$f":"IF(B263=\"\",\"\",IF(LEFT(B263,2)=LEFT(\"FA\",2),F263,INDEX(#REF!,MATCH(Levantamento_SEPROARQQQ!B263,#REF!,0),4)))","v":""},{"$f":"IF(LEFT(B263,2)=LEFT(\"FA\",8),\"\",IFERROR(VLOOKUP(B263,#REF!,5,FALSE),\"\"))","v":""}]
[{"$f":"IF(B264=\"\",\"\",COUNTA($B$4:B264))","v":""},null,{"$f":"IF(B264=\"\",\"\",IF(LEFT(B264,2)=LEFT(\"FA\",2),F264,INDEX(#REF!,MATCH(Levantamento_SEPROARQQQ!B264,#REF!,0),4)))","v":""},{"$f":"IF(LEFT(B264,2)=LEFT(\"FA\",8),\"\",IFERROR(VLOOKUP(B264,#REF!,5,FALSE),\"\"))","v":""}]
[{"$f":"IF(B265=\"\",\"\",COUNTA($B$4:B265))","v":""},null,{"$f":"IF(B265=\"\",\"\",IF(LEFT(B265,2)=LEFT(\"FA\",2),F265,INDEX(#REF!,MATCH(Levantamento_SEPROARQQQ!B265,#REF!,0),4)))","v":""},{"$f":"IF(LEFT(B265,2)=LEFT(\"FA\",8),\"\",IFERROR(VLOOKUP(B265,#REF!,5,FALSE),\"\"))","v":""}]
[{"$f":"IF(B266=\"\",\"\",COUNTA($B$4:B266))","v":""},null,{"$f":"IF(B266=\"\",\"\",IF(LEFT(B266,2)=LEFT(\"FA\",2),F266,INDEX(#REF!,MATCH(Levantamento_SEPROARQQQ!B266,#REF!,0),4)))","v":""},{"$f":"IF(LEFT(B266,2)=LEFT(\"FA\",8),\"\",IFERROR(VLOOKUP(B266,#REF!,5,FALSE),\"\"))","v":""}]
[{"$f":"IF(B267=\"\",\"\",COUNTA($B$4:B267))","v":""},null,{"$f":"IF(B267=\"\",\"\",IF(LEFT(B267,2)=LEFT(\"FA\",2),F267,INDEX(#REF!,MATCH(Levantamento_SEPROARQQQ!B267,#REF!,0),4)))","v":""},{"$f":"IF(LEFT(B267,2)=LEFT(\"FA\",8),\"\",IFERROR(VLOOKUP(B267,#REF!,5,FALSE),\"\"))","v":""}]
[{"$f":"IF(B268=\"\",\"\",COUNTA($B$4:B268))","v":""},null,{"$f":"IF(B268=\"\",\"\",IF(LEFT(B268,2)=LEFT(\"FA\",2),F268,INDEX(#REF!,MATCH(Levantamento_SEPROARQQQ!B268,#REF!,0),4)))","v":""},{"$f":"IF(LEFT(B268,2)=LEFT(\"FA\",8),\"\",IFERROR(VLOOKUP(B268,#REF!,5,FALSE),\"\"))","v":""}]
[{"$f":"IF(B269=\"\",\"\",COUNTA($B$4:B269))","v":""},null,{"$f":"IF(B269=\"\",\"\",IF(LEFT(B269,2)=LEFT(\"FA\",2),F269,INDEX(#REF!,MATCH(Levantamento_SEPROARQQQ!B269,#REF!,0),4)))","v":""},{"$f":"IF(LEFT(B269,2)=LEFT(\"FA\",8),\"\",IFERROR(VLOOKUP(B269,#REF!,5,FALSE),\"\"))","v":""}]
[{"$f":"IF(B270=\"\",\"\",COUNTA($B$4:B270))","v":""},null,{"$f":"IF(B270=\"\",\"\",IF(LEFT(B270,2)=LEFT(\"FA\",2),F270,INDEX(#REF!,MATCH(Levantamento_SEPROARQQQ!B270,#REF!,0),4)))","v":""},{"$f":"IF(LEFT(B270,2)=LEFT(\"FA\",8),\"\",IFERROR(VLOOKUP(B270,#REF!,5,FALSE),\"\"))","v":""}]
[{"$f":"IF(B271=\"\",\"\",COUNTA($B$4:B271))","v":""},null,{"$f":"IF(B271=\"\",\"\",IF(LEFT(B271,2)=LEFT(\"FA\",2),F271,INDEX(#REF!,MATCH(Levantamento_SEPROARQQQ!B271,#REF!,0),4)))","v":""},{"$f":"IF(LEFT(B271,2)=LEFT(\"FA\",8),\"\",IFERROR(VLOOKUP(B271,#REF!,5,FALSE),\"\"))","v":""}]
[{"$f":"IF(B272=\"\",\"\",COUNTA($B$4:B272))","v":""},null,{"$f":"IF(B272=\"\",\"\",IF(LEFT(B272,2)=LEFT(\"FA\",2),F272,INDEX(#REF!,MATCH(Levantamento_SEPROARQQQ!B272,#REF!,0),4)))","v":""},{"$f":"IF(LEFT(B272,2)=LEFT(\"FA\",8),\"\",IFERROR(VLOOKUP(B272,#REF!,5,FALSE),\"\"))","v":""}]
[{"$f":"IF(B273=\"\",\"\",COUNTA($B$4:B273))","v":""},null,{"$f":"IF(B273=\"\",\"\",IF(LEFT(B273,2)=LEFT(\"FA\",2),F273,INDEX(#REF!,MATCH(Levantamento_SEPROARQQQ!B273,#REF!,0),4)))","v":""},{"$f":"IF(LEFT(B273,2)=LEFT(\"FA\",8),\"\",IFERROR(VLOOKUP(B273,#REF!,5,FALSE),\"\"))","v":""}]
[{"$f":"IF(B274=\"\",\"\",COUNTA($B$4:B274))","v":""},null,{"$f":"IF(B274=\"\",\"\",IF(LEFT(B274,2)=LEFT(\"FA\",2),F274,INDEX(#REF!,MATCH(Levantamento_SEPROARQQQ!B274,#REF!,0),4)))","v":""},{"$f":"IF(LEFT(B274,2)=LEFT(\"FA\",8),\"\",IFERROR(VLOOKUP(B274,#REF!,5,FALSE),\"\"))","v":""}]
[{"$f":"IF(B275=\"\",\"\",COUNTA($B$4:B275))","v":""},null,{"$f":"IF(B275=\"\",\"\",IF(LEFT(B275,2)=LEFT(\"FA\",2),F275,INDEX(#REF!,MATCH(Levantamento_SEPROARQQQ!B275,#REF!,0),4)))","v":""},{"$f":"IF(LEFT(B275,2)=LEFT(\"FA\",8),\"\",IFERROR(VLOOKUP(B275,#REF!,5,FALSE),\"\"))","v":""}]
[{"$f":"IF(B276=\"\",\"\",COUNTA($B$4:B276))","v":""},null,{"$f":"IF(B276=\"\",\"\",IF(LEFT(B276,2)=LEFT(\"FA\",2),F276,INDEX(#REF!,MATCH(Levantamento_SEPROARQQQ!B276,#REF!,0),4)))","v":""},{"$f":"IF(LEFT(B276,2)=LEFT(\"FA\",8),\"\",IFERROR(VLOOKUP(B276,#REF!,5,FALSE),\"\"))","v":""}]
[{"$f":"IF(B277=\"\",\"\",COUNTA($B$4:B277))","v":""},null,{"$f":"IF(B277=\"\",\"\",IF(LEFT(B277,2)=LEFT(\"FA\",2),F277,INDEX(#REF!,MATCH(Levantamento_SEPROARQQQ!B277,#REF!,0),4)))","v":""},{"$f":"IF(LEFT(B277,2)=LEFT(\"FA\",8),\"\",IFERROR(VLOOKUP(B277,#REF!,5,FALSE),\"\"))","v":""}]
[{"$f":"IF(B278=\"\",\"\",COUNTA($B$4:B278))","v":""},null,{"$f":"IF(B278=\"\",\"\",IF(LEFT(B278,2)=LEFT(\"FA\",2),F278,INDEX(#REF!,MATCH(Levantamento_SEPROARQQQ!B278,#REF!,0),4)))","v":""},{"$f":"IF(LEFT(B278,2)=LEFT(\"FA\",8),\"\",IFERROR(VLOOKUP(B278,#REF!,5,FALSE),\"\"))","v":""}]
[{"$f":"IF(B279=\"\",\"\",COUNTA($B$4:B279))","v":""},null,{"$f":"IF(B279=\"\",\"\",IF(LEFT(B279,2)=LEFT(\"FA\",2),F279,INDEX(#REF!,MATCH(Levantamento_SEPROARQQQ!B279,#REF!,0),4)))","v":""},{"$f":"IF(LEFT(B279,2)=LEFT(\"FA\",8),\"\",IFERROR(VLOOKUP(B279,#REF!,5,FALSE),\"\"))","v":""}]
[{"$f":"IF(B280=\"\",\"\",COUNTA($B$4:B280))","v":""},null,{"$f":"IF(B280=\"\",\"\",IF(LEFT(B280,2)=LEFT(\"FA\",2),F280,INDEX(#REF!,MATCH(Levantamento_SEPROARQQQ!B280,#REF!,0),4)))","v":""},{"$f":"IF(LEFT(B280,2)=LEFT(\"FA\",8),\"\",IFERROR(VLOOKUP(B280,#REF!,5,FALSE),\"\"))","v":""}]
[{"$f":"IF(B281=\"\",\"\",COUNTA($B$4:B281))","v":""},null,{"$f":"IF(B281=\"\",\"\",IF(LEFT(B281,2)=LEFT(\"FA\",2),F281,INDEX(#REF!,MATCH(Levantamento_SEPROARQQQ!B281,#REF!,0),4)))","v":""},{"$f":"IF(LEFT(B281,2)=LEFT(\"FA\",8),\"\",IFERROR(VLOOKUP(B281,#REF!,5,FALSE),\"\"))","v":""}]
[{"$f":"IF(B282=\"\",\"\",COUNTA($B$4:B282))","v":""},null,{"$f":"IF(B282=\"\",\"\",IF(LEFT(B282,2)=LEFT(\"FA\",2),F282,INDEX(#REF!,MATCH(Levantamento_SEPROARQQQ!B282,#REF!,0),4)))","v":""},{"$f":"IF(LEFT(B282,2)=LEFT(\"FA\",8),\"\",IFERROR(VLOOKUP(B282,#REF!,5,FALSE),\"\"))","v":""}]
[{"$f":"IF(B283=\"\",\"\",COUNTA($B$4:B283))","v":""},null,{"$f":"IF(B283=\"\",\"\",IF(LEFT(B283,2)=LEFT(\"FA\",2),F283,INDEX(#REF!,MATCH(Levantamento_SEPROARQQQ!B283,#REF!,0),4)))","v":""},{"$f":"IF(LEFT(B283,2)=LEFT(\"FA\",8),\"\",IFERROR(VLOOKUP(B283,#REF!,5,FALSE),\"\"))","v":""}]
[{"$f":"IF(B284=\"\",\"\",COUNTA($B$4:B284))","v":""},null,{"$f":"IF(B284=\"\",\"\",IF(LEFT(B284,2)=LEFT(\"FA\",2),F284,INDEX(#REF!,MATCH(Levantamento_SEPROARQQQ!B284,#REF!,0),4)))","v":""},{"$f":"IF(LEFT(B284,2)=LEFT(\"FA\",8),\"\",IFERROR(VLOOKUP(B284,#REF!,5,FALSE),\"\"))","v":""}]
[{"$f":"IF(B285=\"\",\"\",COUNTA($B$4:B285))","v":""},null,{"$f":"IF(B285=\"\",\"\",IF(LEFT(B285,2)=LEFT(\"FA\",2),F285,INDEX(#REF!,MATCH(Levantamento_SEPROARQQQ!B285,#REF!,0),4)))","v":""},{"$f":"IF(LEFT(B285,2)=LEFT(\"FA\",8),\"\",IFERROR(VLOOKUP(B285,#REF!,5,FALSE),\"\"))","v":""}]
[{"$f":"IF(B286=\"\",\"\",COUNTA($B$4:B286))","v":""},null,{"$f":"IF(B286=\"\",\"\",IF(LEFT(B286,2)=LEFT(\"FA\",2),F286,INDEX(#REF!,MATCH(Levantamento_SEPROARQQQ!B286,#REF!,0),4)))","v":""},{"$f":"IF(LEFT(B286,2)=LEFT(\"FA\",8),\"\",IFERROR(VLOOKUP(B286,#REF!,5,FALSE),\"\"))","v":""}]
[{"$f":"IF(B287=\"\",\"\",COUNTA($B$4:B287))","v":""},null,{"$f":"IF(B287=\"\",\"\",IF(LEFT(B287,2)=LEFT(\"FA\",2),F287,INDEX(#REF!,MATCH(Levantamento_SEPROARQQQ!B287,#REF!,0),4)))","v":""},{"$f":"IF(LEFT(B287,2)=LEFT(\"FA\",8),\"\",IFERROR(VLOOKUP(B287,#REF!,5,FALSE),\"\"))","v":""}]
[{"$f":"IF(B288=\"\",\"\",COUNTA($B$4:B288))","v":""},null,{"$f":"IF(B288=\"\",\"\",IF(LEFT(B288,2)=LEFT(\"FA\",2),F288,INDEX(#REF!,MATCH(Levantamento_SEPROARQQQ!B288,#REF!,0),4)))","v":""},{"$f":"IF(LEFT(B288,2)=LEFT(\"FA\",8),\"\",IFERROR(VLOOKUP(B288,#REF!,5,FALSE),\"\"))","v":""}]
[{"$f":"IF(B289=\"\",\"\",COUNTA($B$4:B289))","v":""},null,{"$f":"IF(B289=\"\",\"\",IF(LEFT(B289,2)=LEFT(\"FA\",2),F289,INDEX(#REF!,MATCH(Levantamento_SEPROARQQQ!B289,#REF!,0),4)))","v":""},{"$f":"IF(LEFT(B289,2)=LEFT(\"FA\",8),\"\",IFERROR(VLOOKUP(B289,#REF!,5,FALSE),\"\"))","v":""}]
[{"$f":"IF(B290=\"\",\"\",COUNTA($B$4:B290))","v":""},null,{"$f":"IF(B290=\"\",\"\",IF(LEFT(B290,2)=LEFT(\"FA\",2),F290,INDEX(#REF!,MATCH(Levantamento_SEPROARQQQ!B290,#REF!,0),4)))","v":""},{"$f":"IF(LEFT(B290,2)=LEFT(\"FA\",8),\"\",IFERROR(VLOOKUP(B290,#REF!,5,FALSE),\"\"))","v":""}]
[{"$f":"IF(B291=\"\",\"\",COUNTA($B$4:B291))","v":""},null,{"$f":"IF(B291=\"\",\"\",IF(LEFT(B291,2)=LEFT(\"FA\",2),F291,INDEX(#REF!,MATCH(Levantamento_SEPROARQQQ!B291,#REF!,0),4)))","v":""},{"$f":"IF(LEFT(B291,2)=LEFT(\"FA\",8),\"\",IFERROR(VLOOKUP(B291,#REF!,5,FALSE),\"\"))","v":""}]
[{"$f":"IF(B292=\"\",\"\",COUNTA($B$4:B292))","v":""},null,{"$f":"IF(B292=\"\",\"\",IF(LEFT(B292,2)=LEFT(\"FA\",2),F292,INDEX(#REF!,MATCH(Levantamento_SEPROARQQQ!B292,#REF!,0),4)))","v":""},{"$f":"IF(LEFT(B292,2)=LEFT(\"FA\",8),\"\",IFERROR(VLOOKUP(B292,#REF!,5,FALSE),\"\"))","v":""}]
[{"$f":"IF(B293=\"\",\"\",COUNTA($B$4:B293))","v":""},null,{"$f":"IF(B293=\"\",\"\",IF(LEFT(B293,2)=LEFT(\"FA\",2),F293,INDEX(#REF!,MATCH(Levantamento_SEPROARQQQ!B293,#REF!,0),4)))","v":""},{"$f":"IF(LEFT(B293,2)=LEFT(\"FA\",8),\"\",IFERROR(VLOOKUP(B293,#REF!,5,FALSE),\"\"))","v":""}]
[{"$f":"IF(B294=\"\",\"\",COUNTA($B$4:B294))","v":""},null,{"$f":"IF(B294=\"\",\"\",IF(LEFT(B294,2)=LEFT(\"FA\",2),F294,INDEX(#REF!,MATCH(Levantamento_SEPROARQQQ!B294,#REF!,0),4)))","v":""},{"$f":"IF(LEFT(B294,2)=LEFT(\"FA\",8),\"\",IFERROR(VLOOKUP(B294,#REF!,5,FALSE),\"\"))","v":""}]
[{"$f":"IF(B295=\"\",\"\",COUNTA($B$4:B295))","v":""},null,{"$f":"IF(B295=\"\",\"\",IF(LEFT(B295,2)=LEFT(\"FA\",2),F295,INDEX(#REF!,MATCH(Levantamento_SEPROARQQQ!B295,#REF!,0),4)))","v":""},{"$f":"IF(LEFT(B295,2)=LEFT(\"FA\",8),\"\",IFERROR(VLOOKUP(B295,#REF!,5,FALSE),\"\"))","v":""}]
[{"$f":"IF(B296=\"\",\"\",COUNTA($B$4:B296))","v":""},null,{"$f":"IF(B296=\"\",\"\",IF(LEFT(B296,2)=LEFT(\"FA\",2),F296,INDEX(#REF!,MATCH(Levantamento_SEPROARQQQ!B296,#REF!,0),4)))","v":""},{"$f":"IF(LEFT(B296,2)=LEFT(\"FA\",8),\"\",IFERROR(VLOOKUP(B296,#REF!,5,FALSE),\"\"))","v":""}]
[{"$f":"IF(B297=\"\",\"\",COUNTA($B$4:B297))","v":""},null,{"$f":"IF(B297=\"\",\"\",IF(LEFT(B297,2)=LEFT(\"FA\",2),F297,INDEX(#REF!,MATCH(Levantamento_SEPROARQQQ!B297,#REF!,0),4)))","v":""},{"$f":"IF(LEFT(B297,2)=LEFT(\"FA\",8),\"\",IFERROR(VLOOKUP(B297,#REF!,5,FALSE),\"\"))","v":""}]
[{"$f":"IF(B298=\"\",\"\",COUNTA($B$4:B298))","v":""},null,{"$f":"IF(B298=\"\",\"\",IF(LEFT(B298,2)=LEFT(\"FA\",2),F298,INDEX(#REF!,MATCH(Levantamento_SEPROARQQQ!B298,#REF!,0),4)))","v":""},{"$f":"IF(LEFT(B298,2)=LEFT(\"FA\",8),\"\",IFERROR(VLOOKUP(B298,#REF!,5,FALSE),\"\"))","v":""}]
[{"$f":"IF(B299=\"\",\"\",COUNTA($B$4:B299))","v":""},null,{"$f":"IF(B299=\"\",\"\",IF(LEFT(B299,2)=LEFT(\"FA\",2),F299,INDEX(#REF!,MATCH(Levantamento_SEPROARQQQ!B299,#REF!,0),4)))","v":""},{"$f":"IF(LEFT(B299,2)=LEFT(\"FA\",8),\"\",IFERROR(VLOOKUP(B299,#REF!,5,FALSE),\"\"))","v":""}]
[{"$f":"IF(B300=\"\",\"\",COUNTA($B$4:B300))","v":""},null,{"$f":"IF(B300=\"\",\"\",IF(LEFT(B300,2)=LEFT(\"FA\",2),F300,INDEX(#REF!,MATCH(Levantamento_SEPROARQQQ!B300,#REF!,0),4)))","v":""},{"$f":"IF(LEFT(B300,2)=LEFT(\"FA\",8),\"\",IFERROR(VLOOKUP(B300,#REF!,5,FALSE),\"\"))","v":""}]
[{"$f":"IF(B301=\"\",\"\",COUNTA($B$4:B301))","v":""},null,{"$f":"IF(B301=\"\",\"\",IF(LEFT(B301,2)=LEFT(\"FA\",2),F301,INDEX(#REF!,MATCH(Levantamento_SEPROARQQQ!B301,#REF!,0),4)))","v":""},{"$f":"IF(LEFT(B301,2)=LEFT(\"FA\",8),\"\",IFERROR(VLOOKUP(B301,#REF!,5,FALSE),\"\"))","v":""}]
[{"$f":"IF(B302=\"\",\"\",COUNTA($B$4:B302))","v":""},null,{"$f":"IF(B302=\"\",\"\",IF(LEFT(B302,2)=LEFT(\"FA\",2),F302,INDEX(#REF!,MATCH(Levantamento_SEPROARQQQ!B302,#REF!,0),4)))","v":""},{"$f":"IF(LEFT(B302,2)=LEFT(\"FA\",8),\"\",IFERROR(VLOOKUP(B302,#REF!,5,FALSE),\"\"))","v":""}]
[{"$f":"IF(B303=\"\",\"\",COUNTA($B$4:B303))","v":""},null,{"$f":"IF(B303=\"\",\"\",IF(LEFT(B303,2)=LEFT(\"FA\",2),F303,INDEX(#REF!,MATCH(Levantamento_SEPROARQQQ!B303,#REF!,0),4)))","v":""},{"$f":"IF(LEFT(B303,2)=LEFT(\"FA\",8),\"\",IFERROR(VLOOKUP(B303,#REF!,5,FALSE),\"\"))","v":""}]
[{"$f":"IF(B304=\"\",\"\",COUNTA($B$4:B304))","v":""},null,{"$f":"IF(B304=\"\",\"\",IF(LEFT(B304,2)=LEFT(\"FA\",2),F304,INDEX(#REF!,MATCH(Levantamento_SEPROARQQQ!B304,#REF!,0),4)))","v":""},{"$f":"IF(LEFT(B304,2)=LEFT(\"FA\",8),\"\",IFERROR(VLOOKUP(B304,#REF!,5,FALSE),\"\"))","v":""}]
[{"$f":"IF(B305=\"\",\"\",COUNTA($B$4:B305))","v":""},null,{"$f":"IF(B305=\"\",\"\",IF(LEFT(B305,2)=LEFT(\"FA\",2),F305,INDEX(#REF!,MATCH(Levantamento_SEPROARQQQ!B305,#REF!,0),4)))","v":""},{"$f":"IF(LEFT(B305,2)=LEFT(\"FA\",8),\"\",IFERROR(VLOOKUP(B305,#REF!,5,FALSE),\"\"))","v":""}]
[{"$f":"IF(B306=\"\",\"\",COUNTA($B$4:B306))","v":""},null,{"$f":"IF(B306=\"\",\"\",IF(LEFT(B306,2)=LEFT(\"FA\",2),F306,INDEX(#REF!,MATCH(Levantamento_SEPROARQQQ!B306,#REF!,0),4)))","v":""},{"$f":"IF(LEFT(B306,2)=LEFT(\"FA\",8),\"\",IFERROR(VLOOKUP(B306,#REF!,5,FALSE),\"\"))","v":""}]
[{"$f":"IF(B307=\"\",\"\",COUNTA($B$4:B307))","v":""},null,{"$f":"IF(B307=\"\",\"\",IF(LEFT(B307,2)=LEFT(\"FA\",2),F307,INDEX(#REF!,MATCH(Levantamento_SEPROARQQQ!B307,#REF!,0),4)))","v":""},{"$f":"IF(LEFT(B307,2)=LEFT(\"FA\",8),\"\",IFERROR(VLOOKUP(B307,#REF!,5,FALSE),\"\"))","v":""}]
[{"$f":"IF(B308=\"\",\"\",COUNTA($B$4:B308))","v":""},null,{"$f":"IF(B308=\"\",\"\",IF(LEFT(B308,2)=LEFT(\"FA\",2),F308,INDEX(#REF!,MATCH(Levantamento_SEPROARQQQ!B308,#REF!,0),4)))","v":""},{"$f":"IF(LEFT(B308,2)=LEFT(\"FA\",8),\"\",IFERROR(VLOOKUP(B308,#REF!,5,FALSE),\"\"))","v":""}]
[{"$f":"IF(B309=\"\",\"\",COUNTA($B$4:B309))","v":""},null,{"$f":"IF(B309=\"\",\"\",IF(LEFT(B309,2)=LEFT(\"FA\",2),F309,INDEX(#REF!,MATCH(Levantamento_SEPROARQQQ!B309,#REF!,0),4)))","v":""},{"$f":"IF(LEFT(B309,2)=LEFT(\"FA\",8),\"\",IFERROR(VLOOKUP(B309,#REF!,5,FALSE),\"\"))","v":""}]
[{"$f":"IF(B310=\"\",\"\",COUNTA($B$4:B310))","v":""},null,{"$f":"IF(B310=\"\",\"\",IF(LEFT(B310,2)=LEFT(\"FA\",2),F310,INDEX(#REF!,MATCH(Levantamento_SEPROARQQQ!B310,#REF!,0),4)))","v":""},{"$f":"IF(LEFT(B310,2)=LEFT(\"FA\",8),\"\",IFERROR(VLOOKUP(B310,#REF!,5,FALSE),\"\"))","v":""}]
[{"$f":"IF(B311=\"\",\"\",COUNTA($B$4:B311))","v":""},null,{"$f":"IF(B311=\"\",\"\",IF(LEFT(B311,2)=LEFT(\"FA\",2),F311,INDEX(#REF!,MATCH(Levantamento_SEPROARQQQ!B311,#REF!,0),4)))","v":""},{"$f":"IF(LEFT(B311,2)=LEFT(\"FA\",8),\"\",IFERROR(VLOOKUP(B311,#REF!,5,FALSE),\"\"))","v":""}]
[{"$f":"IF(B312=\"\",\"\",COUNTA($B$4:B312))","v":""},null,{"$f":"IF(B312=\"\",\"\",IF(LEFT(B312,2)=LEFT(\"FA\",2),F312,INDEX(#REF!,MATCH(Levantamento_SEPROARQQQ!B312,#REF!,0),4)))","v":""},{"$f":"IF(LEFT(B312,2)=LEFT(\"FA\",8),\"\",IFERROR(VLOOKUP(B312,#REF!,5,FALSE),\"\"))","v":""}]
[{"$f":"IF(B313=\"\",\"\",COUNTA($B$4:B313))","v":""},null,{"$f":"IF(B313=\"\",\"\",IF(LEFT(B313,2)=LEFT(\"FA\",2),F313,INDEX(#REF!,MATCH(Levantamento_SEPROARQQQ!B313,#REF!,0),4)))","v":""},{"$f":"IF(LEFT(B313,2)=LEFT(\"FA\",8),\"\",IFERROR(VLOOKUP(B313,#REF!,5,FALSE),\"\"))","v":""}]
[{"$f":"IF(B314=\"\",\"\",COUNTA($B$4:B314))","v":""},null,{"$f":"IF(B314=\"\",\"\",IF(LEFT(B314,2)=LEFT(\"FA\",2),F314,INDEX(#REF!,MATCH(Levantamento_SEPROARQQQ!B314,#REF!,0),4)))","v":""},{"$f":"IF(LEFT(B314,2)=LEFT(\"FA\",8),\"\",IFERROR(VLOOKUP(B314,#REF!,5,FALSE),\"\"))","v":""}]
[{"$f":"IF(B315=\"\",\"\",COUNTA($B$4:B315))","v":""},null,{"$f":"IF(B315=\"\",\"\",IF(LEFT(B315,2)=LEFT(\"FA\",2),F315,INDEX(#REF!,MATCH(Levantamento_SEPROARQQQ!B315,#REF!,0),4)))","v":""},{"$f":"IF(LEFT(B315,2)=LEFT(\"FA\",8),\"\",IFERROR(VLOOKUP(B315,#REF!,5,FALSE),\"\"))","v":""}]
[{"$f":"IF(B316=\"\",\"\",COUNTA($B$4:B316))","v":""},null,{"$f":"IF(B316=\"\",\"\",IF(LEFT(B316,2)=LEFT(\"FA\",2),F316,INDEX(#REF!,MATCH(Levantamento_SEPROARQQQ!B316,#REF!,0),4)))","v":""},{"$f":"IF(LEFT(B316,2)=LEFT(\"FA\",8),\"\",IFERROR(VLOOKUP(B316,#REF!,5,FALSE),\"\"))","v":""}]
[{"$f":"IF(B317=\"\",\"\",COUNTA($B$4:B317))","v":""},null,{"$f":"IF(B317=\"\",\"\",IF(LEFT(B317,2)=LEFT(\"FA\",2),F317,INDEX(#REF!,MATCH(Levantamento_SEPROARQQQ!B317,#REF!,0),4)))","v":""},{"$f":"IF(LEFT(B317,2)=LEFT(\"FA\",8),\"\",IFERROR(VLOOKUP(B317,#REF!,5,FALSE),\"\"))","v":""}]
[{"$f":"IF(B318=\"\",\"\",COUNTA($B$4:B318))","v":""},null,{"$f":"IF(B318=\"\",\"\",IF(LEFT(B318,2)=LEFT(\"FA\",2),F318,INDEX(#REF!,MATCH(Levantamento_SEPROARQQQ!B318,#REF!,0),4)))","v":""},{"$f":"IF(LEFT(B318,2)=LEFT(\"FA\",8),\"\",IFERROR(VLOOKUP(B318,#REF!,5,FALSE),\"\"))","v":""}]
[{"$f":"IF(B319=\"\",\"\",COUNTA($B$4:B319))","v":""},null,{"$f":"IF(B319=\"\",\"\",IF(LEFT(B319,2)=LEFT(\"FA\",2),F319,INDEX(#REF!,MATCH(Levantamento_SEPROARQQQ!B319,#REF!,0),4)))","v":""},{"$f":"IF(LEFT(B319,2)=LEFT(\"FA\",8),\"\",IFERROR(VLOOKUP(B319,#REF!,5,FALSE),\"\"))","v":""}]
[{"$f":"IF(B320=\"\",\"\",COUNTA($B$4:B320))","v":""},null,{"$f":"IF(B320=\"\",\"\",IF(LEFT(B320,2)=LEFT(\"FA\",2),F320,INDEX(#REF!,MATCH(Levantamento_SEPROARQQQ!B320,#REF!,0),4)))","v":""},{"$f":"IF(LEFT(B320,2)=LEFT(\"FA\",8),\"\",IFERROR(VLOOKUP(B320,#REF!,5,FALSE),\"\"))","v":""}]
[{"$f":"IF(B321=\"\",\"\",COUNTA($B$4:B321))","v":""},null,{"$f":"IF(B321=\"\",\"\",IF(LEFT(B321,2)=LEFT(\"FA\",2),F321,INDEX(#REF!,MATCH(Levantamento_SEPROARQQQ!B321,#REF!,0),4)))","v":""},{"$f":"IF(LEFT(B321,2)=LEFT(\"FA\",8),\"\",IFERROR(VLOOKUP(B321,#REF!,5,FALSE),\"\"))","v":""}]
[{"$f":"IF(B322=\"\",\"\",COUNTA($B$4:B322))","v":""},null,{"$f":"IF(B322=\"\",\"\",IF(LEFT(B322,2)=LEFT(\"FA\",2),F322,INDEX(#REF!,MATCH(Levantamento_SEPROARQQQ!B322,#REF!,0),4)))","v":""},{"$f":"IF(LEFT(B322,2)=LEFT(\"FA\",8),\"\",IFERROR(VLOOKUP(B322,#REF!,5,FALSE),\"\"))","v":""}]
[{"$f":"IF(B323=\"\",\"\",COUNTA($B$4:B323))","v":""},null,{"$f":"IF(B323=\"\",\"\",IF(LEFT(B323,2)=LEFT(\"FA\",2),F323,INDEX(#REF!,MATCH(Levantamento_SEPROARQQQ!B323,#REF!,0),4)))","v":""},{"$f":"IF(LEFT(B323,2)=LEFT(\"FA\",8),\"\",IFERROR(VLOOKUP(B323,#REF!,5,FALSE),\"\"))","v":""}]
[{"$f":"IF(B324=\"\",\"\",COUNTA($B$4:B324))","v":""},null,{"$f":"IF(B324=\"\",\"\",IF(LEFT(B324,2)=LEFT(\"FA\",2),F324,INDEX(#REF!,MATCH(Levantamento_SEPROARQQQ!B324,#REF!,0),4)))","v":""},{"$f":"IF(LEFT(B324,2)=LEFT(\"FA\",8),\"\",IFERROR(VLOOKUP(B324,#REF!,5,FALSE),\"\"))","v":""}]
[{"$f":"IF(B325=\"\",\"\",COUNTA($B$4:B325))","v":""},null,{"$f":"IF(B325=\"\",\"\",IF(LEFT(B325,2)=LEFT(\"FA\",2),F325,INDEX(#REF!,MATCH(Levantamento_SEPROARQQQ!B325,#REF!,0),4)))","v":""},{"$f":"IF(LEFT(B325,2)=LEFT(\"FA\",8),\"\",IFERROR(VLOOKUP(B325,#REF!,5,FALSE),\"\"))","v":""}]
[{"$f":"IF(B326=\"\",\"\",COUNTA($B$4:B326))","v":""},null,{"$f":"IF(B326=\"\",\"\",IF(LEFT(B326,2)=LEFT(\"FA\",2),F326,INDEX(#REF!,MATCH(Levantamento_SEPROARQQQ!B326,#REF!,0),4)))","v":""},{"$f":"IF(LEFT(B326,2)=LEFT(\"FA\",8),\"\",IFERROR(VLOOKUP(B326,#REF!,5,FALSE),\"\"))","v":""}]
[{"$f":"IF(B327=\"\",\"\",COUNTA($B$4:B327))","v":""},null,{"$f":"IF(B327=\"\",\"\",IF(LEFT(B327,2)=LEFT(\"FA\",2),F327,INDEX(#REF!,MATCH(Levantamento_SEPROARQQQ!B327,#REF!,0),4)))","v":""},{"$f":"IF(LEFT(B327,2)=LEFT(\"FA\",8),\"\",IFERROR(VLOOKUP(B327,#REF!,5,FALSE),\"\"))","v":""}]
[{"$f":"IF(B328=\"\",\"\",COUNTA($B$4:B328))","v":""},null,{"$f":"IF(B328=\"\",\"\",IF(LEFT(B328,2)=LEFT(\"FA\",2),F328,INDEX(#REF!,MATCH(Levantamento_SEPROARQQQ!B328,#REF!,0),4)))","v":""},{"$f":"IF(LEFT(B328,2)=LEFT(\"FA\",8),\"\",IFERROR(VLOOKUP(B328,#REF!,5,FALSE),\"\"))","v":""}]
[{"$f":"IF(B329=\"\",\"\",COUNTA($B$4:B329))","v":""},null,{"$f":"IF(B329=\"\",\"\",IF(LEFT(B329,2)=LEFT(\"FA\",2),F329,INDEX(#REF!,MATCH(Levantamento_SEPROARQQQ!B329,#REF!,0),4)))","v":""},{"$f":"IF(LEFT(B329,2)=LEFT(\"FA\",8),\"\",IFERROR(VLOOKUP(B329,#REF!,5,FALSE),\"\"))","v":""}]
[{"$f":"IF(B330=\"\",\"\",COUNTA($B$4:B330))","v":""},null,{"$f":"IF(B330=\"\",\"\",IF(LEFT(B330,2)=LEFT(\"FA\",2),F330,INDEX(#REF!,MATCH(Levantamento_SEPROARQQQ!B330,#REF!,0),4)))","v":""},{"$f":"IF(LEFT(B330,2)=LEFT(\"FA\",8),\"\",IFERROR(VLOOKUP(B330,#REF!,5,FALSE),\"\"))","v":""}]
[{"$f":"IF(B331=\"\",\"\",COUNTA($B$4:B331))","v":""},null,{"$f":"IF(B331=\"\",\"\",IF(LEFT(B331,2)=LEFT(\"FA\",2),F331,INDEX(#REF!,MATCH(Levantamento_SEPROARQQQ!B331,#REF!,0),4)))","v":""},{"$f":"IF(LEFT(B331,2)=LEFT(\"FA\",8),\"\",IFERROR(VLOOKUP(B331,#REF!,5,FALSE),\"\"))","v":""}]
[{"$f":"IF(B332=\"\",\"\",COUNTA($B$4:B332))","v":""},null,{"$f":"IF(B332=\"\",\"\",IF(LEFT(B332,2)=LEFT(\"FA\",2),F332,INDEX(#REF!,MATCH(Levantamento_SEPROARQQQ!B332,#REF!,0),4)))","v":""},{"$f":"IF(LEFT(B332,2)=LEFT(\"FA\",8),\"\",IFERROR(VLOOKUP(B332,#REF!,5,FALSE),\"\"))","v":""}]
[{"$f":"IF(B333=\"\",\"\",COUNTA($B$4:B333))","v":""},null,{"$f":"IF(B333=\"\",\"\",IF(LEFT(B333,2)=LEFT(\"FA\",2),F333,INDEX(#REF!,MATCH(Levantamento_SEPROARQQQ!B333,#REF!,0),4)))","v":""},{"$f":"IF(LEFT(B333,2)=LEFT(\"FA\",8),\"\",IFERROR(VLOOKUP(B333,#REF!,5,FALSE),\"\"))","v":""}]
[{"$f":"IF(B334=\"\",\"\",COUNTA($B$4:B334))","v":""},null,{"$f":"IF(B334=\"\",\"\",IF(LEFT(B334,2)=LEFT(\"FA\",2),F334,INDEX(#REF!,MATCH(Levantamento_SEPROARQQQ!B334,#REF!,0),4)))","v":""},{"$f":"IF(LEFT(B334,2)=LEFT(\"FA\",8),\"\",IFERROR(VLOOKUP(B334,#REF!,5,FALSE),\"\"))","v":""}]
[{"$f":"IF(B335=\"\",\"\",COUNTA($B$4:B335))","v":""},null,{"$f":"IF(B335=\"\",\"\",IF(LEFT(B335,2)=LEFT(\"FA\",2),F335,INDEX(#REF!,MATCH(Levantamento_SEPROARQQQ!B335,#REF!,0),4)))","v":""},{"$f":"IF(LEFT(B335,2)=LEFT(\"FA\",8),\"\",IFERROR(VLOOKUP(B335,#REF!,5,FALSE),\"\"))","v":""}]
[{"$f":"IF(B336=\"\",\"\",COUNTA($B$4:B336))","v":""},null,{"$f":"IF(B336=\"\",\"\",IF(LEFT(B336,2)=LEFT(\"FA\",2),F336,INDEX(#REF!,MATCH(Levantamento_SEPROARQQQ!B336,#REF!,0),4)))","v":""},{"$f":"IF(LEFT(B336,2)=LEFT(\"FA\",8),\"\",IFERROR(VLOOKUP(B336,#REF!,5,FALSE),\"\"))","v":""}]
[{"$f":"IF(B337=\"\",\"\",COUNTA($B$4:B337))","v":""},null,{"$f":"IF(B337=\"\",\"\",IF(LEFT(B337,2)=LEFT(\"FA\",2),F337,INDEX(#REF!,MATCH(Levantamento_SEPROARQQQ!B337,#REF!,0),4)))","v":""},{"$f":"IF(LEFT(B337,2)=LEFT(\"FA\",8),\"\",IFERROR(VLOOKUP(B337,#REF!,5,FALSE),\"\"))","v":""}]
[{"$f":"IF(B338=\"\",\"\",COUNTA($B$4:B338))","v":""},null,{"$f":"IF(B338=\"\",\"\",IF(LEFT(B338,2)=LEFT(\"FA\",2),F338,INDEX(#REF!,MATCH(Levantamento_SEPROARQQQ!B338,#REF!,0),4)))","v":""},{"$f":"IF(LEFT(B338,2)=LEFT(\"FA\",8),\"\",IFERROR(VLOOKUP(B338,#REF!,5,FALSE),\"\"))","v":""}]
[{"$f":"IF(B339=\"\",\"\",COUNTA($B$4:B339))","v":""},null,{"$f":"IF(B339=\"\",\"\",IF(LEFT(B339,2)=LEFT(\"FA\",2),F339,INDEX(#REF!,MATCH(Levantamento_SEPROARQQQ!B339,#REF!,0),4)))","v":""},{"$f":"IF(LEFT(B339,2)=LEFT(\"FA\",8),\"\",IFERROR(VLOOKUP(B339,#REF!,5,FALSE),\"\"))","v":""}]
[{"$f":"IF(B340=\"\",\"\",COUNTA($B$4:B340))","v":""},null,{"$f":"IF(B340=\"\",\"\",IF(LEFT(B340,2)=LEFT(\"FA\",2),F340,INDEX(#REF!,MATCH(Levantamento_SEPROARQQQ!B340,#REF!,0),4)))","v":""},{"$f":"IF(LEFT(B340,2)=LEFT(\"FA\",8),\"\",IFERROR(VLOOKUP(B340,#REF!,5,FALSE),\"\"))","v":""}]
[{"$f":"IF(B341=\"\",\"\",COUNTA($B$4:B341))","v":""},null,{"$f":"IF(B341=\"\",\"\",IF(LEFT(B341,2)=LEFT(\"FA\",2),F341,INDEX(#REF!,MATCH(Levantamento_SEPROARQQQ!B341,#REF!,0),4)))","v":""},{"$f":"IF(LEFT(B341,2)=LEFT(\"FA\",8),\"\",IFERROR(VLOOKUP(B341,#REF!,5,FALSE),\"\"))","v":""}]
[{"$f":"IF(B342=\"\",\"\",COUNTA($B$4:B342))","v":""},null,{"$f":"IF(B342=\"\",\"\",IF(LEFT(B342,2)=LEFT(\"FA\",2),F342,INDEX(#REF!,MATCH(Levantamento_SEPROARQQQ!B342,#REF!,0),4)))","v":""},{"$f":"IF(LEFT(B342,2)=LEFT(\"FA\",8),\"\",IFERROR(VLOOKUP(B342,#REF!,5,FALSE),\"\"))","v":""}]
[{"$f":"IF(B343=\"\",\"\",COUNTA($B$4:B343))","v":""},null,{"$f":"IF(B343=\"\",\"\",IF(LEFT(B343,2)=LEFT(\"FA\",2),F343,INDEX(#REF!,MATCH(Levantamento_SEPROARQQQ!B343,#REF!,0),4)))","v":""},{"$f":"IF(LEFT(B343,2)=LEFT(\"FA\",8),\"\",IFERROR(VLOOKUP(B343,#REF!,5,FALSE),\"\"))","v":""}]
[{"$f":"IF(B344=\"\",\"\",COUNTA($B$4:B344))","v":""},null,{"$f":"IF(B344=\"\",\"\",IF(LEFT(B344,2)=LEFT(\"FA\",2),F344,INDEX(#REF!,MATCH(Levantamento_SEPROARQQQ!B344,#REF!,0),4)))","v":""},{"$f":"IF(LEFT(B344,2)=LEFT(\"FA\",8),\"\",IFERROR(VLOOKUP(B344,#REF!,5,FALSE),\"\"))","v":""}]
[{"$f":"IF(B345=\"\",\"\",COUNTA($B$4:B345))","v":""},null,{"$f":"IF(B345=\"\",\"\",IF(LEFT(B345,2)=LEFT(\"FA\",2),F345,INDEX(#REF!,MATCH(Levantamento_SEPROARQQQ!B345,#REF!,0),4)))","v":""},{"$f":"IF(LEFT(B345,2)=LEFT(\"FA\",8),\"\",IFERROR(VLOOKUP(B345,#REF!,5,FALSE),\"\"))","v":""}]
[{"$f":"IF(B346=\"\",\"\",COUNTA($B$4:B346))","v":""},null,{"$f":"IF(B346=\"\",\"\",IF(LEFT(B346,2)=LEFT(\"FA\",2),F346,INDEX(#REF!,MATCH(Levantamento_SEPROARQQQ!B346,#REF!,0),4)))","v":""},{"$f":"IF(LEFT(B346,2)=LEFT(\"FA\",8),\"\",IFERROR(VLOOKUP(B346,#REF!,5,FALSE),\"\"))","v":""}]
[{"$f":"IF(B347=\"\",\"\",COUNTA($B$4:B347))","v":""},null,{"$f":"IF(B347=\"\",\"\",IF(LEFT(B347,2)=LEFT(\"FA\",2),F347,INDEX(#REF!,MATCH(Levantamento_SEPROARQQQ!B347,#REF!,0),4)))","v":""},{"$f":"IF(LEFT(B347,2)=LEFT(\"FA\",8),\"\",IFERROR(VLOOKUP(B347,#REF!,5,FALSE),\"\"))","v":""}]
[{"$f":"IF(B348=\"\",\"\",COUNTA($B$4:B348))","v":""},null,{"$f":"IF(B348=\"\",\"\",IF(LEFT(B348,2)=LEFT(\"FA\",2),F348,INDEX(#REF!,MATCH(Levantamento_SEPROARQQQ!B348,#REF!,0),4)))","v":""},{"$f":"IF(LEFT(B348,2)=LEFT(\"FA\",8),\"\",IFERROR(VLOOKUP(B348,#REF!,5,FALSE),\"\"))","v":""}]
[{"$f":"IF(B349=\"\",\"\",COUNTA($B$4:B349))","v":""},null,{"$f":"IF(B349=\"\",\"\",IF(LEFT(B349,2)=LEFT(\"FA\",2),F349,INDEX(#REF!,MATCH(Levantamento_SEPROARQQQ!B349,#REF!,0),4)))","v":""},{"$f":"IF(LEFT(B349,2)=LEFT(\"FA\",8),\"\",IFERROR(VLOOKUP(B349,#REF!,5,FALSE),\"\"))","v":""}]
[{"$f":"IF(B350=\"\",\"\",COUNTA($B$4:B350))","v":""},null,{"$f":"IF(B350=\"\",\"\",IF(LEFT(B350,2)=LEFT(\"FA\",2),F350,INDEX(#REF!,MATCH(Levantamento_SEPROARQQQ!B350,#REF!,0),4)))","v":""},{"$f":"IF(LEFT(B350,2)=LEFT(\"FA\",8),\"\",IFERROR(VLOOKUP(B350,#REF!,5,FALSE),\"\"))","v":""}]
[{"$f":"IF(B351=\"\",\"\",COUNTA($B$4:B351))","v":""},null,{"$f":"IF(B351=\"\",\"\",IF(LEFT(B351,2)=LEFT(\"FA\",2),F351,INDEX(#REF!,MATCH(Levantamento_SEPROARQQQ!B351,#REF!,0),4)))","v":""},{"$f":"IF(LEFT(B351,2)=LEFT(\"FA\",8),\"\",IFERROR(VLOOKUP(B351,#REF!,5,FALSE),\"\"))","v":""}]
[{"$f":"IF(B352=\"\",\"\",COUNTA($B$4:B352))","v":""},null,{"$f":"IF(B352=\"\",\"\",IF(LEFT(B352,2)=LEFT(\"FA\",2),F352,INDEX(#REF!,MATCH(Levantamento_SEPROARQQQ!B352,#REF!,0),4)))","v":""},{"$f":"IF(LEFT(B352,2)=LEFT(\"FA\",8),\"\",IFERROR(VLOOKUP(B352,#REF!,5,FALSE),\"\"))","v":""}]
[{"$f":"IF(B353=\"\",\"\",COUNTA($B$4:B353))","v":""},null,{"$f":"IF(B353=\"\",\"\",IF(LEFT(B353,2)=LEFT(\"FA\",2),F353,INDEX(#REF!,MATCH(Levantamento_SEPROARQQQ!B353,#REF!,0),4)))","v":""},{"$f":"IF(LEFT(B353,2)=LEFT(\"FA\",8),\"\",IFERROR(VLOOKUP(B353,#REF!,5,FALSE),\"\"))","v":""}]
[{"$f":"IF(B354=\"\",\"\",COUNTA($B$4:B354))","v":""},null,{"$f":"IF(B354=\"\",\"\",IF(LEFT(B354,2)=LEFT(\"FA\",2),F354,INDEX(#REF!,MATCH(Levantamento_SEPROARQQQ!B354,#REF!,0),4)))","v":""},{"$f":"IF(LEFT(B354,2)=LEFT(\"FA\",8),\"\",IFERROR(VLOOKUP(B354,#REF!,5,FALSE),\"\"))","v":""}]
[{"$f":"IF(B355=\"\",\"\",COUNTA($B$4:B355))","v":""},null,{"$f":"IF(B355=\"\",\"\",IF(LEFT(B355,2)=LEFT(\"FA\",2),F355,INDEX(#REF!,MATCH(Levantamento_SEPROARQQQ!B355,#REF!,0),4)))","v":""},{"$f":"IF(LEFT(B355,2)=LEFT(\"FA\",8),\"\",IFERROR(VLOOKUP(B355,#REF!,5,FALSE),\"\"))","v":""}]
[{"$f":"IF(B356=\"\",\"\",COUNTA($B$4:B356))","v":""},null,{"$f":"IF(B356=\"\",\"\",IF(LEFT(B356,2)=LEFT(\"FA\",2),F356,INDEX(#REF!,MATCH(Levantamento_SEPROARQQQ!B356,#REF!,0),4)))","v":""},{"$f":"IF(LEFT(B356,2)=LEFT(\"FA\",8),\"\",IFERROR(VLOOKUP(B356,#REF!,5,FALSE),\"\"))","v":""}]
[{"$f":"IF(B357=\"\",\"\",COUNTA($B$4:B357))","v":""},null,{"$f":"IF(B357=\"\",\"\",IF(LEFT(B357,2)=LEFT(\"FA\",2),F357,INDEX(#REF!,MATCH(Levantamento_SEPROARQQQ!B357,#REF!,0),4)))","v":""},{"$f":"IF(LEFT(B357,2)=LEFT(\"FA\",8),\"\",IFERROR(VLOOKUP(B357,#REF!,5,FALSE),\"\"))","v":""}]
[{"$f":"IF(B358=\"\",\"\",COUNTA($B$4:B358))","v":""},null,{"$f":"IF(B358=\"\",\"\",IF(LEFT(B358,2)=LEFT(\"FA\",2),F358,INDEX(#REF!,MATCH(Levantamento_SEPROARQQQ!B358,#REF!,0),4)))","v":""},{"$f":"IF(LEFT(B358,2)=LEFT(\"FA\",8),\"\",IFERROR(VLOOKUP(B358,#REF!,5,FALSE),\"\"))","v":""}]
[{"$f":"IF(B359=\"\",\"\",COUNTA($B$4:B359))","v":""},null,{"$f":"IF(B359=\"\",\"\",IF(LEFT(B359,2)=LEFT(\"FA\",2),F359,INDEX(#REF!,MATCH(Levantamento_SEPROARQQQ!B359,#REF!,0),4)))","v":""},{"$f":"IF(LEFT(B359,2)=LEFT(\"FA\",8),\"\",IFERROR(VLOOKUP(B359,#REF!,5,FALSE),\"\"))","v":""}]
[{"$f":"IF(B360=\"\",\"\",COUNTA($B$4:B360))","v":""},null,{"$f":"IF(B360=\"\",\"\",IF(LEFT(B360,2)=LEFT(\"FA\",2),F360,INDEX(#REF!,MATCH(Levantamento_SEPROARQQQ!B360,#REF!,0),4)))","v":""},{"$f":"IF(LEFT(B360,2)=LEFT(\"FA\",8),\"\",IFERROR(VLOOKUP(B360,#REF!,5,FALSE),\"\"))","v":""}]
[{"$f":"IF(B361=\"\",\"\",COUNTA($B$4:B361))","v":""},null,{"$f":"IF(B361=\"\",\"\",IF(LEFT(B361,2)=LEFT(\"FA\",2),F361,INDEX(#REF!,MATCH(Levantamento_SEPROARQQQ!B361,#REF!,0),4)))","v":""},{"$f":"IF(LEFT(B361,2)=LEFT(\"FA\",8),\"\",IFERROR(VLOOKUP(B361,#REF!,5,FALSE),\"\"))","v":""}]
[{"$f":"IF(B362=\"\",\"\",COUNTA($B$4:B362))","v":""},null,{"$f":"IF(B362=\"\",\"\",IF(LEFT(B362,2)=LEFT(\"FA\",2),F362,INDEX(#REF!,MATCH(Levantamento_SEPROARQQQ!B362,#REF!,0),4)))","v":""},{"$f":"IF(LEFT(B362,2)=LEFT(\"FA\",8),\"\",IFERROR(VLOOKUP(B362,#REF!,5,FALSE),\"\"))","v":""}]
[{"$f":"IF(B363=\"\",\"\",COUNTA($B$4:B363))","v":""},null,{"$f":"IF(B363=\"\",\"\",IF(LEFT(B363,2)=LEFT(\"FA\",2),F363,INDEX(#REF!,MATCH(Levantamento_SEPROARQQQ!B363,#REF!,0),4)))","v":""},{"$f":"IF(LEFT(B363,2)=LEFT(\"FA\",8),\"\",IFERROR(VLOOKUP(B363,#REF!,5,FALSE),\"\"))","v":""}]
[{"$f":"IF(B364=\"\",\"\",COUNTA($B$4:B364))","v":""},null,{"$f":"IF(B364=\"\",\"\",IF(LEFT(B364,2)=LEFT(\"FA\",2),F364,INDEX(#REF!,MATCH(Levantamento_SEPROARQQQ!B364,#REF!,0),4)))","v":""},{"$f":"IF(LEFT(B364,2)=LEFT(\"FA\",8),\"\",IFERROR(VLOOKUP(B364,#REF!,5,FALSE),\"\"))","v":""}]
[{"$f":"IF(B365=\"\",\"\",COUNTA($B$4:B365))","v":""},null,{"$f":"IF(B365=\"\",\"\",IF(LEFT(B365,2)=LEFT(\"FA\",2),F365,INDEX(#REF!,MATCH(Levantamento_SEPROARQQQ!B365,#REF!,0),4)))","v":""},{"$f":"IF(LEFT(B365,2)=LEFT(\"FA\",8),\"\",IFERROR(VLOOKUP(B365,#REF!,5,FALSE),\"\"))","v":""}]
[{"$f":"IF(B366=\"\",\"\",COUNTA($B$4:B366))","v":""},null,{"$f":"IF(B366=\"\",\"\",IF(LEFT(B366,2)=LEFT(\"FA\",2),F366,INDEX(#REF!,MATCH(Levantamento_SEPROARQQQ!B366,#REF!,0),4)))","v":""},{"$f":"IF(LEFT(B366,2)=LEFT(\"FA\",8),\"\",IFERROR(VLOOKUP(B366,#REF!,5,FALSE),\"\"))","v":""}]
[{"$f":"IF(B367=\"\",\"\",COUNTA($B$4:B367))","v":""},null,{"$f":"IF(B367=\"\",\"\",IF(LEFT(B367,2)=LEFT(\"FA\",2),F367,INDEX(#REF!,MATCH(Levantamento_SEPROARQQQ!B367,#REF!,0),4)))","v":""},{"$f":"IF(LEFT(B367,2)=LEFT(\"FA\",8),\"\",IFERROR(VLOOKUP(B367,#REF!,5,FALSE),\"\"))","v":""}]
[{"$f":"IF(B368=\"\",\"\",COUNTA($B$4:B368))","v":""},null,{"$f":"IF(B368=\"\",\"\",IF(LEFT(B368,2)=LEFT(\"FA\",2),F368,INDEX(#REF!,MATCH(Levantamento_SEPROARQQQ!B368,#REF!,0),4)))","v":""},{"$f":"IF(LEFT(B368,2)=LEFT(\"FA\",8),\"\",IFERROR(VLOOKUP(B368,#REF!,5,FALSE),\"\"))","v":""}]
[{"$f":"IF(B369=\"\",\"\",COUNTA($B$4:B369))","v":""},null,{"$f":"IF(B369=\"\",\"\",IF(LEFT(B369,2)=LEFT(\"FA\",2),F369,INDEX(#REF!,MATCH(Levantamento_SEPROARQQQ!B369,#REF!,0),4)))","v":""},{"$f":"IF(LEFT(B369,2)=LEFT(\"FA\",8),\"\",IFERROR(VLOOKUP(B369,#REF!,5,FALSE),\"\"))","v":""}]
[{"$f":"IF(B370=\"\",\"\",COUNTA($B$4:B370))","v":""},null,{"$f":"IF(B370=\"\",\"\",IF(LEFT(B370,2)=LEFT(\"FA\",2),F370,INDEX(#REF!,MATCH(Levantamento_SEPROARQQQ!B370,#REF!,0),4)))","v":""},{"$f":"IF(LEFT(B370,2)=LEFT(\"FA\",8),\"\",IFERROR(VLOOKUP(B370,#REF!,5,FALSE),\"\"))","v":""}]
[{"$f":"IF(B371=\"\",\"\",COUNTA($B$4:B371))","v":""},null,{"$f":"IF(B371=\"\",\"\",IF(LEFT(B371,2)=LEFT(\"FA\",2),F371,INDEX(#REF!,MATCH(Levantamento_SEPROARQQQ!B371,#REF!,0),4)))","v":""},{"$f":"IF(LEFT(B371,2)=LEFT(\"FA\",8),\"\",IFERROR(VLOOKUP(B371,#REF!,5,FALSE),\"\"))","v":""}]
[{"$f":"IF(B372=\"\",\"\",COUNTA($B$4:B372))","v":""},null,{"$f":"IF(B372=\"\",\"\",IF(LEFT(B372,2)=LEFT(\"FA\",2),F372,INDEX(#REF!,MATCH(Levantamento_SEPROARQQQ!B372,#REF!,0),4)))","v":""},{"$f":"IF(LEFT(B372,2)=LEFT(\"FA\",8),\"\",IFERROR(VLOOKUP(B372,#REF!,5,FALSE),\"\"))","v":""}]
[{"$f":"IF(B373=\"\",\"\",COUNTA($B$4:B373))","v":""},null,{"$f":"IF(B373=\"\",\"\",IF(LEFT(B373,2)=LEFT(\"FA\",2),F373,INDEX(#REF!,MATCH(Levantamento_SEPROARQQQ!B373,#REF!,0),4)))","v":""},{"$f":"IF(LEFT(B373,2)=LEFT(\"FA\",8),\"\",IFERROR(VLOOKUP(B373,#REF!,5,FALSE),\"\"))","v":""}]
[{"$f":"IF(B374=\"\",\"\",COUNTA($B$4:B374))","v":""},null,{"$f":"IF(B374=\"\",\"\",IF(LEFT(B374,2)=LEFT(\"FA\",2),F374,INDEX(#REF!,MATCH(Levantamento_SEPROARQQQ!B374,#REF!,0),4)))","v":""},{"$f":"IF(LEFT(B374,2)=LEFT(\"FA\",8),\"\",IFERROR(VLOOKUP(B374,#REF!,5,FALSE),\"\"))","v":""}]
[{"$f":"IF(B375=\"\",\"\",COUNTA($B$4:B375))","v":""},null,{"$f":"IF(B375=\"\",\"\",IF(LEFT(B375,2)=LEFT(\"FA\",2),F375,INDEX(#REF!,MATCH(Levantamento_SEPROARQQQ!B375,#REF!,0),4)))","v":""},{"$f":"IF(LEFT(B375,2)=LEFT(\"FA\",8),\"\",IFERROR(VLOOKUP(B375,#REF!,5,FALSE),\"\"))","v":""}]
[{"$f":"IF(B376=\"\",\"\",COUNTA($B$4:B376))","v":""},null,{"$f":"IF(B376=\"\",\"\",IF(LEFT(B376,2)=LEFT(\"FA\",2),F376,INDEX(#REF!,MATCH(Levantamento_SEPROARQQQ!B376,#REF!,0),4)))","v":""},{"$f":"IF(LEFT(B376,2)=LEFT(\"FA\",8),\"\",IFERROR(VLOOKUP(B376,#REF!,5,FALSE),\"\"))","v":""}]
[{"$f":"IF(B377=\"\",\"\",COUNTA($B$4:B377))","v":""},null,{"$f":"IF(B377=\"\",\"\",IF(LEFT(B377,2)=LEFT(\"FA\",2),F377,INDEX(#REF!,MATCH(Levantamento_SEPROARQQQ!B377,#REF!,0),4)))","v":""},{"$f":"IF(LEFT(B377,2)=LEFT(\"FA\",8),\"\",IFERROR(VLOOKUP(B377,#REF!,5,FALSE),\"\"))","v":""}]
[{"$f":"IF(B378=\"\",\"\",COUNTA($B$4:B378))","v":""},null,{"$f":"IF(B378=\"\",\"\",IF(LEFT(B378,2)=LEFT(\"FA\",2),F378,INDEX(#REF!,MATCH(Levantamento_SEPROARQQQ!B378,#REF!,0),4)))","v":""},{"$f":"IF(LEFT(B378,2)=LEFT(\"FA\",8),\"\",IFERROR(VLOOKUP(B378,#REF!,5,FALSE),\"\"))","v":""}]
[{"$f":"IF(B379=\"\",\"\",COUNTA($B$4:B379))","v":""},null,{"$f":"IF(B379=\"\",\"\",IF(LEFT(B379,2)=LEFT(\"FA\",2),F379,INDEX(#REF!,MATCH(Levantamento_SEPROARQQQ!B379,#REF!,0),4)))","v":""},{"$f":"IF(LEFT(B379,2)=LEFT(\"FA\",8),\"\",IFERROR(VLOOKUP(B379,#REF!,5,FALSE),\"\"))","v":""}]
[{"$f":"IF(B380=\"\",\"\",COUNTA($B$4:B380))","v":""},null,{"$f":"IF(B380=\"\",\"\",IF(LEFT(B380,2)=LEFT(\"FA\",2),F380,INDEX(#REF!,MATCH(Levantamento_SEPROARQQQ!B380,#REF!,0),4)))","v":""},{"$f":"IF(LEFT(B380,2)=LEFT(\"FA\",8),\"\",IFERROR(VLOOKUP(B380,#REF!,5,FALSE),\"\"))","v":""}]
[{"$f":"IF(B381=\"\",\"\",COUNTA($B$4:B381))","v":""},null,{"$f":"IF(B381=\"\",\"\",IF(LEFT(B381,2)=LEFT(\"FA\",2),F381,INDEX(#REF!,MATCH(Levantamento_SEPROARQQQ!B381,#REF!,0),4)))","v":""},{"$f":"IF(LEFT(B381,2)=LEFT(\"FA\",8),\"\",IFERROR(VLOOKUP(B381,#REF!,5,FALSE),\"\"))","v":""}]
[{"$f":"IF(B382=\"\",\"\",COUNTA($B$4:B382))","v":""},null,{"$f":"IF(B382=\"\",\"\",IF(LEFT(B382,2)=LEFT(\"FA\",2),F382,INDEX(#REF!,MATCH(Levantamento_SEPROARQQQ!B382,#REF!,0),4)))","v":""},{"$f":"IF(LEFT(B382,2)=LEFT(\"FA\",8),\"\",IFERROR(VLOOKUP(B382,#REF!,5,FALSE),\"\"))","v":""}]
[{"$f":"IF(B383=\"\",\"\",COUNTA($B$4:B383))","v":""},null,{"$f":"IF(B383=\"\",\"\",IF(LEFT(B383,2)=LEFT(\"FA\",2),F383,INDEX(#REF!,MATCH(Levantamento_SEPROARQQQ!B383,#REF!,0),4)))","v":""},{"$f":"IF(LEFT(B383,2)=LEFT(\"FA\",8),\"\",IFERROR(VLOOKUP(B383,#REF!,5,FALSE),\"\"))","v":""}]
[{"$f":"IF(B384=\"\",\"\",COUNTA($B$4:B384))","v":""},null,{"$f":"IF(B384=\"\",\"\",IF(LEFT(B384,2)=LEFT(\"FA\",2),F384,INDEX(#REF!,MATCH(Levantamento_SEPROARQQQ!B384,#REF!,0),4)))","v":""},{"$f":"IF(LEFT(B384,2)=LEFT(\"FA\",8),\"\",IFERROR(VLOOKUP(B384,#REF!,5,FALSE),\"\"))","v":""}]
[{"$f":"IF(B385=\"\",\"\",COUNTA($B$4:B385))","v":""},null,{"$f":"IF(B385=\"\",\"\",IF(LEFT(B385,2)=LEFT(\"FA\",2),F385,INDEX(#REF!,MATCH(Levantamento_SEPROARQQQ!B385,#REF!,0),4)))","v":""},{"$f":"IF(LEFT(B385,2)=LEFT(\"FA\",8),\"\",IFERROR(VLOOKUP(B385,#REF!,5,FALSE),\"\"))","v":""}]
[{"$f":"IF(B386=\"\",\"\",COUNTA($B$4:B386))","v":""},null,{"$f":"IF(B386=\"\",\"\",IF(LEFT(B386,2)=LEFT(\"FA\",2),F386,INDEX(#REF!,MATCH(Levantamento_SEPROARQQQ!B386,#REF!,0),4)))","v":""},{"$f":"IF(LEFT(B386,2)=LEFT(\"FA\",8),\"\",IFERROR(VLOOKUP(B386,#REF!,5,FALSE),\"\"))","v":""}]
[{"$f":"IF(B387=\"\",\"\",COUNTA($B$4:B387))","v":""},null,{"$f":"IF(B387=\"\",\"\",IF(LEFT(B387,2)=LEFT(\"FA\",2),F387,INDEX(#REF!,MATCH(Levantamento_SEPROARQQQ!B387,#REF!,0),4)))","v":""},{"$f":"IF(LEFT(B387,2)=LEFT(\"FA\",8),\"\",IFERROR(VLOOKUP(B387,#REF!,5,FALSE),\"\"))","v":""}]
[{"$f":"IF(B388=\"\",\"\",COUNTA($B$4:B388))","v":""},null,{"$f":"IF(B388=\"\",\"\",IF(LEFT(B388,2)=LEFT(\"FA\",2),F388,INDEX(#REF!,MATCH(Levantamento_SEPROARQQQ!B388,#REF!,0),4)))","v":""},{"$f":"IF(LEFT(B388,2)=LEFT(\"FA\",8),\"\",IFERROR(VLOOKUP(B388,#REF!,5,FALSE),\"\"))","v":""}]
[{"$f":"IF(B389=\"\",\"\",COUNTA($B$4:B389))","v":""},null,{"$f":"IF(B389=\"\",\"\",IF(LEFT(B389,2)=LEFT(\"FA\",2),F389,INDEX(#REF!,MATCH(Levantamento_SEPROARQQQ!B389,#REF!,0),4)))","v":""},{"$f":"IF(LEFT(B389,2)=LEFT(\"FA\",8),\"\",IFERROR(VLOOKUP(B389,#REF!,5,FALSE),\"\"))","v":""}]
[{"$f":"IF(B390=\"\",\"\",COUNTA($B$4:B390))","v":""},null,{"$f":"IF(B390=\"\",\"\",IF(LEFT(B390,2)=LEFT(\"FA\",2),F390,INDEX(#REF!,MATCH(Levantamento_SEPROARQQQ!B390,#REF!,0),4)))","v":""},{"$f":"IF(LEFT(B390,2)=LEFT(\"FA\",8),\"\",IFERROR(VLOOKUP(B390,#REF!,5,FALSE),\"\"))","v":""}]
[{"$f":"IF(B391=\"\",\"\",COUNTA($B$4:B391))","v":""},null,{"$f":"IF(B391=\"\",\"\",IF(LEFT(B391,2)=LEFT(\"FA\",2),F391,INDEX(#REF!,MATCH(Levantamento_SEPROARQQQ!B391,#REF!,0),4)))","v":""},{"$f":"IF(LEFT(B391,2)=LEFT(\"FA\",8),\"\",IFERROR(VLOOKUP(B391,#REF!,5,FALSE),\"\"))","v":""}]
[{"$f":"IF(B392=\"\",\"\",COUNTA($B$4:B392))","v":""},null,{"$f":"IF(B392=\"\",\"\",IF(LEFT(B392,2)=LEFT(\"FA\",2),F392,INDEX(#REF!,MATCH(Levantamento_SEPROARQQQ!B392,#REF!,0),4)))","v":""},{"$f":"IF(LEFT(B392,2)=LEFT(\"FA\",8),\"\",IFERROR(VLOOKUP(B392,#REF!,5,FALSE),\"\"))","v":""}]
[{"$f":"IF(B393=\"\",\"\",COUNTA($B$4:B393))","v":""},null,{"$f":"IF(B393=\"\",\"\",IF(LEFT(B393,2)=LEFT(\"FA\",2),F393,INDEX(#REF!,MATCH(Levantamento_SEPROARQQQ!B393,#REF!,0),4)))","v":""},{"$f":"IF(LEFT(B393,2)=LEFT(\"FA\",8),\"\",IFERROR(VLOOKUP(B393,#REF!,5,FALSE),\"\"))","v":""}]
[{"$f":"IF(B394=\"\",\"\",COUNTA($B$4:B394))","v":""},null,{"$f":"IF(B394=\"\",\"\",IF(LEFT(B394,2)=LEFT(\"FA\",2),F394,INDEX(#REF!,MATCH(Levantamento_SEPROARQQQ!B394,#REF!,0),4)))","v":""},{"$f":"IF(LEFT(B394,2)=LEFT(\"FA\",8),\"\",IFERROR(VLOOKUP(B394,#REF!,5,FALSE),\"\"))","v":""}]
[{"$f":"IF(B395=\"\",\"\",COUNTA($B$4:B395))","v":""},null,{"$f":"IF(B395=\"\",\"\",IF(LEFT(B395,2)=LEFT(\"FA\",2),F395,INDEX(#REF!,MATCH(Levantamento_SEPROARQQQ!B395,#REF!,0),4)))","v":""},{"$f":"IF(LEFT(B395,2)=LEFT(\"FA\",8),\"\",IFERROR(VLOOKUP(B395,#REF!,5,FALSE),\"\"))","v":""}]
[{"$f":"IF(B396=\"\",\"\",COUNTA($B$4:B396))","v":""},null,{"$f":"IF(B396=\"\",\"\",IF(LEFT(B396,2)=LEFT(\"FA\",2),F396,INDEX(#REF!,MATCH(Levantamento_SEPROARQQQ!B396,#REF!,0),4)))","v":""},{"$f":"IF(LEFT(B396,2)=LEFT(\"FA\",8),\"\",IFERROR(VLOOKUP(B396,#REF!,5,FALSE),\"\"))","v":""}]
[{"$f":"IF(B397=\"\",\"\",COUNTA($B$4:B397))","v":""},null,{"$f":"IF(B397=\"\",\"\",IF(LEFT(B397,2)=LEFT(\"FA\",2),F397,INDEX(#REF!,MATCH(Levantamento_SEPROARQQQ!B397,#REF!,0),4)))","v":""},{"$f":"IF(LEFT(B397,2)=LEFT(\"FA\",8),\"\",IFERROR(VLOOKUP(B397,#REF!,5,FALSE),\"\"))","v":""}]
[{"$f":"IF(B398=\"\",\"\",COUNTA($B$4:B398))","v":""},null,{"$f":"IF(B398=\"\",\"\",IF(LEFT(B398,2)=LEFT(\"FA\",2),F398,INDEX(#REF!,MATCH(Levantamento_SEPROARQQQ!B398,#REF!,0),4)))","v":""},{"$f":"IF(LEFT(B398,2)=LEFT(\"FA\",8),\"\",IFERROR(VLOOKUP(B398,#REF!,5,FALSE),\"\"))","v":""}]
[{"$f":"IF(B399=\"\",\"\",COUNTA($B$4:B399))","v":""},null,{"$f":"IF(B399=\"\",\"\",IF(LEFT(B399,2)=LEFT(\"FA\",2),F399,INDEX(#REF!,MATCH(Levantamento_SEPROARQQQ!B399,#REF!,0),4)))","v":""},{"$f":"IF(LEFT(B399,2)=LEFT(\"FA\",8),\"\",IFERROR(VLOOKUP(B399,#REF!,5,FALSE),\"\"))","v":""}]
[{"$f":"IF(B400=\"\",\"\",COUNTA($B$4:B400))","v":""},null,{"$f":"IF(B400=\"\",\"\",IF(LEFT(B400,2)=LEFT(\"FA\",2),F400,INDEX(#REF!,MATCH(Levantamento_SEPROARQQQ!B400,#REF!,0),4)))","v":""},{"$f":"IF(LEFT(B400,2)=LEFT(\"FA\",8),\"\",IFERROR(VLOOKUP(B400,#REF!,5,FALSE),\"\"))","v":""}]
[{"$f":"IF(B401=\"\",\"\",COUNTA($B$4:B401))","v":""},null,{"$f":"IF(B401=\"\",\"\",IF(LEFT(B401,2)=LEFT(\"FA\",2),F401,INDEX(#REF!,MATCH(Levantamento_SEPROARQQQ!B401,#REF!,0),4)))","v":""},{"$f":"IF(LEFT(B401,2)=LEFT(\"FA\",8),\"\",IFERROR(VLOOKUP(B401,#REF!,5,FALSE),\"\"))","v":""}]
[{"$f":"IF(B402=\"\",\"\",COUNTA($B$4:B402))","v":""},null,{"$f":"IF(B402=\"\",\"\",IF(LEFT(B402,2)=LEFT(\"FA\",2),F402,INDEX(#REF!,MATCH(Levantamento_SEPROARQQQ!B402,#REF!,0),4)))","v":""},{"$f":"IF(LEFT(B402,2)=LEFT(\"FA\",8),\"\",IFERROR(VLOOKUP(B402,#REF!,5,FALSE),\"\"))","v":""}]
[{"$f":"IF(B403=\"\",\"\",COUNTA($B$4:B403))","v":""},null,{"$f":"IF(B403=\"\",\"\",IF(LEFT(B403,2)=LEFT(\"FA\",2),F403,INDEX(#REF!,MATCH(Levantamento_SEPROARQQQ!B403,#REF!,0),4)))","v":""},{"$f":"IF(LEFT(B403,2)=LEFT(\"FA\",8),\"\",IFERROR(VLOOKUP(B403,#REF!,5,FALSE),\"\"))","v":""}]
[{"$f":"IF(B404=\"\",\"\",COUNTA($B$4:B404))","v":""},null,{"$f":"IF(B404=\"\",\"\",IF(LEFT(B404,2)=LEFT(\"FA\",2),F404,INDEX(#REF!,MATCH(Levantamento_SEPROARQQQ!B404,#REF!,0),4)))","v":""},{"$f":"IF(LEFT(B404,2)=LEFT(\"FA\",8),\"\",IFERROR(VLOOKUP(B404,#REF!,5,FALSE),\"\"))","v":""}]
[{"$f":"IF(B405=\"\",\"\",COUNTA($B$4:B405))","v":""},null,{"$f":"IF(B405=\"\",\"\",IF(LEFT(B405,2)=LEFT(\"FA\",2),F405,INDEX(#REF!,MATCH(Levantamento_SEPROARQQQ!B405,#REF!,0),4)))","v":""},{"$f":"IF(LEFT(B405,2)=LEFT(\"FA\",8),\"\",IFERROR(VLOOKUP(B405,#REF!,5,FALSE),\"\"))","v":""}]
[{"$f":"IF(B406=\"\",\"\",COUNTA($B$4:B406))","v":""},null,{"$f":"IF(B406=\"\",\"\",IF(LEFT(B406,2)=LEFT(\"FA\",2),F406,INDEX(#REF!,MATCH(Levantamento_SEPROARQQQ!B406,#REF!,0),4)))","v":""},{"$f":"IF(LEFT(B406,2)=LEFT(\"FA\",8),\"\",IFERROR(VLOOKUP(B406,#REF!,5,FALSE),\"\"))","v":""}]
[{"$f":"IF(B407=\"\",\"\",COUNTA($B$4:B407))","v":""},null,{"$f":"IF(B407=\"\",\"\",IF(LEFT(B407,2)=LEFT(\"FA\",2),F407,INDEX(#REF!,MATCH(Levantamento_SEPROARQQQ!B407,#REF!,0),4)))","v":""},{"$f":"IF(LEFT(B407,2)=LEFT(\"FA\",8),\"\",IFERROR(VLOOKUP(B407,#REF!,5,FALSE),\"\"))","v":""}]
[{"$f":"IF(B408=\"\",\"\",COUNTA($B$4:B408))","v":""},null,{"$f":"IF(B408=\"\",\"\",IF(LEFT(B408,2)=LEFT(\"FA\",2),F408,INDEX(#REF!,MATCH(Levantamento_SEPROARQQQ!B408,#REF!,0),4)))","v":""},{"$f":"IF(LEFT(B408,2)=LEFT(\"FA\",8),\"\",IFERROR(VLOOKUP(B408,#REF!,5,FALSE),\"\"))","v":""}]
[{"$f":"IF(B409=\"\",\"\",COUNTA($B$4:B409))","v":""},null,{"$f":"IF(B409=\"\",\"\",IF(LEFT(B409,2)=LEFT(\"FA\",2),F409,INDEX(#REF!,MATCH(Levantamento_SEPROARQQQ!B409,#REF!,0),4)))","v":""},{"$f":"IF(LEFT(B409,2)=LEFT(\"FA\",8),\"\",IFERROR(VLOOKUP(B409,#REF!,5,FALSE),\"\"))","v":""}]
[{"$f":"IF(B410=\"\",\"\",COUNTA($B$4:B410))","v":""},null,{"$f":"IF(B410=\"\",\"\",IF(LEFT(B410,2)=LEFT(\"FA\",2),F410,INDEX(#REF!,MATCH(Levantamento_SEPROARQQQ!B410,#REF!,0),4)))","v":""},{"$f":"IF(LEFT(B410,2)=LEFT(\"FA\",8),\"\",IFERROR(VLOOKUP(B410,#REF!,5,FALSE),\"\"))","v":""}]
[{"$f":"IF(B411=\"\",\"\",COUNTA($B$4:B411))","v":""},null,{"$f":"IF(B411=\"\",\"\",IF(LEFT(B411,2)=LEFT(\"FA\",2),F411,INDEX(#REF!,MATCH(Levantamento_SEPROARQQQ!B411,#REF!,0),4)))","v":""},{"$f":"IF(LEFT(B411,2)=LEFT(\"FA\",8),\"\",IFERROR(VLOOKUP(B411,#REF!,5,FALSE),\"\"))","v":""}]
[{"$f":"IF(B412=\"\",\"\",COUNTA($B$4:B412))","v":""},null,{"$f":"IF(B412=\"\",\"\",IF(LEFT(B412,2)=LEFT(\"FA\",2),F412,INDEX(#REF!,MATCH(Levantamento_SEPROARQQQ!B412,#REF!,0),4)))","v":""},{"$f":"IF(LEFT(B412,2)=LEFT(\"FA\",8),\"\",IFERROR(VLOOKUP(B412,#REF!,5,FALSE),\"\"))","v":""}]
[{"$f":"IF(B413=\"\",\"\",COUNTA($B$4:B413))","v":""},null,{"$f":"IF(B413=\"\",\"\",IF(LEFT(B413,2)=LEFT(\"FA\",2),F413,INDEX(#REF!,MATCH(Levantamento_SEPROARQQQ!B413,#REF!,0),4)))","v":""},{"$f":"IF(LEFT(B413,2)=LEFT(\"FA\",8),\"\",IFERROR(VLOOKUP(B413,#REF!,5,FALSE),\"\"))","v":""}]
[{"$f":"IF(B414=\"\",\"\",COUNTA($B$4:B414))","v":""},null,{"$f":"IF(B414=\"\",\"\",IF(LEFT(B414,2)=LEFT(\"FA\",2),F414,INDEX(#REF!,MATCH(Levantamento_SEPROARQQQ!B414,#REF!,0),4)))","v":""},{"$f":"IF(LEFT(B414,2)=LEFT(\"FA\",8),\"\",IFERROR(VLOOKUP(B414,#REF!,5,FALSE),\"\"))","v":""}]
[{"$f":"IF(B415=\"\",\"\",COUNTA($B$4:B415))","v":""},null,{"$f":"IF(B415=\"\",\"\",IF(LEFT(B415,2)=LEFT(\"FA\",2),F415,INDEX(#REF!,MATCH(Levantamento_SEPROARQQQ!B415,#REF!,0),4)))","v":""},{"$f":"IF(LEFT(B415,2)=LEFT(\"FA\",8),\"\",IFERROR(VLOOKUP(B415,#REF!,5,FALSE),\"\"))","v":""}]
[{"$f":"IF(B416=\"\",\"\",COUNTA($B$4:B416))","v":""},null,{"$f":"IF(B416=\"\",\"\",IF(LEFT(B416,2)=LEFT(\"FA\",2),F416,INDEX(#REF!,MATCH(Levantamento_SEPROARQQQ!B416,#REF!,0),4)))","v":""},{"$f":"IF(LEFT(B416,2)=LEFT(\"FA\",8),\"\",IFERROR(VLOOKUP(B416,#REF!,5,FALSE),\"\"))","v":""}]
[{"$f":"IF(B417=\"\",\"\",COUNTA($B$4:B417))","v":""},null,{"$f":"IF(B417=\"\",\"\",IF(LEFT(B417,2)=LEFT(\"FA\",2),F417,INDEX(#REF!,MATCH(Levantamento_SEPROARQQQ!B417,#REF!,0),4)))","v":""},{"$f":"IF(LEFT(B417,2)=LEFT(\"FA\",8),\"\",IFERROR(VLOOKUP(B417,#REF!,5,FALSE),\"\"))","v":""}]
[{"$f":"IF(B418=\"\",\"\",COUNTA($B$4:B418))","v":""},null,{"$f":"IF(B418=\"\",\"\",IF(LEFT(B418,2)=LEFT(\"FA\",2),F418,INDEX(#REF!,MATCH(Levantamento_SEPROARQQQ!B418,#REF!,0),4)))","v":""},{"$f":"IF(LEFT(B418,2)=LEFT(\"FA\",8),\"\",IFERROR(VLOOKUP(B418,#REF!,5,FALSE),\"\"))","v":""}]
[{"$f":"IF(B419=\"\",\"\",COUNTA($B$4:B419))","v":""},null,{"$f":"IF(B419=\"\",\"\",IF(LEFT(B419,2)=LEFT(\"FA\",2),F419,INDEX(#REF!,MATCH(Levantamento_SEPROARQQQ!B419,#REF!,0),4)))","v":""},{"$f":"IF(LEFT(B419,2)=LEFT(\"FA\",8),\"\",IFERROR(VLOOKUP(B419,#REF!,5,FALSE),\"\"))","v":""}]
[{"$f":"IF(B420=\"\",\"\",COUNTA($B$4:B420))","v":""},null,{"$f":"IF(B420=\"\",\"\",IF(LEFT(B420,2)=LEFT(\"FA\",2),F420,INDEX(#REF!,MATCH(Levantamento_SEPROARQQQ!B420,#REF!,0),4)))","v":""},{"$f":"IF(LEFT(B420,2)=LEFT(\"FA\",8),\"\",IFERROR(VLOOKUP(B420,#REF!,5,FALSE),\"\"))","v":""}]
[{"$f":"IF(B421=\"\",\"\",COUNTA($B$4:B421))","v":""},null,{"$f":"IF(B421=\"\",\"\",IF(LEFT(B421,2)=LEFT(\"FA\",2),F421,INDEX(#REF!,MATCH(Levantamento_SEPROARQQQ!B421,#REF!,0),4)))","v":""},{"$f":"IF(LEFT(B421,2)=LEFT(\"FA\",8),\"\",IFERROR(VLOOKUP(B421,#REF!,5,FALSE),\"\"))","v":""}]
[{"$f":"IF(B422=\"\",\"\",COUNTA($B$4:B422))","v":""},null,{"$f":"IF(B422=\"\",\"\",IF(LEFT(B422,2)=LEFT(\"FA\",2),F422,INDEX(#REF!,MATCH(Levantamento_SEPROARQQQ!B422,#REF!,0),4)))","v":""},{"$f":"IF(LEFT(B422,2)=LEFT(\"FA\",8),\"\",IFERROR(VLOOKUP(B422,#REF!,5,FALSE),\"\"))","v":""}]
[{"$f":"IF(B423=\"\",\"\",COUNTA($B$4:B423))","v":""},null,{"$f":"IF(B423=\"\",\"\",IF(LEFT(B423,2)=LEFT(\"FA\",2),F423,INDEX(#REF!,MATCH(Levantamento_SEPROARQQQ!B423,#REF!,0),4)))","v":""},{"$f":"IF(LEFT(B423,2)=LEFT(\"FA\",8),\"\",IFERROR(VLOOKUP(B423,#REF!,5,FALSE),\"\"))","v":""}]
[{"$f":"IF(B424=\"\",\"\",COUNTA($B$4:B424))","v":""},null,{"$f":"IF(B424=\"\",\"\",IF(LEFT(B424,2)=LEFT(\"FA\",2),F424,INDEX(#REF!,MATCH(Levantamento_SEPROARQQQ!B424,#REF!,0),4)))","v":""},{"$f":"IF(LEFT(B424,2)=LEFT(\"FA\",8),\"\",IFERROR(VLOOKUP(B424,#REF!,5,FALSE),\"\"))","v":""}]
[{"$f":"IF(B425=\"\",\"\",COUNTA($B$4:B425))","v":""},null,{"$f":"IF(B425=\"\",\"\",IF(LEFT(B425,2)=LEFT(\"FA\",2),F425,INDEX(#REF!,MATCH(Levantamento_SEPROARQQQ!B425,#REF!,0),4)))","v":""},{"$f":"IF(LEFT(B425,2)=LEFT(\"FA\",8),\"\",IFERROR(VLOOKUP(B425,#REF!,5,FALSE),\"\"))","v":""}]
[{"$f":"IF(B426=\"\",\"\",COUNTA($B$4:B426))","v":""},null,{"$f":"IF(B426=\"\",\"\",IF(LEFT(B426,2)=LEFT(\"FA\",2),F426,INDEX(#REF!,MATCH(Levantamento_SEPROARQQQ!B426,#REF!,0),4)))","v":""},{"$f":"IF(LEFT(B426,2)=LEFT(\"FA\",8),\"\",IFERROR(VLOOKUP(B426,#REF!,5,FALSE),\"\"))","v":""}]
[{"$f":"IF(B427=\"\",\"\",COUNTA($B$4:B427))","v":""},null,{"$f":"IF(B427=\"\",\"\",IF(LEFT(B427,2)=LEFT(\"FA\",2),F427,INDEX(#REF!,MATCH(Levantamento_SEPROARQQQ!B427,#REF!,0),4)))","v":""},{"$f":"IF(LEFT(B427,2)=LEFT(\"FA\",8),\"\",IFERROR(VLOOKUP(B427,#REF!,5,FALSE),\"\"))","v":""}]
[{"$f":"IF(B428=\"\",\"\",COUNTA($B$4:B428))","v":""},null,{"$f":"IF(B428=\"\",\"\",IF(LEFT(B428,2)=LEFT(\"FA\",2),F428,INDEX(#REF!,MATCH(Levantamento_SEPROARQQQ!B428,#REF!,0),4)))","v":""},{"$f":"IF(LEFT(B428,2)=LEFT(\"FA\",8),\"\",IFERROR(VLOOKUP(B428,#REF!,5,FALSE),\"\"))","v":""}]
[{"$f":"IF(B429=\"\",\"\",COUNTA($B$4:B429))","v":""},null,{"$f":"IF(B429=\"\",\"\",IF(LEFT(B429,2)=LEFT(\"FA\",2),F429,INDEX(#REF!,MATCH(Levantamento_SEPROARQQQ!B429,#REF!,0),4)))","v":""},{"$f":"IF(LEFT(B429,2)=LEFT(\"FA\",8),\"\",IFERROR(VLOOKUP(B429,#REF!,5,FALSE),\"\"))","v":""}]
[{"$f":"IF(B430=\"\",\"\",COUNTA($B$4:B430))","v":""},null,{"$f":"IF(B430=\"\",\"\",IF(LEFT(B430,2)=LEFT(\"FA\",2),F430,INDEX(#REF!,MATCH(Levantamento_SEPROARQQQ!B430,#REF!,0),4)))","v":""},{"$f":"IF(LEFT(B430,2)=LEFT(\"FA\",8),\"\",IFERROR(VLOOKUP(B430,#REF!,5,FALSE),\"\"))","v":""}]
[{"$f":"IF(B431=\"\",\"\",COUNTA($B$4:B431))","v":""},null,{"$f":"IF(B431=\"\",\"\",IF(LEFT(B431,2)=LEFT(\"FA\",2),F431,INDEX(#REF!,MATCH(Levantamento_SEPROARQQQ!B431,#REF!,0),4)))","v":""},{"$f":"IF(LEFT(B431,2)=LEFT(\"FA\",8),\"\",IFERROR(VLOOKUP(B431,#REF!,5,FALSE),\"\"))","v":""}]
[{"$f":"IF(B432=\"\",\"\",COUNTA($B$4:B432))","v":""},null,{"$f":"IF(B432=\"\",\"\",IF(LEFT(B432,2)=LEFT(\"FA\",2),F432,INDEX(#REF!,MATCH(Levantamento_SEPROARQQQ!B432,#REF!,0),4)))","v":""},{"$f":"IF(LEFT(B432,2)=LEFT(\"FA\",8),\"\",IFERROR(VLOOKUP(B432,#REF!,5,FALSE),\"\"))","v":""}]
[{"$f":"IF(B433=\"\",\"\",COUNTA($B$4:B433))","v":""},null,{"$f":"IF(B433=\"\",\"\",IF(LEFT(B433,2)=LEFT(\"FA\",2),F433,INDEX(#REF!,MATCH(Levantamento_SEPROARQQQ!B433,#REF!,0),4)))","v":""},{"$f":"IF(LEFT(B433,2)=LEFT(\"FA\",8),\"\",IFERROR(VLOOKUP(B433,#REF!,5,FALSE),\"\"))","v":""}]
[{"$f":"IF(B434=\"\",\"\",COUNTA($B$4:B434))","v":""},null,{"$f":"IF(B434=\"\",\"\",IF(LEFT(B434,2)=LEFT(\"FA\",2),F434,INDEX(#REF!,MATCH(Levantamento_SEPROARQQQ!B434,#REF!,0),4)))","v":""},{"$f":"IF(LEFT(B434,2)=LEFT(\"FA\",8),\"\",IFERROR(VLOOKUP(B434,#REF!,5,FALSE),\"\"))","v":""}]
[{"$f":"IF(B435=\"\",\"\",COUNTA($B$4:B435))","v":""},null,{"$f":"IF(B435=\"\",\"\",IF(LEFT(B435,2)=LEFT(\"FA\",2),F435,INDEX(#REF!,MATCH(Levantamento_SEPROARQQQ!B435,#REF!,0),4)))","v":""},{"$f":"IF(LEFT(B435,2)=LEFT(\"FA\",8),\"\",IFERROR(VLOOKUP(B435,#REF!,5,FALSE),\"\"))","v":""}]
[{"$f":"IF(B436=\"\",\"\",COUNTA($B$4:B436))","v":""},null,{"$f":"IF(B436=\"\",\"\",IF(LEFT(B436,2)=LEFT(\"FA\",2),F436,INDEX(#REF!,MATCH(Levantamento_SEPROARQQQ!B436,#REF!,0),4)))","v":""},{"$f":"IF(LEFT(B436,2)=LEFT(\"FA\",8),\"\",IFERROR(VLOOKUP(B436,#REF!,5,FALSE),\"\"))","v":""}]
[{"$f":"IF(B437=\"\",\"\",COUNTA($B$4:B437))","v":""},null,{"$f":"IF(B437=\"\",\"\",IF(LEFT(B437,2)=LEFT(\"FA\",2),F437,INDEX(#REF!,MATCH(Levantamento_SEPROARQQQ!B437,#REF!,0),4)))","v":""},{"$f":"IF(LEFT(B437,2)=LEFT(\"FA\",8),\"\",IFERROR(VLOOKUP(B437,#REF!,5,FALSE),\"\"))","v":""}]
[{"$f":"IF(B438=\"\",\"\",COUNTA($B$4:B438))","v":""},null,{"$f":"IF(B438=\"\",\"\",IF(LEFT(B438,2)=LEFT(\"FA\",2),F438,INDEX(#REF!,MATCH(Levantamento_SEPROARQQQ!B438,#REF!,0),4)))","v":""},{"$f":"IF(LEFT(B438,2)=LEFT(\"FA\",8),\"\",IFERROR(VLOOKUP(B438,#REF!,5,FALSE),\"\"))","v":""}]
[{"$f":"IF(B439=\"\",\"\",COUNTA($B$4:B439))","v":""},null,{"$f":"IF(B439=\"\",\"\",IF(LEFT(B439,2)=LEFT(\"FA\",2),F439,INDEX(#REF!,MATCH(Levantamento_SEPROARQQQ!B439,#REF!,0),4)))","v":""},{"$f":"IF(LEFT(B439,2)=LEFT(\"FA\",8),\"\",IFERROR(VLOOKUP(B439,#REF!,5,FALSE),\"\"))","v":""}]
[{"$f":"IF(B440=\"\",\"\",COUNTA($B$4:B440))","v":""},null,{"$f":"IF(B440=\"\",\"\",IF(LEFT(B440,2)=LEFT(\"FA\",2),F440,INDEX(#REF!,MATCH(Levantamento_SEPROARQQQ!B440,#REF!,0),4)))","v":""},{"$f":"IF(LEFT(B440,2)=LEFT(\"FA\",8),\"\",IFERROR(VLOOKUP(B440,#REF!,5,FALSE),\"\"))","v":""}]
[{"$f":"IF(B441=\"\",\"\",COUNTA($B$4:B441))","v":""},null,{"$f":"IF(B441=\"\",\"\",IF(LEFT(B441,2)=LEFT(\"FA\",2),F441,INDEX(#REF!,MATCH(Levantamento_SEPROARQQQ!B441,#REF!,0),4)))","v":""},{"$f":"IF(LEFT(B441,2)=LEFT(\"FA\",8),\"\",IFERROR(VLOOKUP(B441,#REF!,5,FALSE),\"\"))","v":""}]
[{"$f":"IF(B442=\"\",\"\",COUNTA($B$4:B442))","v":""},null,{"$f":"IF(B442=\"\",\"\",IF(LEFT(B442,2)=LEFT(\"FA\",2),F442,INDEX(#REF!,MATCH(Levantamento_SEPROARQQQ!B442,#REF!,0),4)))","v":""},{"$f":"IF(LEFT(B442,2)=LEFT(\"FA\",8),\"\",IFERROR(VLOOKUP(B442,#REF!,5,FALSE),\"\"))","v":""}]
[{"$f":"IF(B443=\"\",\"\",COUNTA($B$4:B443))","v":""},null,{"$f":"IF(B443=\"\",\"\",IF(LEFT(B443,2)=LEFT(\"FA\",2),F443,INDEX(#REF!,MATCH(Levantamento_SEPROARQQQ!B443,#REF!,0),4)))","v":""},{"$f":"IF(LEFT(B443,2)=LEFT(\"FA\",8),\"\",IFERROR(VLOOKUP(B443,#REF!,5,FALSE),\"\"))","v":""}]
[{"$f":"IF(B444=\"\",\"\",COUNTA($B$4:B444))","v":""},null,{"$f":"IF(B444=\"\",\"\",IF(LEFT(B444,2)=LEFT(\"FA\",2),F444,INDEX(#REF!,MATCH(Levantamento_SEPROARQQQ!B444,#REF!,0),4)))","v":""},{"$f":"IF(LEFT(B444,2)=LEFT(\"FA\",8),\"\",IFERROR(VLOOKUP(B444,#REF!,5,FALSE),\"\"))","v":""}]
[{"$f":"IF(B445=\"\",\"\",COUNTA($B$4:B445))","v":""},null,{"$f":"IF(B445=\"\",\"\",IF(LEFT(B445,2)=LEFT(\"FA\",2),F445,INDEX(#REF!,MATCH(Levantamento_SEPROARQQQ!B445,#REF!,0),4)))","v":""},{"$f":"IF(LEFT(B445,2)=LEFT(\"FA\",8),\"\",IFERROR(VLOOKUP(B445,#REF!,5,FALSE),\"\"))","v":""}]
[{"$f":"IF(B446=\"\",\"\",COUNTA($B$4:B446))","v":""},null,{"$f":"IF(B446=\"\",\"\",IF(LEFT(B446,2)=LEFT(\"FA\",2),F446,INDEX(#REF!,MATCH(Levantamento_SEPROARQQQ!B446,#REF!,0),4)))","v":""},{"$f":"IF(LEFT(B446,2)=LEFT(\"FA\",8),\"\",IFERROR(VLOOKUP(B446,#REF!,5,FALSE),\"\"))","v":""}]
[{"$f":"IF(B447=\"\",\"\",COUNTA($B$4:B447))","v":""},null,{"$f":"IF(B447=\"\",\"\",IF(LEFT(B447,2)=LEFT(\"FA\",2),F447,INDEX(#REF!,MATCH(Levantamento_SEPROARQQQ!B447,#REF!,0),4)))","v":""},{"$f":"IF(LEFT(B447,2)=LEFT(\"FA\",8),\"\",IFERROR(VLOOKUP(B447,#REF!,5,FALSE),\"\"))","v":""}]
[{"$f":"IF(B448=\"\",\"\",COUNTA($B$4:B448))","v":""},null,{"$f":"IF(B448=\"\",\"\",IF(LEFT(B448,2)=LEFT(\"FA\",2),F448,INDEX(#REF!,MATCH(Levantamento_SEPROARQQQ!B448,#REF!,0),4)))","v":""},{"$f":"IF(LEFT(B448,2)=LEFT(\"FA\",8),\"\",IFERROR(VLOOKUP(B448,#REF!,5,FALSE),\"\"))","v":""}]
[{"$f":"IF(B449=\"\",\"\",COUNTA($B$4:B449))","v":""},null,{"$f":"IF(B449=\"\",\"\",IF(LEFT(B449,2)=LEFT(\"FA\",2),F449,INDEX(#REF!,MATCH(Levantamento_SEPROARQQQ!B449,#REF!,0),4)))","v":""},{"$f":"IF(LEFT(B449,2)=LEFT(\"FA\",8),\"\",IFERROR(VLOOKUP(B449,#REF!,5,FALSE),\"\"))","v":""}]
[{"$f":"IF(B450=\"\",\"\",COUNTA($B$4:B450))","v":""},null,{"$f":"IF(B450=\"\",\"\",IF(LEFT(B450,2)=LEFT(\"FA\",2),F450,INDEX(#REF!,MATCH(Levantamento_SEPROARQQQ!B450,#REF!,0),4)))","v":""},{"$f":"IF(LEFT(B450,2)=LEFT(\"FA\",8),\"\",IFERROR(VLOOKUP(B450,#REF!,5,FALSE),\"\"))","v":""}]
[{"$f":"IF(B451=\"\",\"\",COUNTA($B$4:B451))","v":""},null,{"$f":"IF(B451=\"\",\"\",IF(LEFT(B451,2)=LEFT(\"FA\",2),F451,INDEX(#REF!,MATCH(Levantamento_SEPROARQQQ!B451,#REF!,0),4)))","v":""},{"$f":"IF(LEFT(B451,2)=LEFT(\"FA\",8),\"\",IFERROR(VLOOKUP(B451,#REF!,5,FALSE),\"\"))","v":""}]
[{"$f":"IF(B452=\"\",\"\",COUNTA($B$4:B452))","v":""},null,{"$f":"IF(B452=\"\",\"\",IF(LEFT(B452,2)=LEFT(\"FA\",2),F452,INDEX(#REF!,MATCH(Levantamento_SEPROARQQQ!B452,#REF!,0),4)))","v":""},{"$f":"IF(LEFT(B452,2)=LEFT(\"FA\",8),\"\",IFERROR(VLOOKUP(B452,#REF!,5,FALSE),\"\"))","v":""}]
[{"$f":"IF(B453=\"\",\"\",COUNTA($B$4:B453))","v":""},null,{"$f":"IF(B453=\"\",\"\",IF(LEFT(B453,2)=LEFT(\"FA\",2),F453,INDEX(#REF!,MATCH(Levantamento_SEPROARQQQ!B453,#REF!,0),4)))","v":""},{"$f":"IF(LEFT(B453,2)=LEFT(\"FA\",8),\"\",IFERROR(VLOOKUP(B453,#REF!,5,FALSE),\"\"))","v":""}]
[{"$f":"IF(B454=\"\",\"\",COUNTA($B$4:B454))","v":""},null,{"$f":"IF(B454=\"\",\"\",IF(LEFT(B454,2)=LEFT(\"FA\",2),F454,INDEX(#REF!,MATCH(Levantamento_SEPROARQQQ!B454,#REF!,0),4)))","v":""},{"$f":"IF(LEFT(B454,2)=LEFT(\"FA\",8),\"\",IFERROR(VLOOKUP(B454,#REF!,5,FALSE),\"\"))","v":""}]
[{"$f":"IF(B455=\"\",\"\",COUNTA($B$4:B455))","v":""},null,{"$f":"IF(B455=\"\",\"\",IF(LEFT(B455,2)=LEFT(\"FA\",2),F455,INDEX(#REF!,MATCH(Levantamento_SEPROARQQQ!B455,#REF!,0),4)))","v":""},{"$f":"IF(LEFT(B455,2)=LEFT(\"FA\",8),\"\",IFERROR(VLOOKUP(B455,#REF!,5,FALSE),\"\"))","v":""}]
[{"$f":"IF(B456=\"\",\"\",COUNTA($B$4:B456))","v":""},null,{"$f":"IF(B456=\"\",\"\",IF(LEFT(B456,2)=LEFT(\"FA\",2),F456,INDEX(#REF!,MATCH(Levantamento_SEPROARQQQ!B456,#REF!,0),4)))","v":""},{"$f":"IF(LEFT(B456,2)=LEFT(\"FA\",8),\"\",IFERROR(VLOOKUP(B456,#REF!,5,FALSE),\"\"))","v":""}]
[{"$f":"IF(B457=\"\",\"\",COUNTA($B$4:B457))","v":""},null,{"$f":"IF(B457=\"\",\"\",IF(LEFT(B457,2)=LEFT(\"FA\",2),F457,INDEX(#REF!,MATCH(Levantamento_SEPROARQQQ!B457,#REF!,0),4)))","v":""},{"$f":"IF(LEFT(B457,2)=LEFT(\"FA\",8),\"\",IFERROR(VLOOKUP(B457,#REF!,5,FALSE),\"\"))","v":""}]
[{"$f":"IF(B458=\"\",\"\",COUNTA($B$4:B458))","v":""},null,{"$f":"IF(B458=\"\",\"\",IF(LEFT(B458,2)=LEFT(\"FA\",2),F458,INDEX(#REF!,MATCH(Levantamento_SEPROARQQQ!B458,#REF!,0),4)))","v":""},{"$f":"IF(LEFT(B458,2)=LEFT(\"FA\",8),\"\",IFERROR(VLOOKUP(B458,#REF!,5,FALSE),\"\"))","v":""}]
[{"$f":"IF(B459=\"\",\"\",COUNTA($B$4:B459))","v":""},null,{"$f":"IF(B459=\"\",\"\",IF(LEFT(B459,2)=LEFT(\"FA\",2),F459,INDEX(#REF!,MATCH(Levantamento_SEPROARQQQ!B459,#REF!,0),4)))","v":""},{"$f":"IF(LEFT(B459,2)=LEFT(\"FA\",8),\"\",IFERROR(VLOOKUP(B459,#REF!,5,FALSE),\"\"))","v":""}]
[{"$f":"IF(B460=\"\",\"\",COUNTA($B$4:B460))","v":""},null,{"$f":"IF(B460=\"\",\"\",IF(LEFT(B460,2)=LEFT(\"FA\",2),F460,INDEX(#REF!,MATCH(Levantamento_SEPROARQQQ!B460,#REF!,0),4)))","v":""},{"$f":"IF(LEFT(B460,2)=LEFT(\"FA\",8),\"\",IFERROR(VLOOKUP(B460,#REF!,5,FALSE),\"\"))","v":""}]
[{"$f":"IF(B461=\"\",\"\",COUNTA($B$4:B461))","v":""},null,{"$f":"IF(B461=\"\",\"\",IF(LEFT(B461,2)=LEFT(\"FA\",2),F461,INDEX(#REF!,MATCH(Levantamento_SEPROARQQQ!B461,#REF!,0),4)))","v":""},{"$f":"IF(LEFT(B461,2)=LEFT(\"FA\",8),\"\",IFERROR(VLOOKUP(B461,#REF!,5,FALSE),\"\"))","v":""}]
[{"$f":"IF(B462=\"\",\"\",COUNTA($B$4:B462))","v":""},null,{"$f":"IF(B462=\"\",\"\",IF(LEFT(B462,2)=LEFT(\"FA\",2),F462,INDEX(#REF!,MATCH(Levantamento_SEPROARQQQ!B462,#REF!,0),4)))","v":""},{"$f":"IF(LEFT(B462,2)=LEFT(\"FA\",8),\"\",IFERROR(VLOOKUP(B462,#REF!,5,FALSE),\"\"))","v":""}]
[{"$f":"IF(B463=\"\",\"\",COUNTA($B$4:B463))","v":""},null,{"$f":"IF(B463=\"\",\"\",IF(LEFT(B463,2)=LEFT(\"FA\",2),F463,INDEX(#REF!,MATCH(Levantamento_SEPROARQQQ!B463,#REF!,0),4)))","v":""},{"$f":"IF(LEFT(B463,2)=LEFT(\"FA\",8),\"\",IFERROR(VLOOKUP(B463,#REF!,5,FALSE),\"\"))","v":""}]
[{"$f":"IF(B464=\"\",\"\",COUNTA($B$4:B464))","v":""},null,{"$f":"IF(B464=\"\",\"\",IF(LEFT(B464,2)=LEFT(\"FA\",2),F464,INDEX(#REF!,MATCH(Levantamento_SEPROARQQQ!B464,#REF!,0),4)))","v":""},{"$f":"IF(LEFT(B464,2)=LEFT(\"FA\",8),\"\",IFERROR(VLOOKUP(B464,#REF!,5,FALSE),\"\"))","v":""}]
[{"$f":"IF(B465=\"\",\"\",COUNTA($B$4:B465))","v":""},null,{"$f":"IF(B465=\"\",\"\",IF(LEFT(B465,2)=LEFT(\"FA\",2),F465,INDEX(#REF!,MATCH(Levantamento_SEPROARQQQ!B465,#REF!,0),4)))","v":""},{"$f":"IF(LEFT(B465,2)=LEFT(\"FA\",8),\"\",IFERROR(VLOOKUP(B465,#REF!,5,FALSE),\"\"))","v":""}]
[{"$f":"IF(B466=\"\",\"\",COUNTA($B$4:B466))","v":""},null,{"$f":"IF(B466=\"\",\"\",IF(LEFT(B466,2)=LEFT(\"FA\",2),F466,INDEX(#REF!,MATCH(Levantamento_SEPROARQQQ!B466,#REF!,0),4)))","v":""},{"$f":"IF(LEFT(B466,2)=LEFT(\"FA\",8),\"\",IFERROR(VLOOKUP(B466,#REF!,5,FALSE),\"\"))","v":""}]
[{"$f":"IF(B467=\"\",\"\",COUNTA($B$4:B467))","v":""},null,{"$f":"IF(B467=\"\",\"\",IF(LEFT(B467,2)=LEFT(\"FA\",2),F467,INDEX(#REF!,MATCH(Levantamento_SEPROARQQQ!B467,#REF!,0),4)))","v":""},{"$f":"IF(LEFT(B467,2)=LEFT(\"FA\",8),\"\",IFERROR(VLOOKUP(B467,#REF!,5,FALSE),\"\"))","v":""}]
[{"$f":"IF(B468=\"\",\"\",COUNTA($B$4:B468))","v":""},null,{"$f":"IF(B468=\"\",\"\",IF(LEFT(B468,2)=LEFT(\"FA\",2),F468,INDEX(#REF!,MATCH(Levantamento_SEPROARQQQ!B468,#REF!,0),4)))","v":""},{"$f":"IF(LEFT(B468,2)=LEFT(\"FA\",8),\"\",IFERROR(VLOOKUP(B468,#REF!,5,FALSE),\"\"))","v":""}]
[{"$f":"IF(B469=\"\",\"\",COUNTA($B$4:B469))","v":""},null,{"$f":"IF(B469=\"\",\"\",IF(LEFT(B469,2)=LEFT(\"FA\",2),F469,INDEX(#REF!,MATCH(Levantamento_SEPROARQQQ!B469,#REF!,0),4)))","v":""},{"$f":"IF(LEFT(B469,2)=LEFT(\"FA\",8),\"\",IFERROR(VLOOKUP(B469,#REF!,5,FALSE),\"\"))","v":""}]
[{"$f":"IF(B470=\"\",\"\",COUNTA($B$4:B470))","v":""},null,{"$f":"IF(B470=\"\",\"\",IF(LEFT(B470,2)=LEFT(\"FA\",2),F470,INDEX(#REF!,MATCH(Levantamento_SEPROARQQQ!B470,#REF!,0),4)))","v":""},{"$f":"IF(LEFT(B470,2)=LEFT(\"FA\",8),\"\",IFERROR(VLOOKUP(B470,#REF!,5,FALSE),\"\"))","v":""}]
[{"$f":"IF(B471=\"\",\"\",COUNTA($B$4:B471))","v":""},null,{"$f":"IF(B471=\"\",\"\",IF(LEFT(B471,2)=LEFT(\"FA\",2),F471,INDEX(#REF!,MATCH(Levantamento_SEPROARQQQ!B471,#REF!,0),4)))","v":""},{"$f":"IF(LEFT(B471,2)=LEFT(\"FA\",8),\"\",IFERROR(VLOOKUP(B471,#REF!,5,FALSE),\"\"))","v":""}]
[{"$f":"IF(B472=\"\",\"\",COUNTA($B$4:B472))","v":""},null,{"$f":"IF(B472=\"\",\"\",IF(LEFT(B472,2)=LEFT(\"FA\",2),F472,INDEX(#REF!,MATCH(Levantamento_SEPROARQQQ!B472,#REF!,0),4)))","v":""},{"$f":"IF(LEFT(B472,2)=LEFT(\"FA\",8),\"\",IFERROR(VLOOKUP(B472,#REF!,5,FALSE),\"\"))","v":""}]
[{"$f":"IF(B473=\"\",\"\",COUNTA($B$4:B473))","v":""},null,{"$f":"IF(B473=\"\",\"\",IF(LEFT(B473,2)=LEFT(\"FA\",2),F473,INDEX(#REF!,MATCH(Levantamento_SEPROARQQQ!B473,#REF!,0),4)))","v":""},{"$f":"IF(LEFT(B473,2)=LEFT(\"FA\",8),\"\",IFERROR(VLOOKUP(B473,#REF!,5,FALSE),\"\"))","v":""}]
[{"$f":"IF(B474=\"\",\"\",COUNTA($B$4:B474))","v":""},null,{"$f":"IF(B474=\"\",\"\",IF(LEFT(B474,2)=LEFT(\"FA\",2),F474,INDEX(#REF!,MATCH(Levantamento_SEPROARQQQ!B474,#REF!,0),4)))","v":""},{"$f":"IF(LEFT(B474,2)=LEFT(\"FA\",8),\"\",IFERROR(VLOOKUP(B474,#REF!,5,FALSE),\"\"))","v":""}]
[{"$f":"IF(B475=\"\",\"\",COUNTA($B$4:B475))","v":""},null,{"$f":"IF(B475=\"\",\"\",IF(LEFT(B475,2)=LEFT(\"FA\",2),F475,INDEX(#REF!,MATCH(Levantamento_SEPROARQQQ!B475,#REF!,0),4)))","v":""},{"$f":"IF(LEFT(B475,2)=LEFT(\"FA\",8),\"\",IFERROR(VLOOKUP(B475,#REF!,5,FALSE),\"\"))","v":""}]
[{"$f":"IF(B476=\"\",\"\",COUNTA($B$4:B476))","v":""},null,{"$f":"IF(B476=\"\",\"\",IF(LEFT(B476,2)=LEFT(\"FA\",2),F476,INDEX(#REF!,MATCH(Levantamento_SEPROARQQQ!B476,#REF!,0),4)))","v":""},{"$f":"IF(LEFT(B476,2)=LEFT(\"FA\",8),\"\",IFERROR(VLOOKUP(B476,#REF!,5,FALSE),\"\"))","v":""}]
[{"$f":"IF(B477=\"\",\"\",COUNTA($B$4:B477))","v":""},null,{"$f":"IF(B477=\"\",\"\",IF(LEFT(B477,2)=LEFT(\"FA\",2),F477,INDEX(#REF!,MATCH(Levantamento_SEPROARQQQ!B477,#REF!,0),4)))","v":""},{"$f":"IF(LEFT(B477,2)=LEFT(\"FA\",8),\"\",IFERROR(VLOOKUP(B477,#REF!,5,FALSE),\"\"))","v":""}]
[{"$f":"IF(B478=\"\",\"\",COUNTA($B$4:B478))","v":""},null,{"$f":"IF(B478=\"\",\"\",IF(LEFT(B478,2)=LEFT(\"FA\",2),F478,INDEX(#REF!,MATCH(Levantamento_SEPROARQQQ!B478,#REF!,0),4)))","v":""},{"$f":"IF(LEFT(B478,2)=LEFT(\"FA\",8),\"\",IFERROR(VLOOKUP(B478,#REF!,5,FALSE),\"\"))","v":""}]
[{"$f":"IF(B479=\"\",\"\",COUNTA($B$4:B479))","v":""},null,{"$f":"IF(B479=\"\",\"\",IF(LEFT(B479,2)=LEFT(\"FA\",2),F479,INDEX(#REF!,MATCH(Levantamento_SEPROARQQQ!B479,#REF!,0),4)))","v":""},{"$f":"IF(LEFT(B479,2)=LEFT(\"FA\",8),\"\",IFERROR(VLOOKUP(B479,#REF!,5,FALSE),\"\"))","v":""}]
[{"$f":"IF(B480=\"\",\"\",COUNTA($B$4:B480))","v":""},null,{"$f":"IF(B480=\"\",\"\",IF(LEFT(B480,2)=LEFT(\"FA\",2),F480,INDEX(#REF!,MATCH(Levantamento_SEPROARQQQ!B480,#REF!,0),4)))","v":""},{"$f":"IF(LEFT(B480,2)=LEFT(\"FA\",8),\"\",IFERROR(VLOOKUP(B480,#REF!,5,FALSE),\"\"))","v":""}]
[{"$f":"IF(B481=\"\",\"\",COUNTA($B$4:B481))","v":""},null,{"$f":"IF(B481=\"\",\"\",IF(LEFT(B481,2)=LEFT(\"FA\",2),F481,INDEX(#REF!,MATCH(Levantamento_SEPROARQQQ!B481,#REF!,0),4)))","v":""},{"$f":"IF(LEFT(B481,2)=LEFT(\"FA\",8),\"\",IFERROR(VLOOKUP(B481,#REF!,5,FALSE),\"\"))","v":""}]
[{"$f":"IF(B482=\"\",\"\",COUNTA($B$4:B482))","v":""},null,{"$f":"IF(B482=\"\",\"\",IF(LEFT(B482,2)=LEFT(\"FA\",2),F482,INDEX(#REF!,MATCH(Levantamento_SEPROARQQQ!B482,#REF!,0),4)))","v":""},{"$f":"IF(LEFT(B482,2)=LEFT(\"FA\",8),\"\",IFERROR(VLOOKUP(B482,#REF!,5,FALSE),\"\"))","v":""}]
[{"$f":"IF(B483=\"\",\"\",COUNTA($B$4:B483))","v":""},null,{"$f":"IF(B483=\"\",\"\",IF(LEFT(B483,2)=LEFT(\"FA\",2),F483,INDEX(#REF!,MATCH(Levantamento_SEPROARQQQ!B483,#REF!,0),4)))","v":""},{"$f":"IF(LEFT(B483,2)=LEFT(\"FA\",8),\"\",IFERROR(VLOOKUP(B483,#REF!,5,FALSE),\"\"))","v":""}]
[{"$f":"IF(B484=\"\",\"\",COUNTA($B$4:B484))","v":""},null,{"$f":"IF(B484=\"\",\"\",IF(LEFT(B484,2)=LEFT(\"FA\",2),F484,INDEX(#REF!,MATCH(Levantamento_SEPROARQQQ!B484,#REF!,0),4)))","v":""},{"$f":"IF(LEFT(B484,2)=LEFT(\"FA\",8),\"\",IFERROR(VLOOKUP(B484,#REF!,5,FALSE),\"\"))","v":""}]
[{"$f":"IF(B485=\"\",\"\",COUNTA($B$4:B485))","v":""},null,{"$f":"IF(B485=\"\",\"\",IF(LEFT(B485,2)=LEFT(\"FA\",2),F485,INDEX(#REF!,MATCH(Levantamento_SEPROARQQQ!B485,#REF!,0),4)))","v":""},{"$f":"IF(LEFT(B485,2)=LEFT(\"FA\",8),\"\",IFERROR(VLOOKUP(B485,#REF!,5,FALSE),\"\"))","v":""}]
[{"$f":"IF(B486=\"\",\"\",COUNTA($B$4:B486))","v":""},null,{"$f":"IF(B486=\"\",\"\",IF(LEFT(B486,2)=LEFT(\"FA\",2),F486,INDEX(#REF!,MATCH(Levantamento_SEPROARQQQ!B486,#REF!,0),4)))","v":""},{"$f":"IF(LEFT(B486,2)=LEFT(\"FA\",8),\"\",IFERROR(VLOOKUP(B486,#REF!,5,FALSE),\"\"))","v":""}]
[{"$f":"IF(B487=\"\",\"\",COUNTA($B$4:B487))","v":""},null,{"$f":"IF(B487=\"\",\"\",IF(LEFT(B487,2)=LEFT(\"FA\",2),F487,INDEX(#REF!,MATCH(Levantamento_SEPROARQQQ!B487,#REF!,0),4)))","v":""},{"$f":"IF(LEFT(B487,2)=LEFT(\"FA\",8),\"\",IFERROR(VLOOKUP(B487,#REF!,5,FALSE),\"\"))","v":""}]
[{"$f":"IF(B488=\"\",\"\",COUNTA($B$4:B488))","v":""},null,{"$f":"IF(B488=\"\",\"\",IF(LEFT(B488,2)=LEFT(\"FA\",2),F488,INDEX(#REF!,MATCH(Levantamento_SEPROARQQQ!B488,#REF!,0),4)))","v":""},{"$f":"IF(LEFT(B488,2)=LEFT(\"FA\",8),\"\",IFERROR(VLOOKUP(B488,#REF!,5,FALSE),\"\"))","v":""}]
[{"$f":"IF(B489=\"\",\"\",COUNTA($B$4:B489))","v":""},null,{"$f":"IF(B489=\"\",\"\",IF(LEFT(B489,2)=LEFT(\"FA\",2),F489,INDEX(#REF!,MATCH(Levantamento_SEPROARQQQ!B489,#REF!,0),4)))","v":""},{"$f":"IF(LEFT(B489,2)=LEFT(\"FA\",8),\"\",IFERROR(VLOOKUP(B489,#REF!,5,FALSE),\"\"))","v":""}]
[{"$f":"IF(B490=\"\",\"\",COUNTA($B$4:B490))","v":""},null,{"$f":"IF(B490=\"\",\"\",IF(LEFT(B490,2)=LEFT(\"FA\",2),F490,INDEX(#REF!,MATCH(Levantamento_SEPROARQQQ!B490,#REF!,0),4)))","v":""},{"$f":"IF(LEFT(B490,2)=LEFT(\"FA\",8),\"\",IFERROR(VLOOKUP(B490,#REF!,5,FALSE),\"\"))","v":""}]
[{"$f":"IF(B491=\"\",\"\",COUNTA($B$4:B491))","v":""},null,{"$f":"IF(B491=\"\",\"\",IF(LEFT(B491,2)=LEFT(\"FA\",2),F491,INDEX(#REF!,MATCH(Levantamento_SEPROARQQQ!B491,#REF!,0),4)))","v":""},{"$f":"IF(LEFT(B491,2)=LEFT(\"FA\",8),\"\",IFERROR(VLOOKUP(B491,#REF!,5,FALSE),\"\"))","v":""}]
[{"$f":"IF(B492=\"\",\"\",COUNTA($B$4:B492))","v":""},null,{"$f":"IF(B492=\"\",\"\",IF(LEFT(B492,2)=LEFT(\"FA\",2),F492,INDEX(#REF!,MATCH(Levantamento_SEPROARQQQ!B492,#REF!,0),4)))","v":""},{"$f":"IF(LEFT(B492,2)=LEFT(\"FA\",8),\"\",IFERROR(VLOOKUP(B492,#REF!,5,FALSE),\"\"))","v":""}]
[{"$f":"IF(B493=\"\",\"\",COUNTA($B$4:B493))","v":""},null,{"$f":"IF(B493=\"\",\"\",IF(LEFT(B493,2)=LEFT(\"FA\",2),F493,INDEX(#REF!,MATCH(Levantamento_SEPROARQQQ!B493,#REF!,0),4)))","v":""},{"$f":"IF(LEFT(B493,2)=LEFT(\"FA\",8),\"\",IFERROR(VLOOKUP(B493,#REF!,5,FALSE),\"\"))","v":""}]
[{"$f":"IF(B494=\"\",\"\",COUNTA($B$4:B494))","v":""},null,{"$f":"IF(B494=\"\",\"\",IF(LEFT(B494,2)=LEFT(\"FA\",2),F494,INDEX(#REF!,MATCH(Levantamento_SEPROARQQQ!B494,#REF!,0),4)))","v":""},{"$f":"IF(LEFT(B494,2)=LEFT(\"FA\",8),\"\",IFERROR(VLOOKUP(B494,#REF!,5,FALSE),\"\"))","v":""}]
[{"$f":"IF(B495=\"\",\"\",COUNTA($B$4:B495))","v":""},null,{"$f":"IF(B495=\"\",\"\",IF(LEFT(B495,2)=LEFT(\"FA\",2),F495,INDEX(#REF!,MATCH(Levantamento_SEPROARQQQ!B495,#REF!,0),4)))","v":""},{"$f":"IF(LEFT(B495,2)=LEFT(\"FA\",8),\"\",IFERROR(VLOOKUP(B495,#REF!,5,FALSE),\"\"))","v":""}]
[{"$f":"IF(B496=\"\",\"\",COUNTA($B$4:B496))","v":""},null,{"$f":"IF(B496=\"\",\"\",IF(LEFT(B496,2)=LEFT(\"FA\",2),F496,INDEX(#REF!,MATCH(Levantamento_SEPROARQQQ!B496,#REF!,0),4)))","v":""},{"$f":"IF(LEFT(B496,2)=LEFT(\"FA\",8),\"\",IFERROR(VLOOKUP(B496,#REF!,5,FALSE),\"\"))","v":""}]
[{"$f":"IF(B497=\"\",\"\",COUNTA($B$4:B497))","v":""},null,{"$f":"IF(B497=\"\",\"\",IF(LEFT(B497,2)=LEFT(\"FA\",2),F497,INDEX(#REF!,MATCH(Levantamento_SEPROARQQQ!B497,#REF!,0),4)))","v":""},{"$f":"IF(LEFT(B497,2)=LEFT(\"FA\",8),\"\",IFERROR(VLOOKUP(B497,#REF!,5,FALSE),\"\"))","v":""}]
[{"$f":"IF(B498=\"\",\"\",COUNTA($B$4:B498))","v":""},null,{"$f":"IF(B498=\"\",\"\",IF(LEFT(B498,2)=LEFT(\"FA\",2),F498,INDEX(#REF!,MATCH(Levantamento_SEPROARQQQ!B498,#REF!,0),4)))","v":""},{"$f":"IF(LEFT(B498,2)=LEFT(\"FA\",8),\"\",IFERROR(VLOOKUP(B498,#REF!,5,FALSE),\"\"))","v":""}]
[{"$f":"IF(B499=\"\",\"\",COUNTA($B$4:B499))","v":""},null,{"$f":"IF(B499=\"\",\"\",IF(LEFT(B499,2)=LEFT(\"FA\",2),F499,INDEX(#REF!,MATCH(Levantamento_SEPROARQQQ!B499,#REF!,0),4)))","v":""},{"$f":"IF(LEFT(B499,2)=LEFT(\"FA\",8),\"\",IFERROR(VLOOKUP(B499,#REF!,5,FALSE),\"\"))","v":""}]

{"sheet":"Cálculo de Hh e Prazo","index":8,"n_rows":414,"n_cols":39,"rows_kept":414,"cut":false,"hidden":true,"merged":[[0,0,1,0],[0,1,1,1],[0,3,0,30],[0,2,1,2],[400,0,400,2]]}
["Número-SF","Discriminação","Qtd.","Composição do Hh"]
[null,null,null,"Engenheiro civil de obra júnior com encargos complementares","Mestre de obras com encargos complementares","Engenheiro Civil de Obra Pleno","Engenheiro de Segurança do Trabalho","Pedreiro com Encargos Complementares","Servente com Encargos Complementares","Gesseiro com encargos complementares","Eletricista com encargos complementares","Azulejista ou ladrilhista com encargos complementares","Encanador ou Bombeiro Hidráulico com Encargos Complementares","Carpinteiro de esquadria com encargos complementares","Ajudante especializado com encargos complementares","Ajudante de operação em geral com encargos complementares","Marmorista/graniteiro com encargos complementares","Montador de estrutura metálica com encargos complementares","Auxiliar de eletricista com encargos complementares","Montador eletromecânico com encargos complementares","Vidraceiro com encargos complementares","Ajudante de carpinteiro com encargos complementares","Carpinteiro de formas com encargos complementares","Pintor com encargos complementares","Auxiliar de encanador ou bombeiro hidráulico com encargos complementares","Operador de betoneira estacionária/misturador com encargos complementares","Impermeabilizador com encargos complementares","Ajudante de Pedreiro com Encargos Complementares","Marceneiro com encargos complementares","Serralheiro com encargos complementares","Auxiliar de serralheiro com encargos complementares",null,"Subtotal Profissional","Subtotal Auxiliar","Total Hh","Hh Total Engenheiro","Hh Total Mestre","Coef. Engenheiro","Coef. Mestre"]
[1,{"$f":"VLOOKUP(A3,#REF!,5,FALSE)","v":{"$error":"#REF!"}},{"$f":"IFERROR(VLOOKUP(A3,#REF!,7,FALSE),0)","v":0},null,null,null,null,null,null,null,null,null,null,null,null,null,null,null,null,null,null,null,null,null,null,null,null,null,null,null,null,null,{"$f":"SUM(H3,J3,K3,L3,M3,N3,Q3,R3,T3,U3,W3,X3,Z3,AA3,AC3,AD3)","v":0},{"$f":"SUM(O3,P3,S3,V3,Y3,AB3,AE3)+I3","v":0},{"$f":"AG3+AH3","v":0},0,0,0,0]
[2,{"$f":"VLOOKUP(A4,#REF!,5,FALSE)","v":{"$error":"#REF!"}},{"$f":"IFERROR(VLOOKUP(A4,#REF!,7,FALSE),0)","v":0},null,null,null,null,null,null,null,null,null,null,null,null,null,null,null,null,null,null,null,null,null,null,null,null,null,null,null,null,null,{"$f":"SUM(H4,J4,K4,L4,M4,N4,Q4,R4,T4,U4,W4,X4,Z4,AA4,AC4,AD4)","v":0},{"$f":"SUM(O4,P4,S4,V4,Y4,AB4,AE4)+I4","v":0},{"$f":"AG4+AH4","v":0},0,0,0,0]
[3,{"$f":"VLOOKUP(A5,#REF!,5,FALSE)","v":{"$error":"#REF!"}},{"$f":"IFERROR(VLOOKUP(A5,#REF!,7,FALSE),0)","v":0},null,null,{"$f":"C5*16","v":0},null,null,null,null,null,null,null,null,null,null,null,null,null,null,null,null,null,null,null,null,null,null,null,null,null,null,0,0,0,0,0,0,0]
[4,{"$f":"VLOOKUP(A6,#REF!,5,FALSE)","v":{"$error":"#REF!"}},{"$f":"IFERROR(VLOOKUP(A6,#REF!,7,FALSE),0)","v":0},null,null,null,{"$f":"C6*20","v":0},null,null,null,null,null,null,null,null,null,null,null,null,null,null,null,null,null,null,null,null,null,null,null,null,null,0,0,0,0,0,0,0]
[5,{"$f":"VLOOKUP(A7,#REF!,5,FALSE)","v":{"$error":"#REF!"}},{"$f":"IFERROR(VLOOKUP(A7,#REF!,7,FALSE),0)","v":0},{"$f":"IFERROR(AL7*C7,0)","v":0},{"$f":"IFERROR(AM7*C7,0)","v":0},null,null,{"$f":"C7*0.225","v":0},{"$f":"C7*2.3248","v":0},null,null,null,null,null,null,null,null,null,null,null,null,null,null,null,null,null,null,null,null,null,null,null,0,0,0,3.7351794576482473,7.4703589152964947,7.4703589152964947E-2,0.14940717830592989]
[6,{"$f":"VLOOKUP(A8,#REF!,5,FALSE)","v":{"$error":"#REF!"}},{"$f":"IFERROR(VLOOKUP(A8,#REF!,7,FALSE),0)","v":0},{"$f":"IFERROR(AL8*C8,0)","v":0},{"$f":"IFERROR(AM8*C8,0)","v":0},null,null,{"$f":"C8*1.3","v":0},{"$f":"C8*13","v":0},null,null,null,null,null,null,null,null,null,null,null,null,null,null,null,null,null,null,null,null,null,null,null,0,0,0,8.3791773855784673,16.758354771156935,0.41895886927892334,0.83791773855784668]
[7,{"$f":"VLOOKUP(A9,#REF!,5,FALSE)","v":{"$error":"#REF!"}},{"$f":"IFERROR(VLOOKUP(A9,#REF!,7,FALSE),0)","v":0},0,0,null,null,null,{"$f":"C9*0.7","v":0},null,null,null,null,null,null,null,null,null,null,null,null,null,null,null,null,null,null,null,null,null,null,null,0,0,0,13.002373859159871,26.004747718319742,2.0508476118548693E-2,4.1016952237097386E-2]
[8,{"$f":"VLOOKUP(A10,#REF!,5,FALSE)","v":{"$error":"#REF!"}},{"$f":"IFERROR(VLOOKUP(A10,#REF!,7,FALSE),0)","v":0},0,0,null,null,null,{"$f":"C10*0.3515","v":0},null,null,null,null,null,null,null,null,null,null,null,null,null,null,null,null,null,null,null,null,null,null,null,0,0,0,1.0298184793814096,2.0596369587628192,1.0298184793814096E-2,2.0596369587628192E-2]
[9,{"$f":"VLOOKUP(A11,#REF!,5,FALSE)","v":{"$error":"#REF!"}},{"$f":"IFERROR(VLOOKUP(A11,#REF!,7,FALSE),0)","v":0},0,0,null,null,null,{"$f":"C11*0.1401","v":0},{"$f":"C11*0.0713","v":0},null,null,null,null,null,null,null,null,null,null,null,null,null,null,null,null,null,null,null,null,null,null,0,0,0,20.438747299745629,40.877494599491257,6.1935597878017053E-3,1.2387119575603411E-2]
[10,{"$f":"VLOOKUP(A12,#REF!,5,FALSE)","v":{"$error":"#REF!"}},{"$f":"IFERROR(VLOOKUP(A12,#REF!,7,FALSE),0)","v":0},0,0,null,null,null,{"$f":"C12*0.094","v":0},null,{"$f":"C12*0.048","v":0},null,null,null,null,null,null,null,null,null,null,null,null,null,null,null,null,null,null,null,null,null,0,0,0,20.801454348813678,41.602908697627356,4.1602908697627354E-3,8.3205817395254709E-3]
[11,{"$f":"VLOOKUP(A13,#REF!,5,FALSE)","v":{"$error":"#REF!"}},{"$f":"IFERROR(VLOOKUP(A13,#REF!,7,FALSE),0)","v":0},0,0,null,null,null,{"$f":"C13*0.2972","v":0},null,null,{"$f":"C13*0.1055","v":0},null,null,null,null,null,null,null,null,null,null,null,null,null,null,null,null,null,null,null,null,0,0,0,4.0113993331420721,8.0227986662841442,1.17982333327708E-2,2.3596466665541601E-2]
[12,{"$f":"VLOOKUP(A14,#REF!,5,FALSE)","v":{"$error":"#REF!"}},{"$f":"IFERROR(VLOOKUP(A14,#REF!,7,FALSE),0)","v":0},0,0,null,null,{"$f":"C14*0.0374","v":0},{"$f":"C14*0.1053","v":0},null,null,null,null,null,null,null,null,null,null,null,null,null,null,null,null,null,null,null,null,null,null,null,0,0,0,8.3615986917625698,16.72319738352514,4.1807993458812852E-3,8.3615986917625704E-3]
[13,{"$f":"VLOOKUP(A15,#REF!,5,FALSE)","v":{"$error":"#REF!"}},{"$f":"IFERROR(VLOOKUP(A15,#REF!,7,FALSE),0)","v":0},0,0,null,null,null,{"$f":"C15*0.014","v":0},null,null,null,{"$f":"C15*0.0071","v":0},null,null,null,null,null,null,null,null,null,null,null,null,null,null,null,null,null,null,null,0,0,0,6.1818406585911076E-2,0.12363681317182215,6.1818406585911073E-4,1.2363681317182215E-3]
[14,{"$f":"VLOOKUP(A16,#REF!,5,FALSE)","v":{"$error":"#REF!"}},{"$f":"IFERROR(VLOOKUP(A16,#REF!,7,FALSE),0)","v":0},0,0,null,null,{"$f":"C16*0.6366","v":0},{"$f":"C16*6.5785","v":0},null,null,null,null,null,null,null,null,null,null,null,null,null,null,null,null,null,null,null,null,null,null,null,0,0,0,2.113867229184867,4.227734458369734,0.2113867229184867,0.4227734458369734]
[15,{"$f":"VLOOKUP(A17,#REF!,5,FALSE)","v":{"$error":"#REF!"}},{"$f":"IFERROR(VLOOKUP(A17,#REF!,7,FALSE),0)","v":0},0,0,null,null,null,null,null,null,null,null,null,null,null,null,null,null,null,null,null,null,null,null,null,null,null,null,null,null,null,0,0,0,0,0,0,0]
[16,{"$f":"VLOOKUP(A18,#REF!,5,FALSE)","v":{"$error":"#REF!"}},{"$f":"IFERROR(VLOOKUP(A18,#REF!,7,FALSE),0)","v":0},0,0,null,null,null,{"$f":"C18*0.35","v":0},null,null,null,null,{"$f":"C18*0.35","v":0},null,null,null,null,null,null,null,null,null,null,null,null,null,null,null,null,null,null,0,0,0,4.9220342684516867,9.8440685369033734,2.0508476118548693E-2,4.1016952237097386E-2]
[17,{"$f":"VLOOKUP(A19,#REF!,5,FALSE)","v":{"$error":"#REF!"}},{"$f":"IFERROR(VLOOKUP(A19,#REF!,7,FALSE),0)","v":0},0,0,null,null,{"$f":"C19*0.15","v":0},{"$f":"C19*1","v":0},null,null,null,null,null,null,null,null,null,null,null,null,null,null,null,null,null,null,null,null,null,null,null,0,0,0,1.3476998592189142,2.6953997184378284,3.3692496480472858E-2,6.7384992960945717E-2]
[18,{"$f":"VLOOKUP(A20,#REF!,5,FALSE)","v":{"$error":"#REF!"}},{"$f":"IFERROR(VLOOKUP(A20,#REF!,7,FALSE),0)","v":0},0,0,null,null,{"$f":"C20*0.09205","v":0},{"$f":"C20*0.18074","v":0},null,null,null,null,null,null,null,null,null,null,null,null,null,null,null,null,null,null,null,null,null,null,null,0,0,0,0.34366258516613241,0.68732517033226481,7.9921531433984287E-3,1.5984306286796857E-2]
[19,{"$f":"VLOOKUP(A21,#REF!,5,FALSE)","v":{"$error":"#REF!"}},{"$f":"IFERROR(VLOOKUP(A21,#REF!,7,FALSE),0)","v":0},0,0,null,null,null,{"$f":"C21*0.15","v":0},null,{"$f":"C21*0.075","v":0},null,null,null,null,null,null,null,null,null,null,null,null,null,null,null,null,null,null,null,null,null,0,0,0,1.9776030542886243,3.9552061085772485,6.592010180962081E-3,1.3184020361924162E-2]
[20,{"$f":"VLOOKUP(A22,#REF!,5,FALSE)","v":{"$error":"#REF!"}},{"$f":"IFERROR(VLOOKUP(A22,#REF!,7,FALSE),0)","v":0},0,0,null,null,{"$f":"C22*0.01","v":0},{"$f":"C22*0.1","v":0},null,null,null,null,null,null,null,null,null,null,null,null,null,null,null,null,null,null,null,null,null,null,null,0,0,0,1.2891042131659181,2.5782084263318361,3.2227605329147951E-3,6.4455210658295901E-3]
[21,{"$f":"VLOOKUP(A23,#REF!,5,FALSE)","v":{"$error":"#REF!"}},{"$f":"IFERROR(VLOOKUP(A23,#REF!,7,FALSE),0)","v":0},0,0,null,null,null,null,null,null,null,null,null,{"$f":"C23*0.17","v":0},null,null,null,null,null,null,null,null,null,null,null,null,null,null,null,null,null,0,0,0,0.24903149572523417,0.49806299145046834,4.9806299145046832E-3,9.9612598290093664E-3]
[22,{"$f":"VLOOKUP(A24,#REF!,5,FALSE)","v":{"$error":"#REF!"}},{"$f":"IFERROR(VLOOKUP(A24,#REF!,7,FALSE),0)","v":0},0,0,null,null,null,{"$f":"C24*0.6","v":0},null,null,null,null,null,null,{"$f":"C24*0.6","v":0},null,null,null,null,null,null,null,null,null,null,null,null,null,null,null,null,0,0,0,4.2188865158157318,8.4377730316314636,3.5157387631797765E-2,7.031477526359553E-2]
[23,{"$f":"VLOOKUP(A25,#REF!,5,FALSE)","v":{"$error":"#REF!"}},{"$f":"IFERROR(VLOOKUP(A25,#REF!,7,FALSE),0)","v":0},0,0,null,null,null,{"$f":"C25*1.2","v":0},null,null,null,null,null,null,null,{"$f":"C25*0.6","v":0},null,null,null,null,null,null,null,null,null,null,null,null,null,null,null,0,0,0,3.1641648868617986,6.3283297737235973,5.2736081447696641E-2,0.10547216289539328]
[24,{"$f":"VLOOKUP(A26,#REF!,5,FALSE)","v":{"$error":"#REF!"}},{"$f":"IFERROR(VLOOKUP(A26,#REF!,7,FALSE),0)","v":0},0,0,null,null,null,null,null,null,null,null,{"$f":"C26*1.2","v":0},null,null,null,null,null,null,null,null,null,null,null,null,null,null,null,null,null,null,0,0,0,48.763296645303498,97.526593290606996,3.5157387631797765E-2,7.031477526359553E-2]
[25,{"$f":"VLOOKUP(A27,#REF!,5,FALSE)","v":{"$error":"#REF!"}},{"$f":"IFERROR(VLOOKUP(A27,#REF!,7,FALSE),0)","v":0},0,0,null,null,null,{"$f":"C27*0.3","v":0},null,null,null,{"$f":"C27*0.175","v":0},null,null,null,null,null,null,null,null,null,null,null,null,null,null,null,null,null,null,null,0,0,0,27.83293187517323,55.66586375034646,1.3916465937586615E-2,2.7832931875173231E-2]
[26,{"$f":"VLOOKUP(A28,#REF!,5,FALSE)","v":{"$error":"#REF!"}},{"$f":"IFERROR(VLOOKUP(A28,#REF!,7,FALSE),0)","v":0},0,0,null,null,{"$f":"C28*0.05","v":0},{"$f":"C28*0.5","v":0},null,null,null,null,null,null,null,null,null,null,null,null,null,null,null,null,null,null,null,null,null,null,null,0,0,0,1.6113802664573975,3.222760532914795,1.6113802664573976E-2,3.2227605329147951E-2]
[27,{"$f":"VLOOKUP(A29,#REF!,5,FALSE)","v":{"$error":"#REF!"}},{"$f":"IFERROR(VLOOKUP(A29,#REF!,7,FALSE),0)","v":0},0,0,null,null,{"$f":"C29*0.5","v":0},{"$f":"C29*0.5","v":0},null,null,null,null,null,null,null,null,null,null,null,null,null,null,null,null,null,null,null,null,null,null,null,0,0,0,0.58595646052996275,1.1719129210599255,2.9297823026498138E-2,5.8595646052996275E-2]
[28,{"$f":"VLOOKUP(A30,#REF!,5,FALSE)","v":{"$error":"#REF!"}},{"$f":"IFERROR(VLOOKUP(A30,#REF!,7,FALSE),0)","v":0},0,0,null,null,null,null,null,null,null,null,{"$f":"C30*0.25","v":0},null,null,null,null,null,null,null,null,null,null,null,null,null,null,null,null,null,null,0,0,0,0.73977003141907793,1.4795400628381559,7.3244557566245344E-3,1.4648911513249069E-2]
[29,{"$f":"VLOOKUP(A31,#REF!,5,FALSE)","v":{"$error":"#REF!"}},{"$f":"IFERROR(VLOOKUP(A31,#REF!,7,FALSE),0)","v":0},0,0,null,null,{"$f":"C31*0.1315","v":0},{"$f":"C31*0.2582","v":0},null,null,null,null,null,null,null,null,null,null,null,null,null,null,null,null,null,null,null,null,null,null,null,0,0,0,0.93622365394095852,1.872447307881917,1.1417361633426323E-2,2.2834723266852645E-2]
[30,{"$f":"VLOOKUP(A32,#REF!,5,FALSE)","v":{"$error":"#REF!"}},{"$f":"IFERROR(VLOOKUP(A32,#REF!,7,FALSE),0)","v":0},0,0,null,null,{"$f":"C32*0.09","v":0},{"$f":"C32*0.9","v":0},null,null,null,null,null,null,null,null,null,null,null,null,null,null,null,null,null,null,null,null,null,null,null,0,0,0,29.004844796233154,58.009689592466309,2.9004844796233154E-2,5.8009689592466308E-2]
[31,{"$f":"VLOOKUP(A33,#REF!,5,FALSE)","v":{"$error":"#REF!"}},{"$f":"IFERROR(VLOOKUP(A33,#REF!,7,FALSE),0)","v":0},0,0,null,null,null,{"$f":"C33*0.3448","v":0},null,null,null,{"$f":"C33*0.1755","v":0},null,null,null,null,null,null,null,null,null,null,null,null,null,null,null,null,null,null,null,0,0,0,1.8292388784824374,3.6584777569648748,1.5243657320686978E-2,3.0487314641373955E-2]
[32,{"$f":"VLOOKUP(A34,#REF!,5,FALSE)","v":{"$error":"#REF!"}},{"$f":"IFERROR(VLOOKUP(A34,#REF!,7,FALSE),0)","v":0},0,0,null,null,null,{"$f":"C34*0.1795","v":0},null,{"$f":"C34*0.0915","v":0},null,null,null,null,null,null,null,null,null,null,null,null,null,null,null,null,null,null,null,null,null,0,0,0,3.9698550200904976,7.9397100401809952,7.9397100401809948E-3,1.587942008036199E-2]
[33,{"$f":"VLOOKUP(A35,#REF!,5,FALSE)","v":{"$error":"#REF!"}},{"$f":"IFERROR(VLOOKUP(A35,#REF!,7,FALSE),0)","v":0},0,0,null,null,null,{"$f":"C35*0.2514","v":0},null,null,null,{"$f":"C35*0.128","v":0},null,null,null,null,null,null,null,null,null,null,null,null,null,null,null,null,null,null,null,0,0,0,3.3346782168760178,6.6693564337520357,1.1115594056253392E-2,2.2231188112506784E-2]
[34,{"$f":"VLOOKUP(A36,#REF!,5,FALSE)","v":{"$error":"#REF!"}},{"$f":"IFERROR(VLOOKUP(A36,#REF!,7,FALSE),0)","v":0},0,0,null,null,{"$f":"C36*0.35","v":0},{"$f":"C36*0.35","v":0},null,null,null,null,null,null,null,null,null,null,null,null,null,null,null,null,null,null,null,null,null,null,null,0,0,0,12.017967005469536,24.035934010939073,2.0508476118548696E-2,4.1016952237097393E-2]
[35,{"$f":"VLOOKUP(A37,#REF!,5,FALSE)","v":{"$error":"#REF!"}},{"$f":"IFERROR(VLOOKUP(A37,#REF!,7,FALSE),0)","v":0},0,0,null,null,null,null,null,null,null,null,null,null,null,null,null,null,null,null,null,null,null,null,null,null,null,null,null,null,null,0,0,0,0,0,0,0]
[36,{"$f":"VLOOKUP(A38,#REF!,5,FALSE)","v":{"$error":"#REF!"}},{"$f":"IFERROR(VLOOKUP(A38,#REF!,7,FALSE),0)","v":0},0,0,null,null,null,null,null,null,null,null,null,{"$f":"C38*0.166666666666667","v":0},null,null,null,null,null,null,null,null,null,null,null,null,null,null,null,null,null,0,0,0,0.90823251382144399,1.816465027642888,4.8829705044163658E-3,9.7659410088327316E-3]
[37,{"$f":"VLOOKUP(A39,#REF!,5,FALSE)","v":{"$error":"#REF!"}},{"$f":"IFERROR(VLOOKUP(A39,#REF!,7,FALSE),0)","v":0},0,0,null,null,null,{"$f":"C39*0.4","v":0},null,null,null,null,null,null,null,null,null,null,null,null,null,null,null,null,null,null,null,null,null,null,null,0,0,0,67.97094942147568,135.94189884295136,1.1719129210599255E-2,2.343825842119851E-2]
[38,{"$f":"VLOOKUP(A40,#REF!,5,FALSE)","v":{"$error":"#REF!"}},{"$f":"IFERROR(VLOOKUP(A40,#REF!,7,FALSE),0)","v":0},0,0,null,null,null,{"$f":"C40*0.1521","v":0},null,null,null,null,null,null,null,null,{"$f":"C40*0.0774","v":0},null,null,null,null,null,null,null,null,null,null,null,null,null,null,0,0,0,5.5875196695870786,11.175039339174157,6.7238503845813216E-3,1.3447700769162643E-2]
[39,{"$f":"VLOOKUP(A41,#REF!,5,FALSE)","v":{"$error":"#REF!"}},{"$f":"IFERROR(VLOOKUP(A41,#REF!,7,FALSE),0)","v":0},0,0,null,null,{"$f":"C41*1","v":0},{"$f":"C41*1","v":0},null,{"$f":"C41*0.5","v":0},null,null,null,null,null,null,null,{"$f":"C41*0.5","v":0},null,null,null,null,null,null,null,null,null,null,null,null,null,0,0,0,2.6368040723848325,5.273608144769665,8.7893469079494413E-2,0.17578693815898883]
[40,{"$f":"VLOOKUP(A42,#REF!,5,FALSE)","v":{"$error":"#REF!"}},{"$f":"IFERROR(VLOOKUP(A42,#REF!,7,FALSE),0)","v":0},0,0,null,null,null,{"$f":"C42*0.2","v":0},null,null,null,null,null,null,null,null,null,null,null,null,null,null,null,null,null,null,null,null,null,null,null,0,0,0,2.5782084263318361,5.1564168526636722,5.8595646052996275E-3,1.1719129210599255E-2]
[41,{"$f":"VLOOKUP(A43,#REF!,5,FALSE)","v":{"$error":"#REF!"}},{"$f":"IFERROR(VLOOKUP(A43,#REF!,7,FALSE),0)","v":0},0,0,null,null,null,{"$f":"C43*0.437","v":0},null,null,null,null,null,null,null,null,null,null,null,null,null,null,null,null,null,null,null,null,null,null,null,0,0,0,4.2634485046390349,8.5268970092780698,1.2803148662579684E-2,2.5606297325159368E-2]
[42,{"$f":"VLOOKUP(A44,#REF!,5,FALSE)","v":{"$error":"#REF!"}},{"$f":"IFERROR(VLOOKUP(A44,#REF!,7,FALSE),0)","v":0},0,0,null,null,null,{"$f":"C44*0.025","v":0},null,null,null,null,{"$f":"C44*0.25","v":0},null,null,null,null,null,null,null,null,null,null,null,null,null,null,null,null,null,null,0,0,0,8.0569013322869878E-2,0.16113802664573976,8.0569013322869878E-3,1.6113802664573976E-2]
[43,{"$f":"VLOOKUP(A45,#REF!,5,FALSE)","v":{"$error":"#REF!"}},{"$f":"IFERROR(VLOOKUP(A45,#REF!,7,FALSE),0)","v":0},0,0,null,null,null,{"$f":"C45*0.55","v":0},null,null,null,null,null,null,null,null,null,null,null,null,null,null,null,null,null,null,null,null,null,null,null,0,0,0,0.32227605329147951,0.64455210658295903,1.6113802664573976E-2,3.2227605329147951E-2]
[44,{"$f":"VLOOKUP(A46,#REF!,5,FALSE)","v":{"$error":"#REF!"}},{"$f":"IFERROR(VLOOKUP(A46,#REF!,7,FALSE),0)","v":0},0,0,null,null,null,null,null,null,null,null,null,null,{"$f":"C46*1","v":0},null,null,null,{"$f":"C46*1","v":0},null,null,null,null,null,null,null,null,null,null,null,null,0,0,0,11.719129210599254,23.438258421198508,5.8595646052996268E-2,0.11719129210599254]
[45,{"$f":"VLOOKUP(A47,#REF!,5,FALSE)","v":{"$error":"#REF!"}},{"$f":"IFERROR(VLOOKUP(A47,#REF!,7,FALSE),0)","v":0},0,0,null,null,null,{"$f":"C47*0.2","v":0},null,null,null,null,null,null,null,null,null,null,null,{"$f":"C47*0.5","v":0},null,null,null,null,null,null,null,null,null,null,null,0,0,0,1.0869492342830809,2.1738984685661618,2.0508476118548696E-2,4.1016952237097393E-2]
[46,{"$f":"VLOOKUP(A48,#REF!,5,FALSE)","v":{"$error":"#REF!"}},{"$f":"IFERROR(VLOOKUP(A48,#REF!,7,FALSE),0)","v":0},0,0,null,null,null,{"$f":"C48*1","v":0},null,null,null,null,null,null,null,null,null,null,null,null,null,null,null,null,null,null,null,null,null,null,null,0,0,0,34.789113996354679,69.578227992709358,2.9297823026498131E-2,5.8595646052996261E-2]
[47,{"$f":"VLOOKUP(A49,#REF!,5,FALSE)","v":{"$error":"#REF!"}},{"$f":"IFERROR(VLOOKUP(A49,#REF!,7,FALSE),0)","v":0},0,0,null,null,null,null,null,null,null,null,null,null,null,null,{"$f":"0.17*C49","v":0},null,null,null,null,null,null,null,null,null,null,null,null,null,null,0,0,0,2.490314957252342E-2,4.9806299145046841E-2,4.9806299145046841E-3,9.9612598290093682E-3]
[48,{"$f":"VLOOKUP(A50,#REF!,5,FALSE)","v":{"$error":"#REF!"}},{"$f":"IFERROR(VLOOKUP(A50,#REF!,7,FALSE),0)","v":0},0,0,null,null,null,null,null,null,null,null,null,null,null,null,null,null,null,null,null,null,null,null,null,null,null,null,null,null,null,0,0,0,0,0,0,0]
[49,{"$f":"VLOOKUP(A51,#REF!,5,FALSE)","v":{"$error":"#REF!"}},{"$f":"IFERROR(VLOOKUP(A51,#REF!,7,FALSE),0)","v":0},0,0,null,null,null,null,null,null,null,null,null,null,null,null,null,null,null,null,null,null,null,null,null,null,null,null,null,null,null,0,0,0,0,0,0,0]
[50,{"$f":"VLOOKUP(A52,#REF!,5,FALSE)","v":{"$error":"#REF!"}},{"$f":"IFERROR(VLOOKUP(A52,#REF!,7,FALSE),0)","v":0},0,0,null,null,null,null,null,null,null,null,null,null,null,null,{"$f":"0.1667*C52","v":0},null,null,null,null,null,null,null,null,null,null,null,null,null,null,0,0,0,1.3675051875848268,2.7350103751696535,4.8839470985172382E-3,9.7678941970344765E-3]
[51,{"$f":"VLOOKUP(A53,#REF!,5,FALSE)","v":{"$error":"#REF!"}},{"$f":"IFERROR(VLOOKUP(A53,#REF!,7,FALSE),0)","v":0},0,0,null,null,null,null,null,null,null,null,null,null,null,null,{"$f":"0.05*C53","v":0},null,null,null,null,null,null,null,null,null,null,null,null,null,null,0,0,0,0.12305085671129218,0.24610171342258436,1.4648911513249069E-3,2.9297823026498138E-3]
[52,{"$f":"VLOOKUP(A54,#REF!,5,FALSE)","v":{"$error":"#REF!"}},{"$f":"IFERROR(VLOOKUP(A54,#REF!,7,FALSE),0)","v":0},0,0,null,null,null,null,null,null,null,null,null,{"$f":"0.5*C54","v":0},null,null,{"$f":"0.5*C54","v":0},null,null,null,null,null,null,null,null,null,null,null,null,null,null,0,0,0,0.82033904474194785,1.6406780894838957,2.9297823026498138E-2,5.8595646052996275E-2]
[53,{"$f":"VLOOKUP(A55,#REF!,5,FALSE)","v":{"$error":"#REF!"}},{"$f":"IFERROR(VLOOKUP(A55,#REF!,7,FALSE),0)","v":0},0,0,null,null,null,null,null,null,null,null,null,null,null,null,null,null,null,null,null,null,null,null,null,null,null,null,null,null,null,0,0,0,0,0,0,0]
[54,{"$f":"VLOOKUP(A56,#REF!,5,FALSE)","v":{"$error":"#REF!"}},{"$f":"IFERROR(VLOOKUP(A56,#REF!,7,FALSE),0)","v":0},0,0,null,null,null,null,null,null,null,null,null,null,null,null,null,null,null,null,null,null,null,null,null,null,null,null,null,null,null,0,0,0,0,0,0,0]
[55,{"$f":"VLOOKUP(A57,#REF!,5,FALSE)","v":{"$error":"#REF!"}},{"$f":"IFERROR(VLOOKUP(A57,#REF!,7,FALSE),0)","v":0},0,0,null,null,null,null,null,null,null,null,null,null,null,null,null,null,null,null,null,null,null,null,null,null,null,null,null,null,null,0,0,0,0,0,0,0]
[56,{"$f":"VLOOKUP(A58,#REF!,5,FALSE)","v":{"$error":"#REF!"}},{"$f":"IFERROR(VLOOKUP(A58,#REF!,7,FALSE),0)","v":0},0,0,null,null,null,null,null,null,null,null,null,null,null,null,null,null,null,null,null,null,null,null,null,null,null,null,null,null,null,0,0,0,0,0,0,0]
[57,{"$f":"VLOOKUP(A59,#REF!,5,FALSE)","v":{"$error":"#REF!"}},{"$f":"IFERROR(VLOOKUP(A59,#REF!,7,FALSE),0)","v":0},0,0,null,null,null,null,null,null,null,null,null,null,null,null,null,null,null,null,{"$f":"C59*0.53","v":0},{"$f":"C59*0.44","v":0},null,null,null,null,null,null,null,null,null,0,0,0,7.9572887339968954,15.914577467993791,2.8418888335703198E-2,5.6837776671406395E-2]
[58,{"$f":"VLOOKUP(A60,#REF!,5,FALSE)","v":{"$error":"#REF!"}},{"$f":"IFERROR(VLOOKUP(A60,#REF!,7,FALSE),0)","v":0},0,0,null,null,null,null,null,null,null,null,null,{"$f":"0.333*C60","v":0},null,null,{"$f":"0.3333*C60","v":0},null,null,null,null,null,null,null,null,null,null,null,null,null,null,0,0,0,9.7605697412778539E-2,0.19521139482555708,1.9521139482555707E-2,3.9042278965111414E-2]
[59,{"$f":"VLOOKUP(A61,#REF!,5,FALSE)","v":{"$error":"#REF!"}},{"$f":"IFERROR(VLOOKUP(A61,#REF!,7,FALSE),0)","v":0},0,0,null,null,null,null,null,null,null,null,null,null,null,null,null,null,null,null,null,null,null,null,null,null,null,null,null,null,null,0,0,0,0,0,0,0]
[60,{"$f":"VLOOKUP(A62,#REF!,5,FALSE)","v":{"$error":"#REF!"}},{"$f":"IFERROR(VLOOKUP(A62,#REF!,7,FALSE),0)","v":0},0,0,null,null,null,null,null,null,null,null,null,null,null,null,null,null,null,null,null,null,null,null,null,null,null,null,null,null,null,0,0,0,0,0,0,0]
[61,{"$f":"VLOOKUP(A63,#REF!,5,FALSE)","v":{"$error":"#REF!"}},{"$f":"IFERROR(VLOOKUP(A63,#REF!,7,FALSE),0)","v":0},0,0,null,null,null,null,null,null,null,null,null,{"$f":"0.0833*C63","v":0},null,null,{"$f":"0.0833*C63","v":0},null,null,null,null,null,null,null,null,null,null,null,null,null,null,0,0,0,6.8334242427004255E-2,0.13666848485400851,4.8810173162145898E-3,9.7620346324291795E-3]
[62,{"$f":"VLOOKUP(A64,#REF!,5,FALSE)","v":{"$error":"#REF!"}},{"$f":"IFERROR(VLOOKUP(A64,#REF!,7,FALSE),0)","v":0},0,0,null,null,null,null,null,null,null,null,null,{"$f":"0.5*C64","v":0},null,null,{"$f":"0.5*C64","v":0},null,null,null,null,null,null,null,null,null,null,null,null,null,null,0,0,0,0.41016952237097393,0.82033904474194785,2.9297823026498138E-2,5.8595646052996275E-2]
[63,{"$f":"VLOOKUP(A65,#REF!,5,FALSE)","v":{"$error":"#REF!"}},{"$f":"IFERROR(VLOOKUP(A65,#REF!,7,FALSE),0)","v":0},0,0,null,null,null,null,null,null,null,null,null,null,null,null,null,null,null,null,null,null,null,null,null,null,null,null,null,null,null,0,0,0,0,0,0,0]
[64,{"$f":"VLOOKUP(A66,#REF!,5,FALSE)","v":{"$error":"#REF!"}},{"$f":"IFERROR(VLOOKUP(A66,#REF!,7,FALSE),0)","v":0},0,0,null,null,null,null,null,null,null,null,null,null,null,null,null,null,null,null,null,null,null,null,null,null,null,null,null,null,null,0,0,0,0,0,0,0]
[65,{"$f":"VLOOKUP(A67,#REF!,5,FALSE)","v":{"$error":"#REF!"}},{"$f":"IFERROR(VLOOKUP(A67,#REF!,7,FALSE),0)","v":0},0,0,null,null,null,null,null,null,null,null,null,{"$f":"0.0833*C67","v":0},null,null,{"$f":"0.0833*C67","v":0},null,null,null,null,null,null,null,null,null,null,null,null,null,null,0,0,0,4.8810173162145892E-2,9.7620346324291785E-2,4.8810173162145889E-3,9.7620346324291778E-3]
[66,{"$f":"VLOOKUP(A68,#REF!,5,FALSE)","v":{"$error":"#REF!"}},{"$f":"IFERROR(VLOOKUP(A68,#REF!,7,FALSE),0)","v":0},0,0,null,null,null,null,null,null,null,null,null,{"$f":"0.5*C68","v":0},null,null,{"$f":"0.5*C68","v":0},null,null,null,null,null,null,null,null,null,null,null,null,null,null,{"$f":"SUM(H68,J68,K68,L68,M68,N68,Q68,R68,T68,U68,W68,X68,Z68,AA68,AC68,AD68)","v":0},{"$f":"SUM(O68,P68,S68,V68,Y68,AB68,AE68)+I68","v":0},{"$f":"AG68+AH68","v":0},0.9375303368479404,1.8750606736958808,2.9297823026498138E-2,5.8595646052996275E-2]
[67,{"$f":"VLOOKUP(A69,#REF!,5,FALSE)","v":{"$error":"#REF!"}},{"$f":"IFERROR(VLOOKUP(A69,#REF!,7,FALSE),0)","v":0},0,0,null,null,null,null,null,null,null,null,null,null,null,null,null,null,null,null,null,null,null,null,null,null,null,null,null,null,null,0,0,0,0,0,0,0]
[68,{"$f":"VLOOKUP(A70,#REF!,5,FALSE)","v":{"$error":"#REF!"}},{"$f":"IFERROR(VLOOKUP(A70,#REF!,7,FALSE),0)","v":0},0,0,null,null,null,null,null,null,null,null,null,null,null,null,null,null,null,null,null,null,null,null,null,null,null,null,null,null,null,0,0,0,0,0,0,0]
[69,{"$f":"VLOOKUP(A71,#REF!,5,FALSE)","v":{"$error":"#REF!"}},{"$f":"IFERROR(VLOOKUP(A71,#REF!,7,FALSE),0)","v":0},0,0,null,null,null,null,null,null,null,null,null,{"$f":"0.3333*C71","v":0},null,null,{"$f":"0.3333*C71","v":0},null,null,null,null,null,null,null,null,null,null,null,null,null,null,0,0,0,0.33200879010088219,0.66401758020176438,1.9529928829463659E-2,3.9059857658927319E-2]
[70,{"$f":"VLOOKUP(A72,#REF!,5,FALSE)","v":{"$error":"#REF!"}},{"$f":"IFERROR(VLOOKUP(A72,#REF!,7,FALSE),0)","v":0},{"$f":"IFERROR(AL72*C72,0)","v":0},{"$f":"IFERROR(AM72*C72,0)","v":0},null,null,null,{"$f":"C72*0.95","v":0},null,null,null,null,null,null,null,null,null,null,null,null,null,{"$f":"C72*0.8","v":0},{"$f":"C72*0.3","v":0},null,null,null,null,null,null,null,null,0,0,0,3.3033295462376651,6.6066590924753301,6.0060537204321182E-2,0.12012107440864236]
[71,{"$f":"VLOOKUP(A73,#REF!,5,FALSE)","v":{"$error":"#REF!"}},{"$f":"IFERROR(VLOOKUP(A73,#REF!,7,FALSE),0)","v":0},0,0,null,null,null,null,null,null,null,null,null,null,null,null,{"$f":"0.0167*C73","v":0},null,null,null,null,null,null,null,null,null,null,null,null,null,null,0,0,0,2.446368222712594E-3,4.892736445425188E-3,4.8927364454251878E-4,9.7854728908503756E-4]
[72,{"$f":"VLOOKUP(A74,#REF!,5,FALSE)","v":{"$error":"#REF!"}},{"$f":"IFERROR(VLOOKUP(A74,#REF!,7,FALSE),0)","v":0},0,0,null,null,null,null,null,null,null,null,null,null,null,null,null,null,null,null,null,null,null,null,null,null,null,null,null,null,null,0,0,0,0,0,0,0]
[73,{"$f":"VLOOKUP(A75,#REF!,5,FALSE)","v":{"$error":"#REF!"}},{"$f":"IFERROR(VLOOKUP(A75,#REF!,7,FALSE),0)","v":0},0,0,null,null,null,{"$f":"C75*0.1","v":0},null,null,null,null,null,null,null,null,null,null,null,null,null,null,null,null,null,null,null,null,null,null,null,0,0,0,17.297434714844499,34.594869429688998,2.9297823026498133E-3,5.8595646052996267E-3]
[74,{"$f":"VLOOKUP(A76,#REF!,5,FALSE)","v":{"$error":"#REF!"}},{"$f":"IFERROR(VLOOKUP(A76,#REF!,7,FALSE),0)","v":0},0,0,null,null,null,null,null,{"$f":"C76*0.216","v":0},null,{"$f":"C76*0.391","v":0},null,null,null,null,null,{"$f":"C76*0.034","v":0},null,null,null,null,null,{"$f":"C76*0.055","v":0},null,null,null,null,null,null,null,0,0,0,61.173854479328106,122.34770895865621,2.0391284826442702E-2,4.0782569652885403E-2]
[75,{"$f":"VLOOKUP(A77,#REF!,5,FALSE)","v":{"$error":"#REF!"}},{"$f":"IFERROR(VLOOKUP(A77,#REF!,7,FALSE),0)","v":0},0,0,null,null,null,null,null,null,null,{"$f":"C77*1.877","v":0},null,null,null,null,null,null,null,null,null,null,null,{"$f":"C77*0.293","v":0},null,null,null,null,null,null,null,0,0,0,1.2715255193500192,2.5430510387000385,6.3576275967500956E-2,0.12715255193500191]
[76,{"$f":"VLOOKUP(A78,#REF!,5,FALSE)","v":{"$error":"#REF!"}},{"$f":"IFERROR(VLOOKUP(A78,#REF!,7,FALSE),0)","v":0},0,0,null,null,null,null,null,null,null,{"$f":"C78*2.397","v":0},null,null,null,null,null,null,null,null,null,null,null,{"$f":"C78*0.375","v":0},null,null,null,null,null,null,null,0,0,0,1.6242713085890568,3.2485426171781135,8.1213565429452836E-2,0.16242713085890567]
[77,{"$f":"VLOOKUP(A79,#REF!,5,FALSE)","v":{"$error":"#REF!"}},{"$f":"IFERROR(VLOOKUP(A79,#REF!,7,FALSE),0)","v":0},0,0,null,null,{"$f":"C79*1.846","v":0},{"$f":"C79*7.868","v":0},null,null,null,null,null,null,null,null,null,null,null,null,null,{"$f":"C79*1.846","v":0},null,null,{"$f":"C79*1.47","v":0},null,null,null,null,null,null,0,0,0,3.8175063403527076,7.6350126807054153,0.38175063403527076,0.76350126807054153]
[78,{"$f":"VLOOKUP(A80,#REF!,5,FALSE)","v":{"$error":"#REF!"}},{"$f":"IFERROR(VLOOKUP(A80,#REF!,7,FALSE),0)","v":0},0,0,null,null,{"$f":"C80*1.846","v":0},{"$f":"C80*7.848","v":0},null,null,null,null,null,null,null,null,null,null,null,null,null,{"$f":"C80*1.846","v":0},null,null,{"$f":"C80*1.46","v":0},null,null,null,null,null,null,0,0,0,3.8087169934447576,7.6174339868895151,0.38087169934447573,0.76174339868895147]
[79,{"$f":"VLOOKUP(A81,#REF!,5,FALSE)","v":{"$error":"#REF!"}},{"$f":"IFERROR(VLOOKUP(A81,#REF!,7,FALSE),0)","v":0},0,0,null,null,null,{"$f":"C81*0.2","v":0},null,null,null,null,null,null,null,null,null,null,null,null,null,null,null,null,null,null,null,null,null,null,null,0,0,0,0.58595646052996275,1.1719129210599255,5.8595646052996275E-3,1.1719129210599255E-2]
[80,{"$f":"VLOOKUP(A82,#REF!,5,FALSE)","v":{"$error":"#REF!"}},{"$f":"IFERROR(VLOOKUP(A82,#REF!,7,FALSE),0)","v":0},0,0,null,null,null,{"$f":"C82*0.1","v":0},null,null,null,null,null,null,null,null,{"$f":"C82*0.4","v":0},null,null,null,null,null,null,null,null,null,null,null,null,null,null,0,0,0,1.5381357088911523,3.0762714177823045,1.4648911513249069E-2,2.9297823026498138E-2]
[81,{"$f":"VLOOKUP(A83,#REF!,5,FALSE)","v":{"$error":"#REF!"}},{"$f":"IFERROR(VLOOKUP(A83,#REF!,7,FALSE),0)","v":0},0,0,null,null,null,null,null,null,null,null,null,null,null,null,null,null,null,null,{"$f":"C83*0.205","v":0},{"$f":"C83*1.12","v":0},null,null,null,null,null,null,null,null,null,0,0,0,3.881961551011003,7.7639231020220061,3.8819615510110032E-2,7.7639231020220065E-2]
[82,{"$f":"VLOOKUP(A84,#REF!,5,FALSE)","v":{"$error":"#REF!"}},{"$f":"IFERROR(VLOOKUP(A84,#REF!,7,FALSE),0)","v":0},0,0,null,null,{"$f":"C84*0.4","v":0},{"$f":"C84*0.3","v":0},null,null,null,null,null,null,null,null,null,null,null,null,null,null,null,null,null,null,null,null,null,null,null,0,0,0,0.41016952237097393,0.82033904474194785,2.0508476118548696E-2,4.1016952237097393E-2]
[83,{"$f":"VLOOKUP(A85,#REF!,5,FALSE)","v":{"$error":"#REF!"}},{"$f":"IFERROR(VLOOKUP(A85,#REF!,7,FALSE),0)","v":0},0,0,null,null,null,null,null,null,null,null,null,{"$f":"C85*0.108","v":0},null,null,null,null,null,null,null,null,null,null,null,{"$f":"C85*0.532","v":0},null,null,null,null,null,0,0,0,9.375303368479404,18.750606736958808,1.8750606736958809E-2,3.7501213473917619E-2]
[84,{"$f":"VLOOKUP(A86,#REF!,5,FALSE)","v":{"$error":"#REF!"}},{"$f":"IFERROR(VLOOKUP(A86,#REF!,7,FALSE),0)","v":0},0,0,null,null,{"$f":"C86*1.37","v":0},{"$f":"C86*0.685","v":0},null,null,null,null,null,null,null,null,null,null,null,null,null,null,null,null,null,null,null,null,null,null,null,0,0,0,15.051756579863417,30.103513159726834,6.0207026319453669E-2,0.12041405263890734]
[85,{"$f":"VLOOKUP(A87,#REF!,5,FALSE)","v":{"$error":"#REF!"}},{"$f":"IFERROR(VLOOKUP(A87,#REF!,7,FALSE),0)","v":0},0,0,null,null,null,{"$f":"C87*0.0909","v":0},null,null,null,null,null,null,null,null,{"$f":"C87*0.3636","v":0},null,null,null,null,null,null,null,null,null,null,null,null,null,null,0,0,0,0.13315860565543403,0.26631721131086805,1.3315860565543403E-2,2.6631721131086805E-2]
[86,{"$f":"VLOOKUP(A88,#REF!,5,FALSE)","v":{"$error":"#REF!"}},{"$f":"IFERROR(VLOOKUP(A88,#REF!,7,FALSE),0)","v":0},0,0,null,null,{"$f":"C88*0.529","v":0},{"$f":"C88*0.106","v":0},null,null,null,null,null,null,null,null,null,null,null,null,null,null,null,null,null,null,null,null,null,null,null,0,0,0,0.55812352865478954,1.1162470573095791,1.8604117621826319E-2,3.7208235243652639E-2]
[87,{"$f":"VLOOKUP(A89,#REF!,5,FALSE)","v":{"$error":"#REF!"}},{"$f":"IFERROR(VLOOKUP(A89,#REF!,7,FALSE),0)","v":0},0,0,null,null,null,{"$f":"C89*0.1362","v":0},null,null,null,null,null,null,null,null,{"$f":"C89*0.5449","v":0},null,null,null,null,null,null,null,null,null,null,null,null,null,null,0,0,0,7.9818989053391523,15.963797810678305,1.995474726334788E-2,3.990949452669576E-2]
[88,{"$f":"VLOOKUP(A90,#REF!,5,FALSE)","v":{"$error":"#REF!"}},{"$f":"IFERROR(VLOOKUP(A90,#REF!,7,FALSE),0)","v":0},0,0,null,null,null,{"$f":"C90*0.06363","v":0},null,null,null,null,null,null,null,null,{"$f":"C90*0.1212","v":0},null,null,null,null,null,null,null,null,null,null,null,null,null,null,0,0,0,0.10830233259975303,0.21660466519950605,5.4151166299876517E-3,1.0830233259975303E-2]
[89,{"$f":"VLOOKUP(A91,#REF!,5,FALSE)","v":{"$error":"#REF!"}},{"$f":"IFERROR(VLOOKUP(A91,#REF!,7,FALSE),0)","v":0},0,0,null,null,{"$f":"C91*0.46","v":0},{"$f":"C91*0.167","v":0},null,null,null,null,null,null,null,null,null,null,null,null,null,null,null,null,null,null,null,null,null,null,null,0,0,0,0.36739470075228664,0.73478940150457328,1.8369735037614333E-2,3.6739470075228667E-2]
[90,{"$f":"VLOOKUP(A92,#REF!,5,FALSE)","v":{"$error":"#REF!"}},{"$f":"IFERROR(VLOOKUP(A92,#REF!,7,FALSE),0)","v":0},0,0,null,null,{"$f":"C92*0.141","v":0},{"$f":"C92*0.0141","v":0},null,null,null,null,null,null,null,null,null,null,null,null,null,null,null,null,null,null,null,null,null,null,null,0,0,0,0.22720461757049301,0.45440923514098602,4.54409235140986E-3,9.08818470281972E-3]
[91,{"$f":"VLOOKUP(A93,#REF!,5,FALSE)","v":{"$error":"#REF!"}},{"$f":"IFERROR(VLOOKUP(A93,#REF!,7,FALSE),0)","v":0},0,0,null,null,{"$f":"C93*0.07","v":0},{"$f":"C93*0.007","v":0},null,null,null,null,null,null,null,null,null,null,null,null,null,null,null,null,null,null,null,null,null,null,null,0,0,0,1.1279661865201782,2.2559323730403564,2.2559323730403564E-3,4.5118647460807128E-3]
[92,{"$f":"VLOOKUP(A94,#REF!,5,FALSE)","v":{"$error":"#REF!"}},{"$f":"IFERROR(VLOOKUP(A94,#REF!,7,FALSE),0)","v":0},0,0,null,null,null,{"$f":"C94*0.08","v":0},{"$f":"C94*0.4","v":0},null,null,null,null,null,null,null,null,null,null,null,null,null,null,null,null,null,null,null,null,null,null,0,0,0,6.1877002231964067,12.375400446392813,1.4062955052719105E-2,2.8125910105438211E-2]
[93,{"$f":"VLOOKUP(A95,#REF!,5,FALSE)","v":{"$error":"#REF!"}},{"$f":"IFERROR(VLOOKUP(A95,#REF!,7,FALSE),0)","v":0},0,0,null,null,{"$f":"C95*0.43","v":0},{"$f":"C95*0.4308","v":0},null,null,null,null,null,null,null,null,null,null,null,null,null,null,null,null,null,null,null,null,null,null,null,0,0,0,15.131739636725758,30.263479273451516,2.5219566061209595E-2,5.043913212241919E-2]
[94,{"$f":"VLOOKUP(A96,#REF!,5,FALSE)","v":{"$error":"#REF!"}},{"$f":"IFERROR(VLOOKUP(A96,#REF!,7,FALSE),0)","v":0},0,0,null,null,{"$f":"C96*0.2","v":0},{"$f":"C96*0.0932","v":0},null,null,null,null,null,null,null,null,null,null,null,null,null,null,null,null,null,null,null,null,null,null,null,0,0,0,1.7180243422738508,3.4360486845477016,8.5901217113692543E-3,1.7180243422738509E-2]
[95,{"$f":"VLOOKUP(A97,#REF!,5,FALSE)","v":{"$error":"#REF!"}},{"$f":"IFERROR(VLOOKUP(A97,#REF!,7,FALSE),0)","v":0},0,0,null,null,{"$f":"C97*0.155","v":0},{"$f":"C97*0.6","v":0},null,null,null,null,null,null,null,null,null,null,null,null,null,null,null,null,null,null,null,null,null,null,null,0,0,0,2.2119856385006091,4.4239712770012183,2.211985638500609E-2,4.4239712770012179E-2]
[96,{"$f":"VLOOKUP(A98,#REF!,5,FALSE)","v":{"$error":"#REF!"}},{"$f":"IFERROR(VLOOKUP(A98,#REF!,7,FALSE),0)","v":0},0,0,null,null,null,{"$f":"C98*0.027","v":0},null,null,null,null,null,null,null,null,null,null,null,null,null,null,{"$f":"C98*0.106","v":0},null,null,null,null,null,null,null,null,0,0,0,21.041696497630962,42.083392995261924,3.8966104625242524E-3,7.7932209250485048E-3]
[97,{"$f":"VLOOKUP(A99,#REF!,5,FALSE)","v":{"$error":"#REF!"}},{"$f":"IFERROR(VLOOKUP(A99,#REF!,7,FALSE),0)","v":0},0,0,null,null,null,{"$f":"C99*0.3","v":0},null,null,null,null,null,null,null,null,null,null,null,null,null,null,{"$f":"C99*0.4","v":0},null,null,null,null,null,null,null,null,0,0,0,8.2033904474194781,16.406780894838956,2.0508476118548696E-2,4.1016952237097393E-2]
[98,{"$f":"VLOOKUP(A100,#REF!,5,FALSE)","v":{"$error":"#REF!"}},{"$f":"IFERROR(VLOOKUP(A100,#REF!,7,FALSE),0)","v":0},0,0,null,null,null,{"$f":"C100*0.083","v":0},null,null,null,null,null,null,null,null,null,null,null,null,null,null,{"$f":"C100*0.334","v":0},null,null,null,null,null,null,null,null,0,0,0,6.1085961010248617,12.217192202049723,1.2217192202049724E-2,2.4434384404099448E-2]
[99,{"$f":"VLOOKUP(A101,#REF!,5,FALSE)","v":{"$error":"#REF!"}},{"$f":"IFERROR(VLOOKUP(A101,#REF!,7,FALSE),0)","v":0},0,0,null,null,null,{"$f":"C101*0.114","v":0},null,null,null,null,null,null,null,null,null,null,null,null,null,null,{"$f":"C101*0.312","v":0},null,null,null,null,null,null,null,null,0,0,0,33.698356045078157,67.396712090156313,1.2480872609288205E-2,2.4961745218576411E-2]
[100,{"$f":"VLOOKUP(A102,#REF!,5,FALSE)","v":{"$error":"#REF!"}},{"$f":"IFERROR(VLOOKUP(A102,#REF!,7,FALSE),0)","v":0},0,0,null,null,null,{"$f":"C102*0.069","v":0},null,null,null,null,null,null,null,null,null,null,null,null,null,null,{"$f":"C102*0.187","v":0},null,null,null,null,null,null,null,null,0,0,0,67.502184253051709,135.00436850610342,7.5002426947835231E-3,1.5000485389567046E-2]
[101,{"$f":"VLOOKUP(A103,#REF!,5,FALSE)","v":{"$error":"#REF!"}},{"$f":"IFERROR(VLOOKUP(A103,#REF!,7,FALSE),0)","v":0},0,0,null,null,null,{"$f":"C103*0.3","v":0},null,null,null,null,null,null,null,null,null,null,null,null,null,null,{"$f":"C103*0.4","v":0},null,null,null,null,null,null,null,null,0,0,0,6.152542835564609,12.305085671129218,2.0508476118548696E-2,4.1016952237097393E-2]
[102,{"$f":"VLOOKUP(A104,#REF!,5,FALSE)","v":{"$error":"#REF!"}},{"$f":"IFERROR(VLOOKUP(A104,#REF!,7,FALSE),0)","v":0},0,0,null,null,null,{"$f":"C104*0.5","v":0},null,null,null,null,null,null,null,null,null,null,null,null,null,null,{"$f":"C104*0.5","v":0},null,null,null,null,null,null,null,null,0,0,0,19.04358496722379,38.08716993444758,2.9297823026498138E-2,5.8595646052996275E-2]
[103,{"$f":"VLOOKUP(A105,#REF!,5,FALSE)","v":{"$error":"#REF!"}},{"$f":"IFERROR(VLOOKUP(A105,#REF!,7,FALSE),0)","v":0},0,0,null,null,null,{"$f":"C105*0.089","v":0},null,null,null,null,null,null,null,null,null,null,null,null,null,null,{"$f":"C105*0.244","v":0},null,null,null,null,null,null,null,null,0,0,0,58.53705040694328,117.07410081388656,9.7561750678238808E-3,1.9512350135647762E-2]
[104,{"$f":"VLOOKUP(A106,#REF!,5,FALSE)","v":{"$error":"#REF!"}},{"$f":"IFERROR(VLOOKUP(A106,#REF!,7,FALSE),0)","v":0},0,0,null,null,null,{"$f":"C106*0.36","v":0},null,null,{"$f":"C106*0.66","v":0},null,null,null,null,null,null,null,null,null,null,null,null,null,null,null,null,null,null,null,null,0,0,0,5.9767558974056199,11.95351179481124,2.9883779487028098E-2,5.9767558974056195E-2]
[105,{"$f":"VLOOKUP(A107,#REF!,5,FALSE)","v":{"$error":"#REF!"}},{"$f":"IFERROR(VLOOKUP(A107,#REF!,7,FALSE),0)","v":0},0,0,null,null,{"$f":"C107*0.36","v":0},{"$f":"C107*0.18","v":0},null,null,null,null,null,null,null,null,null,null,null,null,null,null,null,null,null,null,null,null,null,null,null,0,0,0,0.94924946605853966,1.8984989321170793,1.5820824434308996E-2,3.1641648868617991E-2]
[106,{"$f":"VLOOKUP(A108,#REF!,5,FALSE)","v":{"$error":"#REF!"}},{"$f":"IFERROR(VLOOKUP(A108,#REF!,7,FALSE),0)","v":0},0,0,null,null,{"$f":"C108*0.29","v":0},{"$f":"C108*0.145","v":0},null,null,null,null,null,null,null,null,null,null,null,null,null,null,null,null,null,null,null,null,null,null,null,0,0,0,7.0095041590896789,14.019008318179358,1.2744553016526688E-2,2.5489106033053377E-2]
[107,{"$f":"VLOOKUP(A109,#REF!,5,FALSE)","v":{"$error":"#REF!"}},{"$f":"IFERROR(VLOOKUP(A109,#REF!,7,FALSE),0)","v":0},0,0,null,null,null,{"$f":"C109*0.594","v":0},null,null,null,null,null,null,null,{"$f":"C109*1.188","v":0},null,null,null,null,null,null,null,null,null,null,null,null,null,null,null,0,0,0,54.819156664880666,109.63831332976133,5.2208720633219678E-2,0.10441744126643936]
[108,{"$f":"VLOOKUP(A110,#REF!,5,FALSE)","v":{"$error":"#REF!"}},{"$f":"IFERROR(VLOOKUP(A110,#REF!,7,FALSE),0)","v":0},0,0,null,null,null,{"$f":"C110*0.594","v":0},null,null,null,null,null,null,null,{"$f":"C110*1.188","v":0},null,null,null,null,null,null,null,null,null,null,null,null,null,null,null,0,0,0,14.096354570969314,28.192709141938629,5.2208720633219685E-2,0.10441744126643937]
[109,{"$f":"VLOOKUP(A111,#REF!,5,FALSE)","v":{"$error":"#REF!"}},{"$f":"IFERROR(VLOOKUP(A111,#REF!,7,FALSE),0)","v":0},0,0,null,null,null,{"$f":"C111*1.82","v":0},null,null,null,null,null,null,null,{"$f":"C111*3.64666666666667","v":0},null,null,null,null,null,null,null,null,null,null,null,null,null,null,null,0,0,0,4.0040358136214147,8.0080716272428294,0.1601614325448566,0.32032286508971319]
[110,{"$f":"VLOOKUP(A112,#REF!,5,FALSE)","v":{"$error":"#REF!"}},{"$f":"IFERROR(VLOOKUP(A112,#REF!,7,FALSE),0)","v":0},0,0,null,null,null,{"$f":"C112*0.594","v":0},null,null,null,null,null,null,null,{"$f":"C112*1.188","v":0},null,null,null,null,null,null,null,null,null,null,null,null,null,null,null,0,0,0,1.5662616189965903,3.1325232379931807,5.2208720633219678E-2,0.10441744126643936]
[111,{"$f":"VLOOKUP(A113,#REF!,5,FALSE)","v":{"$error":"#REF!"}},{"$f":"IFERROR(VLOOKUP(A113,#REF!,7,FALSE),0)","v":0},0,0,null,null,null,{"$f":"C113*0.594","v":0},null,null,null,null,null,null,null,{"$f":"C113*1.188","v":0},null,null,null,null,null,null,null,null,null,null,null,null,null,null,null,0,0,0,0.15662616189965903,0.31325232379931806,5.2208720633219678E-2,0.10441744126643936]
[112,{"$f":"VLOOKUP(A114,#REF!,5,FALSE)","v":{"$error":"#REF!"}},{"$f":"IFERROR(VLOOKUP(A114,#REF!,7,FALSE),0)","v":0},0,0,null,null,null,{"$f":"C114*1.82","v":0},null,null,null,null,null,null,null,{"$f":"C114*3.64666666666667","v":0},null,null,null,null,null,null,null,null,null,null,null,null,null,null,null,0,0,0,0.32032286508971319,0.64064573017942639,0.1601614325448566,0.32032286508971319]
[113,{"$f":"VLOOKUP(A115,#REF!,5,FALSE)","v":{"$error":"#REF!"}},{"$f":"IFERROR(VLOOKUP(A115,#REF!,7,FALSE),0)","v":0},0,0,null,null,null,null,null,null,null,null,{"$f":"C115*0.15","v":0},{"$f":"C115*0.15","v":0},null,null,null,null,null,null,null,null,null,null,null,null,null,null,null,null,null,0,0,0,0.61525428355646083,1.2305085671129217,8.7893469079494413E-3,1.7578693815898883E-2]
[114,{"$f":"VLOOKUP(A116,#REF!,5,FALSE)","v":{"$error":"#REF!"}},{"$f":"IFERROR(VLOOKUP(A116,#REF!,7,FALSE),0)","v":0},0,0,null,null,null,{"$f":"C116*0.594","v":0},null,null,null,null,null,null,null,{"$f":"C116*1.188","v":0},null,null,null,null,null,null,null,null,null,null,null,null,null,null,null,0,0,0,0.52208720633219685,1.0441744126643937,5.2208720633219685E-2,0.10441744126643937]
[115,{"$f":"VLOOKUP(A117,#REF!,5,FALSE)","v":{"$error":"#REF!"}},{"$f":"IFERROR(VLOOKUP(A117,#REF!,7,FALSE),0)","v":0},0,0,null,null,null,{"$f":"C117*0.594","v":0},null,null,null,null,null,null,null,{"$f":"C117*1.188","v":0},null,null,null,null,null,null,null,null,null,null,null,null,null,null,null,0,0,0,2.0883488253287874,4.1766976506575748,5.2208720633219685E-2,0.10441744126643937]
[116,{"$f":"VLOOKUP(A118,#REF!,5,FALSE)","v":{"$error":"#REF!"}},{"$f":"IFERROR(VLOOKUP(A118,#REF!,7,FALSE),0)","v":0},0,0,null,null,null,null,null,null,null,null,{"$f":"C118*0.15","v":0},{"$f":"C118*0.15","v":0},null,null,null,null,null,null,null,null,null,null,null,null,null,null,null,null,null,0,0,0,0.61525428355646083,1.2305085671129217,8.7893469079494413E-3,1.7578693815898883E-2]
[117,{"$f":"VLOOKUP(A119,#REF!,5,FALSE)","v":{"$error":"#REF!"}},{"$f":"IFERROR(VLOOKUP(A119,#REF!,7,FALSE),0)","v":0},0,0,null,null,null,{"$f":"C119*0.594*50%","v":0},null,null,null,null,null,null,null,{"$f":"C119*1.188*50%","v":0},null,null,null,null,null,null,null,null,null,null,null,null,null,null,null,0,0,0,0.52208720633219685,1.0441744126643937,2.6104360316609843E-2,5.2208720633219685E-2]
[118,{"$f":"VLOOKUP(A120,#REF!,5,FALSE)","v":{"$error":"#REF!"}},{"$f":"IFERROR(VLOOKUP(A120,#REF!,7,FALSE),0)","v":0},0,0,null,null,null,0,null,null,null,null,null,null,null,{"$f":"C120*1.188*50%","v":0},null,null,null,null,null,null,null,null,null,null,null,null,null,null,null,0,0,0,0.52208720633219685,1.0441744126643937,2.6104360316609843E-2,5.2208720633219685E-2]
[119,{"$f":"VLOOKUP(A121,#REF!,5,FALSE)","v":{"$error":"#REF!"}},{"$f":"IFERROR(VLOOKUP(A121,#REF!,7,FALSE),0)","v":0},0,0,null,null,null,0,null,null,null,null,null,null,null,0,null,null,null,null,null,null,null,null,null,null,null,null,null,null,null,0,0,0,0.52208720633219685,1.0441744126643937,2.6104360316609843E-2,5.2208720633219685E-2]
[120,{"$f":"VLOOKUP(A122,#REF!,5,FALSE)","v":{"$error":"#REF!"}},{"$f":"IFERROR(VLOOKUP(A122,#REF!,7,FALSE),0)","v":0},0,0,null,null,null,0,null,null,null,null,null,null,null,0,null,null,null,null,null,null,null,null,null,null,null,null,null,null,null,0,0,0,0.52208720633219685,1.0441744126643937,2.6104360316609843E-2,5.2208720633219685E-2]
[121,{"$f":"VLOOKUP(A123,#REF!,5,FALSE)","v":{"$error":"#REF!"}},{"$f":"IFERROR(VLOOKUP(A123,#REF!,7,FALSE),0)","v":0},0,0,null,null,null,0,null,null,null,null,null,null,null,0,null,null,null,null,null,null,null,null,null,null,null,null,null,null,null,0,0,0,0.52208720633219685,1.0441744126643937,2.6104360316609843E-2,5.2208720633219685E-2]
[122,{"$f":"VLOOKUP(A124,#REF!,5,FALSE)","v":{"$error":"#REF!"}},{"$f":"IFERROR(VLOOKUP(A124,#REF!,7,FALSE),0)","v":0},0,0,null,null,null,0,null,null,null,null,null,null,null,0,null,null,null,null,null,null,null,null,null,null,null,null,null,null,null,0,0,0,0.52208720633219685,1.0441744126643937,2.6104360316609843E-2,5.2208720633219685E-2]
[123,{"$f":"VLOOKUP(A125,#REF!,5,FALSE)","v":{"$error":"#REF!"}},{"$f":"IFERROR(VLOOKUP(A125,#REF!,7,FALSE),0)","v":0},0,0,null,null,null,{"$f":"C125*0.594","v":0},null,null,null,null,null,null,null,{"$f":"C125*1.188","v":0},null,null,null,null,null,null,null,null,null,null,null,null,null,null,null,0,0,0,1.5662616189965903,3.1325232379931807,5.2208720633219678E-2,0.10441744126643936]
[124,{"$f":"VLOOKUP(A126,#REF!,5,FALSE)","v":{"$error":"#REF!"}},{"$f":"IFERROR(VLOOKUP(A126,#REF!,7,FALSE),0)","v":0},0,0,null,null,null,{"$f":"C126*1.14","v":0},null,null,null,null,null,null,null,{"$f":"C126*0.65","v":0},null,null,null,null,null,null,null,null,null,null,null,null,null,null,null,0,0,0,2.6221551608715834,5.2443103217431668,5.2443103217431668E-2,0.10488620643486334]
[125,{"$f":"VLOOKUP(A127,#REF!,5,FALSE)","v":{"$error":"#REF!"}},{"$f":"IFERROR(VLOOKUP(A127,#REF!,7,FALSE),0)","v":0},0,0,null,null,null,{"$f":"C127*2.3","v":0},null,null,null,null,null,null,null,{"$f":"C127*4.8","v":0},null,null,null,null,null,null,null,null,null,null,null,null,null,null,null,0,0,0,20.801454348813678,41.602908697627356,0.20801454348813678,0.41602908697627355]
[126,{"$f":"VLOOKUP(A128,#REF!,5,FALSE)","v":{"$error":"#REF!"}},{"$f":"IFERROR(VLOOKUP(A128,#REF!,7,FALSE),0)","v":0},0,0,null,null,null,{"$f":"C128*1.14","v":0},null,null,null,null,null,null,null,{"$f":"C128*0.65","v":0},null,null,null,null,null,null,null,null,null,null,null,null,null,null,null,0,0,0,1.5732930965229499,3.1465861930458998,5.2443103217431661E-2,0.10488620643486332]
[127,{"$f":"VLOOKUP(A129,#REF!,5,FALSE)","v":{"$error":"#REF!"}},{"$f":"IFERROR(VLOOKUP(A129,#REF!,7,FALSE),0)","v":0},0,0,null,null,null,{"$f":"C129*0.594","v":0},null,null,null,null,null,null,null,{"$f":"C129*1.188","v":0},null,null,null,null,null,null,null,null,null,null,null,null,null,null,null,0,0,0,0.41766976506575743,0.83533953013151485,5.2208720633219678E-2,0.10441744126643936]
[128,{"$f":"VLOOKUP(A130,#REF!,5,FALSE)","v":{"$error":"#REF!"}},{"$f":"IFERROR(VLOOKUP(A130,#REF!,7,FALSE),0)","v":0},0,0,null,null,null,{"$f":"C130*1.14","v":0},null,null,null,null,null,null,null,{"$f":"C130*0.65","v":0},null,null,null,null,null,null,null,null,null,null,null,null,null,null,null,0,0,0,1.5732930965229499,3.1465861930458998,5.2443103217431661E-2,0.10488620643486332]
[129,{"$f":"VLOOKUP(A131,#REF!,5,FALSE)","v":{"$error":"#REF!"}},{"$f":"IFERROR(VLOOKUP(A131,#REF!,7,FALSE),0)","v":0},0,0,null,null,null,{"$f":"C131*0.594","v":0},null,null,null,null,null,null,null,{"$f":"C131*1.188","v":0},null,null,null,null,null,null,null,null,null,null,null,null,null,null,null,0,0,0,0.78313080949829517,1.5662616189965903,5.2208720633219678E-2,0.10441744126643936]
[130,{"$f":"VLOOKUP(A132,#REF!,5,FALSE)","v":{"$error":"#REF!"}},{"$f":"IFERROR(VLOOKUP(A132,#REF!,7,FALSE),0)","v":0},0,0,null,null,null,{"$f":"C132*0.594","v":0},null,null,null,null,null,null,null,{"$f":"C132*1.188","v":0},null,null,null,null,null,null,null,null,null,null,null,null,null,null,null,{"$f":"SUM(H132,J132,K132,L132,M132,N132,Q132,R132,T132,U132,W132,X132,Z132,AA132,AC132,AD132)","v":0},{"$f":"SUM(O132,P132,S132,V132,Y132,AB132,AE132)+I132","v":0},{"$f":"AG132+AH132","v":0},0.52208720633219685,1.0441744126643937,5.2208720633219685E-2,0.10441744126643937]
[131,{"$f":"VLOOKUP(A133,#REF!,5,FALSE)","v":{"$error":"#REF!"}},{"$f":"IFERROR(VLOOKUP(A133,#REF!,7,FALSE),0)","v":0},0,0,null,null,null,{"$f":"C133*0.594","v":0},null,null,null,null,null,null,null,{"$f":"C133*1.188","v":0},null,null,null,null,null,null,null,null,null,null,null,null,null,null,null,0,0,0,5.2208720633219678E-2,0.10441744126643936,5.2208720633219678E-2,0.10441744126643936]
[132,{"$f":"VLOOKUP(A134,#REF!,5,FALSE)","v":{"$error":"#REF!"}},{"$f":"IFERROR(VLOOKUP(A134,#REF!,7,FALSE),0)","v":0},0,0,null,null,null,{"$f":"C134*0.1362","v":0},null,null,null,null,null,null,null,null,{"$f":"C134*0.5449","v":0},null,null,null,null,null,null,null,null,null,null,null,null,null,null,0,0,0,9.9773736316739434,19.954747263347887,1.9954747263347887E-2,3.9909494526695774E-2]
[133,{"$f":"VLOOKUP(A135,#REF!,5,FALSE)","v":{"$error":"#REF!"}},{"$f":"IFERROR(VLOOKUP(A135,#REF!,7,FALSE),0)","v":0},0,0,null,null,null,0,null,null,null,null,null,null,null,null,0,null,null,null,null,null,null,null,null,null,null,null,null,null,null,0,0,0,9.9773736316739434,19.954747263347887,1.9954747263347887E-2,3.9909494526695774E-2]
[134,{"$f":"VLOOKUP(A136,#REF!,5,FALSE)","v":{"$error":"#REF!"}},{"$f":"IFERROR(VLOOKUP(A136,#REF!,7,FALSE),0)","v":0},{"$f":"IFERROR(AL136*C136,0)","v":0},{"$f":"IFERROR(AM136*C136,0)","v":0},null,null,null,0,null,null,null,null,null,null,null,null,0,null,null,null,null,null,null,null,null,null,null,null,null,null,null,0,0,0,19.954747263347887,39.909494526695774,1.9954747263347887E-2,3.9909494526695774E-2]
[135,{"$f":"VLOOKUP(A137,#REF!,5,FALSE)","v":{"$error":"#REF!"}},{"$f":"IFERROR(VLOOKUP(A137,#REF!,7,FALSE),0)","v":0},0,0,null,null,null,0,null,null,null,null,null,null,null,null,0,null,null,null,null,null,null,null,null,null,null,null,null,null,null,0,0,0,19.954747263347887,39.909494526695774,1.9954747263347887E-2,3.9909494526695774E-2]
[136,{"$f":"VLOOKUP(A138,#REF!,5,FALSE)","v":{"$error":"#REF!"}},{"$f":"IFERROR(VLOOKUP(A138,#REF!,7,FALSE),0)","v":0},0,0,null,null,null,0,null,null,null,null,null,null,null,null,0,null,null,null,null,null,null,null,null,null,null,null,null,null,null,0,0,0,3.9909494526695761,7.9818989053391523,1.995474726334788E-2,3.990949452669576E-2]
[137,{"$f":"VLOOKUP(A139,#REF!,5,FALSE)","v":{"$error":"#REF!"}},{"$f":"IFERROR(VLOOKUP(A139,#REF!,7,FALSE),0)","v":0},0,0,null,null,null,0,null,null,null,null,null,null,null,null,0,null,null,null,null,null,null,null,null,null,null,null,null,null,null,0,0,0,3.9909494526695761,7.9818989053391523,1.995474726334788E-2,3.990949452669576E-2]
[138,{"$f":"VLOOKUP(A140,#REF!,5,FALSE)","v":{"$error":"#REF!"}},{"$f":"IFERROR(VLOOKUP(A140,#REF!,7,FALSE),0)","v":0},0,0,null,null,null,null,null,null,null,null,null,{"$f":"C140*1","v":0},null,null,null,null,null,null,null,null,null,null,null,null,null,null,null,null,null,0,0,0,20.508476118548696,41.016952237097392,2.9297823026498138E-2,5.8595646052996275E-2]
[139,{"$f":"VLOOKUP(A141,#REF!,5,FALSE)","v":{"$error":"#REF!"}},{"$f":"IFERROR(VLOOKUP(A141,#REF!,7,FALSE),0)","v":0},0,0,null,null,null,{"$f":"C141*1.80555555555556","v":0},{"$f":"C141*0.805555555555556","v":0},null,null,null,null,null,null,null,null,null,null,null,null,null,null,null,null,null,null,null,null,null,null,0,0,0,7.6499871235856389,15.299974247171278,7.6499871235856387E-2,0.15299974247171277]
[140,{"$f":"VLOOKUP(A142,#REF!,5,FALSE)","v":{"$error":"#REF!"}},{"$f":"IFERROR(VLOOKUP(A142,#REF!,7,FALSE),0)","v":0},0,0,null,null,null,null,null,null,null,null,null,null,null,null,{"$f":"C142*0.4994","v":0},null,null,null,null,null,null,null,null,null,null,null,null,null,null,0,0,0,0.73156664097165847,1.4631332819433169,1.4631332819433169E-2,2.9262665638866339E-2]
[141,{"$f":"VLOOKUP(A143,#REF!,5,FALSE)","v":{"$error":"#REF!"}},{"$f":"IFERROR(VLOOKUP(A143,#REF!,7,FALSE),0)","v":0},0,0,null,null,null,null,null,null,null,null,null,null,null,null,{"$f":"C143*0.166466666666667","v":0},null,null,null,null,null,null,null,null,null,null,null,null,null,null,0,0,0,0.48771109398110662,0.97542218796221325,4.8771109398110662E-3,9.7542218796221325E-3]
[142,{"$f":"VLOOKUP(A144,#REF!,5,FALSE)","v":{"$error":"#REF!"}},{"$f":"IFERROR(VLOOKUP(A144,#REF!,7,FALSE),0)","v":0},0,0,null,null,null,null,null,null,null,null,null,null,null,null,{"$f":"C144*0.4994","v":0},null,null,null,null,null,null,null,null,null,null,null,null,null,null,0,0,0,0.29262665638866336,0.58525331277732673,1.4631332819433168E-2,2.9262665638866335E-2]
[143,{"$f":"VLOOKUP(A145,#REF!,5,FALSE)","v":{"$error":"#REF!"}},{"$f":"IFERROR(VLOOKUP(A145,#REF!,7,FALSE),0)","v":0},0,0,null,null,null,null,null,null,null,null,null,null,{"$f":"C145*0.5","v":0},null,{"$f":"C145*0.5","v":0},null,null,null,null,null,null,null,null,null,null,null,null,null,null,0,0,0,0,0,0,0]
[144,{"$f":"VLOOKUP(A146,#REF!,5,FALSE)","v":{"$error":"#REF!"}},{"$f":"IFERROR(VLOOKUP(A146,#REF!,7,FALSE),0)","v":0},0,0,null,null,null,{"$f":"C146*0.3628","v":0},null,null,null,null,null,null,null,null,{"$f":"C146*0.3628","v":0},null,null,null,null,null,null,null,null,null,null,null,null,null,null,0,0,0,53.146250970067619,106.29250194013524,2.1258500388027048E-2,4.2517000776054095E-2]
[145,{"$f":"VLOOKUP(A147,#REF!,5,FALSE)","v":{"$error":"#REF!"}},{"$f":"IFERROR(VLOOKUP(A147,#REF!,7,FALSE),0)","v":0},0,0,null,null,null,{"$f":"C147*0.3628","v":0},null,null,null,null,null,null,null,null,{"$f":"C147*0.3628","v":0},null,null,null,null,null,null,null,null,null,null,null,null,null,null,0,0,0,48.894550892462213,97.789101784924426,2.1258500388027048E-2,4.2517000776054095E-2]
[146,{"$f":"VLOOKUP(A148,#REF!,5,FALSE)","v":{"$error":"#REF!"}},{"$f":"IFERROR(VLOOKUP(A148,#REF!,7,FALSE),0)","v":0},0,0,null,null,null,{"$f":"C148*0.3628","v":0},null,null,null,null,null,null,null,null,{"$f":"C148*0.3628","v":0},null,null,null,null,null,null,null,null,null,null,null,null,null,null,0,0,0,6.3775501164081145,12.755100232816229,2.1258500388027048E-2,4.2517000776054095E-2]
[147,{"$f":"VLOOKUP(A149,#REF!,5,FALSE)","v":{"$error":"#REF!"}},{"$f":"IFERROR(VLOOKUP(A149,#REF!,7,FALSE),0)","v":0},0,0,null,null,null,null,null,null,null,null,null,{"$f":"C149*0.3","v":0},null,null,null,null,null,null,null,null,null,null,null,null,null,null,null,null,null,0,0,0,0.87893469079494413,1.7578693815898883,8.7893469079494413E-3,1.7578693815898883E-2]
[148,{"$f":"VLOOKUP(A150,#REF!,5,FALSE)","v":{"$error":"#REF!"}},{"$f":"IFERROR(VLOOKUP(A150,#REF!,7,FALSE),0)","v":0},0,0,null,null,null,{"$f":"C150*0.3","v":0},null,null,null,null,{"$f":"C150*0.3","v":0},null,null,null,null,null,null,null,null,null,null,null,null,null,null,null,null,null,null,0,0,0,1.7578693815898883,3.5157387631797765,1.7578693815898883E-2,3.5157387631797765E-2]
[149,{"$f":"VLOOKUP(A151,#REF!,5,FALSE)","v":{"$error":"#REF!"}},{"$f":"IFERROR(VLOOKUP(A151,#REF!,7,FALSE),0)","v":0},0,0,null,null,null,null,null,null,null,null,null,{"$f":"C151*1.2","v":0},null,null,{"$f":"C151*1.2","v":0},null,null,null,null,null,null,null,null,null,null,null,null,null,null,0,0,0,7.031477526359553,14.062955052719106,7.031477526359553E-2,0.14062955052719106]
[150,{"$f":"VLOOKUP(A152,#REF!,5,FALSE)","v":{"$error":"#REF!"}},{"$f":"IFERROR(VLOOKUP(A152,#REF!,7,FALSE),0)","v":0},0,0,null,null,null,null,null,null,null,null,null,null,null,null,{"$f":"C152*0.1468","v":0},null,null,null,null,null,null,null,null,null,null,null,null,null,null,0,0,0,14.19303738695676,28.386074773913521,4.3009204202899276E-3,8.6018408405798552E-3]
[151,{"$f":"VLOOKUP(A153,#REF!,5,FALSE)","v":{"$error":"#REF!"}},{"$f":"IFERROR(VLOOKUP(A153,#REF!,7,FALSE),0)","v":0},0,0,null,null,{"$f":"C153*0.1","v":0},{"$f":"C153*0.1","v":0},null,null,null,null,null,null,null,null,null,null,null,null,null,null,null,null,null,null,null,null,null,null,null,0,0,0,2.343825842119851,4.687651684239702,5.8595646052996275E-3,1.1719129210599255E-2]
[152,{"$f":"VLOOKUP(A154,#REF!,5,FALSE)","v":{"$error":"#REF!"}},{"$f":"IFERROR(VLOOKUP(A154,#REF!,7,FALSE),0)","v":0},0,0,null,null,null,null,null,null,null,null,null,null,null,null,null,null,null,{"$f":"C154*0.5","v":0},null,null,null,null,null,null,null,null,null,null,null,0,0,0,0,0,0,0]
[153,{"$f":"VLOOKUP(A155,#REF!,5,FALSE)","v":{"$error":"#REF!"}},{"$f":"IFERROR(VLOOKUP(A155,#REF!,7,FALSE),0)","v":0},0,0,null,null,null,null,null,null,null,null,null,null,null,null,null,null,null,{"$f":"C155*0.5","v":0},null,null,null,null,null,null,null,null,null,null,null,0,0,0,0,0,0,0]
[154,{"$f":"VLOOKUP(A156,#REF!,5,FALSE)","v":{"$error":"#REF!"}},{"$f":"IFERROR(VLOOKUP(A156,#REF!,7,FALSE),0)","v":0},0,0,null,null,null,{"$f":"C156*0.4","v":0},null,null,null,null,null,null,null,null,null,null,null,{"$f":"C156*2","v":0},null,null,null,null,null,null,null,null,null,null,null,0,0,0,9.1409207842674185,18.281841568534837,7.031477526359553E-2,0.14062955052719106]
[155,{"$f":"VLOOKUP(A157,#REF!,5,FALSE)","v":{"$error":"#REF!"}},{"$f":"IFERROR(VLOOKUP(A157,#REF!,7,FALSE),0)","v":0},0,0,null,null,null,{"$f":"C157*0.45","v":0},null,null,null,null,null,null,null,null,null,null,null,{"$f":"C157*0.45","v":0},null,null,null,null,null,null,null,null,null,null,null,0,0,0,1.3184020361924162,2.6368040723848325,2.6368040723848324E-2,5.2736081447696648E-2]
[156,{"$f":"VLOOKUP(A158,#REF!,5,FALSE)","v":{"$error":"#REF!"}},{"$f":"IFERROR(VLOOKUP(A158,#REF!,7,FALSE),0)","v":0},0,0,null,null,null,null,null,null,null,null,null,null,null,null,null,null,null,{"$f":"C158*0.6","v":0},null,null,null,null,null,null,null,null,null,null,null,0,0,0,0,0,0,0]
[157,{"$f":"VLOOKUP(A159,#REF!,5,FALSE)","v":{"$error":"#REF!"}},{"$f":"IFERROR(VLOOKUP(A159,#REF!,7,FALSE),0)","v":0},0,0,null,null,null,{"$f":"C159*0.45","v":0},null,null,null,null,null,null,null,null,null,null,null,{"$f":"C159*0.45","v":0},null,null,null,null,null,null,null,null,null,null,null,0,0,0,0,0,0,0]
[158,{"$f":"VLOOKUP(A160,#REF!,5,FALSE)","v":{"$error":"#REF!"}},{"$f":"IFERROR(VLOOKUP(A160,#REF!,7,FALSE),0)","v":0},0,0,null,null,null,{"$f":"C160*0.2","v":0},null,null,null,null,null,null,null,null,null,null,null,{"$f":"C160*1","v":0},null,null,null,null,null,null,null,null,null,null,null,0,0,0,0,0,0,0]
[159,{"$f":"VLOOKUP(A161,#REF!,5,FALSE)","v":{"$error":"#REF!"}},{"$f":"IFERROR(VLOOKUP(A161,#REF!,7,FALSE),0)","v":0},0,0,null,null,null,{"$f":"C161*1.1","v":0},null,null,null,null,null,null,null,null,null,null,null,{"$f":"C161*1.1","v":0},null,null,null,null,null,null,null,null,null,null,null,0,0,0,6.4455210658295909,12.891042131659182,6.4455210658295903E-2,0.12891042131659181]
[160,{"$f":"VLOOKUP(A162,#REF!,5,FALSE)","v":{"$error":"#REF!"}},{"$f":"IFERROR(VLOOKUP(A162,#REF!,7,FALSE),0)","v":0},0,0,null,null,null,{"$f":"C162*0.3","v":0},null,null,null,null,null,null,null,null,null,null,null,{"$f":"C162*0.75","v":0},null,null,null,null,null,null,null,null,null,null,null,0,0,0,0,0,0,0]
[161,{"$f":"VLOOKUP(A163,#REF!,5,FALSE)","v":{"$error":"#REF!"}},{"$f":"IFERROR(VLOOKUP(A163,#REF!,7,FALSE),0)","v":0},0,0,null,null,null,null,null,null,null,null,null,{"$f":"C163*0.333333333333333","v":0},null,null,null,null,null,null,null,null,null,null,null,null,null,null,null,null,null,0,0,0,11.719129210599244,23.438258421198487,9.7659410088327021E-3,1.9531882017665404E-2]
[165,{"$f":"VLOOKUP(A164,#REF!,5,FALSE)","v":{"$error":"#REF!"}},{"$f":"IFERROR(VLOOKUP(A164,#REF!,7,FALSE),0)","v":0},0,0,null,null,null,null,null,null,null,null,null,{"$f":"C164*0.333333333333333","v":0},null,null,null,null,null,null,null,null,null,null,null,null,null,null,null,null,null,0,0,0,0.78127528070661612,1.5625505614132322,9.7659410088327021E-3,1.9531882017665404E-2]
[166,{"$f":"VLOOKUP(A165,#REF!,5,FALSE)","v":{"$error":"#REF!"}},{"$f":"IFERROR(VLOOKUP(A165,#REF!,7,FALSE),0)","v":0},0,0,null,null,null,null,null,null,null,{"$f":"C165*0.2","v":0},null,null,null,null,null,null,null,null,null,null,null,null,null,null,null,null,null,null,null,0,0,0,8.7893469079494413E-2,0.17578693815898883,5.8595646052996275E-3,1.1719129210599255E-2]
[167,{"$f":"VLOOKUP(A166,#REF!,5,FALSE)","v":{"$error":"#REF!"}},{"$f":"IFERROR(VLOOKUP(A166,#REF!,7,FALSE),0)","v":0},0,0,null,null,null,null,null,null,null,{"$f":"C166*0.445","v":0},null,null,null,null,null,null,null,null,null,null,null,{"$f":"C166*0.445","v":0},null,null,null,null,null,null,null,0,0,0,5.6061384361204185,11.212276872240837,2.607506249358334E-2,5.2150124987166681E-2]
[168,{"$f":"VLOOKUP(A167,#REF!,5,FALSE)","v":{"$error":"#REF!"}},{"$f":"IFERROR(VLOOKUP(A167,#REF!,7,FALSE),0)","v":0},0,0,null,null,null,null,null,null,null,{"$f":"C167*0.165","v":0},null,null,null,null,null,null,null,null,null,null,null,{"$f":"C167*0.165","v":0},null,null,null,null,null,null,null,0,0,0,0.77346252789955083,1.5469250557991017,9.6682815987443847E-3,1.9336563197488769E-2]
[169,{"$f":"VLOOKUP(A168,#REF!,5,FALSE)","v":{"$error":"#REF!"}},{"$f":"IFERROR(VLOOKUP(A168,#REF!,7,FALSE),0)","v":0},0,0,null,null,null,null,null,null,null,{"$f":"C168*0.21","v":0},null,null,null,null,null,null,null,null,null,null,null,{"$f":"C168*0.21","v":0},null,null,null,null,null,null,null,0,0,0,0.98440685369033742,1.9688137073806748,1.2305085671129218E-2,2.4610171342258437E-2]
[170,{"$f":"VLOOKUP(A169,#REF!,5,FALSE)","v":{"$error":"#REF!"}},{"$f":"IFERROR(VLOOKUP(A169,#REF!,7,FALSE),0)","v":0},0,0,null,null,null,null,null,null,null,{"$f":"C169*0.325","v":0},null,null,null,null,null,null,null,null,null,null,null,{"$f":"C169*0.325","v":0},null,null,null,null,null,null,null,0,0,0,1.9043584967223788,3.8087169934447576,1.9043584967223789E-2,3.8087169934447579E-2]
[171,{"$f":"VLOOKUP(A170,#REF!,5,FALSE)","v":{"$error":"#REF!"}},{"$f":"IFERROR(VLOOKUP(A170,#REF!,7,FALSE),0)","v":0},0,0,null,null,null,null,null,null,null,{"$f":"C170*0.016","v":0},null,null,null,null,null,null,null,null,null,null,null,{"$f":"C170*0.016","v":0},null,null,null,null,null,null,null,0,0,0,0.18750606736958808,0.37501213473917616,9.3753033684794039E-4,1.8750606736958808E-3]
[172,{"$f":"VLOOKUP(A171,#REF!,5,FALSE)","v":{"$error":"#REF!"}},{"$f":"IFERROR(VLOOKUP(A171,#REF!,7,FALSE),0)","v":0},0,0,null,null,null,null,null,null,null,{"$f":"C171*0.02","v":0},null,null,null,null,null,null,null,null,null,null,null,{"$f":"C171*0.02","v":0},null,null,null,null,null,null,null,0,0,0,0.11719129210599255,0.2343825842119851,1.1719129210599256E-3,2.3438258421198512E-3]
[173,{"$f":"VLOOKUP(A172,#REF!,5,FALSE)","v":{"$error":"#REF!"}},{"$f":"IFERROR(VLOOKUP(A172,#REF!,7,FALSE),0)","v":0},0,0,null,null,null,null,null,null,null,{"$f":"C172*0.024","v":0},null,null,null,null,null,null,null,null,null,null,null,{"$f":"C172*0.024","v":0},null,null,null,null,null,null,null,0,0,0,0.14062955052719106,0.28125910105438212,1.4062955052719106E-3,2.8125910105438212E-3]
[174,{"$f":"VLOOKUP(A173,#REF!,5,FALSE)","v":{"$error":"#REF!"}},{"$f":"IFERROR(VLOOKUP(A173,#REF!,7,FALSE),0)","v":0},0,0,null,null,null,null,null,null,null,{"$f":"C173*0.029","v":0},null,null,null,null,null,null,null,null,null,null,null,{"$f":"C173*0.029","v":0},null,null,null,null,null,null,null,0,0,0,0.16992737355368923,0.33985474710737845,1.6992737355368923E-3,3.3985474710737846E-3]
[175,{"$f":"VLOOKUP(A174,#REF!,5,FALSE)","v":{"$error":"#REF!"}},{"$f":"IFERROR(VLOOKUP(A174,#REF!,7,FALSE),0)","v":0},0,0,null,null,null,null,null,null,null,{"$f":"C174*0.3","v":0},null,null,null,null,null,null,null,null,null,null,null,{"$f":"C174*0.23","v":0},null,null,null,null,null,null,null,0,0,0,1.242227696323521,2.4844553926470421,1.5527846204044012E-2,3.1055692408088025E-2]
[176,{"$f":"VLOOKUP(A175,#REF!,5,FALSE)","v":{"$error":"#REF!"}},{"$f":"IFERROR(VLOOKUP(A175,#REF!,7,FALSE),0)","v":0},0,0,null,null,null,null,null,null,null,{"$f":"C175*0.38","v":0},null,null,null,null,null,null,null,null,null,null,null,{"$f":"C175*0.38","v":0},null,null,null,null,null,null,null,0,0,0,1.3359807300083151,2.6719614600166302,2.2266345500138583E-2,4.4532691000277166E-2]
[177,{"$f":"VLOOKUP(A176,#REF!,5,FALSE)","v":{"$error":"#REF!"}},{"$f":"IFERROR(VLOOKUP(A176,#REF!,7,FALSE),0)","v":0},0,0,null,null,null,null,null,null,null,{"$f":"C176*0.38","v":0},null,null,null,null,null,null,null,null,null,null,null,{"$f":"C176*0.38","v":0},null,null,null,null,null,null,null,0,0,0,1.3359807300083151,2.6719614600166302,2.2266345500138583E-2,4.4532691000277166E-2]
[178,{"$f":"VLOOKUP(A177,#REF!,5,FALSE)","v":{"$error":"#REF!"}},{"$f":"IFERROR(VLOOKUP(A177,#REF!,7,FALSE),0)","v":0},0,0,null,null,null,{"$f":"C177*0.15","v":0},null,null,null,null,null,null,null,null,null,null,null,null,null,null,null,null,null,null,null,null,null,null,null,0,0,0,0.26368040723848324,0.52736081447696648,4.3946734539747206E-3,8.7893469079494413E-3]
[179,{"$f":"VLOOKUP(A178,#REF!,5,FALSE)","v":{"$error":"#REF!"}},{"$f":"IFERROR(VLOOKUP(A178,#REF!,7,FALSE),0)","v":0},0,0,null,null,null,{"$f":"C178*0.15","v":0},null,null,null,null,null,null,null,null,null,null,null,null,null,null,null,null,null,null,null,null,null,null,null,0,0,0,0.26368040723848324,0.52736081447696648,4.3946734539747206E-3,8.7893469079494413E-3]
[180,{"$f":"VLOOKUP(A179,#REF!,5,FALSE)","v":{"$error":"#REF!"}},{"$f":"IFERROR(VLOOKUP(A179,#REF!,7,FALSE),0)","v":0},0,0,null,null,null,null,null,null,null,{"$f":"C179*0.07","v":0},null,null,null,null,null,null,null,null,null,null,null,{"$f":"C179*0.07","v":0},null,null,null,null,null,null,null,0,0,0,0.24610171342258436,0.49220342684516871,4.1016952237097389E-3,8.2033904474194778E-3]
[181,{"$f":"VLOOKUP(A180,#REF!,5,FALSE)","v":{"$error":"#REF!"}},{"$f":"IFERROR(VLOOKUP(A180,#REF!,7,FALSE),0)","v":0},0,0,null,null,null,{"$f":"C180*0.1","v":0},null,null,null,null,null,null,null,null,null,null,null,null,null,null,null,null,null,null,null,null,null,null,null,0,0,0,0.17578693815898883,0.35157387631797765,2.9297823026498138E-3,5.8595646052996275E-3]
[182,{"$f":"VLOOKUP(A181,#REF!,5,FALSE)","v":{"$error":"#REF!"}},{"$f":"IFERROR(VLOOKUP(A181,#REF!,7,FALSE),0)","v":0},0,0,null,null,null,{"$f":"C181*0.44","v":0},null,null,null,{"$f":"C181*0.78","v":0},null,null,null,null,null,null,null,null,null,null,null,null,null,null,null,null,null,null,null,0,0,0,2.1446006455396636,4.2892012910793271,3.5743344092327725E-2,7.148668818465545E-2]
[183,{"$f":"VLOOKUP(A182,#REF!,5,FALSE)","v":{"$error":"#REF!"}},{"$f":"IFERROR(VLOOKUP(A182,#REF!,7,FALSE),0)","v":0},0,0,null,null,null,{"$f":"C182*0.44","v":0},null,null,null,{"$f":"C182*0.78","v":0},null,null,null,null,null,null,null,null,null,null,null,null,null,null,null,null,null,null,null,0,0,0,7.148668818465545E-2,0.1429733763693109,3.5743344092327725E-2,7.148668818465545E-2]
[184,{"$f":"VLOOKUP(A183,#REF!,5,FALSE)","v":{"$error":"#REF!"}},{"$f":"IFERROR(VLOOKUP(A183,#REF!,7,FALSE),0)","v":0},0,0,null,null,null,{"$f":"C183*0.27","v":0},null,null,null,null,null,null,null,{"$f":"C183*0.85","v":0},null,null,null,null,null,null,null,null,null,null,null,null,null,null,null,0,0,0,1.9688137073806748,3.9376274147613497,3.2813561789677911E-2,6.5627123579355823E-2]
[185,{"$f":"VLOOKUP(A184,#REF!,5,FALSE)","v":{"$error":"#REF!"}},{"$f":"IFERROR(VLOOKUP(A184,#REF!,7,FALSE),0)","v":0},0,0,null,null,null,{"$f":"C184*0.15","v":0},null,null,null,null,null,null,null,{"$f":"C184*0.48","v":0},null,null,null,null,null,null,null,null,null,null,null,null,null,null,null,0,0,0,0.36915257013387653,0.73830514026775307,1.8457628506693826E-2,3.6915257013387652E-2]
[186,{"$f":"VLOOKUP(A185,#REF!,5,FALSE)","v":{"$error":"#REF!"}},{"$f":"IFERROR(VLOOKUP(A185,#REF!,7,FALSE),0)","v":0},0,0,null,null,null,{"$f":"C185*0.27","v":0},null,null,null,null,null,null,null,{"$f":"C185*0.85","v":0},null,null,null,null,null,null,null,null,null,null,null,null,null,null,null,0,0,0,0.32813561789677914,0.65627123579355828,3.2813561789677911E-2,6.5627123579355823E-2]
[187,{"$f":"VLOOKUP(A186,#REF!,5,FALSE)","v":{"$error":"#REF!"}},{"$f":"IFERROR(VLOOKUP(A186,#REF!,7,FALSE),0)","v":0},0,0,null,null,null,{"$f":"C186*0.19","v":0},null,null,null,{"$f":"C186*0.39","v":0},null,null,null,null,null,null,null,null,null,null,null,null,null,null,null,null,null,null,null,0,0,0,1.0195642413221353,2.0391284826442706,1.6992737355368923E-2,3.3985474710737845E-2]
[188,{"$f":"VLOOKUP(A187,#REF!,5,FALSE)","v":{"$error":"#REF!"}},{"$f":"IFERROR(VLOOKUP(A187,#REF!,7,FALSE),0)","v":0},0,0,null,null,null,null,null,null,null,{"$f":"C187*2.2","v":0},null,null,null,null,null,null,null,null,null,null,null,{"$f":"C187*2.45","v":0},null,null,null,null,null,null,null,0,0,0,8.1740926243929799,16.34818524878596,0.13623487707321633,0.27246975414643265]
[189,{"$f":"VLOOKUP(A188,#REF!,5,FALSE)","v":{"$error":"#REF!"}},{"$f":"IFERROR(VLOOKUP(A188,#REF!,7,FALSE),0)","v":0},0,0,null,null,null,{"$f":"C188*0.44","v":0},null,null,null,{"$f":"C188*0.78","v":0},null,null,null,null,null,null,null,null,null,null,null,null,null,null,null,null,null,null,null,0,0,0,2.1446006455396636,4.2892012910793271,3.5743344092327725E-2,7.148668818465545E-2]
[190,{"$f":"VLOOKUP(A189,#REF!,5,FALSE)","v":{"$error":"#REF!"}},{"$f":"IFERROR(VLOOKUP(A189,#REF!,7,FALSE),0)","v":0},0,0,null,null,null,{"$f":"C189*0.19","v":0},null,null,null,{"$f":"C189*0.39","v":0},null,null,null,null,null,null,null,null,null,null,null,null,null,null,null,null,null,null,null,0,0,0,0.16992737355368923,0.33985474710737845,1.6992737355368923E-2,3.3985474710737845E-2]
[191,{"$f":"VLOOKUP(A190,#REF!,5,FALSE)","v":{"$error":"#REF!"}},{"$f":"IFERROR(VLOOKUP(A190,#REF!,7,FALSE),0)","v":0},0,0,null,null,null,null,null,null,null,{"$f":"C190*2.2","v":0},null,null,null,null,null,null,null,null,null,null,null,{"$f":"C190*2.45","v":0},null,null,null,null,null,null,null,0,0,0,2.7246975414643266,5.4493950829286533,0.13623487707321633,0.27246975414643265]
[192,{"$f":"VLOOKUP(A191,#REF!,5,FALSE)","v":{"$error":"#REF!"}},{"$f":"IFERROR(VLOOKUP(A191,#REF!,7,FALSE),0)","v":0},0,0,null,null,null,{"$f":"C191*0.34","v":0},null,null,null,{"$f":"C191*0.82","v":0},null,null,null,null,null,null,null,null,null,null,null,null,null,null,null,null,null,null,null,0,0,0,0.1699273735536892,0.3398547471073784,3.3985474710737838E-2,6.7970949421475677E-2]
[193,{"$f":"VLOOKUP(A192,#REF!,5,FALSE)","v":{"$error":"#REF!"}},{"$f":"IFERROR(VLOOKUP(A192,#REF!,7,FALSE),0)","v":0},0,0,null,null,null,null,null,null,null,{"$f":"C192*0.08","v":0},null,null,null,null,null,null,null,null,null,null,null,null,null,null,null,null,null,null,null,0,0,0,9.375303368479404E-2,0.18750606736958808,2.3438258421198512E-3,4.6876516842397024E-3]
[194,{"$f":"VLOOKUP(A193,#REF!,5,FALSE)","v":{"$error":"#REF!"}},{"$f":"IFERROR(VLOOKUP(A193,#REF!,7,FALSE),0)","v":0},0,0,null,null,null,null,null,null,null,{"$f":"C193*0.08","v":0},null,null,null,null,null,null,null,null,null,null,null,null,null,null,null,null,null,null,null,0,0,0,9.375303368479404E-2,0.18750606736958808,2.3438258421198512E-3,4.6876516842397024E-3]
[195,{"$f":"VLOOKUP(A194,#REF!,5,FALSE)","v":{"$error":"#REF!"}},{"$f":"IFERROR(VLOOKUP(A194,#REF!,7,FALSE),0)","v":0},0,0,null,null,null,null,null,null,null,{"$f":"C194*0.5","v":0},null,null,null,null,null,null,null,null,null,null,null,{"$f":"C194*0.5","v":0},null,null,null,null,null,null,null,0,0,0,1.7578693815898883,3.5157387631797765,2.9297823026498138E-2,5.8595646052996275E-2]
[196,{"$f":"VLOOKUP(A195,#REF!,5,FALSE)","v":{"$error":"#REF!"}},{"$f":"IFERROR(VLOOKUP(A195,#REF!,7,FALSE),0)","v":0},0,0,null,null,null,null,null,null,null,{"$f":"C195*0.1621","v":0},null,null,null,null,null,null,null,null,null,null,null,{"$f":"C195*0.0227","v":0},null,null,null,null,null,null,null,0,0,0,1.082847539059371,2.1656950781187421,5.4142376952968554E-3,1.0828475390593711E-2]
[197,{"$f":"VLOOKUP(A196,#REF!,5,FALSE)","v":{"$error":"#REF!"}},{"$f":"IFERROR(VLOOKUP(A196,#REF!,7,FALSE),0)","v":0},0,0,null,null,null,{"$f":"C196*0.05","v":0},null,null,null,{"$f":"C196*0.15","v":0},null,null,null,null,null,null,null,null,null,null,null,null,null,null,null,null,null,null,null,{"$f":"SUM(H196,J196,K196,L196,M196,N196,Q196,R196,T196,U196,W196,X196,Z196,AA196,AC196,AD196)","v":0},{"$f":"SUM(O196,P196,S196,V196,Y196,AB196,AE196)+I196","v":0},{"$f":"AG196+AH196","v":0},0.35157387631797765,0.7031477526359553,5.8595646052996275E-3,1.1719129210599255E-2]
[198,{"$f":"VLOOKUP(A197,#REF!,5,FALSE)","v":{"$error":"#REF!"}},{"$f":"IFERROR(VLOOKUP(A197,#REF!,7,FALSE),0)","v":0},0,0,null,null,null,{"$f":"C197*0.09","v":0},null,null,null,{"$f":"C197*0.27","v":0},null,null,null,null,null,null,null,null,null,null,null,null,null,null,null,null,null,null,null,0,0,0,0.21094432579078659,0.42188865158157318,1.054721628953933E-2,2.109443257907866E-2]
[199,{"$f":"VLOOKUP(A198,#REF!,5,FALSE)","v":{"$error":"#REF!"}},{"$f":"IFERROR(VLOOKUP(A198,#REF!,7,FALSE),0)","v":0},0,0,null,null,null,{"$f":"C198*0.04","v":0},null,null,null,{"$f":"C198*0.12","v":0},null,null,null,null,null,null,null,null,null,null,null,null,null,null,null,null,null,null,null,0,0,0,0.28125910105438212,0.56251820210876424,4.6876516842397024E-3,9.3753033684794047E-3]
[200,{"$f":"VLOOKUP(A199,#REF!,5,FALSE)","v":{"$error":"#REF!"}},{"$f":"IFERROR(VLOOKUP(A199,#REF!,7,FALSE),0)","v":0},0,0,null,null,null,{"$f":"C199*0.09","v":0},null,null,null,{"$f":"C199*0.27","v":0},null,null,null,null,null,null,null,null,null,null,null,null,null,null,null,null,null,null,null,0,0,0,5.2736081447696648E-2,0.1054721628953933,1.054721628953933E-2,2.109443257907866E-2]
[201,{"$f":"VLOOKUP(A200,#REF!,5,FALSE)","v":{"$error":"#REF!"}},{"$f":"IFERROR(VLOOKUP(A200,#REF!,7,FALSE),0)","v":0},{"$f":"IFERROR(AL200*C200,0)","v":0},{"$f":"IFERROR(AM200*C200,0)","v":0},null,null,null,{"$f":"C200*0.05","v":0},null,null,null,{"$f":"C200*0.17","v":0},null,null,null,null,null,null,null,null,null,null,null,null,null,null,null,null,null,null,null,0,0,0,0.12891042131659181,0.25782084263318361,6.4455210658295901E-3,1.289104213165918E-2]
[202,{"$f":"VLOOKUP(A201,#REF!,5,FALSE)","v":{"$error":"#REF!"}},{"$f":"IFERROR(VLOOKUP(A201,#REF!,7,FALSE),0)","v":0},0,0,null,null,null,{"$f":"C201*0.05","v":0},null,null,null,{"$f":"C201*0.17","v":0},null,null,null,null,null,null,null,null,null,null,null,null,null,null,null,null,null,null,null,0,0,0,0.12891042131659181,0.25782084263318361,6.4455210658295901E-3,1.289104213165918E-2]
[203,{"$f":"VLOOKUP(A202,#REF!,5,FALSE)","v":{"$error":"#REF!"}},{"$f":"IFERROR(VLOOKUP(A202,#REF!,7,FALSE),0)","v":0},0,0,null,null,null,{"$f":"C202*0.03","v":0},null,null,null,{"$f":"C202*0.1","v":0},null,null,null,null,null,null,null,null,null,null,null,null,null,null,null,null,null,null,null,0,0,0,3.8087169934447579E-2,7.6174339868895158E-2,3.8087169934447581E-3,7.6174339868895161E-3]
[204,{"$f":"VLOOKUP(A203,#REF!,5,FALSE)","v":{"$error":"#REF!"}},{"$f":"IFERROR(VLOOKUP(A203,#REF!,7,FALSE),0)","v":0},0,0,null,null,null,{"$f":"C203*0.03","v":0},null,null,null,{"$f":"C203*0.1","v":0},null,null,null,null,null,null,null,null,null,null,null,null,null,null,null,null,null,null,null,0,0,0,0.22852301960668547,0.45704603921337095,3.8087169934447581E-3,7.6174339868895161E-3]
[205,{"$f":"VLOOKUP(A204,#REF!,5,FALSE)","v":{"$error":"#REF!"}},{"$f":"IFERROR(VLOOKUP(A204,#REF!,7,FALSE),0)","v":0},0,0,null,null,null,{"$f":"C204*0.03","v":0},null,null,null,{"$f":"C204*0.1","v":0},null,null,null,null,null,null,null,null,null,null,null,null,null,null,null,null,null,null,null,0,0,0,0.22852301960668547,0.45704603921337095,3.8087169934447581E-3,7.6174339868895161E-3]
[206,{"$f":"VLOOKUP(A205,#REF!,5,FALSE)","v":{"$error":"#REF!"}},{"$f":"IFERROR(VLOOKUP(A205,#REF!,7,FALSE),0)","v":0},0,0,null,null,null,{"$f":"C205*0.03","v":0},null,null,null,{"$f":"C205*0.1","v":0},null,null,null,null,null,null,null,null,null,null,null,null,null,null,null,null,null,null,null,0,0,0,0.22852301960668547,0.45704603921337095,3.8087169934447581E-3,7.6174339868895161E-3]
[207,{"$f":"VLOOKUP(A206,#REF!,5,FALSE)","v":{"$error":"#REF!"}},{"$f":"IFERROR(VLOOKUP(A206,#REF!,7,FALSE),0)","v":0},0,0,null,null,null,{"$f":"C206*0.05","v":0},null,null,null,{"$f":"C206*0.17","v":0},null,null,null,null,null,null,null,null,null,null,null,null,null,null,null,null,null,null,null,0,0,0,0.12891042131659181,0.25782084263318361,6.4455210658295901E-3,1.289104213165918E-2]
[208,{"$f":"VLOOKUP(A207,#REF!,5,FALSE)","v":{"$error":"#REF!"}},{"$f":"IFERROR(VLOOKUP(A207,#REF!,7,FALSE),0)","v":0},0,0,null,null,null,{"$f":"C207*0.05","v":0},null,null,null,{"$f":"C207*0.15","v":0},null,null,null,null,null,null,null,null,null,null,null,null,null,null,null,null,null,null,null,0,0,0,2.9297823026498138E-2,5.8595646052996275E-2,5.8595646052996275E-3,1.1719129210599255E-2]
[209,{"$f":"VLOOKUP(A208,#REF!,5,FALSE)","v":{"$error":"#REF!"}},{"$f":"IFERROR(VLOOKUP(A208,#REF!,7,FALSE),0)","v":0},0,0,null,null,null,null,null,null,null,{"$f":"C208*0.85","v":0},null,null,null,null,null,null,null,null,null,null,null,null,null,null,{"$f":"C208*0.7","v":0},null,null,null,null,0,0,0,0.45411625691072111,0.90823251382144221,4.5411625691072113E-2,9.0823251382144227E-2]
[210,{"$f":"VLOOKUP(A209,#REF!,5,FALSE)","v":{"$error":"#REF!"}},{"$f":"IFERROR(VLOOKUP(A209,#REF!,7,FALSE),0)","v":0},0,0,null,null,null,null,null,null,null,{"$f":"C209*0.85","v":0},null,null,null,null,null,null,null,null,null,null,null,null,null,null,{"$f":"C209*0.7","v":0},null,null,null,null,0,0,0,2.7246975414643266,5.4493950829286533,4.5411625691072113E-2,9.0823251382144227E-2]
[211,{"$f":"VLOOKUP(A210,#REF!,5,FALSE)","v":{"$error":"#REF!"}},{"$f":"IFERROR(VLOOKUP(A210,#REF!,7,FALSE),0)","v":0},0,0,null,null,null,null,null,null,null,{"$f":"C210*0.85","v":0},null,null,null,null,null,null,null,null,null,null,null,null,null,null,{"$f":"C210*0.7","v":0},null,null,null,null,0,0,0,0.45411625691072111,0.90823251382144221,4.5411625691072113E-2,9.0823251382144227E-2]
[212,{"$f":"VLOOKUP(A211,#REF!,5,FALSE)","v":{"$error":"#REF!"}},{"$f":"IFERROR(VLOOKUP(A211,#REF!,7,FALSE),0)","v":0},0,0,null,null,null,null,null,null,null,{"$f":"C211*0.85","v":0},null,null,null,null,null,null,null,null,null,null,null,null,null,null,{"$f":"C211*0.7","v":0},null,null,null,null,0,0,0,2.7246975414643266,5.4493950829286533,4.5411625691072113E-2,9.0823251382144227E-2]
[213,{"$f":"VLOOKUP(A212,#REF!,5,FALSE)","v":{"$error":"#REF!"}},{"$f":"IFERROR(VLOOKUP(A212,#REF!,7,FALSE),0)","v":0},0,0,null,null,null,{"$f":"C212*0.05","v":0},null,null,null,{"$f":"C212*0.17","v":0},null,null,null,null,null,null,null,null,null,null,null,null,null,null,null,null,null,null,null,0,0,0,0.38673126394977542,0.77346252789955083,6.4455210658295901E-3,1.289104213165918E-2]
[214,{"$f":"VLOOKUP(A213,#REF!,5,FALSE)","v":{"$error":"#REF!"}},{"$f":"IFERROR(VLOOKUP(A213,#REF!,7,FALSE),0)","v":0},0,0,null,null,null,{"$f":"C213*0.05","v":0},null,null,null,{"$f":"C213*0.17","v":0},null,null,null,null,null,null,null,null,null,null,null,null,null,null,null,null,null,null,null,0,0,0,3.2227605329147951E-2,6.4455210658295903E-2,6.4455210658295901E-3,1.289104213165918E-2]
[215,{"$f":"VLOOKUP(A214,#REF!,5,FALSE)","v":{"$error":"#REF!"}},{"$f":"IFERROR(VLOOKUP(A214,#REF!,7,FALSE),0)","v":0},0,0,null,null,null,null,null,null,null,{"$f":"C214*0.85","v":0},null,null,null,null,null,null,null,null,null,null,null,null,null,null,{"$f":"C214*0.7","v":0},null,null,null,null,0,0,0,2.7246975414643266,5.4493950829286533,4.5411625691072113E-2,9.0823251382144227E-2]
[216,{"$f":"VLOOKUP(A215,#REF!,5,FALSE)","v":{"$error":"#REF!"}},{"$f":"IFERROR(VLOOKUP(A215,#REF!,7,FALSE),0)","v":0},0,0,null,null,null,{"$f":"C215*0.17","v":0},null,{"$f":"C215*0.17","v":0},null,null,null,null,null,null,null,null,null,null,null,null,null,null,null,null,null,null,null,null,null,0,0,0,0.1494188974351405,0.298837794870281,9.9612598290093664E-3,1.9922519658018733E-2]
[217,{"$f":"VLOOKUP(A216,#REF!,5,FALSE)","v":{"$error":"#REF!"}},{"$f":"IFERROR(VLOOKUP(A216,#REF!,7,FALSE),0)","v":0},0,0,null,null,{"$f":"C216*1","v":0},{"$f":"C216*1","v":0},null,null,null,null,null,null,null,null,null,null,null,null,null,null,null,null,null,null,null,null,null,null,null,0,0,0,1.4648911513249068,2.9297823026498135,5.8595646052996268E-2,0.11719129210599254]
[218,{"$f":"VLOOKUP(A217,#REF!,5,FALSE)","v":{"$error":"#REF!"}},{"$f":"IFERROR(VLOOKUP(A217,#REF!,7,FALSE),0)","v":0},0,0,null,null,{"$f":"C217*1","v":0},{"$f":"C217*1","v":0},null,null,null,null,null,null,null,null,null,null,null,null,null,null,null,null,null,null,null,null,null,null,null,0,0,0,1.1719129210599255,2.343825842119851,5.8595646052996275E-2,0.11719129210599255]
[219,{"$f":"VLOOKUP(A218,#REF!,5,FALSE)","v":{"$error":"#REF!"}},{"$f":"IFERROR(VLOOKUP(A218,#REF!,7,FALSE),0)","v":0},0,0,null,null,{"$f":"C218*1","v":0},{"$f":"C218*1","v":0},null,null,null,null,null,null,null,null,null,null,null,null,null,null,null,null,null,null,null,null,null,null,null,0,0,0,1.4648911513249068,2.9297823026498135,5.8595646052996268E-2,0.11719129210599254]
[220,{"$f":"VLOOKUP(A219,#REF!,5,FALSE)","v":{"$error":"#REF!"}},{"$f":"IFERROR(VLOOKUP(A219,#REF!,7,FALSE),0)","v":0},0,0,null,null,{"$f":"C219*1","v":0},{"$f":"C219*1","v":0},null,null,null,null,null,null,null,null,null,null,null,null,null,null,null,null,null,null,null,null,null,null,null,0,0,0,1.4648911513249068,2.9297823026498135,5.8595646052996268E-2,0.11719129210599254]
[221,{"$f":"VLOOKUP(A220,#REF!,5,FALSE)","v":{"$error":"#REF!"}},{"$f":"IFERROR(VLOOKUP(A220,#REF!,7,FALSE),0)","v":0},0,0,null,null,null,{"$f":"C220*0.19","v":0},null,null,null,{"$f":"C220*0.39","v":0},null,null,null,null,null,null,null,null,null,null,null,null,null,null,null,null,null,null,null,0,0,0,0.16992737355368923,0.33985474710737845,1.6992737355368923E-2,3.3985474710737845E-2]
[222,{"$f":"VLOOKUP(A221,#REF!,5,FALSE)","v":{"$error":"#REF!"}},{"$f":"IFERROR(VLOOKUP(A221,#REF!,7,FALSE),0)","v":0},0,0,null,null,null,{"$f":"C221*0.19","v":0},null,null,null,{"$f":"C221*0.39","v":0},null,null,null,null,null,null,null,null,null,null,null,null,null,null,null,null,null,null,null,0,0,0,0.16992737355368923,0.33985474710737845,1.6992737355368923E-2,3.3985474710737845E-2]
[223,{"$f":"VLOOKUP(A222,#REF!,5,FALSE)","v":{"$error":"#REF!"}},{"$f":"IFERROR(VLOOKUP(A222,#REF!,7,FALSE),0)","v":0},0,0,null,null,null,{"$f":"C222*0.19","v":0},null,null,null,null,null,null,null,null,null,null,null,null,null,null,null,null,null,null,null,null,null,null,null,0,0,0,0.33399518250207877,0.66799036500415754,5.5665863750346458E-3,1.1133172750069292E-2]
[224,{"$f":"VLOOKUP(A223,#REF!,5,FALSE)","v":{"$error":"#REF!"}},{"$f":"IFERROR(VLOOKUP(A223,#REF!,7,FALSE),0)","v":0},0,0,null,null,null,0,null,null,null,null,null,null,null,null,null,null,null,null,null,null,null,null,null,null,null,null,null,null,null,0,0,0,0.33399518250207877,0.66799036500415754,5.5665863750346458E-3,1.1133172750069292E-2]
[225,{"$f":"VLOOKUP(A224,#REF!,5,FALSE)","v":{"$error":"#REF!"}},{"$f":"IFERROR(VLOOKUP(A224,#REF!,7,FALSE),0)","v":0},0,0,null,null,null,0,null,null,null,null,null,null,null,null,null,null,null,null,null,null,null,null,null,null,null,null,null,null,null,0,0,0,0.33399518250207877,0.66799036500415754,5.5665863750346458E-3,1.1133172750069292E-2]
[226,{"$f":"VLOOKUP(A225,#REF!,5,FALSE)","v":{"$error":"#REF!"}},{"$f":"IFERROR(VLOOKUP(A225,#REF!,7,FALSE),0)","v":0},0,0,null,null,null,0,null,null,null,null,null,null,null,null,null,null,null,null,null,null,null,null,null,null,null,null,null,null,null,0,0,0,0.33399518250207877,0.66799036500415754,5.5665863750346458E-3,1.1133172750069292E-2]
[227,{"$f":"VLOOKUP(A226,#REF!,5,FALSE)","v":{"$error":"#REF!"}},{"$f":"IFERROR(VLOOKUP(A226,#REF!,7,FALSE),0)","v":0},0,0,null,null,null,null,null,{"$f":"C226*0.145","v":0},null,null,null,null,null,null,null,{"$f":"C226*0.145","v":0},null,null,null,null,null,null,null,null,null,null,null,null,null,0,0,0,16.99273735536892,33.98547471073784,8.4963686776844596E-3,1.6992737355368919E-2]
[228,{"$f":"VLOOKUP(A227,#REF!,5,FALSE)","v":{"$error":"#REF!"}},{"$f":"IFERROR(VLOOKUP(A227,#REF!,7,FALSE),0)","v":0},0,0,null,null,null,null,null,{"$f":"C227*0.145","v":0},null,null,null,null,null,null,null,{"$f":"C227*0.145","v":0},null,null,null,null,null,null,null,null,null,null,null,null,null,0,0,0,4.24818433884223,8.49636867768446,8.4963686776844596E-3,1.6992737355368919E-2]
[229,{"$f":"VLOOKUP(A228,#REF!,5,FALSE)","v":{"$error":"#REF!"}},{"$f":"IFERROR(VLOOKUP(A228,#REF!,7,FALSE),0)","v":0},0,0,null,null,null,null,null,{"$f":"C228*0.166","v":0},null,null,null,null,null,null,null,{"$f":"C228*0.166","v":0},null,null,null,null,null,null,null,null,null,null,null,null,null,0,0,0,4.8634386223986903,9.7268772447973806,9.7268772447973804E-3,1.9453754489594761E-2]
[230,{"$f":"VLOOKUP(A229,#REF!,5,FALSE)","v":{"$error":"#REF!"}},{"$f":"IFERROR(VLOOKUP(A229,#REF!,7,FALSE),0)","v":0},0,0,null,null,null,null,null,{"$f":"C229*0.166","v":0},null,null,null,null,null,null,null,{"$f":"C229*0.166","v":0},null,null,null,null,null,null,null,null,null,null,null,null,null,0,0,0,0.97268772447973828,1.9453754489594766,9.7268772447973821E-3,1.9453754489594764E-2]
[231,{"$f":"VLOOKUP(A230,#REF!,5,FALSE)","v":{"$error":"#REF!"}},{"$f":"IFERROR(VLOOKUP(A230,#REF!,7,FALSE),0)","v":0},0,0,null,null,null,null,null,{"$f":"C230*0.625","v":0},null,null,null,null,null,null,null,{"$f":"C230*0.625","v":0},null,null,null,null,null,null,null,null,null,null,null,null,null,0,0,0,69.582329687933068,139.16465937586614,3.6622278783122665E-2,7.324455756624533E-2]
[232,{"$f":"VLOOKUP(A231,#REF!,5,FALSE)","v":{"$error":"#REF!"}},{"$f":"IFERROR(VLOOKUP(A231,#REF!,7,FALSE),0)","v":0},0,0,null,null,null,null,null,{"$f":"C231*0.625","v":0},null,null,null,null,null,null,null,{"$f":"C231*0.625","v":0},null,null,null,null,null,null,null,null,null,null,null,null,null,0,0,0,7.3244557566245341,14.648911513249068,3.6622278783122672E-2,7.3244557566245344E-2]
[233,{"$f":"VLOOKUP(A232,#REF!,5,FALSE)","v":{"$error":"#REF!"}},{"$f":"IFERROR(VLOOKUP(A232,#REF!,7,FALSE),0)","v":0},0,0,null,null,null,{"$f":"C232*0.45","v":0},null,{"$f":"C232*0.45","v":0},null,null,null,null,null,null,null,null,null,null,null,null,null,null,null,null,null,null,null,null,null,0,0,0,50.099277375311814,100.19855475062363,2.6368040723848324E-2,5.2736081447696648E-2]
[234,{"$f":"VLOOKUP(A233,#REF!,5,FALSE)","v":{"$error":"#REF!"}},{"$f":"IFERROR(VLOOKUP(A233,#REF!,7,FALSE),0)","v":0},0,0,null,null,null,null,null,{"$f":"C233*1.25","v":0},null,null,null,null,null,null,null,{"$f":"C233*1.25","v":0},null,null,null,null,null,null,null,null,null,null,null,null,null,0,0,0,14.648911513249068,29.297823026498136,7.3244557566245344E-2,0.14648911513249069]
[235,{"$f":"VLOOKUP(A234,#REF!,5,FALSE)","v":{"$error":"#REF!"}},{"$f":"IFERROR(VLOOKUP(A234,#REF!,7,FALSE),0)","v":0},0,0,null,null,null,null,null,{"$f":"C234*0.18","v":0},null,null,null,null,null,null,null,{"$f":"C234*0.18","v":0},null,null,null,null,null,null,null,null,null,null,null,null,null,0,0,0,10.54721628953933,21.09443257907866,1.054721628953933E-2,2.109443257907866E-2]
[236,{"$f":"VLOOKUP(A235,#REF!,5,FALSE)","v":{"$error":"#REF!"}},{"$f":"IFERROR(VLOOKUP(A235,#REF!,7,FALSE),0)","v":0},0,0,null,null,null,null,null,{"$f":"C235*0.5385","v":0},null,null,null,null,null,null,null,{"$f":"C235*0.5385","v":0},null,null,null,null,null,null,null,null,null,null,null,null,null,0,0,0,59.952135259123139,119.90427051824628,3.1553755399538495E-2,6.3107510799076991E-2]
[237,{"$f":"VLOOKUP(A236,#REF!,5,FALSE)","v":{"$error":"#REF!"}},{"$f":"IFERROR(VLOOKUP(A236,#REF!,7,FALSE),0)","v":0},0,0,null,null,null,null,null,{"$f":"C236*0.45","v":0},null,null,null,null,null,null,null,{"$f":"C236*0.45","v":0},null,null,null,null,null,null,null,null,null,null,null,null,null,0,0,0,39.552061085772486,79.104122171544972,2.6368040723848324E-2,5.2736081447696648E-2]
[238,{"$f":"VLOOKUP(A237,#REF!,5,FALSE)","v":{"$error":"#REF!"}},{"$f":"IFERROR(VLOOKUP(A237,#REF!,7,FALSE),0)","v":0},0,0,null,null,null,null,null,{"$f":"C237*0.6","v":0},null,null,null,null,null,null,null,{"$f":"C237*0.6","v":0},null,null,null,null,null,null,null,null,null,null,null,null,null,0,0,0,52.736081447696648,105.4721628953933,3.5157387631797765E-2,7.031477526359553E-2]
[239,{"$f":"VLOOKUP(A238,#REF!,5,FALSE)","v":{"$error":"#REF!"}},{"$f":"IFERROR(VLOOKUP(A238,#REF!,7,FALSE),0)","v":0},0,0,null,null,null,null,null,{"$f":"C238*0.5","v":0},null,null,null,null,null,null,null,{"$f":"C238*0.5","v":0},null,null,null,null,null,null,null,null,null,null,null,null,null,0,0,0,43.946734539747204,87.893469079494409,2.9297823026498138E-2,5.8595646052996275E-2]
[240,{"$f":"VLOOKUP(A239,#REF!,5,FALSE)","v":{"$error":"#REF!"}},{"$f":"IFERROR(VLOOKUP(A239,#REF!,7,FALSE),0)","v":0},0,0,null,null,null,null,null,{"$f":"C239*0.65","v":0},null,null,null,null,null,null,null,{"$f":"C239*0.65","v":0},null,null,null,null,null,null,null,null,null,null,null,null,null,0,0,0,57.130754901671366,114.26150980334273,3.8087169934447579E-2,7.6174339868895158E-2]
[241,{"$f":"VLOOKUP(A240,#REF!,5,FALSE)","v":{"$error":"#REF!"}},{"$f":"IFERROR(VLOOKUP(A240,#REF!,7,FALSE),0)","v":0},0,0,null,null,null,null,null,{"$f":"C240*0.55","v":0},null,null,null,null,null,null,null,{"$f":"C240*0.55","v":0},null,null,null,null,null,null,null,null,null,null,null,null,null,0,0,0,48.341407993721937,96.682815987443874,3.2227605329147958E-2,6.4455210658295917E-2]
[242,{"$f":"VLOOKUP(A241,#REF!,5,FALSE)","v":{"$error":"#REF!"}},{"$f":"IFERROR(VLOOKUP(A241,#REF!,7,FALSE),0)","v":0},0,0,null,null,null,null,null,{"$f":"C241*0.55","v":0},null,null,null,null,null,null,null,{"$f":"C241*0.55","v":0},null,null,null,null,null,null,null,null,null,null,null,null,null,0,0,0,48.341407993721937,96.682815987443874,3.2227605329147958E-2,6.4455210658295917E-2]
[243,{"$f":"VLOOKUP(A242,#REF!,5,FALSE)","v":{"$error":"#REF!"}},{"$f":"IFERROR(VLOOKUP(A242,#REF!,7,FALSE),0)","v":0},0,0,null,null,null,null,null,{"$f":"C242*0.45","v":0},null,null,null,null,null,null,null,{"$f":"C242*0.45","v":0},null,null,null,null,null,null,null,null,null,null,null,null,null,0,0,0,79.104122171544972,158.20824434308994,2.6368040723848324E-2,5.2736081447696648E-2]
[244,{"$f":"VLOOKUP(A243,#REF!,5,FALSE)","v":{"$error":"#REF!"}},{"$f":"IFERROR(VLOOKUP(A243,#REF!,7,FALSE),0)","v":0},0,0,null,null,null,null,null,{"$f":"C243*0.2821","v":0},null,null,null,null,null,null,null,{"$f":"C243*0.2821","v":0},null,null,null,null,null,null,null,null,null,null,null,null,null,0,0,0,99.178990509301499,198.357981018603,1.6529831751550251E-2,3.3059663503100502E-2]
[245,{"$f":"VLOOKUP(A244,#REF!,5,FALSE)","v":{"$error":"#REF!"}},{"$f":"IFERROR(VLOOKUP(A244,#REF!,7,FALSE),0)","v":0},0,0,null,null,null,null,null,{"$f":"C244*0.247","v":0},null,null,null,null,null,null,null,{"$f":"C244*0.247","v":0},null,null,null,null,null,null,null,null,null,null,null,null,null,0,0,0,115.78499660072063,231.56999320144126,1.4473124575090078E-2,2.8946249150180157E-2]
[246,{"$f":"VLOOKUP(A245,#REF!,5,FALSE)","v":{"$error":"#REF!"}},{"$f":"IFERROR(VLOOKUP(A245,#REF!,7,FALSE),0)","v":0},0,0,null,null,null,null,null,{"$f":"C245*0.2163","v":0},null,null,null,null,null,null,null,{"$f":"C245*0.2163","v":0},null,null,null,null,null,null,null,null,null,null,null,null,null,0,0,0,19.011357361894643,38.022714723789285,1.2674238241263095E-2,2.5348476482526191E-2]
[247,{"$f":"VLOOKUP(A246,#REF!,5,FALSE)","v":{"$error":"#REF!"}},{"$f":"IFERROR(VLOOKUP(A246,#REF!,7,FALSE),0)","v":0},0,0,null,null,null,null,null,{"$f":"C246*0.2821","v":0},null,null,null,null,null,null,null,{"$f":"C246*0.2821","v":0},null,null,null,null,null,null,null,null,null,null,null,null,null,0,0,0,49.58949525465075,99.178990509301499,1.6529831751550251E-2,3.3059663503100502E-2]
[248,{"$f":"VLOOKUP(A247,#REF!,5,FALSE)","v":{"$error":"#REF!"}},{"$f":"IFERROR(VLOOKUP(A247,#REF!,7,FALSE),0)","v":0},0,0,null,null,null,null,null,{"$f":"C247*0.1944","v":0},null,null,null,null,null,null,null,{"$f":"C247*0.1944","v":0},null,null,null,null,null,null,null,null,null,null,null,null,null,0,0,0,27.33838462248594,54.676769244971879,1.1390993592702474E-2,2.2781987185404948E-2]
[249,{"$f":"VLOOKUP(A248,#REF!,5,FALSE)","v":{"$error":"#REF!"}},{"$f":"IFERROR(VLOOKUP(A248,#REF!,7,FALSE),0)","v":0},0,0,null,null,null,null,null,{"$f":"C248*0.09","v":0},null,null,null,null,null,null,null,{"$f":"C248*0.09","v":0},null,null,null,null,null,null,null,null,null,null,null,null,null,0,0,0,10.019855475062363,20.039710950124725,5.2736081447696641E-3,1.0547216289539328E-2]
[250,{"$f":"VLOOKUP(A249,#REF!,5,FALSE)","v":{"$error":"#REF!"}},{"$f":"IFERROR(VLOOKUP(A249,#REF!,7,FALSE),0)","v":0},0,0,null,null,null,null,null,{"$f":"C249*0.07","v":0},null,null,null,null,null,null,null,{"$f":"C249*0.07","v":0},null,null,null,null,null,null,null,null,null,null,null,null,null,0,0,0,7.7932209250485043,15.586441850097009,4.1016952237097389E-3,8.2033904474194778E-3]
[251,{"$f":"VLOOKUP(A250,#REF!,5,FALSE)","v":{"$error":"#REF!"}},{"$f":"IFERROR(VLOOKUP(A250,#REF!,7,FALSE),0)","v":0},0,0,null,null,null,null,null,{"$f":"C250*0.107","v":0},null,null,null,null,null,null,null,{"$f":"C250*0.107","v":0},null,null,null,null,null,null,null,null,null,null,null,null,null,0,0,0,18.809202383011804,37.618404766023609,6.2697341276706014E-3,1.2539468255341203E-2]
[252,{"$f":"VLOOKUP(A251,#REF!,5,FALSE)","v":{"$error":"#REF!"}},{"$f":"IFERROR(VLOOKUP(A251,#REF!,7,FALSE),0)","v":0},0,0,null,null,null,null,null,{"$f":"C251*0.087","v":0},null,null,null,null,null,null,null,{"$f":"C251*0.087","v":0},null,null,null,null,null,null,null,null,null,null,null,null,null,0,0,0,15.293463619832027,30.586927239664053,5.0978212066106754E-3,1.0195642413221351E-2]
[253,{"$f":"VLOOKUP(A252,#REF!,5,FALSE)","v":{"$error":"#REF!"}},{"$f":"IFERROR(VLOOKUP(A252,#REF!,7,FALSE),0)","v":0},0,0,null,null,null,null,null,{"$f":"C252*0.45","v":0},null,null,null,null,null,null,null,{"$f":"C252*0.45","v":0},null,null,null,null,null,null,null,null,null,null,null,null,null,0,0,0,39.552061085772486,79.104122171544972,2.6368040723848324E-2,5.2736081447696648E-2]
[254,{"$f":"VLOOKUP(A253,#REF!,5,FALSE)","v":{"$error":"#REF!"}},{"$f":"IFERROR(VLOOKUP(A253,#REF!,7,FALSE),0)","v":0},0,0,null,null,null,null,null,{"$f":"C253*0.088","v":0},null,null,null,null,null,null,null,null,null,null,null,null,null,null,null,null,null,null,null,null,null,0,0,0,6.4455210658295901,12.89104213165918,2.578208426331836E-3,5.1564168526636719E-3]
[255,{"$f":"VLOOKUP(A254,#REF!,5,FALSE)","v":{"$error":"#REF!"}},{"$f":"IFERROR(VLOOKUP(A254,#REF!,7,FALSE),0)","v":0},0,0,null,null,null,null,null,{"$f":"C254*0.104","v":0},null,null,null,null,null,null,null,null,null,null,null,null,null,null,null,null,null,null,null,null,null,0,0,0,1.8281841568534838,3.6563683137069676,3.0469735947558064E-3,6.0939471895116127E-3]
[256,{"$f":"VLOOKUP(A255,#REF!,5,FALSE)","v":{"$error":"#REF!"}},{"$f":"IFERROR(VLOOKUP(A255,#REF!,7,FALSE),0)","v":0},0,0,null,null,null,null,null,{"$f":"C255*0.104","v":0},null,null,null,null,null,null,null,null,null,null,null,null,null,null,null,null,null,null,null,null,null,0,0,0,3.0469735947558061E-2,6.0939471895116122E-2,3.0469735947558059E-3,6.0939471895116119E-3]
[257,{"$f":"VLOOKUP(A256,#REF!,5,FALSE)","v":{"$error":"#REF!"}},{"$f":"IFERROR(VLOOKUP(A256,#REF!,7,FALSE),0)","v":0},0,0,null,null,null,null,null,{"$f":"C256*0.3","v":0},null,null,null,null,null,null,null,{"$f":"C256*0.3","v":0},null,null,null,null,null,null,null,null,null,null,null,null,null,0,0,0,1.7578693815898883,3.5157387631797765,1.7578693815898883E-2,3.5157387631797765E-2]
[258,{"$f":"VLOOKUP(A257,#REF!,5,FALSE)","v":{"$error":"#REF!"}},{"$f":"IFERROR(VLOOKUP(A257,#REF!,7,FALSE),0)","v":0},0,0,null,null,null,null,null,{"$f":"C257*0.1","v":0},null,null,null,null,null,null,null,null,null,null,null,null,null,null,null,null,null,null,null,null,null,0,0,0,5.8595646052996271,11.719129210599254,2.9297823026498133E-3,5.8595646052996267E-3]
[259,{"$f":"VLOOKUP(A258,#REF!,5,FALSE)","v":{"$error":"#REF!"}},{"$f":"IFERROR(VLOOKUP(A258,#REF!,7,FALSE),0)","v":0},0,0,null,null,null,null,null,{"$f":"C258*0.308","v":0},null,null,null,null,null,null,null,{"$f":"C258*0.308","v":0},null,null,null,null,null,null,null,null,null,null,null,null,null,0,0,0,1.8047458984322853,3.6094917968645706,1.8047458984322851E-2,3.6094917968645703E-2]
[260,{"$f":"VLOOKUP(A259,#REF!,5,FALSE)","v":{"$error":"#REF!"}},{"$f":"IFERROR(VLOOKUP(A259,#REF!,7,FALSE),0)","v":0},0,0,null,null,null,null,null,{"$f":"C259*0.225","v":0},null,null,null,null,null,null,null,{"$f":"C259*0.225","v":0},null,null,null,null,null,null,null,null,null,null,null,null,null,0,0,0,10.54721628953933,21.09443257907866,1.3184020361924162E-2,2.6368040723848324E-2]
[261,{"$f":"VLOOKUP(A260,#REF!,5,FALSE)","v":{"$error":"#REF!"}},{"$f":"IFERROR(VLOOKUP(A260,#REF!,7,FALSE),0)","v":0},0,0,null,null,null,null,null,{"$f":"C260*0.1","v":0},null,null,null,null,null,null,null,null,null,null,null,null,null,null,null,null,null,null,null,null,null,{"$f":"SUM(H260,J260,K260,L260,M260,N260,Q260,R260,T260,U260,W260,X260,Z260,AA260,AC260,AD260)","v":0},{"$f":"SUM(O260,P260,S260,V260,Y260,AB260,AE260)+I260","v":0},{"$f":"AG260+AH260","v":0},0.29297823026498138,0.58595646052996275,2.9297823026498138E-3,5.8595646052996275E-3]
[262,{"$f":"VLOOKUP(A261,#REF!,5,FALSE)","v":{"$error":"#REF!"}},{"$f":"IFERROR(VLOOKUP(A261,#REF!,7,FALSE),0)","v":0},0,0,null,null,null,null,null,{"$f":"C261*0.308","v":0},null,null,null,null,null,null,null,{"$f":"C261*0.308","v":0},null,null,null,null,null,null,null,null,null,null,null,null,null,0,0,0,1.8047458984322853,3.6094917968645706,1.8047458984322851E-2,3.6094917968645703E-2]
[263,{"$f":"VLOOKUP(A262,#REF!,5,FALSE)","v":{"$error":"#REF!"}},{"$f":"IFERROR(VLOOKUP(A262,#REF!,7,FALSE),0)","v":0},0,0,null,null,null,null,null,{"$f":"C262*0.235","v":0},null,null,null,null,null,null,null,{"$f":"C262*0.235","v":0},null,null,null,null,null,null,null,null,null,null,null,null,null,0,0,0,24.785958280417425,49.57191656083485,1.3769976822454125E-2,2.7539953644908251E-2]
[264,{"$f":"VLOOKUP(A263,#REF!,5,FALSE)","v":{"$error":"#REF!"}},{"$f":"IFERROR(VLOOKUP(A263,#REF!,7,FALSE),0)","v":0},0,0,null,null,null,null,null,{"$f":"C263*0.235","v":0},null,null,null,null,null,null,null,{"$f":"C263*0.235","v":0},null,null,null,null,null,null,null,null,null,null,null,null,null,0,0,0,4.9571916560834843,9.9143833121669687,1.3769976822454124E-2,2.7539953644908247E-2]
[265,{"$f":"VLOOKUP(A264,#REF!,5,FALSE)","v":{"$error":"#REF!"}},{"$f":"IFERROR(VLOOKUP(A264,#REF!,7,FALSE),0)","v":0},{"$f":"IFERROR(AL264*C264,0)","v":0},{"$f":"IFERROR(AM264*C264,0)","v":0},null,null,null,null,null,{"$f":"C264*0.1","v":0},null,null,null,null,null,null,null,null,null,null,null,null,null,null,null,null,null,null,null,null,null,0,0,0,0.14648911513249069,0.29297823026498138,2.9297823026498138E-3,5.8595646052996275E-3]
[266,{"$f":"VLOOKUP(A265,#REF!,5,FALSE)","v":{"$error":"#REF!"}},{"$f":"IFERROR(VLOOKUP(A265,#REF!,7,FALSE),0)","v":0},0,0,null,null,null,null,null,null,null,null,null,null,null,null,null,{"$f":"C265*0.05","v":0},null,null,null,null,null,null,null,null,null,null,null,null,null,0,0,0,7.3244557566245344E-2,0.14648911513249069,1.4648911513249069E-3,2.9297823026498138E-3]
[267,{"$f":"VLOOKUP(A266,#REF!,5,FALSE)","v":{"$error":"#REF!"}},{"$f":"IFERROR(VLOOKUP(A266,#REF!,7,FALSE),0)","v":0},0,0,null,null,null,null,null,null,null,null,null,null,null,null,null,{"$f":"C266*0.05","v":0},null,null,null,null,null,null,null,null,null,null,null,null,null,0,0,0,7.3244557566245344E-2,0.14648911513249069,1.4648911513249069E-3,2.9297823026498138E-3]
[268,{"$f":"VLOOKUP(A267,#REF!,5,FALSE)","v":{"$error":"#REF!"}},{"$f":"IFERROR(VLOOKUP(A267,#REF!,7,FALSE),0)","v":0},0,0,null,null,null,null,null,{"$f":"C267*0.1","v":0},null,null,null,null,null,null,null,null,null,null,null,null,null,null,null,null,null,null,null,null,null,0,0,0,0.29297823026498138,0.58595646052996275,2.9297823026498138E-3,5.8595646052996275E-3]
[269,{"$f":"VLOOKUP(A268,#REF!,5,FALSE)","v":{"$error":"#REF!"}},{"$f":"IFERROR(VLOOKUP(A268,#REF!,7,FALSE),0)","v":0},0,0,null,null,null,null,null,{"$f":"C268*0.1","v":0},null,null,null,null,null,null,null,null,null,null,null,null,null,null,null,null,null,null,null,null,null,0,0,0,1.7578693815898883,3.5157387631797765,2.9297823026498138E-3,5.8595646052996275E-3]
[270,{"$f":"VLOOKUP(A269,#REF!,5,FALSE)","v":{"$error":"#REF!"}},{"$f":"IFERROR(VLOOKUP(A269,#REF!,7,FALSE),0)","v":0},0,0,null,null,null,null,null,{"$f":"C269*0.3","v":0},null,null,null,null,null,null,null,{"$f":"C269*0.3","v":0},null,null,null,null,null,null,null,null,null,null,null,null,null,0,0,0,15.469250557991016,30.938501115982032,1.7578693815898883E-2,3.5157387631797765E-2]
[271,{"$f":"VLOOKUP(A270,#REF!,5,FALSE)","v":{"$error":"#REF!"}},{"$f":"IFERROR(VLOOKUP(A270,#REF!,7,FALSE),0)","v":0},0,0,null,null,null,null,null,{"$f":"C270*0.65","v":0},null,null,null,null,null,null,null,{"$f":"C270*0.65","v":0},null,null,null,null,null,null,null,null,null,null,null,null,null,0,0,0,3.8087169934447576,7.6174339868895151,3.8087169934447579E-2,7.6174339868895158E-2]
[272,{"$f":"VLOOKUP(A271,#REF!,5,FALSE)","v":{"$error":"#REF!"}},{"$f":"IFERROR(VLOOKUP(A271,#REF!,7,FALSE),0)","v":0},0,0,null,null,null,null,null,{"$f":"C271*0.1795","v":0},null,null,null,null,null,null,null,{"$f":"C271*0.0748","v":0},null,null,null,null,null,null,null,null,null,null,null,null,null,0,0,0,0.74504363956384767,1.4900872791276953,7.4504363956384764E-3,1.4900872791276953E-2]
[273,{"$f":"VLOOKUP(A272,#REF!,5,FALSE)","v":{"$error":"#REF!"}},{"$f":"IFERROR(VLOOKUP(A272,#REF!,7,FALSE),0)","v":0},0,0,null,null,null,null,null,{"$f":"C272*0.3094","v":0},null,null,null,null,null,null,null,{"$f":"C272*0.1289","v":0},null,null,null,null,null,null,null,null,null,null,null,null,null,0,0,0,6.4206179162570667,12.841235832514133,1.2841235832514133E-2,2.5682471665028267E-2]
[274,{"$f":"VLOOKUP(A273,#REF!,5,FALSE)","v":{"$error":"#REF!"}},{"$f":"IFERROR(VLOOKUP(A273,#REF!,7,FALSE),0)","v":0},0,0,null,null,null,null,null,{"$f":"C273*0.3094","v":0},null,null,null,null,null,null,null,{"$f":"C273*0.1289","v":0},null,null,null,null,null,null,null,null,null,null,null,null,null,0,0,0,0.64206179162570665,1.2841235832514133,1.2841235832514133E-2,2.5682471665028267E-2]
[275,{"$f":"VLOOKUP(A274,#REF!,5,FALSE)","v":{"$error":"#REF!"}},{"$f":"IFERROR(VLOOKUP(A274,#REF!,7,FALSE),0)","v":0},0,0,null,null,null,null,null,{"$f":"C274*0.471","v":0},null,null,null,null,null,null,null,{"$f":"C274*0.1963","v":0},null,null,null,null,null,null,null,null,null,null,null,null,null,0,0,0,0.39100874611164416,0.78201749222328831,1.9550437305582209E-2,3.9100874611164418E-2]
[276,{"$f":"VLOOKUP(A275,#REF!,5,FALSE)","v":{"$error":"#REF!"}},{"$f":"IFERROR(VLOOKUP(A275,#REF!,7,FALSE),0)","v":0},0,0,null,null,null,null,null,{"$f":"C275*0.3094","v":0},null,null,null,null,null,null,null,{"$f":"C275*0.1289","v":0},null,null,null,null,null,null,null,null,null,null,null,null,null,0,0,0,6.4206179162570667,12.841235832514133,1.2841235832514133E-2,2.5682471665028267E-2]
[277,{"$f":"VLOOKUP(A276,#REF!,5,FALSE)","v":{"$error":"#REF!"}},{"$f":"IFERROR(VLOOKUP(A276,#REF!,7,FALSE),0)","v":0},0,0,null,null,null,null,null,{"$f":"C276*0.471","v":0},null,null,null,null,null,null,null,{"$f":"C276*0.1963","v":0},null,null,null,null,null,null,null,null,null,null,null,null,null,0,0,0,1.9550437305582204,3.9100874611164409,1.9550437305582206E-2,3.9100874611164411E-2]
[278,{"$f":"VLOOKUP(A277,#REF!,5,FALSE)","v":{"$error":"#REF!"}},{"$f":"IFERROR(VLOOKUP(A277,#REF!,7,FALSE),0)","v":0},0,0,null,null,null,null,null,{"$f":"C277*0.009","v":0},null,null,null,null,null,null,null,{"$f":"C277*0.009","v":0},null,null,null,null,null,null,null,null,null,null,null,null,null,0,0,0,1.054721628953933,2.1094432579078659,5.2736081447696649E-4,1.054721628953933E-3]
[279,{"$f":"VLOOKUP(A278,#REF!,5,FALSE)","v":{"$error":"#REF!"}},{"$f":"IFERROR(VLOOKUP(A278,#REF!,7,FALSE),0)","v":0},0,0,null,null,null,null,null,{"$f":"C278*0.013","v":0},null,null,null,null,null,null,null,{"$f":"C278*0.013","v":0},null,null,null,null,null,null,null,null,null,null,null,null,null,0,0,0,1.5234867973779032,3.0469735947558063,7.6174339868895159E-4,1.5234867973779032E-3]
[280,{"$f":"VLOOKUP(A279,#REF!,5,FALSE)","v":{"$error":"#REF!"}},{"$f":"IFERROR(VLOOKUP(A279,#REF!,7,FALSE),0)","v":0},0,0,null,null,null,null,null,{"$f":"C279*0.03","v":0},null,null,null,null,null,null,null,{"$f":"C279*0.03","v":0},null,null,null,null,null,null,null,null,null,null,null,null,null,0,0,0,42.18886515815732,84.37773031631464,1.7578693815898884E-3,3.5157387631797768E-3]
[281,{"$f":"VLOOKUP(A280,#REF!,5,FALSE)","v":{"$error":"#REF!"}},{"$f":"IFERROR(VLOOKUP(A280,#REF!,7,FALSE),0)","v":0},0,0,null,null,null,null,null,{"$f":"C280*0.052","v":0},null,null,null,null,null,null,null,{"$f":"C280*0.052","v":0},null,null,null,null,null,null,null,null,null,null,null,null,null,0,0,0,15.23486797377903,30.46973594755806,3.0469735947558059E-3,6.0939471895116119E-3]
[282,{"$f":"VLOOKUP(A281,#REF!,5,FALSE)","v":{"$error":"#REF!"}},{"$f":"IFERROR(VLOOKUP(A281,#REF!,7,FALSE),0)","v":0},0,0,null,null,null,null,null,{"$f":"C281*0.04","v":0},null,null,null,null,null,null,null,{"$f":"C281*0.04","v":0},null,null,null,null,null,null,null,null,null,null,null,null,null,0,0,0,22.266345500138584,44.532691000277168,2.3438258421198508E-3,4.6876516842397015E-3]
[283,{"$f":"VLOOKUP(A282,#REF!,5,FALSE)","v":{"$error":"#REF!"}},{"$f":"IFERROR(VLOOKUP(A282,#REF!,7,FALSE),0)","v":0},0,0,null,null,null,null,null,{"$f":"C282*0.009","v":0},null,null,null,null,null,null,null,{"$f":"C282*0.009","v":0},null,null,null,null,null,null,null,null,null,null,null,null,null,0,0,0,2.6368040723848325,5.273608144769665,5.2736081447696649E-4,1.054721628953933E-3]
[284,{"$f":"VLOOKUP(A283,#REF!,5,FALSE)","v":{"$error":"#REF!"}},{"$f":"IFERROR(VLOOKUP(A283,#REF!,7,FALSE),0)","v":0},0,0,null,null,null,null,null,{"$f":"C283*0.052","v":0},null,null,null,null,null,null,null,{"$f":"C283*0.052","v":0},null,null,null,null,null,null,null,null,null,null,null,null,null,0,0,0,18.281841568534837,36.563683137069674,3.0469735947558064E-3,6.0939471895116127E-3]
[285,{"$f":"VLOOKUP(A284,#REF!,5,FALSE)","v":{"$error":"#REF!"}},{"$f":"IFERROR(VLOOKUP(A284,#REF!,7,FALSE),0)","v":0},0,0,null,null,null,null,null,{"$f":"C284*3.5","v":0},null,null,null,null,null,null,null,{"$f":"C284*3.5","v":0},null,null,null,null,null,null,null,null,null,null,null,null,null,0,0,0,4.101695223709739,8.2033904474194781,0.20508476118548696,0.41016952237097393]
[286,{"$f":"VLOOKUP(A285,#REF!,5,FALSE)","v":{"$error":"#REF!"}},{"$f":"IFERROR(VLOOKUP(A285,#REF!,7,FALSE),0)","v":0},0,0,null,null,null,null,null,null,null,null,null,null,{"$f":"C285*3","v":0},null,null,null,{"$f":"C285*3","v":0},null,null,null,null,null,null,null,null,null,null,null,null,0,0,0,0.87893469079494413,1.7578693815898883,0.17578693815898883,0.35157387631797765]
[287,{"$f":"VLOOKUP(A286,#REF!,5,FALSE)","v":{"$error":"#REF!"}},{"$f":"IFERROR(VLOOKUP(A286,#REF!,7,FALSE),0)","v":0},0,0,null,null,null,null,null,null,null,null,null,null,{"$f":"C286*2","v":0},null,null,null,{"$f":"C286*2","v":0},null,null,null,null,null,null,null,null,null,null,null,null,0,0,0,7.031477526359553,14.062955052719106,0.11719129210599255,0.2343825842119851]
[288,{"$f":"VLOOKUP(A287,#REF!,5,FALSE)","v":{"$error":"#REF!"}},{"$f":"IFERROR(VLOOKUP(A287,#REF!,7,FALSE),0)","v":0},0,0,null,null,null,null,null,null,null,null,null,null,{"$f":"C287*2","v":0},null,null,null,{"$f":"C287*2","v":0},null,null,null,null,null,null,null,null,null,null,null,null,0,0,0,1.1719129210599255,2.343825842119851,0.11719129210599255,0.2343825842119851]
[289,{"$f":"VLOOKUP(A288,#REF!,5,FALSE)","v":{"$error":"#REF!"}},{"$f":"IFERROR(VLOOKUP(A288,#REF!,7,FALSE),0)","v":0},0,0,null,null,null,null,null,null,null,null,null,null,{"$f":"C288*2","v":0},null,null,null,{"$f":"C288*2","v":0},null,null,null,null,null,null,null,null,null,null,null,null,0,0,0,0.58595646052996275,1.1719129210599255,0.11719129210599255,0.2343825842119851]
[290,{"$f":"VLOOKUP(A289,#REF!,5,FALSE)","v":{"$error":"#REF!"}},{"$f":"IFERROR(VLOOKUP(A289,#REF!,7,FALSE),0)","v":0},0,0,null,null,null,null,null,null,null,null,null,null,{"$f":"C289*3","v":0},null,null,null,{"$f":"C289*3","v":0},null,null,null,null,null,null,null,null,null,null,null,null,0,0,0,7.031477526359553,14.062955052719106,0.17578693815898883,0.35157387631797765]
[291,{"$f":"VLOOKUP(A290,#REF!,5,FALSE)","v":{"$error":"#REF!"}},{"$f":"IFERROR(VLOOKUP(A290,#REF!,7,FALSE),0)","v":0},0,0,null,null,null,null,null,null,null,null,null,null,{"$f":"C290*3","v":0},null,null,null,{"$f":"C290*3","v":0},null,null,null,null,null,null,null,null,null,null,null,null,0,0,0,7.031477526359553,14.062955052719106,0.17578693815898883,0.35157387631797765]
[292,{"$f":"VLOOKUP(A291,#REF!,5,FALSE)","v":{"$error":"#REF!"}},{"$f":"IFERROR(VLOOKUP(A291,#REF!,7,FALSE),0)","v":0},0,0,null,null,null,null,null,null,null,null,null,null,{"$f":"C291*3","v":0},null,null,null,{"$f":"C291*3","v":0},null,null,null,null,null,null,null,null,null,null,null,null,0,0,0,7.031477526359553,14.062955052719106,0.17578693815898883,0.35157387631797765]
[293,{"$f":"VLOOKUP(A292,#REF!,5,FALSE)","v":{"$error":"#REF!"}},{"$f":"IFERROR(VLOOKUP(A292,#REF!,7,FALSE),0)","v":0},0,0,null,null,null,null,null,null,null,null,null,null,{"$f":"C292*2","v":0},null,null,null,{"$f":"C292*2","v":0},null,null,null,null,null,null,null,null,null,null,null,null,0,0,0,3.5157387631797765,7.031477526359553,0.11719129210599255,0.2343825842119851]
[294,{"$f":"VLOOKUP(A293,#REF!,5,FALSE)","v":{"$error":"#REF!"}},{"$f":"IFERROR(VLOOKUP(A293,#REF!,7,FALSE),0)","v":0},0,0,null,null,null,null,null,null,null,null,null,null,{"$f":"C293*3","v":0},null,null,null,{"$f":"C293*3","v":0},null,null,null,null,null,null,null,null,null,null,null,null,0,0,0,8.7893469079494402,17.57869381589888,0.1757869381589888,0.3515738763179776]
[295,{"$f":"VLOOKUP(A294,#REF!,5,FALSE)","v":{"$error":"#REF!"}},{"$f":"IFERROR(VLOOKUP(A294,#REF!,7,FALSE),0)","v":0},0,0,null,null,null,null,null,{"$f":"C294*1","v":0},null,null,null,null,null,null,null,{"$f":"C294*1","v":0},null,null,null,null,null,null,null,null,null,null,null,null,null,0,0,0,3.5157387631797765,7.031477526359553,5.8595646052996275E-2,0.11719129210599255]
[296,{"$f":"VLOOKUP(A295,#REF!,5,FALSE)","v":{"$error":"#REF!"}},{"$f":"IFERROR(VLOOKUP(A295,#REF!,7,FALSE),0)","v":0},0,0,null,null,null,null,null,{"$f":"C295*1","v":0},null,null,null,null,null,null,null,{"$f":"C295*1","v":0},null,null,null,null,null,null,null,null,null,null,null,null,null,0,0,0,0.29297823026498138,0.58595646052996275,5.8595646052996275E-2,0.11719129210599255]
[297,{"$f":"VLOOKUP(A296,#REF!,5,FALSE)","v":{"$error":"#REF!"}},{"$f":"IFERROR(VLOOKUP(A296,#REF!,7,FALSE),0)","v":0},0,0,null,null,null,{"$f":"C296*3.84","v":0},null,null,null,null,null,null,null,null,null,null,{"$f":"C296*3.84","v":0},null,null,null,null,null,null,null,null,null,null,null,null,0,0,0,198.00640714228501,396.01281428457003,0.22500728084350569,0.45001456168701137]
[298,{"$f":"VLOOKUP(A297,#REF!,5,FALSE)","v":{"$error":"#REF!"}},{"$f":"IFERROR(VLOOKUP(A297,#REF!,7,FALSE),0)","v":0},0,0,null,null,null,{"$f":"C297*0.4","v":0},null,null,null,null,null,null,null,null,null,null,{"$f":"C297*0.4","v":0},null,null,null,null,null,null,null,null,null,null,null,null,0,0,0,0.9375303368479404,1.8750606736958808,2.343825842119851E-2,4.687651684239702E-2]
[299,{"$f":"VLOOKUP(A298,#REF!,5,FALSE)","v":{"$error":"#REF!"}},{"$f":"IFERROR(VLOOKUP(A298,#REF!,7,FALSE),0)","v":0},0,0,null,null,null,{"$f":"C298*0.4","v":0},null,null,null,null,null,null,null,null,null,null,{"$f":"C298*0.4","v":0},null,null,null,null,null,null,null,null,null,null,null,null,0,0,0,0.4687651684239702,0.9375303368479404,2.343825842119851E-2,4.687651684239702E-2]
[300,{"$f":"VLOOKUP(A299,#REF!,5,FALSE)","v":{"$error":"#REF!"}},{"$f":"IFERROR(VLOOKUP(A299,#REF!,7,FALSE),0)","v":0},0,0,null,null,null,null,null,null,null,null,null,null,{"$f":"C299*2.5","v":0},null,null,null,{"$f":"C299*2.5","v":0},null,null,null,null,null,null,null,null,null,null,null,null,0,0,0,26.368040723848324,52.736081447696648,0.14648911513249069,0.29297823026498138]
[301,{"$f":"VLOOKUP(A300,#REF!,5,FALSE)","v":{"$error":"#REF!"}},{"$f":"IFERROR(VLOOKUP(A300,#REF!,7,FALSE),0)","v":0},0,0,null,null,null,null,null,null,null,null,null,null,0,null,null,null,0,null,null,null,null,null,null,null,null,null,null,null,null,0,0,0,1.4648911513249068,2.9297823026498135,0.14648911513249069,0.29297823026498138]
[302,{"$f":"VLOOKUP(A301,#REF!,5,FALSE)","v":{"$error":"#REF!"}},{"$f":"IFERROR(VLOOKUP(A301,#REF!,7,FALSE),0)","v":0},0,0,null,null,null,null,null,null,null,null,null,null,0,null,null,null,0,null,null,null,null,null,null,null,null,null,null,null,null,0,0,0,1.4648911513249068,2.9297823026498135,0.14648911513249069,0.29297823026498138]
[303,{"$f":"VLOOKUP(A302,#REF!,5,FALSE)","v":{"$error":"#REF!"}},{"$f":"IFERROR(VLOOKUP(A302,#REF!,7,FALSE),0)","v":0},0,0,null,null,null,null,null,null,null,null,null,null,0,null,null,null,0,null,null,null,null,null,null,null,null,null,null,null,null,0,0,0,0.73244557566245339,1.4648911513249068,0.14648911513249069,0.29297823026498138]
[304,{"$f":"VLOOKUP(A303,#REF!,5,FALSE)","v":{"$error":"#REF!"}},{"$f":"IFERROR(VLOOKUP(A303,#REF!,7,FALSE),0)","v":0},0,0,null,null,null,null,null,null,null,null,null,null,0,null,null,null,0,null,null,null,null,null,null,null,null,null,null,null,null,0,0,0,0.73244557566245339,1.4648911513249068,0.14648911513249069,0.29297823026498138]
[305,{"$f":"VLOOKUP(A304,#REF!,5,FALSE)","v":{"$error":"#REF!"}},{"$f":"IFERROR(VLOOKUP(A304,#REF!,7,FALSE),0)","v":0},0,0,null,null,null,null,null,null,null,null,null,null,0,null,null,null,0,null,null,null,null,null,null,null,null,null,null,null,null,0,0,0,0.73244557566245339,1.4648911513249068,0.14648911513249069,0.29297823026498138]
[306,{"$f":"VLOOKUP(A305,#REF!,5,FALSE)","v":{"$error":"#REF!"}},{"$f":"IFERROR(VLOOKUP(A305,#REF!,7,FALSE),0)","v":0},0,0,null,null,null,null,null,null,null,null,null,null,0,null,null,null,0,null,null,null,null,null,null,null,null,null,null,null,null,0,0,0,0.73244557566245339,1.4648911513249068,0.14648911513249069,0.29297823026498138]
[307,{"$f":"VLOOKUP(A306,#REF!,5,FALSE)","v":{"$error":"#REF!"}},{"$f":"IFERROR(VLOOKUP(A306,#REF!,7,FALSE),0)","v":0},0,0,null,null,null,null,null,null,null,null,null,null,0,null,null,null,0,null,null,null,null,null,null,null,null,null,null,null,null,0,0,0,1.4648911513249068,2.9297823026498135,0.14648911513249069,0.29297823026498138]
[308,{"$f":"VLOOKUP(A307,#REF!,5,FALSE)","v":{"$error":"#REF!"}},{"$f":"IFERROR(VLOOKUP(A307,#REF!,7,FALSE),0)","v":0},0,0,null,null,null,null,null,null,null,null,null,null,{"$f":"C307*3.5","v":0},null,null,null,{"$f":"C307*3.5","v":0},null,null,null,null,null,null,null,null,null,null,null,null,0,0,0,36.915257013387652,73.830514026775305,0.20508476118548696,0.41016952237097393]
[309,{"$f":"VLOOKUP(A308,#REF!,5,FALSE)","v":{"$error":"#REF!"}},{"$f":"IFERROR(VLOOKUP(A308,#REF!,7,FALSE),0)","v":0},0,0,null,null,null,null,null,null,null,null,null,null,{"$f":"C308*3.5","v":0},null,null,null,{"$f":"C308*3.5","v":0},null,null,null,null,null,null,null,null,null,null,null,null,0,0,0,2.0508476118548695,4.101695223709739,0.20508476118548696,0.41016952237097393]
[310,{"$f":"VLOOKUP(A309,#REF!,5,FALSE)","v":{"$error":"#REF!"}},{"$f":"IFERROR(VLOOKUP(A309,#REF!,7,FALSE),0)","v":0},0,0,null,null,null,null,null,null,null,null,null,null,{"$f":"C309*0.5","v":0},null,null,null,{"$f":"C309*0.25","v":0},null,null,null,null,null,null,null,null,null,null,null,null,0,0,0,2.6368040723848325,5.273608144769665,2.1973367269873603E-2,4.3946734539747206E-2]
[311,{"$f":"VLOOKUP(A310,#REF!,5,FALSE)","v":{"$error":"#REF!"}},{"$f":"IFERROR(VLOOKUP(A310,#REF!,7,FALSE),0)","v":0},0,0,null,null,null,null,null,{"$f":"C310*1","v":0},null,null,null,null,null,null,null,{"$f":"C310*2","v":0},null,null,null,null,null,null,null,null,null,null,null,null,null,0,0,0,1.7578693815898883,3.5157387631797765,8.7893469079494413E-2,0.17578693815898883]
[312,{"$f":"VLOOKUP(A311,#REF!,5,FALSE)","v":{"$error":"#REF!"}},{"$f":"IFERROR(VLOOKUP(A311,#REF!,7,FALSE),0)","v":0},0,0,null,null,null,null,null,null,null,null,null,null,null,null,null,null,null,null,{"$f":"C311*0.5","v":0},null,null,null,null,null,null,{"$f":"C311*0.5","v":0},null,null,null,0,0,0,0.58595646052996275,1.1719129210599255,2.9297823026498138E-2,5.8595646052996275E-2]
[313,{"$f":"VLOOKUP(A312,#REF!,5,FALSE)","v":{"$error":"#REF!"}},{"$f":"IFERROR(VLOOKUP(A312,#REF!,7,FALSE),0)","v":0},0,0,null,null,null,null,null,{"$f":"C312*1","v":0},null,null,null,null,null,null,null,{"$f":"C312*1","v":0},null,null,null,null,null,null,null,null,null,null,null,null,null,0,0,0,0.58595646052996275,1.1719129210599255,5.8595646052996275E-2,0.11719129210599255]
[314,{"$f":"VLOOKUP(A313,#REF!,5,FALSE)","v":{"$error":"#REF!"}},{"$f":"IFERROR(VLOOKUP(A313,#REF!,7,FALSE),0)","v":0},0,0,null,null,null,null,null,null,null,null,null,null,{"$f":"C313*0.1","v":0},null,null,null,null,null,null,null,null,null,null,null,null,null,null,null,null,0,0,0,1.7578693815898883,3.5157387631797765,2.9297823026498138E-3,5.8595646052996275E-3]
[315,{"$f":"VLOOKUP(A314,#REF!,5,FALSE)","v":{"$error":"#REF!"}},{"$f":"IFERROR(VLOOKUP(A314,#REF!,7,FALSE),0)","v":0},0,0,null,null,null,null,null,null,null,null,null,null,{"$f":"C314*0.1","v":0},null,null,null,null,null,null,null,null,null,null,null,null,null,null,null,null,0,0,0,28.125910105438212,56.251820210876424,2.9297823026498138E-3,5.8595646052996275E-3]
[316,{"$f":"VLOOKUP(A315,#REF!,5,FALSE)","v":{"$error":"#REF!"}},{"$f":"IFERROR(VLOOKUP(A315,#REF!,7,FALSE),0)","v":0},0,0,null,null,null,null,null,null,null,null,null,null,0,null,null,null,null,null,null,null,null,null,null,null,null,null,null,null,null,0,0,0,0.21973367269873603,0.43946734539747206,2.9297823026498138E-3,5.8595646052996275E-3]
[317,{"$f":"VLOOKUP(A316,#REF!,5,FALSE)","v":{"$error":"#REF!"}},{"$f":"IFERROR(VLOOKUP(A316,#REF!,7,FALSE),0)","v":0},0,0,null,null,null,null,null,null,null,null,null,null,null,null,null,null,null,null,null,null,null,null,null,null,null,null,{"$f":"C316*0.851","v":0},{"$f":"C316*0.851","v":0},null,0,0,0,6.2331118488874786,12.466223697774957,4.9864894791099831E-2,9.9729789582199663E-2]
[318,{"$f":"VLOOKUP(A317,#REF!,5,FALSE)","v":{"$error":"#REF!"}},{"$f":"IFERROR(VLOOKUP(A317,#REF!,7,FALSE),0)","v":0},0,0,null,null,null,null,null,null,null,null,null,null,null,null,null,null,null,null,null,null,null,null,null,null,null,null,{"$f":"C317*0.851","v":0},{"$f":"C317*0.851","v":0},null,0,0,0,9.9729789582199651,19.94595791643993,4.9864894791099824E-2,9.9729789582199649E-2]
[319,{"$f":"VLOOKUP(A318,#REF!,5,FALSE)","v":{"$error":"#REF!"}},{"$f":"IFERROR(VLOOKUP(A318,#REF!,7,FALSE),0)","v":0},0,0,null,null,null,null,null,null,null,{"$f":"C318*0.7745","v":0},null,null,null,null,null,null,null,null,null,null,null,{"$f":"C318*0.7745","v":0},null,null,null,null,null,null,null,0,0,0,0.45382327868045608,0.90764655736091215,4.5382327868045608E-2,9.0764655736091215E-2]
[320,{"$f":"VLOOKUP(A319,#REF!,5,FALSE)","v":{"$error":"#REF!"}},{"$f":"IFERROR(VLOOKUP(A319,#REF!,7,FALSE),0)","v":0},0,0,null,null,null,null,null,null,null,{"$f":"C319*0.7745","v":0},null,null,null,null,null,null,null,null,null,null,null,{"$f":"C319*0.7745","v":0},null,null,null,null,null,null,null,0,0,0,2.949851311422965,5.8997026228459299,4.5382327868045615E-2,9.0764655736091229E-2]
[321,{"$f":"VLOOKUP(A320,#REF!,5,FALSE)","v":{"$error":"#REF!"}},{"$f":"IFERROR(VLOOKUP(A320,#REF!,7,FALSE),0)","v":0},0,0,null,null,null,null,null,null,null,{"$f":"C320*0.7745","v":0},null,null,null,null,null,null,null,null,null,null,null,{"$f":"C320*0.7745","v":0},null,null,null,null,null,null,null,0,0,0,0.45382327868045608,0.90764655736091215,4.5382327868045608E-2,9.0764655736091215E-2]
[322,{"$f":"VLOOKUP(A321,#REF!,5,FALSE)","v":{"$error":"#REF!"}},{"$f":"IFERROR(VLOOKUP(A321,#REF!,7,FALSE),0)","v":0},0,0,null,null,null,null,null,null,null,{"$f":"C321*0.7745","v":0},null,null,null,null,null,null,null,null,null,null,null,{"$f":"C321*0.7745","v":0},null,null,null,null,null,null,null,0,0,0,2.949851311422965,5.8997026228459299,4.5382327868045615E-2,9.0764655736091229E-2]
[323,{"$f":"VLOOKUP(A322,#REF!,5,FALSE)","v":{"$error":"#REF!"}},{"$f":"IFERROR(VLOOKUP(A322,#REF!,7,FALSE),0)","v":0},0,0,null,null,null,null,null,null,null,{"$f":"C322*0.789","v":0},null,null,null,null,null,null,null,null,null,null,null,{"$f":"C322*0.789","v":0},null,null,null,null,null,null,null,0,0,0,0.92463929471628115,1.8492785894325623,4.6231964735814056E-2,9.2463929471628112E-2]
[324,{"$f":"VLOOKUP(A323,#REF!,5,FALSE)","v":{"$error":"#REF!"}},{"$f":"IFERROR(VLOOKUP(A323,#REF!,7,FALSE),0)","v":0},0,0,null,null,null,null,null,null,null,{"$f":"C323*0.789","v":0},null,null,null,null,null,null,null,null,null,null,null,{"$f":"C323*0.789","v":0},null,null,null,null,null,null,null,0,0,0,0.92463929471628115,1.8492785894325623,4.6231964735814056E-2,9.2463929471628112E-2]
[325,{"$f":"VLOOKUP(A324,#REF!,5,FALSE)","v":{"$error":"#REF!"}},{"$f":"IFERROR(VLOOKUP(A324,#REF!,7,FALSE),0)","v":0},0,0,null,null,null,null,null,null,null,{"$f":"C324*0.7745","v":0},null,null,null,null,null,null,null,null,null,null,null,{"$f":"C324*0.7745","v":0},null,null,null,null,null,null,null,{"$f":"SUM(H324,J324,K324,L324,M324,N324,Q324,R324,T324,U324,W324,X324,Z324,AA324,AC324,AD324)","v":0},{"$f":"SUM(O324,P324,S324,V324,Y324,AB324,AE324)+I324","v":0},{"$f":"AG324+AH324","v":0},0.90764655736091215,1.8152931147218243,4.5382327868045608E-2,9.0764655736091215E-2]
[326,{"$f":"VLOOKUP(A325,#REF!,5,FALSE)","v":{"$error":"#REF!"}},{"$f":"IFERROR(VLOOKUP(A325,#REF!,7,FALSE),0)","v":0},0,0,null,null,null,null,null,null,null,{"$f":"C325*0.7745","v":0},null,null,null,null,null,null,null,null,null,null,null,{"$f":"C325*0.7745","v":0},null,null,null,null,null,null,null,0,0,0,6.8073491802068418,13.614698360413684,4.5382327868045615E-2,9.0764655736091229E-2]
[327,{"$f":"VLOOKUP(A326,#REF!,5,FALSE)","v":{"$error":"#REF!"}},{"$f":"IFERROR(VLOOKUP(A326,#REF!,7,FALSE),0)","v":0},0,0,null,null,null,null,null,null,null,{"$f":"C326*0.1","v":0},null,null,null,null,null,null,null,null,null,null,null,{"$f":"C326*0.1","v":0},null,null,null,null,null,null,null,0,0,0,4.834140799372193,9.668281598744386,5.8595646052996275E-3,1.1719129210599255E-2]
[328,{"$f":"VLOOKUP(A327,#REF!,5,FALSE)","v":{"$error":"#REF!"}},{"$f":"IFERROR(VLOOKUP(A327,#REF!,7,FALSE),0)","v":0},0,0,null,null,null,null,null,null,null,{"$f":"C327*0.0192","v":0},null,null,null,null,null,null,null,null,null,null,null,{"$f":"C327*0.0192","v":0},null,null,null,null,null,null,null,0,0,0,0.91127948741619791,1.8225589748323958,1.1250364042175282E-3,2.2500728084350564E-3]
[329,{"$f":"VLOOKUP(A328,#REF!,5,FALSE)","v":{"$error":"#REF!"}},{"$f":"IFERROR(VLOOKUP(A328,#REF!,7,FALSE),0)","v":0},{"$f":"IFERROR(AL328*C328,0)","v":0},{"$f":"IFERROR(AM328*C328,0)","v":0},null,null,null,null,null,null,null,{"$f":"C328*0.0183","v":0},null,null,null,null,null,null,null,null,null,null,null,{"$f":"C328*0.0183","v":0},null,null,null,null,null,null,null,0,0,0,0.4289201291079327,0.8578402582158654,1.0723003227698317E-3,2.1446006455396634E-3]
[330,{"$f":"VLOOKUP(A329,#REF!,5,FALSE)","v":{"$error":"#REF!"}},{"$f":"IFERROR(VLOOKUP(A329,#REF!,7,FALSE),0)","v":0},0,0,null,null,null,null,null,null,null,{"$f":"C329*0.0156","v":0},null,null,null,null,null,null,null,null,null,null,null,{"$f":"C329*0.0156","v":0},null,null,null,null,null,null,null,0,0,0,0.36563683137069669,0.73127366274139338,9.1409207842674169E-4,1.8281841568534834E-3]
[331,{"$f":"VLOOKUP(A330,#REF!,5,FALSE)","v":{"$error":"#REF!"}},{"$f":"IFERROR(VLOOKUP(A330,#REF!,7,FALSE),0)","v":0},0,0,null,null,null,null,null,null,null,{"$f":"C330*0.0192","v":0},null,null,null,null,null,null,null,null,null,null,null,{"$f":"C330*0.0192","v":0},null,null,null,null,null,null,null,0,0,0,0.45001456168701137,0.90002912337402274,1.1250364042175284E-3,2.2500728084350568E-3]
[332,{"$f":"VLOOKUP(A331,#REF!,5,FALSE)","v":{"$error":"#REF!"}},{"$f":"IFERROR(VLOOKUP(A331,#REF!,7,FALSE),0)","v":0},0,0,null,null,null,null,null,null,null,{"$f":"C331*0.0171","v":0},null,null,null,null,null,null,null,null,null,null,null,{"$f":"C331*0.0171","v":0},null,null,null,null,null,null,null,0,0,0,0.80158843800498902,1.603176876009978,1.0019855475062363E-3,2.0039710950124725E-3]
[333,{"$f":"VLOOKUP(A332,#REF!,5,FALSE)","v":{"$error":"#REF!"}},{"$f":"IFERROR(VLOOKUP(A332,#REF!,7,FALSE),0)","v":0},0,0,null,null,null,null,null,null,null,{"$f":"C332*0.0192","v":0},null,null,null,null,null,null,null,null,null,null,null,{"$f":"C332*0.0192","v":0},null,null,null,null,null,null,null,0,0,0,0.45001456168701137,0.90002912337402274,1.1250364042175284E-3,2.2500728084350568E-3]
[334,{"$f":"VLOOKUP(A333,#REF!,5,FALSE)","v":{"$error":"#REF!"}},{"$f":"IFERROR(VLOOKUP(A333,#REF!,7,FALSE),0)","v":0},0,0,null,null,null,null,null,null,null,0,null,null,null,null,null,null,null,null,null,null,null,0,null,null,null,null,null,null,null,0,0,0,0.11250364042175284,0.22500728084350569,1.1250364042175284E-3,2.2500728084350568E-3]
[335,{"$f":"VLOOKUP(A334,#REF!,5,FALSE)","v":{"$error":"#REF!"}},{"$f":"IFERROR(VLOOKUP(A334,#REF!,7,FALSE),0)","v":0},0,0,null,null,null,null,null,null,null,0,null,null,null,null,null,null,null,null,null,null,null,0,null,null,null,null,null,null,null,0,0,0,3.3751092126525849E-2,6.7502184253051697E-2,1.1250364042175282E-3,2.2500728084350564E-3]
[336,{"$f":"VLOOKUP(A335,#REF!,5,FALSE)","v":{"$error":"#REF!"}},{"$f":"IFERROR(VLOOKUP(A335,#REF!,7,FALSE),0)","v":0},0,0,null,null,null,null,null,null,null,0,null,null,null,null,null,null,null,null,null,null,null,0,null,null,null,null,null,null,null,0,0,0,0.11250364042175284,0.22500728084350569,1.1250364042175284E-3,2.2500728084350568E-3]
[337,{"$f":"VLOOKUP(A336,#REF!,5,FALSE)","v":{"$error":"#REF!"}},{"$f":"IFERROR(VLOOKUP(A336,#REF!,7,FALSE),0)","v":0},0,0,null,null,null,null,null,null,null,0,null,null,null,null,null,null,null,null,null,null,null,0,null,null,null,null,null,null,null,0,0,0,0.11250364042175284,0.22500728084350569,1.1250364042175284E-3,2.2500728084350568E-3]
[338,{"$f":"VLOOKUP(A337,#REF!,5,FALSE)","v":{"$error":"#REF!"}},{"$f":"IFERROR(VLOOKUP(A337,#REF!,7,FALSE),0)","v":0},0,0,null,null,null,null,null,null,null,0,null,null,null,null,null,null,null,null,null,null,null,0,null,null,null,null,null,null,null,0,0,0,0.11250364042175284,0.22500728084350569,1.1250364042175284E-3,2.2500728084350568E-3]
[339,{"$f":"VLOOKUP(A338,#REF!,5,FALSE)","v":{"$error":"#REF!"}},{"$f":"IFERROR(VLOOKUP(A338,#REF!,7,FALSE),0)","v":0},0,0,null,null,null,null,null,null,null,{"$f":"C338*0.1","v":0},null,null,null,null,null,null,null,null,null,null,null,{"$f":"C338*0.1","v":0},null,null,null,null,null,null,null,0,0,0,0.58595646052996275,1.1719129210599255,5.8595646052996275E-3,1.1719129210599255E-2]
[340,{"$f":"VLOOKUP(A339,#REF!,5,FALSE)","v":{"$error":"#REF!"}},{"$f":"IFERROR(VLOOKUP(A339,#REF!,7,FALSE),0)","v":0},0,0,null,null,null,null,null,null,null,{"$f":"C339*0.292","v":0},null,null,null,null,null,null,null,null,null,null,null,{"$f":"C339*0.292","v":0},null,null,null,null,null,null,null,0,0,0,1.7109928647474912,3.4219857294949825,1.7109928647474914E-2,3.4219857294949828E-2]
[341,{"$f":"VLOOKUP(A340,#REF!,5,FALSE)","v":{"$error":"#REF!"}},{"$f":"IFERROR(VLOOKUP(A340,#REF!,7,FALSE),0)","v":0},0,0,null,null,null,null,null,null,null,{"$f":"C340*0.275","v":0},null,null,null,null,null,null,null,null,null,null,null,{"$f":"C340*0.275","v":0},null,null,null,null,null,null,null,0,0,0,1.6113802664573977,3.2227605329147955,1.6113802664573976E-2,3.2227605329147951E-2]
[342,{"$f":"VLOOKUP(A341,#REF!,5,FALSE)","v":{"$error":"#REF!"}},{"$f":"IFERROR(VLOOKUP(A341,#REF!,7,FALSE),0)","v":0},0,0,null,null,null,null,null,null,null,{"$f":"C341*0.297","v":0},null,null,null,null,null,null,null,null,null,null,null,{"$f":"C341*0.297","v":0},null,null,null,null,null,null,null,0,0,0,1.7402906877739894,3.4805813755479789,1.7402906877739894E-2,3.4805813755479788E-2]
[343,{"$f":"VLOOKUP(A342,#REF!,5,FALSE)","v":{"$error":"#REF!"}},{"$f":"IFERROR(VLOOKUP(A342,#REF!,7,FALSE),0)","v":0},0,0,null,null,null,null,null,null,null,{"$f":"C342*0.297","v":0},null,null,null,null,null,null,null,null,null,null,null,{"$f":"C342*0.297","v":0},null,null,null,null,null,null,null,0,0,0,13.052180158304919,26.104360316609839,1.7402906877739894E-2,3.4805813755479788E-2]
[344,{"$f":"VLOOKUP(A343,#REF!,5,FALSE)","v":{"$error":"#REF!"}},{"$f":"IFERROR(VLOOKUP(A343,#REF!,7,FALSE),0)","v":0},0,0,null,null,null,null,null,null,null,{"$f":"C343*0.0427","v":0},null,null,null,null,null,null,null,null,null,null,null,{"$f":"C343*0.0427","v":0},null,null,null,null,null,null,null,0,0,0,1.0008136345851766,2.0016272691703532,2.5020340864629416E-3,5.0040681729258832E-3]
[345,{"$f":"VLOOKUP(A344,#REF!,5,FALSE)","v":{"$error":"#REF!"}},{"$f":"IFERROR(VLOOKUP(A344,#REF!,7,FALSE),0)","v":0},0,0,null,null,null,null,null,null,null,{"$f":"C344*0.0364","v":0},null,null,null,null,null,null,null,null,null,null,null,{"$f":"C344*0.0364","v":0},null,null,null,null,null,null,null,0,0,0,0.85315260653162572,1.7063052130632514,2.1328815163290642E-3,4.2657630326581285E-3]
[346,{"$f":"VLOOKUP(A345,#REF!,5,FALSE)","v":{"$error":"#REF!"}},{"$f":"IFERROR(VLOOKUP(A345,#REF!,7,FALSE),0)","v":0},0,0,null,null,null,null,null,null,null,{"$f":"C345*0.0448","v":0},null,null,null,null,null,null,null,null,null,null,null,{"$f":"C345*0.0448","v":0},null,null,null,null,null,null,null,0,0,0,1.0500339772696932,2.1000679545393863,2.6250849431742329E-3,5.2501698863484658E-3]
[347,{"$f":"VLOOKUP(A346,#REF!,5,FALSE)","v":{"$error":"#REF!"}},{"$f":"IFERROR(VLOOKUP(A346,#REF!,7,FALSE),0)","v":0},0,0,null,null,null,null,null,null,null,{"$f":"C346*0.0399","v":0},null,null,null,null,null,null,null,null,null,null,null,{"$f":"C346*0.0399","v":0},null,null,null,null,null,null,null,0,0,0,1.870373022011641,3.740746044023282,2.3379662775145512E-3,4.6759325550291024E-3]
[348,{"$f":"VLOOKUP(A347,#REF!,5,FALSE)","v":{"$error":"#REF!"}},{"$f":"IFERROR(VLOOKUP(A347,#REF!,7,FALSE),0)","v":0},0,0,null,null,null,null,null,null,null,{"$f":"C347*0.0448","v":0},null,null,null,null,null,null,null,null,null,null,null,{"$f":"C347*0.0448","v":0},null,null,null,null,null,null,null,0,0,0,1.0500339772696932,2.1000679545393863,2.6250849431742329E-3,5.2501698863484658E-3]
[349,{"$f":"VLOOKUP(A348,#REF!,5,FALSE)","v":{"$error":"#REF!"}},{"$f":"IFERROR(VLOOKUP(A348,#REF!,7,FALSE),0)","v":0},0,0,null,null,null,null,null,null,null,{"$f":"C348*0.0448","v":0},null,null,null,null,null,null,null,null,null,null,null,{"$f":"C348*0.0448","v":0},null,null,null,null,null,null,null,0,0,0,0.26250849431742329,0.52501698863484658,2.6250849431742329E-3,5.2501698863484658E-3]
[350,{"$f":"VLOOKUP(A349,#REF!,5,FALSE)","v":{"$error":"#REF!"}},{"$f":"IFERROR(VLOOKUP(A349,#REF!,7,FALSE),0)","v":0},0,0,null,null,null,null,null,null,null,{"$f":"C349*0.0448","v":0},null,null,null,null,null,null,null,null,null,null,null,{"$f":"C349*0.0448","v":0},null,null,null,null,null,null,null,0,0,0,7.8752548295227001E-2,0.157505096590454,2.6250849431742333E-3,5.2501698863484667E-3]
[351,{"$f":"VLOOKUP(A350,#REF!,5,FALSE)","v":{"$error":"#REF!"}},{"$f":"IFERROR(VLOOKUP(A350,#REF!,7,FALSE),0)","v":0},0,0,null,null,null,null,null,null,null,{"$f":"C350*0.0448","v":0},null,null,null,null,null,null,null,null,null,null,null,{"$f":"C350*0.0448","v":0},null,null,null,null,null,null,null,0,0,0,0.157505096590454,0.315010193180908,2.6250849431742333E-3,5.2501698863484667E-3]
[354,{"$f":"VLOOKUP(A351,#REF!,5,FALSE)","v":{"$error":"#REF!"}},{"$f":"IFERROR(VLOOKUP(A351,#REF!,7,FALSE),0)","v":0},0,0,null,null,null,null,null,null,null,null,null,null,null,null,null,null,null,null,null,null,null,null,null,null,null,{"$f":"C351*1.5","v":0},null,null,null,0,0,0,10.54721628953933,21.09443257907866,4.3946734539747206E-2,8.7893469079494413E-2]
[359,{"$f":"VLOOKUP(A352,#REF!,5,FALSE)","v":{"$error":"#REF!"}},{"$f":"IFERROR(VLOOKUP(A352,#REF!,7,FALSE),0)","v":0},0,0,null,null,{"$f":"C352*1.617","v":0},{"$f":"C352*1.136","v":0},null,null,null,null,{"$f":"C352*0.655","v":0},null,null,null,null,null,null,null,null,null,null,null,null,null,null,null,null,null,null,0,0,0,6.390206775955563,12.780413551911126,9.9846980874305671E-2,0.19969396174861134]
[360,{"$f":"VLOOKUP(A353,#REF!,5,FALSE)","v":{"$error":"#REF!"}},{"$f":"IFERROR(VLOOKUP(A353,#REF!,7,FALSE),0)","v":0},0,0,null,null,null,{"$f":"C353*0.3","v":0},null,null,null,null,null,null,null,null,null,null,null,null,null,null,null,null,null,null,null,{"$f":"C353*0.3","v":0},null,null,null,0,0,0,8.7893469079494413E-2,0.17578693815898883,1.7578693815898883E-2,3.5157387631797765E-2]
[361,{"$f":"VLOOKUP(A354,#REF!,5,FALSE)","v":{"$error":"#REF!"}},{"$f":"IFERROR(VLOOKUP(A354,#REF!,7,FALSE),0)","v":0},0,0,null,null,null,{"$f":"C354*0.341","v":0},null,null,null,null,{"$f":"C354*0.982","v":0},null,null,null,null,null,null,null,null,null,null,null,null,null,null,null,null,null,null,0,0,0,0.38761019864057034,0.77522039728114067,3.8761019864057035E-2,7.752203972811407E-2]
[362,{"$f":"VLOOKUP(A355,#REF!,5,FALSE)","v":{"$error":"#REF!"}},{"$f":"IFERROR(VLOOKUP(A355,#REF!,7,FALSE),0)","v":0},0,0,null,null,null,{"$f":"C355*0.407","v":0},null,null,null,null,{"$f":"C355*1.114","v":0},null,null,null,null,null,null,null,null,null,null,null,null,null,null,null,null,null,null,0,0,0,0.668429832349555,1.33685966469911,4.4561988823303665E-2,8.912397764660733E-2]
[363,{"$f":"VLOOKUP(A356,#REF!,5,FALSE)","v":{"$error":"#REF!"}},{"$f":"IFERROR(VLOOKUP(A356,#REF!,7,FALSE),0)","v":0},0,0,null,null,null,{"$f":"C356*0.473","v":0},null,null,null,null,{"$f":"C356*1.246","v":0},null,null,null,null,null,null,null,null,null,null,null,null,null,null,null,null,null,null,0,0,0,1.5108887334765089,3.0217774669530177,5.0362957782550295E-2,0.10072591556510059]
[364,{"$f":"VLOOKUP(A357,#REF!,5,FALSE)","v":{"$error":"#REF!"}},{"$f":"IFERROR(VLOOKUP(A357,#REF!,7,FALSE),0)","v":0},0,0,null,null,null,{"$f":"C357*0.539","v":0},null,null,null,null,{"$f":"C357*1.378","v":0},null,null,null,null,null,null,null,null,null,null,null,null,null,null,null,null,null,null,0,0,0,1.4040981685449232,2.8081963370898464,5.6163926741796925E-2,0.11232785348359385]
[365,{"$f":"VLOOKUP(A358,#REF!,5,FALSE)","v":{"$error":"#REF!"}},{"$f":"IFERROR(VLOOKUP(A358,#REF!,7,FALSE),0)","v":0},0,0,null,null,null,{"$f":"C358*0.539","v":0},null,null,null,null,{"$f":"C358*1.378","v":0},null,null,null,null,null,null,null,null,null,null,null,null,null,null,null,null,null,null,0,0,0,0.56163926741796932,1.1232785348359386,5.6163926741796932E-2,0.11232785348359386]
[366,{"$f":"VLOOKUP(A359,#REF!,5,FALSE)","v":{"$error":"#REF!"}},{"$f":"IFERROR(VLOOKUP(A359,#REF!,7,FALSE),0)","v":0},0,0,null,null,{"$f":"C359*0.655","v":0},{"$f":"C359*1.136","v":0},null,null,null,null,{"$f":"C359*1.617","v":0},null,null,null,null,null,null,null,null,null,null,null,null,null,null,null,null,null,null,0,0,0,2.9954094262291693,5.9908188524583386,9.9846980874305644E-2,0.19969396174861129]
[367,{"$f":"VLOOKUP(A360,#REF!,5,FALSE)","v":{"$error":"#REF!"}},{"$f":"IFERROR(VLOOKUP(A360,#REF!,7,FALSE),0)","v":0},0,0,null,null,null,{"$f":"C360*2.2","v":0},null,null,null,null,{"$f":"C360*2.2","v":0},null,null,null,null,null,null,null,null,null,null,null,null,null,null,null,null,null,null,0,0,0,3.8673126394977539,7.7346252789955079,0.12891042131659181,0.25782084263318361]
[368,{"$f":"VLOOKUP(A361,#REF!,5,FALSE)","v":{"$error":"#REF!"}},{"$f":"IFERROR(VLOOKUP(A361,#REF!,7,FALSE),0)","v":0},0,0,null,null,null,null,null,null,null,null,{"$f":"C361*0.3","v":0},null,null,null,null,null,null,null,{"$f":"C361*0.3","v":0},null,null,null,null,null,null,null,null,null,null,0,0,0,6.7677971191210693,13.535594238242139,1.7578693815898883E-2,3.5157387631797765E-2]
[369,{"$f":"VLOOKUP(A362,#REF!,5,FALSE)","v":{"$error":"#REF!"}},{"$f":"IFERROR(VLOOKUP(A362,#REF!,7,FALSE),0)","v":0},0,0,null,null,null,{"$f":"C362*0.501","v":0},null,null,null,null,{"$f":"C362*1.002","v":0},null,null,null,null,null,null,null,null,null,null,null,null,null,null,null,null,null,null,0,0,0,0.6605194201324005,1.321038840264801,4.4034628008826703E-2,8.8069256017653405E-2]
[370,{"$f":"VLOOKUP(A363,#REF!,5,FALSE)","v":{"$error":"#REF!"}},{"$f":"IFERROR(VLOOKUP(A363,#REF!,7,FALSE),0)","v":0},0,0,null,null,null,{"$f":"C363*0.501","v":0},null,null,null,null,{"$f":"C363*1.002","v":0},null,null,null,null,null,null,null,null,null,null,null,null,null,null,null,null,null,null,0,0,0,0.70455404814122724,1.4091080962824545,4.4034628008826703E-2,8.8069256017653405E-2]
[371,{"$f":"VLOOKUP(A364,#REF!,5,FALSE)","v":{"$error":"#REF!"}},{"$f":"IFERROR(VLOOKUP(A364,#REF!,7,FALSE),0)","v":0},0,0,null,null,null,{"$f":"C364*0.501","v":0},null,null,null,null,{"$f":"C364*1.002","v":0},null,null,null,null,null,null,null,null,null,null,null,null,null,null,null,null,null,null,0,0,0,7.3537828774740586,14.707565754948117,4.4034628008826696E-2,8.8069256017653391E-2]
[372,{"$f":"VLOOKUP(A365,#REF!,5,FALSE)","v":{"$error":"#REF!"}},{"$f":"IFERROR(VLOOKUP(A365,#REF!,7,FALSE),0)","v":0},0,0,null,null,null,{"$f":"C365*0.501","v":0},null,null,null,null,{"$f":"C365*1.002","v":0},null,null,null,null,null,null,null,null,null,null,null,null,null,null,null,null,null,null,0,0,0,1.321038840264801,2.642077680529602,4.4034628008826703E-2,8.8069256017653405E-2]
[373,{"$f":"VLOOKUP(A366,#REF!,5,FALSE)","v":{"$error":"#REF!"}},{"$f":"IFERROR(VLOOKUP(A366,#REF!,7,FALSE),0)","v":0},0,0,null,null,null,null,null,null,null,null,null,null,null,null,null,null,null,null,null,null,null,null,null,null,null,{"$f":"C366*1","v":0},null,null,null,0,0,0,0.73244557566245339,1.4648911513249068,2.9297823026498134E-2,5.8595646052996268E-2]
[374,{"$f":"VLOOKUP(A367,#REF!,5,FALSE)","v":{"$error":"#REF!"}},{"$f":"IFERROR(VLOOKUP(A367,#REF!,7,FALSE),0)","v":0},0,0,null,null,null,null,null,null,null,null,null,null,null,null,null,null,null,null,null,null,null,null,null,null,null,{"$f":"C367*0.5","v":0},null,null,null,0,0,0,0.36622278783122669,0.73244557566245339,1.4648911513249067E-2,2.9297823026498134E-2]
[375,{"$f":"VLOOKUP(A368,#REF!,5,FALSE)","v":{"$error":"#REF!"}},{"$f":"IFERROR(VLOOKUP(A368,#REF!,7,FALSE),0)","v":0},0,0,null,null,null,null,null,{"$f":"C368*0.0028","v":0},null,null,null,null,null,null,null,{"$f":"C368*0.0028","v":0},null,null,null,null,null,null,null,null,null,null,null,null,null,0,0,0,4.101695223709739,8.2033904474194781,1.6406780894838956E-4,3.2813561789677911E-4]
[376,{"$f":"VLOOKUP(A369,#REF!,5,FALSE)","v":{"$error":"#REF!"}},{"$f":"IFERROR(VLOOKUP(A369,#REF!,7,FALSE),0)","v":0},0,0,null,null,null,null,null,{"$f":"C369*0.4124","v":0},null,null,null,null,null,null,null,{"$f":"C369*0.4124","v":0},null,null,null,null,null,null,null,null,null,null,null,null,null,0,0,0,33.830782205157931,67.661564410315862,2.4164844432255663E-2,4.8329688864511326E-2]
[377,{"$f":"VLOOKUP(A370,#REF!,5,FALSE)","v":{"$error":"#REF!"}},{"$f":"IFERROR(VLOOKUP(A370,#REF!,7,FALSE),0)","v":0},0,0,null,null,null,null,null,{"$f":"C370*1.2519","v":0},null,null,null,null,null,null,null,{"$f":"C370*1.2519","v":0},null,null,null,null,null,null,null,null,null,null,null,null,null,0,0,0,2.200676678812381,4.4013533576247621,7.3355889293746035E-2,0.14671177858749207]
[378,{"$f":"VLOOKUP(A371,#REF!,5,FALSE)","v":{"$error":"#REF!"}},{"$f":"IFERROR(VLOOKUP(A371,#REF!,7,FALSE),0)","v":0},0,0,null,null,null,null,null,{"$f":"C371*0.0641","v":0},null,null,null,null,null,null,null,{"$f":"C371*0.0641","v":0},null,null,null,null,null,null,null,null,null,null,null,null,null,0,0,0,37.559809119970609,75.119618239941218,3.7559809119970611E-3,7.5119618239941222E-3]
[379,{"$f":"VLOOKUP(A372,#REF!,5,FALSE)","v":{"$error":"#REF!"}},{"$f":"IFERROR(VLOOKUP(A372,#REF!,7,FALSE),0)","v":0},0,0,null,null,null,null,null,{"$f":"C372*0.2062","v":0},null,null,null,null,null,null,null,{"$f":"C372*0.2062","v":0},null,null,null,null,null,null,null,null,null,null,null,null,null,0,0,0,12.565719104772946,25.131438209545891,1.2082422216127832E-2,2.4164844432255663E-2]
[380,{"$f":"VLOOKUP(A373,#REF!,5,FALSE)","v":{"$error":"#REF!"}},{"$f":"IFERROR(VLOOKUP(A373,#REF!,7,FALSE),0)","v":0},0,0,null,null,null,null,null,null,null,null,null,null,{"$f":"C373*3.5","v":0},null,null,null,{"$f":"C373*3.5","v":0},null,null,null,null,null,null,null,null,null,null,null,null,0,0,0,20.508476118548696,41.016952237097392,0.20508476118548696,0.41016952237097393]
[898,{"$f":"VLOOKUP(A374,#REF!,5,FALSE)","v":{"$error":"#REF!"}},{"$f":"IFERROR(VLOOKUP(A374,#REF!,7,FALSE),0)","v":0},0,0,null,null,null,{"$f":"0.0209*C374","v":0},null,null,null,null,null,null,null,null,{"$f":"0.1278*C374","v":0},null,null,null,null,null,null,null,null,null,null,null,null,null,null,0,0,0,2.1782931420201365E-2,4.356586284040273E-2,4.356586284040273E-3,8.7131725680805461E-3]
[915,{"$f":"VLOOKUP(A375,#REF!,5,FALSE)","v":{"$error":"#REF!"}},{"$f":"IFERROR(VLOOKUP(A375,#REF!,7,FALSE),0)","v":0},0,0,null,null,{"$f":"4.7314*C375","v":0},{"$f":"3.3466*C375","v":0},null,null,null,null,null,null,null,null,null,null,null,null,null,null,null,null,null,null,null,null,null,null,null,0,0,0,0.23666781440805196,0.47333562881610391,0.23666781440805196,0.47333562881610391]
[916,{"$f":"VLOOKUP(A376,#REF!,5,FALSE)","v":{"$error":"#REF!"}},{"$f":"IFERROR(VLOOKUP(A376,#REF!,7,FALSE),0)","v":0},0,0,null,null,null,{"$f":"0.0114*C376","v":0},null,null,null,null,null,null,null,null,{"$f":"0.0698*C376","v":0},null,null,null,null,null,null,null,null,null,null,null,null,null,null,0,0,0,1.1894916148758244E-2,2.3789832297516487E-2,2.3789832297516486E-3,4.7579664595032971E-3]
[917,{"$f":"VLOOKUP(A377,#REF!,5,FALSE)","v":{"$error":"#REF!"}},{"$f":"IFERROR(VLOOKUP(A377,#REF!,7,FALSE),0)","v":0},0,0,null,null,null,{"$f":"0.0051*C377","v":0},null,null,null,null,null,null,null,null,{"$f":"0.0312*C377","v":0},null,null,null,null,null,null,null,null,null,null,null,null,null,null,0,0,0,5.3175548793094121E-3,1.0635109758618824E-2,1.0635109758618823E-3,2.1270219517237647E-3]
[918,{"$f":"VLOOKUP(A378,#REF!,5,FALSE)","v":{"$error":"#REF!"}},{"$f":"IFERROR(VLOOKUP(A378,#REF!,7,FALSE),0)","v":0},0,0,null,null,null,{"$f":"0.55*C378","v":0},null,null,null,null,null,null,null,null,null,null,null,{"$f":"0.55*C378","v":0},null,null,null,null,null,null,null,null,null,null,null,0,0,0,0.48341407993721924,0.96682815987443849,3.2227605329147951E-2,6.4455210658295903E-2]
[919,{"$f":"VLOOKUP(A379,#REF!,5,FALSE)","v":{"$error":"#REF!"}},{"$f":"IFERROR(VLOOKUP(A379,#REF!,7,FALSE),0)","v":0},0,0,null,null,null,{"$f":"3.956*C379","v":0},null,null,null,null,null,null,null,null,null,null,null,null,null,null,null,null,null,null,null,null,null,null,null,0,0,0,1.7385328183923994,3.4770656367847987,0.11590218789282662,0.23180437578565324]
[920,{"$f":"VLOOKUP(A380,#REF!,5,FALSE)","v":{"$error":"#REF!"}},{"$f":"IFERROR(VLOOKUP(A380,#REF!,7,FALSE),0)","v":0},0,0,null,null,null,{"$f":"0.65*C380","v":0},null,null,null,null,null,null,null,null,null,null,null,null,null,null,null,null,null,null,null,null,null,null,null,0,0,0,0.28565377450835683,0.57130754901671366,1.9043584967223789E-2,3.8087169934447579E-2]
[921,{"$f":"VLOOKUP(A381,#REF!,5,FALSE)","v":{"$error":"#REF!"}},{"$f":"IFERROR(VLOOKUP(A381,#REF!,7,FALSE),0)","v":0},0,0,null,null,null,{"$f":"0.659*C381","v":0},null,null,null,null,null,null,null,null,null,null,null,null,null,null,null,null,null,null,null,null,null,null,null,0,0,0,0.28960898061693408,0.57921796123386815,1.9307265374462271E-2,3.8614530748924542E-2]
[922,{"$f":"VLOOKUP(A382,#REF!,5,FALSE)","v":{"$error":"#REF!"}},{"$f":"IFERROR(VLOOKUP(A382,#REF!,7,FALSE),0)","v":0},0,0,null,null,null,null,null,null,null,{"$f":"0.144*C382","v":0},null,null,null,null,null,null,null,null,null,null,null,{"$f":"0.144*C382","v":0},null,null,null,null,null,null,null,0,0,0,8.4377730316314639E-2,0.16875546063262928,8.4377730316314639E-3,1.6875546063262928E-2]
[923,{"$f":"VLOOKUP(A383,#REF!,5,FALSE)","v":{"$error":"#REF!"}},{"$f":"IFERROR(VLOOKUP(A383,#REF!,7,FALSE),0)","v":0},0,0,null,null,null,null,null,null,null,{"$f":"0.16*C383","v":0},null,null,null,null,null,null,null,null,null,null,null,{"$f":"0.16*C383","v":0},null,null,null,null,null,null,null,0,0,0,9.375303368479404E-2,0.18750606736958808,9.3753033684794047E-3,1.8750606736958809E-2]
[924,{"$f":"VLOOKUP(A384,#REF!,5,FALSE)","v":{"$error":"#REF!"}},{"$f":"IFERROR(VLOOKUP(A384,#REF!,7,FALSE),0)","v":0},0,0,null,null,null,null,null,null,null,{"$f":"0.076*C384","v":0},null,null,null,null,null,null,null,null,null,null,null,{"$f":"0.076*C384","v":0},null,null,null,null,null,null,null,0,0,0,4.4532691000277166E-2,8.9065382000554333E-2,4.4532691000277163E-3,8.9065382000554326E-3]
[925,{"$f":"VLOOKUP(A385,#REF!,5,FALSE)","v":{"$error":"#REF!"}},{"$f":"IFERROR(VLOOKUP(A385,#REF!,7,FALSE),0)","v":0},0,0,null,null,null,{"$f":"0.44*C385","v":0},null,null,null,{"$f":"0.78*C385","v":0},null,null,null,null,null,null,null,null,null,null,null,null,null,null,null,null,null,null,null,0,0,0,0.17871672046163864,0.35743344092327728,3.5743344092327725E-2,7.148668818465545E-2]
[926,{"$f":"VLOOKUP(A386,#REF!,5,FALSE)","v":{"$error":"#REF!"}},{"$f":"IFERROR(VLOOKUP(A386,#REF!,7,FALSE),0)","v":0},0,0,null,null,null,{"$f":"0.1*C386","v":0},null,null,null,null,null,null,null,null,null,null,null,null,null,null,null,null,null,null,null,null,null,null,null,0,0,0,1.4648911513249069E-2,2.9297823026498138E-2,2.9297823026498138E-3,5.8595646052996275E-3]
[927,{"$f":"VLOOKUP(A387,#REF!,5,FALSE)","v":{"$error":"#REF!"}},{"$f":"IFERROR(VLOOKUP(A387,#REF!,7,FALSE),0)","v":0},0,0,null,null,null,null,null,null,null,{"$f":"0.789*C387","v":0},null,null,null,null,null,null,null,null,null,null,null,{"$f":"0.789*C387","v":0},null,null,null,null,null,null,null,0,0,0,0.46231964735814057,0.92463929471628115,4.6231964735814056E-2,9.2463929471628112E-2]
[937,{"$f":"VLOOKUP(A388,#REF!,5,FALSE)","v":{"$error":"#REF!"}},{"$f":"IFERROR(VLOOKUP(A388,#REF!,7,FALSE),0)","v":0},0,0,null,null,null,{"$f":"0.059*C388","v":0},null,null,null,null,null,null,null,null,{"$f":"0.2951*C388","v":0},null,null,null,null,null,null,null,null,null,null,null,null,null,null,{"$f":"SUM(H388,J388,K388,L388,M388,N388,Q388,R388,T388,U388,W388,X388,Z388,AA388,AC388,AD388)","v":0},{"$f":"SUM(O388,P388,S388,V388,Y388,AB388,AE388)+I388","v":0},{"$f":"AG388+AH388","v":0},3.6310256967890466,7.2620513935780933,1.037435913368299E-2,2.0748718267365979E-2]
[938,{"$f":"VLOOKUP(A389,#REF!,5,FALSE)","v":{"$error":"#REF!"}},{"$f":"IFERROR(VLOOKUP(A389,#REF!,7,FALSE),0)","v":0},0,0,null,null,null,{"$f":"0.1*C389","v":0},null,null,null,null,null,null,null,null,{"$f":"0.5*C389","v":0},null,null,null,null,null,null,null,null,null,null,null,null,null,null,0,0,0,1.2305085671129217,2.4610171342258433,1.7578693815898883E-2,3.5157387631797765E-2]
[939,{"$f":"VLOOKUP(A390,#REF!,5,FALSE)","v":{"$error":"#REF!"}},{"$f":"IFERROR(VLOOKUP(A390,#REF!,7,FALSE),0)","v":0},0,0,null,null,null,null,null,null,null,null,null,null,null,null,null,null,null,null,null,null,null,null,null,null,null,null,null,null,null,0,0,0,0,0,0,0]
[940,{"$f":"VLOOKUP(A391,#REF!,5,FALSE)","v":{"$error":"#REF!"}},{"$f":"IFERROR(VLOOKUP(A391,#REF!,7,FALSE),0)","v":0},0,0,null,null,null,null,null,null,null,null,null,null,null,null,null,null,null,null,null,null,null,null,null,null,null,null,null,null,null,0,0,0,0,0,0,0]
[352,{"$f":"VLOOKUP(A392,#REF!,5,FALSE)","v":{"$error":"#REF!"}},{"$f":"IFERROR(VLOOKUP(A392,#REF!,7,FALSE),0)","v":0},{"$f":"IFERROR(AL392*C392,0)","v":0},{"$f":"IFERROR(AM392*C392,0)","v":0},null,null,null,null,null,null,null,null,null,null,null,null,null,null,null,null,null,null,null,null,null,null,null,null,null,null,null,0,0,0,0,0,0,0]
[353,{"$f":"VLOOKUP(A393,#REF!,5,FALSE)","v":{"$error":"#REF!"}},{"$f":"IFERROR(VLOOKUP(A393,#REF!,7,FALSE),0)","v":0},0,0,null,null,null,null,null,null,null,null,null,null,null,null,null,null,null,null,null,null,null,null,null,null,null,null,null,null,null,0,0,0,0,0,0,0]
[355,{"$f":"VLOOKUP(A394,#REF!,5,FALSE)","v":{"$error":"#REF!"}},{"$f":"IFERROR(VLOOKUP(A394,#REF!,7,FALSE),0)","v":0},0,0,null,null,null,null,null,null,null,null,null,null,null,null,null,null,null,null,null,null,null,null,null,null,null,null,null,null,null,0,0,0,0,0,0,0]
[356,{"$f":"VLOOKUP(A395,#REF!,5,FALSE)","v":{"$error":"#REF!"}},{"$f":"IFERROR(VLOOKUP(A395,#REF!,7,FALSE),0)","v":0},0,0,null,null,null,null,null,null,null,null,null,null,null,null,null,null,null,null,null,null,null,null,null,null,null,null,null,null,null,0,0,0,0,0,0,0]
[357,{"$f":"VLOOKUP(A396,#REF!,5,FALSE)","v":{"$error":"#REF!"}},{"$f":"IFERROR(VLOOKUP(A396,#REF!,7,FALSE),0)","v":0},0,0,null,null,null,null,null,null,null,null,null,null,null,null,null,null,null,null,null,null,null,null,null,null,null,null,null,null,null,0,0,0,0,0,0,0]
[358,{"$f":"VLOOKUP(A397,#REF!,5,FALSE)","v":{"$error":"#REF!"}},{"$f":"IFERROR(VLOOKUP(A397,#REF!,7,FALSE),0)","v":0},0,0,null,null,null,null,null,null,null,null,null,null,null,null,null,null,null,null,null,null,null,null,null,null,null,null,null,null,null,0,0,0,0,0,0,0]
[162,{"$f":"VLOOKUP(A398,#REF!,5,FALSE)","v":{"$error":"#REF!"}},{"$f":"IFERROR(VLOOKUP(A398,#REF!,7,FALSE),0)","v":0},0,0,null,null,null,null,null,null,null,null,null,null,null,null,null,null,null,null,null,null,null,null,null,null,null,null,null,null,null,0,0,0,0,0,0,0]
[163,{"$f":"VLOOKUP(A399,#REF!,5,FALSE)","v":{"$error":"#REF!"}},{"$f":"IFERROR(VLOOKUP(A399,#REF!,7,FALSE),0)","v":0},0,0,null,null,null,null,null,null,null,null,null,null,null,null,null,null,null,null,null,null,null,null,null,null,null,null,null,null,null,0,0,0,0,0,0,0]
[164,{"$f":"VLOOKUP(A400,#REF!,5,FALSE)","v":{"$error":"#REF!"}},{"$f":"IFERROR(VLOOKUP(A400,#REF!,7,FALSE),0)","v":0},0,0,null,null,null,null,null,null,null,null,null,null,null,null,null,null,null,null,null,null,null,null,null,null,null,null,null,null,null,0,0,0,0,0,0,0]
["Totais",null,null,{"$f":"SUM(D3:D400)","v":0},0,0,0,0,0,0,0,0,0,0,0,0,0,0,0,0,0,0,0,0,0,0,0,0,0,0,0,null,{"$f":"SUM(AG3:AG400)","v":0},{"$f":"SUM(AH3:AH400)","v":0},{"$f":"SUM(AI3:AI400)","v":0},{"$f":"SUM(AJ3:AJ400)","v":3000.0000000000023},{"$f":"SUM(AK3:AK400)","v":6000.0000000000045}]
[]
[null,"Cálculo do prazo da obra","Jornada=",8,"h/dia"]
[]
[null,"Categoria profissional","Hh","Efetivo","Dias"]
[null,"Profissional",{"$f":"SUM(H401,J401,K401,L401,M401,N401,Q401,R401,T401,U401,W401,X401,Z401,AA401,AC401,AD401)","v":0},3,{"$f":"C406/D406","v":0}]
[null,"Ajudante / Auxiliar / 1/2 Oficial / Servente",{"$f":"SUM(O401,P401,S401,V401,Y401,AB401,AE401)+I401","v":0},{"$f":"2*D406","v":6},{"$f":"C407/D407","v":0}]
[]
[]
[null,"Prazo",{"$f":"MAX(E406:E407)","v":0},"dias"]
[]
[null,"MO indireta (estimativa antiga)","Hh"]
[null,"Mestre de obras",{"$f":"20%*D403*C410","v":0}]
[null,"Engenheiro",{"$f":"50%*C413","v":0}]

{"sheet":"SETORES","index":9,"n_rows":23,"n_cols":12,"rows_kept":23,"cut":false,"hidden":true,"merged":[[1,0,4,0]]}
["Setor","COEMANT","SINFRA","COOTELE","PRODASEN",null,null,null,"Responsável",null,null,"Unidades"]
["Subsetor","Elétrica","Marcenaria","Telefonia","Rack",null,null,null,"SEPROARQ",null,null,"hh"]
[null,"Mecânica","Serralheria",null,null,null,null,null,"SEPINF",null,null,"un"]
[null,"Obra Civil",null,null,null,null,null,null,null,null,null,"m3"]
[null,"Hidrossanitário",null,null,null,null,null,null,null,null,null,"m2"]
[null,null,null,null,null,null,null,null,null,null,null,"m"]
[null,null,null,null,null,null,null,null,null,null,null,"m2/mês"]
[null,null,null,null,null,null,null,null,null,null,null,"m/mês"]
[null,null,null,null,null,null,null,null,null,null,null,"mês"]
[null,null,null,null,null,null,null,null,null,null,null,"kg"]
[null,null,null,null,null,null,null,null,null,null,null,"cj"]
[]
[]
[]
[]
[]
[]
[]
[]
[{"$f":"B$1","v":"COEMANT"}]
[{"$f":"C1","v":"SINFRA"}]
[{"$f":"D1","v":"COOTELE"},null,"COEMANT",null,{"$f":"OFFSET(SETORES!$A$20,0,0,COUNTA(SETORES!$A:$A),1)","v":"COOTELE"}]
[{"$f":"E1","v":"PRODASEN"}]