{"text_format":"1","workbook":"xlsx","n_sheets":5,"sheets":["Composições","Comp.Aux1","Comp.Aux2","Orçamentária","BDI"],"not_rendered":{"charts":0,"images":3,"macros":1,"external_links":0,"defined_names":13,"comments":0,"pivot_tables":0},"unopened":[],"bounds":{"document_bytes":16777216,"sheet_cells":100000,"rows_first":2000,"rows_last":500,"rows_between":2000,"halvings":0,"cell_chars":16384,"cell_head_chars":4096},"cells_cut":0,"cells_raw":0,"read":"whole","date_system":"1900"}

{"sheet":"Composições","index":0,"n_rows":4970,"n_cols":10,"rows_kept":4970,"cut":false,"hidden":false,"merged":[[4930,0,4935,0],[4930,1,4935,1],[4936,0,4941,0],[4936,1,4941,1],[4942,0,4956,0],[4942,1,4956,1],[4957,0,4962,0],[4957,1,4962,1],[4963,0,4969,0],[4963,1,4969,1],[4866,0,4873,0],[4866,1,4873,1],[4874,0,4881,0],[4874,1,4881,1],[4882,0,4889,0],[4882,1,4889,1],[4890,0,4899,0],[4890,1,4899,1],[4900,0,4909,0],[4900,1,4909,1],[4910,0,4916,0],[4910,1,4916,1],[4917,0,4923,0],[4917,1,4923,1],[4924,0,4929,0],[4924,1,4929,1],[4822,0,4829,0],[4822,1,4829,1],[4830,0,4837,0],[4830,1,4837,1],[4838,0,4845,0],[4838,1,4845,1],[4846,0,4851,0],[4846,1,4851,1],[4852,0,4859,0],[4852,1,4859,1],[4860,0,4865,0],[4860,1,4865,1],[133,1,136,1],[181,0,187,0],[181,1,187,1],[188,0,194,0],[188,1,194,1],[195,0,198,0],[195,1,198,1],[212,0,216,0],[212,1,216,1],[217,0,221,0],[217,1,221,1],[222,0,225,0],[222,1,225,1],[199,0,202,0],[199,1,202,1],[203,0,207,0],[159,1,163,1],[164,0,168,0],[164,1,168,1],[234,0,237,0],[96,0,100,0],[96,1,100,1],[101,0,104,0],[101,1,104,1],[105,0,109,0],[105,1,109,1],[68,1,75,1],[76,0,80,0],[76,1,80,1],[86,0,90,0],[86,1,90,1],[91,0,95,0],[91,1,95,1],[4808,0,4813,0],[4808,1,4813,1],[4814,0,4821,0],[4814,1,4821,1],[137,0,141,0],[137,1,141,1],[142,0,146,0],[142,1,146,1],[147,0,151,0],[147,1,151,1],[169,0,172,0],[169,1,172,1],[173,0,176,0],[173,1,176,1],[177,0,180,0],[177,1,180,1],[152,0,158,0],[152,1,158,1],[159,0,163,0],[5,0,8,0],[5,1,8,1],[9,0,12,0],[9,1,12,1],[13,0,16,0],[13,1,16,1],[46,0,50,0],[46,1,50,1],[51,0,57,0],[51,1,57,1],[58,0,62,0],[58,1,62,1],[32,0,35,0],[32,1,35,1],[36,0,40,0],[81,0,85,0],[81,1,85,1],[63,0,67,0],[63,1,67,1],[68,0,75,0],[36,1,40,1],[41,0,45,0],[41,1,45,1],[17,0,21,0],[17,1,21,1],[22,0,26,0],[22,1,26,1],[27,0,31,0],[27,1,31,1],[124,0,128,0],[124,1,128,1],[129,0,132,0],[129,1,132,1],[133,0,136,0],[110,0,114,0],[110,1,114,1],[115,0,118,0],[115,1,118,1],[119,0,123,0],[119,1,123,1],[203,1,207,1],[208,0,211,0],[208,1,211,1],[226,0,229,0],[226,1,229,1],[230,0,233,0],[230,1,233,1],[234,1,237,1],[266,0,273,0],[266,1,273,1],[274,0,280,0],[274,1,280,1],[281,0,287,0],[281,1,287,1],[238,0,245,0],[238,1,245,1],[246,0,260,0],[246,1,260,1],[261,0,265,0],[261,1,265,1],[288,0,302,0],[288,1,302,1],[303,0,317,0],[303,1,317,1],[318,0,323,0],[318,1,323,1],[363,0,368,0],[363,1,368,1],[369,0,377,0],[369,1,377,1],[378,0,391,0],[378,1,391,1],[324,0,338,0],[324,1,338,1],[339,0,348,0],[339,1,348,1],[349,0,362,0],[349,1,362,1],[392,0,398,0],[392,1,398,1],[399,0,412,0],[399,1,412,1],[413,0,419,0],[413,1,419,1],[444,0,451,0],[444,1,451,1],[452,0,461,0],[452,1,461,1],[462,0,468,0],[462,1,468,1],[420,0,431,0],[420,1,431,1],[432,0,437,0],[432,1,437,1],[438,0,443,0],[438,1,443,1],[469,0,480,0],[469,1,480,1],[481,0,486,0],[481,1,486,1],[487,0,494,0],[487,1,494,1],[515,0,523,0],[515,1,523,1],[524,0,532,0],[524,1,532,1],[533,0,538,0],[533,1,538,1],[495,0,501,0],[495,1,501,1],[502,0,508,0],[502,1,508,1],[509,0,514,0],[509,1,514,1],[617,0,622,0],[617,1,622,1],[623,0,630,0],[623,1,630,1],[539,0,546,0],[539,1,546,1],[547,0,554,0],[547,1,554,1],[555,0,562,0],[555,1,562,1],[590,0,597,0],[590,1,597,1],[598,0,607,0],[598,1,607,1],[608,0,616,0],[608,1,616,1],[563,0,570,0],[563,1,570,1],[571,0,580,0],[571,1,580,1],[581,0,589,0],[581,1,589,1],[723,0,729,0],[723,1,729,1],[730,0,735,0],[730,1,735,1],[688,0,695,0],[688,1,695,1],[696,0,703,0],[696,1,703,1],[704,0,713,0],[704,1,713,1],[666,0,669,0],[666,1,669,1],[670,0,677,0],[670,1,677,1],[678,0,687,0],[678,1,687,1],[631,0,638,0],[631,1,638,1],[654,0,657,0],[654,1,657,1],[658,0,661,0],[658,1,661,1],[662,0,665,0],[662,1,665,1],[639,0,645,0],[639,1,645,1],[646,0,649,0],[646,1,649,1],[650,0,653,0],[650,1,653,1],[783,0,789,0],[783,1,789,1],[790,0,803,0],[790,1,803,1],[804,0,813,0],[804,1,813,1],[755,0,765,0],[755,1,765,1],[766,0,771,0],[766,1,771,1],[772,0,782,0],[772,1,782,1],[736,0,743,0],[736,1,743,1],[744,0,747,0],[744,1,747,1],[748,0,754,0],[748,1,754,1],[714,0,722,0],[714,1,722,1],[845,0,849,0],[845,1,849,1],[850,0,855,0],[850,1,855,1],[856,0,862,0],[856,1,862,1],[827,0,831,0],[827,1,831,1],[832,0,838,0],[832,1,838,1],[839,0,844,0],[839,1,844,1],[814,0,817,0],[814,1,817,1],[818,0,822,0],[818,1,822,1],[823,0,826,0],[823,1,826,1],[903,0,906,0],[903,1,906,1],[907,0,912,0],[907,1,912,1],[913,0,921,0],[913,1,921,1],[884,0,890,0],[884,1,890,1],[891,0,895,0],[891,1,895,1],[896,0,902,0],[896,1,902,1],[863,0,868,0],[863,1,868,1],[869,0,876,0],[869,1,876,1],[877,0,883,0],[877,1,883,1],[966,0,972,0],[966,1,972,1],[973,0,979,0],[973,1,979,1],[980,0,990,0],[980,1,990,1],[947,0,952,0],[947,1,952,1],[953,0,958,0],[953,1,958,1],[959,0,965,0],[959,1,965,1],[922,0,928,0],[922,1,928,1],[929,0,937,0],[929,1,937,1],[938,0,946,0],[938,1,946,1],[1036,0,1044,0],[1036,1,1044,1],[1045,0,1051,0],[1045,1,1051,1],[1052,0,1058,0],[1052,1,1058,1],[1012,0,1020,0],[1012,1,1020,1],[1021,0,1025,0],[1021,1,1025,1],[1026,0,1035,0],[1026,1,1035,1],[991,0,1001,0],[991,1,1001,1],[1002,0,1006,0],[1002,1,1006,1],[1007,0,1011,0],[1007,1,1011,1],[1108,0,1115,0],[1108,1,1115,1],[1116,0,1120,0],[1116,1,1120,1],[1121,0,1125,0],[1121,1,1125,1],[1082,0,1089,0],[1082,1,1089,1],[1090,0,1097,0],[1090,1,1097,1],[1098,0,1107,0],[1098,1,1107,1],[1059,0,1065,0],[1059,1,1065,1],[1066,0,1072,0],[1066,1,1072,1],[1073,0,1081,0],[1073,1,1081,1],[1165,0,1171,0],[1165,1,1171,1],[1172,0,1178,0],[1172,1,1178,1],[1179,0,1185,0],[1179,1,1185,1],[1144,0,1150,0],[1144,1,1150,1],[1151,0,1157,0],[1151,1,1157,1],[1158,0,1164,0],[1158,1,1164,1],[1126,0,1131,0],[1126,1,1131,1],[1132,0,1136,0],[1132,1,1136,1],[1137,0,1143,0],[1137,1,1143,1],[1228,0,1234,0],[1228,1,1234,1],[1235,0,1241,0],[1235,1,1241,1],[1242,0,1248,0],[1242,1,1248,1],[1207,0,1213,0],[1207,1,1213,1],[1214,0,1220,0],[1214,1,1220,1],[1221,0,1227,0],[1221,1,1227,1],[1186,0,1192,0],[1186,1,1192,1],[1193,0,1199,0],[1193,1,1199,1],[1200,0,1206,0],[1200,1,1206,1],[1290,0,1296,0],[1290,1,1296,1],[1297,0,1303,0],[1297,1,1303,1],[1304,0,1311,0],[1304,1,1311,1],[1270,0,1275,0],[1270,1,1275,1],[1276,0,1282,0],[1276,1,1282,1],[1283,0,1289,0],[1283,1,1289,1],[1249,0,1255,0],[1249,1,1255,1],[1256,0,1262,0],[1256,1,1262,1],[1263,0,1269,0],[1263,1,1269,1],[1351,0,1356,0],[1351,1,1356,1],[1357,0,1363,0],[1357,1,1363,1],[1364,0,1369,0],[1364,1,1369,1],[1332,0,1337,0],[1332,1,1337,1],[1338,0,1343,0],[1338,1,1343,1],[1344,0,1350,0],[1344,1,1350,1],[1312,0,1320,0],[1312,1,1320,1],[1321,0,1325,0],[1321,1,1325,1],[1326,0,1331,0],[1326,1,1331,1],[1407,0,1421,0],[1407,1,1421,1],[1422,0,1436,0],[1422,1,1436,1],[1437,0,1451,0],[1437,1,1451,1],[1388,0,1393,0],[1388,1,1393,1],[1394,0,1399,0],[1394,1,1399,1],[1400,0,1406,0],[1400,1,1406,1],[1370,0,1375,0],[1370,1,1375,1],[1376,0,1381,0],[1376,1,1381,1],[1382,0,1387,0],[1382,1,1387,1],[1528,0,1535,0],[1528,1,1535,1],[1536,0,1543,0],[1536,1,1543,1],[1544,0,1551,0],[1544,1,1551,1],[1497,0,1511,0],[1497,1,1511,1],[1512,0,1519,0],[1512,1,1519,1],[1520,0,1527,0],[1520,1,1527,1],[1452,0,1466,0],[1452,1,1466,1],[1467,0,1481,0],[1467,1,1481,1],[1482,0,1496,0],[1482,1,1496,1],[1601,0,1606,0],[1601,1,1606,1],[1607,0,1612,0],[1607,1,1612,1],[1613,0,1619,0],[1613,1,1619,1],[1573,0,1579,0],[1573,1,1579,1],[1580,0,1594,0],[1580,1,1594,1],[1595,0,1600,0],[1595,1,1600,1],[1552,0,1558,0],[1552,1,1558,1],[1559,0,1565,0],[1559,1,1565,1],[1566,0,1572,0],[1566,1,1572,1],[1654,0,1659,0],[1654,1,1659,1],[1660,0,1665,0],[1660,1,1665,1],[1666,0,1670,0],[1666,1,1670,1],[1637,0,1641,0],[1637,1,1641,1],[1642,0,1647,0],[1642,1,1647,1],[1648,0,1653,0],[1648,1,1653,1],[1620,0,1624,0],[1620,1,1624,1],[1625,0,1630,0],[1625,1,1630,1],[1631,0,1636,0],[1631,1,1636,1],[1707,0,1714,0],[1707,1,1714,1],[1715,0,1725,0],[1715,1,1725,1],[1726,0,1736,0],[1726,1,1736,1],[1687,0,1693,0],[1687,1,1693,1],[1694,0,1700,0],[1694,1,1700,1],[1701,0,1706,0],[1701,1,1706,1],[1671,0,1675,0],[1671,1,1675,1],[1676,0,1680,0],[1676,1,1680,1],[1681,0,1686,0],[1681,1,1686,1],[1787,0,1793,0],[1787,1,1793,1],[1794,0,1800,0],[1794,1,1800,1],[1801,0,1807,0],[1801,1,1807,1],[1766,0,1772,0],[1766,1,1772,1],[1773,0,1779,0],[1773,1,1779,1],[1780,0,1786,0],[1780,1,1786,1],[1737,0,1747,0],[1737,1,1747,1],[1748,0,1758,0],[1748,1,1758,1],[1759,0,1765,0],[1759,1,1765,1],[1843,0,1848,0],[1843,1,1848,1],[1849,0,1854,0],[1849,1,1854,1],[1855,0,1860,0],[1855,1,1860,1],[1824,0,1829,0],[1824,1,1829,1],[1830,0,1835,0],[1830,1,1835,1],[1836,0,1842,0],[1836,1,1842,1],[1808,0,1813,0],[1808,1,1813,1],[1814,0,1818,0],[1814,1,1818,1],[1819,0,1823,0],[1819,1,1823,1],[1897,0,1902,0],[1897,1,1902,1],[1903,0,1908,0],[1903,1,1908,1],[1909,0,1914,0],[1909,1,1914,1],[1879,0,1884,0],[1879,1,1884,1],[1885,0,1890,0],[1885,1,1890,1],[1891,0,1896,0],[1891,1,1896,1],[1861,0,1866,0],[1861,1,1866,1],[1867,0,1872,0],[1867,1,1872,1],[1873,0,1878,0],[1873,1,1878,1],[1946,0,1950,0],[1946,1,1950,1],[1951,0,1956,0],[1951,1,1956,1],[1957,0,1962,0],[1957,1,1962,1],[1930,0,1935,0],[1930,1,1935,1],[1936,0,1940,0],[1936,1,1940,1],[1941,0,1945,0],[1941,1,1945,1],[1915,0,1919,0],[1915,1,1919,1],[1920,0,1924,0],[1920,1,1924,1],[1925,0,1929,0],[1925,1,1929,1],[2007,0,2013,0],[2007,1,2013,1],[2014,0,2020,0],[2014,1,2020,1],[2021,0,2026,0],[2021,1,2026,1],[1985,0,1992,0],[1985,1,1992,1],[1993,0,1999,0],[1993,1,1999,1],[2000,0,2006,0],[2000,1,2006,1],[1963,0,1969,0],[1963,1,1969,1],[1970,0,1976,0],[1970,1,1976,1],[1977,0,1984,0],[1977,1,1984,1],[2075,0,2082,0],[2075,1,2082,1],[2083,0,2090,0],[2083,1,2090,1],[2091,0,2098,0],[2091,1,2098,1],[2051,0,2058,0],[2051,1,2058,1],[2059,0,2066,0],[2059,1,2066,1],[2067,0,2074,0],[2067,1,2074,1],[2027,0,2034,0],[2027,1,2034,1],[2035,0,2042,0],[2035,1,2042,1],[2043,0,2050,0],[2043,1,2050,1],[2139,0,2144,0],[2139,1,2144,1],[2145,0,2152,0],[2145,1,2152,1],[2153,0,2160,0],[2153,1,2160,1],[2121,0,2126,0],[2121,1,2126,1],[2127,0,2132,0],[2127,1,2132,1],[2133,0,2138,0],[2133,1,2138,1],[2099,0,2106,0],[2099,1,2106,1],[2107,0,2114,0],[2107,1,2114,1],[2115,0,2120,0],[2115,1,2120,1],[2209,0,2213,0],[2209,1,2213,1],[2214,0,2220,0],[2214,1,2220,1],[2221,0,2226,0],[2221,1,2226,1],[2185,0,2192,0],[2185,1,2192,1],[2193,0,2200,0],[2193,1,2200,1],[2201,0,2208,0],[2201,1,2208,1],[2161,0,2168,0],[2161,1,2168,1],[2169,0,2176,0],[2169,1,2176,1],[2177,0,2184,0],[2177,1,2184,1],[2285,0,2296,0],[2285,1,2296,1],[2297,0,2308,0],[2297,1,2308,1],[2309,0,2320,0],[2309,1,2320,1],[2255,0,2260,0],[2255,1,2260,1],[2261,0,2272,0],[2261,1,2272,1],[2273,0,2284,0],[2273,1,2284,1],[2227,0,2232,0],[2227,1,2232,1],[2233,0,2238,0],[2233,1,2238,1],[2239,0,2254,0],[2239,1,2254,1],[2359,0,2363,0],[2359,1,2363,1],[2364,0,2368,0],[2364,1,2368,1],[2369,0,2373,0],[2369,1,2373,1],[2341,0,2346,0],[2341,1,2346,1],[2347,0,2352,0],[2347,1,2352,1],[2353,0,2358,0],[2353,1,2358,1],[2321,0,2327,0],[2321,1,2327,1],[2328,0,2334,0],[2328,1,2334,1],[2335,0,2340,0],[2335,1,2340,1],[2414,0,2417,0],[2414,1,2417,1],[2418,0,2421,0],[2418,1,2421,1],[2422,0,2425,0],[2422,1,2425,1],[2395,0,2400,0],[2395,1,2400,1],[2401,0,2407,0],[2401,1,2407,1],[2408,0,2413,0],[2408,1,2413,1],[2374,0,2379,0],[2374,1,2379,1],[2380,0,2387,0],[2380,1,2387,1],[2388,0,2394,0],[2388,1,2394,1],[2458,0,2465,0],[2458,1,2465,1],[2466,0,2469,0],[2466,1,2469,1],[2470,0,2473,0],[2470,1,2473,1],[2438,0,2441,0],[2438,1,2441,1],[2442,0,2449,0],[2442,1,2449,1],[2450,0,2457,0],[2450,1,2457,1],[2426,0,2429,0],[2426,1,2429,1],[2430,0,2433,0],[2430,1,2433,1],[2434,0,2437,0],[2434,1,2437,1],[2498,0,2501,0],[2498,1,2501,1],[2502,0,2505,0],[2502,1,2505,1],[2506,0,2509,0],[2506,1,2509,1],[2486,0,2489,0],[2486,1,2489,1],[2490,0,2493,0],[2490,1,2493,1],[2494,0,2497,0],[2494,1,2497,1],[2474,0,2477,0],[2474,1,2477,1],[2478,0,2481,0],[2478,1,2481,1],[2482,0,2485,0],[2482,1,2485,1],[2544,0,2549,0],[2544,1,2549,1],[2550,0,2555,0],[2550,1,2555,1],[2556,0,2561,0],[2556,1,2561,1],[2526,0,2531,0],[2526,1,2531,1],[2532,0,2537,0],[2532,1,2537,1],[2538,0,2543,0],[2538,1,2543,1],[2510,0,2513,0],[2510,1,2513,1],[2514,0,2519,0],[2514,1,2519,1],[2520,0,2525,0],[2520,1,2525,1],[2611,0,2615,0],[2611,1,2615,1],[2616,0,2620,0],[2616,1,2620,1],[2621,0,2625,0],[2621,1,2625,1],[2580,0,2586,0],[2580,1,2586,1],[2587,0,2593,0],[2587,1,2593,1],[2604,0,2610,0],[2604,1,2610,1],[2594,0,2598,0],[2594,1,2598,1],[2599,0,2603,0],[2599,1,2603,1],[2562,0,2567,0],[2562,1,2567,1],[2568,0,2573,0],[2568,1,2573,1],[2574,0,2579,0],[2574,1,2579,1],[2658,0,2662,0],[2658,1,2662,1],[2663,0,2667,0],[2663,1,2667,1],[2668,0,2672,0],[2668,1,2672,1],[2643,0,2647,0],[2643,1,2647,1],[2648,0,2652,0],[2648,1,2652,1],[2653,0,2657,0],[2653,1,2657,1],[2626,0,2632,0],[2626,1,2632,1],[2633,0,2637,0],[2633,1,2637,1],[2638,0,2642,0],[2638,1,2642,1],[2715,0,2722,0],[2715,1,2722,1],[2723,0,2730,0],[2723,1,2730,1],[2731,0,2738,0],[2731,1,2738,1],[2694,0,2698,0],[2694,1,2698,1],[2699,0,2706,0],[2699,1,2706,1],[2707,0,2714,0],[2707,1,2714,1],[2673,0,2683,0],[2673,1,2683,1],[2684,0,2688,0],[2684,1,2688,1],[2689,0,2693,0],[2689,1,2693,1],[2769,0,2773,0],[2769,1,2773,1],[2774,0,2778,0],[2774,1,2778,1],[2779,0,2783,0],[2779,1,2783,1],[2754,0,2758,0],[2754,1,2758,1],[2759,0,2763,0],[2759,1,2763,1],[2764,0,2768,0],[2764,1,2768,1],[2739,0,2743,0],[2739,1,2743,1],[2744,0,2748,0],[2744,1,2748,1],[2749,0,2753,0],[2749,1,2753,1],[2816,0,2820,0],[2816,1,2820,1],[2821,0,2825,0],[2821,1,2825,1],[2826,0,2830,0],[2826,1,2830,1],[2801,0,2805,0],[2801,1,2805,1],[2806,0,2810,0],[2806,1,2810,1],[2811,0,2815,0],[2811,1,2815,1],[2784,0,2788,0],[2784,1,2788,1],[2789,0,2795,0],[2789,1,2795,1],[2796,0,2800,0],[2796,1,2800,1],[2866,0,2872,0],[2866,1,2872,1],[2873,0,2877,0],[2873,1,2877,1],[2878,0,2885,0],[2878,1,2885,1],[2849,0,2853,0],[2849,1,2853,1],[2854,0,2861,0],[2854,1,2861,1],[2862,0,2865,0],[2862,1,2865,1],[2831,0,2835,0],[2831,1,2835,1],[2836,0,2840,0],[2836,1,2840,1],[2841,0,2848,0],[2841,1,2848,1],[2916,0,2920,0],[2916,1,2920,1],[2921,0,2925,0],[2921,1,2925,1],[2926,0,2930,0],[2926,1,2930,1],[2901,0,2905,0],[2901,1,2905,1],[2906,0,2910,0],[2906,1,2910,1],[2911,0,2915,0],[2911,1,2915,1],[2886,0,2890,0],[2886,1,2890,1],[2891,0,2895,0],[2891,1,2895,1],[2896,0,2900,0],[2896,1,2900,1],[2970,0,2974,0],[2970,1,2974,1],[2975,0,2980,0],[2975,1,2980,1],[2981,0,2988,0],[2981,1,2988,1],[2951,0,2956,0],[2951,1,2956,1],[2957,0,2962,0],[2957,1,2962,1],[2963,0,2969,0],[2963,1,2969,1],[2931,0,2936,0],[2931,1,2936,1],[2937,0,2943,0],[2937,1,2943,1],[2944,0,2950,0],[2944,1,2950,1],[3032,0,3037,0],[3032,1,3037,1],[3038,0,3043,0],[3038,1,3043,1],[3044,0,3053,0],[3044,1,3053,1],[3006,0,3012,0],[3006,1,3012,1],[3013,0,3025,0],[3013,1,3025,1],[3026,0,3031,0],[3026,1,3031,1],[2989,0,2996,0],[2989,1,2996,1],[2997,0,3001,0],[2997,1,3001,1],[3002,0,3005,0],[3002,1,3005,1],[3094,0,3100,0],[3094,1,3100,1],[3101,0,3107,0],[3101,1,3107,1],[3108,0,3114,0],[3108,1,3114,1],[3073,0,3079,0],[3073,1,3079,1],[3080,0,3086,0],[3080,1,3086,1],[3087,0,3093,0],[3087,1,3093,1],[3054,0,3058,0],[3054,1,3058,1],[3059,0,3065,0],[3059,1,3065,1],[3066,0,3072,0],[3066,1,3072,1],[3155,0,3161,0],[3155,1,3161,1],[3162,0,3168,0],[3162,1,3168,1],[3169,0,3175,0],[3169,1,3175,1],[3135,0,3140,0],[3135,1,3140,1],[3141,0,3149,0],[3141,1,3149,1],[3150,0,3154,0],[3150,1,3154,1],[3115,0,3121,0],[3115,1,3121,1],[3122,0,3128,0],[3122,1,3128,1],[3129,0,3134,0],[3129,1,3134,1],[3204,0,3210,0],[3204,1,3210,1],[3211,0,3217,0],[3211,1,3217,1],[3218,0,3222,0],[3218,1,3222,1],[3189,0,3192,0],[3189,1,3192,1],[3193,0,3196,0],[3193,1,3196,1],[3197,0,3203,0],[3197,1,3203,1],[3176,0,3179,0],[3176,1,3179,1],[3180,0,3183,0],[3180,1,3183,1],[3184,0,3188,0],[3184,1,3188,1]],"merged_total":1392,"flags":["merged_cut"]}
[{"$f":"Orçamentária!A1","v":"Manutenção de revestimentos de mármore nas fachadas do Edifício Principal e do Anexo I do SF"}]
["COMPOSIÇÕES DE CUSTO UNITÁRIO"]
[{"$f":"Orçamentária!A3","v":"Data: Outubro de 2020"}]
[]
["ITEM","DESCRIÇÃO","DISCRIMINAÇÃO DA COMPOSIÇÃO","UNIDADE","COEFICIENTE","CUSTO UNITÁRIO","CUSTO TOTAL","TOTAL DO SERVIÇO",null,"QTD"]
["SF-00001",{"$f":"INDEX(Orçamentária!A:B,MATCH(Composições!A6,Orçamentária!A:A,0),2)","v":"Engenheiro(a) /Arquiteto(a) júnior"},null,{"$f":"TRIM(INDEX(Orçamentária!C:C,MATCH(Composições!A6,Orçamentária!A:A,0),1))","v":"hh"},null,"",{"$f":"IF(ISNUMBER(F6),E6*F6,\"\")","v":""},null,null,0]
[null,null,null,null,null,"",{"$f":"IF(ISNUMBER(F7),E7*F7,\"\")","v":""},null,null,0]
[null,null,"Engenheiro civil de obra junior com encargos complementares","h",1,71.591999999999999,{"$f":"IF(ISNUMBER(F8),E8*F8,\"\")","v":71.591999999999999},{"$f":"SUM(G8:G8)","v":71.591999999999999},null,0]
[null,null,null,null,null,"",{"$f":"IF(ISNUMBER(F9),E9*F9,\"\")","v":""},null,null,0]
["SF-00002",{"$f":"INDEX(Orçamentária!A:B,MATCH(Composições!A10,Orçamentária!A:A,0),2)","v":"Mestre de obras"},null,{"$f":"TRIM(INDEX(Orçamentária!C:C,MATCH(Composições!A10,Orçamentária!A:A,0),1))","v":"hh"},null,"",{"$f":"IF(ISNUMBER(F10),E10*F10,\"\")","v":""},null,null,0]
[null,null,null,null,null,"",{"$f":"IF(ISNUMBER(F11),E11*F11,\"\")","v":""},null,null,0]
[null,null,"Mestre de obras com encargos complementares","h",1,22.5625,{"$f":"IF(ISNUMBER(F12),E12*F12,\"\")","v":22.5625},{"$f":"SUM(G12:G12)","v":22.5625},null,0]
[null,null,null,null,null,"",{"$f":"IF(ISNUMBER(F13),E13*F13,\"\")","v":""},null,null,0]
["SF-00003",{"$f":"INDEX(Orçamentária!A:B,MATCH(Composições!A14,Orçamentária!A:A,0),2)","v":"Planejamento físico-financeiro"},null,{"$f":"TRIM(INDEX(Orçamentária!C:C,MATCH(Composições!A14,Orçamentária!A:A,0),1))","v":"un"},null,"",{"$f":"IF(ISNUMBER(F14),E14*F14,\"\")","v":""},null,null,1]
[null,null,null,null,null,"",{"$f":"IF(ISNUMBER(F15),E15*F15,\"\")","v":""},null,null,1]
[null,null,"Engenheiro Civil de Obra Pleno com encargos complementares","h",16,81.338999999999999,{"$f":"IF(ISNUMBER(F16),E16*F16,\"\")","v":1301.424},{"$f":"SUM(G16:G16)","v":1301.424},null,1]
[null,null,null,null,null,"",{"$f":"IF(ISNUMBER(F17),E17*F17,\"\")","v":""},null,null,1]
["SF-00004",{"$f":"INDEX(Orçamentária!A:B,MATCH(Composições!A18,Orçamentária!A:A,0),2)","v":"Projetos de segurança do trabalho"},null,{"$f":"TRIM(INDEX(Orçamentária!C:C,MATCH(Composições!A18,Orçamentária!A:A,0),1))","v":"un"},null,"",{"$f":"IF(ISNUMBER(F18),E18*F18,\"\")","v":""},null,null,1]
[null,null,null,null,null,"",{"$f":"IF(ISNUMBER(F19),E19*F19,\"\")","v":""},null,null,1]
[null,null,"Engenheiro Civil Pleno com encargos complementares","h",20,81.614499999999992,{"$f":"IF(ISNUMBER(F20),E20*F20,\"\")","v":1632.29},{"$f":"SUM(G20:G21)","v":1866.23},null,1]
[null,null,"Anotação de Responsabilidade Técnica","un",1,233.94,{"$f":"IF(ISNUMBER(F21),E21*F21,\"\")","v":233.94},null,null,1]
[null,null,null,null,null,"",{"$f":"IF(ISNUMBER(F22),E22*F22,\"\")","v":""},null,null,1]
["SF-00005",{"$f":"INDEX(Orçamentária!A:B,MATCH(Composições!A23,Orçamentária!A:A,0),2)","v":"Demolição de alvenarias"},null,{"$f":"TRIM(INDEX(Orçamentária!C:C,MATCH(Composições!A23,Orçamentária!A:A,0),1))","v":"m3"},null,"",{"$f":"IF(ISNUMBER(F23),E23*F23,\"\")","v":""},null,null,0]
[null,null,null,null,null,"",{"$f":"IF(ISNUMBER(F24),E24*F24,\"\")","v":""},null,null,0]
[null,null,"Pedreiro com Encargos Complementares","h",0.22500000000000001,19.474999999999998,{"$f":"IF(ISNUMBER(F25),E25*F25,\"\")","v":4.381875},{"$f":"SUM(G25:G26)","v":38.217014200000001},null,0]
[null,null,"Servente com Encargos Complementares","h",2.3248000000000002,14.554,{"$f":"IF(ISNUMBER(F26),E26*F26,\"\")","v":33.8351392},null,null,0]
[null,null,null,null,null,"",{"$f":"IF(ISNUMBER(F27),E27*F27,\"\")","v":""},null,null,0]
["SF-00006",{"$f":"INDEX(Orçamentária!A:B,MATCH(Composições!A28,Orçamentária!A:A,0),2)","v":"Demolição de concreto simples"},null,{"$f":"TRIM(INDEX(Orçamentária!C:C,MATCH(Composições!A28,Orçamentária!A:A,0),1))","v":"m3"},null,"",{"$f":"IF(ISNUMBER(F28),E28*F28,\"\")","v":""},null,null,0]
[null,null,null,null,null,"",{"$f":"IF(ISNUMBER(F29),E29*F29,\"\")","v":""},null,null,0]
[null,null,"Pedreiro com Encargos Complementares","h",1.3,19.474999999999998,{"$f":"IF(ISNUMBER(F30),E30*F30,\"\")","v":25.317499999999999},{"$f":"SUM(G30:G31)","v":214.51949999999999},null,0]
[null,null,"Servente com Encargos Complementares","h",13,14.554,{"$f":"IF(ISNUMBER(F31),E31*F31,\"\")","v":189.202},null,null,0]
[null,null,null,null,null,"",{"$f":"IF(ISNUMBER(F32),E32*F32,\"\")","v":""},null,null,0]
["SF-00007",{"$f":"INDEX(Orçamentária!A:B,MATCH(Composições!A33,Orçamentária!A:A,0),2)","v":"Demolição de contrapiso"},null,{"$f":"TRIM(INDEX(Orçamentária!C:C,MATCH(Composições!A33,Orçamentária!A:A,0),1))","v":"m2"},null,"",{"$f":"IF(ISNUMBER(F33),E33*F33,\"\")","v":""},null,null,0]
[null,null,null,null,null,"",{"$f":"IF(ISNUMBER(F34),E34*F34,\"\")","v":""},null,null,0]
[null,null,"Servente com Encargos Complementares","h",0.7,14.554,{"$f":"IF(ISNUMBER(F35),E35*F35,\"\")","v":10.187799999999999},{"$f":"SUM(G35:G35)","v":10.187799999999999},null,0]
[null,null,null,null,null,"",{"$f":"IF(ISNUMBER(F36),E36*F36,\"\")","v":""},null,null,0]
["SF-00008",{"$f":"INDEX(Orçamentária!A:B,MATCH(Composições!A37,Orçamentária!A:A,0),2)","v":"Demolição de fechamento ou parede em gesso acartonado"},null,{"$f":"TRIM(INDEX(Orçamentária!C:C,MATCH(Composições!A37,Orçamentária!A:A,0),1))","v":"m2"},null,"",{"$f":"IF(ISNUMBER(F37),E37*F37,\"\")","v":""},null,null,0]
[null,null,null,null,null,"",{"$f":"IF(ISNUMBER(F38),E38*F38,\"\")","v":""},null,null,0]
[null,null,"Montador de estrutura metálica com encargos complementares","h",0.1186,14.962499999999999,{"$f":"IF(ISNUMBER(F39),E39*F39,\"\")","v":1.7745524999999998},{"$f":"SUM(G39:G40)","v":5.1641791000000001},null,0]
[null,null,"Servente com Encargos Complementares","h",0.2329,14.554,{"$f":"IF(ISNUMBER(F40),E40*F40,\"\")","v":3.3896266000000002},null,null,0]
[null,null,null,null,null,"",{"$f":"IF(ISNUMBER(F41),E41*F41,\"\")","v":""},null,null,0]
["SF-00009",{"$f":"INDEX(Orçamentária!A:B,MATCH(Composições!A42,Orçamentária!A:A,0),2)","v":"Demolição de forro de gesso"},null,{"$f":"TRIM(INDEX(Orçamentária!C:C,MATCH(Composições!A42,Orçamentária!A:A,0),1))","v":"m2"},null,"",{"$f":"IF(ISNUMBER(F42),E42*F42,\"\")","v":""},null,null,0]
[null,null,null,null,null,"",{"$f":"IF(ISNUMBER(F43),E43*F43,\"\")","v":""},null,null,0]
[null,null,"Montador de estrutura metálica com encargos complementares","h",2.58E-2,14.962499999999999,{"$f":"IF(ISNUMBER(F44),E44*F44,\"\")","v":0.38603249999999995},{"$f":"SUM(G44:G45)","v":1.1239203},null,0]
[null,null,"Servente com Encargos Complementares","h",5.0700000000000002E-2,14.554,{"$f":"IF(ISNUMBER(F45),E45*F45,\"\")","v":0.73788780000000009},null,null,0]
[null,null,null,null,null,"",{"$f":"IF(ISNUMBER(F46),E46*F46,\"\")","v":""},null,null,0]
["SF-00010",{"$f":"INDEX(Orçamentária!A:B,MATCH(Composições!A47,Orçamentária!A:A,0),2)","v":"Demolição de infraestrutura elétrica (eletrodutos, eletrocalhas, cabos)"},null,{"$f":"TRIM(INDEX(Orçamentária!C:C,MATCH(Composições!A47,Orçamentária!A:A,0),1))","v":"m"},null,"",{"$f":"IF(ISNUMBER(F47),E47*F47,\"\")","v":""},null,null,0]
[null,null,null,null,null,"",{"$f":"IF(ISNUMBER(F48),E48*F48,\"\")","v":""},null,null,0]
[null,null,"Eletricista com encargos complementares","h",{"$f":"ROUND(0.0096*5,4)","v":4.8000000000000001E-2},19.645999999999997,{"$f":"IF(ISNUMBER(F49),E49*F49,\"\")","v":0.94300799999999985},{"$f":"SUM(G49:G50)","v":2.3110840000000001},null,0]
[null,null,"Servente com Encargos Complementares","h",{"$f":"ROUND(0.0188*5,4)","v":9.4E-2},14.554,{"$f":"IF(ISNUMBER(F50),E50*F50,\"\")","v":1.3680760000000001},null,null,0]
[null,null,null,null,null,"",{"$f":"IF(ISNUMBER(F51),E51*F51,\"\")","v":""},null,null,0]
["SF-00011",{"$f":"INDEX(Orçamentária!A:B,MATCH(Composições!A52,Orçamentária!A:A,0),2)","v":"Demolição de revestimento cerâmico, granito, mármore ou granitina"},null,{"$f":"TRIM(INDEX(Orçamentária!C:C,MATCH(Composições!A52,Orçamentária!A:A,0),1))","v":"m2"},null,"",{"$f":"IF(ISNUMBER(F52),E52*F52,\"\")","v":""},null,null,0]
[null,null,null,null,null,"",{"$f":"IF(ISNUMBER(F53),E53*F53,\"\")","v":""},null,null,0]
[null,null,"Martelete ou rompedor pneumático manual, 28 kg, com silenciador - CHP diurno. AF_07/2016","chp",6.9900000000000004E-2,18.05,{"$f":"IF(ISNUMBER(F54),E54*F54,\"\")","v":1.261695},{"$f":"SUM(G54:G57)","v":8.4415603499999996},null,0]
[null,null,"Martelete ou rompedor pneumático manual, 28 kg, com silenciador - CHI diurno. AF_07/2016","chi",4.82E-2,16.739000000000001,{"$f":"IF(ISNUMBER(F55),E55*F55,\"\")","v":0.80681980000000009},null,null,0]
[null,null,"Azulejista ou ladrilhista com encargos complementares","h",0.1055,19.4085,{"$f":"IF(ISNUMBER(F56),E56*F56,\"\")","v":2.0475967499999999},null,null,0]
[null,null,"Servente com Encargos Complementares","h",0.29720000000000002,14.554,{"$f":"IF(ISNUMBER(F57),E57*F57,\"\")","v":4.3254488000000002},null,null,0]
[null,null,null,null,null,"",{"$f":"IF(ISNUMBER(F58),E58*F58,\"\")","v":""},null,null,0]
["SF-00012",{"$f":"INDEX(Orçamentária!A:B,MATCH(Composições!A59,Orçamentária!A:A,0),2)","v":"Demolição de revestimento em argamassa"},null,{"$f":"TRIM(INDEX(Orçamentária!C:C,MATCH(Composições!A59,Orçamentária!A:A,0),1))","v":"m2"},null,"",{"$f":"IF(ISNUMBER(F59),E59*F59,\"\")","v":""},null,null,231.21]
[null,null,null,null,null,"",{"$f":"IF(ISNUMBER(F60),E60*F60,\"\")","v":""},null,null,231.21]
[null,null,"Pedreiro com Encargos Complementares","h",3.7400000000000003E-2,19.474999999999998,{"$f":"IF(ISNUMBER(F61),E61*F61,\"\")","v":0.72836499999999993},{"$f":"SUM(G61:G62)","v":2.2609012000000002},null,231.21]
[null,null,"Servente com Encargos Complementares","h",0.1053,14.554,{"$f":"IF(ISNUMBER(F62),E62*F62,\"\")","v":1.5325362},null,null,231.21]
[null,null,null,null,null,"",{"$f":"IF(ISNUMBER(F63),E63*F63,\"\")","v":""},null,null,231.21]
["SF-00013",{"$f":"INDEX(Orçamentária!A:B,MATCH(Composições!A64,Orçamentária!A:A,0),2)","v":"Demolição de tubulação hidrossanitária embutida com conexões e acessórios"},null,{"$f":"TRIM(INDEX(Orçamentária!C:C,MATCH(Composições!A64,Orçamentária!A:A,0),1))","v":"m"},null,"",{"$f":"IF(ISNUMBER(F64),E64*F64,\"\")","v":""},null,null,0]
[null,null,null,null,null,"",{"$f":"IF(ISNUMBER(F65),E65*F65,\"\")","v":""},null,null,0]
[null,null,"Encanador ou Bombeiro Hidráulico com Encargos Complementares","h",7.1000000000000004E-3,19.066499999999998,{"$f":"IF(ISNUMBER(F66),E66*F66,\"\")","v":0.13537215},{"$f":"SUM(G66:G67)","v":0.33912815000000002},null,0]
[null,null,"Servente com Encargos Complementares","h",1.4E-2,14.554,{"$f":"IF(ISNUMBER(F67),E67*F67,\"\")","v":0.20375600000000002},null,null,0]
[null,null,null,null,null,"",{"$f":"IF(ISNUMBER(F68),E68*F68,\"\")","v":""},null,null,0]
["SF-00014",{"$f":"INDEX(Orçamentária!A:B,MATCH(Composições!A69,Orçamentária!A:A,0),2)","v":"Demolição em concreto armado"},null,{"$f":"TRIM(INDEX(Orçamentária!C:C,MATCH(Composições!A69,Orçamentária!A:A,0),1))","v":"m3"},null,"",{"$f":"IF(ISNUMBER(F69),E69*F69,\"\")","v":""},null,null,0]
[null,null,null,null,null,"",{"$f":"IF(ISNUMBER(F70),E70*F70,\"\")","v":""},null,null,0]
[null,null,"Martelete ou rompedor pneumático manual, 28 kg, com silenciador - CHP diurno. AF_07/2016","chp",3.2467999999999999,18.05,{"$f":"IF(ISNUMBER(F71),E71*F71,\"\")","v":58.60474},{"$f":"SUM(G71:G75)","v":194.05879329999999},null,0]
[null,null,"Martelete ou rompedor pneumático manual, 28 kg, com silenciador - CHI diurno. AF_07/2016","chi",0.92020000000000002,16.739000000000001,{"$f":"IF(ISNUMBER(F72),E72*F72,\"\")","v":15.403227800000002},null,null,0]
[null,null,"CABO DE ACO GALVANIZADO, DIAMETRO 9,53 MM (3/8\"), COM ALMA DE FIBRA 6 X 25 F","kg",0.28349999999999997,42.009,{"$f":"IF(ISNUMBER(F73),E73*F73,\"\")","v":11.909551499999999},null,null,0]
[null,null,"Pedreiro com Encargos Complementares","h",0.63660000000000005,19.474999999999998,{"$f":"IF(ISNUMBER(F74),E74*F74,\"\")","v":12.397784999999999},null,null,0]
[null,null,"Servente com Encargos Complementares","h",6.5785,14.554,{"$f":"IF(ISNUMBER(F75),E75*F75,\"\")","v":95.743488999999997},null,null,0]
[null,null,null,null,null,"",{"$f":"IF(ISNUMBER(F76),E76*F76,\"\")","v":""},null,null,0]
["SF-00016",{"$f":"INDEX(Orçamentária!A:B,MATCH(Composições!A77,Orçamentária!A:A,0),2)","v":"Remoção de armários"},null,{"$f":"TRIM(INDEX(Orçamentária!C:C,MATCH(Composições!A77,Orçamentária!A:A,0),1))","v":"m2"},null,"",{"$f":"IF(ISNUMBER(F77),E77*F77,\"\")","v":""},null,null,0]
[null,null,null,null,null,"",{"$f":"IF(ISNUMBER(F78),E78*F78,\"\")","v":""},null,null,0]
[null,null,"Carpinteiro de esquadria com encargos complementares","h",0.35,19.3705,{"$f":"IF(ISNUMBER(F79),E79*F79,\"\")","v":6.7796749999999992},{"$f":"SUM(G79:G80)","v":11.873574999999999},null,0]
[null,null,"Servente com Encargos Complementares","h",0.35,14.554,{"$f":"IF(ISNUMBER(F80),E80*F80,\"\")","v":5.0938999999999997},null,null,0]
[null,null,null,null,null,"",{"$f":"IF(ISNUMBER(F81),E81*F81,\"\")","v":""},null,null,0]
["SF-00017",{"$f":"INDEX(Orçamentária!A:B,MATCH(Composições!A82,Orçamentária!A:A,0),2)","v":"Remoção de bancadas"},null,{"$f":"TRIM(INDEX(Orçamentária!C:C,MATCH(Composições!A82,Orçamentária!A:A,0),1))","v":"m2"},null,"",{"$f":"IF(ISNUMBER(F82),E82*F82,\"\")","v":""},null,null,0]
[null,null,null,null,null,"",{"$f":"IF(ISNUMBER(F83),E83*F83,\"\")","v":""},null,null,0]
[null,null,"Pedreiro com Encargos Complementares","h",0.15,19.474999999999998,{"$f":"IF(ISNUMBER(F84),E84*F84,\"\")","v":2.9212499999999997},{"$f":"SUM(G84:G85)","v":17.475249999999999},null,0]
[null,null,"Servente com Encargos Complementares","h",1,14.554,{"$f":"IF(ISNUMBER(F85),E85*F85,\"\")","v":14.554},null,null,0]
[null,null,null,null,null,"",{"$f":"IF(ISNUMBER(F86),E86*F86,\"\")","v":""},null,null,0]
["SF-00018",{"$f":"INDEX(Orçamentária!A:B,MATCH(Composições!A87,Orçamentária!A:A,0),2)","v":"Remoção de batentes de madeira"},null,{"$f":"TRIM(INDEX(Orçamentária!C:C,MATCH(Composições!A87,Orçamentária!A:A,0),1))","v":"un"},null,"",{"$f":"IF(ISNUMBER(F87),E87*F87,\"\")","v":""},null,null,0]
[null,null,null,null,null,"",{"$f":"IF(ISNUMBER(F88),E88*F88,\"\")","v":""},null,null,0]
[null,null,"Pedreiro com Encargos Complementares","h",{"$f":"0.08/2","v":0.04},19.474999999999998,{"$f":"IF(ISNUMBER(F89),E89*F89,\"\")","v":0.77899999999999991},{"$f":"SUM(G89:G90)","v":6.6006},null,0]
[null,null,"Servente com Encargos Complementares","h",{"$f":"0.8/2","v":0.4},14.554,{"$f":"IF(ISNUMBER(F90),E90*F90,\"\")","v":5.8216000000000001},null,null,0]
[null,null,null,null,null,"",{"$f":"IF(ISNUMBER(F91),E91*F91,\"\")","v":""},null,null,0]
["SF-00019",{"$f":"INDEX(Orçamentária!A:B,MATCH(Composições!A92,Orçamentária!A:A,0),2)","v":"Remoção de canaleta em alumínio"},null,{"$f":"TRIM(INDEX(Orçamentária!C:C,MATCH(Composições!A92,Orçamentária!A:A,0),1))","v":"m"},null,"",{"$f":"IF(ISNUMBER(F92),E92*F92,\"\")","v":""},null,null,0]
[null,null,null,null,null,"",{"$f":"IF(ISNUMBER(F93),E93*F93,\"\")","v":""},null,null,0]
[null,null,"Eletricista com encargos complementares","h",{"$f":"0.75*0.1","v":7.5000000000000011E-2},19.645999999999997,{"$f":"IF(ISNUMBER(F94),E94*F94,\"\")","v":1.4734499999999999},{"$f":"SUM(G94:G95)","v":3.6565500000000002},null,0]
[null,null,"Servente com Encargos Complementares","h",{"$f":"0.75*0.2","v":0.15000000000000002},14.554,{"$f":"IF(ISNUMBER(F95),E95*F95,\"\")","v":2.1831000000000005},null,null,0]
[null,null,null,null,null,"",{"$f":"IF(ISNUMBER(F96),E96*F96,\"\")","v":""},null,null,0]
["SF-00020",{"$f":"INDEX(Orçamentária!A:B,MATCH(Composições!A97,Orçamentária!A:A,0),2)","v":"Remoção de carpete"},null,{"$f":"TRIM(INDEX(Orçamentária!C:C,MATCH(Composições!A97,Orçamentária!A:A,0),1))","v":"m2"},null,"",{"$f":"IF(ISNUMBER(F97),E97*F97,\"\")","v":""},null,null,0]
[null,null,null,null,null,"",{"$f":"IF(ISNUMBER(F98),E98*F98,\"\")","v":""},null,null,0]
[null,null,"Pedreiro com Encargos Complementares","h",0.01,19.474999999999998,{"$f":"IF(ISNUMBER(F99),E99*F99,\"\")","v":0.19474999999999998},{"$f":"SUM(G99:G100)","v":1.65015},null,0]
[null,null,"Servente com Encargos Complementares","h",0.1,14.554,{"$f":"IF(ISNUMBER(F100),E100*F100,\"\")","v":1.4554},null,null,0]
[null,null,null,null,null,"",{"$f":"IF(ISNUMBER(F101),E101*F101,\"\")","v":""},null,null,0]
["SF-00021",{"$f":"INDEX(Orçamentária!A:B,MATCH(Composições!A102,Orçamentária!A:A,0),2)","v":"Remoção de cortinas"},null,{"$f":"TRIM(INDEX(Orçamentária!C:C,MATCH(Composições!A102,Orçamentária!A:A,0),1))","v":"m"},null,"",{"$f":"IF(ISNUMBER(F102),E102*F102,\"\")","v":""},null,null,0]
[null,null,null,null,null,"",{"$f":"IF(ISNUMBER(F103),E103*F103,\"\")","v":""},null,null,0]
[null,null,"Ajudante especializado com encargos complementares","h",{"$f":"ROUND(1/6,4)","v":0.16669999999999999},17.185499999999998,{"$f":"IF(ISNUMBER(F104),E104*F104,\"\")","v":2.8648228499999995},{"$f":"SUM(G104:G104)","v":2.8648228499999995},null,0]
[null,null,null,null,null,"",{"$f":"IF(ISNUMBER(F105),E105*F105,\"\")","v":""},null,null,0]
["SF-00022",{"$f":"INDEX(Orçamentária!A:B,MATCH(Composições!A106,Orçamentária!A:A,0),2)","v":"Remoção de difusores, grelhas e acessórios de climatização"},null,{"$f":"TRIM(INDEX(Orçamentária!C:C,MATCH(Composições!A106,Orçamentária!A:A,0),1))","v":"un"},null,"",{"$f":"IF(ISNUMBER(F106),E106*F106,\"\")","v":""},null,null,0]
[null,null,null,null,null,"",{"$f":"IF(ISNUMBER(F107),E107*F107,\"\")","v":""},null,null,0]
[null,null,"Ajudante de operação em geral com encargos complementares","h",0.6,15.523,{"$f":"IF(ISNUMBER(F108),E108*F108,\"\")","v":9.3137999999999987},{"$f":"SUM(G108:G109)","v":18.046199999999999},null,0]
[null,null,"Servente com Encargos Complementares","h",0.6,14.554,{"$f":"IF(ISNUMBER(F109),E109*F109,\"\")","v":8.7324000000000002},null,null,0]
[null,null,null,null,null,"",{"$f":"IF(ISNUMBER(F110),E110*F110,\"\")","v":""},null,null,0]
["SF-00023",{"$f":"INDEX(Orçamentária!A:B,MATCH(Composições!A111,Orçamentária!A:A,0),2)","v":"Remoção de divisória de mármore ou granito"},null,{"$f":"TRIM(INDEX(Orçamentária!C:C,MATCH(Composições!A111,Orçamentária!A:A,0),1))","v":"m2"},null,"",{"$f":"IF(ISNUMBER(F111),E111*F111,\"\")","v":""},null,null,0]
[null,null,null,null,null,"",{"$f":"IF(ISNUMBER(F112),E112*F112,\"\")","v":""},null,null,0]
[null,null,"Marmorista/graniteiro com encargos complementares","h",0.6,16.330500000000001,{"$f":"IF(ISNUMBER(F113),E113*F113,\"\")","v":9.7982999999999993},{"$f":"SUM(G113:G114)","v":27.263100000000001},null,0]
[null,null,"Servente com Encargos Complementares","h",1.2,14.554,{"$f":"IF(ISNUMBER(F114),E114*F114,\"\")","v":17.4648},null,null,0]
[null,null,null,null,null,"",{"$f":"IF(ISNUMBER(F115),E115*F115,\"\")","v":""},null,null,0]
["SF-00024",{"$f":"INDEX(Orçamentária!A:B,MATCH(Composições!A116,Orçamentária!A:A,0),2)","v":"Remoção de divisórias de MDF e gesso acartonado"},null,{"$f":"TRIM(INDEX(Orçamentária!C:C,MATCH(Composições!A116,Orçamentária!A:A,0),1))","v":"m2"},null,"",{"$f":"IF(ISNUMBER(F116),E116*F116,\"\")","v":""},null,null,0]
[null,null,null,null,null,"",{"$f":"IF(ISNUMBER(F117),E117*F117,\"\")","v":""},null,null,0]
[null,null,"Carpinteiro de esquadria com encargos complementares","h",1.2,19.3705,{"$f":"IF(ISNUMBER(F118),E118*F118,\"\")","v":23.244599999999998},{"$f":"SUM(G118:G118)","v":23.244599999999998},null,0]
[null,null,null,null,null,"",{"$f":"IF(ISNUMBER(F119),E119*F119,\"\")","v":""},null,null,0]
["SF-00025",{"$f":"INDEX(Orçamentária!A:B,MATCH(Composições!A120,Orçamentária!A:A,0),2)","v":"Remoção de dutos/tubulações"},null,{"$f":"TRIM(INDEX(Orçamentária!C:C,MATCH(Composições!A120,Orçamentária!A:A,0),1))","v":"m"},null,"",{"$f":"IF(ISNUMBER(F120),E120*F120,\"\")","v":""},null,null,0]
[null,null,null,null,null,"",{"$f":"IF(ISNUMBER(F121),E121*F121,\"\")","v":""},null,null,0]
[null,null,"Encanador ou Bombeiro Hidráulico com Encargos Complementares","h",0.17499999999999999,19.066499999999998,{"$f":"IF(ISNUMBER(F122),E122*F122,\"\")","v":3.3366374999999993},{"$f":"SUM(G122:G123)","v":7.7028374999999993},null,0]
[null,null,"Servente com Encargos Complementares","h",0.3,14.554,{"$f":"IF(ISNUMBER(F123),E123*F123,\"\")","v":4.3662000000000001},null,null,0]
[null,null,null,null,null,"",{"$f":"IF(ISNUMBER(F124),E124*F124,\"\")","v":""},null,null,0]
["SF-00026",{"$f":"INDEX(Orçamentária!A:B,MATCH(Composições!A125,Orçamentária!A:A,0),2)","v":"Remoção de esquadrias metálicas"},null,{"$f":"TRIM(INDEX(Orçamentária!C:C,MATCH(Composições!A125,Orçamentária!A:A,0),1))","v":"m2"},null,"",{"$f":"IF(ISNUMBER(F125),E125*F125,\"\")","v":""},null,null,0]
[null,null,null,null,null,"",{"$f":"IF(ISNUMBER(F126),E126*F126,\"\")","v":""},null,null,0]
[null,null,"Pedreiro com Encargos Complementares","h",0.05,19.474999999999998,{"$f":"IF(ISNUMBER(F127),E127*F127,\"\")","v":0.97374999999999989},{"$f":"SUM(G127:G128)","v":8.25075},null,0]
[null,null,"Servente com Encargos Complementares","h",0.5,14.554,{"$f":"IF(ISNUMBER(F128),E128*F128,\"\")","v":7.2770000000000001},null,null,0]
[null,null,null,null,null,"",{"$f":"IF(ISNUMBER(F129),E129*F129,\"\")","v":""},null,null,0]
["SF-00027",{"$f":"INDEX(Orçamentária!A:B,MATCH(Composições!A130,Orçamentária!A:A,0),2)","v":"Remoção de exaustor"},null,{"$f":"TRIM(INDEX(Orçamentária!C:C,MATCH(Composições!A130,Orçamentária!A:A,0),1))","v":"un"},null,"",{"$f":"IF(ISNUMBER(F130),E130*F130,\"\")","v":""},null,null,0]
[null,null,null,null,null,"",{"$f":"IF(ISNUMBER(F131),E131*F131,\"\")","v":""},null,null,0]
[null,null,"Eletricista com encargos complementares","h",0.3,19.645999999999997,{"$f":"IF(ISNUMBER(F132),E132*F132,\"\")","v":5.8937999999999988},{"$f":"SUM(G132:G132)","v":5.8937999999999988},null,0]
[null,null,null,null,null,"",{"$f":"IF(ISNUMBER(F133),E133*F133,\"\")","v":""},null,null,0]
["SF-00028",{"$f":"INDEX(Orçamentária!A:B,MATCH(Composições!A134,Orçamentária!A:A,0),2)","v":"Remoção de fechadura/puxador de porta"},null,{"$f":"TRIM(INDEX(Orçamentária!C:C,MATCH(Composições!A134,Orçamentária!A:A,0),1))","v":"un"},null,"",{"$f":"IF(ISNUMBER(F134),E134*F134,\"\")","v":""},null,null,0]
[null,null,null,null,null,"",{"$f":"IF(ISNUMBER(F135),E135*F135,\"\")","v":""},null,null,0]
[null,null,"Carpinteiro de esquadria com encargos complementares","h",{"$f":"0.25","v":0.25},19.3705,{"$f":"IF(ISNUMBER(F136),E136*F136,\"\")","v":4.842625},{"$f":"SUM(G136:G136)","v":4.842625},null,0]
[null,null,null,null,null,"",{"$f":"IF(ISNUMBER(F137),E137*F137,\"\")","v":""},null,null,0]
["SF-00029",{"$f":"INDEX(Orçamentária!A:B,MATCH(Composições!A138,Orçamentária!A:A,0),2)","v":"Remoção de folha de porta e dobradiças"},null,{"$f":"TRIM(INDEX(Orçamentária!C:C,MATCH(Composições!A138,Orçamentária!A:A,0),1))","v":"un"},null,"",{"$f":"IF(ISNUMBER(F138),E138*F138,\"\")","v":""},null,null,0]
[null,null,null,null,null,"",{"$f":"IF(ISNUMBER(F139),E139*F139,\"\")","v":""},null,null,0]
[null,null,"Pedreiro com Encargos Complementares","h",0.13150000000000001,19.474999999999998,{"$f":"IF(ISNUMBER(F140),E140*F140,\"\")","v":2.5609625},{"$f":"SUM(G140:G141)","v":6.3188052999999993},null,0]
[null,null,"Servente com Encargos Complementares","h",0.25819999999999999,14.554,{"$f":"IF(ISNUMBER(F141),E141*F141,\"\")","v":3.7578427999999997},null,null,0]
[null,null,null,null,null,"",{"$f":"IF(ISNUMBER(F142),E142*F142,\"\")","v":""},null,null,0]
["SF-00030",{"$f":"INDEX(Orçamentária!A:B,MATCH(Composições!A143,Orçamentária!A:A,0),2)","v":"Remoção de laminado melamínico (LDAP), em PVC ou vinílico"},null,{"$f":"TRIM(INDEX(Orçamentária!C:C,MATCH(Composições!A143,Orçamentária!A:A,0),1))","v":"m2"},null,"",{"$f":"IF(ISNUMBER(F143),E143*F143,\"\")","v":""},null,null,0]
[null,null,null,null,null,"",{"$f":"IF(ISNUMBER(F144),E144*F144,\"\")","v":""},null,null,0]
[null,null,"Pedreiro com Encargos Complementares","h",0.09,19.474999999999998,{"$f":"IF(ISNUMBER(F145),E145*F145,\"\")","v":1.7527499999999998},{"$f":"SUM(G145:G146)","v":14.85135},null,0]
[null,null,"Servente com Encargos Complementares","h",0.9,14.554,{"$f":"IF(ISNUMBER(F146),E146*F146,\"\")","v":13.098600000000001},null,null,0]
[null,null,null,null,null,"",{"$f":"IF(ISNUMBER(F147),E147*F147,\"\")","v":""},null,null,0]
["SF-00031",{"$f":"INDEX(Orçamentária!A:B,MATCH(Composições!A148,Orçamentária!A:A,0),2)","v":"Remoção de louças"},null,{"$f":"TRIM(INDEX(Orçamentária!C:C,MATCH(Composições!A148,Orçamentária!A:A,0),1))","v":"un"},null,"",{"$f":"IF(ISNUMBER(F148),E148*F148,\"\")","v":""},null,null,0]
[null,null,null,null,null,"",{"$f":"IF(ISNUMBER(F149),E149*F149,\"\")","v":""},null,null,0]
[null,null,"Encanador ou Bombeiro Hidráulico com Encargos Complementares","h",0.17549999999999999,19.066499999999998,{"$f":"IF(ISNUMBER(F150),E150*F150,\"\")","v":3.3461707499999993},{"$f":"SUM(G150:G151)","v":8.3643899499999996},null,0]
[null,null,"Servente com Encargos Complementares","h",0.3448,14.554,{"$f":"IF(ISNUMBER(F151),E151*F151,\"\")","v":5.0182191999999999},null,null,0]
[null,null,null,null,null,"",{"$f":"IF(ISNUMBER(F152),E152*F152,\"\")","v":""},null,null,0]
["SF-00032",{"$f":"INDEX(Orçamentária!A:B,MATCH(Composições!A153,Orçamentária!A:A,0),2)","v":"Remoção de luminária"},null,{"$f":"TRIM(INDEX(Orçamentária!C:C,MATCH(Composições!A153,Orçamentária!A:A,0),1))","v":"un"},null,"",{"$f":"IF(ISNUMBER(F153),E153*F153,\"\")","v":""},null,null,0]
[null,null,null,null,null,"",{"$f":"IF(ISNUMBER(F154),E154*F154,\"\")","v":""},null,null,0]
[null,null,"Eletricista com encargos complementares","h",{"$f":"0.0183*5","v":9.1499999999999998E-2},19.645999999999997,{"$f":"IF(ISNUMBER(F155),E155*F155,\"\")","v":1.7976089999999998},{"$f":"SUM(G155:G156)","v":4.4100519999999994},null,0]
[null,null,"Servente com Encargos Complementares","h",{"$f":"0.0359*5","v":0.17949999999999999},14.554,{"$f":"IF(ISNUMBER(F156),E156*F156,\"\")","v":2.6124429999999998},null,null,0]
[null,null,null,null,null,"",{"$f":"IF(ISNUMBER(F157),E157*F157,\"\")","v":""},null,null,0]
[null,null,"Obs.: Remoção com reaproveitamento",null,null,"",{"$f":"IF(ISNUMBER(F158),E158*F158,\"\")","v":""},null,null,0]
[null,null,null,null,null,"",{"$f":"IF(ISNUMBER(F159),E159*F159,\"\")","v":""},null,null,0]
["SF-00033",{"$f":"INDEX(Orçamentária!A:B,MATCH(Composições!A160,Orçamentária!A:A,0),2)","v":"Remoção de metais e acessórios"},null,{"$f":"TRIM(INDEX(Orçamentária!C:C,MATCH(Composições!A160,Orçamentária!A:A,0),1))","v":"un"},null,"",{"$f":"IF(ISNUMBER(F160),E160*F160,\"\")","v":""},null,null,0]
[null,null,null,null,null,"",{"$f":"IF(ISNUMBER(F161),E161*F161,\"\")","v":""},null,null,0]
[null,null,"Encanador ou Bombeiro Hidráulico com Encargos Complementares","h",0.128,19.066499999999998,{"$f":"IF(ISNUMBER(F162),E162*F162,\"\")","v":2.4405119999999996},{"$f":"SUM(G162:G163)","v":6.0993876},null,0]
[null,null,"Servente com Encargos Complementares","h",0.25140000000000001,14.554,{"$f":"IF(ISNUMBER(F163),E163*F163,\"\")","v":3.6588756000000004},null,null,0]
[null,null,null,null,null,"",{"$f":"IF(ISNUMBER(F164),E164*F164,\"\")","v":""},null,null,0]
["SF-00034",{"$f":"INDEX(Orçamentária!A:B,MATCH(Composições!A165,Orçamentária!A:A,0),2)","v":"Remoção de painéis de vidro temperado"},null,{"$f":"TRIM(INDEX(Orçamentária!C:C,MATCH(Composições!A165,Orçamentária!A:A,0),1))","v":"m2"},null,"",{"$f":"IF(ISNUMBER(F165),E165*F165,\"\")","v":""},null,null,0]
[null,null,null,null,null,"",{"$f":"IF(ISNUMBER(F166),E166*F166,\"\")","v":""},null,null,0]
[null,null,"Servente com Encargos Complementares","h",0.35,14.554,{"$f":"IF(ISNUMBER(F167),E167*F167,\"\")","v":5.0938999999999997},{"$f":"SUM(G167:G168)","v":11.910149999999998},null,0]
[null,null,"Pedreiro com Encargos Complementares","h",0.35,19.474999999999998,{"$f":"IF(ISNUMBER(F168),E168*F168,\"\")","v":6.8162499999999993},null,null,0]
[null,null,null,null,null,"",{"$f":"IF(ISNUMBER(F169),E169*F169,\"\")","v":""},null,null,0]
["SF-00035",{"$f":"INDEX(Orçamentária!A:B,MATCH(Composições!A170,Orçamentária!A:A,0),2)","v":"Remoção de película"},null,{"$f":"TRIM(INDEX(Orçamentária!C:C,MATCH(Composições!A170,Orçamentária!A:A,0),1))","v":"m2"},null,"",{"$f":"IF(ISNUMBER(F170),E170*F170,\"\")","v":""},null,null,0]
[null,null,null,null,null,"",{"$f":"IF(ISNUMBER(F171),E171*F171,\"\")","v":""},null,null,0]
[null,null,"Vidraceiro com encargos complementares","h",0.4,18.145,{"$f":"IF(ISNUMBER(F172),E172*F172,\"\")","v":7.258},{"$f":"SUM(G172:G172)","v":7.258},null,0]
[null,null,null,null,null,"",{"$f":"IF(ISNUMBER(F173),E173*F173,\"\")","v":""},null,null,0]
["SF-00036",{"$f":"INDEX(Orçamentária!A:B,MATCH(Composições!A174,Orçamentária!A:A,0),2)","v":"Remoção de persianas"},null,{"$f":"TRIM(INDEX(Orçamentária!C:C,MATCH(Composições!A174,Orçamentária!A:A,0),1))","v":"m"},null,"",{"$f":"IF(ISNUMBER(F174),E174*F174,\"\")","v":""},null,null,0]
[null,null,null,null,null,"",{"$f":"IF(ISNUMBER(F175),E175*F175,\"\")","v":""},null,null,0]
[null,null,"Ajudante especializado com encargos complementares","h",{"$f":"ROUND(1/6,4)","v":0.16669999999999999},17.185499999999998,{"$f":"IF(ISNUMBER(F176),E176*F176,\"\")","v":2.8648228499999995},{"$f":"SUM(G176:G176)","v":2.8648228499999995},null,0]
[null,null,null,null,null,"",{"$f":"IF(ISNUMBER(F177),E177*F177,\"\")","v":""},null,null,0]
["SF-00037",{"$f":"INDEX(Orçamentária!A:B,MATCH(Composições!A178,Orçamentária!A:A,0),2)","v":"Remoção de pintura ou textura"},null,{"$f":"TRIM(INDEX(Orçamentária!C:C,MATCH(Composições!A178,Orçamentária!A:A,0),1))","v":"m2"},null,"",{"$f":"IF(ISNUMBER(F178),E178*F178,\"\")","v":""},null,null,0]
[null,null,null,null,null,"",{"$f":"IF(ISNUMBER(F179),E179*F179,\"\")","v":""},null,null,0]
[null,null,"Servente com Encargos Complementares","h",0.4,14.554,{"$f":"IF(ISNUMBER(F180),E180*F180,\"\")","v":5.8216000000000001},{"$f":"SUM(G180:G180)","v":5.8216000000000001},null,0]
[null,null,null,null,null,"",{"$f":"IF(ISNUMBER(F181),E181*F181,\"\")","v":""},null,null,0]
["SF-00038",{"$f":"INDEX(Orçamentária!A:B,MATCH(Composições!A182,Orçamentária!A:A,0),2)","v":"Remoção de placas de forro"},null,{"$f":"TRIM(INDEX(Orçamentária!C:C,MATCH(Composições!A182,Orçamentária!A:A,0),1))","v":"m2"},null,"",{"$f":"IF(ISNUMBER(F182),E182*F182,\"\")","v":""},null,null,0]
[null,null,null,null,null,"",{"$f":"IF(ISNUMBER(F183),E183*F183,\"\")","v":""},null,null,0]
[null,null,"Montador de estrutura metálica com encargos complementares","h",{"$f":"0.0258*3","v":7.7399999999999997E-2},14.962499999999999,{"$f":"IF(ISNUMBER(F184),E184*F184,\"\")","v":1.1580974999999998},{"$f":"SUM(G184:G185)","v":3.3717608999999999},null,0]
[null,null,"Servente com Encargos Complementares","h",{"$f":"0.0507*3","v":0.15210000000000001},14.554,{"$f":"IF(ISNUMBER(F185),E185*F185,\"\")","v":2.2136634000000002},null,null,0]
[null,null,null,null,null,"",{"$f":"IF(ISNUMBER(F186),E186*F186,\"\")","v":""},null,null,0]
[null,null,"Obs.: remoção com reaproveitamento",null,null,"",{"$f":"IF(ISNUMBER(F187),E187*F187,\"\")","v":""},null,null,0]
[null,null,null,null,null,"",{"$f":"IF(ISNUMBER(F188),E188*F188,\"\")","v":""},null,null,0]
["SF-00039",{"$f":"INDEX(Orçamentária!A:B,MATCH(Composições!A189,Orçamentária!A:A,0),2)","v":"Remoção de quadros de elétricos ou de telecomunicações"},null,{"$f":"TRIM(INDEX(Orçamentária!C:C,MATCH(Composições!A189,Orçamentária!A:A,0),1))","v":"un"},null,"",{"$f":"IF(ISNUMBER(F189),E189*F189,\"\")","v":""},null,null,0]
[null,null,null,null,null,"",{"$f":"IF(ISNUMBER(F190),E190*F190,\"\")","v":""},null,null,0]
[null,null,"Auxiliar de eletricista com encargos complementares","h",0.5,15.447000000000001,{"$f":"IF(ISNUMBER(F191),E191*F191,\"\")","v":7.7235000000000005},{"$f":"SUM(G191:G194)","v":51.575499999999998},null,0]
[null,null,"Eletricista com encargos complementares","h",0.5,19.645999999999997,{"$f":"IF(ISNUMBER(F192),E192*F192,\"\")","v":9.8229999999999986},null,null,0]
[null,null,"Pedreiro com Encargos Complementares","h",1,19.474999999999998,{"$f":"IF(ISNUMBER(F193),E193*F193,\"\")","v":19.474999999999998},null,null,0]
[null,null,"Servente com Encargos Complementares","h",1,14.554,{"$f":"IF(ISNUMBER(F194),E194*F194,\"\")","v":14.554},null,null,0]
[null,null,null,null,null,"",{"$f":"IF(ISNUMBER(F195),E195*F195,\"\")","v":""},null,null,0]
["SF-00040",{"$f":"INDEX(Orçamentária!A:B,MATCH(Composições!A196,Orçamentária!A:A,0),2)","v":"Remoção de revestimento acústico"},null,{"$f":"TRIM(INDEX(Orçamentária!C:C,MATCH(Composições!A196,Orçamentária!A:A,0),1))","v":"m2"},null,"",{"$f":"IF(ISNUMBER(F196),E196*F196,\"\")","v":""},null,null,0]
[null,null,null,null,null,"",{"$f":"IF(ISNUMBER(F197),E197*F197,\"\")","v":""},null,null,0]
[null,null,"Servente com Encargos Complementares","h",0.2,14.554,{"$f":"IF(ISNUMBER(F198),E198*F198,\"\")","v":2.9108000000000001},{"$f":"SUM(G198:G198)","v":2.9108000000000001},null,0]
[null,null,null,null,null,"",{"$f":"IF(ISNUMBER(F199),E199*F199,\"\")","v":""},null,null,0]
["SF-00041",{"$f":"INDEX(Orçamentária!A:B,MATCH(Composições!A200,Orçamentária!A:A,0),2)","v":"Remoção de rodapé/rodabanca de mármore ou granito"},null,{"$f":"TRIM(INDEX(Orçamentária!C:C,MATCH(Composições!A200,Orçamentária!A:A,0),1))","v":"m"},null,"",{"$f":"IF(ISNUMBER(F200),E200*F200,\"\")","v":""},null,null,0]
[null,null,null,null,null,"",{"$f":"IF(ISNUMBER(F201),E201*F201,\"\")","v":""},null,null,0]
[null,null,"Servente com Encargos Complementares","h",{"$f":"0.437*0.2","v":8.7400000000000005E-2},14.554,{"$f":"IF(ISNUMBER(F202),E202*F202,\"\")","v":1.2720196000000001},{"$f":"SUM(G202:G202)","v":1.2720196000000001},null,0]
[null,null,null,null,null,"",{"$f":"IF(ISNUMBER(F203),E203*F203,\"\")","v":""},null,null,0]
["SF-00042",{"$f":"INDEX(Orçamentária!A:B,MATCH(Composições!A204,Orçamentária!A:A,0),2)","v":"Remoção de rodapés de madeira"},null,{"$f":"TRIM(INDEX(Orçamentária!C:C,MATCH(Composições!A204,Orçamentária!A:A,0),1))","v":"m2"},null,"",{"$f":"IF(ISNUMBER(F204),E204*F204,\"\")","v":""},null,null,0]
[null,null,null,null,null,"",{"$f":"IF(ISNUMBER(F205),E205*F205,\"\")","v":""},null,null,0]
[null,null,"Carpinteiro de formas com encargos complementares","h",0.25,19.341999999999999,{"$f":"IF(ISNUMBER(F206),E206*F206,\"\")","v":4.8354999999999997},{"$f":"SUM(G206:G207)","v":5.1993499999999999},null,0]
[null,null,"Servente com Encargos Complementares","h",2.5000000000000001E-2,14.554,{"$f":"IF(ISNUMBER(F207),E207*F207,\"\")","v":0.36385000000000001},null,null,0]
[null,null,null,null,null,"",{"$f":"IF(ISNUMBER(F208),E208*F208,\"\")","v":""},null,null,0]
["SF-00043",{"$f":"INDEX(Orçamentária!A:B,MATCH(Composições!A209,Orçamentária!A:A,0),2)","v":"Remoção de soleira de mármore ou granito"},null,{"$f":"TRIM(INDEX(Orçamentária!C:C,MATCH(Composições!A209,Orçamentária!A:A,0),1))","v":"m"},null,"",{"$f":"IF(ISNUMBER(F209),E209*F209,\"\")","v":""},null,null,0]
[null,null,null,null,null,"",{"$f":"IF(ISNUMBER(F210),E210*F210,\"\")","v":""},null,null,0]
[null,null,"Servente com Encargos Complementares","h",0.55000000000000004,14.554,{"$f":"IF(ISNUMBER(F211),E211*F211,\"\")","v":8.0047000000000015},{"$f":"SUM(G211:G211)","v":8.0047000000000015},null,0]
[null,null,null,null,null,"",{"$f":"IF(ISNUMBER(F212),E212*F212,\"\")","v":""},null,null,0]
["SF-00044",{"$f":"INDEX(Orçamentária!A:B,MATCH(Composições!A213,Orçamentária!A:A,0),2)","v":"Remoção de split/fancolete/ACJ (equipamento unitário)"},null,{"$f":"TRIM(INDEX(Orçamentária!C:C,MATCH(Composições!A213,Orçamentária!A:A,0),1))","v":"un"},null,"",{"$f":"IF(ISNUMBER(F213),E213*F213,\"\")","v":""},null,null,0]
[null,null,null,null,null,"",{"$f":"IF(ISNUMBER(F214),E214*F214,\"\")","v":""},null,null,0]
[null,null,"Montador eletromecãnico com encargos complementares","h",1,20.329999999999998,{"$f":"IF(ISNUMBER(F215),E215*F215,\"\")","v":20.329999999999998},{"$f":"SUM(G215:G216)","v":35.852999999999994},null,0]
[null,null,"Ajudante de operação em geral com encargos complementares","h",1,15.523,{"$f":"IF(ISNUMBER(F216),E216*F216,\"\")","v":15.523},null,null,0]
[null,null,null,null,null,"",{"$f":"IF(ISNUMBER(F217),E217*F217,\"\")","v":""},null,null,0]
["SF-00045",{"$f":"INDEX(Orçamentária!A:B,MATCH(Composições!A218,Orçamentária!A:A,0),2)","v":"Remoção de vidro comum / espelho"},null,{"$f":"TRIM(INDEX(Orçamentária!C:C,MATCH(Composições!A218,Orçamentária!A:A,0),1))","v":"m2"},null,"",{"$f":"IF(ISNUMBER(F218),E218*F218,\"\")","v":""},null,null,0]
[null,null,null,null,null,"",{"$f":"IF(ISNUMBER(F219),E219*F219,\"\")","v":""},null,null,0]
[null,null,"Servente com Encargos Complementares","h",0.2,14.554,{"$f":"IF(ISNUMBER(F220),E220*F220,\"\")","v":2.9108000000000001},{"$f":"SUM(G220:G221)","v":11.9833},null,0]
[null,null,"Vidraceiro com encargos complementares","h",0.5,18.145,{"$f":"IF(ISNUMBER(F221),E221*F221,\"\")","v":9.0724999999999998},null,null,0]
[null,null,null,null,null,"",{"$f":"IF(ISNUMBER(F222),E222*F222,\"\")","v":""},null,null,0]
["SF-00046",{"$f":"INDEX(Orçamentária!A:B,MATCH(Composições!A223,Orçamentária!A:A,0),2)","v":"Retirada de entulhos"},null,{"$f":"TRIM(INDEX(Orçamentária!C:C,MATCH(Composições!A223,Orçamentária!A:A,0),1))","v":"m3"},null,"",{"$f":"IF(ISNUMBER(F223),E223*F223,\"\")","v":""},null,null,0]
[null,null,null,null,null,"",{"$f":"IF(ISNUMBER(F224),E224*F224,\"\")","v":""},null,null,0]
[null,null,"Servente com Encargos Complementares","h",1,14.554,{"$f":"IF(ISNUMBER(F225),E225*F225,\"\")","v":14.554},{"$f":"SUM(G225:G225)","v":14.554},null,0]
[null,null,null,null,null,"",{"$f":"IF(ISNUMBER(F226),E226*F226,\"\")","v":""},null,null,0]
["SF-00048",{"$f":"INDEX(Orçamentária!A:B,MATCH(Composições!A227,Orçamentária!A:A,0),2)","v":"Andaime fachadeiro"},null,{"$f":"TRIM(INDEX(Orçamentária!C:C,MATCH(Composições!A227,Orçamentária!A:A,0),1))","v":"m2 x mês"},null,"",{"$f":"IF(ISNUMBER(F227),E227*F227,\"\")","v":""},null,null,809.75]
[null,null,null,null,null,"",{"$f":"IF(ISNUMBER(F228),E228*F228,\"\")","v":""},null,null,809.75]
[null,null,"LOCACAO DE ANDAIME METALICO TIPO FACHADEIRO, LARGURA DE 1,20 M, ALTURA POR PECA DE 2,0 M, INCLUINDO SAPATAS E ITENS NECESSARIOS A INSTALACAO","M2XMES",1,3.7905000000000002,{"$f":"IF(ISNUMBER(F229),E229*F229,\"\")","v":3.7905000000000002},{"$f":"SUM(G229:G229)","v":3.7905000000000002},null,809.75]
[null,null,null,null,null,"",{"$f":"IF(ISNUMBER(F230),E230*F230,\"\")","v":""},null,null,809.75]
["SF-00049",{"$f":"INDEX(Orçamentária!A:B,MATCH(Composições!A231,Orçamentária!A:A,0),2)","v":"Andaime tubular (aluguel/mês)"},null,{"$f":"TRIM(INDEX(Orçamentária!C:C,MATCH(Composições!A231,Orçamentária!A:A,0),1))","v":"m x mês"},null,"",{"$f":"IF(ISNUMBER(F231),E231*F231,\"\")","v":""},null,null,0]
[null,null,null,null,null,"",{"$f":"IF(ISNUMBER(F232),E232*F232,\"\")","v":""},null,null,0]
[null,null,"LOCACAO DE ANDAIME METALICO TUBULAR DE ENCAIXE, TIPO DE TORRE, COM LARGURA DE 1 ATE 1,5 M E ALTURA DE *1,00* M","MXMES",1,11.399999999999999,{"$f":"IF(ISNUMBER(F233),E233*F233,\"\")","v":11.399999999999999},{"$f":"SUM(G233:G233)","v":11.399999999999999},null,0]
[null,null,null,null,null,"",{"$f":"IF(ISNUMBER(F234),E234*F234,\"\")","v":""},null,null,0]
["SF-00051",{"$f":"INDEX(Orçamentária!A:B,MATCH(Composições!A235,Orçamentária!A:A,0),2)","v":"Corda de poliamida 12 mm tipo bombeiro, para trabalho em altura"},null,{"$f":"TRIM(INDEX(Orçamentária!C:C,MATCH(Composições!A235,Orçamentária!A:A,0),1))","v":"m"},null,"",{"$f":"IF(ISNUMBER(F235),E235*F235,\"\")","v":""},null,null,440]
[null,null,null,null,null,"",{"$f":"IF(ISNUMBER(F236),E236*F236,\"\")","v":""},null,null,440]
[null,null,"CORDA DE POLIAMIDA 12 MM TIPO BOMBEIRO, PARA TRABALHO EM ALTURA","100m",0.01,441.97800000000001,{"$f":"IF(ISNUMBER(F237),E237*F237,\"\")","v":4.4197800000000003},{"$f":"SUM(G237:G237)","v":4.4197800000000003},null,440]
[null,null,null,null,null,"",{"$f":"IF(ISNUMBER(F238),E238*F238,\"\")","v":""},null,null,440]
["SF-00057",{"$f":"INDEX(Orçamentária!A:B,MATCH(Composições!A239,Orçamentária!A:A,0),2)","v":"Isolamento de obra com tela plástica com malha de 5mm e estrutura de madeira pontaleteada"},null,{"$f":"TRIM(INDEX(Orçamentária!C:C,MATCH(Composições!A239,Orçamentária!A:A,0),1))","v":"m2"},null,"",{"$f":"IF(ISNUMBER(F239),E239*F239,\"\")","v":""},null,null,150]
[null,null,null,null,null,"",{"$f":"IF(ISNUMBER(F240),E240*F240,\"\")","v":""},null,null,150]
[null,null,"Servente com Encargos Complementares","h",0.15,14.554,{"$f":"IF(ISNUMBER(F241),E241*F241,\"\")","v":2.1831},{"$f":"SUM(G241:G245)","v":16.712874999999997},null,150]
[null,null,"Carpinteiro de formas com encargos complementares","h",0.3,19.341999999999999,{"$f":"IF(ISNUMBER(F242),E242*F242,\"\")","v":5.8025999999999991},null,null,150]
[null,null,"PONTALETE DE MADEIRA NAO APARELHADA *7,5 X 7,5* CM (3 X 3 \") PINUS, MISTA OU EQUIVALENTE DA REGIAO","m",1.5,3.6859999999999999,{"$f":"IF(ISNUMBER(F243),E243*F243,\"\")","v":5.5289999999999999},null,null,150]
[null,null,"Prego de aco polido com cabeca 18 x 27 (2 1/2 x 10)","kg",0.1,11.114999999999998,{"$f":"IF(ISNUMBER(F244),E244*F244,\"\")","v":1.1114999999999999},null,null,150]
[null,null,"TELA PLASTICA LARANJA, TIPO TAPUME PARA SINALIZACAO, MALHA RETANGULAR, ROLO 1.20 X 50 M (L X C)","m",1.1499999999999999,1.8144999999999998,{"$f":"IF(ISNUMBER(F245),E245*F245,\"\")","v":2.0866749999999996},null,null,150]
[null,null,null,null,null,"",{"$f":"IF(ISNUMBER(F246),E246*F246,\"\")","v":""},null,null,150]
["SF-00070",{"$f":"INDEX(Orçamentária!A:B,MATCH(Composições!A247,Orçamentária!A:A,0),2)","v":"Tapume"},null,{"$f":"TRIM(INDEX(Orçamentária!C:C,MATCH(Composições!A247,Orçamentária!A:A,0),1))","v":"m2"},null,"",{"$f":"IF(ISNUMBER(F247),E247*F247,\"\")","v":""},null,null,0]
[null,null,null,null,null,"",{"$f":"IF(ISNUMBER(F248),E248*F248,\"\")","v":""},null,null,0]
[null,null,"Carpinteiro de formas com encargos complementares","h",0.4,19.341999999999999,{"$f":"IF(ISNUMBER(F249),E249*F249,\"\")","v":7.7367999999999997},{"$f":"SUM(G249:G260)","v":52.048998999999988},null,0]
[null,null,"Servente com Encargos Complementares","h",0.4,14.554,{"$f":"IF(ISNUMBER(F250),E250*F250,\"\")","v":5.8216000000000001},null,null,0]
[null,null,"Chapa de madeira compensada resinada 1,10 x 2,20 m # 6 mm","m2",1.1000000000000001,0,{"$f":"IF(ISNUMBER(F251),E251*F251,\"\")","v":0},null,null,0]
[null,null,"PONTALETE DE MADEIRA NAO APARELHADA *7,5 X 7,5* CM (3 X 3 \") PINUS, MISTA OU EQUIVALENTE DA REGIAO","m",1.6,3.6859999999999999,{"$f":"IF(ISNUMBER(F252),E252*F252,\"\")","v":5.8976000000000006},null,null,0]
[null,null,"SARRAFO DE MADEIRA NAO APARELHADA *2,5 X 10 CM, MACARANDUBA, ANGELIM OU EQUIVALENTE DA REGIAO","m",1.65,8.7495000000000012,{"$f":"IF(ISNUMBER(F253),E253*F253,\"\")","v":14.436675000000001},null,null,0]
[null,null,"TABUA DE MADEIRA NAO APARELHADA *2,5 X 30* CM, CEDRINHO OU EQUIVALENTE DA REGIAO","m",0.5,14.554,{"$f":"IF(ISNUMBER(F254),E254*F254,\"\")","v":7.2770000000000001},null,null,0]
[null,null,"PREGO DE ACO POLIDO COM CABECA 18 X 30 (2 3/4 X 10)","kg",0.1,11.305,{"$f":"IF(ISNUMBER(F255),E255*F255,\"\")","v":1.1305000000000001},null,null,0]
[null,null,"Ajudante de pintor com encargos complementares","h",1.5E-3,16.653500000000001,{"$f":"IF(ISNUMBER(F256),E256*F256,\"\")","v":2.4980250000000002E-2},null,null,0]
[null,null,"Pintor com encargos complementares","h",0.4,20.52,{"$f":"IF(ISNUMBER(F257),E257*F257,\"\")","v":8.2080000000000002},null,null,0]
[null,null,"Oleo de linhaca","L",2.2499999999999999E-2,16.368500000000001,{"$f":"IF(ISNUMBER(F258),E258*F258,\"\")","v":0.36829125000000001},null,null,0]
[null,null,"Cal hidratada para pintura","kg",0.6,1.2635000000000001,{"$f":"IF(ISNUMBER(F259),E259*F259,\"\")","v":0.7581},null,null,0]
[null,null,"Pigmento em po para argamassas, cimentos e outros","kg",1.4999999999999999E-2,25.963499999999996,{"$f":"IF(ISNUMBER(F260),E260*F260,\"\")","v":0.38945249999999992},null,null,0]
[null,null,null,null,null,"",{"$f":"IF(ISNUMBER(F261),E261*F261,\"\")","v":""},null,null,0]
["SF-00073",{"$f":"INDEX(Orçamentária!A:B,MATCH(Composições!A262,Orçamentária!A:A,0),2)","v":"Limpeza final de obra"},null,{"$f":"TRIM(INDEX(Orçamentária!C:C,MATCH(Composições!A262,Orçamentária!A:A,0),1))","v":"m2"},null,"",{"$f":"IF(ISNUMBER(F262),E262*F262,\"\")","v":""},null,null,0]
[null,null,null,null,null,"",{"$f":"IF(ISNUMBER(F263),E263*F263,\"\")","v":""},null,null,0]
[null,null,"Servente com Encargos Complementares","h",2.5000000000000001E-2,14.554,{"$f":"IF(ISNUMBER(F264),E264*F264,\"\")","v":0.36385000000000001},{"$f":"SUM(G264:G265)","v":1.7755880000000002},null,0]
[null,null,"Servente com Encargos Complementares","h",9.7000000000000003E-2,14.554,{"$f":"IF(ISNUMBER(F265),E265*F265,\"\")","v":1.4117380000000002},null,null,0]
[null,null,null,null,null,"",{"$f":"IF(ISNUMBER(F266),E266*F266,\"\")","v":""},null,null,0]
["SF-00074",{"$f":"INDEX(Orçamentária!A:B,MATCH(Composições!A267,Orçamentária!A:A,0),2)","v":"Abertura/fechamento rasgo em alvenaria"},null,{"$f":"TRIM(INDEX(Orçamentária!C:C,MATCH(Composições!A267,Orçamentária!A:A,0),1))","v":"m"},null,"",{"$f":"IF(ISNUMBER(F267),E267*F267,\"\")","v":""},null,null,0]
[null,null,null,null,null,"",{"$f":"IF(ISNUMBER(F268),E268*F268,\"\")","v":""},null,null,0]
[null,null,"Auxiliar de eletricista com encargos complementares","h",3.4000000000000002E-2,15.447000000000001,{"$f":"IF(ISNUMBER(F269),E269*F269,\"\")","v":0.52519800000000005},{"$f":"SUM(G269:G273)","v":14.4834434013615},null,0]
[null,null,"Eletricista com encargos complementares","h",0.216,19.645999999999997,{"$f":"IF(ISNUMBER(F270),E270*F270,\"\")","v":4.2435359999999998},null,null,0]
[null,null,"Auxiliar de encanador ou bombeiro hidráulico com encargos complementares","h",5.5E-2,15.019499999999999,{"$f":"IF(ISNUMBER(F271),E271*F271,\"\")","v":0.82607249999999999},null,null,0]
[null,null,"Encanador ou Bombeiro Hidráulico com Encargos Complementares","h",0.39100000000000001,19.066499999999998,{"$f":"IF(ISNUMBER(F272),E272*F272,\"\")","v":7.4550014999999998},null,null,0]
[null,null,"ARGAMASSA TRAÇO 1:3 (EM VOLUME DE CIMENTO E AREIA MÉDIA ÚMIDA), PREPARO MANUAL. AF_08/2019","m3",3.0000000000000001E-3,477.87846712050003,{"$f":"IF(ISNUMBER(F273),E273*F273,\"\")","v":1.4336354013615},null,null,0]
[null,null,null,null,null,"",{"$f":"IF(ISNUMBER(F274),E274*F274,\"\")","v":""},null,null,0]
["SF-00075",{"$f":"INDEX(Orçamentária!A:B,MATCH(Composições!A275,Orçamentária!A:A,0),2)","v":"Furo em concreto de até 75mm de diâmetro"},null,{"$f":"TRIM(INDEX(Orçamentária!C:C,MATCH(Composições!A275,Orçamentária!A:A,0),1))","v":"un"},null,"",{"$f":"IF(ISNUMBER(F275),E275*F275,\"\")","v":""},null,null,0]
[null,null,null,null,null,"",{"$f":"IF(ISNUMBER(F276),E276*F276,\"\")","v":""},null,null,0]
[null,null,"Martelete ou rompedor pneumático manual, 28 kg, com silenciador - CHP diurno. AF_07/2016","chp",0.58699999999999997,18.05,{"$f":"IF(ISNUMBER(F277),E277*F277,\"\")","v":10.59535},{"$f":"SUM(G277:G280)","v":72.377194000000003},null,0]
[null,null,"Martelete ou rompedor pneumático manual, 28 kg, com silenciador - CHI diurno. AF_07/2016","chi",1.29,16.739000000000001,{"$f":"IF(ISNUMBER(F278),E278*F278,\"\")","v":21.593310000000002},null,null,0]
[null,null,"Auxiliar de encanador ou bombeiro hidráulico com encargos complementares","h",0.29299999999999998,15.019499999999999,{"$f":"IF(ISNUMBER(F279),E279*F279,\"\")","v":4.4007134999999993},null,null,0]
[null,null,"Encanador ou Bombeiro Hidráulico com Encargos Complementares","h",1.877,19.066499999999998,{"$f":"IF(ISNUMBER(F280),E280*F280,\"\")","v":35.787820499999995},null,null,0]
[null,null,null,null,null,"",{"$f":"IF(ISNUMBER(F281),E281*F281,\"\")","v":""},null,null,0]
["SF-00076",{"$f":"INDEX(Orçamentária!A:B,MATCH(Composições!A282,Orçamentária!A:A,0),2)","v":"Furo em concreto para diâmetros maiores que 75mm"},null,{"$f":"TRIM(INDEX(Orçamentária!C:C,MATCH(Composições!A282,Orçamentária!A:A,0),1))","v":"un"},null,"",{"$f":"IF(ISNUMBER(F282),E282*F282,\"\")","v":""},null,null,0]
[null,null,null,null,null,"",{"$f":"IF(ISNUMBER(F283),E283*F283,\"\")","v":""},null,null,0]
[null,null,"Martelete ou rompedor pneumático manual, 28 kg, com silenciador - CHP diurno. AF_07/2016","chp",0.75,18.05,{"$f":"IF(ISNUMBER(F284),E284*F284,\"\")","v":13.537500000000001},{"$f":"SUM(G284:G287)","v":92.441345999999982},null,0]
[null,null,"Martelete ou rompedor pneumático manual, 28 kg, com silenciador - CHI diurno. AF_07/2016","chi",1.647,16.739000000000001,{"$f":"IF(ISNUMBER(F285),E285*F285,\"\")","v":27.569133000000001},null,null,0]
[null,null,"Auxiliar de encanador ou bombeiro hidráulico com encargos complementares","h",0.375,15.019499999999999,{"$f":"IF(ISNUMBER(F286),E286*F286,\"\")","v":5.6323124999999994},null,null,0]
[null,null,"Encanador ou Bombeiro Hidráulico com Encargos Complementares","h",2.3969999999999998,19.066499999999998,{"$f":"IF(ISNUMBER(F287),E287*F287,\"\")","v":45.702400499999989},null,null,0]
[null,null,null,null,null,"",{"$f":"IF(ISNUMBER(F288),E288*F288,\"\")","v":""},null,null,0]
["SF-00077",{"$f":"INDEX(Orçamentária!A:B,MATCH(Composições!A289,Orçamentária!A:A,0),2)","v":"Concreto virado em betoneira, fck = 15 MPa"},null,{"$f":"TRIM(INDEX(Orçamentária!C:C,MATCH(Composições!A289,Orçamentária!A:A,0),1))","v":"m3"},null,"",{"$f":"IF(ISNUMBER(F289),E289*F289,\"\")","v":""},null,null,0]
[null,null,null,null,null,"",{"$f":"IF(ISNUMBER(F290),E290*F290,\"\")","v":""},null,null,0]
[null,null,"LANÇAMENTO COM USO DE BALDES, ADENSAMENTO E ACABAMENTO DE CONCRETO EM ESTRUTURAS. AF_12/2015","m3",1,153.47174000000001,{"$f":"IF(ISNUMBER(F291),E291*F291,\"\")","v":153.47174000000001},{"$f":"SUM(G291:G300)","v":499.39892062680008},null,0]
[null,null,"Areia media - posto jazida/fornecedor (retirado na jazida, sem transporte)","m3",0.80500000000000005,93.8125,{"$f":"IF(ISNUMBER(F292),E292*F292,\"\")","v":75.519062500000004},null,null,0]
[null,null,"Cimento Portland composto CP II-32","kg",273.06,0.44649999999999995,{"$f":"IF(ISNUMBER(F293),E293*F293,\"\")","v":121.92128999999998},null,null,0]
[null,null,"Pedra britada n. 1 (9,5 a 19 mm) posto pedreira/fornecedor, sem frete","m3",0.57899999999999996,76,{"$f":"IF(ISNUMBER(F294),E294*F294,\"\")","v":44.003999999999998},null,null,0]
[null,null,"Operador de betoneira estacionária/misturador com encargos complementares","h",1.47,14.658499999999998,{"$f":"IF(ISNUMBER(F295),E295*F295,\"\")","v":21.547994999999997},null,null,0]
[null,null,"Servente com Encargos Complementares","h",2.33,14.554,{"$f":"IF(ISNUMBER(F296),E296*F296,\"\")","v":33.910820000000001},null,null,0]
[null,null,"BETONEIRA CAPACIDADE NOMINAL DE 400 L, CAPACIDADE DE MISTURA 280 L, MOTOR ELÉTRICO TRIFÁSICO POTÊNCIA DE 2 CV, SEM CARREGADOR - CHP DIURNO. AF_10/2014","chp",0.76,1.121,{"$f":"IF(ISNUMBER(F297),E297*F297,\"\")","v":0.85196000000000005},null,null,0]
[null,null,"BETONEIRA CAPACIDADE NOMINAL DE 400 L, CAPACIDADE DE MISTURA 280 L, MOTOR ELÉTRICO TRIFÁSICO POTÊNCIA DE 2 CV, SEM CARREGADOR - CHI DIURNO. AF_10/2014","chi",0.71,0.22799999999999998,{"$f":"IF(ISNUMBER(F298),E298*F298,\"\")","v":0.16187999999999997},null,null,0]
[null,null,"CARGA, MANOBRA E DESCARGA DE SOLOS E MATERIAIS GRANULARES EM CAMINHÃO BASCULANTE 6 M³ - CARGA COM PÁ CARREGADEIRA (CAÇAMBA DE 1,7 A 2,8 M³ / 128 HP) E DESCARGA LIVRE (UNIDADE: M3). AF_07/2020","M3",{"$f":"1*(E292+E294)","v":1.3839999999999999},4.6197654500000001,{"$f":"IF(ISNUMBER(F299),E299*F299,\"\")","v":6.3937553827999993},null,null,0]
[null,null,"TRANSPORTE COM CAMINHÃO BASCULANTE DE 6 M3, EM VIA URBANA PAVIMENTADA, DMT ATÉ 30 KM (UNIDADE: M3xKM). AF_01/2018","M3xKM",{"$f":"(E292+E294)*20","v":27.68},1.5034832999999999,{"$f":"IF(ISNUMBER(F300),E300*F300,\"\")","v":41.616417743999996},null,null,0]
[null,null,null,null,null,"",{"$f":"IF(ISNUMBER(F301),E301*F301,\"\")","v":""},null,null,0]
[null,null,"Obs.: Considerando fornecedor de areia e brita a 20 km do Senado Federal.",null,null,"",{"$f":"IF(ISNUMBER(F302),E302*F302,\"\")","v":""},null,null,0]
[null,null,null,null,null,"",{"$f":"IF(ISNUMBER(F303),E303*F303,\"\")","v":""},null,null,0]
["SF-00078",{"$f":"INDEX(Orçamentária!A:B,MATCH(Composições!A304,Orçamentária!A:A,0),2)","v":"Concreto virado em betoneira, fck = 25MPa"},null,{"$f":"TRIM(INDEX(Orçamentária!C:C,MATCH(Composições!A304,Orçamentária!A:A,0),1))","v":"m3"},null,"",{"$f":"IF(ISNUMBER(F304),E304*F304,\"\")","v":""},null,null,0]
[null,null,null,null,null,"",{"$f":"IF(ISNUMBER(F305),E305*F305,\"\")","v":""},null,null,0]
[null,null,"LANÇAMENTO COM USO DE BALDES, ADENSAMENTO E ACABAMENTO DE CONCRETO EM ESTRUTURAS. AF_12/2015","m3",1,153.47174000000001,{"$f":"IF(ISNUMBER(F306),E306*F306,\"\")","v":153.47174000000001},{"$f":"SUM(G306:G315)","v":529.96893928819998},null,0]
[null,null,"Areia media - posto jazida/fornecedor (retirado na jazida, sem transporte)","m3",0.72299999999999998,93.8125,{"$f":"IF(ISNUMBER(F307),E307*F307,\"\")","v":67.826437499999997},null,null,0]
[null,null,"Cimento Portland composto CP II-32","kg",362.66,0.44649999999999995,{"$f":"IF(ISNUMBER(F308),E308*F308,\"\")","v":161.92768999999998},null,null,0]
[null,null,"Pedra britada n. 1 (9,5 a 19 mm) posto pedreira/fornecedor, sem frete","m3",0.59299999999999997,76,{"$f":"IF(ISNUMBER(F309),E309*F309,\"\")","v":45.067999999999998},null,null,0]
[null,null,"Servente com Encargos Complementares","h",{"$f":"2.31","v":2.31},14.554,{"$f":"IF(ISNUMBER(F310),E310*F310,\"\")","v":33.61974},null,null,0]
[null,null,"Operador de betoneira estacionária/misturador com encargos complementares","h",1.46,14.658499999999998,{"$f":"IF(ISNUMBER(F311),E311*F311,\"\")","v":21.401409999999998},null,null,0]
[null,null,"BETONEIRA CAPACIDADE NOMINAL DE 400 L, CAPACIDADE DE MISTURA 280 L, MOTOR ELÉTRICO TRIFÁSICO POTÊNCIA DE 2 CV, SEM CARREGADOR - CHP DIURNO. AF_10/2014","chp",0.75,1.121,{"$f":"IF(ISNUMBER(F312),E312*F312,\"\")","v":0.84075},null,null,0]
[null,null,"BETONEIRA CAPACIDADE NOMINAL DE 400 L, CAPACIDADE DE MISTURA 280 L, MOTOR ELÉTRICO TRIFÁSICO POTÊNCIA DE 2 CV, SEM CARREGADOR - CHI DIURNO. AF_10/2014","chi",0.71,0.22799999999999998,{"$f":"IF(ISNUMBER(F313),E313*F313,\"\")","v":0.16187999999999997},null,null,0]
[null,null,"CARGA, MANOBRA E DESCARGA DE SOLOS E MATERIAIS GRANULARES EM CAMINHÃO BASCULANTE 6 M³ - CARGA COM PÁ CARREGADEIRA (CAÇAMBA DE 1,7 A 2,8 M³ / 128 HP) E DESCARGA LIVRE (UNIDADE: M3). AF_07/2020","M3",{"$f":"1*(E307+E309)","v":1.3159999999999998},4.6197654500000001,{"$f":"IF(ISNUMBER(F314),E314*F314,\"\")","v":6.0796113321999989},null,null,0]
[null,null,"TRANSPORTE COM CAMINHÃO BASCULANTE DE 6 M3, EM VIA URBANA PAVIMENTADA, DMT ATÉ 30 KM (UNIDADE: M3xKM). AF_01/2018","M3xKM",{"$f":"(E307+E309)*20","v":26.319999999999997},1.5034832999999999,{"$f":"IF(ISNUMBER(F315),E315*F315,\"\")","v":39.571680455999989},null,null,0]
[null,null,null,null,null,"",{"$f":"IF(ISNUMBER(F316),E316*F316,\"\")","v":""},null,null,0]
[null,null,"Obs.: Considerando fornecedor de areia e brita a 20 km do Senado Federal.",null,null,"",{"$f":"IF(ISNUMBER(F317),E317*F317,\"\")","v":""},null,null,0]
[null,null,null,null,null,"",{"$f":"IF(ISNUMBER(F318),E318*F318,\"\")","v":""},null,null,0]
["SF-00079",{"$f":"INDEX(Orçamentária!A:B,MATCH(Composições!A319,Orçamentária!A:A,0),2)","v":"Escoramento metálico"},null,{"$f":"TRIM(INDEX(Orçamentária!C:C,MATCH(Composições!A319,Orçamentária!A:A,0),1))","v":"m2 x mês"},null,"",{"$f":"IF(ISNUMBER(F319),E319*F319,\"\")","v":""},null,null,0]
[null,null,null,null,null,"",{"$f":"IF(ISNUMBER(F320),E320*F320,\"\")","v":""},null,null,0]
[null,null,"LOCACAO DE ESCORA METALICA TELESCOPICA, COM ALTURA REGULAVEL DE *1,80* A *3,20*M, COM CAPACIDADE DE CARGA DE NO MINIMO 1000 KGF (10 KN), INCLUSO TRIPE E FORCADO","MES",0.85,5.2154999999999996,{"$f":"IF(ISNUMBER(F321),E321*F321,\"\")","v":4.4331749999999994},{"$f":"SUM(G321:G323)","v":11.770975},null,0]
[null,null,"Ajudante de carpinteiro com encargos complementares","h",0.2,16.416,{"$f":"IF(ISNUMBER(F322),E322*F322,\"\")","v":3.2832000000000003},null,null,0]
[null,null,"PONTALETE DE MADEIRA NAO APARELHADA *7,5 X 7,5* CM (3 X 3 \") PINUS, MISTA OU EQUIVALENTE DA REGIAO","m",1.1000000000000001,3.6859999999999999,{"$f":"IF(ISNUMBER(F323),E323*F323,\"\")","v":4.0546000000000006},null,null,0]
[null,null,null,null,null,"",{"$f":"IF(ISNUMBER(F324),E324*F324,\"\")","v":""},null,null,0]
["SF-00080",{"$f":"INDEX(Orçamentária!A:B,MATCH(Composições!A325,Orçamentária!A:A,0),2)","v":"Estrutura metálica em aço"},null,{"$f":"TRIM(INDEX(Orçamentária!C:C,MATCH(Composições!A325,Orçamentária!A:A,0),1))","v":"kg"},null,"",{"$f":"IF(ISNUMBER(F325),E325*F325,\"\")","v":""},null,null,0]
[null,null,null,null,null,"",{"$f":"IF(ISNUMBER(F326),E326*F326,\"\")","v":""},null,null,0]
[null,null,"ACETILENO (RECARGA PARA CILINDRO DE CONJUNTO OXICORTE GRANDE)","kg",0.01,42.217999999999996,{"$f":"IF(ISNUMBER(F327),E327*F327,\"\")","v":0.42218},{"$f":"SUM(G327:G338)","v":10.052377499999999},null,0]
[null,null,"CANTONEIRA ACO ABAS IGUAIS (QUALQUER BITOLA), ESPESSURA ENTRE 1/8\" E 1/4\"","kg",0.27,4.8354999999999997,{"$f":"IF(ISNUMBER(F328),E328*F328,\"\")","v":1.305585},null,null,0]
[null,null,"Chapa de aco USI-SAC 350, de (2,44x6)m, com espessura de 1/2\"","kg",0.33,0,{"$f":"IF(ISNUMBER(F329),E329*F329,\"\")","v":0},null,null,0]
[null,null,"ELETRODO REVESTIDO AWS - E7018, DIAMETRO IGUAL A 4,00 MM","kg",2.5000000000000001E-2,16.862500000000001,{"$f":"IF(ISNUMBER(F330),E330*F330,\"\")","v":0.42156250000000006},null,null,0]
[null,null,"OXIGENIO, RECARGA PARA CILINDRO DE CONJUNTO OXICORTE GRANDE","m3",0.05,9.2530000000000001,{"$f":"IF(ISNUMBER(F331),E331*F331,\"\")","v":0.46265000000000001},null,null,0]
[null,null,"Perfil \"H\" de aco carbono, padrao americano, de (6\"x6\")","kg",0.4,0,{"$f":"IF(ISNUMBER(F332),E332*F332,\"\")","v":0},null,null,0]
[null,null,"Montador de estrutura metálica com encargos complementares","h",{"$f":"0.2+0.2","v":0.4},14.962499999999999,{"$f":"IF(ISNUMBER(F333),E333*F333,\"\")","v":5.9849999999999994},null,null,0]
[null,null,"Servente com Encargos Complementares","h",0.1,14.554,{"$f":"IF(ISNUMBER(F334),E334*F334,\"\")","v":1.4554},null,null,0]
[null,null,"Perda em perfil de aco carbono tipo \"H\", de 6\"x6\" - 5% - equivalente ao elementar MAT095450","kg",0.05,0,{"$f":"IF(ISNUMBER(F335),E335*F335,\"\")","v":0},null,null,0]
[null,null,"Repintura interna ou externa sobre ferro, inclusive lixamento, limpeza, demao de tinta anti oxido Ferroloide ou equivalente e outra de tinta alquidica esmaltada Condor ou equivalente.","m2",0.05,0,{"$f":"IF(ISNUMBER(F336),E336*F336,\"\")","v":0},null,null,0]
[null,null,"Retificador de solda, eletrico, de 430A. Custo horario corrido.","h",2.5000000000000001E-2,0,{"$f":"IF(ISNUMBER(F337),E337*F337,\"\")","v":0},null,null,0]
[null,null,"Talha Guincho manual de 10Kg, sem operador, com as seguintes especificacoes minimas: capacidade de icamento de 1500Kg e de tracao de 1800Kg, cabo de aco com curso ilimitado, alavanca, gancho e carretel. Custo horario corrido.","h",0.5,0,{"$f":"IF(ISNUMBER(F338),E338*F338,\"\")","v":0},null,null,0]
[null,null,null,null,null,"",{"$f":"IF(ISNUMBER(F339),E339*F339,\"\")","v":""},null,null,0]
["SF-00081",{"$f":"INDEX(Orçamentária!A:B,MATCH(Composições!A340,Orçamentária!A:A,0),2)","v":"Forma para estruturas de concreto"},null,{"$f":"TRIM(INDEX(Orçamentária!C:C,MATCH(Composições!A340,Orçamentária!A:A,0),1))","v":"m2"},null,"",{"$f":"IF(ISNUMBER(F340),E340*F340,\"\")","v":""},null,null,0]
[null,null,null,null,null,"",{"$f":"IF(ISNUMBER(F341),E341*F341,\"\")","v":""},null,null,0]
[null,null,"DESMOLDANTE PROTETOR PARA FORMAS DE MADEIRA, DE BASE OLEOSA EMULSIONADA EM AGUA","L",0.01,4.8925000000000001,{"$f":"IF(ISNUMBER(F342),E342*F342,\"\")","v":4.8925000000000003E-2},{"$f":"SUM(G342:G348)","v":106.048458998},null,0]
[null,null,"TABUA DE MADEIRA NAO APARELHADA *2,5 X 20* CM, CEDRINHO OU EQUIVALENTE DA REGIAO","M",0.47399999999999998,9.9559999999999995,{"$f":"IF(ISNUMBER(F343),E343*F343,\"\")","v":4.7191439999999991},null,null,0]
[null,null,"PREGO DE ACO POLIDO COM CABECA DUPLA 17 X 27 (2 1/2 X 11)","KG",4.9000000000000002E-2,13.955499999999999,{"$f":"IF(ISNUMBER(F344),E344*F344,\"\")","v":0.68381950000000002},null,null,0]
[null,null,"AJUDANTE DE CARPINTEIRO COM ENCARGOS COMPLEMENTARES","H",0.20499999999999999,16.416,{"$f":"IF(ISNUMBER(F345),E345*F345,\"\")","v":3.3652799999999998},null,null,0]
[null,null,"CARPINTEIRO DE FORMAS COM ENCARGOS COMPLEMENTARES","H",1.1200000000000001,19.341999999999999,{"$f":"IF(ISNUMBER(F346),E346*F346,\"\")","v":21.663040000000002},null,null,0]
[null,null,"FABRICAÇÃO DE FÔRMA PARA VIGAS, EM CHAPA DE MADEIRA COMPENSADA RESINADA, E = 17 MM. AF_09/2020","M2",0.621,69.837881999999993,{"$f":"IF(ISNUMBER(F347),E347*F347,\"\")","v":43.369324721999995},null,null,0]
[null,null,"FABRICAÇÃO DE ESCORAS DE VIGA DO TIPO GARFO, EM MADEIRA. AF_09/2020","M",1.8160000000000001,17.730686000000002,{"$f":"IF(ISNUMBER(F348),E348*F348,\"\")","v":32.198925776000003},null,null,0]
[null,null,null,null,null,"",{"$f":"IF(ISNUMBER(F349),E349*F349,\"\")","v":""},null,null,0]
["SF-00082",{"$f":"INDEX(Orçamentária!A:B,MATCH(Composições!A350,Orçamentária!A:A,0),2)","v":"Verga/contraverga/cinta em bloco de concreto canaleta 11,5 x 19 x 39 cm"},null,{"$f":"TRIM(INDEX(Orçamentária!C:C,MATCH(Composições!A350,Orçamentária!A:A,0),1))","v":"m"},null,"",{"$f":"IF(ISNUMBER(F350),E350*F350,\"\")","v":""},null,null,0]
[null,null,null,null,null,"",{"$f":"IF(ISNUMBER(F351),E351*F351,\"\")","v":""},null,null,0]
[null,null,"Servente com Encargos Complementares","h",0.4,14.554,{"$f":"IF(ISNUMBER(F352),E352*F352,\"\")","v":5.8216000000000001},{"$f":"SUM(G352:G360)","v":17.722728628999999},null,0]
[null,null,"Pedreiro Com Encargos Complementares","h",0.3,19.474999999999998,{"$f":"IF(ISNUMBER(F353),E353*F353,\"\")","v":5.8424999999999994},null,null,0]
[null,null,"Areia media - posto jazida/fornecedor (retirado na jazida, sem transporte)","m3",0.01,93.8125,{"$f":"IF(ISNUMBER(F354),E354*F354,\"\")","v":0.93812499999999999},null,null,0]
[null,null,"Pedra britada n. 2 (19 a 38 mm) posto pedreira/fornecedor, sem frete","m3",0.01,76,{"$f":"IF(ISNUMBER(F355),E355*F355,\"\")","v":0.76},null,null,0]
[null,null,"Cimento Portland composto CP II-32","kg",2.0099999999999998,0.44649999999999995,{"$f":"IF(ISNUMBER(F356),E356*F356,\"\")","v":0.89746499999999985},null,null,0]
[null,null,"Bloco de concreto tipo canaleta 11,5 x 19 x 39 cm","un ",2.5,0,{"$f":"IF(ISNUMBER(F357),E357*F357,\"\")","v":0},null,null,0]
[null,null,"Aco CA-50, 10,0 mm, vergalhao","kg",0.5,5.5385,{"$f":"IF(ISNUMBER(F358),E358*F358,\"\")","v":2.76925},null,null,0]
[null,null,"CARGA, MANOBRA E DESCARGA DE SOLOS E MATERIAIS GRANULARES EM CAMINHÃO BASCULANTE 6 M³ - CARGA COM PÁ CARREGADEIRA (CAÇAMBA DE 1,7 A 2,8 M³ / 128 HP) E DESCARGA LIVRE (UNIDADE: M3). AF_07/2020","M3",{"$f":"1*(E354+E355)","v":0.02},4.6197654500000001,{"$f":"IF(ISNUMBER(F359),E359*F359,\"\")","v":9.2395309000000009E-2},null,null,0]
[null,null,"TRANSPORTE COM CAMINHÃO BASCULANTE DE 6 M3, EM VIA URBANA PAVIMENTADA, DMT ATÉ 30 KM (UNIDADE: M3xKM). AF_01/2018","M3xKM",{"$f":"(E354+E355)*20","v":0.4},1.5034832999999999,{"$f":"IF(ISNUMBER(F360),E360*F360,\"\")","v":0.60139332000000001},null,null,0]
[null,null,null,null,null,"",{"$f":"IF(ISNUMBER(F361),E361*F361,\"\")","v":""},null,null,0]
[null,null,"Obs.: Considerando fornecedor de areia e brita a 20 km do Senado Federal.",null,null,"",{"$f":"IF(ISNUMBER(F362),E362*F362,\"\")","v":""},null,null,0]
[null,null,null,null,null,"",{"$f":"IF(ISNUMBER(F363),E363*F363,\"\")","v":""},null,null,0]
["SF-00083",{"$f":"INDEX(Orçamentária!A:B,MATCH(Composições!A364,Orçamentária!A:A,0),2)","v":"Impermeabilização de superfície com revestimento bicomponente semi flexível"},null,{"$f":"TRIM(INDEX(Orçamentária!C:C,MATCH(Composições!A364,Orçamentária!A:A,0),1))","v":"m2"},null,"",{"$f":"IF(ISNUMBER(F364),E364*F364,\"\")","v":""},null,null,0]
[null,null,null,null,null,"",{"$f":"IF(ISNUMBER(F365),E365*F365,\"\")","v":""},null,null,0]
[null,null,"Argamassa polimerica impermeabilizante semiflexivel, bicomponente (membrana impermeabilizante acrilica)","kg",3.2,2.3275000000000001,{"$f":"IF(ISNUMBER(F366),E366*F366,\"\")","v":7.4480000000000004},{"$f":"SUM(G366:G368)","v":19.664733999999999},null,0]
[null,null,"Ajudante especializado com encargos complementares","h",0.108,17.185499999999998,{"$f":"IF(ISNUMBER(F367),E367*F367,\"\")","v":1.8560339999999997},null,null,0]
[null,null,"Impermeabilizador com encargos complementares","h",0.53200000000000003,19.474999999999998,{"$f":"IF(ISNUMBER(F368),E368*F368,\"\")","v":10.3607},null,null,0]
[null,null,null,null,null,"",{"$f":"IF(ISNUMBER(F369),E369*F369,\"\")","v":""},null,null,0]
["SF-00084",{"$f":"INDEX(Orçamentária!A:B,MATCH(Composições!A370,Orçamentária!A:A,0),2)","v":"Alvenaria de vedação"},null,{"$f":"TRIM(INDEX(Orçamentária!C:C,MATCH(Composições!A370,Orçamentária!A:A,0),1))","v":"m2"},null,"",{"$f":"IF(ISNUMBER(F370),E370*F370,\"\")","v":""},null,null,0]
[null,null,null,null,null,"",{"$f":"IF(ISNUMBER(F371),E371*F371,\"\")","v":""},null,null,0]
[null,null,"BLOCO CERAMICO VAZADO PARA ALVENARIA DE VEDACAO, DE 9 X 19 X 19 CM (L X A X C)","mil",2.7900000000000001E-2,690.96349999999995,{"$f":"IF(ISNUMBER(F372),E372*F372,\"\")","v":19.277881650000001},{"$f":"SUM(G372:G377)","v":61.080801412809201},null,0]
[null,null,"Tela de aco soldada galvanizada/zincada para alvenaria, fio D = *1,20 a 1,70* mm, malha 15 x 15 mm, (C x L) *50 x 7,5* cm","m",0.42,1.6909999999999998,{"$f":"IF(ISNUMBER(F373),E373*F373,\"\")","v":0.71021999999999985},null,null,0]
[null,null,"Pino de aco com furo, haste = 27 mm (acao direta)","cento",5.0000000000000001E-3,32.423500000000004,{"$f":"IF(ISNUMBER(F374),E374*F374,\"\")","v":0.16211750000000003},null,null,0]
[null,null,"ARGAMASSA TRAÇO 1:2:8 (EM VOLUME DE CIMENTO, CAL E AREIA MÉDIA ÚMIDA) PARA EMBOÇO/MASSA ÚNICA/ASSENTAMENTO DE ALVENARIA DE VEDAÇÃO, PREPARO MECÂNICO COM BETONEIRA 400 L. AF_08/2019","m3",9.7999999999999997E-3,436.76961865399988,{"$f":"IF(ISNUMBER(F375),E375*F375,\"\")","v":4.2803422628091985},null,null,0]
[null,null,"Pedreiro com Encargos Complementares","h",1.37,19.474999999999998,{"$f":"IF(ISNUMBER(F376),E376*F376,\"\")","v":26.68075},null,null,0]
[null,null,"Servente com Encargos Complementares","h",0.68500000000000005,14.554,{"$f":"IF(ISNUMBER(F377),E377*F377,\"\")","v":9.9694900000000004},null,null,0]
[null,null,null,null,null,"",{"$f":"IF(ISNUMBER(F378),E378*F378,\"\")","v":""},null,null,0]
["SF-00085",{"$f":"INDEX(Orçamentária!A:B,MATCH(Composições!A379,Orçamentária!A:A,0),2)","v":"Fechamento ou shaft em gesso acartonado tipo drywall"},null,{"$f":"TRIM(INDEX(Orçamentária!C:C,MATCH(Composições!A379,Orçamentária!A:A,0),1))","v":"m2"},null,"",{"$f":"IF(ISNUMBER(F379),E379*F379,\"\")","v":""},null,null,0]
[null,null,null,null,null,"",{"$f":"IF(ISNUMBER(F380),E380*F380,\"\")","v":""},null,null,0]
[null,null,"Pino de aco com arruela conica, diametro arruela = *23* mm e Comp haste = *27* mm (acao indireta)","cento",2.4299999999999999E-2,37.715000000000003,{"$f":"IF(ISNUMBER(F381),E381*F381,\"\")","v":0.91647450000000008},{"$f":"SUM(G381:G391)","v":47.034074399999994},null,0]
[null,null,"Chapa de gesso acartonado, Standard (ST), cor branca, E = 12,5 mm, 1200 x 2400 mm (L x C)","m2",1.0529999999999999,20.177999999999997,{"$f":"IF(ISNUMBER(F382),E382*F382,\"\")","v":21.247433999999995},null,null,0]
[null,null,"Perfil guia, formato U, em aco zincado, para estrutura parede drywall, E = 0,5 mm, 70 x 3000 mm (L x C)","m",0.76039999999999996,4.18,{"$f":"IF(ISNUMBER(F383),E383*F383,\"\")","v":3.1784719999999997},null,null,0]
[null,null,"Perfil montante, formato C, em aco zincado, para estrutura parede drywall, E = 0,5 mm, 70 x 3000 mm (L x C)","m",1.9910000000000001,4.75,{"$f":"IF(ISNUMBER(F384),E384*F384,\"\")","v":9.4572500000000002},null,null,0]
[null,null,"Fita de papel microperfurado, 50 x 150 mm, para tratamento de juntas de chapa de gesso para drywall","m",1.2513000000000001,0.22799999999999998,{"$f":"IF(ISNUMBER(F385),E385*F385,\"\")","v":0.28529640000000001},null,null,0]
[null,null,"Fita de papel reforcada com lamina de metal para reforco de cantos de chapa de gesso para drywall","m",0.74070000000000003,2.9830000000000001,{"$f":"IF(ISNUMBER(F386),E386*F386,\"\")","v":2.2095081000000003},null,null,0]
[null,null,"Massa de rejunte em po para drywall, a base de gesso, secagem rapida, para tratamento de juntas de chapa de gesso (com adicao de agua)","kg",0.51639999999999997,4.0089999999999995,{"$f":"IF(ISNUMBER(F387),E387*F387,\"\")","v":2.0702475999999996},null,null,0]
[null,null,"Parafuso dry wall, em aco fosfatizado, cabeca trombeta e ponta agulha (TA), comprimento 25 mm","un",10.0039,7.5999999999999998E-2,{"$f":"IF(ISNUMBER(F388),E388*F388,\"\")","v":0.76029639999999998},null,null,0]
[null,null,"Parafuso dry wall, em aco zincado, cabeca lentilha e ponta broca (LB), largura 4,2 mm, comprimento 13 mm","un",0.80759999999999998,0.18049999999999999,{"$f":"IF(ISNUMBER(F389),E389*F389,\"\")","v":0.14577179999999998},null,null,0]
[null,null,"Montador de estrutura metálica com encargos complementares","h",0.36359999999999998,14.962499999999999,{"$f":"IF(ISNUMBER(F390),E390*F390,\"\")","v":5.440364999999999},null,null,0]
[null,null,"Servente com Encargos Complementares","h",9.0899999999999995E-2,14.554,{"$f":"IF(ISNUMBER(F391),E391*F391,\"\")","v":1.3229586},null,null,0]
[null,null,null,null,null,"",{"$f":"IF(ISNUMBER(F392),E392*F392,\"\")","v":""},null,null,0]
["SF-00086",{"$f":"INDEX(Orçamentária!A:B,MATCH(Composições!A393,Orçamentária!A:A,0),2)","v":"Fixação (encunhamento) de Alvenaria de Vedação"},null,{"$f":"TRIM(INDEX(Orçamentária!C:C,MATCH(Composições!A393,Orçamentária!A:A,0),1))","v":"m"},null,"",{"$f":"IF(ISNUMBER(F393),E393*F393,\"\")","v":""},null,null,0]
[null,null,null,null,null,"",{"$f":"IF(ISNUMBER(F394),E394*F394,\"\")","v":""},null,null,0]
[null,null,"TIJOLO CERAMICO MACICO COMUM *5 X 10 X 20* CM (L X A X C)","un",11.2,0.58899999999999997,{"$f":"IF(ISNUMBER(F395),E395*F395,\"\")","v":6.5967999999999991},{"$f":"SUM(G395:G398)","v":20.629754802328399},null,0]
[null,null,"ARGAMASSA TRAÇO 1:2:9 (EM VOLUME DE CIMENTO, CAL E AREIA MÉDIA ÚMIDA) PARA EMBOÇO/MASSA ÚNICA/ASSENTAMENTO DE ALVENARIA DE VEDAÇÃO, PREPARO MECÂNICO COM BETONEIRA 600 L. AF_08/2019","m3",5.1999999999999998E-3,420.76073121699989,{"$f":"IF(ISNUMBER(F396),E396*F396,\"\")","v":2.1879558023283994},null,null,0]
[null,null,"Pedreiro com Encargos Complementares","h",0.52900000000000003,19.474999999999998,{"$f":"IF(ISNUMBER(F397),E397*F397,\"\")","v":10.302275},null,null,0]
[null,null,"Servente com Encargos Complementares","h",0.106,14.554,{"$f":"IF(ISNUMBER(F398),E398*F398,\"\")","v":1.542724},null,null,0]
[null,null,null,null,null,"",{"$f":"IF(ISNUMBER(F399),E399*F399,\"\")","v":""},null,null,0]
["SF-00087",{"$f":"INDEX(Orçamentária!A:B,MATCH(Composições!A400,Orçamentária!A:A,0),2)","v":"Parede em gesso acartonado (drywall)"},null,{"$f":"TRIM(INDEX(Orçamentária!C:C,MATCH(Composições!A400,Orçamentária!A:A,0),1))","v":"m2"},null,"",{"$f":"IF(ISNUMBER(F400),E400*F400,\"\")","v":""},null,null,0]
[null,null,null,null,null,"",{"$f":"IF(ISNUMBER(F401),E401*F401,\"\")","v":""},null,null,0]
[null,null,"Pino De Aco Com Arruela Conica, Diametro Arruela = *23* Mm E Comp Haste = *27* Mm (Acao Indireta)","cento",2.4299999999999999E-2,37.715000000000003,{"$f":"IF(ISNUMBER(F402),E402*F402,\"\")","v":0.91647450000000008},{"$f":"SUM(G402:G412)","v":74.768960550000003},null,0]
[null,null,"Chapa De Gesso Acartonado, Standard (St), Cor Branca, E = 12,5 Mm, 1200 X 2400 Mm (L X C)","m2",2.1059999999999999,20.177999999999997,{"$f":"IF(ISNUMBER(F403),E403*F403,\"\")","v":42.49486799999999},null,null,0]
[null,null,"Perfil Guia, Formato U, Em Aco Zincado, Para Estrutura Parede Drywall, E = 0,5 Mm, 70 X 3000 Mm (L X C)","m",0.76039999999999996,4.18,{"$f":"IF(ISNUMBER(F404),E404*F404,\"\")","v":3.1784719999999997},null,null,0]
[null,null,"Perfil Montante, Formato C, Em Aco Zincado, Para Estrutura Parede Drywall, E = 0,5 Mm, 70 X 3000 Mm (L X C)","m",1.9910000000000001,4.75,{"$f":"IF(ISNUMBER(F405),E405*F405,\"\")","v":9.4572500000000002},null,null,0]
[null,null,"Fita De Papel Microperfurado, 50 X 150 Mm, Para Tratamento De Juntas De Chapa De Gesso Para Drywall","m",2.5026999999999999,0.22799999999999998,{"$f":"IF(ISNUMBER(F406),E406*F406,\"\")","v":0.57061559999999989},null,null,0]
[null,null,"Fita De Papel Reforcada Com Lamina De Metal Para Reforco De Cantos De Chapa De Gesso Para Drywall","m",0.74070000000000003,2.9830000000000001,{"$f":"IF(ISNUMBER(F407),E407*F407,\"\")","v":2.2095081000000003},null,null,0]
[null,null,"Massa De Rejunte Em Po Para Drywall, A Base De Gesso, Secagem Rapida, Para Tratamento De Juntas De Chapa De Gesso (Com Adicao De Agua)","kg",1.0327,4.0089999999999995,{"$f":"IF(ISNUMBER(F408),E408*F408,\"\")","v":4.1400942999999994},null,null,0]
[null,null,"Parafuso Dry Wall, Em Aco Fosfatizado, Cabeca Trombeta E Ponta Agulha (Ta), Comprimento 25 Mm","un",20.0077,7.5999999999999998E-2,{"$f":"IF(ISNUMBER(F409),E409*F409,\"\")","v":1.5205852},null,null,0]
[null,null,"Parafuso Dry Wall, Em Aco Zincado, Cabeca Lentilha E Ponta Broca (Lb), Largura 4,2 Mm, Comprimento 13 Mm","un",0.80759999999999998,0.18049999999999999,{"$f":"IF(ISNUMBER(F410),E410*F410,\"\")","v":0.14577179999999998},null,null,0]
[null,null,"Montador de estrutura metálica com encargos complementares","h",0.54490000000000005,14.962499999999999,{"$f":"IF(ISNUMBER(F411),E411*F411,\"\")","v":8.1530662500000002},null,null,0]
[null,null,"Servente com Encargos Complementares","h",0.13619999999999999,14.554,{"$f":"IF(ISNUMBER(F412),E412*F412,\"\")","v":1.9822547999999998},null,null,0]
[null,null,null,null,null,"",{"$f":"IF(ISNUMBER(F413),E413*F413,\"\")","v":""},null,null,0]
["SF-00088",{"$f":"INDEX(Orçamentária!A:B,MATCH(Composições!A414,Orçamentária!A:A,0),2)","v":"Reparos superficiais em painéis de gesso acartonado"},null,{"$f":"TRIM(INDEX(Orçamentária!C:C,MATCH(Composições!A414,Orçamentária!A:A,0),1))","v":"m2"},null,"",{"$f":"IF(ISNUMBER(F414),E414*F414,\"\")","v":""},null,null,0]
[null,null,null,null,null,"",{"$f":"IF(ISNUMBER(F415),E415*F415,\"\")","v":""},null,null,0]
[null,null,"Fita De Papel Microperfurado, 50 X 150 Mm, Para Tratamento De Juntas De Chapa De Gesso Para Drywall","m",1.2513000000000001,0.22799999999999998,{"$f":"IF(ISNUMBER(F416),E416*F416,\"\")","v":0.28529640000000001},{"$f":"SUM(G416:G419)","v":5.0946333999999993},null,0]
[null,null,"Massa De Rejunte Em Po Para Drywall, A Base De Gesso, Secagem Rapida, Para Tratamento De Juntas De Chapa De Gesso (Com Adicao De Agua)","kg",0.51639999999999997,4.0089999999999995,{"$f":"IF(ISNUMBER(F417),E417*F417,\"\")","v":2.0702475999999996},null,null,0]
[null,null,"Montador de estrutura metálica com encargos complementares","h",{"$f":"0.3636/3","v":0.12119999999999999},14.962499999999999,{"$f":"IF(ISNUMBER(F418),E418*F418,\"\")","v":1.8134549999999996},null,null,0]
[null,null,"Servente com Encargos Complementares","h",{"$f":"ROUND(0.0909*0.7,4)","v":6.3600000000000004E-2},14.554,{"$f":"IF(ISNUMBER(F419),E419*F419,\"\")","v":0.92563440000000008},null,null,0]
[null,null,null,null,null,"",{"$f":"IF(ISNUMBER(F420),E420*F420,\"\")","v":""},null,null,0]
["SF-00089",{"$f":"INDEX(Orçamentária!A:B,MATCH(Composições!A421,Orçamentária!A:A,0),2)","v":"Sóculo h=10 cm"},null,{"$f":"TRIM(INDEX(Orçamentária!C:C,MATCH(Composições!A421,Orçamentária!A:A,0),1))","v":"m2"},null,"",{"$f":"IF(ISNUMBER(F421),E421*F421,\"\")","v":""},null,null,0]
[null,null,null,null,null,"",{"$f":"IF(ISNUMBER(F422),E422*F422,\"\")","v":""},null,null,0]
[null,null,"Tela de aco soldada galvanizada/zincada para alvenaria, fio D = *1,20 a 1,70* mm, malha 15 x 15 mm, (C x L) *50 x 7,5* cm","m",0.78500000000000003,1.6909999999999998,{"$f":"IF(ISNUMBER(F423),E423*F423,\"\")","v":1.3274349999999999},{"$f":"SUM(G423:G431)","v":66.493610811331791},null,0]
[null,null,"Pino de aco com furo, haste = 27 mm (acao direta)","cento",9.4000000000000004E-3,32.423500000000004,{"$f":"IF(ISNUMBER(F424),E424*F424,\"\")","v":0.30478090000000008},null,null,0]
[null,null,"Bloco ceramico de vedacao com furos na vertical, 9 x 19 x 39 cm - 4,5 MPa (NBR 15270)","un",13.35,1.7859999999999998,{"$f":"IF(ISNUMBER(F425),E425*F425,\"\")","v":23.843099999999996},null,null,0]
[null,null,"ARGAMASSA TRAÇO 1:2:8 (EM VOLUME DE CIMENTO, CAL E AREIA MÉDIA ÚMIDA) PARA EMBOÇO/MASSA ÚNICA/ASSENTAMENTO DE ALVENARIA DE VEDAÇÃO, PREPARO MECÂNICO COM BETONEIRA 400 L. AF_08/2019","m3",1.04E-2,436.76961865399988,{"$f":"IF(ISNUMBER(F426),E426*F426,\"\")","v":4.5424040340015983},null,null,0]
[null,null,"Pedreiro com Encargos Complementares","h",0.59,19.474999999999998,{"$f":"IF(ISNUMBER(F427),E427*F427,\"\")","v":11.490249999999998},null,null,0]
[null,null,"Servente com Encargos Complementares","h",0.29499999999999998,14.554,{"$f":"IF(ISNUMBER(F428),E428*F428,\"\")","v":4.2934299999999999},null,null,0]
[null,null,"ARGAMASSA TRAÇO 1:2:8 (EM VOLUME DE CIMENTO, CAL E AREIA MÉDIA ÚMIDA) PARA EMBOÇO/MASSA ÚNICA/ASSENTAMENTO DE ALVENARIA DE VEDAÇÃO, PREPARO MECÂNICO COM BETONEIRA 400 L. AF_08/2019","m3",2.1299999999999999E-2,436.76961865399988,{"$f":"IF(ISNUMBER(F429),E429*F429,\"\")","v":9.3031928773301971},null,null,0]
[null,null,"Pedreiro com Encargos Complementares","h",0.46,19.474999999999998,{"$f":"IF(ISNUMBER(F430),E430*F430,\"\")","v":8.958499999999999},null,null,0]
[null,null,"Servente com Encargos Complementares","h",0.16700000000000001,14.554,{"$f":"IF(ISNUMBER(F431),E431*F431,\"\")","v":2.4305180000000002},null,null,0]
[null,null,null,null,null,"",{"$f":"IF(ISNUMBER(F432),E432*F432,\"\")","v":""},null,null,0]
["SF-00090",{"$f":"INDEX(Orçamentária!A:B,MATCH(Composições!A433,Orçamentária!A:A,0),2)","v":"Chapisco colante industrializado em vigas e pilares"},null,{"$f":"TRIM(INDEX(Orçamentária!C:C,MATCH(Composições!A433,Orçamentária!A:A,0),1))","v":"m2"},null,"",{"$f":"IF(ISNUMBER(F433),E433*F433,\"\")","v":""},null,null,0]
[null,null,null,null,null,"",{"$f":"IF(ISNUMBER(F434),E434*F434,\"\")","v":""},null,null,0]
[null,null,"ARGAMASSA INDUSTRIALIZADA PARA CHAPISCO COLANTE, PREPARO COM MISTURADOR DE EIXO HORIZONTAL DE 300 KG. AF_08/2019","m3",3.2000000000000002E-3,1712.3302550000001,{"$f":"IF(ISNUMBER(F435),E435*F435,\"\")","v":5.4794568160000008},{"$f":"SUM(G435:G437)","v":8.430643216},null,0]
[null,null,"Pedreiro com Encargos Complementares","h",0.14099999999999999,19.474999999999998,{"$f":"IF(ISNUMBER(F436),E436*F436,\"\")","v":2.7459749999999996},null,null,0]
[null,null,"Servente com Encargos Complementares","h",1.41E-2,14.554,{"$f":"IF(ISNUMBER(F437),E437*F437,\"\")","v":0.20521139999999999},null,null,0]
[null,null,null,null,null,"",{"$f":"IF(ISNUMBER(F438),E438*F438,\"\")","v":""},null,null,0]
["SF-00091",{"$f":"INDEX(Orçamentária!A:B,MATCH(Composições!A439,Orçamentária!A:A,0),2)","v":"Chapisco com argamassa traço 1:3"},null,{"$f":"TRIM(INDEX(Orçamentária!C:C,MATCH(Composições!A439,Orçamentária!A:A,0),1))","v":"m2"},null,"",{"$f":"IF(ISNUMBER(F439),E439*F439,\"\")","v":""},null,null,0]
[null,null,null,null,null,"",{"$f":"IF(ISNUMBER(F440),E440*F440,\"\")","v":""},null,null,0]
[null,null,"ARGAMASSA TRAÇO 1:3 (EM VOLUME DE CIMENTO E AREIA GROSSA ÚMIDA) PARA CHAPISCO CONVENCIONAL, PREPARO MANUAL. AF_08/2019","m3",4.1999999999999997E-3,493.28831546100002,{"$f":"IF(ISNUMBER(F441),E441*F441,\"\")","v":2.0718109249361998},{"$f":"SUM(G441:G443)","v":3.5369389249361998},null,0]
[null,null,"Pedreiro com Encargos Complementares","h",7.0000000000000007E-2,19.474999999999998,{"$f":"IF(ISNUMBER(F442),E442*F442,\"\")","v":1.3632500000000001},null,null,0]
[null,null,"Servente com Encargos Complementares","h",7.0000000000000001E-3,14.554,{"$f":"IF(ISNUMBER(F443),E443*F443,\"\")","v":0.10187800000000001},null,null,0]
[null,null,null,null,null,"",{"$f":"IF(ISNUMBER(F444),E444*F444,\"\")","v":""},null,null,0]
["SF-00092",{"$f":"INDEX(Orçamentária!A:B,MATCH(Composições!A445,Orçamentária!A:A,0),2)","v":"Gesso cola"},null,{"$f":"TRIM(INDEX(Orçamentária!C:C,MATCH(Composições!A445,Orçamentária!A:A,0),1))","v":"m2"},null,"",{"$f":"IF(ISNUMBER(F445),E445*F445,\"\")","v":""},null,null,0]
[null,null,null,null,null,"",{"$f":"IF(ISNUMBER(F446),E446*F446,\"\")","v":""},null,null,0]
[null,null,"Gesseiro com encargos complementares","h",0.4,19.38,{"$f":"IF(ISNUMBER(F447),E447*F447,\"\")","v":7.7519999999999998},{"$f":"SUM(G447:G449)","v":8.9163199999999989},null,0]
[null,null,"Servente com Encargos Complementares","h",0.08,14.554,{"$f":"IF(ISNUMBER(F448),E448*F448,\"\")","v":1.16432},null,null,0]
[null,null,"Gesso cola","kg",0.75,"",{"$f":"IF(ISNUMBER(F449),E449*F449,\"\")","v":""},null,null,0]
[null,null,null,null,null,"",{"$f":"IF(ISNUMBER(F450),E450*F450,\"\")","v":""},null,null,0]
[null,null,"Obs.: Fonte para o coeficiente do gesso (0,75 kg/m2) : http://www.gessotrevo.com.br/gesso_cola.php - acesso em 16/08/18",null,null,"",{"$f":"IF(ISNUMBER(F451),E451*F451,\"\")","v":""},null,null,0]
[null,null,null,null,null,"",{"$f":"IF(ISNUMBER(F452),E452*F452,\"\")","v":""},null,null,0]
["SF-00093",{"$f":"INDEX(Orçamentária!A:B,MATCH(Composições!A453,Orçamentária!A:A,0),2)","v":"Reboco com argamassa industrializada e=2,0 cm"},null,{"$f":"TRIM(INDEX(Orçamentária!C:C,MATCH(Composições!A453,Orçamentária!A:A,0),1))","v":"m2"},null,"",{"$f":"IF(ISNUMBER(F453),E453*F453,\"\")","v":""},null,null,165.34]
[null,null,null,null,null,"",{"$f":"IF(ISNUMBER(F454),E454*F454,\"\")","v":""},null,null,165.34]
[null,null,"Argamassa industrializada multiuso, para revestimento interno e externo e assentamento de blocos diversos","kg",{"$f":"1890*0.02","v":37.800000000000004},0.44649999999999995,{"$f":"IF(ISNUMBER(F455),E455*F455,\"\")","v":16.877700000000001},{"$f":"SUM(G455:G458)","v":31.216179199999999},null,165.34]
[null,null,"Servente com Encargos Complementares","h",{"$f":"12.59*0.02","v":0.25180000000000002},14.554,{"$f":"IF(ISNUMBER(F456),E456*F456,\"\")","v":3.6646972000000004},null,null,165.34]
[null,null,"Pedreiro com Encargos Complementares","h",0.43,19.474999999999998,{"$f":"IF(ISNUMBER(F457),E457*F457,\"\")","v":8.3742499999999982},null,null,165.34]
[null,null,"Servente com Encargos Complementares","h",{"$f":"0.158","v":0.158},14.554,{"$f":"IF(ISNUMBER(F458),E458*F458,\"\")","v":2.2995320000000001},null,null,165.34]
[null,null,null,null,null,"",{"$f":"IF(ISNUMBER(F459),E459*F459,\"\")","v":""},null,null,165.34]
[null,null,"Obs.: Rendimento de argamassa obtido como referência no SINAPI e no link abaixo. Extrato: \"Revestimento: Em média 17,0 a 19,5 Kg/m2  para cada 1,0 cm de espessura, variando em função da aplicação\".",null,null,"",{"$f":"IF(ISNUMBER(F460),E460*F460,\"\")","v":""},null,null,165.34]
[null,null,"https://s3.amazonaws.com/mapa-da-obra-producao/wp-content/uploads/2015/12/2101-matrix-revestimento-interno.pdf",null,null,"",{"$f":"IF(ISNUMBER(F461),E461*F461,\"\")","v":""},null,null,165.34]
[null,null,null,null,null,"",{"$f":"IF(ISNUMBER(F462),E462*F462,\"\")","v":""},null,null,165.34]
["SF-00094",{"$f":"INDEX(Orçamentária!A:B,MATCH(Composições!A463,Orçamentária!A:A,0),2)","v":"Regularização com argamassa industrializada e=0,5 cm"},null,{"$f":"TRIM(INDEX(Orçamentária!C:C,MATCH(Composições!A463,Orçamentária!A:A,0),1))","v":"m2"},null,"",{"$f":"IF(ISNUMBER(F463),E463*F463,\"\")","v":""},null,null,0]
[null,null,null,null,null,"",{"$f":"IF(ISNUMBER(F464),E464*F464,\"\")","v":""},null,null,0]
[null,null,"Argamassa industrializada multiuso, para revestimento interno e externo e assentamento de blocos diversos","kg",{"$f":"1890*0.005","v":9.4500000000000011},0.44649999999999995,{"$f":"IF(ISNUMBER(F465),E465*F465,\"\")","v":4.2194250000000002},{"$f":"SUM(G465:G468)","v":10.6657127},null,0]
[null,null,"Servente com Encargos Complementares","h",{"$f":"12.59*0.005","v":6.2950000000000006E-2},14.554,{"$f":"IF(ISNUMBER(F466),E466*F466,\"\")","v":0.91617430000000011},null,null,0]
[null,null,"Pedreiro com Encargos Complementares","h",{"$f":"0.31*0.7","v":0.217},19.474999999999998,{"$f":"IF(ISNUMBER(F467),E467*F467,\"\")","v":4.2260749999999998},null,null,0]
[null,null,"Servente com Encargos Complementares","h",{"$f":"0.128*0.7","v":8.9599999999999999E-2},14.554,{"$f":"IF(ISNUMBER(F468),E468*F468,\"\")","v":1.3040384},null,null,0]
[null,null,null,null,null,"",{"$f":"IF(ISNUMBER(F469),E469*F469,\"\")","v":""},null,null,0]
["SF-00095",{"$f":"INDEX(Orçamentária!A:B,MATCH(Composições!A470,Orçamentária!A:A,0),2)","v":"Tratamento de trincas superficiais"},null,{"$f":"TRIM(INDEX(Orçamentária!C:C,MATCH(Composições!A470,Orçamentária!A:A,0),1))","v":"m"},null,"",{"$f":"IF(ISNUMBER(F470),E470*F470,\"\")","v":""},null,null,0]
[null,null,null,null,null,"",{"$f":"IF(ISNUMBER(F471),E471*F471,\"\")","v":""},null,null,0]
[null,null,"Servente com Encargos Complementares","h",0.6,14.554,{"$f":"IF(ISNUMBER(F472),E472*F472,\"\")","v":8.7324000000000002},{"$f":"SUM(G472:G476)","v":17.873349400000002},null,0]
[null,null,"Pedreiro com Encargos Complementares","h",0.155,19.474999999999998,{"$f":"IF(ISNUMBER(F473),E473*F473,\"\")","v":3.0186249999999997},null,null,0]
[null,null,"Tela de poliéster adesiva largura 150mm e reforço central de 50mm","m",1.05,0.95,{"$f":"IF(ISNUMBER(F474),E474*F474,\"\")","v":0.99749999999999994},null,null,0]
[null,null,"RESINA ACRILICA BASE AGUA - COR BRANCA","L",{"$f":"ROUND(1*0.15/(165/18),4)","v":1.6400000000000001E-2},22.971,{"$f":"IF(ISNUMBER(F475),E475*F475,\"\")","v":0.37672440000000001},null,null,0]
[null,null,"SELANTE A BASE DE RESINAS ACRILICAS PARA TRINCAS","kg",{"$f":"1/5","v":0.2},23.740499999999997,{"$f":"IF(ISNUMBER(F476),E476*F476,\"\")","v":4.7481},null,null,0]
[null,null,null,null,null,"",{"$f":"IF(ISNUMBER(F477),E477*F477,\"\")","v":""},null,null,0]
[null,null,"Obs.: Rendimento da resina e do selante de acordo com recomendações do fabricante (Bautech). Consumo médio. Selante: 5 m por kg. Resina: 165 m2 por embalagem de 18 L.",null,null,"",{"$f":"IF(ISNUMBER(F478),E478*F478,\"\")","v":""},null,null,0]
[null,null,"http://www.bautechbrasil.com.br/produtos/selantes-especiais/bautech-selante-acr%C3%ADlico",null,null,"",{"$f":"IF(ISNUMBER(F479),E479*F479,\"\")","v":""},null,null,0]
[null,null,"http://www.bautechbrasil.com.br/produtos/pinturas-especiais-e-complementos/bautech-resina-acr%C3%ADlica-multiuso",null,null,"",{"$f":"IF(ISNUMBER(F480),E480*F480,\"\")","v":""},null,null,0]
[null,null,null,null,null,"",{"$f":"IF(ISNUMBER(F481),E481*F481,\"\")","v":""},null,null,0]
["SF-00096",{"$f":"INDEX(Orçamentária!A:B,MATCH(Composições!A482,Orçamentária!A:A,0),2)","v":"Aplicação de fundo selador base água"},null,{"$f":"TRIM(INDEX(Orçamentária!C:C,MATCH(Composições!A482,Orçamentária!A:A,0),1))","v":"m2"},null,"",{"$f":"IF(ISNUMBER(F482),E482*F482,\"\")","v":""},null,null,0]
[null,null,null,null,null,"",{"$f":"IF(ISNUMBER(F483),E483*F483,\"\")","v":""},null,null,0]
[null,null,"Pintor com encargos complementares","h",0.106,20.52,{"$f":"IF(ISNUMBER(F484),E484*F484,\"\")","v":2.1751199999999997},{"$f":"SUM(G484:G486)","v":2.5680779999999999},null,0]
[null,null,"Servente com Encargos Complementares","h",2.7E-2,14.554,{"$f":"IF(ISNUMBER(F485),E485*F485,\"\")","v":0.39295800000000003},null,null,0]
[null,null,"Fundo selador a base d'água","L",0.16,"",{"$f":"IF(ISNUMBER(F486),E486*F486,\"\")","v":""},null,null,0]
[null,null,null,null,null,"",{"$f":"IF(ISNUMBER(F487),E487*F487,\"\")","v":""},null,null,0]
["SF-00097",{"$f":"INDEX(Orçamentária!A:B,MATCH(Composições!A488,Orçamentária!A:A,0),2)","v":"Fundo anticorrosivo e de aderência (base água)"},null,{"$f":"TRIM(INDEX(Orçamentária!C:C,MATCH(Composições!A488,Orçamentária!A:A,0),1))","v":"m2"},null,"",{"$f":"IF(ISNUMBER(F488),E488*F488,\"\")","v":""},null,null,0]
[null,null,null,null,null,"",{"$f":"IF(ISNUMBER(F489),E489*F489,\"\")","v":""},null,null,0]
[null,null,"Pintor com encargos complementares","h",{"$f":"2*0.2149","v":0.42980000000000002},20.52,{"$f":"IF(ISNUMBER(F490),E490*F490,\"\")","v":8.8194960000000009},{"$f":"SUM(G490:G491)","v":8.8194960000000009},null,0]
[null,null,"Fundo anticorrosivo e de aderência a base de água","L",{"$f":"2*(3.6/45)","v":0.16},"",{"$f":"IF(ISNUMBER(F491),E491*F491,\"\")","v":""},null,null,0]
[null,null,null,null,null,"",{"$f":"IF(ISNUMBER(F492),E492*F492,\"\")","v":""},null,null,0]
[null,null,"Obs.: Rendimento do fundo obtido de acordo com recomendação do fabricante. Consumo médio. ",null,null,"",{"$f":"IF(ISNUMBER(F493),E493*F493,\"\")","v":""},null,null,0]
[null,null,"https://www.sherwin-williams.com.br/produto-detalhe/metalatex-eco-complementos",null,null,"",{"$f":"IF(ISNUMBER(F494),E494*F494,\"\")","v":""},null,null,0]
[null,null,"https://www.suvinil.com.br/upload/78d22676-91b1-4086-99ad-4258fadd7b08-suvinil-fundo-seca-rapidomaio2018.pdf",null,null,"",{"$f":"IF(ISNUMBER(F495),E495*F495,\"\")","v":""},null,null,0]
["SF-00098",{"$f":"INDEX(Orçamentária!A:B,MATCH(Composições!A496,Orçamentária!A:A,0),2)","v":"Massa acrílica"},null,{"$f":"TRIM(INDEX(Orçamentária!C:C,MATCH(Composições!A496,Orçamentária!A:A,0),1))","v":"m2"},null,"",{"$f":"IF(ISNUMBER(F496),E496*F496,\"\")","v":""},null,null,0]
[null,null,null,null,null,"",{"$f":"IF(ISNUMBER(F497),E497*F497,\"\")","v":""},null,null,0]
[null,null,"Lixa em folha para parede ou madeira, numero 120 (cor vermelha)","un",0.1,0.64600000000000002,{"$f":"IF(ISNUMBER(F498),E498*F498,\"\")","v":6.4600000000000005E-2},{"$f":"SUM(G498:G501)","v":15.4071},null,0]
[null,null,"Massa acrilica para paredes interior/exterior","gl",0.24399999999999999,29.839499999999997,{"$f":"IF(ISNUMBER(F499),E499*F499,\"\")","v":7.2808379999999993},null,null,0]
[null,null,"Pintor com encargos complementares","h",0.33400000000000002,20.52,{"$f":"IF(ISNUMBER(F500),E500*F500,\"\")","v":6.8536800000000007},null,null,0]
[null,null,"Servente com Encargos Complementares","h",8.3000000000000004E-2,14.554,{"$f":"IF(ISNUMBER(F501),E501*F501,\"\")","v":1.2079820000000001},null,null,0]
[null,null,null,null,null,"",{"$f":"IF(ISNUMBER(F502),E502*F502,\"\")","v":""},null,null,0]
["SF-00099",{"$f":"INDEX(Orçamentária!A:B,MATCH(Composições!A503,Orçamentária!A:A,0),2)","v":"Massa corrida"},null,{"$f":"TRIM(INDEX(Orçamentária!C:C,MATCH(Composições!A503,Orçamentária!A:A,0),1))","v":"m2"},null,"",{"$f":"IF(ISNUMBER(F503),E503*F503,\"\")","v":""},null,null,0]
[null,null,null,null,null,"",{"$f":"IF(ISNUMBER(F504),E504*F504,\"\")","v":""},null,null,0]
[null,null,"Lixa em folha para parede ou madeira, numero 120 (cor vermelha)","un",0.1,0.64600000000000002,{"$f":"IF(ISNUMBER(F505),E505*F505,\"\")","v":6.4600000000000005E-2},{"$f":"SUM(G505:G508)","v":11.768068},null,0]
[null,null,"Massa corrida PVA para paredes internas","18L",4.8899999999999999E-2,74.48,{"$f":"IF(ISNUMBER(F506),E506*F506,\"\")","v":3.6420720000000002},null,null,0]
[null,null,"Pintor com encargos complementares","h",0.312,20.52,{"$f":"IF(ISNUMBER(F507),E507*F507,\"\")","v":6.4022399999999999},null,null,0]
[null,null,"Servente com Encargos Complementares","h",0.114,14.554,{"$f":"IF(ISNUMBER(F508),E508*F508,\"\")","v":1.6591560000000001},null,null,0]
[null,null,null,null,null,"",{"$f":"IF(ISNUMBER(F509),E509*F509,\"\")","v":""},null,null,0]
["SF-00100",{"$f":"INDEX(Orçamentária!A:B,MATCH(Composições!A510,Orçamentária!A:A,0),2)","v":"Pintura com tinta látex acrílica Premium (paredes)"},null,{"$f":"TRIM(INDEX(Orçamentária!C:C,MATCH(Composições!A510,Orçamentária!A:A,0),1))","v":"m2"},null,"",{"$f":"IF(ISNUMBER(F510),E510*F510,\"\")","v":""},null,null,0]
[null,null,null,null,null,"",{"$f":"IF(ISNUMBER(F511),E511*F511,\"\")","v":""},null,null,0]
[null,null,"Pintor com encargos complementares","h",0.187,20.52,{"$f":"IF(ISNUMBER(F512),E512*F512,\"\")","v":3.83724},{"$f":"SUM(G512:G514)","v":11.387346000000001},null,0]
[null,null,"Servente com Encargos Complementares","h",6.9000000000000006E-2,14.554,{"$f":"IF(ISNUMBER(F513),E513*F513,\"\")","v":1.0042260000000001},null,null,0]
[null,null,"Tinta acrilica premium, cor branco fosco","L",0.33,19.835999999999999,{"$f":"IF(ISNUMBER(F514),E514*F514,\"\")","v":6.5458799999999995},null,null,0]
[null,null,null,null,null,"",{"$f":"IF(ISNUMBER(F515),E515*F515,\"\")","v":""},null,null,0]
["SF-00101",{"$f":"INDEX(Orçamentária!A:B,MATCH(Composições!A516,Orçamentária!A:A,0),2)","v":"Pintura em verniz sintético"},null,{"$f":"TRIM(INDEX(Orçamentária!C:C,MATCH(Composições!A516,Orçamentária!A:A,0),1))","v":"m2"},null,"",{"$f":"IF(ISNUMBER(F516),E516*F516,\"\")","v":""},null,null,0]
[null,null,null,null,null,"",{"$f":"IF(ISNUMBER(F517),E517*F517,\"\")","v":""},null,null,0]
[null,null,"Lixa em folha para parede ou madeira, numero 120 (cor vermelha)","un",1,0.64600000000000002,{"$f":"IF(ISNUMBER(F518),E518*F518,\"\")","v":0.64600000000000002},{"$f":"SUM(G518:G521)","v":13.220200000000002},null,0]
[null,null,"Verniz a base de água para madeira","L",{"$f":"ROUND(3*3.6/100,4)","v":0.108},"",{"$f":"IF(ISNUMBER(F519),E519*F519,\"\")","v":""},null,null,0]
[null,null,"Pintor com encargos complementares","h",0.4,20.52,{"$f":"IF(ISNUMBER(F520),E520*F520,\"\")","v":8.2080000000000002},null,null,0]
[null,null,"Servente com Encargos Complementares","h",0.3,14.554,{"$f":"IF(ISNUMBER(F521),E521*F521,\"\")","v":4.3662000000000001},null,null,0]
[null,null,null,null,null,null,null,null,null,0]
[null,null,"Obs: considerando rendimento informado na especificação técnica de produto equivalente da Suvinil (Lata de 3,6L rende até 100 m²/demão).",null,null,null,null,null,null,0]
[null,null,null,null,null,"",{"$f":"IF(ISNUMBER(F524),E524*F524,\"\")","v":""},null,null,0]
["SF-00102",{"$f":"INDEX(Orçamentária!A:B,MATCH(Composições!A525,Orçamentária!A:A,0),2)","v":"Pintura esmalte acetinado (metais e madeiras)"},null,{"$f":"TRIM(INDEX(Orçamentária!C:C,MATCH(Composições!A525,Orçamentária!A:A,0),1))","v":"m2"},null,"",{"$f":"IF(ISNUMBER(F525),E525*F525,\"\")","v":""},null,null,3.24]
[null,null,null,null,null,"",{"$f":"IF(ISNUMBER(F526),E526*F526,\"\")","v":""},null,null,3.24]
[null,null,"Pintor com encargos complementares","h",0.4,20.52,{"$f":"IF(ISNUMBER(F527),E527*F527,\"\")","v":8.2080000000000002},{"$f":"SUM(G527:G530)","v":14.93544},null,3.24]
[null,null,"Servente com Encargos Complementares","h",0.2,14.554,{"$f":"IF(ISNUMBER(F528),E528*F528,\"\")","v":2.9108000000000001},null,null,3.24]
[null,null,"Lixa em folha para parede ou madeira, numero 120 (cor vermelha)","un",0.4,0.64600000000000002,{"$f":"IF(ISNUMBER(F529),E529*F529,\"\")","v":0.25840000000000002},null,null,3.24]
[null,null,"Tinta esmalte sintetico a base de água","L",{"$f":"ROUND(3*3.6/75,4)","v":0.14399999999999999},24.71,{"$f":"IF(ISNUMBER(F530),E530*F530,\"\")","v":3.5582400000000001},null,null,3.24]
[null,null,null,null,null,null,null,null,null,3.24]
[null,null,"Obs: considerando rendimento informado na especificação técnica de um dos produtos indicados como referência comercial (Lata de 3,6L rende até 75 m²/demão).",null,null,null,null,null,null,3.24]
[null,null,null,null,null,"",{"$f":"IF(ISNUMBER(F533),E533*F533,\"\")","v":""},null,null,3.24]
["SF-00103",{"$f":"INDEX(Orçamentária!A:B,MATCH(Composições!A534,Orçamentária!A:A,0),2)","v":"Pintura tinta látex acrílica standard (tetos)"},null,{"$f":"TRIM(INDEX(Orçamentária!C:C,MATCH(Composições!A534,Orçamentária!A:A,0),1))","v":"m2"},null,"",{"$f":"IF(ISNUMBER(F534),E534*F534,\"\")","v":""},null,null,0]
[null,null,null,null,null,"",{"$f":"IF(ISNUMBER(F535),E535*F535,\"\")","v":""},null,null,0]
[null,null,"Pintor com encargos complementares","h",0.24399999999999999,20.52,{"$f":"IF(ISNUMBER(F536),E536*F536,\"\")","v":5.0068799999999998},{"$f":"SUM(G536:G538)","v":12.848065999999999},null,0]
[null,null,"Servente com Encargos Complementares","h",8.8999999999999996E-2,14.554,{"$f":"IF(ISNUMBER(F537),E537*F537,\"\")","v":1.2953060000000001},null,null,0]
[null,null,"Tinta acrilica premium, cor branco fosco","L",0.33,19.835999999999999,{"$f":"IF(ISNUMBER(F538),E538*F538,\"\")","v":6.5458799999999995},null,null,0]
[null,null,null,null,null,"",{"$f":"IF(ISNUMBER(F539),E539*F539,\"\")","v":""},null,null,0]
["SF-00104",{"$f":"INDEX(Orçamentária!A:B,MATCH(Composições!A540,Orçamentária!A:A,0),2)","v":"Cerâmica para revestimento de superfícies internas ou externas – Linha Administrativa"},null,{"$f":"TRIM(INDEX(Orçamentária!C:C,MATCH(Composições!A540,Orçamentária!A:A,0),1))","v":"m2"},null,"",{"$f":"IF(ISNUMBER(F540),E540*F540,\"\")","v":""},null,null,0]
[null,null,null,null,null,"",{"$f":"IF(ISNUMBER(F541),E541*F541,\"\")","v":""},null,null,0]
[null,null,"REVESTIMENTO EM CERAMICA ESMALTADA EXTRA, PEI MAIOR OU IGUAL 4, FORMATO MAIOR A 2025 CM2","m2",1.08,34.988499999999995,{"$f":"IF(ISNUMBER(F542),E542*F542,\"\")","v":37.787579999999998},{"$f":"SUM(G542:G546)","v":61.029710000000001},null,0]
[null,null,"Argamassa colante AC II","kg",6.14,0.76,{"$f":"IF(ISNUMBER(F543),E543*F543,\"\")","v":4.6663999999999994},null,null,0]
[null,null,"Rejunte cimenticio, qualquer cor","kg",0.22,2.3939999999999997,{"$f":"IF(ISNUMBER(F544),E544*F544,\"\")","v":0.52667999999999993},null,null,0]
[null,null,"Azulejista ou ladrilhista com encargos complementares","h",0.66,19.4085,{"$f":"IF(ISNUMBER(F545),E545*F545,\"\")","v":12.809610000000001},null,null,0]
[null,null,"Servente com Encargos Complementares","h",0.36,14.554,{"$f":"IF(ISNUMBER(F546),E546*F546,\"\")","v":5.2394400000000001},null,null,0]
[null,null,null,null,null,"",{"$f":"IF(ISNUMBER(F547),E547*F547,\"\")","v":""},null,null,0]
["SF-00105",{"$f":"INDEX(Orçamentária!A:B,MATCH(Composições!A548,Orçamentária!A:A,0),2)","v":"Contrapiso em argamassa"},null,{"$f":"TRIM(INDEX(Orçamentária!C:C,MATCH(Composições!A548,Orçamentária!A:A,0),1))","v":"m2"},null,"",{"$f":"IF(ISNUMBER(F548),E548*F548,\"\")","v":""},null,null,0]
[null,null,null,null,null,"",{"$f":"IF(ISNUMBER(F549),E549*F549,\"\")","v":""},null,null,0]
[null,null,"ARGAMASSA TRAÇO 1:4 (EM VOLUME DE CIMENTO E AREIA MÉDIA ÚMIDA) PARA CONTRAPISO, PREPARO MANUAL. AF_08/2019","m3",5.2999999999999999E-2,536.84777300250005,{"$f":"IF(ISNUMBER(F550),E550*F550,\"\")","v":28.4529319691325},{"$f":"SUM(G550:G554)","v":43.261769469132503},null,0]
[null,null,"Pedreiro com Encargos Complementares","h",0.36,19.474999999999998,{"$f":"IF(ISNUMBER(F551),E551*F551,\"\")","v":7.0109999999999992},null,null,0]
[null,null,"Servente com Encargos Complementares","h",0.18,14.554,{"$f":"IF(ISNUMBER(F552),E552*F552,\"\")","v":2.61972},null,null,0]
[null,null,"Cimento Portland composto CP II-32","kg",0.5,0.44649999999999995,{"$f":"IF(ISNUMBER(F553),E553*F553,\"\")","v":0.22324999999999998},null,null,0]
[null,null,"Aditivo adesivo liquido para argamassas de revestimentos cimenticios","L",0.435,11.390499999999999,{"$f":"IF(ISNUMBER(F554),E554*F554,\"\")","v":4.9548674999999998},null,null,0]
[null,null,null,null,null,"",{"$f":"IF(ISNUMBER(F555),E555*F555,\"\")","v":""},null,null,0]
["SF-00106",{"$f":"INDEX(Orçamentária!A:B,MATCH(Composições!A556,Orçamentária!A:A,0),2)","v":"Contrapiso em argamassa (e=2cm) ou Regularização de contrapiso existente"},null,{"$f":"TRIM(INDEX(Orçamentária!C:C,MATCH(Composições!A556,Orçamentária!A:A,0),1))","v":"m2"},null,"",{"$f":"IF(ISNUMBER(F556),E556*F556,\"\")","v":""},null,null,0]
[null,null,null,null,null,"",{"$f":"IF(ISNUMBER(F557),E557*F557,\"\")","v":""},null,null,0]
[null,null,"Cimento Portland composto CP II-32","kg",0.5,0.44649999999999995,{"$f":"IF(ISNUMBER(F558),E558*F558,\"\")","v":0.22324999999999998},{"$f":"SUM(G558:G562)","v":29.578478463077499},null,0]
[null,null,"Aditivo adesivo liquido para argamassas de revestimentos cimenticios","L",0.435,11.390499999999999,{"$f":"IF(ISNUMBER(F559),E559*F559,\"\")","v":4.9548674999999998},null,null,0]
[null,null,"ARGAMASSA TRAÇO 1:4 (EM VOLUME DE CIMENTO E AREIA MÉDIA ÚMIDA) PARA CONTRAPISO, PREPARO MANUAL. AF_08/2019","m3",3.1E-2,536.84777300250005,{"$f":"IF(ISNUMBER(F560),E560*F560,\"\")","v":16.6422809630775},null,null,0]
[null,null,"Pedreiro com Encargos Complementares","h",0.28999999999999998,19.474999999999998,{"$f":"IF(ISNUMBER(F561),E561*F561,\"\")","v":5.6477499999999994},null,null,0]
[null,null,"Servente com Encargos Complementares","h",0.14499999999999999,14.554,{"$f":"IF(ISNUMBER(F562),E562*F562,\"\")","v":2.1103299999999998},null,null,0]
[null,null,null,null,null,"",{"$f":"IF(ISNUMBER(F563),E563*F563,\"\")","v":""},null,null,0]
["SF-00107",{"$f":"INDEX(Orçamentária!A:B,MATCH(Composições!A564,Orçamentária!A:A,0),2)","v":"Granito cinza andorinha para piso"},null,{"$f":"TRIM(INDEX(Orçamentária!C:C,MATCH(Composições!A564,Orçamentária!A:A,0),1))","v":"m2"},null,"",{"$f":"IF(ISNUMBER(F564),E564*F564,\"\")","v":""},null,null,0]
[null,null,null,null,null,"",{"$f":"IF(ISNUMBER(F565),E565*F565,\"\")","v":""},null,null,0]
[null,null,"Argamassa colante tipo AC III","kg",8.6199999999999992,1.254,{"$f":"IF(ISNUMBER(F566),E566*F566,\"\")","v":10.809479999999999},{"$f":"SUM(G566:G570)","v":39.190349999999995},null,0]
[null,null,"Marmorista/graniteiro com encargos complementares","h",1.1879999999999999,16.330500000000001,{"$f":"IF(ISNUMBER(F567),E567*F567,\"\")","v":19.400634},null,null,0]
[null,null,"Servente com Encargos Complementares","h",0.59399999999999997,14.554,{"$f":"IF(ISNUMBER(F568),E568*F568,\"\")","v":8.6450759999999995},null,null,0]
[null,null,"Rejunte cimenticio, qualquer cor","kg",0.14000000000000001,2.3939999999999997,{"$f":"IF(ISNUMBER(F569),E569*F569,\"\")","v":0.33516000000000001},null,null,0]
[null,null,"Granito Cinza Andorinha, com 20 mm de espessura, para piso","m2",1.1599999999999999,"",{"$f":"IF(ISNUMBER(F570),E570*F570,\"\")","v":""},null,null,0]
[null,null,null,null,null,"",{"$f":"IF(ISNUMBER(F571),E571*F571,\"\")","v":""},null,null,0]
["SF-00108",{"$f":"INDEX(Orçamentária!A:B,MATCH(Composições!A572,Orçamentária!A:A,0),2)","v":"Granito Cinza Andorinha para rodapé"},null,{"$f":"TRIM(INDEX(Orçamentária!C:C,MATCH(Composições!A572,Orçamentária!A:A,0),1))","v":"m2"},null,"",{"$f":"IF(ISNUMBER(F572),E572*F572,\"\")","v":""},null,null,0]
[null,null,null,null,null,"",{"$f":"IF(ISNUMBER(F573),E573*F573,\"\")","v":""},null,null,0]
[null,null,"Granito Cinza Andorinha, com 20 mm de espessura e 70 mm de altura, para rodapé","m",{"$f":"ROUND(1.04/0.07,4)","v":14.857100000000001},"",{"$f":"IF(ISNUMBER(F574),E574*F574,\"\")","v":""},{"$f":"SUM(G574:G578)","v":84.333950999999999},null,0]
[null,null,"Argamassa colante tipo AC III","kg",{"$f":"ROUND(0.8614/0.1,4)","v":8.6140000000000008},1.254,{"$f":"IF(ISNUMBER(F575),E575*F575,\"\")","v":10.801956000000001},null,null,0]
[null,null,"Marmorista/graniteiro com encargos complementares","h",{"$f":"0.299/0.1","v":2.9899999999999998},16.330500000000001,{"$f":"IF(ISNUMBER(F576),E576*F576,\"\")","v":48.828195000000001},null,null,0]
[null,null,"Servente com Encargos Complementares","h",{"$f":"0.15/0.1","v":1.4999999999999998},14.554,{"$f":"IF(ISNUMBER(F577),E577*F577,\"\")","v":21.830999999999996},null,null,0]
[null,null,"Rejunte cimenticio, qualquer cor","kg",{"$f":"0.12/0.1","v":1.2},2.3939999999999997,{"$f":"IF(ISNUMBER(F578),E578*F578,\"\")","v":2.8727999999999994},null,null,0]
[null,null,null,null,null,"",{"$f":"IF(ISNUMBER(F579),E579*F579,\"\")","v":""},null,null,0]
[null,null,"Obs: na pesquisa de preços do insumo, considerou-se 1 m de polimento a cada metro de rodapé.",null,null,"",{"$f":"IF(ISNUMBER(F580),E580*F580,\"\")","v":""},null,null,0]
[null,null,null,null,null,"",{"$f":"IF(ISNUMBER(F581),E581*F581,\"\")","v":""},null,null,0]
["SF-00109",{"$f":"INDEX(Orçamentária!A:B,MATCH(Composições!A582,Orçamentária!A:A,0),2)","v":"Granito Cinza Andorinha para soleira e peitoril"},null,{"$f":"TRIM(INDEX(Orçamentária!C:C,MATCH(Composições!A582,Orçamentária!A:A,0),1))","v":"m2"},null,"",{"$f":"IF(ISNUMBER(F582),E582*F582,\"\")","v":""},null,null,0]
[null,null,null,null,null,"",{"$f":"IF(ISNUMBER(F583),E583*F583,\"\")","v":""},null,null,0]
[null,null,"Granito Cinza Andorinha, com 20 mm de espessura e 150 mm de altura, para soleira e peitoril","m",{"$f":"ROUND(1/0.15,4)","v":6.6666999999999996},"",{"$f":"IF(ISNUMBER(F584),E584*F584,\"\")","v":""},{"$f":"SUM(G584:G587)","v":96.825114350000007},null,0]
[null,null,"Argamassa colante tipo AC III","kg",{"$f":"1.29/0.15","v":8.6000000000000014},1.254,{"$f":"IF(ISNUMBER(F585),E585*F585,\"\")","v":10.784400000000002},null,null,0]
[null,null,"Marmorista/graniteiro com encargos complementares","h",{"$f":"ROUND(0.547/0.15,4)","v":3.6467000000000001},16.330500000000001,{"$f":"IF(ISNUMBER(F586),E586*F586,\"\")","v":59.552434350000006},null,null,0]
[null,null,"Servente com Encargos Complementares","h",{"$f":"ROUND(0.273/0.15,4)","v":1.82},14.554,{"$f":"IF(ISNUMBER(F587),E587*F587,\"\")","v":26.488280000000003},null,null,0]
[null,null,null,null,null,"",{"$f":"IF(ISNUMBER(F588),E588*F588,\"\")","v":""},null,null,0]
[null,null,"Obs: na pesquisa de preços do insumo, considerou-se 1 m de polimento a cada metro de soleira.",null,null,"",{"$f":"IF(ISNUMBER(F589),E589*F589,\"\")","v":""},null,null,0]
[null,null,null,null,null,"",{"$f":"IF(ISNUMBER(F590),E590*F590,\"\")","v":""},null,null,0]
["SF-00110",{"$f":"INDEX(Orçamentária!A:B,MATCH(Composições!A591,Orçamentária!A:A,0),2)","v":"Granito Preto São Gabriel para piso"},null,{"$f":"TRIM(INDEX(Orçamentária!C:C,MATCH(Composições!A591,Orçamentária!A:A,0),1))","v":"m2"},null,"",{"$f":"IF(ISNUMBER(F591),E591*F591,\"\")","v":""},null,null,0]
[null,null,null,null,null,"",{"$f":"IF(ISNUMBER(F592),E592*F592,\"\")","v":""},null,null,0]
[null,null,"Argamassa colante tipo AC III","kg",8.6199999999999992,1.254,{"$f":"IF(ISNUMBER(F593),E593*F593,\"\")","v":10.809479999999999},{"$f":"SUM(G593:G597)","v":39.190349999999995},null,0]
[null,null,"Marmorista/graniteiro com encargos complementares","h",1.1879999999999999,16.330500000000001,{"$f":"IF(ISNUMBER(F594),E594*F594,\"\")","v":19.400634},null,null,0]
[null,null,"Servente com Encargos Complementares","h",0.59399999999999997,14.554,{"$f":"IF(ISNUMBER(F595),E595*F595,\"\")","v":8.6450759999999995},null,null,0]
[null,null,"Rejunte cimenticio, qualquer cor","kg",0.14000000000000001,2.3939999999999997,{"$f":"IF(ISNUMBER(F596),E596*F596,\"\")","v":0.33516000000000001},null,null,0]
[null,null,"Granito Preto São Gabriel, com 20 mm de espessura, para piso","m2",1.1599999999999999,"",{"$f":"IF(ISNUMBER(F597),E597*F597,\"\")","v":""},null,null,0]
[null,null,null,null,null,"",{"$f":"IF(ISNUMBER(F598),E598*F598,\"\")","v":""},null,null,0]
["SF-00111",{"$f":"INDEX(Orçamentária!A:B,MATCH(Composições!A599,Orçamentária!A:A,0),2)","v":"Granito Preto São Gabriel para rodapé"},null,{"$f":"TRIM(INDEX(Orçamentária!C:C,MATCH(Composições!A599,Orçamentária!A:A,0),1))","v":"m2"},null,"",{"$f":"IF(ISNUMBER(F599),E599*F599,\"\")","v":""},null,null,0]
[null,null,null,null,null,"",{"$f":"IF(ISNUMBER(F600),E600*F600,\"\")","v":""},null,null,0]
[null,null,"Granito Preto São Gabriel, com 20 mm de espessura e 70 mm de altura, para rodapé","m",{"$f":"ROUND(1.04/0.07,2)","v":14.86},"",{"$f":"IF(ISNUMBER(F601),E601*F601,\"\")","v":""},{"$f":"SUM(G601:G605)","v":84.333950999999999},null,0]
[null,null,"Argamassa colante tipo AC III","kg",{"$f":"ROUND(0.8614/0.1,4)","v":8.6140000000000008},1.254,{"$f":"IF(ISNUMBER(F602),E602*F602,\"\")","v":10.801956000000001},null,null,0]
[null,null,"Marmorista/graniteiro com encargos complementares","h",{"$f":"0.299/0.1","v":2.9899999999999998},16.330500000000001,{"$f":"IF(ISNUMBER(F603),E603*F603,\"\")","v":48.828195000000001},null,null,0]
[null,null,"Servente com Encargos Complementares","h",{"$f":"0.15/0.1","v":1.4999999999999998},14.554,{"$f":"IF(ISNUMBER(F604),E604*F604,\"\")","v":21.830999999999996},null,null,0]
[null,null,"Rejunte cimenticio, qualquer cor","kg",{"$f":"0.12/0.1","v":1.2},2.3939999999999997,{"$f":"IF(ISNUMBER(F605),E605*F605,\"\")","v":2.8727999999999994},null,null,0]
[null,null,null,null,null,"",{"$f":"IF(ISNUMBER(F606),E606*F606,\"\")","v":""},null,null,0]
[null,null,"Obs: na pesquisa de preços do insumo, considerou-se 1 m de polimento a cada metro de rodapé.",null,null,"",{"$f":"IF(ISNUMBER(F607),E607*F607,\"\")","v":""},null,null,0]
[null,null,null,null,null,"",{"$f":"IF(ISNUMBER(F608),E608*F608,\"\")","v":""},null,null,0]
["SF-00112",{"$f":"INDEX(Orçamentária!A:B,MATCH(Composições!A609,Orçamentária!A:A,0),2)","v":"Granito Preto São Gabriel para soleira e peitoril"},null,{"$f":"TRIM(INDEX(Orçamentária!C:C,MATCH(Composições!A609,Orçamentária!A:A,0),1))","v":"m2"},null,"",{"$f":"IF(ISNUMBER(F609),E609*F609,\"\")","v":""},null,null,0]
[null,null,null,null,null,"",{"$f":"IF(ISNUMBER(F610),E610*F610,\"\")","v":""},null,null,0]
[null,null,"Granito Preto São Gabriel, com 20 mm de espessura e 150 mm de altura, para soleira e peitoril","m",{"$f":"ROUND(1/0.15,4)","v":6.6666999999999996},"",{"$f":"IF(ISNUMBER(F611),E611*F611,\"\")","v":""},{"$f":"SUM(G611:G614)","v":96.825114350000007},null,0]
[null,null,"Argamassa colante tipo AC III","kg",{"$f":"ROUND(1.29/0.15,4)","v":8.6},1.254,{"$f":"IF(ISNUMBER(F612),E612*F612,\"\")","v":10.7844},null,null,0]
[null,null,"Marmorista/graniteiro com encargos complementares","h",{"$f":"ROUND(0.547/0.15,4)","v":3.6467000000000001},16.330500000000001,{"$f":"IF(ISNUMBER(F613),E613*F613,\"\")","v":59.552434350000006},null,null,0]
[null,null,"Servente com Encargos Complementares","h",{"$f":"ROUND(0.273/0.15,4)","v":1.82},14.554,{"$f":"IF(ISNUMBER(F614),E614*F614,\"\")","v":26.488280000000003},null,null,0]
[null,null,null,null,null,"",{"$f":"IF(ISNUMBER(F615),E615*F615,\"\")","v":""},null,null,0]
[null,null,"Obs: na pesquisa de preços do insumo, considerou-se 1 m de polimento a cada metro de soleira.",null,null,"",{"$f":"IF(ISNUMBER(F616),E616*F616,\"\")","v":""},null,null,0]
[null,null,null,null,null,"",{"$f":"IF(ISNUMBER(F617),E617*F617,\"\")","v":""},null,null,0]
["SF-00113",{"$f":"INDEX(Orçamentária!A:B,MATCH(Composições!A618,Orçamentária!A:A,0),2)","v":"Instalação de rodapé de madeira reaproveitado"},null,{"$f":"TRIM(INDEX(Orçamentária!C:C,MATCH(Composições!A618,Orçamentária!A:A,0),1))","v":"m"},null,"",{"$f":"IF(ISNUMBER(F618),E618*F618,\"\")","v":""},null,null,0]
[null,null,null,null,null,"",{"$f":"IF(ISNUMBER(F619),E619*F619,\"\")","v":""},null,null,0]
[null,null,"COLA BRANCA BASE PVA","L",4.0300000000000002E-2,16.34,{"$f":"IF(ISNUMBER(F620),E620*F620,\"\")","v":0.65850200000000003},{"$f":"SUM(G620:G622)","v":11.0392736},null,0]
[null,null,"SERVENTE COM ENCARGOS COMPLEMENTARES","H",0.15140000000000001,14.554,{"$f":"IF(ISNUMBER(F621),E621*F621,\"\")","v":2.2034756},null,null,0]
[null,null,"TAQUEADOR OU TAQUEIRO COM ENCARGOS COMPLEMENTARES","H",0.36349999999999999,22.495999999999999,{"$f":"IF(ISNUMBER(F622),E622*F622,\"\")","v":8.1772960000000001},null,null,0]
[null,null,null,null,null,"",{"$f":"IF(ISNUMBER(F623),E623*F623,\"\")","v":""},null,null,0]
["SF-00114",{"$f":"INDEX(Orçamentária!A:B,MATCH(Composições!A624,Orçamentária!A:A,0),2)","v":"Mármore Bege Bahia para piso e parede"},null,{"$f":"TRIM(INDEX(Orçamentária!C:C,MATCH(Composições!A624,Orçamentária!A:A,0),1))","v":"m2"},null,"",{"$f":"IF(ISNUMBER(F624),E624*F624,\"\")","v":""},null,null,0]
[null,null,null,null,null,"",{"$f":"IF(ISNUMBER(F625),E625*F625,\"\")","v":""},null,null,0]
[null,null,"Argamassa colante tipo AC III","kg",8.6199999999999992,1.254,{"$f":"IF(ISNUMBER(F626),E626*F626,\"\")","v":10.809479999999999},{"$f":"SUM(G626:G630)","v":39.190349999999995},null,0]
[null,null,"Marmorista/graniteiro com encargos complementares","h",1.1879999999999999,16.330500000000001,{"$f":"IF(ISNUMBER(F627),E627*F627,\"\")","v":19.400634},null,null,0]
[null,null,"Servente com Encargos Complementares","h",0.59399999999999997,14.554,{"$f":"IF(ISNUMBER(F628),E628*F628,\"\")","v":8.6450759999999995},null,null,0]
[null,null,"Rejunte cimenticio, qualquer cor","kg",0.14000000000000001,2.3939999999999997,{"$f":"IF(ISNUMBER(F629),E629*F629,\"\")","v":0.33516000000000001},null,null,0]
[null,null,"Mármore Bege Bahia, com 20 mm de espessura, para piso e parede","m2",1.1599999999999999,"",{"$f":"IF(ISNUMBER(F630),E630*F630,\"\")","v":""},null,null,0]
[null,null,null,null,null,"",{"$f":"IF(ISNUMBER(F631),E631*F631,\"\")","v":""},null,null,0]
["SF-00115",{"$f":"INDEX(Orçamentária!A:B,MATCH(Composições!A632,Orçamentária!A:A,0),2)","v":"Mármore Branco Especial para piso e parede"},null,{"$f":"TRIM(INDEX(Orçamentária!C:C,MATCH(Composições!A632,Orçamentária!A:A,0),1))","v":"m2"},null,"",{"$f":"IF(ISNUMBER(F632),E632*F632,\"\")","v":""},null,null,0]
[null,null,null,null,null,"",{"$f":"IF(ISNUMBER(F633),E633*F633,\"\")","v":""},null,null,0]
[null,null,"Argamassa colante tipo AC III","kg",8.6199999999999992,1.254,{"$f":"IF(ISNUMBER(F634),E634*F634,\"\")","v":10.809479999999999},{"$f":"SUM(G634:G638)","v":39.190349999999995},null,0]
[null,null,"Marmorista/graniteiro com encargos complementares","h",1.1879999999999999,16.330500000000001,{"$f":"IF(ISNUMBER(F635),E635*F635,\"\")","v":19.400634},null,null,0]
[null,null,"Servente com Encargos Complementares","h",0.59399999999999997,14.554,{"$f":"IF(ISNUMBER(F636),E636*F636,\"\")","v":8.6450759999999995},null,null,0]
[null,null,"Rejunte cimenticio, qualquer cor","kg",0.14000000000000001,2.3939999999999997,{"$f":"IF(ISNUMBER(F637),E637*F637,\"\")","v":0.33516000000000001},null,null,0]
[null,null,"Mármore Branco Especial, com 20 mm de espessura, para piso e parede","m2",1.1599999999999999,"",{"$f":"IF(ISNUMBER(F638),E638*F638,\"\")","v":""},null,null,0]
[null,null,null,null,null,"",{"$f":"IF(ISNUMBER(F639),E639*F639,\"\")","v":""},null,null,0]
["SF-00116",{"$f":"INDEX(Orçamentária!A:B,MATCH(Composições!A640,Orçamentária!A:A,0),2)","v":"Rodapé de madeira"},null,{"$f":"TRIM(INDEX(Orçamentária!C:C,MATCH(Composições!A640,Orçamentária!A:A,0),1))","v":"m"},null,"",{"$f":"IF(ISNUMBER(F640),E640*F640,\"\")","v":""},null,null,0]
[null,null,null,null,null,"",{"$f":"IF(ISNUMBER(F641),E641*F641,\"\")","v":""},null,null,0]
[null,null,"RODAPE DE MADEIRA MACICA CUMARU/IPE CHAMPANHE OU EQUIVALENTE DA REGIAO, *1,5 X 7 CM","M",1.0349999999999999,9.6234999999999999,{"$f":"IF(ISNUMBER(F642),E642*F642,\"\")","v":9.9603224999999984},{"$f":"SUM(G642:G645)","v":20.999596099999998},null,0]
[null,null,"COLA BRANCA BASE PVA","L",4.0300000000000002E-2,16.34,{"$f":"IF(ISNUMBER(F643),E643*F643,\"\")","v":0.65850200000000003},null,null,0]
[null,null,"SERVENTE COM ENCARGOS COMPLEMENTARES","H",0.15140000000000001,14.554,{"$f":"IF(ISNUMBER(F644),E644*F644,\"\")","v":2.2034756},null,null,0]
[null,null,"TAQUEADOR OU TAQUEIRO COM ENCARGOS COMPLEMENTARES","H",0.36349999999999999,22.495999999999999,{"$f":"IF(ISNUMBER(F645),E645*F645,\"\")","v":8.1772960000000001},null,null,0]
[null,null,null,null,null,"",{"$f":"IF(ISNUMBER(F646),E646*F646,\"\")","v":""},null,null,0]
["SF-00117",{"$f":"INDEX(Orçamentária!A:B,MATCH(Composições!A647,Orçamentária!A:A,0),2)","v":"Acabamento abaulado em placas de granito ou mármore reaproveitadas"},null,{"$f":"TRIM(INDEX(Orçamentária!C:C,MATCH(Composições!A647,Orçamentária!A:A,0),1))","v":"m"},null,"",{"$f":"IF(ISNUMBER(F647),E647*F647,\"\")","v":""},null,null,0]
[null,null,null,null,null,"",{"$f":"IF(ISNUMBER(F648),E648*F648,\"\")","v":""},null,null,0]
[null,null,"Marmorista/graniteiro com encargos complementares","h",2,16.330500000000001,{"$f":"IF(ISNUMBER(F649),E649*F649,\"\")","v":32.661000000000001},{"$f":"SUM(G649:G649)","v":32.661000000000001},null,0]
[null,null,null,null,null,"",{"$f":"IF(ISNUMBER(F650),E650*F650,\"\")","v":""},null,null,0]
["SF-00118",{"$f":"INDEX(Orçamentária!A:B,MATCH(Composições!A651,Orçamentária!A:A,0),2)","v":"Acabamento em meia esquadria em placas de granito ou mármore reaproveitadas"},null,{"$f":"TRIM(INDEX(Orçamentária!C:C,MATCH(Composições!A651,Orçamentária!A:A,0),1))","v":"m"},null,"",{"$f":"IF(ISNUMBER(F651),E651*F651,\"\")","v":""},null,null,0]
[null,null,null,null,null,"",{"$f":"IF(ISNUMBER(F652),E652*F652,\"\")","v":""},null,null,0]
[null,null,"Marmorista/graniteiro com encargos complementares","h",1.75,16.330500000000001,{"$f":"IF(ISNUMBER(F653),E653*F653,\"\")","v":28.578375000000001},{"$f":"SUM(G653:G653)","v":28.578375000000001},null,0]
[null,null,null,null,null,"",{"$f":"IF(ISNUMBER(F654),E654*F654,\"\")","v":""},null,null,0]
["SF-00119",{"$f":"INDEX(Orçamentária!A:B,MATCH(Composições!A655,Orçamentária!A:A,0),2)","v":"Acabamento reto em placas de granito ou mármore reaproveitadas"},null,{"$f":"TRIM(INDEX(Orçamentária!C:C,MATCH(Composições!A655,Orçamentária!A:A,0),1))","v":"m"},null,"",{"$f":"IF(ISNUMBER(F655),E655*F655,\"\")","v":""},null,null,0]
[null,null,null,null,null,"",{"$f":"IF(ISNUMBER(F656),E656*F656,\"\")","v":""},null,null,0]
[null,null,"Marmorista/graniteiro com encargos complementares","h",1,16.330500000000001,{"$f":"IF(ISNUMBER(F657),E657*F657,\"\")","v":16.330500000000001},{"$f":"SUM(G657:G657)","v":16.330500000000001},null,0]
[null,null,null,null,null,"",{"$f":"IF(ISNUMBER(F658),E658*F658,\"\")","v":""},null,null,0]
["SF-00120",{"$f":"INDEX(Orçamentária!A:B,MATCH(Composições!A659,Orçamentária!A:A,0),2)","v":"Corte de peça de granito ou mármore reaproveitada"},null,{"$f":"TRIM(INDEX(Orçamentária!C:C,MATCH(Composições!A659,Orçamentária!A:A,0),1))","v":"m"},null,"",{"$f":"IF(ISNUMBER(F659),E659*F659,\"\")","v":""},null,null,0]
[null,null,null,null,null,"",{"$f":"IF(ISNUMBER(F660),E660*F660,\"\")","v":""},null,null,0]
[null,null,"Marmorista/graniteiro com encargos complementares","h",1.25,16.330500000000001,{"$f":"IF(ISNUMBER(F661),E661*F661,\"\")","v":20.413125000000001},{"$f":"SUM(G661:G661)","v":20.413125000000001},null,0]
[null,null,null,null,null,"",{"$f":"IF(ISNUMBER(F662),E662*F662,\"\")","v":""},null,null,0]
["SF-00121",{"$f":"INDEX(Orçamentária!A:B,MATCH(Composições!A663,Orçamentária!A:A,0),2)","v":"Corte em placas de granito ou mármore reaproveitadas, para instalação de cubas"},null,{"$f":"TRIM(INDEX(Orçamentária!C:C,MATCH(Composições!A663,Orçamentária!A:A,0),1))","v":"un"},null,"",{"$f":"IF(ISNUMBER(F663),E663*F663,\"\")","v":""},null,null,0]
[null,null,null,null,null,"",{"$f":"IF(ISNUMBER(F664),E664*F664,\"\")","v":""},null,null,0]
[null,null,"ABERTURA PARA ENCAIXE DE CUBA OU LAVATORIO EM BANCADA DE MARMORE/ GRANITO OU OUTRO TIPO DE PEDRA NATURAL","un",1,69.597000000000008,{"$f":"IF(ISNUMBER(F665),E665*F665,\"\")","v":69.597000000000008},{"$f":"SUM(G665:G665)","v":69.597000000000008},null,0]
[null,null,null,null,null,"",{"$f":"IF(ISNUMBER(F666),E666*F666,\"\")","v":""},null,null,0]
["SF-00122",{"$f":"INDEX(Orçamentária!A:B,MATCH(Composições!A667,Orçamentária!A:A,0),2)","v":"Furo em placas de granito ou mármore reaproveitadas, para instalação de torneira ou misturador"},null,{"$f":"TRIM(INDEX(Orçamentária!C:C,MATCH(Composições!A667,Orçamentária!A:A,0),1))","v":"un"},null,"",{"$f":"IF(ISNUMBER(F667),E667*F667,\"\")","v":""},null,null,0]
[null,null,null,null,null,"",{"$f":"IF(ISNUMBER(F668),E668*F668,\"\")","v":""},null,null,0]
[null,null,"FURO PARA TORNEIRA OU OUTROS ACESSORIOS  EM BANCADA DE MARMORE/ GRANITO OU OUTRO TIPO DE PEDRA NATURAL","un",1,10.430999999999999,{"$f":"IF(ISNUMBER(F669),E669*F669,\"\")","v":10.430999999999999},{"$f":"SUM(G669:G669)","v":10.430999999999999},null,0]
[null,null,null,null,null,"",{"$f":"IF(ISNUMBER(F670),E670*F670,\"\")","v":""},null,null,0]
["SF-00123",{"$f":"INDEX(Orçamentária!A:B,MATCH(Composições!A671,Orçamentária!A:A,0),2)","v":"Granito Cinza Andorinha 20mm para rodabancada"},null,{"$f":"TRIM(INDEX(Orçamentária!C:C,MATCH(Composições!A671,Orçamentária!A:A,0),1))","v":"m2"},null,"",{"$f":"IF(ISNUMBER(F671),E671*F671,\"\")","v":""},null,null,0]
[null,null,null,null,null,"",{"$f":"IF(ISNUMBER(F672),E672*F672,\"\")","v":""},null,null,0]
[null,null,"Granito Cinza Andorinha ou equivalente, com 20 mm de espessura e 150 mm de altura, polido, para rodabancada","m",{"$f":"ROUND(1.04/0.15,4)","v":6.9333},"",{"$f":"IF(ISNUMBER(F673),E673*F673,\"\")","v":""},{"$f":"SUM(G673:G677)","v":56.222131449999999},null,0]
[null,null,"Argamassa colante tipo AC III","kg",{"$f":"ROUND(0.8614/0.15,4)","v":5.7427000000000001},1.254,{"$f":"IF(ISNUMBER(F674),E674*F674,\"\")","v":7.2013458000000004},null,null,0]
[null,null,"Marmorista/graniteiro com encargos complementares","h",{"$f":"ROUND(0.299/0.15,4)","v":1.9933000000000001},16.330500000000001,{"$f":"IF(ISNUMBER(F675),E675*F675,\"\")","v":32.55158565},null,null,0]
[null,null,"Servente com Encargos Complementares","h",{"$f":"0.15/0.15","v":1},14.554,{"$f":"IF(ISNUMBER(F676),E676*F676,\"\")","v":14.554},null,null,0]
[null,null,"Rejunte cimenticio, qualquer cor","kg",{"$f":"0.12/0.15","v":0.8},2.3939999999999997,{"$f":"IF(ISNUMBER(F677),E677*F677,\"\")","v":1.9151999999999998},null,null,0]
[null,null,null,null,null,"",{"$f":"IF(ISNUMBER(F678),E678*F678,\"\")","v":""},null,null,0]
["SF-00124",{"$f":"INDEX(Orçamentária!A:B,MATCH(Composições!A679,Orçamentária!A:A,0),2)","v":"Granito Cinza Andorinha 20mm para bancadas"},null,{"$f":"TRIM(INDEX(Orçamentária!C:C,MATCH(Composições!A679,Orçamentária!A:A,0),1))","v":"m2"},null,"",{"$f":"IF(ISNUMBER(F679),E679*F679,\"\")","v":""},null,null,0]
[null,null,null,null,null,"",{"$f":"IF(ISNUMBER(F680),E680*F680,\"\")","v":""},null,null,0]
[null,null,"MASSA PLASTICA PARA MARMORE/GRANITO","KG",{"$f":"ROUND(0.5228/(1.5*0.6),4)","v":0.58089999999999997},25.412499999999998,{"$f":"IF(ISNUMBER(F681),E681*F681,\"\")","v":14.762121249999998},{"$f":"SUM(G681:G687)","v":91.958832449999989},null,0]
[null,null,"BUCHA DE NYLON SEM ABA S10, COM PARAFUSO DE 6,10 X 65 MM EM ACO ZINCADO COM ROSCA SOBERBA, CABECA CHATA E FENDA PHILLIPS","UN",{"$f":"ROUND(6/(1.5*0.6),4)","v":6.6666999999999996},0.874,{"$f":"IF(ISNUMBER(F682),E682*F682,\"\")","v":5.8266957999999995},null,null,0]
[null,null,"Granito Cinza Andorinha, com 20 mm de espessura, polido, para bancadas, com testeira com acabamento em meia esquadria","M2",{"$f":"ROUND(1.005/(1.5*0.6),4)","v":1.1167},"",{"$f":"IF(ISNUMBER(F683),E683*F683,\"\")","v":""},null,null,0]
[null,null,"REJUNTE EPOXI, QUALQUER COR","KG",{"$f":"ROUND(0.0211/(1.5*0.6),4)","v":2.3400000000000001E-2},50.511499999999998,{"$f":"IF(ISNUMBER(F684),E684*F684,\"\")","v":1.1819690999999999},null,null,0]
[null,null,"SUPORTE MAO-FRANCESA EM ACO, ABAS IGUAIS 40 CM, CAPACIDADE MINIMA 70 KG, BRANCO","UN",{"$f":"ROUND(2/(1.5*0.6),4)","v":2.2222},12.226499999999998,{"$f":"IF(ISNUMBER(F685),E685*F685,\"\")","v":27.169728299999996},null,null,0]
[null,null,"MARMORISTA/GRANITEIRO COM ENCARGOS COMPLEMENTARES","H",{"$f":"ROUND(1.4944/(1.5*0.6),4)","v":1.6604000000000001},16.330500000000001,{"$f":"IF(ISNUMBER(F686),E686*F686,\"\")","v":27.115162200000004},null,null,0]
[null,null,"SERVENTE COM ENCARGOS COMPLEMENTARES","H",{"$f":"ROUND(0.9834/(1.5*0.6),4)","v":1.0927},14.554,{"$f":"IF(ISNUMBER(F687),E687*F687,\"\")","v":15.9031558},null,null,0]
[null,null,null,null,null,"",{"$f":"IF(ISNUMBER(F688),E688*F688,\"\")","v":""},null,null,0]
["SF-00125",{"$f":"INDEX(Orçamentária!A:B,MATCH(Composições!A689,Orçamentária!A:A,0),2)","v":"Granito Cinza Andorinha 20mm para divisória"},null,{"$f":"TRIM(INDEX(Orçamentária!C:C,MATCH(Composições!A689,Orçamentária!A:A,0),1))","v":"m2"},null,"",{"$f":"IF(ISNUMBER(F689),E689*F689,\"\")","v":""},null,null,0]
[null,null,null,null,null,"",{"$f":"IF(ISNUMBER(F690),E690*F690,\"\")","v":""},null,null,0]
[null,null,"Cimento branco","kg",0.7,2.6599999999999997,{"$f":"IF(ISNUMBER(F691),E691*F691,\"\")","v":1.8619999999999997},{"$f":"SUM(G691:G695)","v":115.18242881232923},null,0]
[null,null,"Granito Cinza Andorinha ou equivalente, com 20 mm de espessura, polido em todas as faces aparentes, para divisórias","m2",1,"",{"$f":"IF(ISNUMBER(F692),E692*F692,\"\")","v":""},null,null,0]
[null,null,"Marmorista/graniteiro com encargos complementares","h",4.8,16.330500000000001,{"$f":"IF(ISNUMBER(F693),E693*F693,\"\")","v":78.386399999999995},null,null,0]
[null,null,"Servente com Encargos Complementares","h",2.2999999999999998,14.554,{"$f":"IF(ISNUMBER(F694),E694*F694,\"\")","v":33.474199999999996},null,null,0]
[null,null,"ARGAMASSA TRAÇO 1:4 (EM VOLUME DE CIMENTO E AREIA MÉDIA ÚMIDA), PREPARO MANUAL. AF_08/2019","m3",3.3E-3,442.37236737249998,{"$f":"IF(ISNUMBER(F695),E695*F695,\"\")","v":1.45982881232925},null,null,0]
[null,null,null,null,null,"",{"$f":"IF(ISNUMBER(F696),E696*F696,\"\")","v":""},null,null,0]
["SF-00126",{"$f":"INDEX(Orçamentária!A:B,MATCH(Composições!A697,Orçamentária!A:A,0),2)","v":"Granito Preto São Gabriel 20mm para rodabancada"},null,{"$f":"TRIM(INDEX(Orçamentária!C:C,MATCH(Composições!A697,Orçamentária!A:A,0),1))","v":"m2"},null,"",{"$f":"IF(ISNUMBER(F697),E697*F697,\"\")","v":""},null,null,0]
[null,null,null,null,null,"",{"$f":"IF(ISNUMBER(F698),E698*F698,\"\")","v":""},null,null,0]
[null,null,"Granito Preto São Gabriel ou equivalente, com 20 mm de espessura e 150 mm de altura, polido, para rodabancada","m",{"$f":"ROUND(1.04/0.15,4)","v":6.9333},"",{"$f":"IF(ISNUMBER(F699),E699*F699,\"\")","v":""},{"$f":"SUM(G699:G703)","v":56.222131449999999},null,0]
[null,null,"Argamassa colante tipo AC III","kg",{"$f":"ROUND(0.8614/0.15,4)","v":5.7427000000000001},1.254,{"$f":"IF(ISNUMBER(F700),E700*F700,\"\")","v":7.2013458000000004},null,null,0]
[null,null,"Marmorista/graniteiro com encargos complementares","h",{"$f":"ROUND(0.299/0.15,4)","v":1.9933000000000001},16.330500000000001,{"$f":"IF(ISNUMBER(F701),E701*F701,\"\")","v":32.55158565},null,null,0]
[null,null,"Servente com Encargos Complementares","h",{"$f":"0.15/0.15","v":1},14.554,{"$f":"IF(ISNUMBER(F702),E702*F702,\"\")","v":14.554},null,null,0]
[null,null,"Rejunte cimenticio, qualquer cor","kg",{"$f":"0.12/0.15","v":0.8},2.3939999999999997,{"$f":"IF(ISNUMBER(F703),E703*F703,\"\")","v":1.9151999999999998},null,null,0]
[null,null,null,null,null,"",{"$f":"IF(ISNUMBER(F704),E704*F704,\"\")","v":""},null,null,0]
["SF-00127",{"$f":"INDEX(Orçamentária!A:B,MATCH(Composições!A705,Orçamentária!A:A,0),2)","v":"Granito Preto São Gabriel 20mm para bancadas"},null,{"$f":"TRIM(INDEX(Orçamentária!C:C,MATCH(Composições!A705,Orçamentária!A:A,0),1))","v":"m2"},null,"",{"$f":"IF(ISNUMBER(F705),E705*F705,\"\")","v":""},null,null,0]
[null,null,null,null,null,"",{"$f":"IF(ISNUMBER(F706),E706*F706,\"\")","v":""},null,null,0]
[null,null,"MASSA PLASTICA PARA MARMORE/GRANITO","KG",{"$f":"ROUND(0.5228/(1.5*0.6),4)","v":0.58089999999999997},25.412499999999998,{"$f":"IF(ISNUMBER(F707),E707*F707,\"\")","v":14.762121249999998},{"$f":"SUM(G707:G713)","v":91.958832449999989},null,0]
[null,null,"BUCHA DE NYLON SEM ABA S10, COM PARAFUSO DE 6,10 X 65 MM EM ACO ZINCADO COM ROSCA SOBERBA, CABECA CHATA E FENDA PHILLIPS","UN",{"$f":"ROUND(6/(1.5*0.6),4)","v":6.6666999999999996},0.874,{"$f":"IF(ISNUMBER(F708),E708*F708,\"\")","v":5.8266957999999995},null,null,0]
[null,null,"Granito Preto São Gabriel ou equivalente, com 20 mm de espessura, polido, com testeira para acabamento em meia esquadria, para bancadas","M2",{"$f":"ROUND(1.005/(1.5*0.6),4)","v":1.1167},"",{"$f":"IF(ISNUMBER(F709),E709*F709,\"\")","v":""},null,null,0]
[null,null,"REJUNTE EPOXI, QUALQUER COR","KG",{"$f":"ROUND(0.0211/(1.5*0.6),4)","v":2.3400000000000001E-2},50.511499999999998,{"$f":"IF(ISNUMBER(F710),E710*F710,\"\")","v":1.1819690999999999},null,null,0]
[null,null,"SUPORTE MAO-FRANCESA EM ACO, ABAS IGUAIS 40 CM, CAPACIDADE MINIMA 70 KG, BRANCO","UN",{"$f":"ROUND(2/(1.5*0.6),4)","v":2.2222},12.226499999999998,{"$f":"IF(ISNUMBER(F711),E711*F711,\"\")","v":27.169728299999996},null,null,0]
[null,null,"MARMORISTA/GRANITEIRO COM ENCARGOS COMPLEMENTARES","H",{"$f":"ROUND(1.4944/(1.5*0.6),4)","v":1.6604000000000001},16.330500000000001,{"$f":"IF(ISNUMBER(F712),E712*F712,\"\")","v":27.115162200000004},null,null,0]
[null,null,"SERVENTE COM ENCARGOS COMPLEMENTARES","H",{"$f":"ROUND(0.9834/(1.5*0.6),4)","v":1.0927},14.554,{"$f":"IF(ISNUMBER(F713),E713*F713,\"\")","v":15.9031558},null,null,0]
[null,null,null,null,null,"",{"$f":"IF(ISNUMBER(F714),E714*F714,\"\")","v":""},null,null,0]
["SF-00128",{"$f":"INDEX(Orçamentária!A:B,MATCH(Composições!A715,Orçamentária!A:A,0),2)","v":"Instalação de bancada de granito ou mármore reaproveitada"},null,{"$f":"TRIM(INDEX(Orçamentária!C:C,MATCH(Composições!A715,Orçamentária!A:A,0),1))","v":"m2"},null,"",{"$f":"IF(ISNUMBER(F715),E715*F715,\"\")","v":""},null,null,0]
[null,null,null,null,null,"",{"$f":"IF(ISNUMBER(F716),E716*F716,\"\")","v":""},null,null,0]
[null,null,"MASSA PLASTICA PARA MARMORE/GRANITO","KG",{"$f":"ROUND(0.5228/(1.5*0.6),4)","v":0.58089999999999997},25.412499999999998,{"$f":"IF(ISNUMBER(F717),E717*F717,\"\")","v":14.762121249999998},{"$f":"SUM(G717:G722)","v":91.958832449999989},null,0]
[null,null,"BUCHA DE NYLON SEM ABA S10, COM PARAFUSO DE 6,10 X 65 MM EM ACO ZINCADO COM ROSCA SOBERBA, CABECA CHATA E FENDA PHILLIPS","UN",{"$f":"ROUND(6/(1.5*0.6),4)","v":6.6666999999999996},0.874,{"$f":"IF(ISNUMBER(F718),E718*F718,\"\")","v":5.8266957999999995},null,null,0]
[null,null,"REJUNTE EPOXI, QUALQUER COR","KG",{"$f":"ROUND(0.0211/(1.5*0.6),4)","v":2.3400000000000001E-2},50.511499999999998,{"$f":"IF(ISNUMBER(F719),E719*F719,\"\")","v":1.1819690999999999},null,null,0]
[null,null,"SUPORTE MAO-FRANCESA EM ACO, ABAS IGUAIS 40 CM, CAPACIDADE MINIMA 70 KG, BRANCO","UN",{"$f":"ROUND(2/(1.5*0.6),4)","v":2.2222},12.226499999999998,{"$f":"IF(ISNUMBER(F720),E720*F720,\"\")","v":27.169728299999996},null,null,0]
[null,null,"MARMORISTA/GRANITEIRO COM ENCARGOS COMPLEMENTARES","H",{"$f":"ROUND(1.4944/(1.5*0.6),4)","v":1.6604000000000001},16.330500000000001,{"$f":"IF(ISNUMBER(F721),E721*F721,\"\")","v":27.115162200000004},null,null,0]
[null,null,"SERVENTE COM ENCARGOS COMPLEMENTARES","H",{"$f":"ROUND(0.9834/(1.5*0.6),4)","v":1.0927},14.554,{"$f":"IF(ISNUMBER(F722),E722*F722,\"\")","v":15.9031558},null,null,0]
[null,null,null,null,null,"",{"$f":"IF(ISNUMBER(F723),E723*F723,\"\")","v":""},null,null,0]
["SF-00129",{"$f":"INDEX(Orçamentária!A:B,MATCH(Composições!A724,Orçamentária!A:A,0),2)","v":"Instalação de rodapé reaproveitado, de mármore ou granito"},null,{"$f":"TRIM(INDEX(Orçamentária!C:C,MATCH(Composições!A724,Orçamentária!A:A,0),1))","v":"m2"},null,"",{"$f":"IF(ISNUMBER(F724),E724*F724,\"\")","v":""},null,null,0]
[null,null,null,null,null,"",{"$f":"IF(ISNUMBER(F725),E725*F725,\"\")","v":""},null,null,0]
[null,null,"Argamassa colante tipo AC III","kg",{"$f":"0.8614","v":0.86140000000000005},1.254,{"$f":"IF(ISNUMBER(F726),E726*F726,\"\")","v":1.0801956000000001},{"$f":"SUM(G726:G729)","v":8.4333950999999985},null,0]
[null,null,"Marmorista/graniteiro com encargos complementares","h",{"$f":"0.299","v":0.29899999999999999},16.330500000000001,{"$f":"IF(ISNUMBER(F727),E727*F727,\"\")","v":4.8828195000000001},null,null,0]
[null,null,"Servente com Encargos Complementares","h",{"$f":"0.15","v":0.15},14.554,{"$f":"IF(ISNUMBER(F728),E728*F728,\"\")","v":2.1831},null,null,0]
[null,null,"Rejunte cimenticio, qualquer cor","kg",{"$f":"0.12","v":0.12},2.3939999999999997,{"$f":"IF(ISNUMBER(F729),E729*F729,\"\")","v":0.28727999999999992},null,null,0]
[null,null,null,null,null,"",{"$f":"IF(ISNUMBER(F730),E730*F730,\"\")","v":""},null,null,0]
["SF-00130",{"$f":"INDEX(Orçamentária!A:B,MATCH(Composições!A731,Orçamentária!A:A,0),2)","v":"Instalação de soleira ou peitoril, de mármore ou granito, reaproveitados"},null,{"$f":"TRIM(INDEX(Orçamentária!C:C,MATCH(Composições!A731,Orçamentária!A:A,0),1))","v":"m2"},null,"",{"$f":"IF(ISNUMBER(F731),E731*F731,\"\")","v":""},null,null,0]
[null,null,null,null,null,"",{"$f":"IF(ISNUMBER(F732),E732*F732,\"\")","v":""},null,null,0]
[null,null,"Marmorista/graniteiro com encargos complementares","h",1.1879999999999999,16.330500000000001,{"$f":"IF(ISNUMBER(F733),E733*F733,\"\")","v":19.400634},{"$f":"SUM(G733:G735)","v":38.85519},null,0]
[null,null,"Servente com Encargos Complementares","h",0.59399999999999997,14.554,{"$f":"IF(ISNUMBER(F734),E734*F734,\"\")","v":8.6450759999999995},null,null,0]
[null,null,"Argamassa colante tipo AC III","kg",8.6199999999999992,1.254,{"$f":"IF(ISNUMBER(F735),E735*F735,\"\")","v":10.809479999999999},null,null,0]
[null,null,null,null,null,"",{"$f":"IF(ISNUMBER(F736),E736*F736,\"\")","v":""},null,null,0]
["SF-00131",{"$f":"INDEX(Orçamentária!A:B,MATCH(Composições!A737,Orçamentária!A:A,0),2)","v":"Mármore Branco Especial 20mm para rodabancada"},null,{"$f":"TRIM(INDEX(Orçamentária!C:C,MATCH(Composições!A737,Orçamentária!A:A,0),1))","v":"m2"},null,"",{"$f":"IF(ISNUMBER(F737),E737*F737,\"\")","v":""},null,null,0]
[null,null,null,null,null,"",{"$f":"IF(ISNUMBER(F738),E738*F738,\"\")","v":""},null,null,0]
[null,null,"Mármore Branco Especial, com 20 mm de espessura e 150 mm de altura, polido, para rodabancada","m",{"$f":"ROUND(1.04/0.15,4)","v":6.9333},"",{"$f":"IF(ISNUMBER(F739),E739*F739,\"\")","v":""},{"$f":"SUM(G739:G743)","v":39.190349999999995},null,0]
[null,null,"Argamassa colante tipo AC III","kg",8.6199999999999992,1.254,{"$f":"IF(ISNUMBER(F740),E740*F740,\"\")","v":10.809479999999999},null,null,0]
[null,null,"Marmorista/graniteiro com encargos complementares","h",1.1879999999999999,16.330500000000001,{"$f":"IF(ISNUMBER(F741),E741*F741,\"\")","v":19.400634},null,null,0]
[null,null,"Servente com Encargos Complementares","h",0.59399999999999997,14.554,{"$f":"IF(ISNUMBER(F742),E742*F742,\"\")","v":8.6450759999999995},null,null,0]
[null,null,"Rejunte cimenticio, qualquer cor","kg",0.14000000000000001,2.3939999999999997,{"$f":"IF(ISNUMBER(F743),E743*F743,\"\")","v":0.33516000000000001},null,null,0]
[null,null,null,null,null,"",{"$f":"IF(ISNUMBER(F744),E744*F744,\"\")","v":""},null,null,0]
["SF-00138",{"$f":"INDEX(Orçamentária!A:B,MATCH(Composições!A745,Orçamentária!A:A,0),2)","v":"Instalação de divisória e porta de divisória com dobradiça reaproveitadas"},null,{"$f":"TRIM(INDEX(Orçamentária!C:C,MATCH(Composições!A745,Orçamentária!A:A,0),1))","v":"m2"},null,"",{"$f":"IF(ISNUMBER(F745),E745*F745,\"\")","v":""},null,null,0]
[null,null,null,null,null,"",{"$f":"IF(ISNUMBER(F746),E746*F746,\"\")","v":""},null,null,0]
[null,null,"Instalação de divisórias # 35 mm estruturadas em perfis de alumínio, mão de obra para execução","m2",1,0.95,{"$f":"IF(ISNUMBER(F747),E747*F747,\"\")","v":0.95},{"$f":"SUM(G747:G747)","v":0.95},null,0]
[null,null,null,null,null,"",{"$f":"IF(ISNUMBER(F748),E748*F748,\"\")","v":""},null,null,0]
["SF-00139",{"$f":"INDEX(Orçamentária!A:B,MATCH(Composições!A749,Orçamentária!A:A,0),2)","v":"Alçapão em forro de gesso acartonado"},null,{"$f":"TRIM(INDEX(Orçamentária!C:C,MATCH(Composições!A749,Orçamentária!A:A,0),1))","v":"m2"},null,"",{"$f":"IF(ISNUMBER(F749),E749*F749,\"\")","v":""},null,null,0]
[null,null,null,null,null,"",{"$f":"IF(ISNUMBER(F750),E750*F750,\"\")","v":""},null,null,0]
[null,null,"Perfil tipo cantoneira em L, em aco galvanizado, branco, para forro removivel, *23* x 3000 mm (L x C)","m",{"$f":"2*(1.5+0.67)","v":4.34},2.5840000000000001,{"$f":"IF(ISNUMBER(F751),E751*F751,\"\")","v":11.214560000000001},{"$f":"SUM(G751:G754)","v":45.148560000000003},null,0]
[null,null,"Placa de PVC com espessura mínima de 5 mm na cor branca","m2",{"$f":"0.36/0.6/0.6","v":1},"",{"$f":"IF(ISNUMBER(F752),E752*F752,\"\")","v":""},null,null,0]
[null,null,"Gesseiro com encargos complementares","h",1,19.38,{"$f":"IF(ISNUMBER(F753),E753*F753,\"\")","v":19.38},null,null,0]
[null,null,"Servente com Encargos Complementares","h",1,14.554,{"$f":"IF(ISNUMBER(F754),E754*F754,\"\")","v":14.554},null,null,0]
[null,null,null,null,null,"",{"$f":"IF(ISNUMBER(F755),E755*F755,\"\")","v":""},null,null,0]
["SF-00140",{"$f":"INDEX(Orçamentária!A:B,MATCH(Composições!A756,Orçamentária!A:A,0),2)","v":"Forro de PVC em réguas de 100 x 6000mm"},null,{"$f":"TRIM(INDEX(Orçamentária!C:C,MATCH(Composições!A756,Orçamentária!A:A,0),1))","v":"m2"},null,"",{"$f":"IF(ISNUMBER(F756),E756*F756,\"\")","v":""},null,null,0]
[null,null,null,null,null,"",{"$f":"IF(ISNUMBER(F757),E757*F757,\"\")","v":""},null,null,0]
[null,null,"ARAME GALVANIZADO 6 BWG, D = 5,16 MM (0,157 KG/M), OU 8 BWG, D = 4,19 MM (0,101 KG/M), OU 10 BWG, D = 3,40 MM (0,0713 KG/M)","kg",4.2599999999999999E-2,15.427999999999997,{"$f":"IF(ISNUMBER(F758),E758*F758,\"\")","v":0.65723279999999984},{"$f":"SUM(G758:G765)","v":39.520158649999999},null,0]
[null,null,"Forro de PVC, frisado, branco, regua de 10 cm, espessura de 8 mm a 10 mm e comprimento 6 m (sem colocacao)","m2",1.0955999999999999,14.725,{"$f":"IF(ISNUMBER(F759),E759*F759,\"\")","v":16.132709999999999},null,null,0]
[null,null,"Perfil canaleta, formato C, em aco zincado, para estrutura forro drywall, E = 0,5 mm, *46 x 18* (L x H), comprimento 3 m","m",3.8498999999999999,3.0779999999999998,{"$f":"IF(ISNUMBER(F760),E760*F760,\"\")","v":11.849992199999999},null,null,0]
[null,null,"Pendural ou presilha reguladora, em aco galvanizado, com corpo, mola e rebite, para perfil tipo canaleta de estrutura em forros drywall","un",1.3265,1.159,{"$f":"IF(ISNUMBER(F761),E761*F761,\"\")","v":1.5374135},null,null,0]
[null,null,"Parafuso dry wall, em aco zincado, cabeca lentilha e ponta broca (LB), largura 4,2 mm, comprimento 13 mm","un",2.1911999999999998,0.18049999999999999,{"$f":"IF(ISNUMBER(F762),E762*F762,\"\")","v":0.39551159999999996},null,null,0]
[null,null,"PARAFUSO ZINCADO, AUTOBROCANTE, FLANGEADO, 4,2 MM X 19 MM","cento",1.32E-2,20.985499999999998,{"$f":"IF(ISNUMBER(F763),E763*F763,\"\")","v":0.27700859999999999},null,null,0]
[null,null,"PARAFUSO, AUTO ATARRACHANTE, CABECA CHATA, FENDA SIMPLES, 1/4\u0094 (6,35 MM) X 25 MM","cento",3.3300000000000003E-2,35.976499999999994,{"$f":"IF(ISNUMBER(F764),E764*F764,\"\")","v":1.1980174499999998},null,null,0]
[null,null,"Montador de estrutura metálica com encargos complementares","h",0.49940000000000001,14.962499999999999,{"$f":"IF(ISNUMBER(F765),E765*F765,\"\")","v":7.4722724999999999},null,null,0]
[null,null,null,null,null,"",{"$f":"IF(ISNUMBER(F766),E766*F766,\"\")","v":""},null,null,0]
["SF-00141",{"$f":"INDEX(Orçamentária!A:B,MATCH(Composições!A767,Orçamentária!A:A,0),2)","v":"Forro de PVC em réguas de 100 x 6000mm, sem estrutura"},null,{"$f":"TRIM(INDEX(Orçamentária!C:C,MATCH(Composições!A767,Orçamentária!A:A,0),1))","v":"m2"},null,"",{"$f":"IF(ISNUMBER(F767),E767*F767,\"\")","v":""},null,null,0]
[null,null,null,null,null,"",{"$f":"IF(ISNUMBER(F768),E768*F768,\"\")","v":""},null,null,0]
[null,null,"Forro de PVC, frisado, branco, regua de 10 cm, espessura de 8 mm a 10 mm e comprimento 6 m (sem colocacao)","m2",1.0955999999999999,14.725,{"$f":"IF(ISNUMBER(F769),E769*F769,\"\")","v":16.132709999999999},{"$f":"SUM(G769:G771)","v":18.769604099999999},null,0]
[null,null,"Parafuso dry wall, em aco zincado, cabeca lentilha e ponta broca (LB), largura 4,2 mm, comprimento 13 mm","un",2.1911999999999998,0.18049999999999999,{"$f":"IF(ISNUMBER(F770),E770*F770,\"\")","v":0.39551159999999996},null,null,0]
[null,null,"Montador de estrutura metálica com encargos complementares","h",{"$f":"ROUND(0.4994*0.3,4)","v":0.14979999999999999},14.962499999999999,{"$f":"IF(ISNUMBER(F771),E771*F771,\"\")","v":2.2413824999999998},null,null,0]
[null,null,null,null,null,"",{"$f":"IF(ISNUMBER(F772),E772*F772,\"\")","v":""},null,null,0]
["SF-00142",{"$f":"INDEX(Orçamentária!A:B,MATCH(Composições!A773,Orçamentária!A:A,0),2)","v":"Forro de PVC modular em placas"},null,{"$f":"TRIM(INDEX(Orçamentária!C:C,MATCH(Composições!A773,Orçamentária!A:A,0),1))","v":"m2"},null,"",{"$f":"IF(ISNUMBER(F773),E773*F773,\"\")","v":""},null,null,0]
[null,null,null,null,null,"",{"$f":"IF(ISNUMBER(F774),E774*F774,\"\")","v":""},null,null,0]
[null,null,"ARAME GALVANIZADO 6 BWG, D = 5,16 MM (0,157 KG/M), OU 8 BWG, D = 4,19 MM (0,101 KG/M), OU 10 BWG, D = 3,40 MM (0,0713 KG/M)","kg",4.2599999999999999E-2,15.427999999999997,{"$f":"IF(ISNUMBER(F775),E775*F775,\"\")","v":0.65723279999999984},{"$f":"SUM(G775:G782)","v":23.38744865},null,0]
[null,null,"Forro de PVC modular em placas de 625 mm x 1250 mm","m2",1.0955999999999999,"",{"$f":"IF(ISNUMBER(F776),E776*F776,\"\")","v":""},null,null,0]
[null,null,"Perfil canaleta, formato C, em aco zincado, para estrutura forro drywall, E = 0,5 mm, *46 x 18* (L x H), comprimento 3 m","m",3.8498999999999999,3.0779999999999998,{"$f":"IF(ISNUMBER(F777),E777*F777,\"\")","v":11.849992199999999},null,null,0]
[null,null,"Pendural ou presilha reguladora, em aco galvanizado, com corpo, mola e rebite, para perfil tipo canaleta de estrutura em forros drywall","un",1.3265,1.159,{"$f":"IF(ISNUMBER(F778),E778*F778,\"\")","v":1.5374135},null,null,0]
[null,null,"Parafuso dry wall, em aco zincado, cabeca lentilha e ponta broca (LB), largura 4,2 mm, comprimento 13 mm","un",2.1911999999999998,0.18049999999999999,{"$f":"IF(ISNUMBER(F779),E779*F779,\"\")","v":0.39551159999999996},null,null,0]
[null,null,"PARAFUSO ZINCADO, AUTOBROCANTE, FLANGEADO, 4,2 MM X 19 MM","cento",1.32E-2,20.985499999999998,{"$f":"IF(ISNUMBER(F780),E780*F780,\"\")","v":0.27700859999999999},null,null,0]
[null,null,"PARAFUSO, AUTO ATARRACHANTE, CABECA CHATA, FENDA SIMPLES, 1/4\u0094 (6,35 MM) X 25 MM","cento",3.3300000000000003E-2,35.976499999999994,{"$f":"IF(ISNUMBER(F781),E781*F781,\"\")","v":1.1980174499999998},null,null,0]
[null,null,"Montador de estrutura metálica com encargos complementares","h",0.49940000000000001,14.962499999999999,{"$f":"IF(ISNUMBER(F782),E782*F782,\"\")","v":7.4722724999999999},null,null,0]
[null,null,null,null,null,"",{"$f":"IF(ISNUMBER(F783),E783*F783,\"\")","v":""},null,null,0]
["SF-00143",{"$f":"INDEX(Orçamentária!A:B,MATCH(Composições!A784,Orçamentária!A:A,0),2)","v":"Forro em chapas metálicas"},null,{"$f":"TRIM(INDEX(Orçamentária!C:C,MATCH(Composições!A784,Orçamentária!A:A,0),1))","v":"m2"},null,"",{"$f":"IF(ISNUMBER(F784),E784*F784,\"\")","v":""},null,null,0]
[null,null,null,null,null,"",{"$f":"IF(ISNUMBER(F785),E785*F785,\"\")","v":""},null,null,0]
[null,null,"Ajudante de operação em geral com encargos complementares","h",0.5,15.523,{"$f":"IF(ISNUMBER(F786),E786*F786,\"\")","v":7.7614999999999998},{"$f":"SUM(G786:G789)","v":15.242749999999999},null,0]
[null,null,"Montador de estrutura metálica com encargos complementares","h",0.5,14.962499999999999,{"$f":"IF(ISNUMBER(F787),E787*F787,\"\")","v":7.4812499999999993},null,null,0]
[null,null,"Forro em chapa galvanizada","m2",1,"",{"$f":"IF(ISNUMBER(F788),E788*F788,\"\")","v":""},null,null,0]
[null,null,"Pintura eletrostática","m2",1,"",{"$f":"IF(ISNUMBER(F789),E789*F789,\"\")","v":""},null,null,0]
[null,null,null,null,null,"",{"$f":"IF(ISNUMBER(F790),E790*F790,\"\")","v":""},null,null,0]
["SF-00144",{"$f":"INDEX(Orçamentária!A:B,MATCH(Composições!A791,Orçamentária!A:A,0),2)","v":"Forro em gesso acartonado monolítico"},null,{"$f":"TRIM(INDEX(Orçamentária!C:C,MATCH(Composições!A791,Orçamentária!A:A,0),1))","v":"m2"},null,"",{"$f":"IF(ISNUMBER(F791),E791*F791,\"\")","v":""},null,null,0]
[null,null,null,null,null,"",{"$f":"IF(ISNUMBER(F792),E792*F792,\"\")","v":""},null,null,0]
[null,null,"ARAME GALVANIZADO 6 BWG, D = 5,16 MM (0,157 KG/M), OU 8 BWG, D = 4,19 MM (0,101 KG/M), OU 10 BWG, D = 3,40 MM (0,0713 KG/M)","kg",4.2599999999999999E-2,15.427999999999997,{"$f":"IF(ISNUMBER(F793),E793*F793,\"\")","v":0.65723279999999984},{"$f":"SUM(G793:G803)","v":54.54185979999999},null,0]
[null,null,"Chapa de gesso acartonado, Standard (ST), cor branca, E = 12,5 mm, 1200 x 2400 mm (L x C)","m2",1.0966,20.177999999999997,{"$f":"IF(ISNUMBER(F794),E794*F794,\"\")","v":22.127194799999998},null,null,0]
[null,null,"Perfil canaleta, formato C, em aco zincado, para estrutura forro drywall, E = 0,5 mm, *46 x 18* (L x H), comprimento 3 m","m",3.851,3.0779999999999998,{"$f":"IF(ISNUMBER(F795),E795*F795,\"\")","v":11.853377999999999},null,null,0]
[null,null,"Pendural ou presilha reguladora, em aco galvanizado, com corpo, mola e rebite, para perfil tipo canaleta de estrutura em forros drywall","un",1.3265,1.159,{"$f":"IF(ISNUMBER(F796),E796*F796,\"\")","v":1.5374135},null,null,0]
[null,null,"Fita de papel reforcada com lamina de metal para reforco de cantos de chapa de gesso para drywall","m",1.4395,2.9830000000000001,{"$f":"IF(ISNUMBER(F797),E797*F797,\"\")","v":4.2940285000000005},null,null,0]
[null,null,"Massa de rejunte em po para drywall, a base de gesso, secagem rapida, para tratamento de juntas de chapa de gesso (com adicao de agua)","kg",0.5202,4.0089999999999995,{"$f":"IF(ISNUMBER(F798),E798*F798,\"\")","v":2.0854817999999997},null,null,0]
[null,null,"Parafuso dry wall, em aco fosfatizado, cabeca trombeta e ponta agulha (TA), comprimento 25 mm","un",7.9740000000000002,7.5999999999999998E-2,{"$f":"IF(ISNUMBER(F799),E799*F799,\"\")","v":0.60602400000000001},null,null,0]
[null,null,"Parafuso dry wall, em aco zincado, cabeca lentilha e ponta broca (LB), largura 4,2 mm, comprimento 13 mm","un",2.1911999999999998,0.18049999999999999,{"$f":"IF(ISNUMBER(F800),E800*F800,\"\")","v":0.39551159999999996},null,null,0]
[null,null,"PARAFUSO ZINCADO, AUTOBROCANTE, FLANGEADO, 4,2 MM X 19 MM","cento",1.32E-2,20.985499999999998,{"$f":"IF(ISNUMBER(F801),E801*F801,\"\")","v":0.27700859999999999},null,null,0]
[null,null,"Montador de estrutura metálica com encargos complementares","h",0.36280000000000001,14.962499999999999,{"$f":"IF(ISNUMBER(F802),E802*F802,\"\")","v":5.4283950000000001},null,null,0]
[null,null,"Servente com Encargos Complementares","h",0.36280000000000001,14.554,{"$f":"IF(ISNUMBER(F803),E803*F803,\"\")","v":5.2801912},null,null,0]
[null,null,null,null,null,"",{"$f":"IF(ISNUMBER(F804),E804*F804,\"\")","v":""},null,null,0]
["SF-00145",{"$f":"INDEX(Orçamentária!A:B,MATCH(Composições!A805,Orçamentária!A:A,0),2)","v":"Forro em gesso acartonado monolítico, sem estrutura"},null,{"$f":"TRIM(INDEX(Orçamentária!C:C,MATCH(Composições!A805,Orçamentária!A:A,0),1))","v":"m2"},null,"",{"$f":"IF(ISNUMBER(F805),E805*F805,\"\")","v":""},null,null,0]
[null,null,null,null,null,"",{"$f":"IF(ISNUMBER(F806),E806*F806,\"\")","v":""},null,null,0]
[null,null,"Chapa de gesso acartonado, Standard (ST), cor branca, E = 12,5 mm, 1200 x 2400 mm (L x C)","m2",1.0966,20.177999999999997,{"$f":"IF(ISNUMBER(F807),E807*F807,\"\")","v":22.127194799999998},{"$f":"SUM(G807:G813)","v":40.216826899999994},null,0]
[null,null,"Fita de papel reforcada com lamina de metal para reforco de cantos de chapa de gesso para drywall","m",1.4395,2.9830000000000001,{"$f":"IF(ISNUMBER(F808),E808*F808,\"\")","v":4.2940285000000005},null,null,0]
[null,null,"Massa de rejunte em po para drywall, a base de gesso, secagem rapida, para tratamento de juntas de chapa de gesso (com adicao de agua)","kg",0.5202,4.0089999999999995,{"$f":"IF(ISNUMBER(F809),E809*F809,\"\")","v":2.0854817999999997},null,null,0]
[null,null,"Parafuso dry wall, em aco fosfatizado, cabeca trombeta e ponta agulha (TA), comprimento 25 mm","un",7.9740000000000002,7.5999999999999998E-2,{"$f":"IF(ISNUMBER(F810),E810*F810,\"\")","v":0.60602400000000001},null,null,0]
[null,null,"Parafuso dry wall, em aco zincado, cabeca lentilha e ponta broca (LB), largura 4,2 mm, comprimento 13 mm","un",2.1911999999999998,0.18049999999999999,{"$f":"IF(ISNUMBER(F811),E811*F811,\"\")","v":0.39551159999999996},null,null,0]
[null,null,"Montador de estrutura metálica com encargos complementares","h",0.36280000000000001,14.962499999999999,{"$f":"IF(ISNUMBER(F812),E812*F812,\"\")","v":5.4283950000000001},null,null,0]
[null,null,"Servente com Encargos Complementares","h",0.36280000000000001,14.554,{"$f":"IF(ISNUMBER(F813),E813*F813,\"\")","v":5.2801912},null,null,0]
[null,null,null,null,null,"",{"$f":"IF(ISNUMBER(F814),E814*F814,\"\")","v":""},null,null,0]
["SF-00146",{"$f":"INDEX(Orçamentária!A:B,MATCH(Composições!A815,Orçamentária!A:A,0),2)","v":"Forro mineral modulado"},null,{"$f":"TRIM(INDEX(Orçamentária!C:C,MATCH(Composições!A815,Orçamentária!A:A,0),1))","v":"m2"},null,"",{"$f":"IF(ISNUMBER(F815),E815*F815,\"\")","v":""},null,null,0]
[null,null,null,null,null,"",{"$f":"IF(ISNUMBER(F816),E816*F816,\"\")","v":""},null,null,0]
[null,null,"FORRO DE FIBRA MINERAL EM PLACAS DE 625 X 625 MM, E = 15 MM, BORDA RETA, COM PINTURA ANTIMOFO, APOIADO EM PERFIL DE ACO GALVANIZADO COM 24 MM DE BASE - INSTALADO","m2",1,89.214499999999987,{"$f":"IF(ISNUMBER(F817),E817*F817,\"\")","v":89.214499999999987},{"$f":"SUM(G817:G817)","v":89.214499999999987},null,0]
[null,null,null,null,null,"",{"$f":"IF(ISNUMBER(F818),E818*F818,\"\")","v":""},null,null,0]
["SF-00147",{"$f":"INDEX(Orçamentária!A:B,MATCH(Composições!A819,Orçamentária!A:A,0),2)","v":"Forro mineral modulado, sem estrutura"},null,{"$f":"TRIM(INDEX(Orçamentária!C:C,MATCH(Composições!A819,Orçamentária!A:A,0),1))","v":"m2"},null,"",{"$f":"IF(ISNUMBER(F819),E819*F819,\"\")","v":""},null,null,0]
[null,null,null,null,null,"",{"$f":"IF(ISNUMBER(F820),E820*F820,\"\")","v":""},null,null,0]
[null,null,"Ajudante especializado com encargos complementares","h",{"$f":"1.2/4","v":0.3},17.185499999999998,{"$f":"IF(ISNUMBER(F821),E821*F821,\"\")","v":5.1556499999999987},{"$f":"SUM(G821:G822)","v":25.02965},null,0]
[null,null,"Placa de fibra mineral para forro, de 625 x 625 mm, E = 15 mm, borda reta, com pintura antimofo (nao inclui perfis)","UN",1,19.874000000000002,{"$f":"IF(ISNUMBER(F822),E822*F822,\"\")","v":19.874000000000002},null,null,0]
[null,null,null,null,null,"",{"$f":"IF(ISNUMBER(F823),E823*F823,\"\")","v":""},null,null,0]
["SF-00148",{"$f":"INDEX(Orçamentária!A:B,MATCH(Composições!A824,Orçamentária!A:A,0),2)","v":"Instalação de forro de PVC reaproveitado"},null,{"$f":"TRIM(INDEX(Orçamentária!C:C,MATCH(Composições!A824,Orçamentária!A:A,0),1))","v":"m2"},null,"",{"$f":"IF(ISNUMBER(F824),E824*F824,\"\")","v":""},null,null,0]
[null,null,null,null,null,"",{"$f":"IF(ISNUMBER(F825),E825*F825,\"\")","v":""},null,null,0]
[null,null,"Montador de estrutura metálica com encargos complementares","h",{"$f":"ROUND(0.4994*0.3,4)","v":0.14979999999999999},14.962499999999999,{"$f":"IF(ISNUMBER(F826),E826*F826,\"\")","v":2.2413824999999998},{"$f":"SUM(G826:G826)","v":2.2413824999999998},null,0]
[null,null,null,null,null,"",{"$f":"IF(ISNUMBER(F827),E827*F827,\"\")","v":""},null,null,0]
["SF-00149",{"$f":"INDEX(Orçamentária!A:B,MATCH(Composições!A828,Orçamentária!A:A,0),2)","v":"Instalação de forro mineral reaproveitado"},null,{"$f":"TRIM(INDEX(Orçamentária!C:C,MATCH(Composições!A828,Orçamentária!A:A,0),1))","v":"m2"},null,"",{"$f":"IF(ISNUMBER(F828),E828*F828,\"\")","v":""},null,null,0]
[null,null,null,null,null,"",{"$f":"IF(ISNUMBER(F829),E829*F829,\"\")","v":""},null,null,0]
[null,null,"Ajudante especializado com encargos complementares","h",1.2,17.185499999999998,{"$f":"IF(ISNUMBER(F830),E830*F830,\"\")","v":20.622599999999995},{"$f":"SUM(G830:G831)","v":38.57759999999999},null,0]
[null,null,"Montador de estrutura metálica com encargos complementares","h",1.2,14.962499999999999,{"$f":"IF(ISNUMBER(F831),E831*F831,\"\")","v":17.954999999999998},null,null,0]
[null,null,null,null,null,"",{"$f":"IF(ISNUMBER(F832),E832*F832,\"\")","v":""},null,null,0]
["SF-00150",{"$f":"INDEX(Orçamentária!A:B,MATCH(Composições!A833,Orçamentária!A:A,0),2)","v":"Tabica metálica em forro de gesso acartonado"},null,{"$f":"TRIM(INDEX(Orçamentária!C:C,MATCH(Composições!A833,Orçamentária!A:A,0),1))","v":"m"},null,"",{"$f":"IF(ISNUMBER(F833),E833*F833,\"\")","v":""},null,null,0]
[null,null,null,null,null,"",{"$f":"IF(ISNUMBER(F834),E834*F834,\"\")","v":""},null,null,0]
[null,null,"Perfil tabica fechada, lisa, formato Z, em aco galvanizado natural, largura total na horizontal *40* mm, para estrutura forro drywall","m",1.1512,2.9830000000000001,{"$f":"IF(ISNUMBER(F835),E835*F835,\"\")","v":3.4340296000000001},{"$f":"SUM(G835:G838)","v":8.4304500999999998},null,0]
[null,null,"Parafuso dry wall, em aco zincado, cabeca lentilha e ponta broca (LB), largura 4,2 mm, comprimento 13 mm","un",0.58330000000000004,0.18049999999999999,{"$f":"IF(ISNUMBER(F836),E836*F836,\"\")","v":0.10528565000000001},null,null,0]
[null,null,"PARAFUSO, AUTO ATARRACHANTE, CABECA CHATA, FENDA SIMPLES, 1/4\u0094 (6,35 MM) X 25 MM","cento",7.4899999999999994E-2,35.976499999999994,{"$f":"IF(ISNUMBER(F837),E837*F837,\"\")","v":2.6946398499999993},null,null,0]
[null,null,"Montador de estrutura metálica com encargos complementares","h",0.14680000000000001,14.962499999999999,{"$f":"IF(ISNUMBER(F838),E838*F838,\"\")","v":2.1964950000000001},null,null,0]
[null,null,null,null,null,"",{"$f":"IF(ISNUMBER(F839),E839*F839,\"\")","v":""},null,null,0]
["SF-00151",{"$f":"INDEX(Orçamentária!A:B,MATCH(Composições!A840,Orçamentária!A:A,0),2)","v":"Instalação de revestimento de piso têxtil (carpete) reaproveitado"},null,{"$f":"TRIM(INDEX(Orçamentária!C:C,MATCH(Composições!A840,Orçamentária!A:A,0),1))","v":"m2"},null,"",{"$f":"IF(ISNUMBER(F840),E840*F840,\"\")","v":""},null,null,0]
[null,null,null,null,null,"",{"$f":"IF(ISNUMBER(F841),E841*F841,\"\")","v":""},null,null,0]
[null,null,"Servente com Encargos Complementares","h",0.1,14.554,{"$f":"IF(ISNUMBER(F842),E842*F842,\"\")","v":1.4554},{"$f":"SUM(G842:G844)","v":5.7826500000000003},null,0]
[null,null,"Pedreiro com Encargos Complementares","h",0.1,19.474999999999998,{"$f":"IF(ISNUMBER(F843),E843*F843,\"\")","v":1.9474999999999998},null,null,0]
[null,null,"ADESIVO ACRILICO/COLA DE CONTATO","kg",0.1,23.797499999999999,{"$f":"IF(ISNUMBER(F844),E844*F844,\"\")","v":2.37975},null,null,0]
[null,null,null,null,null,"",{"$f":"IF(ISNUMBER(F845),E845*F845,\"\")","v":""},null,null,0]
["SF-00152",{"$f":"INDEX(Orçamentária!A:B,MATCH(Composições!A846,Orçamentária!A:A,0),2)","v":"Baguetes metálicos"},null,{"$f":"TRIM(INDEX(Orçamentária!C:C,MATCH(Composições!A846,Orçamentária!A:A,0),1))","v":"m"},null,"",{"$f":"IF(ISNUMBER(F846),E846*F846,\"\")","v":""},null,null,0]
[null,null,null,null,null,"",{"$f":"IF(ISNUMBER(F847),E847*F847,\"\")","v":""},null,null,0]
[null,null,"Vidraceiro com encargos complementares","h",0.25,18.145,{"$f":"IF(ISNUMBER(F848),E848*F848,\"\")","v":4.5362499999999999},{"$f":"SUM(G848:G849)","v":4.5362499999999999},null,0]
[null,null,"Baguetes metálicos","m",1.05,"",{"$f":"IF(ISNUMBER(F849),E849*F849,\"\")","v":""},null,null,0]
[null,null,null,null,null,"",{"$f":"IF(ISNUMBER(F850),E850*F850,\"\")","v":""},null,null,0]
["SF-00153",{"$f":"INDEX(Orçamentária!A:B,MATCH(Composições!A851,Orçamentária!A:A,0),2)","v":"Cordão de massa de vidraceiro"},null,{"$f":"TRIM(INDEX(Orçamentária!C:C,MATCH(Composições!A851,Orçamentária!A:A,0),1))","v":"m"},null,"",{"$f":"IF(ISNUMBER(F851),E851*F851,\"\")","v":""},null,null,0]
[null,null,null,null,null,"",{"$f":"IF(ISNUMBER(F852),E852*F852,\"\")","v":""},null,null,0]
[null,null,"Vidraceiro com encargos complementares","h",0.5,18.145,{"$f":"IF(ISNUMBER(F853),E853*F853,\"\")","v":9.0724999999999998},{"$f":"SUM(G853:G855)","v":16.604099999999999},null,0]
[null,null,"Servente com Encargos Complementares","h",{"$f":"E853/2","v":0.25},14.554,{"$f":"IF(ISNUMBER(F854),E854*F854,\"\")","v":3.6385000000000001},null,null,0]
[null,null,"Massa para vidro","kg",0.6,6.4885000000000002,{"$f":"IF(ISNUMBER(F855),E855*F855,\"\")","v":3.8931},null,null,0]
[null,null,null,null,null,"",{"$f":"IF(ISNUMBER(F856),E856*F856,\"\")","v":""},null,null,0]
["SF-00154",{"$f":"INDEX(Orçamentária!A:B,MATCH(Composições!A857,Orçamentária!A:A,0),2)","v":"Espelho cristal, e=5 mm"},null,{"$f":"TRIM(INDEX(Orçamentária!C:C,MATCH(Composições!A857,Orçamentária!A:A,0),1))","v":"m2"},null,"",{"$f":"IF(ISNUMBER(F857),E857*F857,\"\")","v":""},null,null,0]
[null,null,null,null,null,"",{"$f":"IF(ISNUMBER(F858),E858*F858,\"\")","v":""},null,null,0]
[null,null,"Parafuso frances M16 em aco galvanizado, comprimento = 45 mm, diametro = 16 mm, cabeca abaulada","un",4,3.5054999999999996,{"$f":"IF(ISNUMBER(F859),E859*F859,\"\")","v":14.021999999999998},{"$f":"SUM(G859:G862)","v":56.133600000000001},null,0]
[null,null,"Espelho cristal comum #5mm","m2",1,0,{"$f":"IF(ISNUMBER(F860),E860*F860,\"\")","v":0},null,null,0]
[null,null,"Servente com Encargos Complementares","h",0.4,14.554,{"$f":"IF(ISNUMBER(F861),E861*F861,\"\")","v":5.8216000000000001},null,null,0]
[null,null,"Vidraceiro com encargos complementares","h",2,18.145,{"$f":"IF(ISNUMBER(F862),E862*F862,\"\")","v":36.29},null,null,0]
[null,null,null,null,null,"",{"$f":"IF(ISNUMBER(F863),E863*F863,\"\")","v":""},null,null,0]
["SF-00155",{"$f":"INDEX(Orçamentária!A:B,MATCH(Composições!A864,Orçamentária!A:A,0),2)","v":"Instalação de vidro reaproveitado"},null,{"$f":"TRIM(INDEX(Orçamentária!C:C,MATCH(Composições!A864,Orçamentária!A:A,0),1))","v":"m2"},null,"",{"$f":"IF(ISNUMBER(F864),E864*F864,\"\")","v":""},null,null,0]
[null,null,null,null,null,"",{"$f":"IF(ISNUMBER(F865),E865*F865,\"\")","v":""},null,null,0]
[null,null,"Servente com Encargos Complementares","h",0.45,14.554,{"$f":"IF(ISNUMBER(F866),E866*F866,\"\")","v":6.5493000000000006},{"$f":"SUM(G866:G868)","v":25.096150000000002},null,0]
[null,null,"Vidraceiro com encargos complementares","h",0.45,18.145,{"$f":"IF(ISNUMBER(F867),E867*F867,\"\")","v":8.1652500000000003},null,null,0]
[null,null,"Massa para vidro","kg",1.6,6.4885000000000002,{"$f":"IF(ISNUMBER(F868),E868*F868,\"\")","v":10.381600000000001},null,null,0]
[null,null,null,null,null,"",{"$f":"IF(ISNUMBER(F869),E869*F869,\"\")","v":""},null,null,0]
["SF-00156",{"$f":"INDEX(Orçamentária!A:B,MATCH(Composições!A870,Orçamentária!A:A,0),2)","v":"Substituição da calafetação com selante"},null,{"$f":"TRIM(INDEX(Orçamentária!C:C,MATCH(Composições!A870,Orçamentária!A:A,0),1))","v":"m"},null,"",{"$f":"IF(ISNUMBER(F870),E870*F870,\"\")","v":""},null,null,0]
[null,null,null,null,null,"",{"$f":"IF(ISNUMBER(F871),E871*F871,\"\")","v":""},null,null,0]
[null,null,"Vidraceiro com encargos complementares","h",0.5,18.145,{"$f":"IF(ISNUMBER(F872),E872*F872,\"\")","v":9.0724999999999998},{"$f":"SUM(G872:G874)","v":18.087462299999999},null,0]
[null,null,"Servente com Encargos Complementares","h",{"$f":"E872/2","v":0.25},14.554,{"$f":"IF(ISNUMBER(F873),E873*F873,\"\")","v":3.6385000000000001},null,null,0]
[null,null,"Silicone acetico uso geral incolor 280 g","un",{"$f":"ROUND(1/3,4)","v":0.33329999999999999},16.131,{"$f":"IF(ISNUMBER(F874),E874*F874,\"\")","v":5.3764623},null,null,0]
[null,null,null,null,null,"",{"$f":"IF(ISNUMBER(F875),E875*F875,\"\")","v":""},null,null,0]
[null,null,"Obs.: considerando que cada bisnaga rende, no mínimo, 3 m de aplicação.",null,null,"",{"$f":"IF(ISNUMBER(F876),E876*F876,\"\")","v":""},null,null,0]
[null,null,null,null,null,"",{"$f":"IF(ISNUMBER(F877),E877*F877,\"\")","v":""},null,null,0]
["SF-00157",{"$f":"INDEX(Orçamentária!A:B,MATCH(Composições!A878,Orçamentária!A:A,0),2)","v":"Vidro liso comum transparente 4mm"},null,{"$f":"TRIM(INDEX(Orçamentária!C:C,MATCH(Composições!A878,Orçamentária!A:A,0),1))","v":"m2"},null,"",{"$f":"IF(ISNUMBER(F878),E878*F878,\"\")","v":""},null,null,0]
[null,null,null,null,null,"",{"$f":"IF(ISNUMBER(F879),E879*F879,\"\")","v":""},null,null,0]
[null,null,"Servente com Encargos Complementares","h",0.45,14.554,{"$f":"IF(ISNUMBER(F880),E880*F880,\"\")","v":6.5493000000000006},{"$f":"SUM(G880:G883)","v":127.23065000000001},null,0]
[null,null,"Vidraceiro com encargos complementares","h",0.45,18.145,{"$f":"IF(ISNUMBER(F881),E881*F881,\"\")","v":8.1652500000000003},null,null,0]
[null,null,"Vidro liso incolor 4mm - sem colocacao","m2",1,102.1345,{"$f":"IF(ISNUMBER(F882),E882*F882,\"\")","v":102.1345},null,null,0]
[null,null,"Massa para vidro","kg",1.6,6.4885000000000002,{"$f":"IF(ISNUMBER(F883),E883*F883,\"\")","v":10.381600000000001},null,null,0]
[null,null,null,null,null,"",{"$f":"IF(ISNUMBER(F884),E884*F884,\"\")","v":""},null,null,0]
["SF-00158",{"$f":"INDEX(Orçamentária!A:B,MATCH(Composições!A885,Orçamentária!A:A,0),2)","v":"Vidro liso comum transparente 6mm"},null,{"$f":"TRIM(INDEX(Orçamentária!C:C,MATCH(Composições!A885,Orçamentária!A:A,0),1))","v":"m2"},null,"",{"$f":"IF(ISNUMBER(F885),E885*F885,\"\")","v":""},null,null,0]
[null,null,null,null,null,"",{"$f":"IF(ISNUMBER(F886),E886*F886,\"\")","v":""},null,null,0]
[null,null,"Servente com Encargos Complementares","h",0.2,14.554,{"$f":"IF(ISNUMBER(F887),E887*F887,\"\")","v":2.9108000000000001},{"$f":"SUM(G887:G890)","v":178.73679999999999},null,0]
[null,null,"Vidraceiro com encargos complementares","h",1,18.145,{"$f":"IF(ISNUMBER(F888),E888*F888,\"\")","v":18.145},null,null,0]
[null,null,"VIDRO LISO INCOLOR 6 MM - SEM COLOCACAO","m2",1,144.70399999999998,{"$f":"IF(ISNUMBER(F889),E889*F889,\"\")","v":144.70399999999998},null,null,0]
[null,null,"Massa para vidro","kg",2,6.4885000000000002,{"$f":"IF(ISNUMBER(F890),E890*F890,\"\")","v":12.977},null,null,0]
[null,null,null,null,null,"",{"$f":"IF(ISNUMBER(F891),E891*F891,\"\")","v":""},null,null,0]
["SF-00159",{"$f":"INDEX(Orçamentária!A:B,MATCH(Composições!A892,Orçamentária!A:A,0),2)","v":"Instalação de painéis de vidro temperado reaproveitados"},null,{"$f":"TRIM(INDEX(Orçamentária!C:C,MATCH(Composições!A892,Orçamentária!A:A,0),1))","v":"m2"},null,"",{"$f":"IF(ISNUMBER(F892),E892*F892,\"\")","v":""},null,null,0]
[null,null,null,null,null,"",{"$f":"IF(ISNUMBER(F893),E893*F893,\"\")","v":""},null,null,0]
[null,null,"Vidraceiro com encargos complementares","h",{"$f":"2.2/2","v":1.1000000000000001},18.145,{"$f":"IF(ISNUMBER(F894),E894*F894,\"\")","v":19.959500000000002},{"$f":"SUM(G894:G895)","v":35.968900000000005},null,0]
[null,null,"Servente com Encargos Complementares","h",{"$f":"2.2/2","v":1.1000000000000001},14.554,{"$f":"IF(ISNUMBER(F895),E895*F895,\"\")","v":16.009400000000003},null,null,0]
[null,null,null,null,null,"",{"$f":"IF(ISNUMBER(F896),E896*F896,\"\")","v":""},null,null,0]
["SF-00160",{"$f":"INDEX(Orçamentária!A:B,MATCH(Composições!A897,Orçamentária!A:A,0),2)","v":"Mola hidráulica de piso"},null,{"$f":"TRIM(INDEX(Orçamentária!C:C,MATCH(Composições!A897,Orçamentária!A:A,0),1))","v":"un"},null,"",{"$f":"IF(ISNUMBER(F897),E897*F897,\"\")","v":""},null,null,0]
[null,null,null,null,null,"",{"$f":"IF(ISNUMBER(F898),E898*F898,\"\")","v":""},null,null,0]
[null,null,"Vidraceiro com encargos complementares","h",0.75,18.145,{"$f":"IF(ISNUMBER(F899),E899*F899,\"\")","v":13.608750000000001},{"$f":"SUM(G899:G902)","v":17.97495},null,0]
[null,null,"Servente com Encargos Complementares","h",0.3,14.554,{"$f":"IF(ISNUMBER(F900),E900*F900,\"\")","v":4.3662000000000001},null,null,0]
[null,null,"Mola Hidráulica de piso universal para portas de batente e portas vai-e-vem em aço inoxidável. Ref.: DORMA, modelo BTS 75V, com eixo intercambiável tipo \"B\"","un",1,"",{"$f":"IF(ISNUMBER(F901),E901*F901,\"\")","v":""},null,null,0]
[null,null,"Impermeabilizante Dorma SealProtect","un",1,"",{"$f":"IF(ISNUMBER(F902),E902*F902,\"\")","v":""},null,null,0]
[null,null,null,null,null,"",{"$f":"IF(ISNUMBER(F903),E903*F903,\"\")","v":""},null,null,0]
["SF-00161",{"$f":"INDEX(Orçamentária!A:B,MATCH(Composições!A904,Orçamentária!A:A,0),2)","v":"Instalação de persianas reaproveitadas"},null,{"$f":"TRIM(INDEX(Orçamentária!C:C,MATCH(Composições!A904,Orçamentária!A:A,0),1))","v":"m"},null,"",{"$f":"IF(ISNUMBER(F904),E904*F904,\"\")","v":""},null,null,0]
[null,null,null,null,null,"",{"$f":"IF(ISNUMBER(F905),E905*F905,\"\")","v":""},null,null,0]
[null,null,"Ajudante especializado com encargos complementares","h",{"$f":"ROUND(1/3,4)","v":0.33329999999999999},17.185499999999998,{"$f":"IF(ISNUMBER(F906),E906*F906,\"\")","v":5.7279271499999993},{"$f":"SUM(G906:G906)","v":5.7279271499999993},null,0]
[null,null,null,null,null,"",{"$f":"IF(ISNUMBER(F907),E907*F907,\"\")","v":""},null,null,0]
["SF-00166",{"$f":"INDEX(Orçamentária!A:B,MATCH(Composições!A908,Orçamentária!A:A,0),2)","v":"Tubo de ligação para bacia sanitária"},null,{"$f":"TRIM(INDEX(Orçamentária!C:C,MATCH(Composições!A908,Orçamentária!A:A,0),1))","v":"un"},null,"",{"$f":"IF(ISNUMBER(F908),E908*F908,\"\")","v":""},null,null,0]
[null,null,null,null,null,"",{"$f":"IF(ISNUMBER(F909),E909*F909,\"\")","v":""},null,null,0]
[null,null,"Encanador ou Bombeiro Hidráulico com Encargos Complementares","h",0.2,19.066499999999998,{"$f":"IF(ISNUMBER(F910),E910*F910,\"\")","v":3.8132999999999999},{"$f":"SUM(G910:G912)","v":5.5898000000000003},null,0]
[null,null,"Vedacao PVC, 100 mm, para saida vaso sanitario","un",1,1.7765,{"$f":"IF(ISNUMBER(F911),E911*F911,\"\")","v":1.7765},null,null,0]
[null,null,"Tubo de ligação para bacia sanitária em PVC, com acabamento cromado, ajustável ou não. Ref.: DECA 1968C ou equivalente","un",1,"",{"$f":"IF(ISNUMBER(F912),E912*F912,\"\")","v":""},null,null,0]
[null,null,null,null,null,"",{"$f":"IF(ISNUMBER(F913),E913*F913,\"\")","v":""},null,null,0]
["SF-00167",{"$f":"INDEX(Orçamentária!A:B,MATCH(Composições!A914,Orçamentária!A:A,0),2)","v":"Tubo PVC esgoto ou aguas pluviais predial DN 100mm"},null,{"$f":"TRIM(INDEX(Orçamentária!C:C,MATCH(Composições!A914,Orçamentária!A:A,0),1))","v":"m"},null,"",{"$f":"IF(ISNUMBER(F914),E914*F914,\"\")","v":""},null,null,0]
[null,null,null,null,null,"",{"$f":"IF(ISNUMBER(F915),E915*F915,\"\")","v":""},null,null,0]
[null,null,"Adesivo plastico para PVC, frasco com 850 gr","un",4.2900000000000001E-2,54.235500000000002,{"$f":"IF(ISNUMBER(F916),E916*F916,\"\")","v":2.32670295},{"$f":"SUM(G916:G921)","v":44.344911299999993},null,0]
[null,null,"Tubo PVC, serie R, DN 100 mm, para esgoto ou aguas pluviais predial (NBR 5688)","m",1.04,22.410499999999999,{"$f":"IF(ISNUMBER(F917),E917*F917,\"\")","v":23.306919999999998},null,null,0]
[null,null,"Solucao limpadora para PVC, frasco com 1000 cm3","un",7.0099999999999996E-2,47.100999999999999,{"$f":"IF(ISNUMBER(F918),E918*F918,\"\")","v":3.3017800999999998},null,null,0]
[null,null,"Lixa d'agua em folha, grao 100","un",0.14849999999999999,1.6244999999999998,{"$f":"IF(ISNUMBER(F919),E919*F919,\"\")","v":0.24123824999999996},null,null,0]
[null,null,"Auxiliar de encanador ou bombeiro hidráulico com encargos complementares","h",0.44500000000000001,15.019499999999999,{"$f":"IF(ISNUMBER(F920),E920*F920,\"\")","v":6.6836774999999999},null,null,0]
[null,null,"Encanador ou Bombeiro Hidráulico com Encargos Complementares","h",0.44500000000000001,19.066499999999998,{"$f":"IF(ISNUMBER(F921),E921*F921,\"\")","v":8.4845924999999998},null,null,0]
[null,null,null,null,null,"",{"$f":"IF(ISNUMBER(F922),E922*F922,\"\")","v":""},null,null,0]
["SF-00168",{"$f":"INDEX(Orçamentária!A:B,MATCH(Composições!A923,Orçamentária!A:A,0),2)","v":"Tubo PVC esgoto ou aguas pluviais predial DN 40mm"},null,{"$f":"TRIM(INDEX(Orçamentária!C:C,MATCH(Composições!A923,Orçamentária!A:A,0),1))","v":"m"},null,"",{"$f":"IF(ISNUMBER(F923),E923*F923,\"\")","v":""},null,null,0]
[null,null,null,null,null,"",{"$f":"IF(ISNUMBER(F924),E924*F924,\"\")","v":""},null,null,0]
[null,null,"Tubo PVC, serie R, DN 40 mm, para esgoto ou aguas pluviais predial (NBR 5688)","m",1.04,7.8279999999999994,{"$f":"IF(ISNUMBER(F925),E925*F925,\"\")","v":8.141119999999999},{"$f":"SUM(G925:G928)","v":13.825416499999998},null,0]
[null,null,"Lixa d'agua em folha, grao 100","un",3.6999999999999998E-2,1.6244999999999998,{"$f":"IF(ISNUMBER(F926),E926*F926,\"\")","v":6.0106499999999993E-2},null,null,0]
[null,null,"Auxiliar de encanador ou bombeiro hidráulico com encargos complementares","h",0.16500000000000001,15.019499999999999,{"$f":"IF(ISNUMBER(F927),E927*F927,\"\")","v":2.4782175},null,null,0]
[null,null,"Encanador ou Bombeiro Hidráulico com Encargos Complementares","h",0.16500000000000001,19.066499999999998,{"$f":"IF(ISNUMBER(F928),E928*F928,\"\")","v":3.1459724999999996},null,null,0]
[null,null,null,null,null,"",{"$f":"IF(ISNUMBER(F929),E929*F929,\"\")","v":""},null,null,0]
["SF-00169",{"$f":"INDEX(Orçamentária!A:B,MATCH(Composições!A930,Orçamentária!A:A,0),2)","v":"Tubo PVC esgoto ou aguas pluviais predial DN 50mm"},null,{"$f":"TRIM(INDEX(Orçamentária!C:C,MATCH(Composições!A930,Orçamentária!A:A,0),1))","v":"m"},null,"",{"$f":"IF(ISNUMBER(F930),E930*F930,\"\")","v":""},null,null,0]
[null,null,null,null,null,"",{"$f":"IF(ISNUMBER(F931),E931*F931,\"\")","v":""},null,null,0]
[null,null,"Adesivo plastico para PVC, frasco com 850 gr","un",1.2800000000000001E-2,54.235500000000002,{"$f":"IF(ISNUMBER(F932),E932*F932,\"\")","v":0.69421440000000001},{"$f":"SUM(G932:G937)","v":18.968190199999995},null,0]
[null,null,"Tubo PVC, serie R, DN 50 mm, para esgoto ou aguas pluviais predial (NBR 5688)","m",1.04,9.7564999999999991,{"$f":"IF(ISNUMBER(F933),E933*F933,\"\")","v":10.146759999999999},null,null,0]
[null,null,"Solucao limpadora para PVC, frasco com 1000 cm3","un",1.9300000000000001E-2,47.100999999999999,{"$f":"IF(ISNUMBER(F934),E934*F934,\"\")","v":0.90904930000000006},null,null,0]
[null,null,"Lixa d'agua em folha, grao 100","un",3.6999999999999998E-2,1.6244999999999998,{"$f":"IF(ISNUMBER(F935),E935*F935,\"\")","v":6.0106499999999993E-2},null,null,0]
[null,null,"Auxiliar de encanador ou bombeiro hidráulico com encargos complementares","h",0.21,15.019499999999999,{"$f":"IF(ISNUMBER(F936),E936*F936,\"\")","v":3.1540949999999999},null,null,0]
[null,null,"Encanador ou Bombeiro Hidráulico com Encargos Complementares","h",0.21,19.066499999999998,{"$f":"IF(ISNUMBER(F937),E937*F937,\"\")","v":4.0039649999999991},null,null,0]
[null,null,null,null,null,"",{"$f":"IF(ISNUMBER(F938),E938*F938,\"\")","v":""},null,null,0]
["SF-00170",{"$f":"INDEX(Orçamentária!A:B,MATCH(Composições!A939,Orçamentária!A:A,0),2)","v":"Tubo PVC esgoto ou aguas pluviais predial DN 75mm"},null,{"$f":"TRIM(INDEX(Orçamentária!C:C,MATCH(Composições!A939,Orçamentária!A:A,0),1))","v":"m"},null,"",{"$f":"IF(ISNUMBER(F939),E939*F939,\"\")","v":""},null,null,0]
[null,null,null,null,null,"",{"$f":"IF(ISNUMBER(F940),E940*F940,\"\")","v":""},null,null,0]
[null,null,"Adesivo plastico para PVC, frasco com 850 gr","un",2.93E-2,54.235500000000002,{"$f":"IF(ISNUMBER(F941),E941*F941,\"\")","v":1.5891001499999999},{"$f":"SUM(G941:G946)","v":28.294763900000003},null,0]
[null,null,"Tubo PVC, serie R, DN 75 mm, para esgoto ou aguas pluviais predial (NBR 5688)","m",1.04,12.7965,{"$f":"IF(ISNUMBER(F942),E942*F942,\"\")","v":13.30836},null,null,0]
[null,null,"Solucao limpadora para PVC, frasco com 1000 cm3","un",4.5499999999999999E-2,47.100999999999999,{"$f":"IF(ISNUMBER(F943),E943*F943,\"\")","v":2.1430954999999998},null,null,0]
[null,null,"Lixa d'agua em folha, grao 100","un",0.1085,1.6244999999999998,{"$f":"IF(ISNUMBER(F944),E944*F944,\"\")","v":0.17625824999999998},null,null,0]
[null,null,"Auxiliar de encanador ou bombeiro hidráulico com encargos complementares","h",0.32500000000000001,15.019499999999999,{"$f":"IF(ISNUMBER(F945),E945*F945,\"\")","v":4.8813374999999999},null,null,0]
[null,null,"Encanador ou Bombeiro Hidráulico com Encargos Complementares","h",0.32500000000000001,19.066499999999998,{"$f":"IF(ISNUMBER(F946),E946*F946,\"\")","v":6.1966124999999996},null,null,0]
[null,null,null,null,null,"",{"$f":"IF(ISNUMBER(F947),E947*F947,\"\")","v":""},null,null,0]
["SF-00171",{"$f":"INDEX(Orçamentária!A:B,MATCH(Composições!A948,Orçamentária!A:A,0),2)","v":"Tubo PVC soldável agua fria DN 25mm"},null,{"$f":"TRIM(INDEX(Orçamentária!C:C,MATCH(Composições!A948,Orçamentária!A:A,0),1))","v":"m"},null,"",{"$f":"IF(ISNUMBER(F948),E948*F948,\"\")","v":""},null,null,0]
[null,null,null,null,null,"",{"$f":"IF(ISNUMBER(F949),E949*F949,\"\")","v":""},null,null,0]
[null,null,"Tubo PVC, soldavel, DN 25 mm, agua fria (NBR-5648)","m",1.0609999999999999,2.6505000000000001,{"$f":"IF(ISNUMBER(F950),E950*F950,\"\")","v":2.8121804999999997},{"$f":"SUM(G950:G952)","v":3.3575564999999994},null,0]
[null,null,"Auxiliar de encanador ou bombeiro hidráulico com encargos complementares","h",1.6E-2,15.019499999999999,{"$f":"IF(ISNUMBER(F951),E951*F951,\"\")","v":0.240312},null,null,0]
[null,null,"Encanador ou Bombeiro Hidráulico com Encargos Complementares","h",1.6E-2,19.066499999999998,{"$f":"IF(ISNUMBER(F952),E952*F952,\"\")","v":0.30506399999999995},null,null,0]
[null,null,null,null,null,"",{"$f":"IF(ISNUMBER(F953),E953*F953,\"\")","v":""},null,null,0]
["SF-00172",{"$f":"INDEX(Orçamentária!A:B,MATCH(Composições!A954,Orçamentária!A:A,0),2)","v":"Tubo PVC soldável agua fria DN 32mm"},null,{"$f":"TRIM(INDEX(Orçamentária!C:C,MATCH(Composições!A954,Orçamentária!A:A,0),1))","v":"m"},null,"",{"$f":"IF(ISNUMBER(F954),E954*F954,\"\")","v":""},null,null,0]
[null,null,null,null,null,"",{"$f":"IF(ISNUMBER(F955),E955*F955,\"\")","v":""},null,null,0]
[null,null,"Tubo PVC, soldavel, DN 32 mm, agua fria (NBR-5648)","m",1.0609999999999999,5.9469999999999992,{"$f":"IF(ISNUMBER(F956),E956*F956,\"\")","v":6.309766999999999},{"$f":"SUM(G956:G958)","v":6.9914869999999993},null,0]
[null,null,"Auxiliar de encanador ou bombeiro hidráulico com encargos complementares","h",0.02,15.019499999999999,{"$f":"IF(ISNUMBER(F957),E957*F957,\"\")","v":0.30038999999999999},null,null,0]
[null,null,"Encanador ou Bombeiro Hidráulico com Encargos Complementares","h",0.02,19.066499999999998,{"$f":"IF(ISNUMBER(F958),E958*F958,\"\")","v":0.38132999999999995},null,null,0]
[null,null,null,null,null,"",{"$f":"IF(ISNUMBER(F959),E959*F959,\"\")","v":""},null,null,0]
["SF-00173",{"$f":"INDEX(Orçamentária!A:B,MATCH(Composições!A960,Orçamentária!A:A,0),2)","v":"Tubo PVC soldável agua fria DN 40mm"},null,{"$f":"TRIM(INDEX(Orçamentária!C:C,MATCH(Composições!A960,Orçamentária!A:A,0),1))","v":"m"},null,"",{"$f":"IF(ISNUMBER(F960),E960*F960,\"\")","v":""},null,null,0]
[null,null,null,null,null,"",{"$f":"IF(ISNUMBER(F961),E961*F961,\"\")","v":""},null,null,0]
[null,null,"Tubo PVC, soldavel, DN 40 mm, agua fria (NBR-5648)","m",1.0609999999999999,8.6639999999999997,{"$f":"IF(ISNUMBER(F962),E962*F962,\"\")","v":9.1925039999999996},{"$f":"SUM(G962:G965)","v":10.023563999999999},null,0]
[null,null,"Lixa d'agua em folha, grao 100","un",8.0000000000000002E-3,1.6244999999999998,{"$f":"IF(ISNUMBER(F963),E963*F963,\"\")","v":1.2995999999999999E-2},null,null,0]
[null,null,"Auxiliar de encanador ou bombeiro hidráulico com encargos complementares","h",2.4E-2,15.019499999999999,{"$f":"IF(ISNUMBER(F964),E964*F964,\"\")","v":0.36046799999999996},null,null,0]
[null,null,"Encanador ou Bombeiro Hidráulico com Encargos Complementares","h",2.4E-2,19.066499999999998,{"$f":"IF(ISNUMBER(F965),E965*F965,\"\")","v":0.45759599999999995},null,null,0]
[null,null,null,null,null,"",{"$f":"IF(ISNUMBER(F966),E966*F966,\"\")","v":""},null,null,0]
["SF-00174",{"$f":"INDEX(Orçamentária!A:B,MATCH(Composições!A967,Orçamentária!A:A,0),2)","v":"Tubo PVC soldável agua fria DN 50mm"},null,{"$f":"TRIM(INDEX(Orçamentária!C:C,MATCH(Composições!A967,Orçamentária!A:A,0),1))","v":"m"},null,"",{"$f":"IF(ISNUMBER(F967),E967*F967,\"\")","v":""},null,null,0]
[null,null,null,null,null,"",{"$f":"IF(ISNUMBER(F968),E968*F968,\"\")","v":""},null,null,0]
[null,null,"TUBO PVC, SOLDAVEL, DN 50 MM, PARA AGUA FRIA (NBR-5648)","m",1.0609999999999999,9.9274999999999984,{"$f":"IF(ISNUMBER(F969),E969*F969,\"\")","v":10.533077499999997},{"$f":"SUM(G969:G972)","v":11.537816499999996},null,0]
[null,null,"Lixa d'agua em folha, grao 100","un",0.01,1.6244999999999998,{"$f":"IF(ISNUMBER(F970),E970*F970,\"\")","v":1.6244999999999999E-2},null,null,0]
[null,null,"Auxiliar de encanador ou bombeiro hidráulico com encargos complementares","h",2.9000000000000001E-2,15.019499999999999,{"$f":"IF(ISNUMBER(F971),E971*F971,\"\")","v":0.43556549999999999},null,null,0]
[null,null,"Encanador ou Bombeiro Hidráulico com Encargos Complementares","h",2.9000000000000001E-2,19.066499999999998,{"$f":"IF(ISNUMBER(F972),E972*F972,\"\")","v":0.55292849999999993},null,null,0]
[null,null,null,null,null,"",{"$f":"IF(ISNUMBER(F973),E973*F973,\"\")","v":""},null,null,0]
["SF-00175",{"$f":"INDEX(Orçamentária!A:B,MATCH(Composições!A974,Orçamentária!A:A,0),2)","v":"Base registro gaveta 3/4\""},null,{"$f":"TRIM(INDEX(Orçamentária!C:C,MATCH(Composições!A974,Orçamentária!A:A,0),1))","v":"un"},null,"",{"$f":"IF(ISNUMBER(F974),E974*F974,\"\")","v":""},null,null,0]
[null,null,null,null,null,"",{"$f":"IF(ISNUMBER(F975),E975*F975,\"\")","v":""},null,null,0]
[null,null,"Base registro gaveta 3/4\" em liga de cobre, mod 4509.202 ref: DECA ou equivalente","un ",1,"",{"$f":"IF(ISNUMBER(F976),E976*F976,\"\")","v":""},{"$f":"SUM(G976:G979)","v":9.3269574999999989},null,0]
[null,null,"FITA VEDA ROSCA EM ROLOS DE 18 MM X 50 M (L X C)","UN",1.2999999999999999E-2,11.7325,{"$f":"IF(ISNUMBER(F977),E977*F977,\"\")","v":0.15252250000000001},null,null,0]
[null,null,"Encanador ou Bombeiro Hidráulico com Encargos Complementares","h",0.3,19.066499999999998,{"$f":"IF(ISNUMBER(F978),E978*F978,\"\")","v":5.719949999999999},null,null,0]
[null,null,"Auxiliar de encanador ou bombeiro hidráulico com encargos complementares","h",0.23,15.019499999999999,{"$f":"IF(ISNUMBER(F979),E979*F979,\"\")","v":3.454485},null,null,0]
[null,null,null,null,null,"",{"$f":"IF(ISNUMBER(F980),E980*F980,\"\")","v":""},null,null,0]
["SF-00176",{"$f":"INDEX(Orçamentária!A:B,MATCH(Composições!A981,Orçamentária!A:A,0),2)","v":"Caixa sifonada de PVC DN 150mm"},null,{"$f":"TRIM(INDEX(Orçamentária!C:C,MATCH(Composições!A981,Orçamentária!A:A,0),1))","v":"un"},null,"",{"$f":"IF(ISNUMBER(F981),E981*F981,\"\")","v":""},null,null,0]
[null,null,null,null,null,"",{"$f":"IF(ISNUMBER(F982),E982*F982,\"\")","v":""},null,null,0]
[null,null,"Auxiliar de encanador ou bombeiro hidráulico com encargos complementares","h",0.38,15.019499999999999,{"$f":"IF(ISNUMBER(F983),E983*F983,\"\")","v":5.7074099999999994},{"$f":"SUM(G983:G990)","v":52.619884400000004},null,0]
[null,null,"Encanador ou Bombeiro Hidráulico com Encargos Complementares","h",0.38,19.066499999999998,{"$f":"IF(ISNUMBER(F984),E984*F984,\"\")","v":7.2452699999999997},null,null,0]
[null,null,"Adesivo plastico para PVC, frasco com 850 gr","un",1.4800000000000001E-2,54.235500000000002,{"$f":"IF(ISNUMBER(F985),E985*F985,\"\")","v":0.8026854000000001},null,null,0]
[null,null,"Anel borracha para tubo esgoto predial DN 75 mm (NBR 5688)","un",1,1.6054999999999999,{"$f":"IF(ISNUMBER(F986),E986*F986,\"\")","v":1.6054999999999999},null,null,0]
[null,null,"Lixa d'agua em folha, grao 100","un",5.7000000000000002E-2,1.6244999999999998,{"$f":"IF(ISNUMBER(F987),E987*F987,\"\")","v":9.2596499999999998E-2},null,null,0]
[null,null,"Caixa sifonada PVC, 150 x 185 x 75 mm, com grelha quadrada branca","un",1,35.511000000000003,{"$f":"IF(ISNUMBER(F988),E988*F988,\"\")","v":35.511000000000003},null,null,0]
[null,null,"Pasta lubrificante para tubos e conexoes com junta elastica (uso em PVC, aco, polietileno e outros) ( de *400* g)","un",0.03,19.854999999999997,{"$f":"IF(ISNUMBER(F989),E989*F989,\"\")","v":0.5956499999999999},null,null,0]
[null,null,"Solucao limpadora para PVC, frasco com 1000 cm3","un",2.2499999999999999E-2,47.100999999999999,{"$f":"IF(ISNUMBER(F990),E990*F990,\"\")","v":1.0597725},null,null,0]
[null,null,null,null,null,"",{"$f":"IF(ISNUMBER(F991),E991*F991,\"\")","v":""},null,null,0]
["SF-00177",{"$f":"INDEX(Orçamentária!A:B,MATCH(Composições!A992,Orçamentária!A:A,0),2)","v":"Caixa sifonada de PVC DN 250mm"},null,{"$f":"TRIM(INDEX(Orçamentária!C:C,MATCH(Composições!A992,Orçamentária!A:A,0),1))","v":"un"},null,"",{"$f":"IF(ISNUMBER(F992),E992*F992,\"\")","v":""},null,null,0]
[null,null,null,null,null,"",{"$f":"IF(ISNUMBER(F993),E993*F993,\"\")","v":""},null,null,0]
[null,null,"Auxiliar de encanador ou bombeiro hidráulico com encargos complementares","h",0.38,15.019499999999999,{"$f":"IF(ISNUMBER(F994),E994*F994,\"\")","v":5.7074099999999994},{"$f":"SUM(G994:G1001)","v":90.553384399999999},null,0]
[null,null,"Encanador ou Bombeiro Hidráulico com Encargos Complementares","h",0.38,19.066499999999998,{"$f":"IF(ISNUMBER(F995),E995*F995,\"\")","v":7.2452699999999997},null,null,0]
[null,null,"Adesivo plastico para PVC, frasco com 850 gr","un",1.4800000000000001E-2,54.235500000000002,{"$f":"IF(ISNUMBER(F996),E996*F996,\"\")","v":0.8026854000000001},null,null,0]
[null,null,"Anel borracha para tubo esgoto predial DN 75 mm (NBR 5688)","un",1,1.6054999999999999,{"$f":"IF(ISNUMBER(F997),E997*F997,\"\")","v":1.6054999999999999},null,null,0]
[null,null,"Lixa d'agua em folha, grao 100","un",5.7000000000000002E-2,1.6244999999999998,{"$f":"IF(ISNUMBER(F998),E998*F998,\"\")","v":9.2596499999999998E-2},null,null,0]
[null,null,"CAIXA SIFONADA PVC, 250 X 230 X 75 MM, COM TAMPA E PORTA TAMPA QUADRADA BRANCA","un",1,73.444500000000005,{"$f":"IF(ISNUMBER(F999),E999*F999,\"\")","v":73.444500000000005},null,null,0]
[null,null,"Pasta lubrificante para tubos e conexoes com junta elastica (uso em PVC, aco, polietileno e outros) ( de *400* g)","un",0.03,19.854999999999997,{"$f":"IF(ISNUMBER(F1000),E1000*F1000,\"\")","v":0.5956499999999999},null,null,0]
[null,null,"Solucao limpadora para PVC, frasco com 1000 cm3","un",2.2499999999999999E-2,47.100999999999999,{"$f":"IF(ISNUMBER(F1001),E1001*F1001,\"\")","v":1.0597725},null,null,0]
[null,null,null,null,null,"",{"$f":"IF(ISNUMBER(F1002),E1002*F1002,\"\")","v":""},null,null,0]
["SF-00178",{"$f":"INDEX(Orçamentária!A:B,MATCH(Composições!A1003,Orçamentária!A:A,0),2)","v":"Grelha quadrada para ralo 10x10cm"},null,{"$f":"TRIM(INDEX(Orçamentária!C:C,MATCH(Composições!A1003,Orçamentária!A:A,0),1))","v":"un"},null,"",{"$f":"IF(ISNUMBER(F1003),E1003*F1003,\"\")","v":""},null,null,0]
[null,null,null,null,null,"",{"$f":"IF(ISNUMBER(F1004),E1004*F1004,\"\")","v":""},null,null,0]
[null,null,"Grelha quadrada para ralo, com caixilho, dimensões 10x10cm, em Aço polido, ref.: Moldenox ou equivalente","un ",1,"",{"$f":"IF(ISNUMBER(F1005),E1005*F1005,\"\")","v":""},{"$f":"SUM(G1005:G1006)","v":2.1831},null,0]
[null,null,"Servente com Encargos Complementares","h",0.15,14.554,{"$f":"IF(ISNUMBER(F1006),E1006*F1006,\"\")","v":2.1831},null,null,0]
[null,null,null,null,null,"",{"$f":"IF(ISNUMBER(F1007),E1007*F1007,\"\")","v":""},null,null,0]
["SF-00179",{"$f":"INDEX(Orçamentária!A:B,MATCH(Composições!A1008,Orçamentária!A:A,0),2)","v":"Grelha quadrada para ralo 15x15cm"},null,{"$f":"TRIM(INDEX(Orçamentária!C:C,MATCH(Composições!A1008,Orçamentária!A:A,0),1))","v":"un"},null,"",{"$f":"IF(ISNUMBER(F1008),E1008*F1008,\"\")","v":""},null,null,0]
[null,null,null,null,null,"",{"$f":"IF(ISNUMBER(F1009),E1009*F1009,\"\")","v":""},null,null,0]
[null,null,"Grelha quadrada para ralo, com caixilho, dimensões 15x15cm, em Aço polido, ref.: Moldenox ou equivalente","un ",1,"",{"$f":"IF(ISNUMBER(F1010),E1010*F1010,\"\")","v":""},{"$f":"SUM(G1010:G1011)","v":2.1831},null,0]
[null,null,"Servente com Encargos Complementares","h",0.15,14.554,{"$f":"IF(ISNUMBER(F1011),E1011*F1011,\"\")","v":2.1831},null,null,0]
[null,null,null,null,null,"",{"$f":"IF(ISNUMBER(F1012),E1012*F1012,\"\")","v":""},null,null,0]
["SF-00180",{"$f":"INDEX(Orçamentária!A:B,MATCH(Composições!A1013,Orçamentária!A:A,0),2)","v":"Ralo seco PVC DN 100x40mm"},null,{"$f":"TRIM(INDEX(Orçamentária!C:C,MATCH(Composições!A1013,Orçamentária!A:A,0),1))","v":"un"},null,"",{"$f":"IF(ISNUMBER(F1013),E1013*F1013,\"\")","v":""},null,null,0]
[null,null,null,null,null,"",{"$f":"IF(ISNUMBER(F1014),E1014*F1014,\"\")","v":""},null,null,0]
[null,null,"Auxiliar de encanador ou bombeiro hidráulico com encargos complementares","h",7.0000000000000007E-2,15.019499999999999,{"$f":"IF(ISNUMBER(F1015),E1015*F1015,\"\")","v":1.0513650000000001},{"$f":"SUM(G1015:G1020)","v":8.6661479500000009},null,0]
[null,null,"Encanador ou Bombeiro Hidráulico com Encargos Complementares","h",7.0000000000000007E-2,19.066499999999998,{"$f":"IF(ISNUMBER(F1016),E1016*F1016,\"\")","v":1.3346549999999999},null,null,0]
[null,null,"Adesivo plastico para PVC, frasco com 850 gr","un",4.8999999999999998E-3,54.235500000000002,{"$f":"IF(ISNUMBER(F1017),E1017*F1017,\"\")","v":0.26575395000000002},null,null,0]
[null,null,"Lixa d'agua em folha, grao 100","un",1.7000000000000001E-2,1.6244999999999998,{"$f":"IF(ISNUMBER(F1018),E1018*F1018,\"\")","v":2.7616499999999999E-2},null,null,0]
[null,null,"Ralo seco PVC conico, 100 x 40 mm,  com grelha redonda branca","un",1,5.6334999999999997,{"$f":"IF(ISNUMBER(F1019),E1019*F1019,\"\")","v":5.6334999999999997},null,null,0]
[null,null,"Solucao limpadora para PVC, frasco com 1000 cm3","un",7.4999999999999997E-3,47.100999999999999,{"$f":"IF(ISNUMBER(F1020),E1020*F1020,\"\")","v":0.3532575},null,null,0]
[null,null,null,null,null,"",{"$f":"IF(ISNUMBER(F1021),E1021*F1021,\"\")","v":""},null,null,0]
["SF-00181",{"$f":"INDEX(Orçamentária!A:B,MATCH(Composições!A1022,Orçamentária!A:A,0),2)","v":"Assento para bacia convencional – Linha Administrativa"},null,{"$f":"TRIM(INDEX(Orçamentária!C:C,MATCH(Composições!A1022,Orçamentária!A:A,0),1))","v":"un"},null,"",{"$f":"IF(ISNUMBER(F1022),E1022*F1022,\"\")","v":""},null,null,0]
[null,null,null,null,null,"",{"$f":"IF(ISNUMBER(F1023),E1023*F1023,\"\")","v":""},null,null,0]
[null,null,"Assento poliéster com fixação cromada na cor branco gelo, ref: AP.75.17 – Linha Fast/Aspen – Deca ou equivalente","un ",1,"",{"$f":"IF(ISNUMBER(F1024),E1024*F1024,\"\")","v":""},{"$f":"SUM(G1024:G1025)","v":1.4554},null,0]
[null,null,"Servente com Encargos Complementares","h",0.1,14.554,{"$f":"IF(ISNUMBER(F1025),E1025*F1025,\"\")","v":1.4554},null,null,0]
[null,null,null,null,null,"",{"$f":"IF(ISNUMBER(F1026),E1026*F1026,\"\")","v":""},null,null,0]
["SF-00182",{"$f":"INDEX(Orçamentária!A:B,MATCH(Composições!A1027,Orçamentária!A:A,0),2)","v":"Bacia convencional – Linha Administrativa"},null,{"$f":"TRIM(INDEX(Orçamentária!C:C,MATCH(Composições!A1027,Orçamentária!A:A,0),1))","v":"un"},null,"",{"$f":"IF(ISNUMBER(F1027),E1027*F1027,\"\")","v":""},null,null,0]
[null,null,null,null,null,"",{"$f":"IF(ISNUMBER(F1028),E1028*F1028,\"\")","v":""},null,null,0]
[null,null,"Bacia sanitaria (vaso) convencional de louca branca","UN",1,110.1525,{"$f":"IF(ISNUMBER(F1029),E1029*F1029,\"\")","v":110.1525},{"$f":"SUM(G1029:G1035)","v":165.51424305},null,0]
[null,null,"Tubo de ligação para bacia sanitária em PVC, com acabamento cromado, ajustável ou não. Ref.: DECA 1968C ou equivalente","un",1,"",{"$f":"IF(ISNUMBER(F1030),E1030*F1030,\"\")","v":""},null,null,0]
[null,null,"Parafuso niquelado com acabamento cromado para fixar peca sanitaria, inclui porca cega, arruela e bucha de nylon tamanho S-10","UN",2,17.270999999999997,{"$f":"IF(ISNUMBER(F1031),E1031*F1031,\"\")","v":34.541999999999994},null,null,0]
[null,null,"Vedacao PVC, 100 mm, para saida vaso sanitario","un",1,1.7765,{"$f":"IF(ISNUMBER(F1032),E1032*F1032,\"\")","v":1.7765},null,null,0]
[null,null,"Rejunte epoxi, qualquer cor","kg",8.8099999999999998E-2,50.511499999999998,{"$f":"IF(ISNUMBER(F1033),E1033*F1033,\"\")","v":4.4500631500000001},null,null,0]
[null,null,"Encanador ou Bombeiro Hidráulico com Encargos Complementares","h",0.49859999999999999,19.066499999999998,{"$f":"IF(ISNUMBER(F1034),E1034*F1034,\"\")","v":9.5065568999999979},null,null,0]
[null,null,"Servente com Encargos Complementares","h",0.34949999999999998,14.554,{"$f":"IF(ISNUMBER(F1035),E1035*F1035,\"\")","v":5.0866229999999995},null,null,0]
[null,null,null,null,null,"",{"$f":"IF(ISNUMBER(F1036),E1036*F1036,\"\")","v":""},null,null,0]
["SF-00183",{"$f":"INDEX(Orçamentária!A:B,MATCH(Composições!A1037,Orçamentária!A:A,0),2)","v":"Bacia convencional com saída horizontal"},null,{"$f":"TRIM(INDEX(Orçamentária!C:C,MATCH(Composições!A1037,Orçamentária!A:A,0),1))","v":"un"},null,"",{"$f":"IF(ISNUMBER(F1037),E1037*F1037,\"\")","v":""},null,null,0]
[null,null,null,null,null,"",{"$f":"IF(ISNUMBER(F1038),E1038*F1038,\"\")","v":""},null,null,0]
[null,null,"Bacia convencional com saída horizontal (Modelo P.90.17 – Linha Ravena – Deca)","un ",1,"",{"$f":"IF(ISNUMBER(F1039),E1039*F1039,\"\")","v":""},{"$f":"SUM(G1039:G1044)","v":55.361743049999987},null,0]
[null,null,"Parafuso niquelado com acabamento cromado para fixar peca sanitaria, inclui porca cega, arruela e bucha de nylon tamanho S-10","UN",2,17.270999999999997,{"$f":"IF(ISNUMBER(F1040),E1040*F1040,\"\")","v":34.541999999999994},null,null,0]
[null,null,"Vedacao PVC, 100 mm, para saida vaso sanitario","un",1,1.7765,{"$f":"IF(ISNUMBER(F1041),E1041*F1041,\"\")","v":1.7765},null,null,0]
[null,null,"Rejunte epoxi, qualquer cor","kg",8.8099999999999998E-2,50.511499999999998,{"$f":"IF(ISNUMBER(F1042),E1042*F1042,\"\")","v":4.4500631500000001},null,null,0]
[null,null,"Encanador ou Bombeiro Hidráulico com Encargos Complementares","h",0.49859999999999999,19.066499999999998,{"$f":"IF(ISNUMBER(F1043),E1043*F1043,\"\")","v":9.5065568999999979},null,null,0]
[null,null,"Servente com Encargos Complementares","h",0.34949999999999998,14.554,{"$f":"IF(ISNUMBER(F1044),E1044*F1044,\"\")","v":5.0866229999999995},null,null,0]
[null,null,null,null,null,"",{"$f":"IF(ISNUMBER(F1045),E1045*F1045,\"\")","v":""},null,null,0]
["SF-00184",{"$f":"INDEX(Orçamentária!A:B,MATCH(Composições!A1046,Orçamentária!A:A,0),2)","v":"Cuba oval de embutir"},null,{"$f":"TRIM(INDEX(Orçamentária!C:C,MATCH(Composições!A1046,Orçamentária!A:A,0),1))","v":"un"},null,"",{"$f":"IF(ISNUMBER(F1046),E1046*F1046,\"\")","v":""},null,null,0]
[null,null,null,null,null,"",{"$f":"IF(ISNUMBER(F1047),E1047*F1047,\"\")","v":""},null,null,0]
[null,null,"Cuba oval de embutir, mod.: L37, cor branca ref: DECA ou equivalente","un ",1,"",{"$f":"IF(ISNUMBER(F1048),E1048*F1048,\"\")","v":""},{"$f":"SUM(G1048:G1051)","v":31.085906649999998},null,0]
[null,null,"Massa plastica para marmore/granito","kg",0.52710000000000001,25.412499999999998,{"$f":"IF(ISNUMBER(F1049),E1049*F1049,\"\")","v":13.39492875},null,null,0]
[null,null,"Servente com Encargos Complementares","h",0.26650000000000001,14.554,{"$f":"IF(ISNUMBER(F1050),E1050*F1050,\"\")","v":3.8786410000000004},null,null,0]
[null,null,"Marmorista/graniteiro com encargos complementares","h",0.8458,16.330500000000001,{"$f":"IF(ISNUMBER(F1051),E1051*F1051,\"\")","v":13.8123369},null,null,0]
[null,null,null,null,null,"",{"$f":"IF(ISNUMBER(F1052),E1052*F1052,\"\")","v":""},null,null,0]
["SF-00185",{"$f":"INDEX(Orçamentária!A:B,MATCH(Composições!A1053,Orçamentária!A:A,0),2)","v":"Cuba retangular em aço inox – Linha Administrativa"},null,{"$f":"TRIM(INDEX(Orçamentária!C:C,MATCH(Composições!A1053,Orçamentária!A:A,0),1))","v":"un"},null,"",{"$f":"IF(ISNUMBER(F1053),E1053*F1053,\"\")","v":""},null,null,0]
[null,null,null,null,null,"",{"$f":"IF(ISNUMBER(F1054),E1054*F1054,\"\")","v":""},null,null,0]
[null,null,"Cuba retangular com as dimensões 0,34x0,40x0,18m, em aço Inox AISI 304 com acabamento em alto brilho, com válvula de escoamento, ref: Franke 12646 ou equivalente","un ",1,"",{"$f":"IF(ISNUMBER(F1055),E1055*F1055,\"\")","v":""},{"$f":"SUM(G1055:G1058)","v":17.542779799999998},null,0]
[null,null,"Massa plastica para marmore/granito","kg",0.2974,25.412499999999998,{"$f":"IF(ISNUMBER(F1056),E1056*F1056,\"\")","v":7.5576774999999996},null,null,0]
[null,null,"Marmorista/graniteiro com encargos complementares","h",0.47739999999999999,16.330500000000001,{"$f":"IF(ISNUMBER(F1057),E1057*F1057,\"\")","v":7.7961806999999999},null,null,0]
[null,null,"Servente com Encargos Complementares","h",0.15040000000000001,14.554,{"$f":"IF(ISNUMBER(F1058),E1058*F1058,\"\")","v":2.1889216},null,null,0]
[null,null,null,null,null,"",{"$f":"IF(ISNUMBER(F1059),E1059*F1059,\"\")","v":""},null,null,0]
["SF-00186",{"$f":"INDEX(Orçamentária!A:B,MATCH(Composições!A1060,Orçamentária!A:A,0),2)","v":"Cuba semiencaixe quadrada com mesa"},null,{"$f":"TRIM(INDEX(Orçamentária!C:C,MATCH(Composições!A1060,Orçamentária!A:A,0),1))","v":"un"},null,"",{"$f":"IF(ISNUMBER(F1060),E1060*F1060,\"\")","v":""},null,null,0]
[null,null,null,null,null,"",{"$f":"IF(ISNUMBER(F1061),E1061*F1061,\"\")","v":""},null,null,0]
[null,null,"Cuba semi-encaixe com mesa, mod.: L830 ref: DECA ou equivalente","un ",1,"",{"$f":"IF(ISNUMBER(F1062),E1062*F1062,\"\")","v":""},{"$f":"SUM(G1062:G1065)","v":31.085906649999998},null,0]
[null,null,"Massa plastica para marmore/granito","kg",0.52710000000000001,25.412499999999998,{"$f":"IF(ISNUMBER(F1063),E1063*F1063,\"\")","v":13.39492875},null,null,0]
[null,null,"Servente com Encargos Complementares","h",0.26650000000000001,14.554,{"$f":"IF(ISNUMBER(F1064),E1064*F1064,\"\")","v":3.8786410000000004},null,null,0]
[null,null,"Marmorista/graniteiro com encargos complementares","h",0.8458,16.330500000000001,{"$f":"IF(ISNUMBER(F1065),E1065*F1065,\"\")","v":13.8123369},null,null,0]
[null,null,null,null,null,"",{"$f":"IF(ISNUMBER(F1066),E1066*F1066,\"\")","v":""},null,null,0]
["SF-00187",{"$f":"INDEX(Orçamentária!A:B,MATCH(Composições!A1067,Orçamentária!A:A,0),2)","v":"Instalação de lavatório reaproveitado"},null,{"$f":"TRIM(INDEX(Orçamentária!C:C,MATCH(Composições!A1067,Orçamentária!A:A,0),1))","v":"un"},null,"",{"$f":"IF(ISNUMBER(F1067),E1067*F1067,\"\")","v":""},null,null,0]
[null,null,null,null,null,"",{"$f":"IF(ISNUMBER(F1068),E1068*F1068,\"\")","v":""},null,null,0]
[null,null,"Parafuso niquelado 3 1/2\" com acabamento cromado para fixar peca sanitaria, inclui porca cega, arruela e bucha de nylon tamanho S-8","UN",2,12.805999999999999,{"$f":"IF(ISNUMBER(F1069),E1069*F1069,\"\")","v":25.611999999999998},{"$f":"SUM(G1069:G1072)","v":37.271169499999999},null,0]
[null,null,"Rejunte epoxi, qualquer cor","kg",3.04E-2,50.511499999999998,{"$f":"IF(ISNUMBER(F1070),E1070*F1070,\"\")","v":1.5355496},null,null,0]
[null,null,"Encanador ou Bombeiro Hidráulico com Encargos Complementares","h",0.38700000000000001,19.066499999999998,{"$f":"IF(ISNUMBER(F1071),E1071*F1071,\"\")","v":7.3787354999999994},null,null,0]
[null,null,"Servente com Encargos Complementares","h",0.18859999999999999,14.554,{"$f":"IF(ISNUMBER(F1072),E1072*F1072,\"\")","v":2.7448844000000001},null,null,0]
[null,null,null,null,null,"",{"$f":"IF(ISNUMBER(F1073),E1073*F1073,\"\")","v":""},null,null,0]
["SF-00188",{"$f":"INDEX(Orçamentária!A:B,MATCH(Composições!A1074,Orçamentária!A:A,0),2)","v":"Instalação de mictório reaproveitado"},null,{"$f":"TRIM(INDEX(Orçamentária!C:C,MATCH(Composições!A1074,Orçamentária!A:A,0),1))","v":"un"},null,"",{"$f":"IF(ISNUMBER(F1074),E1074*F1074,\"\")","v":""},null,null,0]
[null,null,null,null,null,"",{"$f":"IF(ISNUMBER(F1075),E1075*F1075,\"\")","v":""},null,null,0]
[null,null,"Parafuso niquelado 3 1/2\" com acabamento cromado para fixar peca sanitaria, inclui porca cega, arruela e bucha de nylon tamanho S-8","UN",2,12.805999999999999,{"$f":"IF(ISNUMBER(F1076),E1076*F1076,\"\")","v":25.611999999999998},{"$f":"SUM(G1076:G1079)","v":37.661296499999999},null,0]
[null,null,"Fita veda rosca em rolos de 18 mm x 10 m (L x C)","UN",3.6499999999999998E-2,3.1825000000000001,{"$f":"IF(ISNUMBER(F1077),E1077*F1077,\"\")","v":0.11616124999999999},null,null,0]
[null,null,"Servente com Encargos Complementares","h",{"$f":"ROUND(0.3179/2,4)","v":0.159},14.554,{"$f":"IF(ISNUMBER(F1078),E1078*F1078,\"\")","v":2.3140860000000001},null,null,0]
[null,null,"Encanador ou Bombeiro Hidráulico com Encargos Complementares","h",{"$f":"1.009/2","v":0.50449999999999995},19.066499999999998,{"$f":"IF(ISNUMBER(F1079),E1079*F1079,\"\")","v":9.619049249999998},null,null,0]
[null,null,null,null,null,"",{"$f":"IF(ISNUMBER(F1080),E1080*F1080,\"\")","v":""},null,null,0]
[null,null,"Obs.: Redução do coeficiente de MO, considerando que esse serviço não inclui engate flexível e válvula de descarga.",null,null,"",{"$f":"IF(ISNUMBER(F1081),E1081*F1081,\"\")","v":""},null,null,0]
[null,null,null,null,null,"",{"$f":"IF(ISNUMBER(F1082),E1082*F1082,\"\")","v":""},null,null,0]
["SF-00189",{"$f":"INDEX(Orçamentária!A:B,MATCH(Composições!A1083,Orçamentária!A:A,0),2)","v":"Instalação de vaso sanitário reaproveitado"},null,{"$f":"TRIM(INDEX(Orçamentária!C:C,MATCH(Composições!A1083,Orçamentária!A:A,0),1))","v":"un"},null,"",{"$f":"IF(ISNUMBER(F1083),E1083*F1083,\"\")","v":""},null,null,0]
[null,null,null,null,null,"",{"$f":"IF(ISNUMBER(F1084),E1084*F1084,\"\")","v":""},null,null,0]
[null,null,"Parafuso niquelado com acabamento cromado para fixar peca sanitaria, inclui porca cega, arruela e bucha de nylon tamanho S-10","UN",2,17.270999999999997,{"$f":"IF(ISNUMBER(F1085),E1085*F1085,\"\")","v":34.541999999999994},{"$f":"SUM(G1085:G1089)","v":55.327423349999989},null,0]
[null,null,"Vedacao PVC, 100 mm, para saida vaso sanitario","un",1,1.7765,{"$f":"IF(ISNUMBER(F1086),E1086*F1086,\"\")","v":1.7765},null,null,0]
[null,null,"Rejunte epoxi, qualquer cor","kg",8.8099999999999998E-2,50.511499999999998,{"$f":"IF(ISNUMBER(F1087),E1087*F1087,\"\")","v":4.4500631500000001},null,null,0]
[null,null,"Encanador ou Bombeiro Hidráulico com Encargos Complementares","h",0.49680000000000002,19.066499999999998,{"$f":"IF(ISNUMBER(F1088),E1088*F1088,\"\")","v":9.4722371999999986},null,null,0]
[null,null,"Servente com Encargos Complementares","h",0.34949999999999998,14.554,{"$f":"IF(ISNUMBER(F1089),E1089*F1089,\"\")","v":5.0866229999999995},null,null,0]
[null,null,null,null,null,"",{"$f":"IF(ISNUMBER(F1090),E1090*F1090,\"\")","v":""},null,null,0]
["SF-00190",{"$f":"INDEX(Orçamentária!A:B,MATCH(Composições!A1091,Orçamentária!A:A,0),2)","v":"Lavatório suspenso"},null,{"$f":"TRIM(INDEX(Orçamentária!C:C,MATCH(Composições!A1091,Orçamentária!A:A,0),1))","v":"un"},null,"",{"$f":"IF(ISNUMBER(F1091),E1091*F1091,\"\")","v":""},null,null,0]
[null,null,null,null,null,"",{"$f":"IF(ISNUMBER(F1092),E1092*F1092,\"\")","v":""},null,null,0]
[null,null,"Lavatorio louca branca suspenso *40 x 30* cm","UN",1,71.886499999999998,{"$f":"IF(ISNUMBER(F1093),E1093*F1093,\"\")","v":71.886499999999998},{"$f":"SUM(G1093:G1097)","v":109.1576695},null,0]
[null,null,"Parafuso niquelado 3 1/2\" com acabamento cromado para fixar peca sanitaria, inclui porca cega, arruela e bucha de nylon tamanho S-8","UN",2,12.805999999999999,{"$f":"IF(ISNUMBER(F1094),E1094*F1094,\"\")","v":25.611999999999998},null,null,0]
[null,null,"Rejunte epoxi, qualquer cor","kg",3.04E-2,50.511499999999998,{"$f":"IF(ISNUMBER(F1095),E1095*F1095,\"\")","v":1.5355496},null,null,0]
[null,null,"Encanador ou Bombeiro Hidráulico com Encargos Complementares","h",0.38700000000000001,19.066499999999998,{"$f":"IF(ISNUMBER(F1096),E1096*F1096,\"\")","v":7.3787354999999994},null,null,0]
[null,null,"Servente com Encargos Complementares","h",0.18859999999999999,14.554,{"$f":"IF(ISNUMBER(F1097),E1097*F1097,\"\")","v":2.7448844000000001},null,null,0]
[null,null,null,null,null,"",{"$f":"IF(ISNUMBER(F1098),E1098*F1098,\"\")","v":""},null,null,0]
["SF-00191",{"$f":"INDEX(Orçamentária!A:B,MATCH(Composições!A1099,Orçamentária!A:A,0),2)","v":"Mictório – Linha Administrativa"},null,{"$f":"TRIM(INDEX(Orçamentária!C:C,MATCH(Composições!A1099,Orçamentária!A:A,0),1))","v":"un"},null,"",{"$f":"IF(ISNUMBER(F1099),E1099*F1099,\"\")","v":""},null,null,0]
[null,null,null,null,null,"",{"$f":"IF(ISNUMBER(F1100),E1100*F1100,\"\")","v":""},null,null,0]
[null,null,"Mictorio sifonado louca branca sem complementos","UN",1,250.42000000000002,{"$f":"IF(ISNUMBER(F1101),E1101*F1101,\"\")","v":250.42000000000002},{"$f":"SUM(G1101:G1105)","v":288.109939},null,0]
[null,null,"Parafuso niquelado 3 1/2\" com acabamento cromado para fixar peca sanitaria, inclui porca cega, arruela e bucha de nylon tamanho S-8","UN",2,12.805999999999999,{"$f":"IF(ISNUMBER(F1102),E1102*F1102,\"\")","v":25.611999999999998},null,null,0]
[null,null,"Fita veda rosca em rolos de 18 mm x 10 m (L x C)","UN",{"$f":"0.076-0.0175-0.013","v":4.5499999999999999E-2},3.1825000000000001,{"$f":"IF(ISNUMBER(F1103),E1103*F1103,\"\")","v":0.14480375000000001},null,null,0]
[null,null,"Servente com Encargos Complementares","h",{"$f":"ROUND(0.3179/2,4)","v":0.159},14.554,{"$f":"IF(ISNUMBER(F1104),E1104*F1104,\"\")","v":2.3140860000000001},null,null,0]
[null,null,"Encanador ou Bombeiro Hidráulico com Encargos Complementares","h",{"$f":"1.009/2","v":0.50449999999999995},19.066499999999998,{"$f":"IF(ISNUMBER(F1105),E1105*F1105,\"\")","v":9.619049249999998},null,null,0]
[null,null,null,null,null,"",{"$f":"IF(ISNUMBER(F1106),E1106*F1106,\"\")","v":""},null,null,0]
[null,null,"Obs.: Redução do coeficiente de MO, considerando que esse serviço não inclui engate flexível e válvula de descarga.",null,null,"",{"$f":"IF(ISNUMBER(F1107),E1107*F1107,\"\")","v":""},null,null,0]
[null,null,null,null,null,"",{"$f":"IF(ISNUMBER(F1108),E1108*F1108,\"\")","v":""},null,null,0]
["SF-00192",{"$f":"INDEX(Orçamentária!A:B,MATCH(Composições!A1109,Orçamentária!A:A,0),2)","v":"Tanque 38 litros – Linha Administrativa"},null,{"$f":"TRIM(INDEX(Orçamentária!C:C,MATCH(Composições!A1109,Orçamentária!A:A,0),1))","v":"un"},null,"",{"$f":"IF(ISNUMBER(F1109),E1109*F1109,\"\")","v":""},null,null,0]
[null,null,null,null,null,"",{"$f":"IF(ISNUMBER(F1110),E1110*F1110,\"\")","v":""},null,null,0]
[null,null,"Tanque de louça com capacidade de 38 litros na cor branca, suspenso, sem coluna","un ",1,"",{"$f":"IF(ISNUMBER(F1111),E1111*F1111,\"\")","v":""},{"$f":"SUM(G1111:G1115)","v":73.893359799999985},null,0]
[null,null,"Parafuso niquelado 3 1/2\" com acabamento cromado para fixar peca sanitaria, inclui porca cega, arruela e bucha de nylon tamanho S-8","UN",4,12.805999999999999,{"$f":"IF(ISNUMBER(F1112),E1112*F1112,\"\")","v":51.223999999999997},null,null,0]
[null,null,"Rejunte epoxi, qualquer cor","kg",3.9E-2,50.511499999999998,{"$f":"IF(ISNUMBER(F1113),E1113*F1113,\"\")","v":1.9699484999999999},null,null,0]
[null,null,"Encanador ou Bombeiro Hidráulico com Encargos Complementares","h",0.8226,19.066499999999998,{"$f":"IF(ISNUMBER(F1114),E1114*F1114,\"\")","v":15.684102899999997},null,null,0]
[null,null,"Servente com Encargos Complementares","h",0.34460000000000002,14.554,{"$f":"IF(ISNUMBER(F1115),E1115*F1115,\"\")","v":5.0153084000000003},null,null,0]
[null,null,null,null,null,"",{"$f":"IF(ISNUMBER(F1116),E1116*F1116,\"\")","v":""},null,null,0]
["SF-00193",{"$f":"INDEX(Orçamentária!A:B,MATCH(Composições!A1117,Orçamentária!A:A,0),2)","v":"Acabamento para registro GD – Linha Administrativa"},null,{"$f":"TRIM(INDEX(Orçamentária!C:C,MATCH(Composições!A1117,Orçamentária!A:A,0),1))","v":"un"},null,"",{"$f":"IF(ISNUMBER(F1117),E1117*F1117,\"\")","v":""},null,null,0]
[null,null,null,null,null,"",{"$f":"IF(ISNUMBER(F1118),E1118*F1118,\"\")","v":""},null,null,0]
[null,null,"Acabamento para registro de gaveta de 1 ¼” a 1 ½” (GD), cromado. Ref.: Modelo 4900.C35.GD – Linha Aspen – Deca","un ",1,"",{"$f":"IF(ISNUMBER(F1119),E1119*F1119,\"\")","v":""},{"$f":"SUM(G1119:G1120)","v":1.5253199999999998},null,0]
[null,null,"Encanador ou Bombeiro Hidráulico com Encargos Complementares","h",0.08,19.066499999999998,{"$f":"IF(ISNUMBER(F1120),E1120*F1120,\"\")","v":1.5253199999999998},null,null,0]
[null,null,null,null,null,"",{"$f":"IF(ISNUMBER(F1121),E1121*F1121,\"\")","v":""},null,null,0]
["SF-00194",{"$f":"INDEX(Orçamentária!A:B,MATCH(Composições!A1122,Orçamentária!A:A,0),2)","v":"Acabamento para registro PQ – Linha Administrativa"},null,{"$f":"TRIM(INDEX(Orçamentária!C:C,MATCH(Composições!A1122,Orçamentária!A:A,0),1))","v":"un"},null,"",{"$f":"IF(ISNUMBER(F1122),E1122*F1122,\"\")","v":""},null,null,0]
[null,null,null,null,null,"",{"$f":"IF(ISNUMBER(F1123),E1123*F1123,\"\")","v":""},null,null,0]
[null,null,"Acabamento para registro de gaveta e pressão até 1” (PQ), cromado. Ref.: Modelo, 4900.C35.PQ – Linha Aspen – Deca","un ",1,"",{"$f":"IF(ISNUMBER(F1124),E1124*F1124,\"\")","v":""},{"$f":"SUM(G1124:G1125)","v":1.5253199999999998},null,0]
[null,null,"Encanador ou Bombeiro Hidráulico com Encargos Complementares","h",0.08,19.066499999999998,{"$f":"IF(ISNUMBER(F1125),E1125*F1125,\"\")","v":1.5253199999999998},null,null,0]
[null,null,null,null,null,"",{"$f":"IF(ISNUMBER(F1126),E1126*F1126,\"\")","v":""},null,null,0]
["SF-00195",{"$f":"INDEX(Orçamentária!A:B,MATCH(Composições!A1127,Orçamentária!A:A,0),2)","v":"Ducha higiênica – Linha Administrativa"},null,{"$f":"TRIM(INDEX(Orçamentária!C:C,MATCH(Composições!A1127,Orçamentária!A:A,0),1))","v":"un"},null,"",{"$f":"IF(ISNUMBER(F1127),E1127*F1127,\"\")","v":""},null,null,0]
[null,null,null,null,null,"",{"$f":"IF(ISNUMBER(F1128),E1128*F1128,\"\")","v":""},null,null,0]
[null,null,"Ducha higiênica com registro e derivação, com gatilho branco e flexível de 1,2m. Ref.: Modelo 1984.C35.ACT – Linha Aspen – Deca","un ",1,"",{"$f":"IF(ISNUMBER(F1129),E1129*F1129,\"\")","v":""},{"$f":"SUM(G1129:G1131)","v":17.042999999999999},null,0]
[null,null,"Encanador ou Bombeiro Hidráulico com Encargos Complementares","h",0.5,19.066499999999998,{"$f":"IF(ISNUMBER(F1130),E1130*F1130,\"\")","v":9.5332499999999989},null,null,0]
[null,null,"Auxiliar de encanador ou bombeiro hidráulico com encargos complementares","h",0.5,15.019499999999999,{"$f":"IF(ISNUMBER(F1131),E1131*F1131,\"\")","v":7.5097499999999995},null,null,0]
[null,null,null,null,null,"",{"$f":"IF(ISNUMBER(F1132),E1132*F1132,\"\")","v":""},null,null,0]
["SF-00196",{"$f":"INDEX(Orçamentária!A:B,MATCH(Composições!A1133,Orçamentária!A:A,0),2)","v":"Instalação de metais e acessórios reaproveitados"},null,{"$f":"TRIM(INDEX(Orçamentária!C:C,MATCH(Composições!A1133,Orçamentária!A:A,0),1))","v":"un"},null,"",{"$f":"IF(ISNUMBER(F1133),E1133*F1133,\"\")","v":""},null,null,0]
[null,null,null,null,null,"",{"$f":"IF(ISNUMBER(F1134),E1134*F1134,\"\")","v":""},null,null,0]
[null,null,"Encanador ou Bombeiro Hidráulico com Encargos Complementares","h",0.16209999999999999,19.066499999999998,{"$f":"IF(ISNUMBER(F1135),E1135*F1135,\"\")","v":3.0906796499999993},{"$f":"SUM(G1135:G1136)","v":3.4316222999999995},null,0]
[null,null,"Auxiliar de encanador ou bombeiro hidráulico com encargos complementares","h",2.2700000000000001E-2,15.019499999999999,{"$f":"IF(ISNUMBER(F1136),E1136*F1136,\"\")","v":0.34094265000000001},null,null,0]
[null,null,null,null,null,"",{"$f":"IF(ISNUMBER(F1137),E1137*F1137,\"\")","v":""},null,null,0]
["SF-00197",{"$f":"INDEX(Orçamentária!A:B,MATCH(Composições!A1138,Orçamentária!A:A,0),2)","v":"Ligação flexível 1/2” x 40 cm – Linha Administrativa"},null,{"$f":"TRIM(INDEX(Orçamentária!C:C,MATCH(Composições!A1138,Orçamentária!A:A,0),1))","v":"un"},null,"",{"$f":"IF(ISNUMBER(F1138),E1138*F1138,\"\")","v":""},null,null,0]
[null,null,null,null,null,"",{"$f":"IF(ISNUMBER(F1139),E1139*F1139,\"\")","v":""},null,null,0]
[null,null,"Engate / rabicho flexivel inox 1/2 \" x 40 cm","UN",1,27.530999999999999,{"$f":"IF(ISNUMBER(F1140),E1140*F1140,\"\")","v":27.530999999999999},{"$f":"SUM(G1140:G1143)","v":31.174368749999996},null,0]
[null,null,"Fita veda rosca em rolos de 18 mm x 10 m (L x C)","UN",1.7500000000000002E-2,3.1825000000000001,{"$f":"IF(ISNUMBER(F1141),E1141*F1141,\"\")","v":5.5693750000000007E-2},null,null,0]
[null,null,"Encanador ou Bombeiro Hidráulico com Encargos Complementares","h",0.15,19.066499999999998,{"$f":"IF(ISNUMBER(F1142),E1142*F1142,\"\")","v":2.8599749999999995},null,null,0]
[null,null,"Servente com Encargos Complementares","h",0.05,14.554,{"$f":"IF(ISNUMBER(F1143),E1143*F1143,\"\")","v":0.72770000000000001},null,null,0]
[null,null,null,null,null,"",{"$f":"IF(ISNUMBER(F1144),E1144*F1144,\"\")","v":""},null,null,0]
["SF-00198",{"$f":"INDEX(Orçamentária!A:B,MATCH(Composições!A1145,Orçamentária!A:A,0),2)","v":"Sifão articulado para cozinha – Linha Administrativa"},null,{"$f":"TRIM(INDEX(Orçamentária!C:C,MATCH(Composições!A1145,Orçamentária!A:A,0),1))","v":"un"},null,"",{"$f":"IF(ISNUMBER(F1145),E1145*F1145,\"\")","v":""},null,null,0]
[null,null,null,null,null,"",{"$f":"IF(ISNUMBER(F1146),E1146*F1146,\"\")","v":""},null,null,0]
[null,null,"Sifão regulável com tubo de saída corrugado para cozinha, cromado.  Ref.: Modelo VSM182 – Esteves","un ",1,"",{"$f":"IF(ISNUMBER(F1147),E1147*F1147,\"\")","v":""},{"$f":"SUM(G1147:G1150)","v":6.5729948999999994},null,0]
[null,null,"Fita veda rosca em rolos de 18 mm x 10 m (L x C)","UN",3.32E-2,3.1825000000000001,{"$f":"IF(ISNUMBER(F1148),E1148*F1148,\"\")","v":0.105659},null,null,0]
[null,null,"Servente com Encargos Complementares","h",8.6199999999999999E-2,14.554,{"$f":"IF(ISNUMBER(F1149),E1149*F1149,\"\")","v":1.2545548},null,null,0]
[null,null,"Encanador ou Bombeiro Hidráulico com Encargos Complementares","h",0.27339999999999998,19.066499999999998,{"$f":"IF(ISNUMBER(F1150),E1150*F1150,\"\")","v":5.2127810999999991},null,null,0]
[null,null,null,null,null,"",{"$f":"IF(ISNUMBER(F1151),E1151*F1151,\"\")","v":""},null,null,0]
["SF-00199",{"$f":"INDEX(Orçamentária!A:B,MATCH(Composições!A1152,Orçamentária!A:A,0),2)","v":"Sifão para lavatório 1 1/2\""},null,{"$f":"TRIM(INDEX(Orçamentária!C:C,MATCH(Composições!A1152,Orçamentária!A:A,0),1))","v":"un"},null,"",{"$f":"IF(ISNUMBER(F1152),E1152*F1152,\"\")","v":""},null,null,0]
[null,null,null,null,null,"",{"$f":"IF(ISNUMBER(F1153),E1153*F1153,\"\")","v":""},null,null,0]
[null,null,"Sifao em metal cromado para pia ou lavatorio, 1 x 1.1/2 \"","UN",1,109.67749999999999,{"$f":"IF(ISNUMBER(F1154),E1154*F1154,\"\")","v":109.67749999999999},{"$f":"SUM(G1154:G1157)","v":116.29443999999999},null,0]
[null,null,"Fita veda rosca em rolos de 18 mm x 10 m (L x C)","UN",0.05,3.1825000000000001,{"$f":"IF(ISNUMBER(F1155),E1155*F1155,\"\")","v":0.15912500000000002},null,null,0]
[null,null,"Encanador ou Bombeiro Hidráulico com Encargos Complementares","h",0.27,19.066499999999998,{"$f":"IF(ISNUMBER(F1156),E1156*F1156,\"\")","v":5.1479549999999996},null,null,0]
[null,null,"Servente com Encargos Complementares","h",0.09,14.554,{"$f":"IF(ISNUMBER(F1157),E1157*F1157,\"\")","v":1.30986},null,null,0]
[null,null,null,null,null,"",{"$f":"IF(ISNUMBER(F1158),E1158*F1158,\"\")","v":""},null,null,0]
["SF-00200",{"$f":"INDEX(Orçamentária!A:B,MATCH(Composições!A1159,Orçamentária!A:A,0),2)","v":"Sifão para tanque – Linha Administrativa"},null,{"$f":"TRIM(INDEX(Orçamentária!C:C,MATCH(Composições!A1159,Orçamentária!A:A,0),1))","v":"un"},null,"",{"$f":"IF(ISNUMBER(F1159),E1159*F1159,\"\")","v":""},null,null,0]
[null,null,null,null,null,"",{"$f":"IF(ISNUMBER(F1160),E1160*F1160,\"\")","v":""},null,null,0]
[null,null,"Fita veda rosca em rolos de 18 mm x 10 m (L x C)","UN",3.32E-2,3.1825000000000001,{"$f":"IF(ISNUMBER(F1161),E1161*F1161,\"\")","v":0.105659},{"$f":"SUM(G1161:G1164)","v":122.72949489999999},null,0]
[null,null,"Servente com Encargos Complementares","h",8.6199999999999999E-2,14.554,{"$f":"IF(ISNUMBER(F1162),E1162*F1162,\"\")","v":1.2545548},null,null,0]
[null,null,"Encanador ou Bombeiro Hidráulico com Encargos Complementares","h",0.27339999999999998,19.066499999999998,{"$f":"IF(ISNUMBER(F1163),E1163*F1163,\"\")","v":5.2127810999999991},null,null,0]
[null,null,"Sifao em metal cromado para tanque, 1.1/4 x 1.1/2 \"","un",1,116.15649999999999,{"$f":"IF(ISNUMBER(F1164),E1164*F1164,\"\")","v":116.15649999999999},null,null,0]
[null,null,null,null,null,"",{"$f":"IF(ISNUMBER(F1165),E1165*F1165,\"\")","v":""},null,null,0]
["SF-00201",{"$f":"INDEX(Orçamentária!A:B,MATCH(Composições!A1166,Orçamentária!A:A,0),2)","v":"Torneira de mesa para cozinha bica móvel – Linha Administrativa"},null,{"$f":"TRIM(INDEX(Orçamentária!C:C,MATCH(Composições!A1166,Orçamentária!A:A,0),1))","v":"un"},null,"",{"$f":"IF(ISNUMBER(F1166),E1166*F1166,\"\")","v":""},null,null,0]
[null,null,null,null,null,"",{"$f":"IF(ISNUMBER(F1167),E1167*F1167,\"\")","v":""},null,null,0]
[null,null,"Torneira de mesa para cozinha, cromada. Ref.: Deca Targa 1167.C40.CR","un ",1,"",{"$f":"IF(ISNUMBER(F1168),E1168*F1168,\"\")","v":""},{"$f":"SUM(G1168:G1171)","v":4.0093030499999989},null,0]
[null,null,"Fita veda rosca em rolos de 18 mm x 10 m (L x C)","UN",2.1000000000000001E-2,3.1825000000000001,{"$f":"IF(ISNUMBER(F1169),E1169*F1169,\"\")","v":6.6832500000000003E-2},null,null,0]
[null,null,"Encanador ou Bombeiro Hidráulico com Encargos Complementares","h",0.16669999999999999,19.066499999999998,{"$f":"IF(ISNUMBER(F1170),E1170*F1170,\"\")","v":3.1783855499999993},null,null,0]
[null,null,"Servente com Encargos Complementares","h",5.2499999999999998E-2,14.554,{"$f":"IF(ISNUMBER(F1171),E1171*F1171,\"\")","v":0.76408500000000001},null,null,0]
[null,null,null,null,null,"",{"$f":"IF(ISNUMBER(F1172),E1172*F1172,\"\")","v":""},null,null,0]
["SF-00202",{"$f":"INDEX(Orçamentária!A:B,MATCH(Composições!A1173,Orçamentária!A:A,0),2)","v":"Torneira de mesa para cozinha bica móvel com arejador – Linha Administrativa"},null,{"$f":"TRIM(INDEX(Orçamentária!C:C,MATCH(Composições!A1173,Orçamentária!A:A,0),1))","v":"un"},null,"",{"$f":"IF(ISNUMBER(F1173),E1173*F1173,\"\")","v":""},null,null,0]
[null,null,null,null,null,"",{"$f":"IF(ISNUMBER(F1174),E1174*F1174,\"\")","v":""},null,null,0]
[null,null,"Torneira de mesa bica móvel com arejador articulado para cozinha, cromada. Ref.: Código B5814C2CRB – Linha City – Celite","un ",1,"",{"$f":"IF(ISNUMBER(F1175),E1175*F1175,\"\")","v":""},{"$f":"SUM(G1175:G1178)","v":4.0093030499999989},null,0]
[null,null,"Fita veda rosca em rolos de 18 mm x 10 m (L x C)","UN",2.1000000000000001E-2,3.1825000000000001,{"$f":"IF(ISNUMBER(F1176),E1176*F1176,\"\")","v":6.6832500000000003E-2},null,null,0]
[null,null,"Encanador ou Bombeiro Hidráulico com Encargos Complementares","h",0.16669999999999999,19.066499999999998,{"$f":"IF(ISNUMBER(F1177),E1177*F1177,\"\")","v":3.1783855499999993},null,null,0]
[null,null,"Servente com Encargos Complementares","h",5.2499999999999998E-2,14.554,{"$f":"IF(ISNUMBER(F1178),E1178*F1178,\"\")","v":0.76408500000000001},null,null,0]
[null,null,null,null,null,"",{"$f":"IF(ISNUMBER(F1179),E1179*F1179,\"\")","v":""},null,null,0]
["SF-00203",{"$f":"INDEX(Orçamentária!A:B,MATCH(Composições!A1180,Orçamentária!A:A,0),2)","v":"Torneira de mesa para lavatório – Linha Acessibilidade"},null,{"$f":"TRIM(INDEX(Orçamentária!C:C,MATCH(Composições!A1180,Orçamentária!A:A,0),1))","v":"un"},null,"",{"$f":"IF(ISNUMBER(F1180),E1180*F1180,\"\")","v":""},null,null,0]
[null,null,null,null,null,"",{"$f":"IF(ISNUMBER(F1181),E1181*F1181,\"\")","v":""},null,null,0]
[null,null,"Torneira de mesa para lavatório, para uso clínico e apoio à pessoa. Ref.: Deca Link 1196.CLNK","un ",1,"",{"$f":"IF(ISNUMBER(F1182),E1182*F1182,\"\")","v":""},{"$f":"SUM(G1182:G1185)","v":2.3382027000000001},null,0]
[null,null,"Fita veda rosca em rolos de 18 mm x 10 m (L x C)","UN",2.1000000000000001E-2,3.1825000000000001,{"$f":"IF(ISNUMBER(F1183),E1183*F1183,\"\")","v":6.6832500000000003E-2},null,null,0]
[null,null,"Encanador ou Bombeiro Hidráulico com Encargos Complementares","h",9.6000000000000002E-2,19.066499999999998,{"$f":"IF(ISNUMBER(F1184),E1184*F1184,\"\")","v":1.8303839999999998},null,null,0]
[null,null,"Servente com Encargos Complementares","h",3.0300000000000001E-2,14.554,{"$f":"IF(ISNUMBER(F1185),E1185*F1185,\"\")","v":0.44098619999999999},null,null,0]
[null,null,null,null,null,"",{"$f":"IF(ISNUMBER(F1186),E1186*F1186,\"\")","v":""},null,null,0]
["SF-00204",{"$f":"INDEX(Orçamentária!A:B,MATCH(Composições!A1187,Orçamentária!A:A,0),2)","v":"Torneira de mesa para lavatório bica alta – Linha Administrativa"},null,{"$f":"TRIM(INDEX(Orçamentária!C:C,MATCH(Composições!A1187,Orçamentária!A:A,0),1))","v":"un"},null,"",{"$f":"IF(ISNUMBER(F1187),E1187*F1187,\"\")","v":""},null,null,0]
[null,null,null,null,null,"",{"$f":"IF(ISNUMBER(F1188),E1188*F1188,\"\")","v":""},null,null,0]
[null,null,"Torneira de mesa para lavatorio, bica alta, com arejador, cromado. Ref.: Código B5810C2CRB – Linha City – Celite","un ",1,"",{"$f":"IF(ISNUMBER(F1189),E1189*F1189,\"\")","v":""},{"$f":"SUM(G1189:G1192)","v":2.3382027000000001},null,0]
[null,null,"Fita veda rosca em rolos de 18 mm x 10 m (L x C)","UN",2.1000000000000001E-2,3.1825000000000001,{"$f":"IF(ISNUMBER(F1190),E1190*F1190,\"\")","v":6.6832500000000003E-2},null,null,0]
[null,null,"Encanador ou Bombeiro Hidráulico com Encargos Complementares","h",9.6000000000000002E-2,19.066499999999998,{"$f":"IF(ISNUMBER(F1191),E1191*F1191,\"\")","v":1.8303839999999998},null,null,0]
[null,null,"Servente com Encargos Complementares","h",3.0300000000000001E-2,14.554,{"$f":"IF(ISNUMBER(F1192),E1192*F1192,\"\")","v":0.44098619999999999},null,null,0]
[null,null,null,null,null,"",{"$f":"IF(ISNUMBER(F1193),E1193*F1193,\"\")","v":""},null,null,0]
["SF-00205",{"$f":"INDEX(Orçamentária!A:B,MATCH(Composições!A1194,Orçamentária!A:A,0),2)","v":"Torneira de mesa para lavatório bica baixa – Linha Administrativa"},null,{"$f":"TRIM(INDEX(Orçamentária!C:C,MATCH(Composições!A1194,Orçamentária!A:A,0),1))","v":"un"},null,"",{"$f":"IF(ISNUMBER(F1194),E1194*F1194,\"\")","v":""},null,null,0]
[null,null,null,null,null,"",{"$f":"IF(ISNUMBER(F1195),E1195*F1195,\"\")","v":""},null,null,0]
[null,null,"Torneira de mesa para lavatorio bica baixa. Ref.: Código B5811C2CRB – Linha City – Celite","un ",1,"",{"$f":"IF(ISNUMBER(F1196),E1196*F1196,\"\")","v":""},{"$f":"SUM(G1196:G1199)","v":2.3382027000000001},null,0]
[null,null,"Fita veda rosca em rolos de 18 mm x 10 m (L x C)","UN",2.1000000000000001E-2,3.1825000000000001,{"$f":"IF(ISNUMBER(F1197),E1197*F1197,\"\")","v":6.6832500000000003E-2},null,null,0]
[null,null,"Encanador ou Bombeiro Hidráulico com Encargos Complementares","h",9.6000000000000002E-2,19.066499999999998,{"$f":"IF(ISNUMBER(F1198),E1198*F1198,\"\")","v":1.8303839999999998},null,null,0]
[null,null,"Servente com Encargos Complementares","h",3.0300000000000001E-2,14.554,{"$f":"IF(ISNUMBER(F1199),E1199*F1199,\"\")","v":0.44098619999999999},null,null,0]
[null,null,null,null,null,"",{"$f":"IF(ISNUMBER(F1200),E1200*F1200,\"\")","v":""},null,null,0]
["SF-00206",{"$f":"INDEX(Orçamentária!A:B,MATCH(Composições!A1201,Orçamentária!A:A,0),2)","v":"Torneira de mesa para lavatório com fechamento automático – Linha Administrativa"},null,{"$f":"TRIM(INDEX(Orçamentária!C:C,MATCH(Composições!A1201,Orçamentária!A:A,0),1))","v":"un"},null,"",{"$f":"IF(ISNUMBER(F1201),E1201*F1201,\"\")","v":""},null,null,0]
[null,null,null,null,null,"",{"$f":"IF(ISNUMBER(F1202),E1202*F1202,\"\")","v":""},null,null,0]
[null,null,"TORNEIRA CROMADA DE MESA PARA LAVATORIO TEMPORIZADA PRESSAO BICA BAIXA","UN",1,149.27349999999998,{"$f":"IF(ISNUMBER(F1203),E1203*F1203,\"\")","v":149.27349999999998},{"$f":"SUM(G1203:G1206)","v":151.6117027},null,0]
[null,null,"Fita veda rosca em rolos de 18 mm x 10 m (L x C)","UN",2.1000000000000001E-2,3.1825000000000001,{"$f":"IF(ISNUMBER(F1204),E1204*F1204,\"\")","v":6.6832500000000003E-2},null,null,0]
[null,null,"Encanador ou Bombeiro Hidráulico com Encargos Complementares","h",9.6000000000000002E-2,19.066499999999998,{"$f":"IF(ISNUMBER(F1205),E1205*F1205,\"\")","v":1.8303839999999998},null,null,0]
[null,null,"Servente com Encargos Complementares","h",3.0300000000000001E-2,14.554,{"$f":"IF(ISNUMBER(F1206),E1206*F1206,\"\")","v":0.44098619999999999},null,null,0]
[null,null,null,null,null,"",{"$f":"IF(ISNUMBER(F1207),E1207*F1207,\"\")","v":""},null,null,0]
["SF-00207",{"$f":"INDEX(Orçamentária!A:B,MATCH(Composições!A1208,Orçamentária!A:A,0),2)","v":"Torneira de parede para cozinha bica móvel – Linha Administrativa"},null,{"$f":"TRIM(INDEX(Orçamentária!C:C,MATCH(Composições!A1208,Orçamentária!A:A,0),1))","v":"un"},null,"",{"$f":"IF(ISNUMBER(F1208),E1208*F1208,\"\")","v":""},null,null,0]
[null,null,null,null,null,"",{"$f":"IF(ISNUMBER(F1209),E1209*F1209,\"\")","v":""},null,null,0]
[null,null,"Torneira de parede para cozinha bica móvel com arejador articulado, cromada. Ref.: Código B5815C2CRB – Linha City – Celite","un ",1,"",{"$f":"IF(ISNUMBER(F1210),E1210*F1210,\"\")","v":""},{"$f":"SUM(G1210:G1213)","v":2.8203048999999996},null,0]
[null,null,"Fita veda rosca em rolos de 18 mm x 10 m (L x C)","UN",2.1000000000000001E-2,3.1825000000000001,{"$f":"IF(ISNUMBER(F1211),E1211*F1211,\"\")","v":6.6832500000000003E-2},null,null,0]
[null,null,"Encanador ou Bombeiro Hidráulico com Encargos Complementares","h",0.1164,19.066499999999998,{"$f":"IF(ISNUMBER(F1212),E1212*F1212,\"\")","v":2.2193405999999998},null,null,0]
[null,null,"Servente com Encargos Complementares","h",3.6700000000000003E-2,14.554,{"$f":"IF(ISNUMBER(F1213),E1213*F1213,\"\")","v":0.53413180000000005},null,null,0]
[null,null,null,null,null,"",{"$f":"IF(ISNUMBER(F1214),E1214*F1214,\"\")","v":""},null,null,0]
["SF-00208",{"$f":"INDEX(Orçamentária!A:B,MATCH(Composições!A1215,Orçamentária!A:A,0),2)","v":"Torneira de parede para tanque – Linha Administrativa"},null,{"$f":"TRIM(INDEX(Orçamentária!C:C,MATCH(Composições!A1215,Orçamentária!A:A,0),1))","v":"un"},null,"",{"$f":"IF(ISNUMBER(F1215),E1215*F1215,\"\")","v":""},null,null,0]
[null,null,null,null,null,"",{"$f":"IF(ISNUMBER(F1216),E1216*F1216,\"\")","v":""},null,null,0]
[null,null,"Fita veda rosca em rolos de 18 mm x 10 m (L x C)","UN",2.1000000000000001E-2,3.1825000000000001,{"$f":"IF(ISNUMBER(F1217),E1217*F1217,\"\")","v":6.6832500000000003E-2},{"$f":"SUM(G1217:G1220)","v":56.789021149999989},null,0]
[null,null,"Encanador ou Bombeiro Hidráulico com Encargos Complementares","h",0.1525,19.066499999999998,{"$f":"IF(ISNUMBER(F1218),E1218*F1218,\"\")","v":2.9076412499999997},null,null,0]
[null,null,"Servente com Encargos Complementares","h",4.8099999999999997E-2,14.554,{"$f":"IF(ISNUMBER(F1219),E1219*F1219,\"\")","v":0.70004739999999999},null,null,0]
[null,null,"Torneira cromada com bico para jardim/tanque 1/2 \" ou 3/4 \" (ref 1153)","un",1,53.114499999999992,{"$f":"IF(ISNUMBER(F1220),E1220*F1220,\"\")","v":53.114499999999992},null,null,0]
[null,null,null,null,null,"",{"$f":"IF(ISNUMBER(F1221),E1221*F1221,\"\")","v":""},null,null,0]
["SF-00209",{"$f":"INDEX(Orçamentária!A:B,MATCH(Composições!A1222,Orçamentária!A:A,0),2)","v":"Válvula de descarga 1 1/2\" – Linha Acessibilidade"},null,{"$f":"TRIM(INDEX(Orçamentária!C:C,MATCH(Composições!A1222,Orçamentária!A:A,0),1))","v":"un"},null,"",{"$f":"IF(ISNUMBER(F1222),E1222*F1222,\"\")","v":""},null,null,0]
[null,null,null,null,null,"",{"$f":"IF(ISNUMBER(F1223),E1223*F1223,\"\")","v":""},null,null,0]
[null,null,"Válvula de descarga 1 1/2\" cromada. ref.: modelo 2565.C.112.CONF – linha Hydra Eco Conforto – Deca ","un ",1,"",{"$f":"IF(ISNUMBER(F1224),E1224*F1224,\"\")","v":""},{"$f":"SUM(G1224:G1227)","v":27.116771499999999},null,0]
[null,null,"Fita veda rosca em rolos de 18 mm x 50 m (L x C)","UN",1.9E-2,11.7325,{"$f":"IF(ISNUMBER(F1225),E1225*F1225,\"\")","v":0.22291749999999999},null,null,0]
[null,null,"Auxiliar de encanador ou bombeiro hidráulico com encargos complementares","h",0.78900000000000003,15.019499999999999,{"$f":"IF(ISNUMBER(F1226),E1226*F1226,\"\")","v":11.8503855},null,null,0]
[null,null,"Encanador ou Bombeiro Hidráulico com Encargos Complementares","h",0.78900000000000003,19.066499999999998,{"$f":"IF(ISNUMBER(F1227),E1227*F1227,\"\")","v":15.043468499999999},null,null,0]
[null,null,null,null,null,"",{"$f":"IF(ISNUMBER(F1228),E1228*F1228,\"\")","v":""},null,null,0]
["SF-00210",{"$f":"INDEX(Orçamentária!A:B,MATCH(Composições!A1229,Orçamentária!A:A,0),2)","v":"Válvula de descarga 1 1/2\" – Linha Administrativa"},null,{"$f":"TRIM(INDEX(Orçamentária!C:C,MATCH(Composições!A1229,Orçamentária!A:A,0),1))","v":"un"},null,"",{"$f":"IF(ISNUMBER(F1229),E1229*F1229,\"\")","v":""},null,null,0]
[null,null,null,null,null,"",{"$f":"IF(ISNUMBER(F1230),E1230*F1230,\"\")","v":""},null,null,0]
[null,null,"Valvula de descarga metalica, base 1 1/2 \" e acabamento metalico cromado","UN",1,178.98949999999999,{"$f":"IF(ISNUMBER(F1231),E1231*F1231,\"\")","v":178.98949999999999},{"$f":"SUM(G1231:G1234)","v":206.10627149999996},null,0]
[null,null,"Fita veda rosca em rolos de 18 mm x 50 m (L x C)","UN",1.9E-2,11.7325,{"$f":"IF(ISNUMBER(F1232),E1232*F1232,\"\")","v":0.22291749999999999},null,null,0]
[null,null,"Auxiliar de encanador ou bombeiro hidráulico com encargos complementares","h",0.78900000000000003,15.019499999999999,{"$f":"IF(ISNUMBER(F1233),E1233*F1233,\"\")","v":11.8503855},null,null,0]
[null,null,"Encanador ou Bombeiro Hidráulico com Encargos Complementares","h",0.78900000000000003,19.066499999999998,{"$f":"IF(ISNUMBER(F1234),E1234*F1234,\"\")","v":15.043468499999999},null,null,0]
[null,null,null,null,null,"",{"$f":"IF(ISNUMBER(F1235),E1235*F1235,\"\")","v":""},null,null,0]
["SF-00211",{"$f":"INDEX(Orçamentária!A:B,MATCH(Composições!A1236,Orçamentária!A:A,0),2)","v":"Válvula de descarga 1 1/4\" – Linha Acessibilidade"},null,{"$f":"TRIM(INDEX(Orçamentária!C:C,MATCH(Composições!A1236,Orçamentária!A:A,0),1))","v":"un"},null,"",{"$f":"IF(ISNUMBER(F1236),E1236*F1236,\"\")","v":""},null,null,0]
[null,null,null,null,null,"",{"$f":"IF(ISNUMBER(F1237),E1237*F1237,\"\")","v":""},null,null,0]
[null,null,"Válvula de descarga 1 1/4\" . Ref.: Modelo 2565.C.114.CONF – Linha Hydra Eco Conforto – Deca","un ",1,"",{"$f":"IF(ISNUMBER(F1238),E1238*F1238,\"\")","v":""},{"$f":"SUM(G1238:G1241)","v":27.116771499999999},null,0]
[null,null,"Fita veda rosca em rolos de 18 mm x 50 m (L x C)","UN",1.9E-2,11.7325,{"$f":"IF(ISNUMBER(F1239),E1239*F1239,\"\")","v":0.22291749999999999},null,null,0]
[null,null,"Auxiliar de encanador ou bombeiro hidráulico com encargos complementares","h",0.78900000000000003,15.019499999999999,{"$f":"IF(ISNUMBER(F1240),E1240*F1240,\"\")","v":11.8503855},null,null,0]
[null,null,"Encanador ou Bombeiro Hidráulico com Encargos Complementares","h",0.78900000000000003,19.066499999999998,{"$f":"IF(ISNUMBER(F1241),E1241*F1241,\"\")","v":15.043468499999999},null,null,0]
[null,null,null,null,null,"",{"$f":"IF(ISNUMBER(F1242),E1242*F1242,\"\")","v":""},null,null,0]
["SF-00212",{"$f":"INDEX(Orçamentária!A:B,MATCH(Composições!A1243,Orçamentária!A:A,0),2)","v":"Válvula de descarga 1 1/4\" – Linha Administrativa"},null,{"$f":"TRIM(INDEX(Orçamentária!C:C,MATCH(Composições!A1243,Orçamentária!A:A,0),1))","v":"un"},null,"",{"$f":"IF(ISNUMBER(F1243),E1243*F1243,\"\")","v":""},null,null,0]
[null,null,null,null,null,"",{"$f":"IF(ISNUMBER(F1244),E1244*F1244,\"\")","v":""},null,null,0]
[null,null,"Valvula de descarga metalica, base 1 1/4 \" e acabamento metalico cromado","UN",1,144.99849999999998,{"$f":"IF(ISNUMBER(F1245),E1245*F1245,\"\")","v":144.99849999999998},{"$f":"SUM(G1245:G1248)","v":172.11527149999995},null,0]
[null,null,"Fita veda rosca em rolos de 18 mm x 50 m (L x C)","UN",1.9E-2,11.7325,{"$f":"IF(ISNUMBER(F1246),E1246*F1246,\"\")","v":0.22291749999999999},null,null,0]
[null,null,"Auxiliar de encanador ou bombeiro hidráulico com encargos complementares","h",0.78900000000000003,15.019499999999999,{"$f":"IF(ISNUMBER(F1247),E1247*F1247,\"\")","v":11.8503855},null,null,0]
[null,null,"Encanador ou Bombeiro Hidráulico com Encargos Complementares","h",0.78900000000000003,19.066499999999998,{"$f":"IF(ISNUMBER(F1248),E1248*F1248,\"\")","v":15.043468499999999},null,null,0]
[null,null,null,null,null,"",{"$f":"IF(ISNUMBER(F1249),E1249*F1249,\"\")","v":""},null,null,0]
["SF-00213",{"$f":"INDEX(Orçamentária!A:B,MATCH(Composições!A1250,Orçamentária!A:A,0),2)","v":"Válvula de escoamento para lavatório – Linha Administrativa"},null,{"$f":"TRIM(INDEX(Orçamentária!C:C,MATCH(Composições!A1250,Orçamentária!A:A,0),1))","v":"un"},null,"",{"$f":"IF(ISNUMBER(F1250),E1250*F1250,\"\")","v":""},null,null,0]
[null,null,null,null,null,"",{"$f":"IF(ISNUMBER(F1251),E1251*F1251,\"\")","v":""},null,null,0]
[null,null,"Valvula em metal cromado para lavatorio, 1 \" sem ladrao","UN",1,27.416999999999998,{"$f":"IF(ISNUMBER(F1252),E1252*F1252,\"\")","v":27.416999999999998},{"$f":"SUM(G1252:G1255)","v":31.684890199999998},null,0]
[null,null,"Fita veda rosca em rolos de 18 mm x 10 m (L x C)","UN",4.8000000000000001E-2,3.1825000000000001,{"$f":"IF(ISNUMBER(F1253),E1253*F1253,\"\")","v":0.15276000000000001},null,null,0]
[null,null,"Encanador ou Bombeiro Hidráulico com Encargos Complementares","h",0.17399999999999999,19.066499999999998,{"$f":"IF(ISNUMBER(F1254),E1254*F1254,\"\")","v":3.3175709999999996},null,null,0]
[null,null,"Servente com Encargos Complementares","h",5.4800000000000001E-2,14.554,{"$f":"IF(ISNUMBER(F1255),E1255*F1255,\"\")","v":0.79755920000000002},null,null,0]
[null,null,null,null,null,"",{"$f":"IF(ISNUMBER(F1256),E1256*F1256,\"\")","v":""},null,null,0]
["SF-00214",{"$f":"INDEX(Orçamentária!A:B,MATCH(Composições!A1257,Orçamentária!A:A,0),2)","v":"Válvula de escoamento para tanque – Linha Administrativa"},null,{"$f":"TRIM(INDEX(Orçamentária!C:C,MATCH(Composições!A1257,Orçamentária!A:A,0),1))","v":"un"},null,"",{"$f":"IF(ISNUMBER(F1257),E1257*F1257,\"\")","v":""},null,null,0]
[null,null,null,null,null,"",{"$f":"IF(ISNUMBER(F1258),E1258*F1258,\"\")","v":""},null,null,0]
[null,null,"Fita veda rosca em rolos de 18 mm x 10 m (L x C)","UN",3.32E-2,3.1825000000000001,{"$f":"IF(ISNUMBER(F1259),E1259*F1259,\"\")","v":0.105659},{"$f":"SUM(G1259:G1262)","v":23.216346999999999},null,0]
[null,null,"Valvula em metal cromado para tanque, 1.1/2 \" sem ladrao","un",1,20.196999999999999,{"$f":"IF(ISNUMBER(F1260),E1260*F1260,\"\")","v":20.196999999999999},null,null,0]
[null,null,"Encanador ou Bombeiro Hidráulico com Encargos Complementares","h",0.1232,19.066499999999998,{"$f":"IF(ISNUMBER(F1261),E1261*F1261,\"\")","v":2.3489928},null,null,0]
[null,null,"Servente com Encargos Complementares","h",3.8800000000000001E-2,14.554,{"$f":"IF(ISNUMBER(F1262),E1262*F1262,\"\")","v":0.56469520000000006},null,null,0]
[null,null,null,null,null,"",{"$f":"IF(ISNUMBER(F1263),E1263*F1263,\"\")","v":""},null,null,0]
["SF-00215",{"$f":"INDEX(Orçamentária!A:B,MATCH(Composições!A1264,Orçamentária!A:A,0),2)","v":"Válvula descarga para mictório – Linha Administrativa"},null,{"$f":"TRIM(INDEX(Orçamentária!C:C,MATCH(Composições!A1264,Orçamentária!A:A,0),1))","v":"un"},null,"",{"$f":"IF(ISNUMBER(F1264),E1264*F1264,\"\")","v":""},null,null,0]
[null,null,null,null,null,"",{"$f":"IF(ISNUMBER(F1265),E1265*F1265,\"\")","v":""},null,null,0]
[null,null,"Valvula de descarga em metal cromado para mictorio com acionamento por pressao e fechamento automatico","UN",1,154.071,{"$f":"IF(ISNUMBER(F1266),E1266*F1266,\"\")","v":154.071},{"$f":"SUM(G1266:G1269)","v":181.18777149999997},null,0]
[null,null,"Fita veda rosca em rolos de 18 mm x 50 m (L x C)","UN",1.9E-2,11.7325,{"$f":"IF(ISNUMBER(F1267),E1267*F1267,\"\")","v":0.22291749999999999},null,null,0]
[null,null,"Auxiliar de encanador ou bombeiro hidráulico com encargos complementares","h",0.78900000000000003,15.019499999999999,{"$f":"IF(ISNUMBER(F1268),E1268*F1268,\"\")","v":11.8503855},null,null,0]
[null,null,"Encanador ou Bombeiro Hidráulico com Encargos Complementares","h",0.78900000000000003,19.066499999999998,{"$f":"IF(ISNUMBER(F1269),E1269*F1269,\"\")","v":15.043468499999999},null,null,0]
[null,null,null,null,null,"",{"$f":"IF(ISNUMBER(F1270),E1270*F1270,\"\")","v":""},null,null,0]
["SF-00216",{"$f":"INDEX(Orçamentária!A:B,MATCH(Composições!A1271,Orçamentária!A:A,0),2)","v":"Alarme de emergência para sanitários PNE"},null,{"$f":"TRIM(INDEX(Orçamentária!C:C,MATCH(Composições!A1271,Orçamentária!A:A,0),1))","v":"un"},null,"",{"$f":"IF(ISNUMBER(F1271),E1271*F1271,\"\")","v":""},null,null,0]
[null,null,null,null,null,"",{"$f":"IF(ISNUMBER(F1272),E1272*F1272,\"\")","v":""},null,null,0]
[null,null,"Eletricista com encargos complementares","h",0.28999999999999998,19.645999999999997,{"$f":"IF(ISNUMBER(F1273),E1273*F1273,\"\")","v":5.6973399999999987},{"$f":"SUM(G1273:G1275)","v":10.176969999999999},null,0]
[null,null,"Auxiliar de eletricista com encargos complementares","h",0.28999999999999998,15.447000000000001,{"$f":"IF(ISNUMBER(F1274),E1274*F1274,\"\")","v":4.4796300000000002},null,null,0]
[null,null,"Alarme de emergência audiovisual intermitente com fio. Ref. Planeta Acessível Alarme PCD ou AbaFire AFSAVPNE + AbaFire AFAMPNE ","un ",1,"",{"$f":"IF(ISNUMBER(F1275),E1275*F1275,\"\")","v":""},null,null,0]
[null,null,null,null,null,"",{"$f":"IF(ISNUMBER(F1276),E1276*F1276,\"\")","v":""},null,null,0]
["SF-00217",{"$f":"INDEX(Orçamentária!A:B,MATCH(Composições!A1277,Orçamentária!A:A,0),2)","v":"Barra de apoio 40cm – Linha Acessibilidade"},null,{"$f":"TRIM(INDEX(Orçamentária!C:C,MATCH(Composições!A1277,Orçamentária!A:A,0),1))","v":"un"},null,"",{"$f":"IF(ISNUMBER(F1277),E1277*F1277,\"\")","v":""},null,null,0]
[null,null,null,null,null,"",{"$f":"IF(ISNUMBER(F1278),E1278*F1278,\"\")","v":""},null,null,0]
[null,null,"Barra de apoio com comprimento de 405mm e espaçamento de 66mm da parede, barra com bitola de 32m, em aço escovado","un ",1,"",{"$f":"IF(ISNUMBER(F1279),E1279*F1279,\"\")","v":""},{"$f":"SUM(G1279:G1282)","v":36.936},null,0]
[null,null,"Bucha de nylon, diametro do furo 8 mm, comprimento 40 mm, com parafuso de rosca soberba, cabeca chata, fenda simples, 4,8 x 50 mm","UN",6,0.48449999999999999,{"$f":"IF(ISNUMBER(F1280),E1280*F1280,\"\")","v":2.907},null,null,0]
[null,null,"Pedreiro com Encargos Complementares","h",1,19.474999999999998,{"$f":"IF(ISNUMBER(F1281),E1281*F1281,\"\")","v":19.474999999999998},null,null,0]
[null,null,"Servente com Encargos Complementares","h",1,14.554,{"$f":"IF(ISNUMBER(F1282),E1282*F1282,\"\")","v":14.554},null,null,0]
[null,null,null,null,null,"",{"$f":"IF(ISNUMBER(F1283),E1283*F1283,\"\")","v":""},null,null,0]
["SF-00218",{"$f":"INDEX(Orçamentária!A:B,MATCH(Composições!A1284,Orçamentária!A:A,0),2)","v":"Barra de apoio 70cm – Linha Acessibilidade"},null,{"$f":"TRIM(INDEX(Orçamentária!C:C,MATCH(Composições!A1284,Orçamentária!A:A,0),1))","v":"un"},null,"",{"$f":"IF(ISNUMBER(F1284),E1284*F1284,\"\")","v":""},null,null,0]
[null,null,null,null,null,"",{"$f":"IF(ISNUMBER(F1285),E1285*F1285,\"\")","v":""},null,null,0]
[null,null,"Barra de apoio com comprimento de 705mm e espaçamento de 66mm da parede, barra com bitola de 32mm em aço escovado","un ",1,"",{"$f":"IF(ISNUMBER(F1286),E1286*F1286,\"\")","v":""},{"$f":"SUM(G1286:G1289)","v":36.936},null,0]
[null,null,"Bucha de nylon, diametro do furo 8 mm, comprimento 40 mm, com parafuso de rosca soberba, cabeca chata, fenda simples, 4,8 x 50 mm","UN",6,0.48449999999999999,{"$f":"IF(ISNUMBER(F1287),E1287*F1287,\"\")","v":2.907},null,null,0]
[null,null,"Pedreiro com Encargos Complementares","h",1,19.474999999999998,{"$f":"IF(ISNUMBER(F1288),E1288*F1288,\"\")","v":19.474999999999998},null,null,0]
[null,null,"Servente com Encargos Complementares","h",1,14.554,{"$f":"IF(ISNUMBER(F1289),E1289*F1289,\"\")","v":14.554},null,null,0]
[null,null,null,null,null,"",{"$f":"IF(ISNUMBER(F1290),E1290*F1290,\"\")","v":""},null,null,0]
["SF-00219",{"$f":"INDEX(Orçamentária!A:B,MATCH(Composições!A1291,Orçamentária!A:A,0),2)","v":"Barra de apoio 80cm – Linha Acessibilidade"},null,{"$f":"TRIM(INDEX(Orçamentária!C:C,MATCH(Composições!A1291,Orçamentária!A:A,0),1))","v":"un"},null,"",{"$f":"IF(ISNUMBER(F1291),E1291*F1291,\"\")","v":""},null,null,0]
[null,null,null,null,null,"",{"$f":"IF(ISNUMBER(F1292),E1292*F1292,\"\")","v":""},null,null,0]
[null,null,"Barra de apoio linha conforto com comprimento de 805mm e espaçamento de 66mm da parede, barra com bitola de 32mm em aço escovado","un ",1,"",{"$f":"IF(ISNUMBER(F1293),E1293*F1293,\"\")","v":""},{"$f":"SUM(G1293:G1296)","v":36.936},null,0]
[null,null,"Bucha de nylon, diametro do furo 8 mm, comprimento 40 mm, com parafuso de rosca soberba, cabeca chata, fenda simples, 4,8 x 50 mm","UN",6,0.48449999999999999,{"$f":"IF(ISNUMBER(F1294),E1294*F1294,\"\")","v":2.907},null,null,0]
[null,null,"Pedreiro com Encargos Complementares","h",1,19.474999999999998,{"$f":"IF(ISNUMBER(F1295),E1295*F1295,\"\")","v":19.474999999999998},null,null,0]
[null,null,"Servente com Encargos Complementares","h",1,14.554,{"$f":"IF(ISNUMBER(F1296),E1296*F1296,\"\")","v":14.554},null,null,0]
[null,null,null,null,null,"",{"$f":"IF(ISNUMBER(F1297),E1297*F1297,\"\")","v":""},null,null,0]
["SF-00220",{"$f":"INDEX(Orçamentária!A:B,MATCH(Composições!A1298,Orçamentária!A:A,0),2)","v":"Barra de apoio lateral fixa 30cm – Linha Acessibilidade"},null,{"$f":"TRIM(INDEX(Orçamentária!C:C,MATCH(Composições!A1298,Orçamentária!A:A,0),1))","v":"un"},null,"",{"$f":"IF(ISNUMBER(F1298),E1298*F1298,\"\")","v":""},null,null,0]
[null,null,null,null,null,"",{"$f":"IF(ISNUMBER(F1299),E1299*F1299,\"\")","v":""},null,null,0]
[null,null,"Pedreiro com Encargos Complementares","h",1,19.474999999999998,{"$f":"IF(ISNUMBER(F1300),E1300*F1300,\"\")","v":19.474999999999998},{"$f":"SUM(G1300:G1303)","v":36.935999999999993},null,0]
[null,null,"Servente com Encargos Complementares","h",1,14.554,{"$f":"IF(ISNUMBER(F1301),E1301*F1301,\"\")","v":14.554},null,null,0]
[null,null,"Barra de apoio lateral fixa, com 303mm de comprimento, com a bitola de 32mm e em aço escovado","un",1,"",{"$f":"IF(ISNUMBER(F1302),E1302*F1302,\"\")","v":""},null,null,0]
[null,null,"Bucha de nylon, diametro do furo 8 mm, comprimento 40 mm, com parafuso de rosca soberba, cabeca chata, fenda simples, 4,8 x 50 mm","UN",6,0.48449999999999999,{"$f":"IF(ISNUMBER(F1303),E1303*F1303,\"\")","v":2.907},null,null,0]
[null,null,null,null,null,"",{"$f":"IF(ISNUMBER(F1304),E1304*F1304,\"\")","v":""},null,null,0]
["SF-00221",{"$f":"INDEX(Orçamentária!A:B,MATCH(Composições!A1305,Orçamentária!A:A,0),2)","v":"Lavatório suspenso – Linha Acessibilidade"},null,{"$f":"TRIM(INDEX(Orçamentária!C:C,MATCH(Composições!A1305,Orçamentária!A:A,0),1))","v":"un"},null,"",{"$f":"IF(ISNUMBER(F1305),E1305*F1305,\"\")","v":""},null,null,0]
[null,null,null,null,null,"",{"$f":"IF(ISNUMBER(F1306),E1306*F1306,\"\")","v":""},null,null,0]
[null,null,"Lavatório para instalação com coluna suspensa, para apoio à pessoa com deficiência. Ref.: Modelo L.39.17 – Linha Spot – Deca","un ",1,"",{"$f":"IF(ISNUMBER(F1307),E1307*F1307,\"\")","v":""},{"$f":"SUM(G1307:G1311)","v":37.271169499999999},null,0]
[null,null,"Parafuso niquelado 3 1/2\" com acabamento cromado para fixar peca sanitaria, inclui porca cega, arruela e bucha de nylon tamanho S-8","UN",2,12.805999999999999,{"$f":"IF(ISNUMBER(F1308),E1308*F1308,\"\")","v":25.611999999999998},null,null,0]
[null,null,"Rejunte epoxi, qualquer cor","kg",3.04E-2,50.511499999999998,{"$f":"IF(ISNUMBER(F1309),E1309*F1309,\"\")","v":1.5355496},null,null,0]
[null,null,"Encanador ou Bombeiro Hidráulico com Encargos Complementares","h",0.38700000000000001,19.066499999999998,{"$f":"IF(ISNUMBER(F1310),E1310*F1310,\"\")","v":7.3787354999999994},null,null,0]
[null,null,"Servente com Encargos Complementares","h",0.18859999999999999,14.554,{"$f":"IF(ISNUMBER(F1311),E1311*F1311,\"\")","v":2.7448844000000001},null,null,0]
[null,null,null,null,null,"",{"$f":"IF(ISNUMBER(F1312),E1312*F1312,\"\")","v":""},null,null,0]
["SF-00222",{"$f":"INDEX(Orçamentária!A:B,MATCH(Composições!A1313,Orçamentária!A:A,0),2)","v":"Lavatório suspenso com Coluna – Linha Acessibilidade"},null,{"$f":"TRIM(INDEX(Orçamentária!C:C,MATCH(Composições!A1313,Orçamentária!A:A,0),1))","v":"un"},null,"",{"$f":"IF(ISNUMBER(F1313),E1313*F1313,\"\")","v":""},null,null,0]
[null,null,null,null,null,"",{"$f":"IF(ISNUMBER(F1314),E1314*F1314,\"\")","v":""},null,null,0]
[null,null,"Encanador ou Bombeiro Hidráulico com Encargos Complementares","h",1.4666999999999999,19.066499999999998,{"$f":"IF(ISNUMBER(F1315),E1315*F1315,\"\")","v":27.964835549999993},{"$f":"SUM(G1315:G1320)","v":118.65997324999998},null,0]
[null,null,"Servente com Encargos Complementares","h",0.65169999999999995,14.554,{"$f":"IF(ISNUMBER(F1316),E1316*F1316,\"\")","v":9.4848417999999999},null,null,0]
[null,null,"Lavatório para instalação com coluna suspensa, para apoio à pessoa com deficiência. Ref.: Modelo L.39.17 – Linha Spot – Deca","un ",1,"",{"$f":"IF(ISNUMBER(F1317),E1317*F1317,\"\")","v":""},null,null,0]
[null,null,"Parafuso niquelado 3 1/2\" com acabamento cromado para fixar peca sanitaria, inclui porca cega, arruela e bucha de nylon tamanho S-8","UN",6,12.805999999999999,{"$f":"IF(ISNUMBER(F1318),E1318*F1318,\"\")","v":76.835999999999999},null,null,0]
[null,null,"Rejunte epoxi, qualquer cor","kg",8.6599999999999996E-2,50.511499999999998,{"$f":"IF(ISNUMBER(F1319),E1319*F1319,\"\")","v":4.3742958999999999},null,null,0]
[null,null,"Coluna suspensa para lavatório para apoio à pessoa com deficiência. Ref..: Deca Spot CS.39.17","un",1,"",{"$f":"IF(ISNUMBER(F1320),E1320*F1320,\"\")","v":""},null,null,0]
[null,null,null,null,null,"",{"$f":"IF(ISNUMBER(F1321),E1321*F1321,\"\")","v":""},null,null,0]
["SF-00223",{"$f":"INDEX(Orçamentária!A:B,MATCH(Composições!A1322,Orçamentária!A:A,0),2)","v":"Cabide – Linha Administrativa"},null,{"$f":"TRIM(INDEX(Orçamentária!C:C,MATCH(Composições!A1322,Orçamentária!A:A,0),1))","v":"un"},null,"",{"$f":"IF(ISNUMBER(F1322),E1322*F1322,\"\")","v":""},null,null,0]
[null,null,null,null,null,"",{"$f":"IF(ISNUMBER(F1323),E1323*F1323,\"\")","v":""},null,null,0]
[null,null,"Cabide, cromado. Ref.: Modelo 2060.C.FLX – Linha Flex – Deca","un ",1,"",{"$f":"IF(ISNUMBER(F1324),E1324*F1324,\"\")","v":""},{"$f":"SUM(G1324:G1325)","v":3.4316222999999999},null,0]
[null,null,"Fixação utilizando parafuso e bucha de nylon, somente mão de obra. af_10/2016","UN",1,3.4316222999999999,{"$f":"IF(ISNUMBER(F1325),E1325*F1325,\"\")","v":3.4316222999999999},null,null,0]
[null,null,null,null,null,"",{"$f":"IF(ISNUMBER(F1326),E1326*F1326,\"\")","v":""},null,null,0]
["SF-00224",{"$f":"INDEX(Orçamentária!A:B,MATCH(Composições!A1327,Orçamentária!A:A,0),2)","v":"Papeleira – Linha Administrativa"},null,{"$f":"TRIM(INDEX(Orçamentária!C:C,MATCH(Composições!A1327,Orçamentária!A:A,0),1))","v":"un"},null,"",{"$f":"IF(ISNUMBER(F1327),E1327*F1327,\"\")","v":""},null,null,0]
[null,null,null,null,null,"",{"$f":"IF(ISNUMBER(F1328),E1328*F1328,\"\")","v":""},null,null,0]
[null,null,"Papeleira, cromada. Ref.: Modelo 2020.C.FLX – Linha Flex – Deca","un ",1,"",{"$f":"IF(ISNUMBER(F1329),E1329*F1329,\"\")","v":""},{"$f":"SUM(G1329:G1331)","v":7.4784056999999988},null,0]
[null,null,"Encanador ou Bombeiro Hidráulico com Encargos Complementares","h",0.31619999999999998,19.066499999999998,{"$f":"IF(ISNUMBER(F1330),E1330*F1330,\"\")","v":6.0288272999999988},null,null,0]
[null,null,"Servente com Encargos Complementares","h",9.9599999999999994E-2,14.554,{"$f":"IF(ISNUMBER(F1331),E1331*F1331,\"\")","v":1.4495784},null,null,0]
[null,null,null,null,null,"",{"$f":"IF(ISNUMBER(F1332),E1332*F1332,\"\")","v":""},null,null,0]
["SF-00225",{"$f":"INDEX(Orçamentária!A:B,MATCH(Composições!A1333,Orçamentária!A:A,0),2)","v":"Porta toalha argola – Linha Administrativa"},null,{"$f":"TRIM(INDEX(Orçamentária!C:C,MATCH(Composições!A1333,Orçamentária!A:A,0),1))","v":"un"},null,"",{"$f":"IF(ISNUMBER(F1333),E1333*F1333,\"\")","v":""},null,null,0]
[null,null,null,null,null,"",{"$f":"IF(ISNUMBER(F1334),E1334*F1334,\"\")","v":""},null,null,0]
[null,null,"Porta-toalha em argola, cromado. Ref.: Modelo 2050.C.FLX – Linha Flex – Deca","un ",1,"",{"$f":"IF(ISNUMBER(F1335),E1335*F1335,\"\")","v":""},{"$f":"SUM(G1335:G1337)","v":7.4784056999999988},null,0]
[null,null,"Encanador ou Bombeiro Hidráulico com Encargos Complementares","h",0.31619999999999998,19.066499999999998,{"$f":"IF(ISNUMBER(F1336),E1336*F1336,\"\")","v":6.0288272999999988},null,null,0]
[null,null,"Servente com Encargos Complementares","h",9.9599999999999994E-2,14.554,{"$f":"IF(ISNUMBER(F1337),E1337*F1337,\"\")","v":1.4495784},null,null,0]
[null,null,null,null,null,"",{"$f":"IF(ISNUMBER(F1338),E1338*F1338,\"\")","v":""},null,null,0]
["SF-00226",{"$f":"INDEX(Orçamentária!A:B,MATCH(Composições!A1339,Orçamentária!A:A,0),2)","v":"Porta toalha barra – Linha Administrativa"},null,{"$f":"TRIM(INDEX(Orçamentária!C:C,MATCH(Composições!A1339,Orçamentária!A:A,0),1))","v":"un"},null,"",{"$f":"IF(ISNUMBER(F1339),E1339*F1339,\"\")","v":""},null,null,0]
[null,null,null,null,null,"",{"$f":"IF(ISNUMBER(F1340),E1340*F1340,\"\")","v":""},null,null,0]
[null,null,"Porta-toalha em barra, cromado. Ref.: Modelo 2040.C.FLX – Linha Flex – Deca","un ",1,"",{"$f":"IF(ISNUMBER(F1341),E1341*F1341,\"\")","v":""},{"$f":"SUM(G1341:G1343)","v":14.954904749999999},null,0]
[null,null,"Encanador ou Bombeiro Hidráulico com Encargos Complementares","h",0.63229999999999997,19.066499999999998,{"$f":"IF(ISNUMBER(F1342),E1342*F1342,\"\")","v":12.055747949999999},null,null,0]
[null,null,"Servente com Encargos Complementares","h",0.19919999999999999,14.554,{"$f":"IF(ISNUMBER(F1343),E1343*F1343,\"\")","v":2.8991568000000001},null,null,0]
[null,null,null,null,null,"",{"$f":"IF(ISNUMBER(F1344),E1344*F1344,\"\")","v":""},null,null,0]
["SF-00227",{"$f":"INDEX(Orçamentária!A:B,MATCH(Composições!A1345,Orçamentária!A:A,0),2)","v":"Caixa 4x2 de embutir para alvenaria"},null,{"$f":"TRIM(INDEX(Orçamentária!C:C,MATCH(Composições!A1345,Orçamentária!A:A,0),1))","v":"un"},null,"",{"$f":"IF(ISNUMBER(F1345),E1345*F1345,\"\")","v":""},null,null,0]
[null,null,null,null,null,"",{"$f":"IF(ISNUMBER(F1346),E1346*F1346,\"\")","v":""},null,null,0]
[null,null,"Auxiliar de eletricista com encargos complementares","h",0.14499999999999999,15.447000000000001,{"$f":"IF(ISNUMBER(F1347),E1347*F1347,\"\")","v":2.2398150000000001},{"$f":"SUM(G1347:G1350)","v":7.0480756204084489},null,0]
[null,null,"Eletricista com encargos complementares","h",0.14499999999999999,19.645999999999997,{"$f":"IF(ISNUMBER(F1348),E1348*F1348,\"\")","v":2.8486699999999994},null,null,0]
[null,null,"ARGAMASSA TRAÇO 1:3 (EM VOLUME DE CIMENTO E AREIA MÉDIA ÚMIDA), PREPARO MANUAL. AF_08/2019","m3",8.9999999999999998E-4,477.87846712050003,{"$f":"IF(ISNUMBER(F1349),E1349*F1349,\"\")","v":0.43009062040845003},null,null,0]
[null,null,"Caixa de passagem, em PVC, de 4\" x 2\", para eletroduto flexivel corrugado","un",1,1.5295000000000001,{"$f":"IF(ISNUMBER(F1350),E1350*F1350,\"\")","v":1.5295000000000001},null,null,0]
[null,null,null,null,null,"",{"$f":"IF(ISNUMBER(F1351),E1351*F1351,\"\")","v":""},null,null,0]
["SF-00228",{"$f":"INDEX(Orçamentária!A:B,MATCH(Composições!A1352,Orçamentária!A:A,0),2)","v":"Caixa 4x2 para drywall"},null,{"$f":"TRIM(INDEX(Orçamentária!C:C,MATCH(Composições!A1352,Orçamentária!A:A,0),1))","v":"un"},null,"",{"$f":"IF(ISNUMBER(F1352),E1352*F1352,\"\")","v":""},null,null,0]
[null,null,null,null,null,"",{"$f":"IF(ISNUMBER(F1353),E1353*F1353,\"\")","v":""},null,null,0]
[null,null,"Auxiliar de eletricista com encargos complementares","h",0.14499999999999999,15.447000000000001,{"$f":"IF(ISNUMBER(F1354),E1354*F1354,\"\")","v":2.2398150000000001},{"$f":"SUM(G1354:G1356)","v":5.0884849999999995},null,0]
[null,null,"Eletricista com encargos complementares","h",0.14499999999999999,19.645999999999997,{"$f":"IF(ISNUMBER(F1355),E1355*F1355,\"\")","v":2.8486699999999994},null,null,0]
[null,null,"Caixa 4x2 para drywall","un",1,"",{"$f":"IF(ISNUMBER(F1356),E1356*F1356,\"\")","v":""},null,null,0]
[null,null,null,null,null,"",{"$f":"IF(ISNUMBER(F1357),E1357*F1357,\"\")","v":""},null,null,0]
["SF-00229",{"$f":"INDEX(Orçamentária!A:B,MATCH(Composições!A1358,Orçamentária!A:A,0),2)","v":"Caixa 4x4 de embutir para alvenaria"},null,{"$f":"TRIM(INDEX(Orçamentária!C:C,MATCH(Composições!A1358,Orçamentária!A:A,0),1))","v":"un"},null,"",{"$f":"IF(ISNUMBER(F1358),E1358*F1358,\"\")","v":""},null,null,0]
[null,null,null,null,null,"",{"$f":"IF(ISNUMBER(F1359),E1359*F1359,\"\")","v":""},null,null,0]
[null,null,"Auxiliar de eletricista com encargos complementares","h",0.16600000000000001,15.447000000000001,{"$f":"IF(ISNUMBER(F1360),E1360*F1360,\"\")","v":2.5642020000000003},{"$f":"SUM(G1360:G1363)","v":9.4293921605445998},null,0]
[null,null,"Eletricista com encargos complementares","h",0.16600000000000001,19.645999999999997,{"$f":"IF(ISNUMBER(F1361),E1361*F1361,\"\")","v":3.2612359999999998},null,null,0]
[null,null,"ARGAMASSA TRAÇO 1:3 (EM VOLUME DE CIMENTO E AREIA MÉDIA ÚMIDA), PREPARO MANUAL. AF_08/2019","m3",1.1999999999999999E-3,477.87846712050003,{"$f":"IF(ISNUMBER(F1362),E1362*F1362,\"\")","v":0.57345416054459997},null,null,0]
[null,null,"Caixa de passagem, em PVC, de 4\" x 4\", para eletroduto flexivel corrugado","un",1,3.0305,{"$f":"IF(ISNUMBER(F1363),E1363*F1363,\"\")","v":3.0305},null,null,0]
[null,null,null,null,null,"",{"$f":"IF(ISNUMBER(F1364),E1364*F1364,\"\")","v":""},null,null,0]
["SF-00230",{"$f":"INDEX(Orçamentária!A:B,MATCH(Composições!A1365,Orçamentária!A:A,0),2)","v":"Caixa 4x4 para drywall"},null,{"$f":"TRIM(INDEX(Orçamentária!C:C,MATCH(Composições!A1365,Orçamentária!A:A,0),1))","v":"un"},null,"",{"$f":"IF(ISNUMBER(F1365),E1365*F1365,\"\")","v":""},null,null,0]
[null,null,null,null,null,"",{"$f":"IF(ISNUMBER(F1366),E1366*F1366,\"\")","v":""},null,null,0]
[null,null,"Auxiliar de eletricista com encargos complementares","h",0.16600000000000001,15.447000000000001,{"$f":"IF(ISNUMBER(F1367),E1367*F1367,\"\")","v":2.5642020000000003},{"$f":"SUM(G1367:G1369)","v":5.8254380000000001},null,0]
[null,null,"Eletricista com encargos complementares","h",0.16600000000000001,19.645999999999997,{"$f":"IF(ISNUMBER(F1368),E1368*F1368,\"\")","v":3.2612359999999998},null,null,0]
[null,null,"Caixa 4x4 para drywall","un",1,"",{"$f":"IF(ISNUMBER(F1369),E1369*F1369,\"\")","v":""},null,null,0]
[null,null,null,null,null,"",{"$f":"IF(ISNUMBER(F1370),E1370*F1370,\"\")","v":""},null,null,0]
["SF-00231",{"$f":"INDEX(Orçamentária!A:B,MATCH(Composições!A1371,Orçamentária!A:A,0),2)","v":"Caixa de passagem em alumínio 100x100x50mm"},null,{"$f":"TRIM(INDEX(Orçamentária!C:C,MATCH(Composições!A1371,Orçamentária!A:A,0),1))","v":"un"},null,"",{"$f":"IF(ISNUMBER(F1371),E1371*F1371,\"\")","v":""},null,null,0]
[null,null,null,null,null,"",{"$f":"IF(ISNUMBER(F1372),E1372*F1372,\"\")","v":""},null,null,0]
[null,null,"Auxiliar de eletricista com encargos complementares","h",0.34599999999999997,15.447000000000001,{"$f":"IF(ISNUMBER(F1373),E1373*F1373,\"\")","v":5.3446619999999996},{"$f":"SUM(G1373:G1375)","v":12.142177999999998},null,0]
[null,null,"Eletricista com encargos complementares","h",0.34599999999999997,19.645999999999997,{"$f":"IF(ISNUMBER(F1374),E1374*F1374,\"\")","v":6.7975159999999981},null,null,0]
[null,null,"Caixa de passagem em alumínio c/ tampa, 100x100x50mm","m",1,"",{"$f":"IF(ISNUMBER(F1375),E1375*F1375,\"\")","v":""},null,null,0]
[null,null,null,null,null,"",{"$f":"IF(ISNUMBER(F1376),E1376*F1376,\"\")","v":""},null,null,0]
["SF-00232",{"$f":"INDEX(Orçamentária!A:B,MATCH(Composições!A1377,Orçamentária!A:A,0),2)","v":"Caixa de passagem em alumínio 200x200x100mm"},null,{"$f":"TRIM(INDEX(Orçamentária!C:C,MATCH(Composições!A1377,Orçamentária!A:A,0),1))","v":"un"},null,"",{"$f":"IF(ISNUMBER(F1377),E1377*F1377,\"\")","v":""},null,null,0]
[null,null,null,null,null,"",{"$f":"IF(ISNUMBER(F1378),E1378*F1378,\"\")","v":""},null,null,0]
[null,null,"Auxiliar de eletricista com encargos complementares","h",0.34599999999999997,15.447000000000001,{"$f":"IF(ISNUMBER(F1379),E1379*F1379,\"\")","v":5.3446619999999996},{"$f":"SUM(G1379:G1381)","v":12.142177999999998},null,0]
[null,null,"Eletricista com encargos complementares","h",0.34599999999999997,19.645999999999997,{"$f":"IF(ISNUMBER(F1380),E1380*F1380,\"\")","v":6.7975159999999981},null,null,0]
[null,null,"Caixa de passagem em alumínio c/ tampa, 200x200x100mm","m",1,"",{"$f":"IF(ISNUMBER(F1381),E1381*F1381,\"\")","v":""},null,null,0]
[null,null,null,null,null,"",{"$f":"IF(ISNUMBER(F1382),E1382*F1382,\"\")","v":""},null,null,0]
["SF-00233",{"$f":"INDEX(Orçamentária!A:B,MATCH(Composições!A1383,Orçamentária!A:A,0),2)","v":"Caixa de passagem em PVC 150x150x75mm"},null,{"$f":"TRIM(INDEX(Orçamentária!C:C,MATCH(Composições!A1383,Orçamentária!A:A,0),1))","v":"un"},null,"",{"$f":"IF(ISNUMBER(F1383),E1383*F1383,\"\")","v":""},null,null,0]
[null,null,null,null,null,"",{"$f":"IF(ISNUMBER(F1384),E1384*F1384,\"\")","v":""},null,null,0]
[null,null,"Eletricista com encargos complementares","h",0.34599999999999997,19.645999999999997,{"$f":"IF(ISNUMBER(F1385),E1385*F1385,\"\")","v":6.7975159999999981},{"$f":"SUM(G1385:G1387)","v":43.762699999999995},null,0]
[null,null,"Servente com Encargos Complementares","h",0.34599999999999997,14.554,{"$f":"IF(ISNUMBER(F1386),E1386*F1386,\"\")","v":5.0356839999999998},null,null,0]
[null,null,"CAIXA DE PASSAGEM ELETRICA DE PAREDE, DE EMBUTIR, EM PVC, COM TAMPA APARAFUSADA, DIMENSOES 150 X 150 X *75* MM","un",1,31.929499999999997,{"$f":"IF(ISNUMBER(F1387),E1387*F1387,\"\")","v":31.929499999999997},null,null,0]
[null,null,null,null,null,"",{"$f":"IF(ISNUMBER(F1388),E1388*F1388,\"\")","v":""},null,null,0]
["SF-00234",{"$f":"INDEX(Orçamentária!A:B,MATCH(Composições!A1389,Orçamentária!A:A,0),2)","v":"Caixa para piso elevado"},null,{"$f":"TRIM(INDEX(Orçamentária!C:C,MATCH(Composições!A1389,Orçamentária!A:A,0),1))","v":"un"},null,"",{"$f":"IF(ISNUMBER(F1389),E1389*F1389,\"\")","v":""},null,null,0]
[null,null,null,null,null,"",{"$f":"IF(ISNUMBER(F1390),E1390*F1390,\"\")","v":""},null,null,0]
[null,null,"Eletricista com encargos complementares","h",0.34599999999999997,19.645999999999997,{"$f":"IF(ISNUMBER(F1391),E1391*F1391,\"\")","v":6.7975159999999981},{"$f":"SUM(G1391:G1393)","v":12.142177999999998},null,0]
[null,null,"Auxiliar de eletricista com encargos complementares","h",0.34599999999999997,15.447000000000001,{"$f":"IF(ISNUMBER(F1392),E1392*F1392,\"\")","v":5.3446619999999996},null,null,0]
[null,null,"Caixa para piso elevado, 170 mm x 170 mm x 70 mm (dimensões aproximadas), incluindo módulos de tomadas 2P+T (fêmea).","un",1,"",{"$f":"IF(ISNUMBER(F1393),E1393*F1393,\"\")","v":""},null,null,0]
[null,null,null,null,null,"",{"$f":"IF(ISNUMBER(F1394),E1394*F1394,\"\")","v":""},null,null,0]
["SF-00235",{"$f":"INDEX(Orçamentária!A:B,MATCH(Composições!A1395,Orçamentária!A:A,0),2)","v":"Canaleta em alumínio aparente 73mmx25mm"},null,{"$f":"TRIM(INDEX(Orçamentária!C:C,MATCH(Composições!A1395,Orçamentária!A:A,0),1))","v":"m"},null,"",{"$f":"IF(ISNUMBER(F1395),E1395*F1395,\"\")","v":""},null,null,0]
[null,null,null,null,null,"",{"$f":"IF(ISNUMBER(F1396),E1396*F1396,\"\")","v":""},null,null,0]
[null,null,"Canaleta em alumínio com tampa, divisória interna, 73x25mm, incluindo curvas, conexões e acessórios de fixação","m",1.1499999999999999,"",{"$f":"IF(ISNUMBER(F1397),E1397*F1397,\"\")","v":""},{"$f":"SUM(G1397:G1399)","v":6.3167399999999994},null,0]
[null,null,"Auxiliar de eletricista com encargos complementares","h",0.18,15.447000000000001,{"$f":"IF(ISNUMBER(F1398),E1398*F1398,\"\")","v":2.7804600000000002},null,null,0]
[null,null,"Eletricista com encargos complementares","h",0.18,19.645999999999997,{"$f":"IF(ISNUMBER(F1399),E1399*F1399,\"\")","v":3.5362799999999992},null,null,0]
[null,null,null,null,null,"",{"$f":"IF(ISNUMBER(F1400),E1400*F1400,\"\")","v":""},null,null,0]
["SF-00236",{"$f":"INDEX(Orçamentária!A:B,MATCH(Composições!A1401,Orçamentária!A:A,0),2)","v":"Condulete de alumínio de 1’’"},null,{"$f":"TRIM(INDEX(Orçamentária!C:C,MATCH(Composições!A1401,Orçamentária!A:A,0),1))","v":"un"},null,"",{"$f":"IF(ISNUMBER(F1401),E1401*F1401,\"\")","v":""},null,null,0]
[null,null,null,null,null,"",{"$f":"IF(ISNUMBER(F1402),E1402*F1402,\"\")","v":""},null,null,0]
[null,null,"Auxiliar de eletricista com encargos complementares","h",0.53849999999999998,15.447000000000001,{"$f":"IF(ISNUMBER(F1403),E1403*F1403,\"\")","v":8.3182095},{"$f":"SUM(G1403:G1406)","v":31.285580499999995},null,0]
[null,null,"Eletricista com encargos complementares","h",0.53849999999999998,19.645999999999997,{"$f":"IF(ISNUMBER(F1404),E1404*F1404,\"\")","v":10.579370999999998},null,null,0]
[null,null,"Bucha de nylon sem aba S6, com parafuso de 4,20 x 40 mm em aco zincado com rosca soberba, cabeca chata e fenda Phillips","un",2,0.29449999999999998,{"$f":"IF(ISNUMBER(F1405),E1405*F1405,\"\")","v":0.58899999999999997},null,null,0]
[null,null,"Condulete de aluminio tipo X, para eletroduto roscavel de 1\", com tampa cega","un",1,11.798999999999999,{"$f":"IF(ISNUMBER(F1406),E1406*F1406,\"\")","v":11.798999999999999},null,null,0]
[null,null,null,null,null,"",{"$f":"IF(ISNUMBER(F1407),E1407*F1407,\"\")","v":""},null,null,0]
["SF-00237",{"$f":"INDEX(Orçamentária!A:B,MATCH(Composições!A1408,Orçamentária!A:A,0),2)","v":"Eletrocalha 100x50 mm"},null,{"$f":"TRIM(INDEX(Orçamentária!C:C,MATCH(Composições!A1408,Orçamentária!A:A,0),1))","v":"m"},null,"",{"$f":"IF(ISNUMBER(F1408),E1408*F1408,\"\")","v":""},null,null,0]
[null,null,null,null,null,"",{"$f":"IF(ISNUMBER(F1409),E1409*F1409,\"\")","v":""},null,null,0]
[null,null,"Eletricista com encargos complementares","h",0.45,19.645999999999997,{"$f":"IF(ISNUMBER(F1410),E1410*F1410,\"\")","v":8.8406999999999982},{"$f":"SUM(G1410:G1421)","v":16.704602399999999},null,0]
[null,null,"Auxiliar de eletricista com encargos complementares","h",0.45,15.447000000000001,{"$f":"IF(ISNUMBER(F1411),E1411*F1411,\"\")","v":6.9511500000000002},null,null,0]
[null,null,"Tiro com pistola para fixação de pino Ø 1/4\" em concreto, inclusive cartucho e pino","un ",0.67,0,{"$f":"IF(ISNUMBER(F1412),E1412*F1412,\"\")","v":0},null,null,0]
[null,null,"Eletrocalha perfurada (cabos elétricos) ou lisa (dados), tipo \"U\", de aço galvanizado eletrolítico 100 x 50 mm, fabricado em chapa #20 (0,95 mm)","m",1.05,"",{"$f":"IF(ISNUMBER(F1413),E1413*F1413,\"\")","v":""},null,null,0]
[null,null,"Barra roscada em aço Ø 1/4\", comprimento 1 m, bicromatizada ou zincada","m",0.8,0,{"$f":"IF(ISNUMBER(F1414),E1414*F1414,\"\")","v":0},null,null,0]
[null,null,"PORCA ZINCADA, SEXTAVADA, DIAMETRO 1/4\"","UN",4.0033000000000003,0.22799999999999998,{"$f":"IF(ISNUMBER(F1415),E1415*F1415,\"\")","v":0.91275240000000002},null,null,0]
[null,null,"Arruela em aço galvanizado Ø 1/4\"","un ",4.0033000000000003,0,{"$f":"IF(ISNUMBER(F1416),E1416*F1416,\"\")","v":0},null,null,0]
[null,null,"Suporte suspensão vertical para eletrocalha 100 x 50 mm largura x aba","un ",0.67,0,{"$f":"IF(ISNUMBER(F1417),E1417*F1417,\"\")","v":0},null,null,0]
[null,null,"Prolongador para tirante rosqueado de 1/4\" x 50 mm","un ",1.05,0,{"$f":"IF(ISNUMBER(F1418),E1418*F1418,\"\")","v":0},null,null,0]
[null,null,"Parafuso lentilha 1/4 x 1/2\"","un",2.67,0,{"$f":"IF(ISNUMBER(F1419),E1419*F1419,\"\")","v":0},null,null,0]
[null,null,"Tala auto portante para emenda 50 mm","un ",0.66669999999999996,0,{"$f":"IF(ISNUMBER(F1420),E1420*F1420,\"\")","v":0},null,null,0]
[null,null,"Tampa de encaixe para eletrocalha aço galvanizado perfurada ou lisa, 100 mm","m",1.05,"",{"$f":"IF(ISNUMBER(F1421),E1421*F1421,\"\")","v":""},null,null,0]
[null,null,null,null,null,"",{"$f":"IF(ISNUMBER(F1422),E1422*F1422,\"\")","v":""},null,null,0]
["SF-00238",{"$f":"INDEX(Orçamentária!A:B,MATCH(Composições!A1423,Orçamentária!A:A,0),2)","v":"Eletrocalha 200x100 mm"},null,{"$f":"TRIM(INDEX(Orçamentária!C:C,MATCH(Composições!A1423,Orçamentária!A:A,0),1))","v":"m"},null,"",{"$f":"IF(ISNUMBER(F1423),E1423*F1423,\"\")","v":""},null,null,0]
[null,null,null,null,null,"",{"$f":"IF(ISNUMBER(F1424),E1424*F1424,\"\")","v":""},null,null,0]
[null,null,"Eletricista com encargos complementares","h",0.6,19.645999999999997,{"$f":"IF(ISNUMBER(F1425),E1425*F1425,\"\")","v":11.787599999999998},{"$f":"SUM(G1425:G1436)","v":22.272567599999999},null,0]
[null,null,"Auxiliar de eletricista com encargos complementares","h",0.6,15.447000000000001,{"$f":"IF(ISNUMBER(F1426),E1426*F1426,\"\")","v":9.2682000000000002},null,null,0]
[null,null,"Tiro com pistola para fixação de pino Ø 1/4\" em concreto, inclusive cartucho e pino","un ",1.3332999999999999,0,{"$f":"IF(ISNUMBER(F1427),E1427*F1427,\"\")","v":0},null,null,0]
[null,null,"Eletrocalha perfurada (cabos elétricos) ou lisa (dados), tipo \"U\", de aço galvanizado eletrolítico 200 x 100 mm, fabricado em chapa #18 (1,25 mm)","m",1.05,"",{"$f":"IF(ISNUMBER(F1428),E1428*F1428,\"\")","v":""},null,null,0]
[null,null,"Barra roscada em aço Ø 1/4\", comprimento 1 m, bicromatizada ou zincada","m",1.6,0,{"$f":"IF(ISNUMBER(F1429),E1429*F1429,\"\")","v":0},null,null,0]
[null,null,"PORCA ZINCADA, SEXTAVADA, DIAMETRO 1/4\"","UN",5.3367000000000004,0.22799999999999998,{"$f":"IF(ISNUMBER(F1430),E1430*F1430,\"\")","v":1.2167676000000001},null,null,0]
[null,null,"Arruela em aço galvanizado Ø 1/4\"","un ",5.34,0,{"$f":"IF(ISNUMBER(F1431),E1431*F1431,\"\")","v":0},null,null,0]
[null,null,"Suporte suspensão omega para eletrocalha 200 x 100mm largura x aba","un ",0.67,0,{"$f":"IF(ISNUMBER(F1432),E1432*F1432,\"\")","v":0},null,null,0]
[null,null,"Prolongador para tirante rosqueado de 1/4\" x 50 mm","un ",1.3332999999999999,0,{"$f":"IF(ISNUMBER(F1433),E1433*F1433,\"\")","v":0},null,null,0]
[null,null,"Parafuso lentilha 1/4 x 1/2\"","un",2.67,0,{"$f":"IF(ISNUMBER(F1434),E1434*F1434,\"\")","v":0},null,null,0]
[null,null,"Tala auto portante para emenda 100 mm","un ",0.67,0,{"$f":"IF(ISNUMBER(F1435),E1435*F1435,\"\")","v":0},null,null,0]
[null,null,"Tampa de encaixe para eletrocalha aço galvanizado perfurada ou lisa, 200 mm","m",1.05,"",{"$f":"IF(ISNUMBER(F1436),E1436*F1436,\"\")","v":""},null,null,0]
[null,null,null,null,null,"",{"$f":"IF(ISNUMBER(F1437),E1437*F1437,\"\")","v":""},null,null,0]
["SF-00239",{"$f":"INDEX(Orçamentária!A:B,MATCH(Composições!A1438,Orçamentária!A:A,0),2)","v":"Eletrocalha 200x50 mm"},null,{"$f":"TRIM(INDEX(Orçamentária!C:C,MATCH(Composições!A1438,Orçamentária!A:A,0),1))","v":"m"},null,"",{"$f":"IF(ISNUMBER(F1438),E1438*F1438,\"\")","v":""},null,null,0]
[null,null,null,null,null,"",{"$f":"IF(ISNUMBER(F1439),E1439*F1439,\"\")","v":""},null,null,0]
[null,null,"Eletricista com encargos complementares","h",0.5,19.645999999999997,{"$f":"IF(ISNUMBER(F1440),E1440*F1440,\"\")","v":9.8229999999999986},{"$f":"SUM(G1440:G1451)","v":18.763267599999999},null,0]
[null,null,"Auxiliar de eletricista com encargos complementares","h",0.5,15.447000000000001,{"$f":"IF(ISNUMBER(F1441),E1441*F1441,\"\")","v":7.7235000000000005},null,null,0]
[null,null,"Tiro com pistola para fixação de pino Ø 1/4\" em concreto, inclusive cartucho e pino","un ",1.3332999999999999,0,{"$f":"IF(ISNUMBER(F1442),E1442*F1442,\"\")","v":0},null,null,0]
[null,null,"Eletrocalha perfurada (cabos elétricos) ou lisa (dados), tipo \"U\", de aço galvanizado eletrolítico 200 x 50 mm, fabricado em chapa #18 (1,25 mm)","m",1.05,"",{"$f":"IF(ISNUMBER(F1443),E1443*F1443,\"\")","v":""},null,null,0]
[null,null,"Barra roscada em aço Ø 1/4\", comprimento 1 m, bicromatizada ou zincada","m",1.6,0,{"$f":"IF(ISNUMBER(F1444),E1444*F1444,\"\")","v":0},null,null,0]
[null,null,"PORCA ZINCADA, SEXTAVADA, DIAMETRO 1/4\"","UN",5.3367000000000004,0.22799999999999998,{"$f":"IF(ISNUMBER(F1445),E1445*F1445,\"\")","v":1.2167676000000001},null,null,0]
[null,null,"Arruela em aço galvanizado Ø 1/4\"","un ",5.34,0,{"$f":"IF(ISNUMBER(F1446),E1446*F1446,\"\")","v":0},null,null,0]
[null,null,"Suporte suspensão omega para eletrocalha 200 x 50 mm largura x aba","un ",0.67,0,{"$f":"IF(ISNUMBER(F1447),E1447*F1447,\"\")","v":0},null,null,0]
[null,null,"Prolongador para tirante rosqueado de 1/4\" x 50 mm","un ",1.3332999999999999,0,{"$f":"IF(ISNUMBER(F1448),E1448*F1448,\"\")","v":0},null,null,0]
[null,null,"Parafuso lentilha 1/4 x 1/2\"","un",2.67,0,{"$f":"IF(ISNUMBER(F1449),E1449*F1449,\"\")","v":0},null,null,0]
[null,null,"Tala auto portante para emenda 50 mm","un ",0.67,0,{"$f":"IF(ISNUMBER(F1450),E1450*F1450,\"\")","v":0},null,null,0]
[null,null,"Tampa de encaixe para eletrocalha aço galvanizado perfurada ou lisa, 200 mm","m",1.05,"",{"$f":"IF(ISNUMBER(F1451),E1451*F1451,\"\")","v":""},null,null,0]
[null,null,null,null,null,"",{"$f":"IF(ISNUMBER(F1452),E1452*F1452,\"\")","v":""},null,null,0]
["SF-00240",{"$f":"INDEX(Orçamentária!A:B,MATCH(Composições!A1453,Orçamentária!A:A,0),2)","v":"Eletrocalha 300x100 mm"},null,{"$f":"TRIM(INDEX(Orçamentária!C:C,MATCH(Composições!A1453,Orçamentária!A:A,0),1))","v":"m"},null,"",{"$f":"IF(ISNUMBER(F1453),E1453*F1453,\"\")","v":""},null,null,0]
[null,null,null,null,null,"",{"$f":"IF(ISNUMBER(F1454),E1454*F1454,\"\")","v":""},null,null,0]
[null,null,"Eletricista com encargos complementares","h",0.65,19.645999999999997,{"$f":"IF(ISNUMBER(F1455),E1455*F1455,\"\")","v":12.769899999999998},{"$f":"SUM(G1455:G1466)","v":24.0272176},null,0]
[null,null,"Auxiliar de eletricista com encargos complementares","h",0.65,15.447000000000001,{"$f":"IF(ISNUMBER(F1456),E1456*F1456,\"\")","v":10.040550000000001},null,null,0]
[null,null,"Tiro com pistola para fixação de pino Ø 1/4\" em concreto, inclusive cartucho e pino","un ",1.3332999999999999,0,{"$f":"IF(ISNUMBER(F1457),E1457*F1457,\"\")","v":0},null,null,0]
[null,null,"Eletrocalha perfurada (cabos elétricos) ou lisa (dados), tipo \"U\", de aço galvanizado eletrolítico 300 x 100 mm, fabricado em chapa #18 (1,25 mm)","m",1.05,"",{"$f":"IF(ISNUMBER(F1458),E1458*F1458,\"\")","v":""},null,null,0]
[null,null,"Barra roscada em aço Ø 1/4\", comprimento 1 m, bicromatizada ou zincada","m",1.6,0,{"$f":"IF(ISNUMBER(F1459),E1459*F1459,\"\")","v":0},null,null,0]
[null,null,"PORCA ZINCADA, SEXTAVADA, DIAMETRO 1/4\"","UN",5.3367000000000004,0.22799999999999998,{"$f":"IF(ISNUMBER(F1460),E1460*F1460,\"\")","v":1.2167676000000001},null,null,0]
[null,null,"Arruela em aço galvanizado Ø 1/4\"","un ",5.34,0,{"$f":"IF(ISNUMBER(F1461),E1461*F1461,\"\")","v":0},null,null,0]
[null,null,"Suporte suspensão omega para eletrocalha 300 x 100 mm largura x aba","un ",0.67,0,{"$f":"IF(ISNUMBER(F1462),E1462*F1462,\"\")","v":0},null,null,0]
[null,null,"Prolongador para tirante rosqueado de 1/4\" x 50 mm","un ",1.3332999999999999,0,{"$f":"IF(ISNUMBER(F1463),E1463*F1463,\"\")","v":0},null,null,0]
[null,null,"Parafuso lentilha 1/4 x 1/2\"","un",2.67,0,{"$f":"IF(ISNUMBER(F1464),E1464*F1464,\"\")","v":0},null,null,0]
[null,null,"Tala auto portante para emenda 100 mm","un ",0.67,0,{"$f":"IF(ISNUMBER(F1465),E1465*F1465,\"\")","v":0},null,null,0]
[null,null,"Tampa de encaixe para eletrocalha aço galvanizado perfurada ou lisa, 300 mm","m",1.05,"",{"$f":"IF(ISNUMBER(F1466),E1466*F1466,\"\")","v":""},null,null,0]
[null,null,null,null,null,"",{"$f":"IF(ISNUMBER(F1467),E1467*F1467,\"\")","v":""},null,null,0]
["SF-00241",{"$f":"INDEX(Orçamentária!A:B,MATCH(Composições!A1468,Orçamentária!A:A,0),2)","v":"Eletrocalha 300x50 mm"},null,{"$f":"TRIM(INDEX(Orçamentária!C:C,MATCH(Composições!A1468,Orçamentária!A:A,0),1))","v":"m"},null,"",{"$f":"IF(ISNUMBER(F1468),E1468*F1468,\"\")","v":""},null,null,0]
[null,null,null,null,null,"",{"$f":"IF(ISNUMBER(F1469),E1469*F1469,\"\")","v":""},null,null,0]
[null,null,"Eletricista com encargos complementares","h",0.55000000000000004,19.645999999999997,{"$f":"IF(ISNUMBER(F1470),E1470*F1470,\"\")","v":10.805299999999999},{"$f":"SUM(G1470:G1481)","v":20.517917600000001},null,0]
[null,null,"Auxiliar de eletricista com encargos complementares","h",0.55000000000000004,15.447000000000001,{"$f":"IF(ISNUMBER(F1471),E1471*F1471,\"\")","v":8.4958500000000008},null,null,0]
[null,null,"Tiro com pistola para fixação de pino Ø 1/4\" em concreto, inclusive cartucho e pino","un ",1.3332999999999999,0,{"$f":"IF(ISNUMBER(F1472),E1472*F1472,\"\")","v":0},null,null,0]
[null,null,"Eletrocalha perfurada (cabos elétricos) ou lisa (dados), tipo \"U\", de aço galvanizado eletrolítico 300 x 050 mm, fabricado em chapa #18 (1,25 mm)","m",1.05,"",{"$f":"IF(ISNUMBER(F1473),E1473*F1473,\"\")","v":""},null,null,0]
[null,null,"Barra roscada em aço Ø 1/4\", comprimento 1 m, bicromatizada ou zincada","m",1.6,0,{"$f":"IF(ISNUMBER(F1474),E1474*F1474,\"\")","v":0},null,null,0]
[null,null,"PORCA ZINCADA, SEXTAVADA, DIAMETRO 1/4\"","UN",5.3367000000000004,0.22799999999999998,{"$f":"IF(ISNUMBER(F1475),E1475*F1475,\"\")","v":1.2167676000000001},null,null,0]
[null,null,"Arruela em aço galvanizado Ø 1/4\"","un ",5.34,0,{"$f":"IF(ISNUMBER(F1476),E1476*F1476,\"\")","v":0},null,null,0]
[null,null,"Suporte suspensão omega para eletrocalha 300 x 50 mm largura x aba","un ",0.67,0,{"$f":"IF(ISNUMBER(F1477),E1477*F1477,\"\")","v":0},null,null,0]
[null,null,"Prolongador para tirante rosqueado de 1/4\" x 50 mm","un ",1.3332999999999999,0,{"$f":"IF(ISNUMBER(F1478),E1478*F1478,\"\")","v":0},null,null,0]
[null,null,"Parafuso lentilha 1/4 x 1/2\"","un",2.67,0,{"$f":"IF(ISNUMBER(F1479),E1479*F1479,\"\")","v":0},null,null,0]
[null,null,"Tala auto portante para emenda 50 mm","un ",0.67,0,{"$f":"IF(ISNUMBER(F1480),E1480*F1480,\"\")","v":0},null,null,0]
[null,null,"Tampa de encaixe para eletrocalha aço galvanizado perfurada ou lisa, 300 mm","m",1.05,"",{"$f":"IF(ISNUMBER(F1481),E1481*F1481,\"\")","v":""},null,null,0]
[null,null,null,null,null,"",{"$f":"IF(ISNUMBER(F1482),E1482*F1482,\"\")","v":""},null,null,0]
["SF-00242",{"$f":"INDEX(Orçamentária!A:B,MATCH(Composições!A1483,Orçamentária!A:A,0),2)","v":"Eletrocalha 400x50 mm"},null,{"$f":"TRIM(INDEX(Orçamentária!C:C,MATCH(Composições!A1483,Orçamentária!A:A,0),1))","v":"m"},null,"",{"$f":"IF(ISNUMBER(F1483),E1483*F1483,\"\")","v":""},null,null,0]
[null,null,null,null,null,"",{"$f":"IF(ISNUMBER(F1484),E1484*F1484,\"\")","v":""},null,null,0]
[null,null,"Eletricista com encargos complementares","h",0.55000000000000004,19.645999999999997,{"$f":"IF(ISNUMBER(F1485),E1485*F1485,\"\")","v":10.805299999999999},{"$f":"SUM(G1485:G1496)","v":20.517917600000001},null,0]
[null,null,"Auxiliar de eletricista com encargos complementares","h",0.55000000000000004,15.447000000000001,{"$f":"IF(ISNUMBER(F1486),E1486*F1486,\"\")","v":8.4958500000000008},null,null,0]
[null,null,"Tiro com pistola para fixação de pino Ø 1/4\" em concreto, inclusive cartucho e pino","un ",1.3332999999999999,0,{"$f":"IF(ISNUMBER(F1487),E1487*F1487,\"\")","v":0},null,null,0]
[null,null,"Eletrocalha perfurada (cabos elétricos) ou lisa (dados), tipo \"U\", de aço galvanizado eletrolítico 400 x 050 mm, fabricado em chapa #16 (1,55 mm)","m",1.05,"",{"$f":"IF(ISNUMBER(F1488),E1488*F1488,\"\")","v":""},null,null,0]
[null,null,"Barra roscada em aço Ø 1/4\", comprimento 1 m, bicromatizada ou zincada","m",1.6,0,{"$f":"IF(ISNUMBER(F1489),E1489*F1489,\"\")","v":0},null,null,0]
[null,null,"PORCA ZINCADA, SEXTAVADA, DIAMETRO 1/4\"","UN",5.3367000000000004,0.22799999999999998,{"$f":"IF(ISNUMBER(F1490),E1490*F1490,\"\")","v":1.2167676000000001},null,null,0]
[null,null,"Arruela em aço galvanizado Ø 1/4\"","un ",5.34,0,{"$f":"IF(ISNUMBER(F1491),E1491*F1491,\"\")","v":0},null,null,0]
[null,null,"Suporte suspensão omega para eletrocalha 400 x 50 mm largura x aba","un ",0.67,0,{"$f":"IF(ISNUMBER(F1492),E1492*F1492,\"\")","v":0},null,null,0]
[null,null,"Prolongador para tirante rosqueado de 1/4\" x 50 mm","un ",1.3332999999999999,0,{"$f":"IF(ISNUMBER(F1493),E1493*F1493,\"\")","v":0},null,null,0]
[null,null,"Parafuso lentilha 1/4 x 1/2\"","un",2.67,0,{"$f":"IF(ISNUMBER(F1494),E1494*F1494,\"\")","v":0},null,null,0]
[null,null,"Tala auto portante para emenda 50 mm","un ",0.67,0,{"$f":"IF(ISNUMBER(F1495),E1495*F1495,\"\")","v":0},null,null,0]
[null,null,"Tampa de encaixe para eletrocalha aço galvanizado perfurada ou lisa, 400 mm","m",1.05,"",{"$f":"IF(ISNUMBER(F1496),E1496*F1496,\"\")","v":""},null,null,0]
[null,null,null,null,null,"",{"$f":"IF(ISNUMBER(F1497),E1497*F1497,\"\")","v":""},null,null,0]
["SF-00243",{"$f":"INDEX(Orçamentária!A:B,MATCH(Composições!A1498,Orçamentária!A:A,0),2)","v":"Eletrocalha 50x50 mm"},null,{"$f":"TRIM(INDEX(Orçamentária!C:C,MATCH(Composições!A1498,Orçamentária!A:A,0),1))","v":"m"},null,"",{"$f":"IF(ISNUMBER(F1498),E1498*F1498,\"\")","v":""},null,null,0]
[null,null,null,null,null,"",{"$f":"IF(ISNUMBER(F1499),E1499*F1499,\"\")","v":""},null,null,0]
[null,null,"Eletricista com encargos complementares","h",0.45,19.645999999999997,{"$f":"IF(ISNUMBER(F1500),E1500*F1500,\"\")","v":8.8406999999999982},{"$f":"SUM(G1500:G1511)","v":17.3411024},null,0]
[null,null,"Auxiliar de eletricista com encargos complementares","h",0.45,15.447000000000001,{"$f":"IF(ISNUMBER(F1501),E1501*F1501,\"\")","v":6.9511500000000002},null,null,0]
[null,null,"Tiro com pistola para fixação de pino Ø 1/4\" em concreto, inclusive cartucho e pino","un ",0.67,0,{"$f":"IF(ISNUMBER(F1502),E1502*F1502,\"\")","v":0},null,null,0]
[null,null,"Eletrocalha perfurada (cabos elétricos) ou lisa (dados), tipo \"U\", de aço galvanizado eletrolítico 50 x 50 mm, fabricado em chapa #22 (0,8 mm)","m",1.05,"",{"$f":"IF(ISNUMBER(F1503),E1503*F1503,\"\")","v":""},null,null,0]
[null,null,"Barra roscada em aço Ø 1/4\", comprimento 1 m, bicromatizada ou zincada","m",0.8,0,{"$f":"IF(ISNUMBER(F1504),E1504*F1504,\"\")","v":0},null,null,0]
[null,null,"PORCA ZINCADA, SEXTAVADA, DIAMETRO 1/4\"","UN",4.0033000000000003,0.22799999999999998,{"$f":"IF(ISNUMBER(F1505),E1505*F1505,\"\")","v":0.91275240000000002},null,null,0]
[null,null,"Arruela em aço galvanizado Ø 1/4\"","un ",4.0033000000000003,0,{"$f":"IF(ISNUMBER(F1506),E1506*F1506,\"\")","v":0},null,null,0]
[null,null,"Suporte suspensão vertical para eletrocalha 50 x 50 mm largura x aba","un ",0.67,0.95,{"$f":"IF(ISNUMBER(F1507),E1507*F1507,\"\")","v":0.63649999999999995},null,null,0]
[null,null,"Prolongador para tirante rosqueado de 1/4\" x 50 mm","un ",1.05,0,{"$f":"IF(ISNUMBER(F1508),E1508*F1508,\"\")","v":0},null,null,0]
[null,null,"Parafuso lentilha 1/4 x 1/2\"","un",2.67,0,{"$f":"IF(ISNUMBER(F1509),E1509*F1509,\"\")","v":0},null,null,0]
[null,null,"Tala auto portante para emenda 50 mm","un ",0.66669999999999996,0,{"$f":"IF(ISNUMBER(F1510),E1510*F1510,\"\")","v":0},null,null,0]
[null,null,"Tampa de encaixe para eletrocalha aço galvanizado perfurada ou lisa, 50 mm","m",1.05,"",{"$f":"IF(ISNUMBER(F1511),E1511*F1511,\"\")","v":""},null,null,0]
[null,null,null,null,null,"",{"$f":"IF(ISNUMBER(F1512),E1512*F1512,\"\")","v":""},null,null,0]
["SF-00244",{"$f":"INDEX(Orçamentária!A:B,MATCH(Composições!A1513,Orçamentária!A:A,0),2)","v":"Eletroduto de aço galvanizado de 1 1/2\""},null,{"$f":"TRIM(INDEX(Orçamentária!C:C,MATCH(Composições!A1513,Orçamentária!A:A,0),1))","v":"m"},null,"",{"$f":"IF(ISNUMBER(F1513),E1513*F1513,\"\")","v":""},null,null,0]
[null,null,null,null,null,"",{"$f":"IF(ISNUMBER(F1514),E1514*F1514,\"\")","v":""},null,null,0]
[null,null,"Eletroduto de aço com costura galvanização eletrolítica Ø 1 1/2\"","m",1.05,0,{"$f":"IF(ISNUMBER(F1515),E1515*F1515,\"\")","v":0},{"$f":"SUM(G1515:G1519)","v":16.58399537819},null,0]
[null,null,"Eletricista com encargos complementares","h",0.28210000000000002,19.645999999999997,{"$f":"IF(ISNUMBER(F1516),E1516*F1516,\"\")","v":5.5421365999999992},null,null,0]
[null,null,"Auxiliar de eletricista com encargos complementares","h",0.28210000000000002,15.447000000000001,{"$f":"IF(ISNUMBER(F1517),E1517*F1517,\"\")","v":4.3575987000000005},null,null,0]
[null,null,"Fixação de tubos verticais de PPR diâmetros menores ou iguais a 40 mm com abraçadeira metálica rígida tipo D 1/2\", fixada em perfilado em alvenaria. af_05/2015","m",2,1.0872465,{"$f":"IF(ISNUMBER(F1518),E1518*F1518,\"\")","v":2.174493},null,null,0]
[null,null,"Luva de emenda para eletroduto, aço galvanizado, DN 40 mm (1 1/2''), aparente, instalada em parede - fornecimento e instalação. af_11/2016_p","UN",0.33329999999999999,13.5306543,{"$f":"IF(ISNUMBER(F1519),E1519*F1519,\"\")","v":4.5097670781899994},null,null,0]
[null,null,null,null,null,"",{"$f":"IF(ISNUMBER(F1520),E1520*F1520,\"\")","v":""},null,null,0]
["SF-00245",{"$f":"INDEX(Orçamentária!A:B,MATCH(Composições!A1521,Orçamentária!A:A,0),2)","v":"Eletroduto de aço galvanizado de 1 1/4\""},null,{"$f":"TRIM(INDEX(Orçamentária!C:C,MATCH(Composições!A1521,Orçamentária!A:A,0),1))","v":"m"},null,"",{"$f":"IF(ISNUMBER(F1521),E1521*F1521,\"\")","v":""},null,null,0]
[null,null,null,null,null,"",{"$f":"IF(ISNUMBER(F1522),E1522*F1522,\"\")","v":""},null,null,0]
[null,null,"Eletroduto de aço com costura galvanização eletrolítica Ø 1 1/4\"","m",1.05,0,{"$f":"IF(ISNUMBER(F1523),E1523*F1523,\"\")","v":0},{"$f":"SUM(G1523:G1527)","v":14.530460030179999},null,0]
[null,null,"Eletricista com encargos complementares","h",0.247,19.645999999999997,{"$f":"IF(ISNUMBER(F1524),E1524*F1524,\"\")","v":4.8525619999999989},null,null,0]
[null,null,"Auxiliar de eletricista com encargos complementares","h",0.247,15.447000000000001,{"$f":"IF(ISNUMBER(F1525),E1525*F1525,\"\")","v":3.8154090000000003},null,null,0]
[null,null,"Fixação de tubos verticais de PPR diâmetros menores ou iguais a 40 mm com abraçadeira metálica rígida tipo D 1/2\", fixada em perfilado em alvenaria. af_05/2015","m",2,1.0872465,{"$f":"IF(ISNUMBER(F1526),E1526*F1526,\"\")","v":2.174493},null,null,0]
[null,null,"Luva de emenda para eletroduto, aço galvanizado, DN 32 mm (1 1/4''), aparente, instalada em parede - fornecimento e instalação. af_11/2016_p","UN",0.33329999999999999,11.0650946,{"$f":"IF(ISNUMBER(F1527),E1527*F1527,\"\")","v":3.6879960301799999},null,null,0]
[null,null,null,null,null,"",{"$f":"IF(ISNUMBER(F1528),E1528*F1528,\"\")","v":""},null,null,0]
["SF-00246",{"$f":"INDEX(Orçamentária!A:B,MATCH(Composições!A1529,Orçamentária!A:A,0),2)","v":"Eletroduto de aço galvanizado de 1\""},null,{"$f":"TRIM(INDEX(Orçamentária!C:C,MATCH(Composições!A1529,Orçamentária!A:A,0),1))","v":"m"},null,"",{"$f":"IF(ISNUMBER(F1529),E1529*F1529,\"\")","v":""},null,null,0]
[null,null,null,null,null,"",{"$f":"IF(ISNUMBER(F1530),E1530*F1530,\"\")","v":""},null,null,0]
[null,null,"Eletroduto de aço com costura galvanização eletrolítica Ø 1\"","m",1.05,0,{"$f":"IF(ISNUMBER(F1531),E1531*F1531,\"\")","v":0},{"$f":"SUM(G1531:G1535)","v":12.69078526977},null,0]
[null,null,"Eletricista com encargos complementares","h",0.21629999999999999,19.645999999999997,{"$f":"IF(ISNUMBER(F1532),E1532*F1532,\"\")","v":4.2494297999999988},null,null,0]
[null,null,"Auxiliar de eletricista com encargos complementares","h",0.21629999999999999,15.447000000000001,{"$f":"IF(ISNUMBER(F1533),E1533*F1533,\"\")","v":3.3411861000000003},null,null,0]
[null,null,"Fixação de tubos verticais de PPR diâmetros menores ou iguais a 40 mm com abraçadeira metálica rígida tipo D 1/2\", fixada em perfilado em alvenaria. af_05/2015","m",2,1.0872465,{"$f":"IF(ISNUMBER(F1534),E1534*F1534,\"\")","v":2.174493},null,null,0]
[null,null,"Luva de emenda para eletroduto, aço galvanizado, DN 25 mm (1''), aparente, instalada em parede - fornecimento e instalação. af_11/2016_p","UN",0.33329999999999999,8.7779068999999996,{"$f":"IF(ISNUMBER(F1535),E1535*F1535,\"\")","v":2.9256763697699997},null,null,0]
[null,null,null,null,null,"",{"$f":"IF(ISNUMBER(F1536),E1536*F1536,\"\")","v":""},null,null,0]
["SF-00247",{"$f":"INDEX(Orçamentária!A:B,MATCH(Composições!A1537,Orçamentária!A:A,0),2)","v":"Eletroduto de aço galvanizado de 2\""},null,{"$f":"TRIM(INDEX(Orçamentária!C:C,MATCH(Composições!A1537,Orçamentária!A:A,0),1))","v":"m"},null,"",{"$f":"IF(ISNUMBER(F1537),E1537*F1537,\"\")","v":""},null,null,0]
[null,null,null,null,null,"",{"$f":"IF(ISNUMBER(F1538),E1538*F1538,\"\")","v":""},null,null,0]
[null,null,"Eletroduto de aço com costura galvanização eletrolítica Ø 2\"","m",1.05,0,{"$f":"IF(ISNUMBER(F1539),E1539*F1539,\"\")","v":0},{"$f":"SUM(G1539:G1543)","v":19.361137978190001},null,0]
[null,null,"Eletricista com encargos complementares","h",0.28210000000000002,19.645999999999997,{"$f":"IF(ISNUMBER(F1540),E1540*F1540,\"\")","v":5.5421365999999992},null,null,0]
[null,null,"Auxiliar de eletricista com encargos complementares","h",0.28210000000000002,15.447000000000001,{"$f":"IF(ISNUMBER(F1541),E1541*F1541,\"\")","v":4.3575987000000005},null,null,0]
[null,null,"FIXAÇÃO DE TUBOS VERTICAIS DE PPR DIÂMETROS MAIORES QUE 40 MM E MENORES OU IGUAIS A 75 MM COM ABRAÇADEIRA METÁLICA RÍGIDA TIPO D 2\", FIXADA EM PERFILADO EM ALVENARIA. AF_05/2015","M",2,2.1971790000000002,{"$f":"IF(ISNUMBER(F1542),E1542*F1542,\"\")","v":4.3943580000000004},null,null,0]
[null,null,"Luva de emenda para eletroduto, aço galvanizado, DN 50 mm (2''), aparente, instalada em parede - fornecimento e instalação. af_11/2016_p","UN",0.33329999999999999,15.202654300000001,{"$f":"IF(ISNUMBER(F1543),E1543*F1543,\"\")","v":5.0670446781900003},null,null,0]
[null,null,null,null,null,"",{"$f":"IF(ISNUMBER(F1544),E1544*F1544,\"\")","v":""},null,null,0]
["SF-00248",{"$f":"INDEX(Orçamentária!A:B,MATCH(Composições!A1545,Orçamentária!A:A,0),2)","v":"Eletroduto de aço galvanizado de 3/4\""},null,{"$f":"TRIM(INDEX(Orçamentária!C:C,MATCH(Composições!A1545,Orçamentária!A:A,0),1))","v":"m"},null,"",{"$f":"IF(ISNUMBER(F1545),E1545*F1545,\"\")","v":""},null,null,0]
[null,null,null,null,null,"",{"$f":"IF(ISNUMBER(F1546),E1546*F1546,\"\")","v":""},null,null,0]
[null,null,"Eletroduto de aço com costura galvanização eletrolítica Ø 3/4\"","m",1.05,0,{"$f":"IF(ISNUMBER(F1547),E1547*F1547,\"\")","v":0},{"$f":"SUM(G1547:G1551)","v":11.605308333629999},null,0]
[null,null,"Eletricista com encargos complementares","h",0.19439999999999999,19.645999999999997,{"$f":"IF(ISNUMBER(F1548),E1548*F1548,\"\")","v":3.8191823999999994},null,null,0]
[null,null,"Auxiliar de eletricista com encargos complementares","h",0.19439999999999999,15.447000000000001,{"$f":"IF(ISNUMBER(F1549),E1549*F1549,\"\")","v":3.0028967999999998},null,null,0]
[null,null,"Fixação de tubos verticais de PPR diâmetros menores ou iguais a 40 mm com abraçadeira metálica rígida tipo D 1/2\", fixada em perfilado em alvenaria. af_05/2015","m",2,1.0872465,{"$f":"IF(ISNUMBER(F1550),E1550*F1550,\"\")","v":2.174493},null,null,0]
[null,null,"Luva de emenda para eletroduto, aço galvanizado, DN 20 mm (3/4''), aparente, instalada em parede - fornecimento e instalação. af_11/2016_p","UN",0.33329999999999999,7.8269911000000008,{"$f":"IF(ISNUMBER(F1551),E1551*F1551,\"\")","v":2.6087361336300003},null,null,0]
[null,null,null,null,null,"",{"$f":"IF(ISNUMBER(F1552),E1552*F1552,\"\")","v":""},null,null,0]
["SF-00249",{"$f":"INDEX(Orçamentária!A:B,MATCH(Composições!A1553,Orçamentária!A:A,0),2)","v":"Eletroduto de PVC Corrugado Reforçado 1'' (DE 32mm)"},null,{"$f":"TRIM(INDEX(Orçamentária!C:C,MATCH(Composições!A1553,Orçamentária!A:A,0),1))","v":"m"},null,"",{"$f":"IF(ISNUMBER(F1553),E1553*F1553,\"\")","v":""},null,null,0]
[null,null,null,null,null,"",{"$f":"IF(ISNUMBER(F1554),E1554*F1554,\"\")","v":""},null,null,0]
[null,null,"Eletroduto PVC flexivel corrugado, reforcado, cor laranja, de 32 mm, para lajes e pisos","m",1.1000000000000001,4.5599999999999996,{"$f":"IF(ISNUMBER(F1555),E1555*F1555,\"\")","v":5.016},{"$f":"SUM(G1555:G1558)","v":10.313228500000001},null,0]
[null,null,"Eletricista com encargos complementares","h",0.09,19.645999999999997,{"$f":"IF(ISNUMBER(F1556),E1556*F1556,\"\")","v":1.7681399999999996},null,null,0]
[null,null,"Auxiliar de eletricista com encargos complementares","h",0.09,15.447000000000001,{"$f":"IF(ISNUMBER(F1557),E1557*F1557,\"\")","v":1.3902300000000001},null,null,0]
[null,null,"Fixação de tubos horizontais de PVC, CPVC ou cobre diâmetros menores ou iguais a 40 mm ou eletrocalhas até 150mm de largura, com abraçadeira metálica rígida tipo d 1/2\u0094, fixada em perfilado em laje. af_05/2015","m",1,2.1388585000000004,{"$f":"IF(ISNUMBER(F1558),E1558*F1558,\"\")","v":2.1388585000000004},null,null,0]
[null,null,null,null,null,"",{"$f":"IF(ISNUMBER(F1559),E1559*F1559,\"\")","v":""},null,null,0]
["SF-00250",{"$f":"INDEX(Orçamentária!A:B,MATCH(Composições!A1560,Orçamentária!A:A,0),2)","v":"Eletroduto de PVC Corrugado Reforçado 3/4'' (DE 25mm)"},null,{"$f":"TRIM(INDEX(Orçamentária!C:C,MATCH(Composições!A1560,Orçamentária!A:A,0),1))","v":"m"},null,"",{"$f":"IF(ISNUMBER(F1560),E1560*F1560,\"\")","v":""},null,null,0]
[null,null,null,null,null,"",{"$f":"IF(ISNUMBER(F1561),E1561*F1561,\"\")","v":""},null,null,0]
[null,null,"Eletricista com encargos complementares","h",7.0000000000000007E-2,19.645999999999997,{"$f":"IF(ISNUMBER(F1562),E1562*F1562,\"\")","v":1.3752199999999999},{"$f":"SUM(G1562:G1565)","v":7.1974185000000004},null,0]
[null,null,"Auxiliar de eletricista com encargos complementares","h",7.0000000000000007E-2,15.447000000000001,{"$f":"IF(ISNUMBER(F1563),E1563*F1563,\"\")","v":1.0812900000000001},null,null,0]
[null,null,"Eletroduto PVC flexivel corrugado, reforcado, cor laranja, de 25 mm, para lajes e pisos","m",1.1000000000000001,2.3654999999999999,{"$f":"IF(ISNUMBER(F1564),E1564*F1564,\"\")","v":2.6020500000000002},null,null,0]
[null,null,"Fixação de tubos horizontais de PVC, CPVC ou cobre diâmetros menores ou iguais a 40 mm ou eletrocalhas até 150mm de largura, com abraçadeira metálica rígida tipo d 1/2\u0094, fixada em perfilado em laje. af_05/2015","m",1,2.1388585000000004,{"$f":"IF(ISNUMBER(F1565),E1565*F1565,\"\")","v":2.1388585000000004},null,null,0]
[null,null,null,null,null,"",{"$f":"IF(ISNUMBER(F1566),E1566*F1566,\"\")","v":""},null,null,0]
["SF-00251",{"$f":"INDEX(Orçamentária!A:B,MATCH(Composições!A1567,Orçamentária!A:A,0),2)","v":"Eletroduto flexível metálico com capa de PVC 1’’"},null,{"$f":"TRIM(INDEX(Orçamentária!C:C,MATCH(Composições!A1567,Orçamentária!A:A,0),1))","v":"m"},null,"",{"$f":"IF(ISNUMBER(F1567),E1567*F1567,\"\")","v":""},null,null,0]
[null,null,null,null,null,"",{"$f":"IF(ISNUMBER(F1568),E1568*F1568,\"\")","v":""},null,null,0]
[null,null,"Eletroduto flexivel, em aco galvanizado, revestido externamente com PVC preto, diametro externo de 32 mm (1\"), tipo sealtubo","m",1.1000000000000001,11.190999999999999,{"$f":"IF(ISNUMBER(F1569),E1569*F1569,\"\")","v":12.3101},{"$f":"SUM(G1569:G1572)","v":16.091613000000002},null,0]
[null,null,"ARAME RECOZIDO 16 BWG, D = 1,65 MM (0,016 KG/M) OU 18 BWG, D = 1,25 MM (0,01 KG/M)","kg",2E-3,13.281000000000001,{"$f":"IF(ISNUMBER(F1570),E1570*F1570,\"\")","v":2.6562000000000002E-2},null,null,0]
[null,null,"Auxiliar de eletricista com encargos complementares","h",0.107,15.447000000000001,{"$f":"IF(ISNUMBER(F1571),E1571*F1571,\"\")","v":1.6528290000000001},null,null,0]
[null,null,"Eletricista com encargos complementares","h",0.107,19.645999999999997,{"$f":"IF(ISNUMBER(F1572),E1572*F1572,\"\")","v":2.1021219999999996},null,null,0]
[null,null,null,null,null,"",{"$f":"IF(ISNUMBER(F1573),E1573*F1573,\"\")","v":""},null,null,0]
["SF-00252",{"$f":"INDEX(Orçamentária!A:B,MATCH(Composições!A1574,Orçamentária!A:A,0),2)","v":"Eletroduto flexível metálico com capa de PVC 3/4\""},null,{"$f":"TRIM(INDEX(Orçamentária!C:C,MATCH(Composições!A1574,Orçamentária!A:A,0),1))","v":"m"},null,"",{"$f":"IF(ISNUMBER(F1574),E1574*F1574,\"\")","v":""},null,null,0]
[null,null,null,null,null,"",{"$f":"IF(ISNUMBER(F1575),E1575*F1575,\"\")","v":""},null,null,0]
[null,null,"Eletroduto flexivel, em aco galvanizado, revestido externamente com PVC preto, diametro externo de 25 mm (3/4\"), tipo sealtubo","m",1.1000000000000001,8.5404999999999998,{"$f":"IF(ISNUMBER(F1576),E1576*F1576,\"\")","v":9.3945500000000006},{"$f":"SUM(G1576:G1579)","v":12.4715468},null,0]
[null,null,"ARAME RECOZIDO 16 BWG, D = 1,65 MM (0,016 KG/M) OU 18 BWG, D = 1,25 MM (0,01 KG/M)","kg",1.8E-3,13.281000000000001,{"$f":"IF(ISNUMBER(F1577),E1577*F1577,\"\")","v":2.3905800000000001E-2},null,null,0]
[null,null,"Auxiliar de eletricista com encargos complementares","h",8.6999999999999994E-2,15.447000000000001,{"$f":"IF(ISNUMBER(F1578),E1578*F1578,\"\")","v":1.3438889999999999},null,null,0]
[null,null,"Eletricista com encargos complementares","h",8.6999999999999994E-2,19.645999999999997,{"$f":"IF(ISNUMBER(F1579),E1579*F1579,\"\")","v":1.7092019999999997},null,null,0]
[null,null,null,null,null,"",{"$f":"IF(ISNUMBER(F1580),E1580*F1580,\"\")","v":""},null,null,0]
["SF-00253",{"$f":"INDEX(Orçamentária!A:B,MATCH(Composições!A1581,Orçamentária!A:A,0),2)","v":"Perfilado 38x38mm"},null,{"$f":"TRIM(INDEX(Orçamentária!C:C,MATCH(Composições!A1581,Orçamentária!A:A,0),1))","v":"m"},null,"",{"$f":"IF(ISNUMBER(F1581),E1581*F1581,\"\")","v":""},null,null,0]
[null,null,null,null,null,"",{"$f":"IF(ISNUMBER(F1582),E1582*F1582,\"\")","v":""},null,null,0]
[null,null,"Perfilado perfurado em aço galvanizado # 18, 38 x 38 mm","m",1.05,"",{"$f":"IF(ISNUMBER(F1583),E1583*F1583,\"\")","v":""},{"$f":"SUM(G1583:G1594)","v":17.352217400000001},null,0]
[null,null,"Auxiliar de eletricista com encargos complementares","h",0.45,15.447000000000001,{"$f":"IF(ISNUMBER(F1584),E1584*F1584,\"\")","v":6.9511500000000002},null,null,0]
[null,null,"Eletricista com encargos complementares","h",0.45,19.645999999999997,{"$f":"IF(ISNUMBER(F1585),E1585*F1585,\"\")","v":8.8406999999999982},null,null,0]
[null,null,"Tiro com pistola para fixação de pino Ø 1/4\" em concreto, inclusive cartucho e pino","un ",0.67,0,{"$f":"IF(ISNUMBER(F1586),E1586*F1586,\"\")","v":0},null,null,0]
[null,null,"Suporte curto para perfilado em aço galvanizado # 22, 38 mm x 100 mm","un ",0.67,0.95,{"$f":"IF(ISNUMBER(F1587),E1587*F1587,\"\")","v":0.63649999999999995},null,null,0]
[null,null,"Barra roscada em aço Ø 1/4\", comprimento 1 m, bicromatizada ou zincada","m",0.8,0,{"$f":"IF(ISNUMBER(F1588),E1588*F1588,\"\")","v":0},null,null,0]
[null,null,"PORCA ZINCADA, SEXTAVADA, DIAMETRO 1/4\"","UN",2.6633,0.22799999999999998,{"$f":"IF(ISNUMBER(F1589),E1589*F1589,\"\")","v":0.60723239999999989},null,null,0]
[null,null,"Arruela em aço galvanizado Ø 1/4\"","un ",2.6633,0,{"$f":"IF(ISNUMBER(F1590),E1590*F1590,\"\")","v":0},null,null,0]
[null,null,"Prolongador para tirante rosqueado de 1/4\" x 50 mm","un ",0.67,0,{"$f":"IF(ISNUMBER(F1591),E1591*F1591,\"\")","v":0},null,null,0]
[null,null,"Parafuso lentilha 1/4 x 1/2\"","un",1.33,0,{"$f":"IF(ISNUMBER(F1592),E1592*F1592,\"\")","v":0},null,null,0]
[null,null,"Tala 4 furos para emenda 38 mm","un ",0.33329999999999999,0.95,{"$f":"IF(ISNUMBER(F1593),E1593*F1593,\"\")","v":0.31663499999999994},null,null,0]
[null,null,"Tampa de encaixe para perfilado em aço galvanizado 38 mm","m",1.05,0,{"$f":"IF(ISNUMBER(F1594),E1594*F1594,\"\")","v":0},null,null,0]
[null,null,null,null,null,"",{"$f":"IF(ISNUMBER(F1595),E1595*F1595,\"\")","v":""},null,null,0]
["SF-00254",{"$f":"INDEX(Orçamentária!A:B,MATCH(Composições!A1596,Orçamentária!A:A,0),2)","v":"Espelho 4x2"},null,{"$f":"TRIM(INDEX(Orçamentária!C:C,MATCH(Composições!A1596,Orçamentária!A:A,0),1))","v":"un"},null,"",{"$f":"IF(ISNUMBER(F1596),E1596*F1596,\"\")","v":""},null,null,0]
[null,null,null,null,null,"",{"$f":"IF(ISNUMBER(F1597),E1597*F1597,\"\")","v":""},null,null,0]
[null,null,"Espelho / placa de 3 postos 4\" x 2\", para instalacao de tomadas e interruptores","un",1,2.5554999999999999,{"$f":"IF(ISNUMBER(F1598),E1598*F1598,\"\")","v":2.5554999999999999},{"$f":"SUM(G1598:G1600)","v":5.6143479999999997},null,0]
[null,null,"Suporte de fixacao para espelho / placa 4\" x 2\", para 3 modulos, para instalacao de tomadas e interruptores (somente suporte)","un",1,1.3299999999999998,{"$f":"IF(ISNUMBER(F1599),E1599*F1599,\"\")","v":1.3299999999999998},null,null,0]
[null,null,"Eletricista com encargos complementares","h",8.7999999999999995E-2,19.645999999999997,{"$f":"IF(ISNUMBER(F1600),E1600*F1600,\"\")","v":1.7288479999999997},null,null,0]
[null,null,null,null,null,"",{"$f":"IF(ISNUMBER(F1601),E1601*F1601,\"\")","v":""},null,null,0]
["SF-00255",{"$f":"INDEX(Orçamentária!A:B,MATCH(Composições!A1602,Orçamentária!A:A,0),2)","v":"Espelho 4x4"},null,{"$f":"TRIM(INDEX(Orçamentária!C:C,MATCH(Composições!A1602,Orçamentária!A:A,0),1))","v":"un"},null,"",{"$f":"IF(ISNUMBER(F1602),E1602*F1602,\"\")","v":""},null,null,0]
[null,null,null,null,null,"",{"$f":"IF(ISNUMBER(F1603),E1603*F1603,\"\")","v":""},null,null,0]
[null,null,"Espelho / placa de 6 postos 4\" x 4\", para instalacao de tomadas e interruptores","un",1,5.1964999999999995,{"$f":"IF(ISNUMBER(F1604),E1604*F1604,\"\")","v":5.1964999999999995},{"$f":"SUM(G1604:G1606)","v":9.415184},null,0]
[null,null,"Suporte de fixacao para espelho / placa 4\" x 4\", para 6 modulos, para instalacao de tomadas e interruptores (somente suporte)","un",1,2.1755,{"$f":"IF(ISNUMBER(F1605),E1605*F1605,\"\")","v":2.1755},null,null,0]
[null,null,"Eletricista com encargos complementares","h",0.104,19.645999999999997,{"$f":"IF(ISNUMBER(F1606),E1606*F1606,\"\")","v":2.0431839999999997},null,null,0]
[null,null,null,null,null,"",{"$f":"IF(ISNUMBER(F1607),E1607*F1607,\"\")","v":""},null,null,0]
["SF-00256",{"$f":"INDEX(Orçamentária!A:B,MATCH(Composições!A1608,Orçamentária!A:A,0),2)","v":"Espelho cego redondo"},null,{"$f":"TRIM(INDEX(Orçamentária!C:C,MATCH(Composições!A1608,Orçamentária!A:A,0),1))","v":"un"},null,"",{"$f":"IF(ISNUMBER(F1608),E1608*F1608,\"\")","v":""},null,null,0]
[null,null,null,null,null,"",{"$f":"IF(ISNUMBER(F1609),E1609*F1609,\"\")","v":""},null,null,0]
[null,null,"Espelho cego redondo","un",1,"",{"$f":"IF(ISNUMBER(F1610),E1610*F1610,\"\")","v":""},{"$f":"SUM(G1610:G1612)","v":4.2186839999999997},null,0]
[null,null,"Suporte de fixacao para espelho / placa 4\" x 4\", para 6 modulos, para instalacao de tomadas e interruptores (somente suporte)","un",1,2.1755,{"$f":"IF(ISNUMBER(F1611),E1611*F1611,\"\")","v":2.1755},null,null,0]
[null,null,"Eletricista com encargos complementares","h",0.104,19.645999999999997,{"$f":"IF(ISNUMBER(F1612),E1612*F1612,\"\")","v":2.0431839999999997},null,null,0]
[null,null,null,null,null,"",{"$f":"IF(ISNUMBER(F1613),E1613*F1613,\"\")","v":""},null,null,0]
["SF-00257",{"$f":"INDEX(Orçamentária!A:B,MATCH(Composições!A1614,Orçamentária!A:A,0),2)","v":"Interruptor para condulete"},null,{"$f":"TRIM(INDEX(Orçamentária!C:C,MATCH(Composições!A1614,Orçamentária!A:A,0),1))","v":"un"},null,"",{"$f":"IF(ISNUMBER(F1614),E1614*F1614,\"\")","v":""},null,null,0]
[null,null,null,null,null,"",{"$f":"IF(ISNUMBER(F1615),E1615*F1615,\"\")","v":""},null,null,0]
[null,null,"Eletricista com encargos complementares","h",{"$f":"0.3/2","v":0.15},19.645999999999997,{"$f":"IF(ISNUMBER(F1616),E1616*F1616,\"\")","v":2.9468999999999994},{"$f":"SUM(G1616:G1619)","v":5.2639499999999995},null,0]
[null,null,"Auxiliar de eletricista com encargos complementares","h",{"$f":"0.3/2","v":0.15},15.447000000000001,{"$f":"IF(ISNUMBER(F1617),E1617*F1617,\"\")","v":2.3170500000000001},null,null,0]
[null,null,"Tampa para condulete alumínio para eletrodutos de 1\", de sobrepor , com conexões e acessórios. ","un",1,"",{"$f":"IF(ISNUMBER(F1618),E1618*F1618,\"\")","v":""},null,null,0]
[null,null,"Interruptor para condulete alumínio para eletrodutos de 1’’, de sobrepor, com conexões e acessórios.","un",1,"",{"$f":"IF(ISNUMBER(F1619),E1619*F1619,\"\")","v":""},null,null,0]
[null,null,null,null,null,"",{"$f":"IF(ISNUMBER(F1620),E1620*F1620,\"\")","v":""},null,null,0]
["SF-00258",{"$f":"INDEX(Orçamentária!A:B,MATCH(Composições!A1621,Orçamentária!A:A,0),2)","v":"Módulo cego"},null,{"$f":"TRIM(INDEX(Orçamentária!C:C,MATCH(Composições!A1621,Orçamentária!A:A,0),1))","v":"un"},null,"",{"$f":"IF(ISNUMBER(F1621),E1621*F1621,\"\")","v":""},null,null,0]
[null,null,null,null,null,"",{"$f":"IF(ISNUMBER(F1622),E1622*F1622,\"\")","v":""},null,null,0]
[null,null,"Eletricista com encargos complementares","h",0.1,19.645999999999997,{"$f":"IF(ISNUMBER(F1623),E1623*F1623,\"\")","v":1.9645999999999999},{"$f":"SUM(G1623:G1624)","v":1.9645999999999999},null,0]
[null,null,"Módulo cego","un",1,"",{"$f":"IF(ISNUMBER(F1624),E1624*F1624,\"\")","v":""},null,null,0]
[null,null,null,null,null,"",{"$f":"IF(ISNUMBER(F1625),E1625*F1625,\"\")","v":""},null,null,0]
["SF-00259",{"$f":"INDEX(Orçamentária!A:B,MATCH(Composições!A1626,Orçamentária!A:A,0),2)","v":"Módulo interruptor paralelo"},null,{"$f":"TRIM(INDEX(Orçamentária!C:C,MATCH(Composições!A1626,Orçamentária!A:A,0),1))","v":"un"},null,"",{"$f":"IF(ISNUMBER(F1626),E1626*F1626,\"\")","v":""},null,null,0]
[null,null,null,null,null,"",{"$f":"IF(ISNUMBER(F1627),E1627*F1627,\"\")","v":""},null,null,0]
[null,null,"Interruptor paralelo 10A, 250V (apenas modulo)","un",1,7.8659999999999988,{"$f":"IF(ISNUMBER(F1628),E1628*F1628,\"\")","v":7.8659999999999988},{"$f":"SUM(G1628:G1630)","v":18.674644000000001},null,0]
[null,null,"Auxiliar de eletricista com encargos complementares","h",0.308,15.447000000000001,{"$f":"IF(ISNUMBER(F1629),E1629*F1629,\"\")","v":4.757676},null,null,0]
[null,null,"Eletricista com encargos complementares","h",0.308,19.645999999999997,{"$f":"IF(ISNUMBER(F1630),E1630*F1630,\"\")","v":6.0509679999999992},null,null,0]
[null,null,null,null,null,"",{"$f":"IF(ISNUMBER(F1631),E1631*F1631,\"\")","v":""},null,null,0]
["SF-00260",{"$f":"INDEX(Orçamentária!A:B,MATCH(Composições!A1632,Orçamentária!A:A,0),2)","v":"Módulo interruptor simples"},null,{"$f":"TRIM(INDEX(Orçamentária!C:C,MATCH(Composições!A1632,Orçamentária!A:A,0),1))","v":"un"},null,"",{"$f":"IF(ISNUMBER(F1632),E1632*F1632,\"\")","v":""},null,null,0]
[null,null,null,null,null,"",{"$f":"IF(ISNUMBER(F1633),E1633*F1633,\"\")","v":""},null,null,0]
[null,null,"Interruptor simples 10A, 250V (apenas modulo)","un",1,6.0324999999999998,{"$f":"IF(ISNUMBER(F1634),E1634*F1634,\"\")","v":6.0324999999999998},{"$f":"SUM(G1634:G1636)","v":13.928424999999999},null,0]
[null,null,"Auxiliar de eletricista com encargos complementares","h",0.22500000000000001,15.447000000000001,{"$f":"IF(ISNUMBER(F1635),E1635*F1635,\"\")","v":3.4755750000000001},null,null,0]
[null,null,"Eletricista com encargos complementares","h",0.22500000000000001,19.645999999999997,{"$f":"IF(ISNUMBER(F1636),E1636*F1636,\"\")","v":4.4203499999999991},null,null,0]
[null,null,null,null,null,"",{"$f":"IF(ISNUMBER(F1637),E1637*F1637,\"\")","v":""},null,null,0]
["SF-00261",{"$f":"INDEX(Orçamentária!A:B,MATCH(Composições!A1638,Orçamentária!A:A,0),2)","v":"Módulo para saída de fio"},null,{"$f":"TRIM(INDEX(Orçamentária!C:C,MATCH(Composições!A1638,Orçamentária!A:A,0),1))","v":"un"},null,"",{"$f":"IF(ISNUMBER(F1638),E1638*F1638,\"\")","v":""},null,null,0]
[null,null,null,null,null,"",{"$f":"IF(ISNUMBER(F1639),E1639*F1639,\"\")","v":""},null,null,0]
[null,null,"Eletricista com encargos complementares","h",0.1,19.645999999999997,{"$f":"IF(ISNUMBER(F1640),E1640*F1640,\"\")","v":1.9645999999999999},{"$f":"SUM(G1640:G1641)","v":1.9645999999999999},null,0]
[null,null,"Módulo para saída de fio","un",1,"",{"$f":"IF(ISNUMBER(F1641),E1641*F1641,\"\")","v":""},null,null,0]
[null,null,null,null,null,"",{"$f":"IF(ISNUMBER(F1642),E1642*F1642,\"\")","v":""},null,null,0]
["SF-00262",{"$f":"INDEX(Orçamentária!A:B,MATCH(Composições!A1643,Orçamentária!A:A,0),2)","v":"Módulo sensor de presença"},null,{"$f":"TRIM(INDEX(Orçamentária!C:C,MATCH(Composições!A1643,Orçamentária!A:A,0),1))","v":"un"},null,"",{"$f":"IF(ISNUMBER(F1643),E1643*F1643,\"\")","v":""},null,null,0]
[null,null,null,null,null,"",{"$f":"IF(ISNUMBER(F1644),E1644*F1644,\"\")","v":""},null,null,0]
[null,null,"Eletricista com encargos complementares","h",0.308,19.645999999999997,{"$f":"IF(ISNUMBER(F1645),E1645*F1645,\"\")","v":6.0509679999999992},{"$f":"SUM(G1645:G1647)","v":10.808643999999999},null,0]
[null,null,"Auxiliar de eletricista com encargos complementares","h",0.308,15.447000000000001,{"$f":"IF(ISNUMBER(F1646),E1646*F1646,\"\")","v":4.757676},null,null,0]
[null,null,"Módulo sensor de presença","un",1,"",{"$f":"IF(ISNUMBER(F1647),E1647*F1647,\"\")","v":""},null,null,0]
[null,null,null,null,null,"",{"$f":"IF(ISNUMBER(F1648),E1648*F1648,\"\")","v":""},null,null,0]
["SF-00263",{"$f":"INDEX(Orçamentária!A:B,MATCH(Composições!A1649,Orçamentária!A:A,0),2)","v":"Módulo tomada 10 A"},null,{"$f":"TRIM(INDEX(Orçamentária!C:C,MATCH(Composições!A1649,Orçamentária!A:A,0),1))","v":"un"},null,"",{"$f":"IF(ISNUMBER(F1649),E1649*F1649,\"\")","v":""},null,null,0]
[null,null,null,null,null,"",{"$f":"IF(ISNUMBER(F1650),E1650*F1650,\"\")","v":""},null,null,0]
[null,null,"TOMADA 2P+T 10A, 250V  (APENAS MODULO)","un",1,6.8685,{"$f":"IF(ISNUMBER(F1651),E1651*F1651,\"\")","v":6.8685},{"$f":"SUM(G1651:G1653)","v":15.115354999999999},null,0]
[null,null,"Auxiliar de eletricista com encargos complementares","h",0.23499999999999999,15.447000000000001,{"$f":"IF(ISNUMBER(F1652),E1652*F1652,\"\")","v":3.630045},null,null,0]
[null,null,"Eletricista com encargos complementares","h",0.23499999999999999,19.645999999999997,{"$f":"IF(ISNUMBER(F1653),E1653*F1653,\"\")","v":4.6168099999999992},null,null,0]
[null,null,null,null,null,"",{"$f":"IF(ISNUMBER(F1654),E1654*F1654,\"\")","v":""},null,null,0]
["SF-00264",{"$f":"INDEX(Orçamentária!A:B,MATCH(Composições!A1655,Orçamentária!A:A,0),2)","v":"Módulo tomada 20 A"},null,{"$f":"TRIM(INDEX(Orçamentária!C:C,MATCH(Composições!A1655,Orçamentária!A:A,0),1))","v":"un"},null,"",{"$f":"IF(ISNUMBER(F1655),E1655*F1655,\"\")","v":""},null,null,0]
[null,null,null,null,null,"",{"$f":"IF(ISNUMBER(F1656),E1656*F1656,\"\")","v":""},null,null,0]
[null,null,"TOMADA 2P+T 20A, 250V  (APENAS MODULO)","un",1,8.7874999999999996,{"$f":"IF(ISNUMBER(F1657),E1657*F1657,\"\")","v":8.7874999999999996},{"$f":"SUM(G1657:G1659)","v":17.034354999999998},null,0]
[null,null,"Auxiliar de eletricista com encargos complementares","h",0.23499999999999999,15.447000000000001,{"$f":"IF(ISNUMBER(F1658),E1658*F1658,\"\")","v":3.630045},null,null,0]
[null,null,"Eletricista com encargos complementares","h",0.23499999999999999,19.645999999999997,{"$f":"IF(ISNUMBER(F1659),E1659*F1659,\"\")","v":4.6168099999999992},null,null,0]
[null,null,null,null,null,"",{"$f":"IF(ISNUMBER(F1660),E1660*F1660,\"\")","v":""},null,null,0]
["SF-00265",{"$f":"INDEX(Orçamentária!A:B,MATCH(Composições!A1661,Orçamentária!A:A,0),2)","v":"Porta equipamentos para canaleta de alumínio aparente"},null,{"$f":"TRIM(INDEX(Orçamentária!C:C,MATCH(Composições!A1661,Orçamentária!A:A,0),1))","v":"un"},null,"",{"$f":"IF(ISNUMBER(F1661),E1661*F1661,\"\")","v":""},null,null,0]
[null,null,null,null,null,"",{"$f":"IF(ISNUMBER(F1662),E1662*F1662,\"\")","v":""},null,null,0]
[null,null,"Auxiliar de eletricista com encargos complementares","h",{"$f":"0.35/2","v":0.17499999999999999},15.447000000000001,{"$f":"IF(ISNUMBER(F1663),E1663*F1663,\"\")","v":2.7032250000000002},{"$f":"SUM(G1663:G1665)","v":6.1412749999999994},null,0]
[null,null,"Eletricista com encargos complementares","h",{"$f":"0.35/2","v":0.17499999999999999},19.645999999999997,{"$f":"IF(ISNUMBER(F1664),E1664*F1664,\"\")","v":3.4380499999999992},"",null,0]
[null,null,"Porta equipamentos para canaleta de alumínio aparente","un",1,"",{"$f":"IF(ISNUMBER(F1665),E1665*F1665,\"\")","v":""},null,null,0]
[null,null,null,null,null,"",{"$f":"IF(ISNUMBER(F1666),E1666*F1666,\"\")","v":""},null,null,0]
["SF-00266",{"$f":"INDEX(Orçamentária!A:B,MATCH(Composições!A1667,Orçamentária!A:A,0),2)","v":"Tampa cega metálica para caixas de piso 4x2"},null,{"$f":"TRIM(INDEX(Orçamentária!C:C,MATCH(Composições!A1667,Orçamentária!A:A,0),1))","v":"un"},null,"",{"$f":"IF(ISNUMBER(F1667),E1667*F1667,\"\")","v":""},null,null,0]
[null,null,null,null,null,"",{"$f":"IF(ISNUMBER(F1668),E1668*F1668,\"\")","v":""},null,null,0]
[null,null,"Auxiliar de eletricista com encargos complementares","h",0.1,15.447000000000001,{"$f":"IF(ISNUMBER(F1669),E1669*F1669,\"\")","v":1.5447000000000002},{"$f":"SUM(G1669:G1670)","v":1.5447000000000002},null,0]
[null,null,"Tampa cega para caixa de piso 4x2 cromada. ","un",1,"",{"$f":"IF(ISNUMBER(F1670),E1670*F1670,\"\")","v":""},null,null,0]
[null,null,null,null,null,"",{"$f":"IF(ISNUMBER(F1671),E1671*F1671,\"\")","v":""},null,null,0]
["SF-00267",{"$f":"INDEX(Orçamentária!A:B,MATCH(Composições!A1672,Orçamentária!A:A,0),2)","v":"Tampa cega metálica para caixas de piso 4x4"},null,{"$f":"TRIM(INDEX(Orçamentária!C:C,MATCH(Composições!A1672,Orçamentária!A:A,0),1))","v":"un"},null,"",{"$f":"IF(ISNUMBER(F1672),E1672*F1672,\"\")","v":""},null,null,0]
[null,null,null,null,null,"",{"$f":"IF(ISNUMBER(F1673),E1673*F1673,\"\")","v":""},null,null,0]
[null,null,"Auxiliar de eletricista com encargos complementares","h",0.1,15.447000000000001,{"$f":"IF(ISNUMBER(F1674),E1674*F1674,\"\")","v":1.5447000000000002},{"$f":"SUM(G1674:G1675)","v":1.5447000000000002},null,0]
[null,null,"Tampa cega para caixa de piso 4x4 cromada. ","un",1,"",{"$f":"IF(ISNUMBER(F1675),E1675*F1675,\"\")","v":""},null,null,0]
[null,null,null,null,null,"",{"$f":"IF(ISNUMBER(F1676),E1676*F1676,\"\")","v":""},null,null,0]
["SF-00268",{"$f":"INDEX(Orçamentária!A:B,MATCH(Composições!A1677,Orçamentária!A:A,0),2)","v":"Tampa cega para condulete"},null,{"$f":"TRIM(INDEX(Orçamentária!C:C,MATCH(Composições!A1677,Orçamentária!A:A,0),1))","v":"un"},null,"",{"$f":"IF(ISNUMBER(F1677),E1677*F1677,\"\")","v":""},null,null,0]
[null,null,null,null,null,"",{"$f":"IF(ISNUMBER(F1678),E1678*F1678,\"\")","v":""},null,null,0]
[null,null,"Auxiliar de eletricista com encargos complementares","h",0.15,15.447000000000001,{"$f":"IF(ISNUMBER(F1679),E1679*F1679,\"\")","v":2.3170500000000001},{"$f":"SUM(G1679:G1680)","v":2.3170500000000001},null,0]
[null,null,"Tampa cega para condulete alumínio para eletrodutos de 1’’, de sobrepor, com conexões e acessórios.","un",1,"",{"$f":"IF(ISNUMBER(F1680),E1680*F1680,\"\")","v":""},null,null,0]
[null,null,null,null,null,"",{"$f":"IF(ISNUMBER(F1681),E1681*F1681,\"\")","v":""},null,null,0]
["SF-00269",{"$f":"INDEX(Orçamentária!A:B,MATCH(Composições!A1682,Orçamentária!A:A,0),2)","v":"Tampa RJ45 dupla para condulete"},null,{"$f":"TRIM(INDEX(Orçamentária!C:C,MATCH(Composições!A1682,Orçamentária!A:A,0),1))","v":"un"},null,"",{"$f":"IF(ISNUMBER(F1682),E1682*F1682,\"\")","v":""},null,null,0]
[null,null,null,null,null,"",{"$f":"IF(ISNUMBER(F1683),E1683*F1683,\"\")","v":""},null,null,0]
[null,null,"Auxiliar de eletricista com encargos complementares","h",0.15,15.447000000000001,{"$f":"IF(ISNUMBER(F1684),E1684*F1684,\"\")","v":2.3170500000000001},{"$f":"SUM(G1684:G1686)","v":5.2639499999999995},null,0]
[null,null,"Eletricista com encargos complementares","h",0.15,19.645999999999997,{"$f":"IF(ISNUMBER(F1685),E1685*F1685,\"\")","v":2.9468999999999994},null,null,0]
[null,null,"Espelho para dois módulos RJ45 para condulete alumínio para eletrodutos de 1’’, de sobrepor, com conexões e acessórios.","un",1,"",{"$f":"IF(ISNUMBER(F1686),E1686*F1686,\"\")","v":""},null,null,0]
[null,null,null,null,null,"",{"$f":"IF(ISNUMBER(F1687),E1687*F1687,\"\")","v":""},null,null,0]
["SF-00270",{"$f":"INDEX(Orçamentária!A:B,MATCH(Composições!A1688,Orçamentária!A:A,0),2)","v":"Tomada para condulete"},null,{"$f":"TRIM(INDEX(Orçamentária!C:C,MATCH(Composições!A1688,Orçamentária!A:A,0),1))","v":"un"},null,"",{"$f":"IF(ISNUMBER(F1688),E1688*F1688,\"\")","v":""},null,null,0]
[null,null,null,null,null,"",{"$f":"IF(ISNUMBER(F1689),E1689*F1689,\"\")","v":""},null,null,0]
[null,null,"Eletricista com encargos complementares","h",0.308,19.645999999999997,{"$f":"IF(ISNUMBER(F1690),E1690*F1690,\"\")","v":6.0509679999999992},{"$f":"SUM(G1690:G1693)","v":10.808643999999999},null,0]
[null,null,"Auxiliar de eletricista com encargos complementares","h",0.308,15.447000000000001,{"$f":"IF(ISNUMBER(F1691),E1691*F1691,\"\")","v":4.757676},null,null,0]
[null,null,"Tampa para condulete alumínio para eletrodutos de 1\", de sobrepor , com conexões e acessórios. ","un",1,"",{"$f":"IF(ISNUMBER(F1692),E1692*F1692,\"\")","v":""},null,null,0]
[null,null,"Tomada para condulete alumínio para eletrodutos de 1’’, de sobrepor, com conexões e acessórios. ","un",1,"",{"$f":"IF(ISNUMBER(F1693),E1693*F1693,\"\")","v":""},null,null,0]
[null,null,null,null,null,"",{"$f":"IF(ISNUMBER(F1694),E1694*F1694,\"\")","v":""},null,null,0]
["SF-00271",{"$f":"INDEX(Orçamentária!A:B,MATCH(Composições!A1695,Orçamentária!A:A,0),2)","v":"Tomada para perfilado e eletrocalha"},null,{"$f":"TRIM(INDEX(Orçamentária!C:C,MATCH(Composições!A1695,Orçamentária!A:A,0),1))","v":"un"},null,"",{"$f":"IF(ISNUMBER(F1695),E1695*F1695,\"\")","v":""},null,null,0]
[null,null,null,null,null,"",{"$f":"IF(ISNUMBER(F1696),E1696*F1696,\"\")","v":""},null,null,0]
[null,null,"Auxiliar de eletricista com encargos complementares","h",0.65,15.447000000000001,{"$f":"IF(ISNUMBER(F1697),E1697*F1697,\"\")","v":10.040550000000001},{"$f":"SUM(G1697:G1700)","v":22.810449999999999},null,0]
[null,null,"Eletricista com encargos complementares","h",0.65,19.645999999999997,{"$f":"IF(ISNUMBER(F1698),E1698*F1698,\"\")","v":12.769899999999998},null,null,0]
[null,null,"Caixa com tampa fixa em perfil para tomada em perfilado","un",1,0,{"$f":"IF(ISNUMBER(F1699),E1699*F1699,\"\")","v":0},null,null,0]
[null,null,"Tomada de embutir 2 polos + terra sem placa 250 V 10 A","un",1,0,{"$f":"IF(ISNUMBER(F1700),E1700*F1700,\"\")","v":0},null,null,0]
[null,null,null,null,null,"",{"$f":"IF(ISNUMBER(F1701),E1701*F1701,\"\")","v":""},null,null,0]
["SF-00272",{"$f":"INDEX(Orçamentária!A:B,MATCH(Composições!A1702,Orçamentária!A:A,0),2)","v":"Bloco autônomo de emergência"},null,{"$f":"TRIM(INDEX(Orçamentária!C:C,MATCH(Composições!A1702,Orçamentária!A:A,0),1))","v":"un"},null,"",{"$f":"IF(ISNUMBER(F1702),E1702*F1702,\"\")","v":""},null,null,0]
[null,null,null,null,null,"",{"$f":"IF(ISNUMBER(F1703),E1703*F1703,\"\")","v":""},null,null,0]
[null,null,"Bloco autônomo (luminária de emergência). Ref.: Aureon BLOKITO BLK 500 (9901.0000.1079.05 – Aclaramento e 9901.0000.1128.05 – balizamento)","un ",1,"",{"$f":"IF(ISNUMBER(F1704),E1704*F1704,\"\")","v":""},{"$f":"SUM(G1704:G1706)","v":4.6818925999999994},null,0]
[null,null,"Auxiliar de eletricista com encargos complementares","h",7.4800000000000005E-2,15.447000000000001,{"$f":"IF(ISNUMBER(F1705),E1705*F1705,\"\")","v":1.1554356000000001},null,null,0]
[null,null,"Eletricista com encargos complementares","h",0.17949999999999999,19.645999999999997,{"$f":"IF(ISNUMBER(F1706),E1706*F1706,\"\")","v":3.5264569999999993},null,null,0]
[null,null,null,null,null,"",{"$f":"IF(ISNUMBER(F1707),E1707*F1707,\"\")","v":""},null,null,0]
["SF-00273",{"$f":"INDEX(Orçamentária!A:B,MATCH(Composições!A1708,Orçamentária!A:A,0),2)","v":"Instalação de luminária reaproveitada"},null,{"$f":"TRIM(INDEX(Orçamentária!C:C,MATCH(Composições!A1708,Orçamentária!A:A,0),1))","v":"un"},null,"",{"$f":"IF(ISNUMBER(F1708),E1708*F1708,\"\")","v":""},null,null,0]
[null,null,null,null,null,"",{"$f":"IF(ISNUMBER(F1709),E1709*F1709,\"\")","v":""},null,null,0]
[null,null,"Auxiliar de eletricista com encargos complementares","h",0.14799999999999999,15.447000000000001,{"$f":"IF(ISNUMBER(F1710),E1710*F1710,\"\")","v":2.2861560000000001},{"$f":"SUM(G1710:G1714)","v":9.2624505999999993},null,0]
[null,null,"Eletricista com encargos complementares","h",0.35510000000000003,19.645999999999997,{"$f":"IF(ISNUMBER(F1711),E1711*F1711,\"\")","v":6.9762945999999992},null,null,0]
[null,null,"Cabo PP 3x2,5mm2 300/500 V, extraflexível (classe 5), com condutor de proteção, com isolação, enchimento e cobertura de PVC","m",1.5,"",{"$f":"IF(ISNUMBER(F1712),E1712*F1712,\"\")","v":""},null,null,0]
[null,null,"Plugue (macho) com 3 polos (2P+T), para 10A","un ",1,"",{"$f":"IF(ISNUMBER(F1713),E1713*F1713,\"\")","v":""},null,null,0]
[null,null,"Plugue (fêmea) com 3 polos (2P+T), para 10A","un ",1,"",{"$f":"IF(ISNUMBER(F1714),E1714*F1714,\"\")","v":""},null,null,0]
[null,null,null,null,null,"",{"$f":"IF(ISNUMBER(F1715),E1715*F1715,\"\")","v":""},null,null,0]
["SF-00274",{"$f":"INDEX(Orçamentária!A:B,MATCH(Composições!A1716,Orçamentária!A:A,0),2)","v":"Luminária 2x14 W de embutir"},null,{"$f":"TRIM(INDEX(Orçamentária!C:C,MATCH(Composições!A1716,Orçamentária!A:A,0),1))","v":"un"},null,"",{"$f":"IF(ISNUMBER(F1716),E1716*F1716,\"\")","v":""},null,null,0]
[null,null,null,null,null,"",{"$f":"IF(ISNUMBER(F1717),E1717*F1717,\"\")","v":""},null,null,0]
[null,null,"Luminária de embutir T5 2 x 14W, ref: Intral DE-500 (cod. 08017); Lumicenter FAA20-E214","un ",1,"",{"$f":"IF(ISNUMBER(F1718),E1718*F1718,\"\")","v":""},{"$f":"SUM(G1718:G1725)","v":9.2624505999999993},null,0]
[null,null,"Reator eletrônico 2x14W, ref: Philips EB214A26; Philips EL214-28A26; Lumicenter LEB. 214; MarGirus PB 2X14 AF2","un ",1,"",{"$f":"IF(ISNUMBER(F1719),E1719*F1719,\"\")","v":""},null,null,0]
[null,null,"Lâmpada fluorescente T5 de 14W, ref: Osram HE 14W/840 SMARTLUX; Philips TL5-14W-HE/840; GE F14W/T5/840","un ",2,"",{"$f":"IF(ISNUMBER(F1720),E1720*F1720,\"\")","v":""},null,null,0]
[null,null,"Cabo PP 3x2,5mm2 300/500 V, extraflexível (classe 5), com condutor de proteção, com isolação, enchimento e cobertura de PVC","m",1.5,"",{"$f":"IF(ISNUMBER(F1721),E1721*F1721,\"\")","v":""},null,null,0]
[null,null,"Plugue (macho) com 3 polos (2P+T), para 10A","un ",1,"",{"$f":"IF(ISNUMBER(F1722),E1722*F1722,\"\")","v":""},null,null,0]
[null,null,"Plugue (fêmea) com 3 polos (2P+T), para 10A","un ",1,"",{"$f":"IF(ISNUMBER(F1723),E1723*F1723,\"\")","v":""},null,null,0]
[null,null,"Auxiliar de eletricista com encargos complementares","h",0.14799999999999999,15.447000000000001,{"$f":"IF(ISNUMBER(F1724),E1724*F1724,\"\")","v":2.2861560000000001},null,null,0]
[null,null,"Eletricista com encargos complementares","h",0.35510000000000003,19.645999999999997,{"$f":"IF(ISNUMBER(F1725),E1725*F1725,\"\")","v":6.9762945999999992},null,null,0]
[null,null,null,null,null,"",{"$f":"IF(ISNUMBER(F1726),E1726*F1726,\"\")","v":""},null,null,0]
["SF-00275",{"$f":"INDEX(Orçamentária!A:B,MATCH(Composições!A1727,Orçamentária!A:A,0),2)","v":"Luminária 2x14 W de sobrepor"},null,{"$f":"TRIM(INDEX(Orçamentária!C:C,MATCH(Composições!A1727,Orçamentária!A:A,0),1))","v":"un"},null,"",{"$f":"IF(ISNUMBER(F1727),E1727*F1727,\"\")","v":""},null,null,0]
[null,null,null,null,null,"",{"$f":"IF(ISNUMBER(F1728),E1728*F1728,\"\")","v":""},null,null,0]
[null,null,"Luminária de sobrepor T5 2 x 14W, ref: Intral DS-500 (cod. 08021); Lumicenter FAA20-S214","un ",1,"",{"$f":"IF(ISNUMBER(F1729),E1729*F1729,\"\")","v":""},{"$f":"SUM(G1729:G1736)","v":10.8089993},null,0]
[null,null,"Reator eletrônico 2x14W, ref: Philips EB214A26; Philips EL214-28A26; Lumicenter LEB. 214; MarGirus PB 2X14 AF2","un ",1,"",{"$f":"IF(ISNUMBER(F1730),E1730*F1730,\"\")","v":""},null,null,0]
[null,null,"Lâmpada fluorescente T5 de 14W, ref: Osram HE 14W/840 SMARTLUX; Philips TL5-14W-HE/840; GE F14W/T5/840","un ",2,"",{"$f":"IF(ISNUMBER(F1731),E1731*F1731,\"\")","v":""},null,null,0]
[null,null,"Cabo PP 3x2,5mm2 300/500 V, extraflexível (classe 5), com condutor de proteção, com isolação, enchimento e cobertura de PVC","m",1.5,"",{"$f":"IF(ISNUMBER(F1732),E1732*F1732,\"\")","v":""},null,null,0]
[null,null,"Plugue (macho) com 3 polos (2P+T), para 10A","un ",1,"",{"$f":"IF(ISNUMBER(F1733),E1733*F1733,\"\")","v":""},null,null,0]
[null,null,"Plugue (fêmea) com 3 polos (2P+T), para 10A","un ",1,"",{"$f":"IF(ISNUMBER(F1734),E1734*F1734,\"\")","v":""},null,null,0]
[null,null,"Auxiliar de eletricista com encargos complementares","h",0.17269999999999999,15.447000000000001,{"$f":"IF(ISNUMBER(F1735),E1735*F1735,\"\")","v":2.6676969000000001},null,null,0]
[null,null,"Eletricista com encargos complementares","h",0.41439999999999999,19.645999999999997,{"$f":"IF(ISNUMBER(F1736),E1736*F1736,\"\")","v":8.1413023999999989},null,null,0]
[null,null,null,null,null,"",{"$f":"IF(ISNUMBER(F1737),E1737*F1737,\"\")","v":""},null,null,0]
["SF-00276",{"$f":"INDEX(Orçamentária!A:B,MATCH(Composições!A1738,Orçamentária!A:A,0),2)","v":"Luminária 2x28 W de embutir"},null,{"$f":"TRIM(INDEX(Orçamentária!C:C,MATCH(Composições!A1738,Orçamentária!A:A,0),1))","v":"un"},null,"",{"$f":"IF(ISNUMBER(F1738),E1738*F1738,\"\")","v":""},null,null,0]
[null,null,null,null,null,"",{"$f":"IF(ISNUMBER(F1739),E1739*F1739,\"\")","v":""},null,null,0]
[null,null,"Luminária de embutir T5 2 x 28W, ref: Intral DE-500 (cod. 08025); Lumicenter FAA20-E228","un ",1,"",{"$f":"IF(ISNUMBER(F1740),E1740*F1740,\"\")","v":""},{"$f":"SUM(G1740:G1747)","v":9.2624505999999993},null,0]
[null,null,"Reator eletrônico 2x28W, ref: Philips EB228A26; Philips EL214-28A26; Intral REH-T5 2x28/127-220/50-60 (cod. 02475); MarGirus PB 2X28 AF2.","un ",1,"",{"$f":"IF(ISNUMBER(F1741),E1741*F1741,\"\")","v":""},null,null,0]
[null,null,"Lâmpada fluorescente T5 de 28W, ref: Osram HE 28W/840 SMARTLUX; Philips TL5-28W-HE/840; GE F28W/T5/840","un ",2,"",{"$f":"IF(ISNUMBER(F1742),E1742*F1742,\"\")","v":""},null,null,0]
[null,null,"Cabo PP 3x2,5mm2 300/500 V, extraflexível (classe 5), com condutor de proteção, com isolação, enchimento e cobertura de PVC","m",1.5,"",{"$f":"IF(ISNUMBER(F1743),E1743*F1743,\"\")","v":""},null,null,0]
[null,null,"Plugue (macho) com 3 polos (2P+T), para 10A","un ",1,"",{"$f":"IF(ISNUMBER(F1744),E1744*F1744,\"\")","v":""},null,null,0]
[null,null,"Plugue (fêmea) com 3 polos (2P+T), para 10A","un ",1,"",{"$f":"IF(ISNUMBER(F1745),E1745*F1745,\"\")","v":""},null,null,0]
[null,null,"Auxiliar de eletricista com encargos complementares","h",0.14799999999999999,15.447000000000001,{"$f":"IF(ISNUMBER(F1746),E1746*F1746,\"\")","v":2.2861560000000001},null,null,0]
[null,null,"Eletricista com encargos complementares","h",0.35510000000000003,19.645999999999997,{"$f":"IF(ISNUMBER(F1747),E1747*F1747,\"\")","v":6.9762945999999992},null,null,0]
[null,null,null,null,null,"",{"$f":"IF(ISNUMBER(F1748),E1748*F1748,\"\")","v":""},null,null,0]
["SF-00277",{"$f":"INDEX(Orçamentária!A:B,MATCH(Composições!A1749,Orçamentária!A:A,0),2)","v":"Luminária 2x28 W de sobrepor"},null,{"$f":"TRIM(INDEX(Orçamentária!C:C,MATCH(Composições!A1749,Orçamentária!A:A,0),1))","v":"un"},null,"",{"$f":"IF(ISNUMBER(F1749),E1749*F1749,\"\")","v":""},null,null,0]
[null,null,null,null,null,"",{"$f":"IF(ISNUMBER(F1750),E1750*F1750,\"\")","v":""},null,null,0]
[null,null,"Luminária de sobrepor T5 2 x 28W, ref: Intral DS-500 (cod. 08029); Lumicenter FAA20-S228","un ",1,"",{"$f":"IF(ISNUMBER(F1751),E1751*F1751,\"\")","v":""},{"$f":"SUM(G1751:G1758)","v":10.8089993},null,0]
[null,null,"Reator eletrônico 2x28W, ref: Philips EB228A26; Philips EL214-28A26; Intral REH-T5 2x28/127-220/50-60 (cod. 02475); MarGirus PB 2X28 AF2.","un ",1,"",{"$f":"IF(ISNUMBER(F1752),E1752*F1752,\"\")","v":""},null,null,0]
[null,null,"Lâmpada fluorescente T5 de 28W, ref: Osram HE 28W/840 SMARTLUX; Philips TL5-28W-HE/840; GE F28W/T5/840","un ",2,"",{"$f":"IF(ISNUMBER(F1753),E1753*F1753,\"\")","v":""},null,null,0]
[null,null,"Cabo PP 3x2,5mm2 300/500 V, extraflexível (classe 5), com condutor de proteção, com isolação, enchimento e cobertura de PVC","m",1.5,"",{"$f":"IF(ISNUMBER(F1754),E1754*F1754,\"\")","v":""},null,null,0]
[null,null,"Plugue (macho) com 3 polos (2P+T), para 10A","un ",1,"",{"$f":"IF(ISNUMBER(F1755),E1755*F1755,\"\")","v":""},null,null,0]
[null,null,"Plugue (fêmea) com 3 polos (2P+T), para 10A","un ",1,"",{"$f":"IF(ISNUMBER(F1756),E1756*F1756,\"\")","v":""},null,null,0]
[null,null,"Auxiliar de eletricista com encargos complementares","h",0.17269999999999999,15.447000000000001,{"$f":"IF(ISNUMBER(F1757),E1757*F1757,\"\")","v":2.6676969000000001},null,null,0]
[null,null,"Eletricista com encargos complementares","h",0.41439999999999999,19.645999999999997,{"$f":"IF(ISNUMBER(F1758),E1758*F1758,\"\")","v":8.1413023999999989},null,null,0]
[null,null,null,null,null,"",{"$f":"IF(ISNUMBER(F1759),E1759*F1759,\"\")","v":""},null,null,0]
["SF-00278",{"$f":"INDEX(Orçamentária!A:B,MATCH(Composições!A1760,Orçamentária!A:A,0),2)","v":"Condutor 10mm²"},null,{"$f":"TRIM(INDEX(Orçamentária!C:C,MATCH(Composições!A1760,Orçamentária!A:A,0),1))","v":"m"},null,"",{"$f":"IF(ISNUMBER(F1760),E1760*F1760,\"\")","v":""},null,null,0]
[null,null,null,null,null,"",{"$f":"IF(ISNUMBER(F1761),E1761*F1761,\"\")","v":""},null,null,0]
[null,null,"Auxiliar de eletricista com encargos complementares","h",8.9999999999999993E-3,15.447000000000001,{"$f":"IF(ISNUMBER(F1762),E1762*F1762,\"\")","v":0.13902300000000001},{"$f":"SUM(G1762:G1765)","v":1.3244519999999997},null,0]
[null,null,"Eletricista com encargos complementares","h",8.9999999999999993E-3,19.645999999999997,{"$f":"IF(ISNUMBER(F1763),E1763*F1763,\"\")","v":0.17681399999999997},null,null,0]
[null,null,"Cabo flexível isolado em EPR não halogenado 10 mm² 0,6 a 1 kV","m",1.0269999999999999,0.95,{"$f":"IF(ISNUMBER(F1764),E1764*F1764,\"\")","v":0.97564999999999991},null,null,0]
[null,null,"Fita isolante adesiva antichama, uso ate 750 V, em rolo de 19 mm x 5 m","un",0.01,3.2965,{"$f":"IF(ISNUMBER(F1765),E1765*F1765,\"\")","v":3.2965000000000001E-2},null,null,0]
[null,null,null,null,null,"",{"$f":"IF(ISNUMBER(F1766),E1766*F1766,\"\")","v":""},null,null,0]
["SF-00279",{"$f":"INDEX(Orçamentária!A:B,MATCH(Composições!A1767,Orçamentária!A:A,0),2)","v":"Condutor 16mm²"},null,{"$f":"TRIM(INDEX(Orçamentária!C:C,MATCH(Composições!A1767,Orçamentária!A:A,0),1))","v":"m"},null,"",{"$f":"IF(ISNUMBER(F1767),E1767*F1767,\"\")","v":""},null,null,0]
[null,null,null,null,null,"",{"$f":"IF(ISNUMBER(F1768),E1768*F1768,\"\")","v":""},null,null,0]
[null,null,"Auxiliar de eletricista com encargos complementares","h",1.2999999999999999E-2,15.447000000000001,{"$f":"IF(ISNUMBER(F1769),E1769*F1769,\"\")","v":0.20081099999999999},{"$f":"SUM(G1769:G1772)","v":1.4648239999999997},null,0]
[null,null,"Eletricista com encargos complementares","h",1.2999999999999999E-2,19.645999999999997,{"$f":"IF(ISNUMBER(F1770),E1770*F1770,\"\")","v":0.25539799999999996},null,null,0]
[null,null,"Cabo flexível isolado em EPR não halogenado 16 mm² 0,6 a 1 kV","m",1.0269999999999999,0.95,{"$f":"IF(ISNUMBER(F1771),E1771*F1771,\"\")","v":0.97564999999999991},null,null,0]
[null,null,"Fita isolante adesiva antichama, uso ate 750 V, em rolo de 19 mm x 5 m","un",0.01,3.2965,{"$f":"IF(ISNUMBER(F1772),E1772*F1772,\"\")","v":3.2965000000000001E-2},null,null,0]
[null,null,null,null,null,"",{"$f":"IF(ISNUMBER(F1773),E1773*F1773,\"\")","v":""},null,null,0]
["SF-00280",{"$f":"INDEX(Orçamentária!A:B,MATCH(Composições!A1774,Orçamentária!A:A,0),2)","v":"Condutor 2,5 mm²"},null,{"$f":"TRIM(INDEX(Orçamentária!C:C,MATCH(Composições!A1774,Orçamentária!A:A,0),1))","v":"m"},null,"",{"$f":"IF(ISNUMBER(F1774),E1774*F1774,\"\")","v":""},null,null,0]
[null,null,null,null,null,"",{"$f":"IF(ISNUMBER(F1775),E1775*F1775,\"\")","v":""},null,null,0]
[null,null,"Auxiliar de eletricista com encargos complementares","h",0.03,15.447000000000001,{"$f":"IF(ISNUMBER(F1776),E1776*F1776,\"\")","v":0.46340999999999999},{"$f":"SUM(G1776:G1779)","v":1.0824585},null,0]
[null,null,"Eletricista com encargos complementares","h",0.03,19.645999999999997,{"$f":"IF(ISNUMBER(F1777),E1777*F1777,\"\")","v":0.5893799999999999},null,null,0]
[null,null,"Cabo de cobre isolado PVC 450/750V 2,5mm² resistente a chamas, livre de halogênios","m",1.19,"",{"$f":"IF(ISNUMBER(F1778),E1778*F1778,\"\")","v":""},null,null,0]
[null,null,"Fita isolante adesiva antichama, uso ate 750 V, em rolo de 19 mm x 5 m","un",8.9999999999999993E-3,3.2965,{"$f":"IF(ISNUMBER(F1779),E1779*F1779,\"\")","v":2.9668499999999997E-2},null,null,0]
[null,null,null,null,null,"",{"$f":"IF(ISNUMBER(F1780),E1780*F1780,\"\")","v":""},null,null,0]
["SF-00281",{"$f":"INDEX(Orçamentária!A:B,MATCH(Composições!A1781,Orçamentária!A:A,0),2)","v":"Condutor 3x2,5 mm²"},null,{"$f":"TRIM(INDEX(Orçamentária!C:C,MATCH(Composições!A1781,Orçamentária!A:A,0),1))","v":"m"},null,"",{"$f":"IF(ISNUMBER(F1781),E1781*F1781,\"\")","v":""},null,null,0]
[null,null,null,null,null,"",{"$f":"IF(ISNUMBER(F1782),E1782*F1782,\"\")","v":""},null,null,0]
[null,null,"Auxiliar de eletricista com encargos complementares","h",5.1999999999999998E-2,15.447000000000001,{"$f":"IF(ISNUMBER(F1783),E1783*F1783,\"\")","v":0.80324399999999996},{"$f":"SUM(G1783:G1786)","v":1.8545045},null,0]
[null,null,"Eletricista com encargos complementares","h",5.1999999999999998E-2,19.645999999999997,{"$f":"IF(ISNUMBER(F1784),E1784*F1784,\"\")","v":1.0215919999999998},null,null,0]
[null,null,"Cabo de cobre multipolar, classe 5, isolação em EPR, 0,6/1 kV, 3x2,5mm² resistente a chama, livre de halogênios","m",1.19,"",{"$f":"IF(ISNUMBER(F1785),E1785*F1785,\"\")","v":""},null,null,0]
[null,null,"Fita isolante adesiva antichama, uso ate 750 V, em rolo de 19 mm x 5 m","un",8.9999999999999993E-3,3.2965,{"$f":"IF(ISNUMBER(F1786),E1786*F1786,\"\")","v":2.9668499999999997E-2},null,null,0]
[null,null,null,null,null,"",{"$f":"IF(ISNUMBER(F1787),E1787*F1787,\"\")","v":""},null,null,0]
["SF-00282",{"$f":"INDEX(Orçamentária!A:B,MATCH(Composições!A1788,Orçamentária!A:A,0),2)","v":"Condutor 4 mm²"},null,{"$f":"TRIM(INDEX(Orçamentária!C:C,MATCH(Composições!A1788,Orçamentária!A:A,0),1))","v":"m"},null,"",{"$f":"IF(ISNUMBER(F1788),E1788*F1788,\"\")","v":""},null,null,0]
[null,null,null,null,null,"",{"$f":"IF(ISNUMBER(F1789),E1789*F1789,\"\")","v":""},null,null,0]
[null,null,"Auxiliar de eletricista com encargos complementares","h",0.04,15.447000000000001,{"$f":"IF(ISNUMBER(F1790),E1790*F1790,\"\")","v":0.6178800000000001},{"$f":"SUM(G1790:G1793)","v":1.4333885},null,0]
[null,null,"Eletricista com encargos complementares","h",0.04,19.645999999999997,{"$f":"IF(ISNUMBER(F1791),E1791*F1791,\"\")","v":0.78583999999999987},null,null,0]
[null,null,"Cabo de cobre isolado PVC 450/750V 4mm² resistente a chamas, livre de halogênios","m",1.19,"",{"$f":"IF(ISNUMBER(F1792),E1792*F1792,\"\")","v":""},null,null,0]
[null,null,"Fita isolante adesiva antichama, uso ate 750 V, em rolo de 19 mm x 5 m","un",8.9999999999999993E-3,3.2965,{"$f":"IF(ISNUMBER(F1793),E1793*F1793,\"\")","v":2.9668499999999997E-2},null,null,0]
[null,null,null,null,null,"",{"$f":"IF(ISNUMBER(F1794),E1794*F1794,\"\")","v":""},null,null,0]
["SF-00283",{"$f":"INDEX(Orçamentária!A:B,MATCH(Composições!A1795,Orçamentária!A:A,0),2)","v":"Condutor 4x2,5 mm²"},null,{"$f":"TRIM(INDEX(Orçamentária!C:C,MATCH(Composições!A1795,Orçamentária!A:A,0),1))","v":"m"},null,"",{"$f":"IF(ISNUMBER(F1795),E1795*F1795,\"\")","v":""},null,null,0]
[null,null,null,null,null,"",{"$f":"IF(ISNUMBER(F1796),E1796*F1796,\"\")","v":""},null,null,0]
[null,null,"Auxiliar de eletricista com encargos complementares","h",8.9999999999999993E-3,15.447000000000001,{"$f":"IF(ISNUMBER(F1797),E1797*F1797,\"\")","v":0.13902300000000001},{"$f":"SUM(G1797:G1800)","v":0.348802},null,0]
[null,null,"Eletricista com encargos complementares","h",8.9999999999999993E-3,19.645999999999997,{"$f":"IF(ISNUMBER(F1798),E1798*F1798,\"\")","v":0.17681399999999997},null,null,0]
[null,null,"Cabo de cobre multipolar, classe 5, isolação em EPR, 0,6/1 kV, 4x2,5mm² resistente a chama, livre de halogênios","m",1.0269999999999999,"",{"$f":"IF(ISNUMBER(F1799),E1799*F1799,\"\")","v":""},null,null,0]
[null,null,"Fita isolante adesiva antichama, uso ate 750 V, em rolo de 19 mm x 5 m","un",0.01,3.2965,{"$f":"IF(ISNUMBER(F1800),E1800*F1800,\"\")","v":3.2965000000000001E-2},null,null,0]
[null,null,null,null,null,"",{"$f":"IF(ISNUMBER(F1801),E1801*F1801,\"\")","v":""},null,null,0]
["SF-00284",{"$f":"INDEX(Orçamentária!A:B,MATCH(Composições!A1802,Orçamentária!A:A,0),2)","v":"Condutor 6 mm²"},null,{"$f":"TRIM(INDEX(Orçamentária!C:C,MATCH(Composições!A1802,Orçamentária!A:A,0),1))","v":"m"},null,"",{"$f":"IF(ISNUMBER(F1802),E1802*F1802,\"\")","v":""},null,null,0]
[null,null,null,null,null,"",{"$f":"IF(ISNUMBER(F1803),E1803*F1803,\"\")","v":""},null,null,0]
[null,null,"Auxiliar de eletricista com encargos complementares","h",5.1999999999999998E-2,15.447000000000001,{"$f":"IF(ISNUMBER(F1804),E1804*F1804,\"\")","v":0.80324399999999996},{"$f":"SUM(G1804:G1807)","v":1.8545045},null,0]
[null,null,"Eletricista com encargos complementares","h",5.1999999999999998E-2,19.645999999999997,{"$f":"IF(ISNUMBER(F1805),E1805*F1805,\"\")","v":1.0215919999999998},null,null,0]
[null,null,"Cabo de cobre isolado PVC 450/750V 6mm² resistente a chamas, livre de halogênios","m",1.19,"",{"$f":"IF(ISNUMBER(F1806),E1806*F1806,\"\")","v":""},null,null,0]
[null,null,"Fita isolante adesiva antichama, uso ate 750 V, em rolo de 19 mm x 5 m","un",8.9999999999999993E-3,3.2965,{"$f":"IF(ISNUMBER(F1807),E1807*F1807,\"\")","v":2.9668499999999997E-2},null,null,0]
[null,null,null,null,null,"",{"$f":"IF(ISNUMBER(F1808),E1808*F1808,\"\")","v":""},null,null,0]
["SF-00285",{"$f":"INDEX(Orçamentária!A:B,MATCH(Composições!A1809,Orçamentária!A:A,0),2)","v":"Quadro elétrico TTA"},null,{"$f":"TRIM(INDEX(Orçamentária!C:C,MATCH(Composições!A1809,Orçamentária!A:A,0),1))","v":"un"},null,"",{"$f":"IF(ISNUMBER(F1809),E1809*F1809,\"\")","v":""},null,null,0]
[null,null,null,null,null,"",{"$f":"IF(ISNUMBER(F1810),E1810*F1810,\"\")","v":""},null,null,0]
[null,null,"Quadro elétrico tipo TTA completo com 30 disjuntores terminais, contemplando disjuntores, dispositovos de proteção contra surto (DPS), módulo diferencial residual (DR), borneiras, barramentos e outros itens necessários, conforme especificação","un",1,"",{"$f":"IF(ISNUMBER(F1811),E1811*F1811,\"\")","v":""},{"$f":"SUM(G1811:G1813)","v":122.82550000000001},null,0]
[null,null,"Auxiliar de eletricista com encargos complementares","h",3.5,15.447000000000001,{"$f":"IF(ISNUMBER(F1812),E1812*F1812,\"\")","v":54.064500000000002},null,null,0]
[null,null,"Eletricista com encargos complementares","h",3.5,19.645999999999997,{"$f":"IF(ISNUMBER(F1813),E1813*F1813,\"\")","v":68.760999999999996},null,null,0]
[null,null,null,null,null,"",{"$f":"IF(ISNUMBER(F1814),E1814*F1814,\"\")","v":""},null,null,0]
["SF-00293",{"$f":"INDEX(Orçamentária!A:B,MATCH(Composições!A1815,Orçamentária!A:A,0),2)","v":"Instalação de fancolete reaproveitado"},null,{"$f":"TRIM(INDEX(Orçamentária!C:C,MATCH(Composições!A1815,Orçamentária!A:A,0),1))","v":"un"},null,"",{"$f":"IF(ISNUMBER(F1815),E1815*F1815,\"\")","v":""},null,null,0]
[null,null,null,null,null,"",{"$f":"IF(ISNUMBER(F1816),E1816*F1816,\"\")","v":""},null,null,0]
[null,null,"Ajudante de operação em geral com encargos complementares","h",2,15.523,{"$f":"IF(ISNUMBER(F1817),E1817*F1817,\"\")","v":31.045999999999999},{"$f":"SUM(G1817:G1818)","v":71.705999999999989},null,0]
[null,null,"MONTADOR ELETROMECÃNICO COM ENCARGOS COMPLEMENTARES","h",2,20.329999999999998,{"$f":"IF(ISNUMBER(F1818),E1818*F1818,\"\")","v":40.659999999999997},null,null,0]
[null,null,null,null,null,"",{"$f":"IF(ISNUMBER(F1819),E1819*F1819,\"\")","v":""},null,null,0]
["SF-00294",{"$f":"INDEX(Orçamentária!A:B,MATCH(Composições!A1820,Orçamentária!A:A,0),2)","v":"Instalação de split reaproveitado"},null,{"$f":"TRIM(INDEX(Orçamentária!C:C,MATCH(Composições!A1820,Orçamentária!A:A,0),1))","v":"un"},null,"",{"$f":"IF(ISNUMBER(F1820),E1820*F1820,\"\")","v":""},null,null,0]
[null,null,null,null,null,"",{"$f":"IF(ISNUMBER(F1821),E1821*F1821,\"\")","v":""},null,null,0]
[null,null,"Ajudante de operação em geral com encargos complementares","h",3,15.523,{"$f":"IF(ISNUMBER(F1822),E1822*F1822,\"\")","v":46.569000000000003},{"$f":"SUM(G1822:G1823)","v":107.559},null,0]
[null,null,"MONTADOR ELETROMECÃNICO COM ENCARGOS COMPLEMENTARES","h",3,20.329999999999998,{"$f":"IF(ISNUMBER(F1823),E1823*F1823,\"\")","v":60.989999999999995},null,null,0]
[null,null,null,null,null,"",{"$f":"IF(ISNUMBER(F1824),E1824*F1824,\"\")","v":""},null,null,0]
["SF-00295",{"$f":"INDEX(Orçamentária!A:B,MATCH(Composições!A1825,Orçamentária!A:A,0),2)","v":"Exaustor axial 340 m3/h"},null,{"$f":"TRIM(INDEX(Orçamentária!C:C,MATCH(Composições!A1825,Orçamentária!A:A,0),1))","v":"un"},null,"",{"$f":"IF(ISNUMBER(F1825),E1825*F1825,\"\")","v":""},null,null,0]
[null,null,null,null,null,"",{"$f":"IF(ISNUMBER(F1826),E1826*F1826,\"\")","v":""},null,null,0]
[null,null,"Eletricista com encargos complementares","h",1,19.645999999999997,{"$f":"IF(ISNUMBER(F1827),E1827*F1827,\"\")","v":19.645999999999997},{"$f":"SUM(G1827:G1829)","v":35.092999999999996},null,0]
[null,null,"Auxiliar de eletricista com encargos complementares","h",1,15.447000000000001,{"$f":"IF(ISNUMBER(F1828),E1828*F1828,\"\")","v":15.447000000000001},null,null,0]
[null,null,"Exaustor axial, 1F/220V/60Hz,  vazão máxima 340 m3/h, pressão estática máxima 104 Pa. Referência Comercial: Multivac Muro150B 220V","un ",1,"",{"$f":"IF(ISNUMBER(F1829),E1829*F1829,\"\")","v":""},null,null,0]
[null,null,null,null,null,"",{"$f":"IF(ISNUMBER(F1830),E1830*F1830,\"\")","v":""},null,null,0]
["SF-00296",{"$f":"INDEX(Orçamentária!A:B,MATCH(Composições!A1831,Orçamentária!A:A,0),2)","v":"Exaustor axial 865 m3/h"},null,{"$f":"TRIM(INDEX(Orçamentária!C:C,MATCH(Composições!A1831,Orçamentária!A:A,0),1))","v":"un"},null,"",{"$f":"IF(ISNUMBER(F1831),E1831*F1831,\"\")","v":""},null,null,0]
[null,null,null,null,null,"",{"$f":"IF(ISNUMBER(F1832),E1832*F1832,\"\")","v":""},null,null,0]
[null,null,"Eletricista com encargos complementares","h",1,19.645999999999997,{"$f":"IF(ISNUMBER(F1833),E1833*F1833,\"\")","v":19.645999999999997},{"$f":"SUM(G1833:G1835)","v":35.092999999999996},null,0]
[null,null,"Auxiliar de eletricista com encargos complementares","h",1,15.447000000000001,{"$f":"IF(ISNUMBER(F1834),E1834*F1834,\"\")","v":15.447000000000001},null,null,0]
[null,null,"Exaustor axial, 1F/220V/60Hz,  vazão máxima 865 m3/h, pressão estática máxima 582 Pa . Referência Comercial: Multivac AXC 200B","un ",1,"",{"$f":"IF(ISNUMBER(F1835),E1835*F1835,\"\")","v":""},null,null,0]
[null,null,null,null,null,"",{"$f":"IF(ISNUMBER(F1836),E1836*F1836,\"\")","v":""},null,null,0]
["SF-00297",{"$f":"INDEX(Orçamentária!A:B,MATCH(Composições!A1837,Orçamentária!A:A,0),2)","v":"Duto chapa galvanizada # 22"},null,{"$f":"TRIM(INDEX(Orçamentária!C:C,MATCH(Composições!A1837,Orçamentária!A:A,0),1))","v":"m2"},null,"",{"$f":"IF(ISNUMBER(F1837),E1837*F1837,\"\")","v":""},null,null,0]
[null,null,null,null,null,"",{"$f":"IF(ISNUMBER(F1838),E1838*F1838,\"\")","v":""},null,null,0]
[null,null,"Chapa de aco galvanizada bitola GSG 22, E = 0,80 mm (6,40 kg/m2)","kg",6.6559999999999997,7.1154999999999999,{"$f":"IF(ISNUMBER(F1839),E1839*F1839,\"\")","v":47.360768},{"$f":"SUM(G1839:G1842)","v":181.31532799999999},null,0]
[null,null,"Suportes e acessórios de fixação de dutos em chapa de aço #22","cj",1,0,{"$f":"IF(ISNUMBER(F1840),E1840*F1840,\"\")","v":0},null,null,0]
[null,null,"Servente com Encargos Complementares","h",3.84,14.554,{"$f":"IF(ISNUMBER(F1841),E1841*F1841,\"\")","v":55.887360000000001},null,null,0]
[null,null,"MONTADOR ELETROMECÃNICO COM ENCARGOS COMPLEMENTARES","h",3.84,20.329999999999998,{"$f":"IF(ISNUMBER(F1842),E1842*F1842,\"\")","v":78.067199999999985},null,null,0]
[null,null,null,null,null,"",{"$f":"IF(ISNUMBER(F1843),E1843*F1843,\"\")","v":""},null,null,0]
["SF-00298",{"$f":"INDEX(Orçamentária!A:B,MATCH(Composições!A1844,Orçamentária!A:A,0),2)","v":"Duto flexível 6”"},null,{"$f":"TRIM(INDEX(Orçamentária!C:C,MATCH(Composições!A1844,Orçamentária!A:A,0),1))","v":"m"},null,"",{"$f":"IF(ISNUMBER(F1844),E1844*F1844,\"\")","v":""},null,null,0]
[null,null,null,null,null,"",{"$f":"IF(ISNUMBER(F1845),E1845*F1845,\"\")","v":""},null,null,0]
[null,null,"Servente com Encargos Complementares","h",0.4,14.554,{"$f":"IF(ISNUMBER(F1846),E1846*F1846,\"\")","v":5.8216000000000001},{"$f":"SUM(G1846:G1848)","v":13.9536},null,0]
[null,null,"MONTADOR ELETROMECÃNICO COM ENCARGOS COMPLEMENTARES","h",0.4,20.329999999999998,{"$f":"IF(ISNUMBER(F1847),E1847*F1847,\"\")","v":8.1319999999999997},null,null,0]
[null,null,"Duto flexível com isolamento térmico e barreira de vapor, diâmetro 6”, 6 m de comprimento. Referência Comercial: Multivac Isodec RT 0.6","m",1.05,"",{"$f":"IF(ISNUMBER(F1848),E1848*F1848,\"\")","v":""},null,null,0]
[null,null,null,null,null,"",{"$f":"IF(ISNUMBER(F1849),E1849*F1849,\"\")","v":""},null,null,0]
["SF-00299",{"$f":"INDEX(Orçamentária!A:B,MATCH(Composições!A1850,Orçamentária!A:A,0),2)","v":"Duto flexível 8”"},null,{"$f":"TRIM(INDEX(Orçamentária!C:C,MATCH(Composições!A1850,Orçamentária!A:A,0),1))","v":"m"},null,"",{"$f":"IF(ISNUMBER(F1850),E1850*F1850,\"\")","v":""},null,null,0]
[null,null,null,null,null,"",{"$f":"IF(ISNUMBER(F1851),E1851*F1851,\"\")","v":""},null,null,0]
[null,null,"Servente com Encargos Complementares","h",0.4,14.554,{"$f":"IF(ISNUMBER(F1852),E1852*F1852,\"\")","v":5.8216000000000001},{"$f":"SUM(G1852:G1854)","v":13.9536},null,0]
[null,null,"MONTADOR ELETROMECÃNICO COM ENCARGOS COMPLEMENTARES","h",0.4,20.329999999999998,{"$f":"IF(ISNUMBER(F1853),E1853*F1853,\"\")","v":8.1319999999999997},null,null,0]
[null,null,"Duto flexível com isolamento térmico e barreira de vapor, diâmetro 8”, 6 m de comprimento. Referência: Multivac Isodec RT 0.6","m",1.05,"",{"$f":"IF(ISNUMBER(F1854),E1854*F1854,\"\")","v":""},null,null,0]
[null,null,null,null,null,"",{"$f":"IF(ISNUMBER(F1855),E1855*F1855,\"\")","v":""},null,null,0]
["SF-00300",{"$f":"INDEX(Orçamentária!A:B,MATCH(Composições!A1856,Orçamentária!A:A,0),2)","v":"Difusor de ar quadrado 360x360 mm"},null,{"$f":"TRIM(INDEX(Orçamentária!C:C,MATCH(Composições!A1856,Orçamentária!A:A,0),1))","v":"un"},null,"",{"$f":"IF(ISNUMBER(F1856),E1856*F1856,\"\")","v":""},null,null,0]
[null,null,null,null,null,"",{"$f":"IF(ISNUMBER(F1857),E1857*F1857,\"\")","v":""},null,null,0]
[null,null,"Ajudante de operação em geral com encargos complementares","h",2.5,15.523,{"$f":"IF(ISNUMBER(F1858),E1858*F1858,\"\")","v":38.807499999999997},{"$f":"SUM(G1858:G1860)","v":89.632499999999993},null,0]
[null,null,"MONTADOR ELETROMECÃNICO COM ENCARGOS COMPLEMENTARES","h",2.5,20.329999999999998,{"$f":"IF(ISNUMBER(F1859),E1859*F1859,\"\")","v":50.824999999999996},null,null,0]
[null,null,"Difusor de ar quadrado, 360x360 mm, Referência Comercial: Trox ADLQ-AG Nº4","un ",1,"",{"$f":"IF(ISNUMBER(F1860),E1860*F1860,\"\")","v":""},null,null,0]
[null,null,null,null,null,"",{"$f":"IF(ISNUMBER(F1861),E1861*F1861,\"\")","v":""},null,null,0]
["SF-00301",{"$f":"INDEX(Orçamentária!A:B,MATCH(Composições!A1862,Orçamentária!A:A,0),2)","v":"Difusor de ar quadrado com caixa plenum AK6 360x360 mm"},null,{"$f":"TRIM(INDEX(Orçamentária!C:C,MATCH(Composições!A1862,Orçamentária!A:A,0),1))","v":"un"},null,"",{"$f":"IF(ISNUMBER(F1862),E1862*F1862,\"\")","v":""},null,null,0]
[null,null,null,null,null,"",{"$f":"IF(ISNUMBER(F1863),E1863*F1863,\"\")","v":""},null,null,0]
[null,null,"Ajudante de operação em geral com encargos complementares","h",2.5,15.523,{"$f":"IF(ISNUMBER(F1864),E1864*F1864,\"\")","v":38.807499999999997},{"$f":"SUM(G1864:G1866)","v":89.632499999999993},null,0]
[null,null,"MONTADOR ELETROMECÃNICO COM ENCARGOS COMPLEMENTARES","h",2.5,20.329999999999998,{"$f":"IF(ISNUMBER(F1865),E1865*F1865,\"\")","v":50.824999999999996},null,null,0]
[null,null,"Difusor de ar quadrado com caixa pleno AK6 360x360 mm. Ref.: Trox ADLK-AG Nº4","un ",1,"",{"$f":"IF(ISNUMBER(F1866),E1866*F1866,\"\")","v":""},null,null,0]
[null,null,null,null,null,"",{"$f":"IF(ISNUMBER(F1867),E1867*F1867,\"\")","v":""},null,null,0]
["SF-00302",{"$f":"INDEX(Orçamentária!A:B,MATCH(Composições!A1868,Orçamentária!A:A,0),2)","v":"Difusor de ar quadrado para insuflamento em duas direções perpendiculares 376x376 mm"},null,{"$f":"TRIM(INDEX(Orçamentária!C:C,MATCH(Composições!A1868,Orçamentária!A:A,0),1))","v":"un"},null,"",{"$f":"IF(ISNUMBER(F1868),E1868*F1868,\"\")","v":""},null,null,0]
[null,null,null,null,null,"",{"$f":"IF(ISNUMBER(F1869),E1869*F1869,\"\")","v":""},null,null,0]
[null,null,"Ajudante de operação em geral com encargos complementares","h",2.5,15.523,{"$f":"IF(ISNUMBER(F1870),E1870*F1870,\"\")","v":38.807499999999997},{"$f":"SUM(G1870:G1872)","v":89.632499999999993},null,0]
[null,null,"MONTADOR ELETROMECÃNICO COM ENCARGOS COMPLEMENTARES","h",2.5,20.329999999999998,{"$f":"IF(ISNUMBER(F1871),E1871*F1871,\"\")","v":50.824999999999996},null,null,0]
[null,null,"Difusor de ar quadrado para insuflamento em duas direções perpendiculares 376x376 mm, Referência Comercial: Trox  ADQ-2C-AG","un ",1,"",{"$f":"IF(ISNUMBER(F1872),E1872*F1872,\"\")","v":""},null,null,0]
[null,null,null,null,null,"",{"$f":"IF(ISNUMBER(F1873),E1873*F1873,\"\")","v":""},null,null,0]
["SF-00303",{"$f":"INDEX(Orçamentária!A:B,MATCH(Composições!A1874,Orçamentária!A:A,0),2)","v":"Difusor de ar retangular para insuflamento em duas direções 371x208 mm"},null,{"$f":"TRIM(INDEX(Orçamentária!C:C,MATCH(Composições!A1874,Orçamentária!A:A,0),1))","v":"un"},null,"",{"$f":"IF(ISNUMBER(F1874),E1874*F1874,\"\")","v":""},null,null,0]
[null,null,null,null,null,"",{"$f":"IF(ISNUMBER(F1875),E1875*F1875,\"\")","v":""},null,null,0]
[null,null,"Ajudante de operação em geral com encargos complementares","h",2.5,15.523,{"$f":"IF(ISNUMBER(F1876),E1876*F1876,\"\")","v":38.807499999999997},{"$f":"SUM(G1876:G1878)","v":89.632499999999993},null,0]
[null,null,"MONTADOR ELETROMECÃNICO COM ENCARGOS COMPLEMENTARES","h",2.5,20.329999999999998,{"$f":"IF(ISNUMBER(F1877),E1877*F1877,\"\")","v":50.824999999999996},null,null,0]
[null,null,"Difusor de ar retangular para insuflamento em duas direções (fluxo na direção perpendicular às maiores arestas do retângulo), 371x208 mm. Ref.: Trox ADQ-2","un ",1,"",{"$f":"IF(ISNUMBER(F1878),E1878*F1878,\"\")","v":""},null,null,0]
[null,null,null,null,null,"",{"$f":"IF(ISNUMBER(F1879),E1879*F1879,\"\")","v":""},null,null,0]
["SF-00304",{"$f":"INDEX(Orçamentária!A:B,MATCH(Composições!A1880,Orçamentária!A:A,0),2)","v":"Difusor de ar retangular para insuflamento em três direções 264x432 mm"},null,{"$f":"TRIM(INDEX(Orçamentária!C:C,MATCH(Composições!A1880,Orçamentária!A:A,0),1))","v":"un"},null,"",{"$f":"IF(ISNUMBER(F1880),E1880*F1880,\"\")","v":""},null,null,0]
[null,null,null,null,null,"",{"$f":"IF(ISNUMBER(F1881),E1881*F1881,\"\")","v":""},null,null,0]
[null,null,"Ajudante de operação em geral com encargos complementares","h",2.5,15.523,{"$f":"IF(ISNUMBER(F1882),E1882*F1882,\"\")","v":38.807499999999997},{"$f":"SUM(G1882:G1884)","v":89.632499999999993},null,0]
[null,null,"MONTADOR ELETROMECÃNICO COM ENCARGOS COMPLEMENTARES","h",2.5,20.329999999999998,{"$f":"IF(ISNUMBER(F1883),E1883*F1883,\"\")","v":50.824999999999996},null,null,0]
[null,null,"Difusor de ar retangular para insuflamento em três direções (um fluxo na direção perpendicular às maiores arestas do retângulo e dois fluxos na direção perpendicular às menores arestas), 264x432 mm, Referência Comercial: Trox  ADQ-32-AG","un ",1,"",{"$f":"IF(ISNUMBER(F1884),E1884*F1884,\"\")","v":""},null,null,0]
[null,null,null,null,null,"",{"$f":"IF(ISNUMBER(F1885),E1885*F1885,\"\")","v":""},null,null,0]
["SF-00305",{"$f":"INDEX(Orçamentária!A:B,MATCH(Composições!A1886,Orçamentária!A:A,0),2)","v":"Difusor de ar retangular para insuflamento em três direções 320x562 mm"},null,{"$f":"TRIM(INDEX(Orçamentária!C:C,MATCH(Composições!A1886,Orçamentária!A:A,0),1))","v":"un"},null,"",{"$f":"IF(ISNUMBER(F1886),E1886*F1886,\"\")","v":""},null,null,0]
[null,null,null,null,null,"",{"$f":"IF(ISNUMBER(F1887),E1887*F1887,\"\")","v":""},null,null,0]
[null,null,"Ajudante de operação em geral com encargos complementares","h",2.5,15.523,{"$f":"IF(ISNUMBER(F1888),E1888*F1888,\"\")","v":38.807499999999997},{"$f":"SUM(G1888:G1890)","v":89.632499999999993},null,0]
[null,null,"MONTADOR ELETROMECÃNICO COM ENCARGOS COMPLEMENTARES","h",2.5,20.329999999999998,{"$f":"IF(ISNUMBER(F1889),E1889*F1889,\"\")","v":50.824999999999996},null,null,0]
[null,null,"Difusor de ar retangular para insuflamento em três direções 320x562 mm. Ref.: Trox ADQ-32-AG","un ",1,"",{"$f":"IF(ISNUMBER(F1890),E1890*F1890,\"\")","v":""},null,null,0]
[null,null,null,null,null,"",{"$f":"IF(ISNUMBER(F1891),E1891*F1891,\"\")","v":""},null,null,0]
["SF-00306",{"$f":"INDEX(Orçamentária!A:B,MATCH(Composições!A1892,Orçamentária!A:A,0),2)","v":"Difusor de ar retangular para insuflamento em três direções 371x208 mm"},null,{"$f":"TRIM(INDEX(Orçamentária!C:C,MATCH(Composições!A1892,Orçamentária!A:A,0),1))","v":"un"},null,"",{"$f":"IF(ISNUMBER(F1892),E1892*F1892,\"\")","v":""},null,null,0]
[null,null,null,null,null,"",{"$f":"IF(ISNUMBER(F1893),E1893*F1893,\"\")","v":""},null,null,0]
[null,null,"Ajudante de operação em geral com encargos complementares","h",2.5,15.523,{"$f":"IF(ISNUMBER(F1894),E1894*F1894,\"\")","v":38.807499999999997},{"$f":"SUM(G1894:G1896)","v":89.632499999999993},null,0]
[null,null,"MONTADOR ELETROMECÃNICO COM ENCARGOS COMPLEMENTARES","h",2.5,20.329999999999998,{"$f":"IF(ISNUMBER(F1895),E1895*F1895,\"\")","v":50.824999999999996},null,null,0]
[null,null,"Difusor de ar retangular para insuflamento em três direções (dois fluxos na direção perpendicular às maiores arestas do retângulo e um fluxo na direção perpendicular às menores arestas), 371x208 mm. Ref.: Trox ADQ-3","un ",1,"",{"$f":"IF(ISNUMBER(F1896),E1896*F1896,\"\")","v":""},null,null,0]
[null,null,null,null,null,"",{"$f":"IF(ISNUMBER(F1897),E1897*F1897,\"\")","v":""},null,null,0]
["SF-00307",{"$f":"INDEX(Orçamentária!A:B,MATCH(Composições!A1898,Orçamentária!A:A,0),2)","v":"Difusor de ar retangular para insuflamento em uma direção 371x208 mm"},null,{"$f":"TRIM(INDEX(Orçamentária!C:C,MATCH(Composições!A1898,Orçamentária!A:A,0),1))","v":"un"},null,"",{"$f":"IF(ISNUMBER(F1898),E1898*F1898,\"\")","v":""},null,null,0]
[null,null,null,null,null,"",{"$f":"IF(ISNUMBER(F1899),E1899*F1899,\"\")","v":""},null,null,0]
[null,null,"Ajudante de operação em geral com encargos complementares","h",2.5,15.523,{"$f":"IF(ISNUMBER(F1900),E1900*F1900,\"\")","v":38.807499999999997},{"$f":"SUM(G1900:G1902)","v":89.632499999999993},null,0]
[null,null,"MONTADOR ELETROMECÃNICO COM ENCARGOS COMPLEMENTARES","h",2.5,20.329999999999998,{"$f":"IF(ISNUMBER(F1901),E1901*F1901,\"\")","v":50.824999999999996},null,null,0]
[null,null,"Difusor de ar retangular para insuflamento em uma direção (fluxo na direção perpendicular às maiores arestas do retângulo), 371x208 mm. Ref.: Trox ADQ-1","un ",1,"",{"$f":"IF(ISNUMBER(F1902),E1902*F1902,\"\")","v":""},null,null,0]
[null,null,null,null,null,"",{"$f":"IF(ISNUMBER(F1903),E1903*F1903,\"\")","v":""},null,null,0]
["SF-00308",{"$f":"INDEX(Orçamentária!A:B,MATCH(Composições!A1904,Orçamentária!A:A,0),2)","v":"Grelha para retorno retangular 425x225 mm"},null,{"$f":"TRIM(INDEX(Orçamentária!C:C,MATCH(Composições!A1904,Orçamentária!A:A,0),1))","v":"un"},null,"",{"$f":"IF(ISNUMBER(F1904),E1904*F1904,\"\")","v":""},null,null,0]
[null,null,null,null,null,"",{"$f":"IF(ISNUMBER(F1905),E1905*F1905,\"\")","v":""},null,null,0]
[null,null,"Ajudante de operação em geral com encargos complementares","h",3.5,15.523,{"$f":"IF(ISNUMBER(F1906),E1906*F1906,\"\")","v":54.330500000000001},{"$f":"SUM(G1906:G1908)","v":125.4855},null,0]
[null,null,"MONTADOR ELETROMECÃNICO COM ENCARGOS COMPLEMENTARES","h",3.5,20.329999999999998,{"$f":"IF(ISNUMBER(F1907),E1907*F1907,\"\")","v":71.155000000000001},null,null,0]
[null,null,"Grelha para retorno de ar com lâminas fixas e registro, 40 x 20 cm","un ",1,0,{"$f":"IF(ISNUMBER(F1908),E1908*F1908,\"\")","v":0},null,null,0]
[null,null,null,null,null,"",{"$f":"IF(ISNUMBER(F1909),E1909*F1909,\"\")","v":""},null,null,0]
["SF-00309",{"$f":"INDEX(Orçamentária!A:B,MATCH(Composições!A1910,Orçamentária!A:A,0),2)","v":"Grelha para retorno retangular 525x325 mm"},null,{"$f":"TRIM(INDEX(Orçamentária!C:C,MATCH(Composições!A1910,Orçamentária!A:A,0),1))","v":"un"},null,"",{"$f":"IF(ISNUMBER(F1910),E1910*F1910,\"\")","v":""},null,null,0]
[null,null,null,null,null,"",{"$f":"IF(ISNUMBER(F1911),E1911*F1911,\"\")","v":""},null,null,0]
[null,null,"Ajudante de operação em geral com encargos complementares","h",3.5,15.523,{"$f":"IF(ISNUMBER(F1912),E1912*F1912,\"\")","v":54.330500000000001},{"$f":"SUM(G1912:G1914)","v":125.4855},null,0]
[null,null,"MONTADOR ELETROMECÃNICO COM ENCARGOS COMPLEMENTARES","h",3.5,20.329999999999998,{"$f":"IF(ISNUMBER(F1913),E1913*F1913,\"\")","v":71.155000000000001},null,null,0]
[null,null,"Grelha para retorno de ar com lâminas fixas e registro, 50 x 30 cm","un ",1,0,{"$f":"IF(ISNUMBER(F1914),E1914*F1914,\"\")","v":0},null,null,0]
[null,null,null,null,null,"",{"$f":"IF(ISNUMBER(F1915),E1915*F1915,\"\")","v":""},null,null,0]
["SF-00310",{"$f":"INDEX(Orçamentária!A:B,MATCH(Composições!A1916,Orçamentária!A:A,0),2)","v":"Instalação de difusores, grelhas e acessórios de climatização reaproveitados"},null,{"$f":"TRIM(INDEX(Orçamentária!C:C,MATCH(Composições!A1916,Orçamentária!A:A,0),1))","v":"un"},null,"",{"$f":"IF(ISNUMBER(F1916),E1916*F1916,\"\")","v":""},null,null,0]
[null,null,null,null,null,"",{"$f":"IF(ISNUMBER(F1917),E1917*F1917,\"\")","v":""},null,null,0]
[null,null,"Ajudante de operação em geral com encargos complementares","h",2.5,15.523,{"$f":"IF(ISNUMBER(F1918),E1918*F1918,\"\")","v":38.807499999999997},{"$f":"SUM(G1918:G1919)","v":89.632499999999993},null,0]
[null,null,"MONTADOR ELETROMECÃNICO COM ENCARGOS COMPLEMENTARES","h",2.5,20.329999999999998,{"$f":"IF(ISNUMBER(F1919),E1919*F1919,\"\")","v":50.824999999999996},null,null,0]
[null,null,null,null,null,"",{"$f":"IF(ISNUMBER(F1920),E1920*F1920,\"\")","v":""},null,null,0]
["SF-00311",{"$f":"INDEX(Orçamentária!A:B,MATCH(Composições!A1921,Orçamentária!A:A,0),2)","v":"Instalação de exaustor reaproveitado"},null,{"$f":"TRIM(INDEX(Orçamentária!C:C,MATCH(Composições!A1921,Orçamentária!A:A,0),1))","v":"un"},null,"",{"$f":"IF(ISNUMBER(F1921),E1921*F1921,\"\")","v":""},null,null,0]
[null,null,null,null,null,"",{"$f":"IF(ISNUMBER(F1922),E1922*F1922,\"\")","v":""},null,null,0]
[null,null,"Eletricista com encargos complementares","h",1,19.645999999999997,{"$f":"IF(ISNUMBER(F1923),E1923*F1923,\"\")","v":19.645999999999997},{"$f":"SUM(G1923:G1924)","v":35.092999999999996},null,0]
[null,null,"Auxiliar de eletricista com encargos complementares","h",1,15.447000000000001,{"$f":"IF(ISNUMBER(F1924),E1924*F1924,\"\")","v":15.447000000000001},null,null,0]
[null,null,null,null,null,"",{"$f":"IF(ISNUMBER(F1925),E1925*F1925,\"\")","v":""},null,null,0]
["SF-00312",{"$f":"INDEX(Orçamentária!A:B,MATCH(Composições!A1926,Orçamentária!A:A,0),2)","v":"Preparação para instalação de difusores/grelhas de ar em portas"},null,{"$f":"TRIM(INDEX(Orçamentária!C:C,MATCH(Composições!A1926,Orçamentária!A:A,0),1))","v":"un"},null,"",{"$f":"IF(ISNUMBER(F1926),E1926*F1926,\"\")","v":""},null,null,0]
[null,null,null,null,null,"",{"$f":"IF(ISNUMBER(F1927),E1927*F1927,\"\")","v":""},null,null,0]
[null,null,"Marceneiro com encargos complementares","h",0.75,19.683999999999997,{"$f":"IF(ISNUMBER(F1928),E1928*F1928,\"\")","v":14.762999999999998},{"$f":"SUM(G1928:G1929)","v":27.074999999999999},null,0]
[null,null,"Ajudante de carpinteiro com encargos complementares","h",0.75,16.416,{"$f":"IF(ISNUMBER(F1929),E1929*F1929,\"\")","v":12.312000000000001},null,null,0]
[null,null,null,null,null,"",{"$f":"IF(ISNUMBER(F1930),E1930*F1930,\"\")","v":""},null,null,0]
["SF-00313",{"$f":"INDEX(Orçamentária!A:B,MATCH(Composições!A1931,Orçamentária!A:A,0),2)","v":"Bomba para condensado de ar-condicionado para instalação oculta"},null,{"$f":"TRIM(INDEX(Orçamentária!C:C,MATCH(Composições!A1931,Orçamentária!A:A,0),1))","v":"un"},null,"",{"$f":"IF(ISNUMBER(F1931),E1931*F1931,\"\")","v":""},null,null,0]
[null,null,null,null,null,"",{"$f":"IF(ISNUMBER(F1932),E1932*F1932,\"\")","v":""},null,null,0]
[null,null,"Auxiliar de eletricista com encargos complementares","h",1,15.447000000000001,{"$f":"IF(ISNUMBER(F1933),E1933*F1933,\"\")","v":15.447000000000001},{"$f":"SUM(G1933:G1935)","v":35.092999999999996},null,0]
[null,null,"Eletricista com encargos complementares","h",1,19.645999999999997,{"$f":"IF(ISNUMBER(F1934),E1934*F1934,\"\")","v":19.645999999999997},null,null,0]
[null,null,"Bomba para condensado de ar-condicionado para instalação oculta, 1F/220V/60Hz, vazão 14 l/h (a 0 mmca). Ref.: Elgin Mini Orange","un",1,"",{"$f":"IF(ISNUMBER(F1935),E1935*F1935,\"\")","v":""},null,null,0]
[null,null,null,null,null,"",{"$f":"IF(ISNUMBER(F1936),E1936*F1936,\"\")","v":""},null,null,0]
["SF-00314",{"$f":"INDEX(Orçamentária!A:B,MATCH(Composições!A1937,Orçamentária!A:A,0),2)","v":"Fita aluminizada para refrigeração 48 mm"},null,{"$f":"TRIM(INDEX(Orçamentária!C:C,MATCH(Composições!A1937,Orçamentária!A:A,0),1))","v":"m"},null,"",{"$f":"IF(ISNUMBER(F1937),E1937*F1937,\"\")","v":""},null,null,0]
[null,null,null,null,null,"",{"$f":"IF(ISNUMBER(F1938),E1938*F1938,\"\")","v":""},null,null,0]
[null,null,"Ajudante de operação em geral com encargos complementares","h",0.05,15.523,{"$f":"IF(ISNUMBER(F1939),E1939*F1939,\"\")","v":0.77615000000000001},{"$f":"SUM(G1939:G1940)","v":0.77615000000000001},null,0]
[null,null,"Fita aluminizada 48 mm","m",1,"",{"$f":"IF(ISNUMBER(F1940),E1940*F1940,\"\")","v":""},null,null,0]
[null,null,null,null,null,"",{"$f":"IF(ISNUMBER(F1941),E1941*F1941,\"\")","v":""},null,null,0]
["SF-00315",{"$f":"INDEX(Orçamentária!A:B,MATCH(Composições!A1942,Orçamentária!A:A,0),2)","v":"Fita PVC 100 mm para acabamento em refrigeração"},null,{"$f":"TRIM(INDEX(Orçamentária!C:C,MATCH(Composições!A1942,Orçamentária!A:A,0),1))","v":"m"},null,"",{"$f":"IF(ISNUMBER(F1942),E1942*F1942,\"\")","v":""},null,null,0]
[null,null,null,null,null,"",{"$f":"IF(ISNUMBER(F1943),E1943*F1943,\"\")","v":""},null,null,0]
[null,null,"Ajudante de operação em geral com encargos complementares","h",0.05,15.523,{"$f":"IF(ISNUMBER(F1944),E1944*F1944,\"\")","v":0.77615000000000001},{"$f":"SUM(G1944:G1945)","v":0.77615000000000001},null,0]
[null,null,"Fita PVC 100 mm","m",1,"",{"$f":"IF(ISNUMBER(F1945),E1945*F1945,\"\")","v":""},null,null,0]
[null,null,null,null,null,"",{"$f":"IF(ISNUMBER(F1946),E1946*F1946,\"\")","v":""},null,null,0]
["SF-00316",{"$f":"INDEX(Orçamentária!A:B,MATCH(Composições!A1947,Orçamentária!A:A,0),2)","v":"Mangueira emborrachada 3/4\" para água gelada"},null,{"$f":"TRIM(INDEX(Orçamentária!C:C,MATCH(Composições!A1947,Orçamentária!A:A,0),1))","v":"m"},null,"",{"$f":"IF(ISNUMBER(F1947),E1947*F1947,\"\")","v":""},null,null,0]
[null,null,null,null,null,"",{"$f":"IF(ISNUMBER(F1948),E1948*F1948,\"\")","v":""},null,null,0]
[null,null,"Ajudante de operação em geral com encargos complementares","h",0.05,15.523,{"$f":"IF(ISNUMBER(F1949),E1949*F1949,\"\")","v":0.77615000000000001},{"$f":"SUM(G1949:G1950)","v":0.77615000000000001},null,0]
[null,null,"Mangueira emborrachada 3/4\"","m",1,"",{"$f":"IF(ISNUMBER(F1950),E1950*F1950,\"\")","v":""},null,null,0]
[null,null,null,null,null,"",{"$f":"IF(ISNUMBER(F1951),E1951*F1951,\"\")","v":""},null,null,0]
["SF-00317",{"$f":"INDEX(Orçamentária!A:B,MATCH(Composições!A1952,Orçamentária!A:A,0),2)","v":"Suporte para unidade condensadora de aparelho split"},null,{"$f":"TRIM(INDEX(Orçamentária!C:C,MATCH(Composições!A1952,Orçamentária!A:A,0),1))","v":"un"},null,"",{"$f":"IF(ISNUMBER(F1952),E1952*F1952,\"\")","v":""},null,null,0]
[null,null,null,null,null,"",{"$f":"IF(ISNUMBER(F1953),E1953*F1953,\"\")","v":""},null,null,0]
[null,null,"Serralheiro com encargos complementares","h",0.85099999999999998,19.38,{"$f":"IF(ISNUMBER(F1954),E1954*F1954,\"\")","v":16.492379999999997},{"$f":"SUM(G1954:G1956)","v":30.009663999999994},null,0]
[null,null,"Auxiliar de serralheiro com encargos complementares","h",0.85099999999999998,15.883999999999999,{"$f":"IF(ISNUMBER(F1955),E1955*F1955,\"\")","v":13.517283999999998},null,null,0]
[null,null,"Suporte para unidade condensadora de aparelho split ou fancolete","un ",1,"",{"$f":"IF(ISNUMBER(F1956),E1956*F1956,\"\")","v":""},null,null,0]
[null,null,null,null,null,"",{"$f":"IF(ISNUMBER(F1957),E1957*F1957,\"\")","v":""},null,null,0]
["SF-00318",{"$f":"INDEX(Orçamentária!A:B,MATCH(Composições!A1958,Orçamentária!A:A,0),2)","v":"Suporte para unidade evaporadora de aparelho split ou fancolete"},null,{"$f":"TRIM(INDEX(Orçamentária!C:C,MATCH(Composições!A1958,Orçamentária!A:A,0),1))","v":"un"},null,"",{"$f":"IF(ISNUMBER(F1958),E1958*F1958,\"\")","v":""},null,null,0]
[null,null,null,null,null,"",{"$f":"IF(ISNUMBER(F1959),E1959*F1959,\"\")","v":""},null,null,0]
[null,null,"Serralheiro com encargos complementares","h",0.85099999999999998,19.38,{"$f":"IF(ISNUMBER(F1960),E1960*F1960,\"\")","v":16.492379999999997},{"$f":"SUM(G1960:G1962)","v":30.009663999999994},null,0]
[null,null,"Auxiliar de serralheiro com encargos complementares","h",0.85099999999999998,15.883999999999999,{"$f":"IF(ISNUMBER(F1961),E1961*F1961,\"\")","v":13.517283999999998},null,null,0]
[null,null,"Suporte para unidade evaporadora de aparelho split ou fancolete","un ",1,"",{"$f":"IF(ISNUMBER(F1962),E1962*F1962,\"\")","v":""},null,null,0]
[null,null,null,null,null,"",{"$f":"IF(ISNUMBER(F1963),E1963*F1963,\"\")","v":""},null,null,0]
["SF-00319",{"$f":"INDEX(Orçamentária!A:B,MATCH(Composições!A1964,Orçamentária!A:A,0),2)","v":"Filtro em Y 1\""},null,{"$f":"TRIM(INDEX(Orçamentária!C:C,MATCH(Composições!A1964,Orçamentária!A:A,0),1))","v":"un"},null,"",{"$f":"IF(ISNUMBER(F1964),E1964*F1964,\"\")","v":""},null,null,0]
[null,null,null,null,null,"",{"$f":"IF(ISNUMBER(F1965),E1965*F1965,\"\")","v":""},null,null,0]
[null,null,"Auxiliar de encanador ou bombeiro hidráulico com encargos complementares","h",0.77449999999999997,15.019499999999999,{"$f":"IF(ISNUMBER(F1966),E1966*F1966,\"\")","v":11.632602749999998},{"$f":"SUM(G1966:G1969)","v":26.511065749999997},null,0]
[null,null,"Encanador ou Bombeiro Hidráulico com Encargos Complementares","h",0.77449999999999997,19.066499999999998,{"$f":"IF(ISNUMBER(F1967),E1967*F1967,\"\")","v":14.767004249999998},null,null,0]
[null,null,"Filtro em Y 1\" (DN 25 mm), fabricado em bronze, extremidade com roscas, filtro em aço inoxidável, classe de pressão PN20 ou superior. Ref.: Deca 000.085.100.03","un ",1,"",{"$f":"IF(ISNUMBER(F1968),E1968*F1968,\"\")","v":""},null,null,0]
[null,null,"Fita veda rosca em rolos de 18 mm x 50 m (L x C)","UN",9.4999999999999998E-3,11.7325,{"$f":"IF(ISNUMBER(F1969),E1969*F1969,\"\")","v":0.11145875},null,null,0]
[null,null,null,null,null,"",{"$f":"IF(ISNUMBER(F1970),E1970*F1970,\"\")","v":""},null,null,0]
["SF-00320",{"$f":"INDEX(Orçamentária!A:B,MATCH(Composições!A1971,Orçamentária!A:A,0),2)","v":"Filtro em Y 3/4\""},null,{"$f":"TRIM(INDEX(Orçamentária!C:C,MATCH(Composições!A1971,Orçamentária!A:A,0),1))","v":"un"},null,"",{"$f":"IF(ISNUMBER(F1971),E1971*F1971,\"\")","v":""},null,null,0]
[null,null,null,null,null,"",{"$f":"IF(ISNUMBER(F1972),E1972*F1972,\"\")","v":""},null,null,0]
[null,null,"Auxiliar de encanador ou bombeiro hidráulico com encargos complementares","h",0.77449999999999997,15.019499999999999,{"$f":"IF(ISNUMBER(F1973),E1973*F1973,\"\")","v":11.632602749999998},{"$f":"SUM(G1973:G1976)","v":26.511065749999997},null,0]
[null,null,"Encanador ou Bombeiro Hidráulico com Encargos Complementares","h",0.77449999999999997,19.066499999999998,{"$f":"IF(ISNUMBER(F1974),E1974*F1974,\"\")","v":14.767004249999998},null,null,0]
[null,null,"Filtro em Y 3/4\" (DN 20 mm), fabricado em bronze, extremidade com roscas, filtro em aço inoxidável, classe de pressão PN20 ou superior. Ref.: Deca 000.085.034.03","un ",1,"",{"$f":"IF(ISNUMBER(F1975),E1975*F1975,\"\")","v":""},null,null,0]
[null,null,"Fita veda rosca em rolos de 18 mm x 50 m (L x C)","UN",9.4999999999999998E-3,11.7325,{"$f":"IF(ISNUMBER(F1976),E1976*F1976,\"\")","v":0.11145875},null,null,0]
[null,null,null,null,null,"",{"$f":"IF(ISNUMBER(F1977),E1977*F1977,\"\")","v":""},null,null,0]
["SF-00321",{"$f":"INDEX(Orçamentária!A:B,MATCH(Composições!A1978,Orçamentária!A:A,0),2)","v":"Válvula de balanceamento e controle independente da pressão (PIBCV) 2 vias 1\""},null,{"$f":"TRIM(INDEX(Orçamentária!C:C,MATCH(Composições!A1978,Orçamentária!A:A,0),1))","v":"un"},null,"",{"$f":"IF(ISNUMBER(F1978),E1978*F1978,\"\")","v":""},null,null,0]
[null,null,null,null,null,"",{"$f":"IF(ISNUMBER(F1979),E1979*F1979,\"\")","v":""},null,null,0]
[null,null,"Auxiliar de encanador ou bombeiro hidráulico com encargos complementares","h",0.77449999999999997,15.019499999999999,{"$f":"IF(ISNUMBER(F1980),E1980*F1980,\"\")","v":11.632602749999998},{"$f":"SUM(G1980:G1984)","v":26.511065749999997},null,0]
[null,null,"Encanador ou Bombeiro Hidráulico com Encargos Complementares","h",0.77449999999999997,19.066499999999998,{"$f":"IF(ISNUMBER(F1981),E1981*F1981,\"\")","v":14.767004249999998},null,null,0]
[null,null,"Fita veda rosca em rolos de 18 mm x 50 m (L x C)","UN",9.4999999999999998E-3,11.7325,{"$f":"IF(ISNUMBER(F1982),E1982*F1982,\"\")","v":0.11145875},null,null,0]
[null,null,"Atuador tipo liga/desliga (ON/OFF), com tensão compatível com o restante do sistema (24 V ou 220 V) e mecanicamente compatível com a válvula fornecida. Referência comercial: IMI Hydronic Engineering EMO-T","un ",1,"",{"$f":"IF(ISNUMBER(F1983),E1983*F1983,\"\")","v":""},null,null,0]
[null,null,"Válvula de balanceamento e controle (PIBCV) 2 vias, para controle on-off, diâmetro nominal 1\" (25 mm). Ref.: IMI Hydronic Engineering TA-COMPACT-P DN 25, Honeywell VRN2C","un ",1,"",{"$f":"IF(ISNUMBER(F1984),E1984*F1984,\"\")","v":""},null,null,0]
[null,null,null,null,null,"",{"$f":"IF(ISNUMBER(F1985),E1985*F1985,\"\")","v":""},null,null,0]
["SF-00322",{"$f":"INDEX(Orçamentária!A:B,MATCH(Composições!A1986,Orçamentária!A:A,0),2)","v":"Válvula de balanceamento e controle independente da pressão (PIBCV) 2 vias 3/4\""},null,{"$f":"TRIM(INDEX(Orçamentária!C:C,MATCH(Composições!A1986,Orçamentária!A:A,0),1))","v":"un"},null,"",{"$f":"IF(ISNUMBER(F1986),E1986*F1986,\"\")","v":""},null,null,0]
[null,null,null,null,null,"",{"$f":"IF(ISNUMBER(F1987),E1987*F1987,\"\")","v":""},null,null,0]
[null,null,"Auxiliar de encanador ou bombeiro hidráulico com encargos complementares","h",0.77449999999999997,15.019499999999999,{"$f":"IF(ISNUMBER(F1988),E1988*F1988,\"\")","v":11.632602749999998},{"$f":"SUM(G1988:G1992)","v":26.511065749999997},null,0]
[null,null,"Encanador ou Bombeiro Hidráulico com Encargos Complementares","h",0.77449999999999997,19.066499999999998,{"$f":"IF(ISNUMBER(F1989),E1989*F1989,\"\")","v":14.767004249999998},null,null,0]
[null,null,"Fita veda rosca em rolos de 18 mm x 50 m (L x C)","UN",9.4999999999999998E-3,11.7325,{"$f":"IF(ISNUMBER(F1990),E1990*F1990,\"\")","v":0.11145875},null,null,0]
[null,null,"Atuador tipo liga/desliga (ON/OFF), com tensão compatível com o restante do sistema (24 V ou 220 V) e mecanicamente compatível com a válvula fornecida. Referência comercial: IMI Hydronic Engineering EMO-T","un ",1,"",{"$f":"IF(ISNUMBER(F1991),E1991*F1991,\"\")","v":""},null,null,0]
[null,null,"Válvula de balanceamento e controle (PIBCV) 2 vias, para controle on-off, diâmetro nominal 3/4\" (20 mm). Ref.: IMI Hydronic Engineering TA-COMPACT-P DN 20, Honeywell VRN2B","un ",1,"",{"$f":"IF(ISNUMBER(F1992),E1992*F1992,\"\")","v":""},null,null,0]
[null,null,null,null,null,"",{"$f":"IF(ISNUMBER(F1993),E1993*F1993,\"\")","v":""},null,null,0]
["SF-00323",{"$f":"INDEX(Orçamentária!A:B,MATCH(Composições!A1994,Orçamentária!A:A,0),2)","v":"Válvula de esfera em bronze 1 1/2\""},null,{"$f":"TRIM(INDEX(Orçamentária!C:C,MATCH(Composições!A1994,Orçamentária!A:A,0),1))","v":"un"},null,"",{"$f":"IF(ISNUMBER(F1994),E1994*F1994,\"\")","v":""},null,null,0]
[null,null,null,null,null,"",{"$f":"IF(ISNUMBER(F1995),E1995*F1995,\"\")","v":""},null,null,0]
[null,null,"Fita veda rosca em rolos de 18 mm x 50 m (L x C)","UN",1.9E-2,11.7325,{"$f":"IF(ISNUMBER(F1996),E1996*F1996,\"\")","v":0.22291749999999999},{"$f":"SUM(G1996:G1999)","v":139.97677149999998},null,0]
[null,null,"VALVULA DE ESFERA BRUTA EM BRONZE, BITOLA 1 1/2 \" (REF 1552-B)","un",1,112.85999999999999,{"$f":"IF(ISNUMBER(F1997),E1997*F1997,\"\")","v":112.85999999999999},null,null,0]
[null,null,"Auxiliar de encanador ou bombeiro hidráulico com encargos complementares","h",0.78900000000000003,15.019499999999999,{"$f":"IF(ISNUMBER(F1998),E1998*F1998,\"\")","v":11.8503855},null,null,0]
[null,null,"Encanador ou Bombeiro Hidráulico com Encargos Complementares","h",0.78900000000000003,19.066499999999998,{"$f":"IF(ISNUMBER(F1999),E1999*F1999,\"\")","v":15.043468499999999},null,null,0]
[null,null,null,null,null,"",{"$f":"IF(ISNUMBER(F2000),E2000*F2000,\"\")","v":""},null,null,0]
["SF-00324",{"$f":"INDEX(Orçamentária!A:B,MATCH(Composições!A2001,Orçamentária!A:A,0),2)","v":"Válvula de esfera em bronze 1 1/4\""},null,{"$f":"TRIM(INDEX(Orçamentária!C:C,MATCH(Composições!A2001,Orçamentária!A:A,0),1))","v":"un"},null,"",{"$f":"IF(ISNUMBER(F2001),E2001*F2001,\"\")","v":""},null,null,0]
[null,null,null,null,null,"",{"$f":"IF(ISNUMBER(F2002),E2002*F2002,\"\")","v":""},null,null,0]
[null,null,"Fita veda rosca em rolos de 18 mm x 50 m (L x C)","UN",1.9E-2,11.7325,{"$f":"IF(ISNUMBER(F2003),E2003*F2003,\"\")","v":0.22291749999999999},{"$f":"SUM(G2003:G2006)","v":120.7772715},null,0]
[null,null,"VALVULA DE ESFERA BRUTA EM BRONZE, BITOLA 1 1/4 \" (REF 1552-B)","un",1,93.660499999999999,{"$f":"IF(ISNUMBER(F2004),E2004*F2004,\"\")","v":93.660499999999999},null,null,0]
[null,null,"Auxiliar de encanador ou bombeiro hidráulico com encargos complementares","h",0.78900000000000003,15.019499999999999,{"$f":"IF(ISNUMBER(F2005),E2005*F2005,\"\")","v":11.8503855},null,null,0]
[null,null,"Encanador ou Bombeiro Hidráulico com Encargos Complementares","h",0.78900000000000003,19.066499999999998,{"$f":"IF(ISNUMBER(F2006),E2006*F2006,\"\")","v":15.043468499999999},null,null,0]
[null,null,null,null,null,"",{"$f":"IF(ISNUMBER(F2007),E2007*F2007,\"\")","v":""},null,null,0]
["SF-00325",{"$f":"INDEX(Orçamentária!A:B,MATCH(Composições!A2008,Orçamentária!A:A,0),2)","v":"Válvula de esfera em bronze 1\""},null,{"$f":"TRIM(INDEX(Orçamentária!C:C,MATCH(Composições!A2008,Orçamentária!A:A,0),1))","v":"un"},null,"",{"$f":"IF(ISNUMBER(F2008),E2008*F2008,\"\")","v":""},null,null,0]
[null,null,null,null,null,"",{"$f":"IF(ISNUMBER(F2009),E2009*F2009,\"\")","v":""},null,null,0]
[null,null,"Fita veda rosca em rolos de 18 mm x 50 m (L x C)","UN",9.4999999999999998E-3,11.7325,{"$f":"IF(ISNUMBER(F2010),E2010*F2010,\"\")","v":0.11145875},{"$f":"SUM(G2010:G2013)","v":89.353565750000001},null,0]
[null,null,"Valvula de esfera bruta em bronze, bitola 1 \" (ref 1552-B)","un",1,62.842500000000001,{"$f":"IF(ISNUMBER(F2011),E2011*F2011,\"\")","v":62.842500000000001},null,null,0]
[null,null,"Auxiliar de encanador ou bombeiro hidráulico com encargos complementares","h",0.77449999999999997,15.019499999999999,{"$f":"IF(ISNUMBER(F2012),E2012*F2012,\"\")","v":11.632602749999998},null,null,0]
[null,null,"Encanador ou Bombeiro Hidráulico com Encargos Complementares","h",0.77449999999999997,19.066499999999998,{"$f":"IF(ISNUMBER(F2013),E2013*F2013,\"\")","v":14.767004249999998},null,null,0]
[null,null,null,null,null,"",{"$f":"IF(ISNUMBER(F2014),E2014*F2014,\"\")","v":""},null,null,0]
["SF-00326",{"$f":"INDEX(Orçamentária!A:B,MATCH(Composições!A2015,Orçamentária!A:A,0),2)","v":"Válvula de esfera em bronze 3/4\""},null,{"$f":"TRIM(INDEX(Orçamentária!C:C,MATCH(Composições!A2015,Orçamentária!A:A,0),1))","v":"un"},null,"",{"$f":"IF(ISNUMBER(F2015),E2015*F2015,\"\")","v":""},null,null,0]
[null,null,null,null,null,"",{"$f":"IF(ISNUMBER(F2016),E2016*F2016,\"\")","v":""},null,null,0]
[null,null,"Fita veda rosca em rolos de 18 mm x 50 m (L x C)","UN",9.4999999999999998E-3,11.7325,{"$f":"IF(ISNUMBER(F2017),E2017*F2017,\"\")","v":0.11145875},{"$f":"SUM(G2017:G2020)","v":73.061065749999983},null,0]
[null,null,"Valvula de esfera bruta em bronze, bitola 3/4 \" (ref 1552-B)","un",1,46.55,{"$f":"IF(ISNUMBER(F2018),E2018*F2018,\"\")","v":46.55},null,null,0]
[null,null,"Auxiliar de encanador ou bombeiro hidráulico com encargos complementares","h",0.77449999999999997,15.019499999999999,{"$f":"IF(ISNUMBER(F2019),E2019*F2019,\"\")","v":11.632602749999998},null,null,0]
[null,null,"Encanador ou Bombeiro Hidráulico com Encargos Complementares","h",0.77449999999999997,19.066499999999998,{"$f":"IF(ISNUMBER(F2020),E2020*F2020,\"\")","v":14.767004249999998},null,null,0]
[null,null,null,null,null,"",{"$f":"IF(ISNUMBER(F2021),E2021*F2021,\"\")","v":""},null,null,0]
["SF-00327",{"$f":"INDEX(Orçamentária!A:B,MATCH(Composições!A2022,Orçamentária!A:A,0),2)","v":"Isolamento elastomérico em formato de prancha autoadesiva"},null,{"$f":"TRIM(INDEX(Orçamentária!C:C,MATCH(Composições!A2022,Orçamentária!A:A,0),1))","v":"m2"},null,"",{"$f":"IF(ISNUMBER(F2022),E2022*F2022,\"\")","v":""},null,null,0]
[null,null,null,null,null,"",{"$f":"IF(ISNUMBER(F2023),E2023*F2023,\"\")","v":""},null,null,0]
[null,null,"Auxiliar de encanador ou bombeiro hidráulico com encargos complementares","h",0.1,15.019499999999999,{"$f":"IF(ISNUMBER(F2024),E2024*F2024,\"\")","v":1.5019499999999999},{"$f":"SUM(G2024:G2026)","v":3.4085999999999999},null,0]
[null,null,"Encanador ou Bombeiro Hidráulico com Encargos Complementares","h",0.1,19.066499999999998,{"$f":"IF(ISNUMBER(F2025),E2025*F2025,\"\")","v":1.90665},null,null,0]
[null,null,"Isolamento elastomérico em formato prancha autoadesiva de espessura M. Ref.: AF/Armaflex M-99/E-A, K-Flex ST","m2",1.05,"",{"$f":"IF(ISNUMBER(F2026),E2026*F2026,\"\")","v":""},null,null,0]
[null,null,null,null,null,"",{"$f":"IF(ISNUMBER(F2027),E2027*F2027,\"\")","v":""},null,null,0]
["SF-00328",{"$f":"INDEX(Orçamentária!A:B,MATCH(Composições!A2028,Orçamentária!A:A,0),2)","v":"Isolamento elastomérico para tubulações de cobre de 1 1/8\" / tubulações de ferro de 3/4\""},null,{"$f":"TRIM(INDEX(Orçamentária!C:C,MATCH(Composições!A2028,Orçamentária!A:A,0),1))","v":"m"},null,"",{"$f":"IF(ISNUMBER(F2028),E2028*F2028,\"\")","v":""},null,null,0]
[null,null,null,null,null,"",{"$f":"IF(ISNUMBER(F2029),E2029*F2029,\"\")","v":""},null,null,0]
[null,null,"Isolamento elastomérico em formato de tubo ou coquilha de espessura M, próprio para tubulação de cobre de diâmetro nominal 1 1/8\" e para tubulações de ferro de diâmetro nominal 3/4\". Ref.: AF/Armaflex M-28, K-Flex ST","m",1.0210999999999999,"",{"$f":"IF(ISNUMBER(F2030),E2030*F2030,\"\")","v":""},{"$f":"SUM(G2030:G2032)","v":0.6544511999999999},null,0]
[null,null,"Auxiliar de encanador ou bombeiro hidráulico com encargos complementares","h",{"$f":"0.064*0.3","v":1.9199999999999998E-2},15.019499999999999,{"$f":"IF(ISNUMBER(F2031),E2031*F2031,\"\")","v":0.28837439999999998},null,null,0]
[null,null,"Encanador ou Bombeiro Hidráulico com Encargos Complementares","h",{"$f":"0.064*0.3","v":1.9199999999999998E-2},19.066499999999998,{"$f":"IF(ISNUMBER(F2032),E2032*F2032,\"\")","v":0.36607679999999992},null,null,0]
[null,null,null,null,null,"",{"$f":"IF(ISNUMBER(F2033),E2033*F2033,\"\")","v":""},null,null,0]
[null,null,"Obs.: As seguintes proporções foram consideradas quanto ao tempo de mão de obra: 70% para instalação do tubo e 30% para instalação do isolamento térmico.",null,null,"",{"$f":"IF(ISNUMBER(F2034),E2034*F2034,\"\")","v":""},null,null,0]
[null,null,null,null,null,"",{"$f":"IF(ISNUMBER(F2035),E2035*F2035,\"\")","v":""},null,null,0]
["SF-00329",{"$f":"INDEX(Orçamentária!A:B,MATCH(Composições!A2036,Orçamentária!A:A,0),2)","v":"Isolamento elastomérico para tubulações de cobre de 1/2\""},null,{"$f":"TRIM(INDEX(Orçamentária!C:C,MATCH(Composições!A2036,Orçamentária!A:A,0),1))","v":"m"},null,"",{"$f":"IF(ISNUMBER(F2036),E2036*F2036,\"\")","v":""},null,null,0]
[null,null,null,null,null,"",{"$f":"IF(ISNUMBER(F2037),E2037*F2037,\"\")","v":""},null,null,0]
[null,null,"Isolamento elastomérico em formato de tubo ou coquilha de espessura M, próprio para tubulação de cobre de diâmetro nominal 1/2\". Ref.: AF/Armaflex M-12, K-Flex ST","m",1.0210999999999999,"",{"$f":"IF(ISNUMBER(F2038),E2038*F2038,\"\")","v":""},{"$f":"SUM(G2038:G2040)","v":0.62377379999999993},null,0]
[null,null,"Auxiliar de encanador ou bombeiro hidráulico com encargos complementares","h",{"$f":"0.061*0.3","v":1.83E-2},15.019499999999999,{"$f":"IF(ISNUMBER(F2039),E2039*F2039,\"\")","v":0.27485684999999999},null,null,0]
[null,null,"Encanador ou Bombeiro Hidráulico com Encargos Complementares","h",{"$f":"0.061*0.3","v":1.83E-2},19.066499999999998,{"$f":"IF(ISNUMBER(F2040),E2040*F2040,\"\")","v":0.34891694999999995},null,null,0]
[null,null,null,null,null,"",{"$f":"IF(ISNUMBER(F2041),E2041*F2041,\"\")","v":""},null,null,0]
[null,null,"Obs.: As seguintes proporções foram consideradas quanto ao tempo de mão de obra: 70% para instalação do tubo e 30% para instalação do isolamento térmico.",null,null,"",{"$f":"IF(ISNUMBER(F2042),E2042*F2042,\"\")","v":""},null,null,0]
[null,null,null,null,null,"",{"$f":"IF(ISNUMBER(F2043),E2043*F2043,\"\")","v":""},null,null,0]
["SF-00330",{"$f":"INDEX(Orçamentária!A:B,MATCH(Composições!A2044,Orçamentária!A:A,0),2)","v":"Isolamento elastomérico para tubulações de cobre de 1/4\""},null,{"$f":"TRIM(INDEX(Orçamentária!C:C,MATCH(Composições!A2044,Orçamentária!A:A,0),1))","v":"m"},null,"",{"$f":"IF(ISNUMBER(F2044),E2044*F2044,\"\")","v":""},null,null,0]
[null,null,null,null,null,"",{"$f":"IF(ISNUMBER(F2045),E2045*F2045,\"\")","v":""},null,null,0]
[null,null,"Isolamento elastomérico em formato de tubo ou coquilha de espessura M, próprio para tubulação de cobre de diâmetro nominal 1/4\". Ref.: AF/Armaflex M-06, K-Flex ST","m",1.0210999999999999,"",{"$f":"IF(ISNUMBER(F2046),E2046*F2046,\"\")","v":""},{"$f":"SUM(G2046:G2048)","v":0.53174159999999993},null,0]
[null,null,"Auxiliar de encanador ou bombeiro hidráulico com encargos complementares","h",{"$f":"0.052*0.3","v":1.5599999999999999E-2},15.019499999999999,{"$f":"IF(ISNUMBER(F2047),E2047*F2047,\"\")","v":0.23430419999999996},null,null,0]
[null,null,"Encanador ou Bombeiro Hidráulico com Encargos Complementares","h",{"$f":"0.052*0.3","v":1.5599999999999999E-2},19.066499999999998,{"$f":"IF(ISNUMBER(F2048),E2048*F2048,\"\")","v":0.29743739999999996},null,null,0]
[null,null,null,null,null,"",{"$f":"IF(ISNUMBER(F2049),E2049*F2049,\"\")","v":""},null,null,0]
[null,null,"Obs.: As seguintes proporções foram consideradas quanto ao tempo de mão de obra: 70% para instalação do tubo e 30% para instalação do isolamento térmico.",null,null,"",{"$f":"IF(ISNUMBER(F2050),E2050*F2050,\"\")","v":""},null,null,0]
[null,null,null,null,null,"",{"$f":"IF(ISNUMBER(F2051),E2051*F2051,\"\")","v":""},null,null,0]
["SF-00331",{"$f":"INDEX(Orçamentária!A:B,MATCH(Composições!A2052,Orçamentária!A:A,0),2)","v":"Isolamento elastomérico para tubulações de cobre de 3/4\""},null,{"$f":"TRIM(INDEX(Orçamentária!C:C,MATCH(Composições!A2052,Orçamentária!A:A,0),1))","v":"m"},null,"",{"$f":"IF(ISNUMBER(F2052),E2052*F2052,\"\")","v":""},null,null,0]
[null,null,null,null,null,"",{"$f":"IF(ISNUMBER(F2053),E2053*F2053,\"\")","v":""},null,null,0]
[null,null,"Isolamento elastomérico em formato de tubo ou coquilha de espessura M, próprio para tubulação de cobre de diâmetro nominal 3/4\". Ref.: AF/Armaflex M-18, K-Flex ST","m",1.0210999999999999,"",{"$f":"IF(ISNUMBER(F2054),E2054*F2054,\"\")","v":""},{"$f":"SUM(G2054:G2056)","v":0.6544511999999999},null,0]
[null,null,"Auxiliar de encanador ou bombeiro hidráulico com encargos complementares","h",{"$f":"0.064*0.3","v":1.9199999999999998E-2},15.019499999999999,{"$f":"IF(ISNUMBER(F2055),E2055*F2055,\"\")","v":0.28837439999999998},null,null,0]
[null,null,"Encanador ou Bombeiro Hidráulico com Encargos Complementares","h",{"$f":"0.064*0.3","v":1.9199999999999998E-2},19.066499999999998,{"$f":"IF(ISNUMBER(F2056),E2056*F2056,\"\")","v":0.36607679999999992},null,null,0]
[null,null,null,null,null,"",{"$f":"IF(ISNUMBER(F2057),E2057*F2057,\"\")","v":""},null,null,0]
[null,null,"Obs.: As seguintes proporções foram consideradas quanto ao tempo de mão de obra: 70% para instalação do tubo e 30% para instalação do isolamento térmico.",null,null,"",{"$f":"IF(ISNUMBER(F2058),E2058*F2058,\"\")","v":""},null,null,0]
[null,null,null,null,null,"",{"$f":"IF(ISNUMBER(F2059),E2059*F2059,\"\")","v":""},null,null,0]
["SF-00332",{"$f":"INDEX(Orçamentária!A:B,MATCH(Composições!A2060,Orçamentária!A:A,0),2)","v":"Isolamento elastomérico para tubulações de cobre de 3/8\""},null,{"$f":"TRIM(INDEX(Orçamentária!C:C,MATCH(Composições!A2060,Orçamentária!A:A,0),1))","v":"m"},null,"",{"$f":"IF(ISNUMBER(F2060),E2060*F2060,\"\")","v":""},null,null,0]
[null,null,null,null,null,"",{"$f":"IF(ISNUMBER(F2061),E2061*F2061,\"\")","v":""},null,null,0]
[null,null,"Isolamento elastomérico em formato de tubo ou coquilha de espessura M, próprio para tubulação de cobre de diâmetro nominal 3/8\". Ref.: AF/Armaflex M-10, K-Flex ST","m",1.0210999999999999,"",{"$f":"IF(ISNUMBER(F2062),E2062*F2062,\"\")","v":""},{"$f":"SUM(G2062:G2064)","v":0.58287060000000002},null,0]
[null,null,"Auxiliar de encanador ou bombeiro hidráulico com encargos complementares","h",{"$f":"0.057*0.3","v":1.7100000000000001E-2},15.019499999999999,{"$f":"IF(ISNUMBER(F2063),E2063*F2063,\"\")","v":0.25683345000000002},null,null,0]
[null,null,"Encanador ou Bombeiro Hidráulico com Encargos Complementares","h",{"$f":"0.057*0.3","v":1.7100000000000001E-2},19.066499999999998,{"$f":"IF(ISNUMBER(F2064),E2064*F2064,\"\")","v":0.32603715},null,null,0]
[null,null,null,null,null,"",{"$f":"IF(ISNUMBER(F2065),E2065*F2065,\"\")","v":""},null,null,0]
[null,null,"Obs.: As seguintes proporções foram consideradas quanto ao tempo de mão de obra: 70% para instalação do tubo e 30% para instalação do isolamento térmico.",null,null,"",{"$f":"IF(ISNUMBER(F2066),E2066*F2066,\"\")","v":""},null,null,0]
[null,null,null,null,null,"",{"$f":"IF(ISNUMBER(F2067),E2067*F2067,\"\")","v":""},null,null,0]
["SF-00333",{"$f":"INDEX(Orçamentária!A:B,MATCH(Composições!A2068,Orçamentária!A:A,0),2)","v":"Isolamento elastomérico para tubulações de cobre de 5/8\""},null,{"$f":"TRIM(INDEX(Orçamentária!C:C,MATCH(Composições!A2068,Orçamentária!A:A,0),1))","v":"m"},null,"",{"$f":"IF(ISNUMBER(F2068),E2068*F2068,\"\")","v":""},null,null,0]
[null,null,null,null,null,"",{"$f":"IF(ISNUMBER(F2069),E2069*F2069,\"\")","v":""},null,null,0]
[null,null,"Isolamento elastomérico em formato de tubo ou coquilha de espessura M, próprio para tubulação de cobre de diâmetro nominal 5/8\". Ref.: AF/Armaflex M-15, K-Flex ST","m",1.0210999999999999,"",{"$f":"IF(ISNUMBER(F2070),E2070*F2070,\"\")","v":""},{"$f":"SUM(G2070:G2072)","v":0.6544511999999999},null,0]
[null,null,"Auxiliar de encanador ou bombeiro hidráulico com encargos complementares","h",{"$f":"0.064*0.3","v":1.9199999999999998E-2},15.019499999999999,{"$f":"IF(ISNUMBER(F2071),E2071*F2071,\"\")","v":0.28837439999999998},null,null,0]
[null,null,"Encanador ou Bombeiro Hidráulico com Encargos Complementares","h",{"$f":"0.064*0.3","v":1.9199999999999998E-2},19.066499999999998,{"$f":"IF(ISNUMBER(F2072),E2072*F2072,\"\")","v":0.36607679999999992},null,null,0]
[null,null,null,null,null,"",{"$f":"IF(ISNUMBER(F2073),E2073*F2073,\"\")","v":""},null,null,0]
[null,null,"Obs.: As seguintes proporções foram consideradas quanto ao tempo de mão de obra: 70% para instalação do tubo e 30% para instalação do isolamento térmico.",null,null,"",{"$f":"IF(ISNUMBER(F2074),E2074*F2074,\"\")","v":""},null,null,0]
[null,null,null,null,null,"",{"$f":"IF(ISNUMBER(F2075),E2075*F2075,\"\")","v":""},null,null,0]
["SF-00334",{"$f":"INDEX(Orçamentária!A:B,MATCH(Composições!A2076,Orçamentária!A:A,0),2)","v":"Isolamento elastomérico para tubulações de cobre de 7/8\" / tubulações de ferro de 1/2\""},null,{"$f":"TRIM(INDEX(Orçamentária!C:C,MATCH(Composições!A2076,Orçamentária!A:A,0),1))","v":"m"},null,"",{"$f":"IF(ISNUMBER(F2076),E2076*F2076,\"\")","v":""},null,null,0]
[null,null,null,null,null,"",{"$f":"IF(ISNUMBER(F2077),E2077*F2077,\"\")","v":""},null,null,0]
[null,null,"Isolamento elastomérico em formato de tubo ou coquilha de espessura M, próprio para tubulação de cobre de diâmetro nominal 7/8\" e para tubulações de ferro de diâmetro nominal 1/2\". Ref.: AF/Armaflex M-22, K-Flex ST","m",1.0210999999999999,"",{"$f":"IF(ISNUMBER(F2078),E2078*F2078,\"\")","v":""},{"$f":"SUM(G2078:G2080)","v":0.6544511999999999},null,0]
[null,null,"Auxiliar de encanador ou bombeiro hidráulico com encargos complementares","h",{"$f":"0.064*0.3","v":1.9199999999999998E-2},15.019499999999999,{"$f":"IF(ISNUMBER(F2079),E2079*F2079,\"\")","v":0.28837439999999998},null,null,0]
[null,null,"Encanador ou Bombeiro Hidráulico com Encargos Complementares","h",{"$f":"0.064*0.3","v":1.9199999999999998E-2},19.066499999999998,{"$f":"IF(ISNUMBER(F2080),E2080*F2080,\"\")","v":0.36607679999999992},null,null,0]
[null,null,null,null,null,"",{"$f":"IF(ISNUMBER(F2081),E2081*F2081,\"\")","v":""},null,null,0]
[null,null,"Obs.: As seguintes proporções foram consideradas quanto ao tempo de mão de obra: 70% para instalação do tubo e 30% para instalação do isolamento térmico.",null,null,"",{"$f":"IF(ISNUMBER(F2082),E2082*F2082,\"\")","v":""},null,null,0]
[null,null,null,null,null,"",{"$f":"IF(ISNUMBER(F2083),E2083*F2083,\"\")","v":""},null,null,0]
["SF-00335",{"$f":"INDEX(Orçamentária!A:B,MATCH(Composições!A2084,Orçamentária!A:A,0),2)","v":"Isolamento elastomérico para tubulações de cobre de 1\""},null,{"$f":"TRIM(INDEX(Orçamentária!C:C,MATCH(Composições!A2084,Orçamentária!A:A,0),1))","v":"m"},null,"",{"$f":"IF(ISNUMBER(F2084),E2084*F2084,\"\")","v":""},null,null,0]
[null,null,null,null,null,"",{"$f":"IF(ISNUMBER(F2085),E2085*F2085,\"\")","v":""},null,null,0]
[null,null,"Isolamento elastomérico em formato de tubo ou coquilha de espessura M, próprio para tubulação de cobre de diâmetro nominal 1\". Ref.: AF/Armaflex M-25, K-Flex ST","m",1.0210999999999999,"",{"$f":"IF(ISNUMBER(F2086),E2086*F2086,\"\")","v":""},{"$f":"SUM(G2086:G2088)","v":0.6544511999999999},null,0]
[null,null,"Auxiliar de encanador ou bombeiro hidráulico com encargos complementares","h",{"$f":"0.064*0.3","v":1.9199999999999998E-2},15.019499999999999,{"$f":"IF(ISNUMBER(F2087),E2087*F2087,\"\")","v":0.28837439999999998},null,null,0]
[null,null,"Encanador ou Bombeiro Hidráulico com Encargos Complementares","h",{"$f":"0.064*0.3","v":1.9199999999999998E-2},19.066499999999998,{"$f":"IF(ISNUMBER(F2088),E2088*F2088,\"\")","v":0.36607679999999992},null,null,0]
[null,null,null,null,null,"",{"$f":"IF(ISNUMBER(F2089),E2089*F2089,\"\")","v":""},null,null,0]
[null,null,"Obs.: As seguintes proporções foram consideradas quanto ao tempo de mão de obra: 70% para instalação do tubo e 30% para instalação do isolamento térmico.",null,null,"",{"$f":"IF(ISNUMBER(F2090),E2090*F2090,\"\")","v":""},null,null,0]
[null,null,null,null,null,"",{"$f":"IF(ISNUMBER(F2091),E2091*F2091,\"\")","v":""},null,null,0]
["SF-00336",{"$f":"INDEX(Orçamentária!A:B,MATCH(Composições!A2092,Orçamentária!A:A,0),2)","v":"Isolamento elastomérico para tubulações de ferro de 1 1/2\""},null,{"$f":"TRIM(INDEX(Orçamentária!C:C,MATCH(Composições!A2092,Orçamentária!A:A,0),1))","v":"m"},null,"",{"$f":"IF(ISNUMBER(F2092),E2092*F2092,\"\")","v":""},null,null,0]
[null,null,null,null,null,"",{"$f":"IF(ISNUMBER(F2093),E2093*F2093,\"\")","v":""},null,null,0]
[null,null,"Isolamento elastomérico em formato de tubo ou coquilha de espessura M, próprio para tubulação ferro de diâmetro nominal 1 1/2\". Ref.: AF/Armaflex M-48, K-Flex ST","m",1.0210999999999999,"",{"$f":"IF(ISNUMBER(F2094),E2094*F2094,\"\")","v":""},{"$f":"SUM(G2094:G2096)","v":0.6544511999999999},null,0]
[null,null,"Auxiliar de encanador ou bombeiro hidráulico com encargos complementares","h",{"$f":"0.064*0.3","v":1.9199999999999998E-2},15.019499999999999,{"$f":"IF(ISNUMBER(F2095),E2095*F2095,\"\")","v":0.28837439999999998},null,null,0]
[null,null,"Encanador ou Bombeiro Hidráulico com Encargos Complementares","h",{"$f":"0.064*0.3","v":1.9199999999999998E-2},19.066499999999998,{"$f":"IF(ISNUMBER(F2096),E2096*F2096,\"\")","v":0.36607679999999992},null,null,0]
[null,null,null,null,null,"",{"$f":"IF(ISNUMBER(F2097),E2097*F2097,\"\")","v":""},null,null,0]
[null,null,"Obs.: As seguintes proporções foram consideradas quanto ao tempo de mão de obra: 70% para instalação do tubo e 30% para instalação do isolamento térmico.",null,null,"",{"$f":"IF(ISNUMBER(F2098),E2098*F2098,\"\")","v":""},null,null,0]
[null,null,null,null,null,"",{"$f":"IF(ISNUMBER(F2099),E2099*F2099,\"\")","v":""},null,null,0]
["SF-00337",{"$f":"INDEX(Orçamentária!A:B,MATCH(Composições!A2100,Orçamentária!A:A,0),2)","v":"Isolamento elastomérico para tubulações de ferro de 1 1/4\""},null,{"$f":"TRIM(INDEX(Orçamentária!C:C,MATCH(Composições!A2100,Orçamentária!A:A,0),1))","v":"m"},null,"",{"$f":"IF(ISNUMBER(F2100),E2100*F2100,\"\")","v":""},null,null,0]
[null,null,null,null,null,"",{"$f":"IF(ISNUMBER(F2101),E2101*F2101,\"\")","v":""},null,null,0]
[null,null,"Isolamento elastomérico em formato de tubo ou coquilha de espessura M, próprio para tubulação ferro de diâmetro nominal 1 1/4\". Ref.: AF/Armaflex M-42, K-Flex ST","m",1.0210999999999999,"",{"$f":"IF(ISNUMBER(F2102),E2102*F2102,\"\")","v":""},{"$f":"SUM(G2102:G2104)","v":0.6544511999999999},null,0]
[null,null,"Auxiliar de encanador ou bombeiro hidráulico com encargos complementares","h",{"$f":"0.064*0.3","v":1.9199999999999998E-2},15.019499999999999,{"$f":"IF(ISNUMBER(F2103),E2103*F2103,\"\")","v":0.28837439999999998},null,null,0]
[null,null,"Encanador ou Bombeiro Hidráulico com Encargos Complementares","h",{"$f":"0.064*0.3","v":1.9199999999999998E-2},19.066499999999998,{"$f":"IF(ISNUMBER(F2104),E2104*F2104,\"\")","v":0.36607679999999992},null,null,0]
[null,null,null,null,null,"",{"$f":"IF(ISNUMBER(F2105),E2105*F2105,\"\")","v":""},null,null,0]
[null,null,"Obs.: As seguintes proporções foram consideradas quanto ao tempo de mão de obra: 70% para instalação do tubo e 30% para instalação do isolamento térmico.",null,null,"",{"$f":"IF(ISNUMBER(F2106),E2106*F2106,\"\")","v":""},null,null,0]
[null,null,null,null,null,"",{"$f":"IF(ISNUMBER(F2107),E2107*F2107,\"\")","v":""},null,null,0]
["SF-00338",{"$f":"INDEX(Orçamentária!A:B,MATCH(Composições!A2108,Orçamentária!A:A,0),2)","v":"Isolamento elastomérico para tubulações de ferro de 1\""},null,{"$f":"TRIM(INDEX(Orçamentária!C:C,MATCH(Composições!A2108,Orçamentária!A:A,0),1))","v":"m"},null,"",{"$f":"IF(ISNUMBER(F2108),E2108*F2108,\"\")","v":""},null,null,0]
[null,null,null,null,null,"",{"$f":"IF(ISNUMBER(F2109),E2109*F2109,\"\")","v":""},null,null,0]
[null,null,"Isolamento elastomérico em formato de tubo ou coquilha de espessura M, próprio para tubulação ferro de diâmetro nominal 1\". Ref.: AF/Armaflex M-35, K-Flex ST","m",1.0210999999999999,"",{"$f":"IF(ISNUMBER(F2110),E2110*F2110,\"\")","v":""},{"$f":"SUM(G2110:G2112)","v":0.6544511999999999},null,0]
[null,null,"Auxiliar de encanador ou bombeiro hidráulico com encargos complementares","h",{"$f":"0.064*0.3","v":1.9199999999999998E-2},15.019499999999999,{"$f":"IF(ISNUMBER(F2111),E2111*F2111,\"\")","v":0.28837439999999998},null,null,0]
[null,null,"Encanador ou Bombeiro Hidráulico com Encargos Complementares","h",{"$f":"0.064*0.3","v":1.9199999999999998E-2},19.066499999999998,{"$f":"IF(ISNUMBER(F2112),E2112*F2112,\"\")","v":0.36607679999999992},null,null,0]
[null,null,null,null,null,"",{"$f":"IF(ISNUMBER(F2113),E2113*F2113,\"\")","v":""},null,null,0]
[null,null,"Obs.: As seguintes proporções foram consideradas quanto ao tempo de mão de obra: 70% para instalação do tubo e 30% para instalação do isolamento térmico.",null,null,"",{"$f":"IF(ISNUMBER(F2114),E2114*F2114,\"\")","v":""},null,null,0]
[null,null,null,null,null,"",{"$f":"IF(ISNUMBER(F2115),E2115*F2115,\"\")","v":""},null,null,0]
["SF-00339",{"$f":"INDEX(Orçamentária!A:B,MATCH(Composições!A2116,Orçamentária!A:A,0),2)","v":"Proteção mecânica em alumínio"},null,{"$f":"TRIM(INDEX(Orçamentária!C:C,MATCH(Composições!A2116,Orçamentária!A:A,0),1))","v":"m2"},null,"",{"$f":"IF(ISNUMBER(F2116),E2116*F2116,\"\")","v":""},null,null,0]
[null,null,null,null,null,"",{"$f":"IF(ISNUMBER(F2117),E2117*F2117,\"\")","v":""},null,null,0]
[null,null,"Auxiliar de encanador ou bombeiro hidráulico com encargos complementares","h",0.2,15.019499999999999,{"$f":"IF(ISNUMBER(F2118),E2118*F2118,\"\")","v":3.0038999999999998},{"$f":"SUM(G2118:G2120)","v":6.8171999999999997},null,0]
[null,null,"Encanador ou Bombeiro Hidráulico com Encargos Complementares","h",0.2,19.066499999999998,{"$f":"IF(ISNUMBER(F2119),E2119*F2119,\"\")","v":3.8132999999999999},null,null,0]
[null,null,"Alumínio corrugado sem barreira espessura mínima = 0,15mm","m2",1.05,"",{"$f":"IF(ISNUMBER(F2120),E2120*F2120,\"\")","v":""},null,null,0]
[null,null,null,null,null,"",{"$f":"IF(ISNUMBER(F2121),E2121*F2121,\"\")","v":""},null,null,0]
["SF-00340",{"$f":"INDEX(Orçamentária!A:B,MATCH(Composições!A2122,Orçamentária!A:A,0),2)","v":"Tubo de aço-carbono galvanizado 1 1/2\""},null,{"$f":"TRIM(INDEX(Orçamentária!C:C,MATCH(Composições!A2122,Orçamentária!A:A,0),1))","v":"m"},null,"",{"$f":"IF(ISNUMBER(F2122),E2122*F2122,\"\")","v":""},null,null,0]
[null,null,null,null,null,"",{"$f":"IF(ISNUMBER(F2123),E2123*F2123,\"\")","v":""},null,null,0]
[null,null,"Encanador ou Bombeiro Hidráulico com Encargos Complementares","h",0.29199999999999998,19.066499999999998,{"$f":"IF(ISNUMBER(F2124),E2124*F2124,\"\")","v":5.5674179999999991},{"$f":"SUM(G2124:G2126)","v":56.502389999999984},null,0]
[null,null,"Auxiliar de encanador ou bombeiro hidráulico com encargos complementares","h",0.29199999999999998,15.019499999999999,{"$f":"IF(ISNUMBER(F2125),E2125*F2125,\"\")","v":4.3856939999999991},null,null,0]
[null,null,"TUBO ACO CARBONO SEM COSTURA 1 1/2\", E= *3,68 MM, SCHEDULE 40, 4,05 KG/M","m",1.0389999999999999,44.801999999999992,{"$f":"IF(ISNUMBER(F2126),E2126*F2126,\"\")","v":46.549277999999987},null,null,0]
[null,null,null,null,null,"",{"$f":"IF(ISNUMBER(F2127),E2127*F2127,\"\")","v":""},null,null,0]
["SF-00341",{"$f":"INDEX(Orçamentária!A:B,MATCH(Composições!A2128,Orçamentária!A:A,0),2)","v":"Tubo de aço-carbono galvanizado 1 1/4\""},null,{"$f":"TRIM(INDEX(Orçamentária!C:C,MATCH(Composições!A2128,Orçamentária!A:A,0),1))","v":"m"},null,"",{"$f":"IF(ISNUMBER(F2128),E2128*F2128,\"\")","v":""},null,null,0]
[null,null,null,null,null,"",{"$f":"IF(ISNUMBER(F2129),E2129*F2129,\"\")","v":""},null,null,0]
[null,null,"Encanador ou Bombeiro Hidráulico com Encargos Complementares","h",0.27500000000000002,19.066499999999998,{"$f":"IF(ISNUMBER(F2130),E2130*F2130,\"\")","v":5.2432875000000001},{"$f":"SUM(G2130:G2132)","v":52.093174000000005},null,0]
[null,null,"Auxiliar de encanador ou bombeiro hidráulico com encargos complementares","h",0.27500000000000002,15.019499999999999,{"$f":"IF(ISNUMBER(F2131),E2131*F2131,\"\")","v":4.1303625000000004},null,null,0]
[null,null,"TUBO ACO CARBONO SEM COSTURA 1 1/4\", E= *3,56 MM, SCHEDULE 40, *3,38* KG/M","m",1.0389999999999999,41.116,{"$f":"IF(ISNUMBER(F2132),E2132*F2132,\"\")","v":42.719524},null,null,0]
[null,null,null,null,null,"",{"$f":"IF(ISNUMBER(F2133),E2133*F2133,\"\")","v":""},null,null,0]
["SF-00342",{"$f":"INDEX(Orçamentária!A:B,MATCH(Composições!A2134,Orçamentária!A:A,0),2)","v":"Tubo de aço-carbono galvanizado 1\""},null,{"$f":"TRIM(INDEX(Orçamentária!C:C,MATCH(Composições!A2134,Orçamentária!A:A,0),1))","v":"m"},null,"",{"$f":"IF(ISNUMBER(F2134),E2134*F2134,\"\")","v":""},null,null,0]
[null,null,null,null,null,"",{"$f":"IF(ISNUMBER(F2135),E2135*F2135,\"\")","v":""},null,null,0]
[null,null,"Encanador ou Bombeiro Hidráulico com Encargos Complementares","h",0.29699999999999999,19.066499999999998,{"$f":"IF(ISNUMBER(F2136),E2136*F2136,\"\")","v":5.6627504999999987},{"$f":"SUM(G2136:G2138)","v":42.005256999999986},null,0]
[null,null,"Auxiliar de encanador ou bombeiro hidráulico com encargos complementares","h",0.29699999999999999,15.019499999999999,{"$f":"IF(ISNUMBER(F2137),E2137*F2137,\"\")","v":4.4607914999999991},null,null,0]
[null,null,"TUBO ACO CARBONO SEM COSTURA 1\", E= *3,38 MM, SCHEDULE 40, *2,50* KG/M","m",1.0389999999999999,30.684999999999995,{"$f":"IF(ISNUMBER(F2138),E2138*F2138,\"\")","v":31.881714999999993},null,null,0]
[null,null,null,null,null,"",{"$f":"IF(ISNUMBER(F2139),E2139*F2139,\"\")","v":""},null,null,0]
["SF-00343",{"$f":"INDEX(Orçamentária!A:B,MATCH(Composições!A2140,Orçamentária!A:A,0),2)","v":"Tubo de aço-carbono galvanizado 3/4\""},null,{"$f":"TRIM(INDEX(Orçamentária!C:C,MATCH(Composições!A2140,Orçamentária!A:A,0),1))","v":"m"},null,"",{"$f":"IF(ISNUMBER(F2140),E2140*F2140,\"\")","v":""},null,null,0]
[null,null,null,null,null,"",{"$f":"IF(ISNUMBER(F2141),E2141*F2141,\"\")","v":""},null,null,0]
[null,null,"Encanador ou Bombeiro Hidráulico com Encargos Complementares","h",0.29699999999999999,19.066499999999998,{"$f":"IF(ISNUMBER(F2142),E2142*F2142,\"\")","v":5.6627504999999987},{"$f":"SUM(G2142:G2144)","v":38.451876999999996},null,0]
[null,null,"Auxiliar de encanador ou bombeiro hidráulico com encargos complementares","h",0.29699999999999999,15.019499999999999,{"$f":"IF(ISNUMBER(F2143),E2143*F2143,\"\")","v":4.4607914999999991},null,null,0]
[null,null,"TUBO ACO CARBONO SEM COSTURA 3/4\", E= *2,87 MM, SCHEDULE 40, *1,69 KG/M","m",1.0389999999999999,27.264999999999997,{"$f":"IF(ISNUMBER(F2144),E2144*F2144,\"\")","v":28.328334999999996},null,null,0]
[null,null,null,null,null,"",{"$f":"IF(ISNUMBER(F2145),E2145*F2145,\"\")","v":""},null,null,0]
["SF-00344",{"$f":"INDEX(Orçamentária!A:B,MATCH(Composições!A2146,Orçamentária!A:A,0),2)","v":"Tubo de cobre de 1/2\""},null,{"$f":"TRIM(INDEX(Orçamentária!C:C,MATCH(Composições!A2146,Orçamentária!A:A,0),1))","v":"m"},null,"",{"$f":"IF(ISNUMBER(F2146),E2146*F2146,\"\")","v":""},null,null,0]
[null,null,null,null,null,"",{"$f":"IF(ISNUMBER(F2147),E2147*F2147,\"\")","v":""},null,null,0]
[null,null,"Tubo de cobre flexivel, D = 1/2 \", E = 0,79 mm, para ar-condicionado/ instalacoes gas residenciais e comerciais","m",1.0210999999999999,26.922999999999998,{"$f":"IF(ISNUMBER(F2148),E2148*F2148,\"\")","v":27.491075299999995},{"$f":"SUM(G2148:G2150)","v":28.946547499999994},null,0]
[null,null,"Auxiliar de encanador ou bombeiro hidráulico com encargos complementares","h",{"$f":"0.061*0.7","v":4.2699999999999995E-2},15.019499999999999,{"$f":"IF(ISNUMBER(F2149),E2149*F2149,\"\")","v":0.64133264999999984},null,null,0]
[null,null,"Encanador ou Bombeiro Hidráulico com Encargos Complementares","h",{"$f":"0.061*0.7","v":4.2699999999999995E-2},19.066499999999998,{"$f":"IF(ISNUMBER(F2150),E2150*F2150,\"\")","v":0.81413954999999982},null,null,0]
[null,null,null,null,null,"",{"$f":"IF(ISNUMBER(F2151),E2151*F2151,\"\")","v":""},null,null,0]
[null,null,"Obs.: As seguintes proporções foram consideradas quanto ao tempo de mão de obra: 70% para instalação do tubo e 30% para instalação do isolamento térmico.",null,null,"",{"$f":"IF(ISNUMBER(F2152),E2152*F2152,\"\")","v":""},null,null,0]
[null,null,null,null,null,"",{"$f":"IF(ISNUMBER(F2153),E2153*F2153,\"\")","v":""},null,null,0]
["SF-00345",{"$f":"INDEX(Orçamentária!A:B,MATCH(Composições!A2154,Orçamentária!A:A,0),2)","v":"Tubo de cobre de 1/4\""},null,{"$f":"TRIM(INDEX(Orçamentária!C:C,MATCH(Composições!A2154,Orçamentária!A:A,0),1))","v":"m"},null,"",{"$f":"IF(ISNUMBER(F2154),E2154*F2154,\"\")","v":""},null,null,0]
[null,null,null,null,null,"",{"$f":"IF(ISNUMBER(F2155),E2155*F2155,\"\")","v":""},null,null,0]
[null,null,"Tubo de cobre flexivel, D = 1/4 \", E = 0,79 mm, para ar-condicionado/ instalacoes gas residenciais e comerciais","m",1.0210999999999999,12.901,{"$f":"IF(ISNUMBER(F2156),E2156*F2156,\"\")","v":13.173211099999998},{"$f":"SUM(G2156:G2158)","v":14.413941499999998},null,0]
[null,null,"Auxiliar de encanador ou bombeiro hidráulico com encargos complementares","h",{"$f":"0.052*0.7","v":3.6399999999999995E-2},15.019499999999999,{"$f":"IF(ISNUMBER(F2157),E2157*F2157,\"\")","v":0.54670979999999991},null,null,0]
[null,null,"Encanador ou Bombeiro Hidráulico com Encargos Complementares","h",{"$f":"0.052*0.7","v":3.6399999999999995E-2},19.066499999999998,{"$f":"IF(ISNUMBER(F2158),E2158*F2158,\"\")","v":0.69402059999999988},null,null,0]
[null,null,null,null,null,"",{"$f":"IF(ISNUMBER(F2159),E2159*F2159,\"\")","v":""},null,null,0]
[null,null,"Obs.: As seguintes proporções foram consideradas quanto ao tempo de mão de obra: 70% para instalação do tubo e 30% para instalação do isolamento térmico.",null,null,"",{"$f":"IF(ISNUMBER(F2160),E2160*F2160,\"\")","v":""},null,null,0]
[null,null,null,null,null,"",{"$f":"IF(ISNUMBER(F2161),E2161*F2161,\"\")","v":""},null,null,0]
["SF-00346",{"$f":"INDEX(Orçamentária!A:B,MATCH(Composições!A2162,Orçamentária!A:A,0),2)","v":"Tubo de cobre de 3/4\""},null,{"$f":"TRIM(INDEX(Orçamentária!C:C,MATCH(Composições!A2162,Orçamentária!A:A,0),1))","v":"m"},null,"",{"$f":"IF(ISNUMBER(F2162),E2162*F2162,\"\")","v":""},null,null,0]
[null,null,null,null,null,"",{"$f":"IF(ISNUMBER(F2163),E2163*F2163,\"\")","v":""},null,null,0]
[null,null,"Tubo de cobre flexivel, D = 3/4 \", E = 0,79 mm, para ar-condicionado/ instalacoes gas residenciais e comerciais","m",1.0210999999999999,40.4985,{"$f":"IF(ISNUMBER(F2164),E2164*F2164,\"\")","v":41.353018349999999},{"$f":"SUM(G2164:G2166)","v":42.880071149999999},null,0]
[null,null,"Auxiliar de encanador ou bombeiro hidráulico com encargos complementares","h",{"$f":"0.064*0.7","v":4.48E-2},15.019499999999999,{"$f":"IF(ISNUMBER(F2165),E2165*F2165,\"\")","v":0.67287359999999996},null,null,0]
[null,null,"Encanador ou Bombeiro Hidráulico com Encargos Complementares","h",{"$f":"0.064*0.7","v":4.48E-2},19.066499999999998,{"$f":"IF(ISNUMBER(F2166),E2166*F2166,\"\")","v":0.85417919999999992},null,null,0]
[null,null,null,null,null,"",{"$f":"IF(ISNUMBER(F2167),E2167*F2167,\"\")","v":""},null,null,0]
[null,null,"Obs.: As seguintes proporções foram consideradas quanto ao tempo de mão de obra: 70% para instalação do tubo e 30% para instalação do isolamento térmico.",null,null,"",{"$f":"IF(ISNUMBER(F2168),E2168*F2168,\"\")","v":""},null,null,0]
[null,null,null,null,null,"",{"$f":"IF(ISNUMBER(F2169),E2169*F2169,\"\")","v":""},null,null,0]
["SF-00347",{"$f":"INDEX(Orçamentária!A:B,MATCH(Composições!A2170,Orçamentária!A:A,0),2)","v":"Tubo de cobre de 3/8\""},null,{"$f":"TRIM(INDEX(Orçamentária!C:C,MATCH(Composições!A2170,Orçamentária!A:A,0),1))","v":"m"},null,"",{"$f":"IF(ISNUMBER(F2170),E2170*F2170,\"\")","v":""},null,null,0]
[null,null,null,null,null,"",{"$f":"IF(ISNUMBER(F2171),E2171*F2171,\"\")","v":""},null,null,0]
[null,null,"Tubo de cobre flexivel, D = 3/8 \", E = 0,79 mm, para ar-condicionado/ instalacoes gas residenciais e comerciais","m",1.0210999999999999,19.845500000000001,{"$f":"IF(ISNUMBER(F2172),E2172*F2172,\"\")","v":20.264240049999998},{"$f":"SUM(G2172:G2174)","v":21.624271449999995},null,0]
[null,null,"Auxiliar de encanador ou bombeiro hidráulico com encargos complementares","h",{"$f":"0.057*0.7","v":3.9899999999999998E-2},15.019499999999999,{"$f":"IF(ISNUMBER(F2173),E2173*F2173,\"\")","v":0.5992780499999999},null,null,0]
[null,null,"Encanador ou Bombeiro Hidráulico com Encargos Complementares","h",{"$f":"0.057*0.7","v":3.9899999999999998E-2},19.066499999999998,{"$f":"IF(ISNUMBER(F2174),E2174*F2174,\"\")","v":0.76075334999999988},null,null,0]
[null,null,null,null,null,"",{"$f":"IF(ISNUMBER(F2175),E2175*F2175,\"\")","v":""},null,null,0]
[null,null,"Obs.: As seguintes proporções foram consideradas quanto ao tempo de mão de obra: 70% para instalação do tubo e 30% para instalação do isolamento térmico.",null,null,"",{"$f":"IF(ISNUMBER(F2176),E2176*F2176,\"\")","v":""},null,null,0]
[null,null,null,null,null,"",{"$f":"IF(ISNUMBER(F2177),E2177*F2177,\"\")","v":""},null,null,0]
["SF-00348",{"$f":"INDEX(Orçamentária!A:B,MATCH(Composições!A2178,Orçamentária!A:A,0),2)","v":"Tubo de cobre de 5/8\""},null,{"$f":"TRIM(INDEX(Orçamentária!C:C,MATCH(Composições!A2178,Orçamentária!A:A,0),1))","v":"m"},null,"",{"$f":"IF(ISNUMBER(F2178),E2178*F2178,\"\")","v":""},null,null,0]
[null,null,null,null,null,"",{"$f":"IF(ISNUMBER(F2179),E2179*F2179,\"\")","v":""},null,null,0]
[null,null,"Tubo de cobre flexivel, D = 5/8 \", E = 0,79 mm, para ar-condicionado/ instalacoes gas residenciais e comerciais","m",1.0210999999999999,33.487499999999997,{"$f":"IF(ISNUMBER(F2180),E2180*F2180,\"\")","v":34.194086249999991},{"$f":"SUM(G2180:G2182)","v":35.721139049999991},null,0]
[null,null,"Auxiliar de encanador ou bombeiro hidráulico com encargos complementares","h",{"$f":"0.064*0.7","v":4.48E-2},15.019499999999999,{"$f":"IF(ISNUMBER(F2181),E2181*F2181,\"\")","v":0.67287359999999996},null,null,0]
[null,null,"Encanador ou Bombeiro Hidráulico com Encargos Complementares","h",{"$f":"0.064*0.7","v":4.48E-2},19.066499999999998,{"$f":"IF(ISNUMBER(F2182),E2182*F2182,\"\")","v":0.85417919999999992},null,null,0]
[null,null,null,null,null,"",{"$f":"IF(ISNUMBER(F2183),E2183*F2183,\"\")","v":""},null,null,0]
[null,null,"Obs.: As seguintes proporções foram consideradas quanto ao tempo de mão de obra: 70% para instalação do tubo e 30% para instalação do isolamento térmico.",null,null,"",{"$f":"IF(ISNUMBER(F2184),E2184*F2184,\"\")","v":""},null,null,0]
[null,null,null,null,null,"",{"$f":"IF(ISNUMBER(F2185),E2185*F2185,\"\")","v":""},null,null,0]
["SF-00349",{"$f":"INDEX(Orçamentária!A:B,MATCH(Composições!A2186,Orçamentária!A:A,0),2)","v":"Tubo de cobre de 7/8\""},null,{"$f":"TRIM(INDEX(Orçamentária!C:C,MATCH(Composições!A2186,Orçamentária!A:A,0),1))","v":"m"},null,"",{"$f":"IF(ISNUMBER(F2186),E2186*F2186,\"\")","v":""},null,null,0]
[null,null,null,null,null,"",{"$f":"IF(ISNUMBER(F2187),E2187*F2187,\"\")","v":""},null,null,0]
[null,null,"Tubo de cobre flexivel, D = 7/8 \", E = 0,79 mm, para ar-condicionado/ instalacoes gas residenciais e comerciais","m",1.0210999999999999,0.95,{"$f":"IF(ISNUMBER(F2188),E2188*F2188,\"\")","v":0.97004499999999982},{"$f":"SUM(G2188:G2190)","v":2.4970977999999997},null,0]
[null,null,"Auxiliar de encanador ou bombeiro hidráulico com encargos complementares","h",{"$f":"0.064*0.7","v":4.48E-2},15.019499999999999,{"$f":"IF(ISNUMBER(F2189),E2189*F2189,\"\")","v":0.67287359999999996},null,null,0]
[null,null,"Encanador ou Bombeiro Hidráulico com Encargos Complementares","h",{"$f":"0.064*0.7","v":4.48E-2},19.066499999999998,{"$f":"IF(ISNUMBER(F2190),E2190*F2190,\"\")","v":0.85417919999999992},null,null,0]
[null,null,null,null,null,"",{"$f":"IF(ISNUMBER(F2191),E2191*F2191,\"\")","v":""},null,null,0]
[null,null,"Obs.: As seguintes proporções foram consideradas quanto ao tempo de mão de obra: 70% para instalação do tubo e 30% para instalação do isolamento térmico.",null,null,"",{"$f":"IF(ISNUMBER(F2192),E2192*F2192,\"\")","v":""},null,null,0]
[null,null,null,null,null,"",{"$f":"IF(ISNUMBER(F2193),E2193*F2193,\"\")","v":""},null,null,0]
["SF-00350",{"$f":"INDEX(Orçamentária!A:B,MATCH(Composições!A2194,Orçamentária!A:A,0),2)","v":"Tubo de cobre de 1\""},null,{"$f":"TRIM(INDEX(Orçamentária!C:C,MATCH(Composições!A2194,Orçamentária!A:A,0),1))","v":"m"},null,"",{"$f":"IF(ISNUMBER(F2194),E2194*F2194,\"\")","v":""},null,null,0]
[null,null,null,null,null,"",{"$f":"IF(ISNUMBER(F2195),E2195*F2195,\"\")","v":""},null,null,0]
[null,null,"Tubo de cobre flexivel, D = 1 \", E = 0,79 mm, para ar-condicionado/ instalacoes gas residenciais e comerciais","m",1.0210999999999999,0.95,{"$f":"IF(ISNUMBER(F2196),E2196*F2196,\"\")","v":0.97004499999999982},{"$f":"SUM(G2196:G2198)","v":2.4970977999999997},null,0]
[null,null,"Auxiliar de encanador ou bombeiro hidráulico com encargos complementares","h",{"$f":"0.064*0.7","v":4.48E-2},15.019499999999999,{"$f":"IF(ISNUMBER(F2197),E2197*F2197,\"\")","v":0.67287359999999996},null,null,0]
[null,null,"Encanador ou Bombeiro Hidráulico com Encargos Complementares","h",{"$f":"0.064*0.7","v":4.48E-2},19.066499999999998,{"$f":"IF(ISNUMBER(F2198),E2198*F2198,\"\")","v":0.85417919999999992},null,null,0]
[null,null,null,null,null,"",{"$f":"IF(ISNUMBER(F2199),E2199*F2199,\"\")","v":""},null,null,0]
[null,null,"Obs.: As seguintes proporções foram consideradas quanto ao tempo de mão de obra: 70% para instalação do tubo e 30% para instalação do isolamento térmico.",null,null,"",{"$f":"IF(ISNUMBER(F2200),E2200*F2200,\"\")","v":""},null,null,0]
[null,null,null,null,null,"",{"$f":"IF(ISNUMBER(F2201),E2201*F2201,\"\")","v":""},null,null,0]
["SF-00351",{"$f":"INDEX(Orçamentária!A:B,MATCH(Composições!A2202,Orçamentária!A:A,0),2)","v":"Tubo de cobre de 1 1/8\""},null,{"$f":"TRIM(INDEX(Orçamentária!C:C,MATCH(Composições!A2202,Orçamentária!A:A,0),1))","v":"m"},null,"",{"$f":"IF(ISNUMBER(F2202),E2202*F2202,\"\")","v":""},null,null,0]
[null,null,null,null,null,"",{"$f":"IF(ISNUMBER(F2203),E2203*F2203,\"\")","v":""},null,null,0]
[null,null,"Tubo de cobre flexivel, D = 1 1/8 \", E = 0,79 mm, para ar-condicionado/ instalacoes gas residenciais e comerciais","m",1.0210999999999999,0.95,{"$f":"IF(ISNUMBER(F2204),E2204*F2204,\"\")","v":0.97004499999999982},{"$f":"SUM(G2204:G2206)","v":2.4970977999999997},null,0]
[null,null,"Auxiliar de encanador ou bombeiro hidráulico com encargos complementares","h",{"$f":"0.064*0.7","v":4.48E-2},15.019499999999999,{"$f":"IF(ISNUMBER(F2205),E2205*F2205,\"\")","v":0.67287359999999996},null,null,0]
[null,null,"Encanador ou Bombeiro Hidráulico com Encargos Complementares","h",{"$f":"0.064*0.7","v":4.48E-2},19.066499999999998,{"$f":"IF(ISNUMBER(F2206),E2206*F2206,\"\")","v":0.85417919999999992},null,null,0]
[null,null,null,null,null,"",{"$f":"IF(ISNUMBER(F2207),E2207*F2207,\"\")","v":""},null,null,0]
[null,null,"Obs.: As seguintes proporções foram consideradas quanto ao tempo de mão de obra: 70% para instalação do tubo e 30% para instalação do isolamento térmico.",null,null,"",{"$f":"IF(ISNUMBER(F2208),E2208*F2208,\"\")","v":""},null,null,0]
[null,null,null,null,null,"",{"$f":"IF(ISNUMBER(F2209),E2209*F2209,\"\")","v":""},null,null,0]
["SF-00354",{"$f":"INDEX(Orçamentária!A:B,MATCH(Composições!A2210,Orçamentária!A:A,0),2)","v":"Instalação de armários reaproveitados"},null,{"$f":"TRIM(INDEX(Orçamentária!C:C,MATCH(Composições!A2210,Orçamentária!A:A,0),1))","v":"m2"},null,"",{"$f":"IF(ISNUMBER(F2210),E2210*F2210,\"\")","v":""},null,null,0]
[null,null,null,null,null,"",{"$f":"IF(ISNUMBER(F2211),E2211*F2211,\"\")","v":""},null,null,0]
[null,null,"Marceneiro com encargos complementares","h",1.8,19.683999999999997,{"$f":"IF(ISNUMBER(F2212),E2212*F2212,\"\")","v":35.431199999999997},{"$f":"SUM(G2212:G2213)","v":87.141599999999997},null,0]
[null,null,"Ajudante de carpinteiro com encargos complementares","h",3.15,16.416,{"$f":"IF(ISNUMBER(F2213),E2213*F2213,\"\")","v":51.7104},null,null,0]
[null,null,null,null,null,"",{"$f":"IF(ISNUMBER(F2214),E2214*F2214,\"\")","v":""},null,null,0]
["SF-00355",{"$f":"INDEX(Orçamentária!A:B,MATCH(Composições!A2215,Orçamentária!A:A,0),2)","v":"Mesa/tampo de MDF, fixada em parede com mão-francesa"},null,{"$f":"TRIM(INDEX(Orçamentária!C:C,MATCH(Composições!A2215,Orçamentária!A:A,0),1))","v":"m2"},null,"",{"$f":"IF(ISNUMBER(F2215),E2215*F2215,\"\")","v":""},null,null,0]
[null,null,null,null,null,"",{"$f":"IF(ISNUMBER(F2216),E2216*F2216,\"\")","v":""},null,null,0]
[null,null,"Marceneiro com encargos complementares","h",1.8,19.683999999999997,{"$f":"IF(ISNUMBER(F2217),E2217*F2217,\"\")","v":35.431199999999997},{"$f":"SUM(G2217:G2220)","v":143.44239999999999},null,0]
[null,null,"Ajudante de carpinteiro com encargos complementares","h",{"$f":"3.15/2","v":1.575},16.416,{"$f":"IF(ISNUMBER(F2218),E2218*F2218,\"\")","v":25.8552},null,null,0]
[null,null,"Suporte mao-francesa em aco, abas iguais 40 cm, capacidade minima 70 kg, branco","un",2,12.226499999999998,{"$f":"IF(ISNUMBER(F2219),E2219*F2219,\"\")","v":24.452999999999996},null,null,0]
[null,null,"Chapa de MDF branco liso 2 faces, e = 25 mm, de *2,75 x 1,85* m","m2",1,57.702999999999996,{"$f":"IF(ISNUMBER(F2220),E2220*F2220,\"\")","v":57.702999999999996},null,null,0]
[null,null,null,null,null,"",{"$f":"IF(ISNUMBER(F2221),E2221*F2221,\"\")","v":""},null,null,0]
["SF-00356",{"$f":"INDEX(Orçamentária!A:B,MATCH(Composições!A2222,Orçamentária!A:A,0),2)","v":"Painel para TV de 120 x 180 cm"},null,{"$f":"TRIM(INDEX(Orçamentária!C:C,MATCH(Composições!A2222,Orçamentária!A:A,0),1))","v":"un"},null,"",{"$f":"IF(ISNUMBER(F2222),E2222*F2222,\"\")","v":""},null,null,0]
[null,null,null,null,null,"",{"$f":"IF(ISNUMBER(F2223),E2223*F2223,\"\")","v":""},null,null,0]
[null,null,"Marceneiro com encargos complementares","h",1,19.683999999999997,{"$f":"IF(ISNUMBER(F2224),E2224*F2224,\"\")","v":19.683999999999997},{"$f":"SUM(G2224:G2226)","v":36.099999999999994},null,0]
[null,null,"Ajudante de carpinteiro com encargos complementares","h",1,16.416,{"$f":"IF(ISNUMBER(F2225),E2225*F2225,\"\")","v":16.416},null,null,0]
[null,null,"Painel de TV de 120 x 180 cm, fabricado em MDP. Ref.: Urbe Móveis Plus","un",1,"",{"$f":"IF(ISNUMBER(F2226),E2226*F2226,\"\")","v":""},null,null,0]
[null,null,null,null,null,"",{"$f":"IF(ISNUMBER(F2227),E2227*F2227,\"\")","v":""},null,null,0]
["SF-00357",{"$f":"INDEX(Orçamentária!A:B,MATCH(Composições!A2228,Orçamentária!A:A,0),2)","v":"Painel para TV de 160 x 160 cm"},null,{"$f":"TRIM(INDEX(Orçamentária!C:C,MATCH(Composições!A2228,Orçamentária!A:A,0),1))","v":"un"},null,"",{"$f":"IF(ISNUMBER(F2228),E2228*F2228,\"\")","v":""},null,null,0]
[null,null,null,null,null,"",{"$f":"IF(ISNUMBER(F2229),E2229*F2229,\"\")","v":""},null,null,0]
[null,null,"Marceneiro com encargos complementares","h",1,19.683999999999997,{"$f":"IF(ISNUMBER(F2230),E2230*F2230,\"\")","v":19.683999999999997},{"$f":"SUM(G2230:G2232)","v":36.099999999999994},null,0]
[null,null,"Ajudante de carpinteiro com encargos complementares","h",1,16.416,{"$f":"IF(ISNUMBER(F2231),E2231*F2231,\"\")","v":16.416},null,null,0]
[null,null,"Painel de TV de 160 x 160 cm, fabricado em MDP. Ref.: HB Móveis Life Canyon, HB Móveis Livin","un",1,"",{"$f":"IF(ISNUMBER(F2232),E2232*F2232,\"\")","v":""},null,null,0]
[null,null,null,null,null,"",{"$f":"IF(ISNUMBER(F2233),E2233*F2233,\"\")","v":""},null,null,0]
["SF-00358",{"$f":"INDEX(Orçamentária!A:B,MATCH(Composições!A2234,Orçamentária!A:A,0),2)","v":"Painel para TV de 90 x 120 cm"},null,{"$f":"TRIM(INDEX(Orçamentária!C:C,MATCH(Composições!A2234,Orçamentária!A:A,0),1))","v":"un"},null,"",{"$f":"IF(ISNUMBER(F2234),E2234*F2234,\"\")","v":""},null,null,0]
[null,null,null,null,null,"",{"$f":"IF(ISNUMBER(F2235),E2235*F2235,\"\")","v":""},null,null,0]
[null,null,"Marceneiro com encargos complementares","h",1,19.683999999999997,{"$f":"IF(ISNUMBER(F2236),E2236*F2236,\"\")","v":19.683999999999997},{"$f":"SUM(G2236:G2238)","v":36.099999999999994},null,0]
[null,null,"Ajudante de carpinteiro com encargos complementares","h",1,16.416,{"$f":"IF(ISNUMBER(F2237),E2237*F2237,\"\")","v":16.416},null,null,0]
[null,null,"Painel de TV de 90 x 120 cm, fabricado em MDP. Ref.: Germai Ipanema 90 x 120 x 26,5","un",1,"",{"$f":"IF(ISNUMBER(F2238),E2238*F2238,\"\")","v":""},null,null,0]
[null,null,null,null,null,"",{"$f":"IF(ISNUMBER(F2239),E2239*F2239,\"\")","v":""},null,null,0]
["SF-00359",{"$f":"INDEX(Orçamentária!A:B,MATCH(Composições!A2240,Orçamentária!A:A,0),2)","v":"Batentes e guarnições em madeira, com verniz ou esmalte"},null,{"$f":"TRIM(INDEX(Orçamentária!C:C,MATCH(Composições!A2240,Orçamentária!A:A,0),1))","v":"un"},null,"",{"$f":"IF(ISNUMBER(F2240),E2240*F2240,\"\")","v":""},null,null,0]
[null,null,null,null,null,"",{"$f":"IF(ISNUMBER(F2241),E2241*F2241,\"\")","v":""},null,null,0]
[null,null,"BATENTE/ PORTAL/ ADUELA/ MARCO MACICO, E= *3* CM, L= *13* CM, *60 CM A 120* CM X *210* CM, EM PINUS/ TAUARI/ VIROLA OU EQUIVALENTE DA REGIAO (NAO INCLUI ALIZARES)","JG",1,114.931,{"$f":"IF(ISNUMBER(F2242),E2242*F2242,\"\")","v":114.931},{"$f":"SUM(G2242:G2252)","v":230.8802575},null,0]
[null,null,"PREGO DE ACO POLIDO COM CABECA 12 X 12","KG",1.0999999999999999E-2,14.895999999999999,{"$f":"IF(ISNUMBER(F2243),E2243*F2243,\"\")","v":0.16385599999999997},null,null,0]
[null,null,"PREGO DE ACO POLIDO COM CABECA 18 X 30 (2 3/4 X 10)","KG",2.4E-2,11.305,{"$f":"IF(ISNUMBER(F2244),E2244*F2244,\"\")","v":0.27132000000000001},null,null,0]
[null,null,"CARPINTEIRO DE ESQUADRIA COM ENCARGOS COMPLEMENTARES","H",{"$f":"2.741+0.068","v":2.8090000000000002},19.3705,{"$f":"IF(ISNUMBER(F2245),E2245*F2245,\"\")","v":54.411734500000001},null,null,0]
[null,null,"SERVENTE COM ENCARGOS COMPLEMENTARES","H",{"$f":"1.375+0.034","v":1.409},14.554,{"$f":"IF(ISNUMBER(F2246),E2246*F2246,\"\")","v":20.506586000000002},null,null,0]
[null,null,"PREGO DE ACO POLIDO SEM CABECA 15 X 15 (1 1/4 X 13)","KG",6.0000000000000001E-3,12.711,{"$f":"IF(ISNUMBER(F2247),E2247*F2247,\"\")","v":7.6266E-2},null,null,0]
[null,null,"GUARNICAO/ ALIZAR/ VISTA MACICA, E= *1* CM, L= *4,5* CM, EM CEDRINHO/ ANGELIM COMERCIAL/  EUCALIPTO/ CURUPIXA/ PEROBA/ CUMARU OU EQUIVALENTE DA REGIAO","M",{"$f":"(2.1*2+0.8)*1.163","v":5.8150000000000004},5.2629999999999999,{"$f":"IF(ISNUMBER(F2248),E2248*F2248,\"\")","v":30.604345000000002},null,null,0]
[null,null,"Lixa em folha para parede ou madeira, numero 120 (cor vermelha)","un",{"$f":"ROUND(1*0.15*(2*2.1+0.8),4)","v":0.75},0.64600000000000002,{"$f":"IF(ISNUMBER(F2249),E2249*F2249,\"\")","v":0.48450000000000004},null,null,0]
[null,null,"Verniz a base de água para madeira","L",{"$f":"ROUND(0.108*0.15*(2*2.1+0.8),4)","v":8.1000000000000003E-2},"",{"$f":"IF(ISNUMBER(F2250),E2250*F2250,\"\")","v":""},null,null,0]
[null,null,"Pintor com encargos complementares","h",{"$f":"ROUND(0.4*0.15*(2*2.1+0.8),4)","v":0.3},20.52,{"$f":"IF(ISNUMBER(F2251),E2251*F2251,\"\")","v":6.1559999999999997},null,null,0]
[null,null,"Servente com Encargos Complementares","h",{"$f":"ROUND(0.3*0.15*(2*2.1+0.8),4)","v":0.22500000000000001},14.554,{"$f":"IF(ISNUMBER(F2252),E2252*F2252,\"\")","v":3.2746500000000003},null,null,0]
[null,null,null,null,null,null,null,null,null,0]
[null,null,"Obs: considerando rendimento informado na especificação técnica de produto equivalente da Suvinil (Lata de 3,6L rende até 100 m²/demão).",null,null,null,null,null,null,0]
[null,null,null,null,null,"",{"$f":"IF(ISNUMBER(F2255),E2255*F2255,\"\")","v":""},null,null,0]
["SF-00360",{"$f":"INDEX(Orçamentária!A:B,MATCH(Composições!A2256,Orçamentária!A:A,0),2)","v":"Chapa de proteção para porta – Linha Acessibilidade"},null,{"$f":"TRIM(INDEX(Orçamentária!C:C,MATCH(Composições!A2256,Orçamentária!A:A,0),1))","v":"m2"},null,"",{"$f":"IF(ISNUMBER(F2256),E2256*F2256,\"\")","v":""},null,null,0]
[null,null,null,null,null,"",{"$f":"IF(ISNUMBER(F2257),E2257*F2257,\"\")","v":""},null,null,0]
[null,null,"Servente com Encargos Complementares","h",0.3,14.554,{"$f":"IF(ISNUMBER(F2258),E2258*F2258,\"\")","v":4.3662000000000001},{"$f":"SUM(G2258:G2260)","v":10.2714},null,0]
[null,null,"Marceneiro com encargos complementares","h",0.3,19.683999999999997,{"$f":"IF(ISNUMBER(F2259),E2259*F2259,\"\")","v":5.9051999999999989},null,null,0]
[null,null,"Chapa de proteção em aço inox AISI 304, largura conforme projeto, 400 mm de altura, chapa com espessura de 1 mm, acabamento escovado fosco","m2",1,"",{"$f":"IF(ISNUMBER(F2260),E2260*F2260,\"\")","v":""},null,null,0]
[null,null,null,null,null,"",{"$f":"IF(ISNUMBER(F2261),E2261*F2261,\"\")","v":""},null,null,0]
["SF-00361",{"$f":"INDEX(Orçamentária!A:B,MATCH(Composições!A2262,Orçamentária!A:A,0),2)","v":"Folha de porta em madeira 2,10x0,60m, pintada"},null,{"$f":"TRIM(INDEX(Orçamentária!C:C,MATCH(Composições!A2262,Orçamentária!A:A,0),1))","v":"un"},null,"",{"$f":"IF(ISNUMBER(F2262),E2262*F2262,\"\")","v":""},null,null,0]
[null,null,null,null,null,"",{"$f":"IF(ISNUMBER(F2263),E2263*F2263,\"\")","v":""},null,null,0]
[null,null,"PORTA DE MADEIRA, FOLHA MEDIA (NBR 15930) DE 60 X 210 CM, E = 35 MM, NUCLEO SARRAFEADO, CAPA LISA EM HDF, ACABAMENTO LAMINADO NATURAL PARA VERNIZ","UN",1,189.25899999999999,{"$f":"IF(ISNUMBER(F2264),E2264*F2264,\"\")","v":189.25899999999999},{"$f":"SUM(G2264:G2270)","v":249.90357999999995},null,0]
[null,null,"CARPINTEIRO DE ESQUADRIA COM ENCARGOS COMPLEMENTARES","H",{"$f":"ROUND(1.282*0.8,4)","v":1.0256000000000001},19.3705,{"$f":"IF(ISNUMBER(F2265),E2265*F2265,\"\")","v":19.866384800000002},null,null,0]
[null,null,"SERVENTE COM ENCARGOS COMPLEMENTARES","H",{"$f":"ROUND(0.641*0.8,4)","v":0.51280000000000003},14.554,{"$f":"IF(ISNUMBER(F2266),E2266*F2266,\"\")","v":7.4632912000000005},null,null,0]
[null,null,"Lixa em folha para parede ou madeira, numero 120 (cor vermelha)","un",{"$f":"ROUND(1*(2*0.6*2.1),4)","v":2.52},0.64600000000000002,{"$f":"IF(ISNUMBER(F2267),E2267*F2267,\"\")","v":1.62792},null,null,0]
[null,null,"Verniz a base de água para madeira","L",{"$f":"ROUND(0.108*(2*0.6*2.1),4)","v":0.2722},"",{"$f":"IF(ISNUMBER(F2268),E2268*F2268,\"\")","v":""},null,null,0]
[null,null,"Pintor com encargos complementares","h",{"$f":"ROUND(0.4*(2*0.6*2.1),4)","v":1.008},20.52,{"$f":"IF(ISNUMBER(F2269),E2269*F2269,\"\")","v":20.684159999999999},null,null,0]
[null,null,"Servente com Encargos Complementares","h",{"$f":"ROUND(0.3*(2*0.6*2.1),4)","v":0.75600000000000001},14.554,{"$f":"IF(ISNUMBER(F2270),E2270*F2270,\"\")","v":11.002824},null,null,0]
[null,null,null,null,null,null,null,null,null,0]
[null,null,"Obs: considerando rendimento informado na especificação técnica de produto equivalente da Suvinil (Lata de 3,6L rende até 100 m²/demão).",null,null,null,null,null,null,0]
[null,null,null,null,null,"",{"$f":"IF(ISNUMBER(F2273),E2273*F2273,\"\")","v":""},null,null,0]
["SF-00362",{"$f":"INDEX(Orçamentária!A:B,MATCH(Composições!A2274,Orçamentária!A:A,0),2)","v":"Folha de porta em madeira 2,10x0,70m, pintada"},null,{"$f":"TRIM(INDEX(Orçamentária!C:C,MATCH(Composições!A2274,Orçamentária!A:A,0),1))","v":"un"},null,"",{"$f":"IF(ISNUMBER(F2274),E2274*F2274,\"\")","v":""},null,null,0]
[null,null,null,null,null,"",{"$f":"IF(ISNUMBER(F2275),E2275*F2275,\"\")","v":""},null,null,0]
[null,null,"PORTA DE MADEIRA, FOLHA MEDIA (NBR 15930) DE 70 X 210 CM, E = 35 MM, NUCLEO SARRAFEADO, CAPA LISA EM HDF, ACABAMENTO EM LAMINADO NATURAL PARA VERNIZ","UN",1,130.38749999999999,{"$f":"IF(ISNUMBER(F2276),E2276*F2276,\"\")","v":130.38749999999999},{"$f":"SUM(G2276:G2282)","v":199.39853999999997},null,0]
[null,null,"CARPINTEIRO DE ESQUADRIA COM ENCARGOS COMPLEMENTARES","H",{"$f":"ROUND(1.414*0.8,4)","v":1.1312},19.3705,{"$f":"IF(ISNUMBER(F2277),E2277*F2277,\"\")","v":21.911909599999998},null,null,0]
[null,null,"SERVENTE COM ENCARGOS COMPLEMENTARES","H",{"$f":"ROUND(0.707*0.8,4)","v":0.56559999999999999},14.554,{"$f":"IF(ISNUMBER(F2278),E2278*F2278,\"\")","v":8.2317423999999999},null,null,0]
[null,null,"Lixa em folha para parede ou madeira, numero 120 (cor vermelha)","un",{"$f":"ROUND(1*(2*0.7*2.1),4)","v":2.94},0.64600000000000002,{"$f":"IF(ISNUMBER(F2279),E2279*F2279,\"\")","v":1.89924},null,null,0]
[null,null,"Verniz a base de água para madeira","L",{"$f":"ROUND(0.108*(2*0.7*2.1),4)","v":0.3175},"",{"$f":"IF(ISNUMBER(F2280),E2280*F2280,\"\")","v":""},null,null,0]
[null,null,"Pintor com encargos complementares","h",{"$f":"ROUND(0.4*(2*0.7*2.1),4)","v":1.1759999999999999},20.52,{"$f":"IF(ISNUMBER(F2281),E2281*F2281,\"\")","v":24.131519999999998},null,null,0]
[null,null,"Servente com Encargos Complementares","h",{"$f":"ROUND(0.3*(2*0.7*2.1),4)","v":0.88200000000000001},14.554,{"$f":"IF(ISNUMBER(F2282),E2282*F2282,\"\")","v":12.836628000000001},null,null,0]
[null,null,null,null,null,null,null,null,null,0]
[null,null,"Obs: considerando rendimento informado na especificação técnica de produto equivalente da Suvinil (Lata de 3,6L rende até 100 m²/demão).",null,null,null,null,null,null,0]
[null,null,null,null,null,"",{"$f":"IF(ISNUMBER(F2285),E2285*F2285,\"\")","v":""},null,null,0]
["SF-00363",{"$f":"INDEX(Orçamentária!A:B,MATCH(Composições!A2286,Orçamentária!A:A,0),2)","v":"Folha de porta em madeira 2,10x0,80m, pintada"},null,{"$f":"TRIM(INDEX(Orçamentária!C:C,MATCH(Composições!A2286,Orçamentária!A:A,0),1))","v":"un"},null,"",{"$f":"IF(ISNUMBER(F2286),E2286*F2286,\"\")","v":""},null,null,0]
[null,null,null,null,null,"",{"$f":"IF(ISNUMBER(F2287),E2287*F2287,\"\")","v":""},null,null,0]
[null,null,"PORTA DE MADEIRA, FOLHA MEDIA (NBR 15930) DE 80 X 210 CM, E = 35 MM, NUCLEO SARRAFEADO, CAPA LISA EM HDF, ACABAMENTO EM LAMINADO NATURAL PARA VERNIZ","UN",1,222.053,{"$f":"IF(ISNUMBER(F2288),E2288*F2288,\"\")","v":222.053},{"$f":"SUM(G2288:G2294)","v":299.43050000000005},null,0]
[null,null,"CARPINTEIRO DE ESQUADRIA COM ENCARGOS COMPLEMENTARES","H",{"$f":"ROUND(1.546*0.8,4)","v":1.2367999999999999},19.3705,{"$f":"IF(ISNUMBER(F2289),E2289*F2289,\"\")","v":23.957434399999997},null,null,0]
[null,null,"SERVENTE COM ENCARGOS COMPLEMENTARES","H",{"$f":"ROUND(0.773*0.8,4)","v":0.61839999999999995},14.554,{"$f":"IF(ISNUMBER(F2290),E2290*F2290,\"\")","v":9.0001935999999993},null,null,0]
[null,null,"Lixa em folha para parede ou madeira, numero 120 (cor vermelha)","un",{"$f":"ROUND(1*(2*0.8*2.1),4)","v":3.36},0.64600000000000002,{"$f":"IF(ISNUMBER(F2291),E2291*F2291,\"\")","v":2.17056},null,null,0]
[null,null,"Verniz a base de água para madeira","L",{"$f":"ROUND(0.108*(2*0.8*2.1),4)","v":0.3629},"",{"$f":"IF(ISNUMBER(F2292),E2292*F2292,\"\")","v":""},null,null,0]
[null,null,"Pintor com encargos complementares","h",{"$f":"ROUND(0.4*(2*0.8*2.1),4)","v":1.3440000000000001},20.52,{"$f":"IF(ISNUMBER(F2293),E2293*F2293,\"\")","v":27.578880000000002},null,null,0]
[null,null,"Servente com Encargos Complementares","h",{"$f":"ROUND(0.3*(2*0.8*2.1),4)","v":1.008},14.554,{"$f":"IF(ISNUMBER(F2294),E2294*F2294,\"\")","v":14.670432},null,null,0]
[null,null,null,null,null,null,null,null,null,0]
[null,null,"Obs: considerando rendimento informado na especificação técnica de produto equivalente da Suvinil (Lata de 3,6L rende até 100 m²/demão).",null,null,null,null,null,null,0]
[null,null,null,null,null,"",{"$f":"IF(ISNUMBER(F2297),E2297*F2297,\"\")","v":""},null,null,0]
["SF-00364",{"$f":"INDEX(Orçamentária!A:B,MATCH(Composições!A2298,Orçamentária!A:A,0),2)","v":"Folha de porta em madeira 2,10x0,90m, pintada"},null,{"$f":"TRIM(INDEX(Orçamentária!C:C,MATCH(Composições!A2298,Orçamentária!A:A,0),1))","v":"un"},null,"",{"$f":"IF(ISNUMBER(F2298),E2298*F2298,\"\")","v":""},null,null,0]
[null,null,null,null,null,"",{"$f":"IF(ISNUMBER(F2299),E2299*F2299,\"\")","v":""},null,null,0]
[null,null,"PORTA DE MADEIRA, FOLHA MEDIA (NBR 15930) DE 90 X 210 CM, E = 35 MM, NUCLEO SARRAFEADO, CAPA LISA EM HDF, ACABAMENTO EM LAMINADO NATURAL PARA VERNIZ","UN",1,204.00299999999999,{"$f":"IF(ISNUMBER(F2300),E2300*F2300,\"\")","v":204.00299999999999},{"$f":"SUM(G2300:G2306)","v":289.74695999999994},null,0]
[null,null,"CARPINTEIRO DE ESQUADRIA COM ENCARGOS COMPLEMENTARES","H",{"$f":"ROUND(1.678*0.8,4)","v":1.3424},19.3705,{"$f":"IF(ISNUMBER(F2301),E2301*F2301,\"\")","v":26.002959199999999},null,null,0]
[null,null,"SERVENTE COM ENCARGOS COMPLEMENTARES","H",{"$f":"ROUND(0.839*0.8,4)","v":0.67120000000000002},14.554,{"$f":"IF(ISNUMBER(F2302),E2302*F2302,\"\")","v":9.7686448000000006},null,null,0]
[null,null,"Lixa em folha para parede ou madeira, numero 120 (cor vermelha)","un",{"$f":"ROUND(1*(2*0.9*2.1),4)","v":3.78},0.64600000000000002,{"$f":"IF(ISNUMBER(F2303),E2303*F2303,\"\")","v":2.4418799999999998},null,null,0]
[null,null,"Verniz a base de água para madeira","L",{"$f":"ROUND(0.108*(2*0.9*2.1),4)","v":0.40820000000000001},"",{"$f":"IF(ISNUMBER(F2304),E2304*F2304,\"\")","v":""},null,null,0]
[null,null,"Pintor com encargos complementares","h",{"$f":"ROUND(0.4*(2*0.9*2.1),4)","v":1.512},20.52,{"$f":"IF(ISNUMBER(F2305),E2305*F2305,\"\")","v":31.026239999999998},null,null,0]
[null,null,"Servente com Encargos Complementares","h",{"$f":"ROUND(0.3*(2*0.9*2.1),4)","v":1.1339999999999999},14.554,{"$f":"IF(ISNUMBER(F2306),E2306*F2306,\"\")","v":16.504235999999999},null,null,0]
[null,null,null,null,null,null,null,null,null,0]
[null,null,"Obs: considerando rendimento informado na especificação técnica de produto equivalente da Suvinil (Lata de 3,6L rende até 100 m²/demão).",null,null,null,null,null,null,0]
[null,null,null,null,null,"",{"$f":"IF(ISNUMBER(F2309),E2309*F2309,\"\")","v":""},null,null,0]
["SF-00365",{"$f":"INDEX(Orçamentária!A:B,MATCH(Composições!A2310,Orçamentária!A:A,0),2)","v":"Folha de porta em madeira 2,10x1,0m, pintada"},null,{"$f":"TRIM(INDEX(Orçamentária!C:C,MATCH(Composições!A2310,Orçamentária!A:A,0),1))","v":"un"},null,"",{"$f":"IF(ISNUMBER(F2310),E2310*F2310,\"\")","v":""},null,null,0]
[null,null,null,null,null,"",{"$f":"IF(ISNUMBER(F2311),E2311*F2311,\"\")","v":""},null,null,0]
[null,null,"PORTA DE MADEIRA, FOLHA MEDIA (NBR 15930) DE 100 X 210 CM, E = 35 MM, NUCLEO SARRAFEADO, CAPA LISA EM HDF, ACABAMENTO EM LAMINADO NATURAL PARA VERNIZ","UN",1,223.76299999999998,{"$f":"IF(ISNUMBER(F2312),E2312*F2312,\"\")","v":223.76299999999998},{"$f":"SUM(G2312:G2318)","v":315.05944399999987},null,0]
[null,null,"CARPINTEIRO DE ESQUADRIA COM ENCARGOS COMPLEMENTARES","H",{"$f":"ROUND(1.678*0.8,4)","v":1.3424},19.3705,{"$f":"IF(ISNUMBER(F2313),E2313*F2313,\"\")","v":26.002959199999999},null,null,0]
[null,null,"SERVENTE COM ENCARGOS COMPLEMENTARES","H",{"$f":"ROUND(0.839*0.8,4)","v":0.67120000000000002},14.554,{"$f":"IF(ISNUMBER(F2314),E2314*F2314,\"\")","v":9.7686448000000006},null,null,0]
[null,null,"Lixa em folha para parede ou madeira, numero 120 (cor vermelha)","un",{"$f":"ROUND(1*(2*1*2.1),4)","v":4.2},0.64600000000000002,{"$f":"IF(ISNUMBER(F2315),E2315*F2315,\"\")","v":2.7132000000000001},null,null,0]
[null,null,"Verniz a base de água para madeira","L",{"$f":"ROUND(0.108*(2*1*2.1),4)","v":0.4536},"",{"$f":"IF(ISNUMBER(F2316),E2316*F2316,\"\")","v":""},null,null,0]
[null,null,"Pintor com encargos complementares","h",{"$f":"ROUND(0.4*(2*1*2.1),4)","v":1.68},20.52,{"$f":"IF(ISNUMBER(F2317),E2317*F2317,\"\")","v":34.473599999999998},null,null,0]
[null,null,"Servente com Encargos Complementares","h",{"$f":"ROUND(0.3*(2*1*2.1),4)","v":1.26},14.554,{"$f":"IF(ISNUMBER(F2318),E2318*F2318,\"\")","v":18.338039999999999},null,null,0]
[null,null,null,null,null,null,null,null,null,0]
[null,null,"Obs: considerando rendimento informado na especificação técnica de produto equivalente da Suvinil (Lata de 3,6L rende até 100 m²/demão).",null,null,null,null,null,null,0]
[null,null,null,null,null,"",{"$f":"IF(ISNUMBER(F2321),E2321*F2321,\"\")","v":""},null,null,0]
["SF-00366",{"$f":"INDEX(Orçamentária!A:B,MATCH(Composições!A2322,Orçamentária!A:A,0),2)","v":"Instalação de batentes de madeira reaproveitados"},null,{"$f":"TRIM(INDEX(Orçamentária!C:C,MATCH(Composições!A2322,Orçamentária!A:A,0),1))","v":"un"},null,"",{"$f":"IF(ISNUMBER(F2322),E2322*F2322,\"\")","v":""},null,null,0]
[null,null,null,null,null,"",{"$f":"IF(ISNUMBER(F2323),E2323*F2323,\"\")","v":""},null,null,0]
[null,null,"PREGO DE ACO POLIDO COM CABECA 12 X 12","KG",1.0999999999999999E-2,14.895999999999999,{"$f":"IF(ISNUMBER(F2324),E2324*F2324,\"\")","v":0.16385599999999997},{"$f":"SUM(G2324:G2327)","v":73.279494499999998},null,0]
[null,null,"PREGO DE ACO POLIDO COM CABECA 18 X 30 (2 3/4 X 10)","KG",2.4E-2,11.305,{"$f":"IF(ISNUMBER(F2325),E2325*F2325,\"\")","v":0.27132000000000001},null,null,0]
[null,null,"CARPINTEIRO DE ESQUADRIA COM ENCARGOS COMPLEMENTARES","H",2.7410000000000001,19.3705,{"$f":"IF(ISNUMBER(F2326),E2326*F2326,\"\")","v":53.094540500000001},null,null,0]
[null,null,"SERVENTE COM ENCARGOS COMPLEMENTARES","H",1.357,14.554,{"$f":"IF(ISNUMBER(F2327),E2327*F2327,\"\")","v":19.749777999999999},null,null,0]
[null,null,null,null,null,"",{"$f":"IF(ISNUMBER(F2328),E2328*F2328,\"\")","v":""},null,null,0]
["SF-00367",{"$f":"INDEX(Orçamentária!A:B,MATCH(Composições!A2329,Orçamentária!A:A,0),2)","v":"Instalação de folhas de portas e dobradiças reaproveitadas"},null,{"$f":"TRIM(INDEX(Orçamentária!C:C,MATCH(Composições!A2329,Orçamentária!A:A,0),1))","v":"un"},null,"",{"$f":"IF(ISNUMBER(F2329),E2329*F2329,\"\")","v":""},null,null,0]
[null,null,null,null,null,"",{"$f":"IF(ISNUMBER(F2330),E2330*F2330,\"\")","v":""},null,null,0]
[null,null,"PARAFUSO ROSCA SOBERBA ZINCADO CABECA CHATA FENDA SIMPLES 3,5 X 25 MM (1 \")","UN",19.8,3.7999999999999999E-2,{"$f":"IF(ISNUMBER(F2331),E2331*F2331,\"\")","v":0.75239999999999996},{"$f":"SUM(G2331:G2334)","v":52.569846000000005},null,0]
[null,null,"CARPINTEIRO DE ESQUADRIA COM ENCARGOS COMPLEMENTARES","H",1.546,19.3705,{"$f":"IF(ISNUMBER(F2332),E2332*F2332,\"\")","v":29.946793},null,null,0]
[null,null,"PEDREIRO COM ENCARGOS COMPLEMENTARES","H",0.221,19.474999999999998,{"$f":"IF(ISNUMBER(F2333),E2333*F2333,\"\")","v":4.3039749999999994},null,null,0]
[null,null,"SERVENTE COM ENCARGOS COMPLEMENTARES","H",1.2070000000000001,14.554,{"$f":"IF(ISNUMBER(F2334),E2334*F2334,\"\")","v":17.566678000000003},null,null,0]
[null,null,null,null,null,"",{"$f":"IF(ISNUMBER(F2335),E2335*F2335,\"\")","v":""},null,null,0]
["SF-00368",{"$f":"INDEX(Orçamentária!A:B,MATCH(Composições!A2336,Orçamentária!A:A,0),2)","v":"Dobradiça para porta"},null,{"$f":"TRIM(INDEX(Orçamentária!C:C,MATCH(Composições!A2336,Orçamentária!A:A,0),1))","v":"un"},null,"",{"$f":"IF(ISNUMBER(F2336),E2336*F2336,\"\")","v":""},null,null,0]
[null,null,null,null,null,"",{"$f":"IF(ISNUMBER(F2337),E2337*F2337,\"\")","v":""},null,null,0]
[null,null,"DOBRADICA EM LATAO, 3 \" X 2 1/2 \", E= 1,9 A 2 MM, COM ANEL, CROMADO, TAMPA BOLA, COM PARAFUSOS","UN",1,19.047499999999999,{"$f":"IF(ISNUMBER(F2338),E2338*F2338,\"\")","v":19.047499999999999},{"$f":"SUM(G2338:G2340)","v":43.456609999999998},null,0]
[null,null,"SERVENTE COM ENCARGOS COMPLEMENTARES","h",0.45800000000000002,14.554,{"$f":"IF(ISNUMBER(F2339),E2339*F2339,\"\")","v":6.6657320000000002},null,null,0]
[null,null,"Carpinteiro de esquadria com encargos complementares","h",0.91600000000000004,19.3705,{"$f":"IF(ISNUMBER(F2340),E2340*F2340,\"\")","v":17.743378},null,null,0]
[null,null,null,null,null,"",{"$f":"IF(ISNUMBER(F2341),E2341*F2341,\"\")","v":""},null,null,0]
["SF-00369",{"$f":"INDEX(Orçamentária!A:B,MATCH(Composições!A2342,Orçamentária!A:A,0),2)","v":"Fechadura para banheiro maçaneta em barra"},null,{"$f":"TRIM(INDEX(Orçamentária!C:C,MATCH(Composições!A2342,Orçamentária!A:A,0),1))","v":"un"},null,"",{"$f":"IF(ISNUMBER(F2342),E2342*F2342,\"\")","v":""},null,null,0]
[null,null,null,null,null,"",{"$f":"IF(ISNUMBER(F2343),E2343*F2343,\"\")","v":""},null,null,0]
[null,null,"Fechadura para porta de banheiro, com maçaneta em formato de barra, confeccionada em aço com acabamento inox polido. Ref.: MZ 270 WC Standard – Linha Standard – Papaiz","un ",1,"",{"$f":"IF(ISNUMBER(F2344),E2344*F2344,\"\")","v":""},{"$f":"SUM(G2344:G2346)","v":20.445909499999999},null,0]
[null,null,"Carpinteiro de esquadria com encargos complementares","h",0.76700000000000002,19.3705,{"$f":"IF(ISNUMBER(F2345),E2345*F2345,\"\")","v":14.8571735},null,null,0]
[null,null,"Servente com Encargos Complementares","h",0.38400000000000001,14.554,{"$f":"IF(ISNUMBER(F2346),E2346*F2346,\"\")","v":5.5887359999999999},null,null,0]
[null,null,null,null,null,"",{"$f":"IF(ISNUMBER(F2347),E2347*F2347,\"\")","v":""},null,null,0]
["SF-00370",{"$f":"INDEX(Orçamentária!A:B,MATCH(Composições!A2348,Orçamentária!A:A,0),2)","v":"Fechadura para porta externa maçaneta em barra"},null,{"$f":"TRIM(INDEX(Orçamentária!C:C,MATCH(Composições!A2348,Orçamentária!A:A,0),1))","v":"un"},null,"",{"$f":"IF(ISNUMBER(F2348),E2348*F2348,\"\")","v":""},null,null,0]
[null,null,null,null,null,"",{"$f":"IF(ISNUMBER(F2349),E2349*F2349,\"\")","v":""},null,null,0]
[null,null,"Fechadura para porta externa, com maçaneta em formato de barra, confeccionada em zamac com acabamento cromado. Ref.: MZ 270 EXT Standard – Linha Standard – Papaiz","un ",1,"",{"$f":"IF(ISNUMBER(F2350),E2350*F2350,\"\")","v":""},{"$f":"SUM(G2350:G2352)","v":26.700795000000003},null,0]
[null,null,"Carpinteiro de esquadria com encargos complementares","h",1.002,19.3705,{"$f":"IF(ISNUMBER(F2351),E2351*F2351,\"\")","v":19.409241000000002},null,null,0]
[null,null,"Servente com Encargos Complementares","h",0.501,14.554,{"$f":"IF(ISNUMBER(F2352),E2352*F2352,\"\")","v":7.2915540000000005},null,null,0]
[null,null,null,null,null,"",{"$f":"IF(ISNUMBER(F2353),E2353*F2353,\"\")","v":""},null,null,0]
["SF-00371",{"$f":"INDEX(Orçamentária!A:B,MATCH(Composições!A2354,Orçamentária!A:A,0),2)","v":"Fechadura para porta interna maçaneta tubular"},null,{"$f":"TRIM(INDEX(Orçamentária!C:C,MATCH(Composições!A2354,Orçamentária!A:A,0),1))","v":"un"},null,"",{"$f":"IF(ISNUMBER(F2354),E2354*F2354,\"\")","v":""},null,null,0]
[null,null,null,null,null,"",{"$f":"IF(ISNUMBER(F2355),E2355*F2355,\"\")","v":""},null,null,0]
[null,null,"Fechadura para porta interna, com acabamento cromado brilhante, maçaneta tipo pera, com pino giratório central. Ref.: CJ 030 (externo) – Linha Professionel – La Fonte","un ",1,"",{"$f":"IF(ISNUMBER(F2356),E2356*F2356,\"\")","v":""},{"$f":"SUM(G2356:G2358)","v":26.700795000000003},null,0]
[null,null,"Carpinteiro de esquadria com encargos complementares","h",1.002,19.3705,{"$f":"IF(ISNUMBER(F2357),E2357*F2357,\"\")","v":19.409241000000002},null,null,0]
[null,null,"Servente com Encargos Complementares","h",0.501,14.554,{"$f":"IF(ISNUMBER(F2358),E2358*F2358,\"\")","v":7.2915540000000005},null,null,0]
[null,null,null,null,null,"",{"$f":"IF(ISNUMBER(F2359),E2359*F2359,\"\")","v":""},null,null,0]
["SF-00372",{"$f":"INDEX(Orçamentária!A:B,MATCH(Composições!A2360,Orçamentária!A:A,0),2)","v":"Instalação de fechadura/puxador de porta reaproveitados"},null,{"$f":"TRIM(INDEX(Orçamentária!C:C,MATCH(Composições!A2360,Orçamentária!A:A,0),1))","v":"un"},null,"",{"$f":"IF(ISNUMBER(F2360),E2360*F2360,\"\")","v":""},null,null,0]
[null,null,null,null,null,"",{"$f":"IF(ISNUMBER(F2361),E2361*F2361,\"\")","v":""},null,null,0]
[null,null,"Carpinteiro de esquadria com encargos complementares","h",1.002,19.3705,{"$f":"IF(ISNUMBER(F2362),E2362*F2362,\"\")","v":19.409241000000002},{"$f":"SUM(G2362:G2363)","v":26.700795000000003},null,0]
[null,null,"Servente com Encargos Complementares","h",0.501,14.554,{"$f":"IF(ISNUMBER(F2363),E2363*F2363,\"\")","v":7.2915540000000005},null,null,0]
[null,null,null,null,null,"",{"$f":"IF(ISNUMBER(F2364),E2364*F2364,\"\")","v":""},null,null,0]
["SF-00373",{"$f":"INDEX(Orçamentária!A:B,MATCH(Composições!A2365,Orçamentária!A:A,0),2)","v":"Mola hidráulica aérea"},null,{"$f":"TRIM(INDEX(Orçamentária!C:C,MATCH(Composições!A2365,Orçamentária!A:A,0),1))","v":"un"},null,"",{"$f":"IF(ISNUMBER(F2365),E2365*F2365,\"\")","v":""},null,null,0]
[null,null,null,null,null,"",{"$f":"IF(ISNUMBER(F2366),E2366*F2366,\"\")","v":""},null,null,0]
[null,null,"Marceneiro com encargos complementares","h",1,19.683999999999997,{"$f":"IF(ISNUMBER(F2367),E2367*F2367,\"\")","v":19.683999999999997},{"$f":"SUM(G2367:G2368)","v":19.683999999999997},null,0]
[null,null,"Mola aérea para fechamento automático de portas com regulagem da velocidade de fechamento. Ref.: Mola automática – Modelo 453 - Coimbra","un",1,"",{"$f":"IF(ISNUMBER(F2368),E2368*F2368,\"\")","v":""},null,null,0]
[null,null,null,null,null,"",{"$f":"IF(ISNUMBER(F2369),E2369*F2369,\"\")","v":""},null,null,0]
["SF-00374",{"$f":"INDEX(Orçamentária!A:B,MATCH(Composições!A2370,Orçamentária!A:A,0),2)","v":"Pivô em latão com acabamento cromado para portas pivotantes"},null,{"$f":"TRIM(INDEX(Orçamentária!C:C,MATCH(Composições!A2370,Orçamentária!A:A,0),1))","v":"un"},null,"",{"$f":"IF(ISNUMBER(F2370),E2370*F2370,\"\")","v":""},null,null,0]
[null,null,null,null,null,"",{"$f":"IF(ISNUMBER(F2371),E2371*F2371,\"\")","v":""},null,null,0]
[null,null,"Marceneiro com encargos complementares","h",{"$f":"1/2","v":0.5},19.683999999999997,{"$f":"IF(ISNUMBER(F2372),E2372*F2372,\"\")","v":9.8419999999999987},{"$f":"SUM(G2372:G2373)","v":9.8419999999999987},null,0]
[null,null,"Pivô em latão com acabamento cromado para portas pivotantes até 150 kg. Conjunto completo composto de superior macho e fêmea e inferior macho e fêmea. Ref.: Pivô Strong 150 - La fonte","un",1,"",{"$f":"IF(ISNUMBER(F2373),E2373*F2373,\"\")","v":""},null,null,0]
[null,null,null,null,null,"",{"$f":"IF(ISNUMBER(F2374),E2374*F2374,\"\")","v":""},null,null,0]
["SF-00375",{"$f":"INDEX(Orçamentária!A:B,MATCH(Composições!A2375,Orçamentária!A:A,0),2)","v":"Cabo de dados tipo UTP, tipo LSZH, categoria 6"},null,{"$f":"TRIM(INDEX(Orçamentária!C:C,MATCH(Composições!A2375,Orçamentária!A:A,0),1))","v":"m"},null,"",{"$f":"IF(ISNUMBER(F2375),E2375*F2375,\"\")","v":""},null,null,0]
[null,null,null,null,null,"",{"$f":"IF(ISNUMBER(F2376),E2376*F2376,\"\")","v":""},null,null,0]
[null,null,"Auxiliar de eletricista com encargos complementares","h",2.8E-3,15.447000000000001,{"$f":"IF(ISNUMBER(F2377),E2377*F2377,\"\")","v":4.3251600000000001E-2},{"$f":"SUM(G2377:G2379)","v":9.8260399999999998E-2},null,0]
[null,null,"Eletricista com encargos complementares","h",2.8E-3,19.645999999999997,{"$f":"IF(ISNUMBER(F2378),E2378*F2378,\"\")","v":5.500879999999999E-2},null,null,0]
[null,null,"Cabo de dados tipo UTP, tipo LSZH, categoria 6. Ref.: AMP 1989106-6, Furukawa 23400196","m",1.05,"",{"$f":"IF(ISNUMBER(F2379),E2379*F2379,\"\")","v":""},null,null,0]
[null,null,null,null,null,"",{"$f":"IF(ISNUMBER(F2380),E2380*F2380,\"\")","v":""},null,null,0]
["SF-00376",{"$f":"INDEX(Orçamentária!A:B,MATCH(Composições!A2381,Orçamentária!A:A,0),2)","v":"Módulo (tomada) de rede RJ45, categoria 6, com conectorização e certificação"},null,{"$f":"TRIM(INDEX(Orçamentária!C:C,MATCH(Composições!A2381,Orçamentária!A:A,0),1))","v":"un"},null,"",{"$f":"IF(ISNUMBER(F2381),E2381*F2381,\"\")","v":""},null,null,0]
[null,null,null,null,null,"",{"$f":"IF(ISNUMBER(F2382),E2382*F2382,\"\")","v":""},null,null,0]
[null,null,"Tampa p/ conector /RJ45. ref.: Schneider Electric PRM47761 (Padrão Keystone), Schneider Electric PRM47771 (Padrão AMP)","un ",1,"",{"$f":"IF(ISNUMBER(F2383),E2383*F2383,\"\")","v":""},{"$f":"SUM(G2383:G2387)","v":14.472353200000001},null,0]
[null,null,"Módulo RJ 45 - CAT 6. Ref.: AMP 1375055-2, Furukawa 35030621","un ",1,"",{"$f":"IF(ISNUMBER(F2384),E2384*F2384,\"\")","v":""},null,null,0]
[null,null,"Certificação de ponto de rede","un ",1,"",{"$f":"IF(ISNUMBER(F2385),E2385*F2385,\"\")","v":""},null,null,0]
[null,null,"Auxiliar de eletricista com encargos complementares","h",{"$f":"0.2062*2","v":0.41239999999999999},15.447000000000001,{"$f":"IF(ISNUMBER(F2386),E2386*F2386,\"\")","v":6.3703428000000004},null,null,0]
[null,null,"Eletricista com encargos complementares","h",{"$f":"0.2062*2","v":0.41239999999999999},19.645999999999997,{"$f":"IF(ISNUMBER(F2387),E2387*F2387,\"\")","v":8.1020103999999993},null,null,0]
[null,null,null,null,null,"",{"$f":"IF(ISNUMBER(F2388),E2388*F2388,\"\")","v":""},null,null,0]
["SF-00377",{"$f":"INDEX(Orçamentária!A:B,MATCH(Composições!A2389,Orçamentária!A:A,0),2)","v":"Painel de distribuição (patch panel) de 24 portas, categoria 6"},null,{"$f":"TRIM(INDEX(Orçamentária!C:C,MATCH(Composições!A2389,Orçamentária!A:A,0),1))","v":"un"},null,"",{"$f":"IF(ISNUMBER(F2389),E2389*F2389,\"\")","v":""},null,null,0]
[null,null,null,null,null,"",{"$f":"IF(ISNUMBER(F2390),E2390*F2390,\"\")","v":""},null,null,0]
[null,null,"Auxiliar de eletricista com encargos complementares","h",{"$f":"6.2007","v":6.2007000000000003},15.447000000000001,{"$f":"IF(ISNUMBER(F2391),E2391*F2391,\"\")","v":95.782212900000005},{"$f":"SUM(G2391:G2394)","v":217.6011651},null,0]
[null,null,"Eletricista com encargos complementares","h",{"$f":"6.2007","v":6.2007000000000003},19.645999999999997,{"$f":"IF(ISNUMBER(F2392),E2392*F2392,\"\")","v":121.81895219999998},null,null,0]
[null,null,"Painel de distribuição (patch panel) de 24 portas, categoria 6. Ref.: AMP 1375014-2","un",1,"",{"$f":"IF(ISNUMBER(F2393),E2393*F2393,\"\")","v":""},null,null,0]
[null,null,"Módulo RJ 45 - CAT 6. Ref.: AMP 1375055-2, Furukawa 35030621","un ",24,"",{"$f":"IF(ISNUMBER(F2394),E2394*F2394,\"\")","v":""},null,null,0]
[null,null,null,null,null,"",{"$f":"IF(ISNUMBER(F2395),E2395*F2395,\"\")","v":""},null,null,0]
["SF-00378",{"$f":"INDEX(Orçamentária!A:B,MATCH(Composições!A2396,Orçamentária!A:A,0),2)","v":"Cabo de telefonia tipo CCI 50x2"},null,{"$f":"TRIM(INDEX(Orçamentária!C:C,MATCH(Composições!A2396,Orçamentária!A:A,0),1))","v":"m"},null,"",{"$f":"IF(ISNUMBER(F2396),E2396*F2396,\"\")","v":""},null,null,0]
[null,null,null,null,null,"",{"$f":"IF(ISNUMBER(F2397),E2397*F2397,\"\")","v":""},null,null,0]
[null,null,"Auxiliar de eletricista com encargos complementares","h",6.4100000000000004E-2,15.447000000000001,{"$f":"IF(ISNUMBER(F2398),E2398*F2398,\"\")","v":0.99015270000000011},{"$f":"SUM(G2398:G2400)","v":3.2868613},null,0]
[null,null,"Eletricista com encargos complementares","h",6.4100000000000004E-2,19.645999999999997,{"$f":"IF(ISNUMBER(F2399),E2399*F2399,\"\")","v":1.2593086},null,null,0]
[null,null,"CABO TELEFONICO CCI 50, 2 PARES, USO INTERNO, SEM BLINDAGEM","m",1.05,0.98799999999999999,{"$f":"IF(ISNUMBER(F2400),E2400*F2400,\"\")","v":1.0374000000000001},null,null,0]
[null,null,null,null,null,"",{"$f":"IF(ISNUMBER(F2401),E2401*F2401,\"\")","v":""},null,null,0]
["SF-00379",{"$f":"INDEX(Orçamentária!A:B,MATCH(Composições!A2402,Orçamentária!A:A,0),2)","v":"Módulo (tomada) de rede RJ45, para telefonia"},null,{"$f":"TRIM(INDEX(Orçamentária!C:C,MATCH(Composições!A2402,Orçamentária!A:A,0),1))","v":"un"},null,"",{"$f":"IF(ISNUMBER(F2402),E2402*F2402,\"\")","v":""},null,null,0]
[null,null,null,null,null,"",{"$f":"IF(ISNUMBER(F2403),E2403*F2403,\"\")","v":""},null,null,0]
[null,null,"Tampa p/ conector /RJ45. ref.: Schneider Electric PRM47761 (padrão Keystone), Schneider Electric PRM47771 (padrão AMP)","un ",1,"",{"$f":"IF(ISNUMBER(F2404),E2404*F2404,\"\")","v":""},{"$f":"SUM(G2404:G2407)","v":35.527176600000004},null,0]
[null,null,"Tomada RJ45, 8 fios, CAT 5E (apenas modulo)","UN",1,28.291,{"$f":"IF(ISNUMBER(F2405),E2405*F2405,\"\")","v":28.291},null,null,0]
[null,null,"Auxiliar de eletricista com encargos complementares","h",0.20619999999999999,15.447000000000001,{"$f":"IF(ISNUMBER(F2406),E2406*F2406,\"\")","v":3.1851714000000002},null,null,0]
[null,null,"Eletricista com encargos complementares","h",0.20619999999999999,19.645999999999997,{"$f":"IF(ISNUMBER(F2407),E2407*F2407,\"\")","v":4.0510051999999996},null,null,0]
[null,null,null,null,null,"",{"$f":"IF(ISNUMBER(F2408),E2408*F2408,\"\")","v":""},null,null,0]
["SF-00380",{"$f":"INDEX(Orçamentária!A:B,MATCH(Composições!A2409,Orçamentária!A:A,0),2)","v":"Grelha para retorno para portas, divisórias e paredes 525x325 mm"},null,{"$f":"TRIM(INDEX(Orçamentária!C:C,MATCH(Composições!A2409,Orçamentária!A:A,0),1))","v":"un"},null,"",{"$f":"IF(ISNUMBER(F2409),E2409*F2409,\"\")","v":""},null,null,0]
[null,null,null,null,null,"",{"$f":"IF(ISNUMBER(F2410),E2410*F2410,\"\")","v":""},null,null,0]
[null,null,"Ajudante de operação em geral com encargos complementares","h",3.5,15.523,{"$f":"IF(ISNUMBER(F2411),E2411*F2411,\"\")","v":54.330500000000001},{"$f":"SUM(G2411:G2413)","v":125.4855},null,0]
[null,null,"MONTADOR ELETROMECÃNICO COM ENCARGOS COMPLEMENTARES","h",3.5,20.329999999999998,{"$f":"IF(ISNUMBER(F2412),E2412*F2412,\"\")","v":71.155000000000001},null,null,0]
[null,null,"Grelha para retorno para portas, divisórias e paredes 525x325 mm, Ref. Trox AGS-T","un ",1,"",{"$f":"IF(ISNUMBER(F2413),E2413*F2413,\"\")","v":""},null,null,0]
[null,null,null,null,null,"",{"$f":"IF(ISNUMBER(F2414),E2414*F2414,\"\")","v":""},null,null,0]
["SF-00408",{"$f":"INDEX(Orçamentária!A:B,MATCH(Composições!A2415,Orçamentária!A:A,0),2)","v":"Fechadura para Porta Externa com Espelho - Millenio"},null,{"$f":"TRIM(INDEX(Orçamentária!C:C,MATCH(Composições!A2415,Orçamentária!A:A,0),1))","v":"un"},null,"",{"$f":"IF(ISNUMBER(F2415),E2415*F2415,\"\")","v":""},null,null,0]
[null,null,null,null,null,"",{"$f":"IF(ISNUMBER(F2416),E2416*F2416,\"\")","v":""},null,null,0]
[null,null,"FECHADURA DE EMBUTIR PARA PORTA EXTERNA / ENTRADA, MAQUINA 40 MM, COM CILINDRO, MACANETA ALAVANCA E ESPELHO EM METAL CROMADO - NIVEL SEGURANCA MEDIO - COMPLETA","CJ",1,47.404999999999994,{"$f":"IF(ISNUMBER(F2417),E2417*F2417,\"\")","v":47.404999999999994},{"$f":"SUM(G2417:G2417)","v":47.404999999999994},null,0]
[null,null,null,null,null,"",{"$f":"IF(ISNUMBER(F2418),E2418*F2418,\"\")","v":""},null,null,0]
["SF-00467",{"$f":"INDEX(Orçamentária!A:B,MATCH(Composições!A2419,Orçamentária!A:A,0),2)","v":"Espuma Expansiva à base de poliuretano"},null,{"$f":"TRIM(INDEX(Orçamentária!C:C,MATCH(Composições!A2419,Orçamentária!A:A,0),1))","v":"500 ml"},null,"",{"$f":"IF(ISNUMBER(F2419),E2419*F2419,\"\")","v":""},null,null,0]
[null,null,null,null,null,"",{"$f":"IF(ISNUMBER(F2420),E2420*F2420,\"\")","v":""},null,null,0]
[null,null,"ESPUMA EXPANSIVA DE POLIURETANO, APLICACAO MANUAL - 500 ML","UN",1,19.9025,{"$f":"IF(ISNUMBER(F2421),E2421*F2421,\"\")","v":19.9025},{"$f":"SUM(G2421:G2421)","v":19.9025},null,0]
[null,null,null,null,null,"",{"$f":"IF(ISNUMBER(F2422),E2422*F2422,\"\")","v":""},null,null,0]
["SF-00563",{"$f":"INDEX(Orçamentária!A:B,MATCH(Composições!A2423,Orçamentária!A:A,0),2)","v":"Argamassa Para Contrapiso"},null,{"$f":"TRIM(INDEX(Orçamentária!C:C,MATCH(Composições!A2423,Orçamentária!A:A,0),1))","v":"40 kg"},null,"",{"$f":"IF(ISNUMBER(F2423),E2423*F2423,\"\")","v":""},null,null,0]
[null,null,null,null,null,"",{"$f":"IF(ISNUMBER(F2424),E2424*F2424,\"\")","v":""},null,null,0]
[null,null,"ARGAMASSA PRONTA PARA CONTRAPISO","kg",40,0.41799999999999998,{"$f":"IF(ISNUMBER(F2425),E2425*F2425,\"\")","v":16.72},{"$f":"SUM(G2425:G2425)","v":16.72},null,0]
[null,null,null,null,null,"",{"$f":"IF(ISNUMBER(F2426),E2426*F2426,\"\")","v":""},null,null,0]
["SF-00564",{"$f":"INDEX(Orçamentária!A:B,MATCH(Composições!A2427,Orçamentária!A:A,0),2)","v":"Argamassa Múltiplo Uso"},null,{"$f":"TRIM(INDEX(Orçamentária!C:C,MATCH(Composições!A2427,Orçamentária!A:A,0),1))","v":"40 kg"},null,"",{"$f":"IF(ISNUMBER(F2427),E2427*F2427,\"\")","v":""},null,null,0]
[null,null,null,null,null,"",{"$f":"IF(ISNUMBER(F2428),E2428*F2428,\"\")","v":""},null,null,0]
[null,null,"ARGAMASSA INDUSTRIALIZADA MULTIUSO, PARA REVESTIMENTO INTERNO E EXTERNO E ASSENTAMENTO DE BLOCOS DIVERSOS","kg",40,0.44649999999999995,{"$f":"IF(ISNUMBER(F2429),E2429*F2429,\"\")","v":17.86},{"$f":"SUM(G2429:G2429)","v":17.86},null,0]
[null,null,null,null,null,"",{"$f":"IF(ISNUMBER(F2430),E2430*F2430,\"\")","v":""},null,null,0]
["SF-00565",{"$f":"INDEX(Orçamentária!A:B,MATCH(Composições!A2431,Orçamentária!A:A,0),2)","v":"Cimento Portland CP II E 32"},null,{"$f":"TRIM(INDEX(Orçamentária!C:C,MATCH(Composições!A2431,Orçamentária!A:A,0),1))","v":"50 kg"},null,"",{"$f":"IF(ISNUMBER(F2431),E2431*F2431,\"\")","v":""},null,null,0]
[null,null,null,null,null,"",{"$f":"IF(ISNUMBER(F2432),E2432*F2432,\"\")","v":""},null,null,0]
[null,null,"CIMENTO PORTLAND COMPOSTO CP II-32","kg",50,0.44649999999999995,{"$f":"IF(ISNUMBER(F2433),E2433*F2433,\"\")","v":22.324999999999999},{"$f":"SUM(G2433:G2433)","v":22.324999999999999},null,0]
[null,null,null,null,null,"",{"$f":"IF(ISNUMBER(F2434),E2434*F2434,\"\")","v":""},null,null,0]
["SF-00566",{"$f":"INDEX(Orçamentária!A:B,MATCH(Composições!A2435,Orçamentária!A:A,0),2)","v":"Argamassa Colante tipo AC III"},null,{"$f":"TRIM(INDEX(Orçamentária!C:C,MATCH(Composições!A2435,Orçamentária!A:A,0),1))","v":"20 kg"},null,"",{"$f":"IF(ISNUMBER(F2435),E2435*F2435,\"\")","v":""},null,null,0]
[null,null,null,null,null,"",{"$f":"IF(ISNUMBER(F2436),E2436*F2436,\"\")","v":""},null,null,0]
[null,null,"Argamassa colante tipo AC III","kg",20,1.254,{"$f":"IF(ISNUMBER(F2437),E2437*F2437,\"\")","v":25.08},{"$f":"SUM(G2437:G2437)","v":25.08},null,0]
[null,null,null,null,null,"",{"$f":"IF(ISNUMBER(F2438),E2438*F2438,\"\")","v":""},null,null,0]
["SF-00567",{"$f":"INDEX(Orçamentária!A:B,MATCH(Composições!A2439,Orçamentária!A:A,0),2)","v":"Gesso Para Uso Geral"},null,{"$f":"TRIM(INDEX(Orçamentária!C:C,MATCH(Composições!A2439,Orçamentária!A:A,0),1))","v":"40 kg"},null,"",{"$f":"IF(ISNUMBER(F2439),E2439*F2439,\"\")","v":""},null,null,0]
[null,null,null,null,null,"",{"$f":"IF(ISNUMBER(F2440),E2440*F2440,\"\")","v":""},null,null,0]
[null,null,"GESSO EM PO PARA REVESTIMENTOS/MOLDURAS/SANCAS","kg",40,0.57950000000000002,{"$f":"IF(ISNUMBER(F2441),E2441*F2441,\"\")","v":23.18},{"$f":"SUM(G2441:G2441)","v":23.18},null,0]
[null,null,null,null,null,"",{"$f":"IF(ISNUMBER(F2442),E2442*F2442,\"\")","v":""},null,null,0]
["SF-00568",{"$f":"INDEX(Orçamentária!A:B,MATCH(Composições!A2443,Orçamentária!A:A,0),2)","v":"Areia Média"},null,{"$f":"TRIM(INDEX(Orçamentária!C:C,MATCH(Composições!A2443,Orçamentária!A:A,0),1))","v":"m3"},null,"",{"$f":"IF(ISNUMBER(F2443),E2443*F2443,\"\")","v":""},null,null,0]
[null,null,null,null,null,"",{"$f":"IF(ISNUMBER(F2444),E2444*F2444,\"\")","v":""},null,null,0]
[null,null,"AREIA MEDIA - POSTO JAZIDA/FORNECEDOR (RETIRADO NA JAZIDA, SEM TRANSPORTE)","m3",1,93.8125,{"$f":"IF(ISNUMBER(F2445),E2445*F2445,\"\")","v":93.8125},{"$f":"SUM(G2445:G2447)","v":118.54220745000001},null,0]
[null,null,"CARGA, MANOBRA E DESCARGA DE SOLOS E MATERIAIS GRANULARES EM CAMINHÃO BASCULANTE 6 M³ - CARGA COM PÁ CARREGADEIRA (CAÇAMBA DE 1,7 A 2,8 M³ / 128 HP) E DESCARGA LIVRE (UNIDADE: M3). AF_07/2020","m3",{"$f":"E2445","v":1},4.6197654500000001,{"$f":"IF(ISNUMBER(F2446),E2446*F2446,\"\")","v":4.6197654500000001},null,null,0]
[null,null,"TRANSPORTE COM CAMINHÃO BASCULANTE DE 6 M3, EM VIA URBANA PAVIMENTADA, DMT ATÉ 30 KM (UNIDADE: TxKM). AF_01/2018","TxKM",{"$f":"E2445*20","v":20},1.0054970999999999,{"$f":"IF(ISNUMBER(F2447),E2447*F2447,\"\")","v":20.109941999999997},null,null,0]
[null,null,null,null,null,"",{"$f":"IF(ISNUMBER(F2448),E2448*F2448,\"\")","v":""},null,null,0]
[null,null,"Obs.: Considerando fornecedor de areia a 20 km do Senado Federal.",null,null,"",{"$f":"IF(ISNUMBER(F2449),E2449*F2449,\"\")","v":""},null,null,0]
[null,null,null,null,null,"",{"$f":"IF(ISNUMBER(F2450),E2450*F2450,\"\")","v":""},null,null,0]
["SF-00569",{"$f":"INDEX(Orçamentária!A:B,MATCH(Composições!A2451,Orçamentária!A:A,0),2)","v":"Brita Nº 0"},null,{"$f":"TRIM(INDEX(Orçamentária!C:C,MATCH(Composições!A2451,Orçamentária!A:A,0),1))","v":"m3"},null,"",{"$f":"IF(ISNUMBER(F2451),E2451*F2451,\"\")","v":""},null,null,0]
[null,null,null,null,null,"",{"$f":"IF(ISNUMBER(F2452),E2452*F2452,\"\")","v":""},null,null,0]
[null,null,"PEDRA BRITADA N. 0, OU PEDRISCO (4,8 A 9,5 MM) POSTO PEDREIRA/FORNECEDOR, SEM FRETE","m3",1,97.042500000000004,{"$f":"IF(ISNUMBER(F2453),E2453*F2453,\"\")","v":97.042500000000004},{"$f":"SUM(G2453:G2455)","v":121.77220745},null,0]
[null,null,"CARGA, MANOBRA E DESCARGA DE SOLOS E MATERIAIS GRANULARES EM CAMINHÃO BASCULANTE 6 M³ - CARGA COM PÁ CARREGADEIRA (CAÇAMBA DE 1,7 A 2,8 M³ / 128 HP) E DESCARGA LIVRE (UNIDADE: M3). AF_07/2020","m3",{"$f":"E2453","v":1},4.6197654500000001,{"$f":"IF(ISNUMBER(F2454),E2454*F2454,\"\")","v":4.6197654500000001},null,null,0]
[null,null,"TRANSPORTE COM CAMINHÃO BASCULANTE DE 6 M3, EM VIA URBANA PAVIMENTADA, DMT ATÉ 30 KM (UNIDADE: TxKM). AF_01/2018","TxKM",{"$f":"E2453*20","v":20},1.0054970999999999,{"$f":"IF(ISNUMBER(F2455),E2455*F2455,\"\")","v":20.109941999999997},null,null,0]
[null,null,null,null,null,"",{"$f":"IF(ISNUMBER(F2456),E2456*F2456,\"\")","v":""},null,null,0]
[null,null,"Obs.: Considerando fornecedor de brita a 20 km do Senado Federal.",null,null,"",{"$f":"IF(ISNUMBER(F2457),E2457*F2457,\"\")","v":""},null,null,0]
[null,null,null,null,null,"",{"$f":"IF(ISNUMBER(F2458),E2458*F2458,\"\")","v":""},null,null,0]
["SF-00570",{"$f":"INDEX(Orçamentária!A:B,MATCH(Composições!A2459,Orçamentária!A:A,0),2)","v":"Brita Nº 1"},null,{"$f":"TRIM(INDEX(Orçamentária!C:C,MATCH(Composições!A2459,Orçamentária!A:A,0),1))","v":"m3"},null,"",{"$f":"IF(ISNUMBER(F2459),E2459*F2459,\"\")","v":""},null,null,0]
[null,null,null,null,null,"",{"$f":"IF(ISNUMBER(F2460),E2460*F2460,\"\")","v":""},null,null,0]
[null,null,"PEDRA BRITADA N. 1 (9,5 a 19 MM) POSTO PEDREIRA/FORNECEDOR, SEM FRETE","m3",1,76,{"$f":"IF(ISNUMBER(F2461),E2461*F2461,\"\")","v":76},{"$f":"SUM(G2461:G2463)","v":100.72970745000001},null,0]
[null,null,"CARGA, MANOBRA E DESCARGA DE SOLOS E MATERIAIS GRANULARES EM CAMINHÃO BASCULANTE 6 M³ - CARGA COM PÁ CARREGADEIRA (CAÇAMBA DE 1,7 A 2,8 M³ / 128 HP) E DESCARGA LIVRE (UNIDADE: M3). AF_07/2020","m3",{"$f":"E2461","v":1},4.6197654500000001,{"$f":"IF(ISNUMBER(F2462),E2462*F2462,\"\")","v":4.6197654500000001},null,null,0]
[null,null,"TRANSPORTE COM CAMINHÃO BASCULANTE DE 6 M3, EM VIA URBANA PAVIMENTADA, DMT ATÉ 30 KM (UNIDADE: TxKM). AF_01/2018","TxKM",{"$f":"E2461*20","v":20},1.0054970999999999,{"$f":"IF(ISNUMBER(F2463),E2463*F2463,\"\")","v":20.109941999999997},null,null,0]
[null,null,null,null,null,"",{"$f":"IF(ISNUMBER(F2464),E2464*F2464,\"\")","v":""},null,null,0]
[null,null,"Obs.: Considerando fornecedor de brita a 20 km do Senado Federal.",null,null,"",{"$f":"IF(ISNUMBER(F2465),E2465*F2465,\"\")","v":""},null,null,0]
[null,null,null,null,null,"",{"$f":"IF(ISNUMBER(F2466),E2466*F2466,\"\")","v":""},null,null,0]
["SF-00571",{"$f":"INDEX(Orçamentária!A:B,MATCH(Composições!A2467,Orçamentária!A:A,0),2)","v":"Bloco Cerâmico De 08 Furos"},null,{"$f":"TRIM(INDEX(Orçamentária!C:C,MATCH(Composições!A2467,Orçamentária!A:A,0),1))","v":"un"},null,"",{"$f":"IF(ISNUMBER(F2467),E2467*F2467,\"\")","v":""},null,null,0]
[null,null,null,null,null,"",{"$f":"IF(ISNUMBER(F2468),E2468*F2468,\"\")","v":""},null,null,0]
[null,null,"BLOCO CERAMICO VAZADO PARA ALVENARIA DE VEDACAO, DE 9 X 19 X 19 CM (L X A X C)","mil",{"$f":"1/1000","v":1E-3},690.96349999999995,{"$f":"IF(ISNUMBER(F2469),E2469*F2469,\"\")","v":0.69096349999999995},{"$f":"SUM(G2469:G2469)","v":0.69096349999999995},null,0]
[null,null,null,null,null,"",{"$f":"IF(ISNUMBER(F2470),E2470*F2470,\"\")","v":""},null,null,0]
["SF-00572",{"$f":"INDEX(Orçamentária!A:B,MATCH(Composições!A2471,Orçamentária!A:A,0),2)","v":"Tijolo Maciço"},null,{"$f":"TRIM(INDEX(Orçamentária!C:C,MATCH(Composições!A2471,Orçamentária!A:A,0),1))","v":"un"},null,"",{"$f":"IF(ISNUMBER(F2471),E2471*F2471,\"\")","v":""},null,null,0]
[null,null,null,null,null,"",{"$f":"IF(ISNUMBER(F2472),E2472*F2472,\"\")","v":""},null,null,0]
[null,null,"TIJOLO CERAMICO MACICO COMUM *5 X 10 X 20* CM (L X A X C)","UN",1,0.58899999999999997,{"$f":"IF(ISNUMBER(F2473),E2473*F2473,\"\")","v":0.58899999999999997},{"$f":"SUM(G2473:G2473)","v":0.58899999999999997},null,0]
[null,null,null,null,null,"",{"$f":"IF(ISNUMBER(F2474),E2474*F2474,\"\")","v":""},null,null,0]
["SF-00573",{"$f":"INDEX(Orçamentária!A:B,MATCH(Composições!A2475,Orçamentária!A:A,0),2)","v":"Bloco De Concreto Com 02 Furos"},null,{"$f":"TRIM(INDEX(Orçamentária!C:C,MATCH(Composições!A2475,Orçamentária!A:A,0),1))","v":"un"},null,"",{"$f":"IF(ISNUMBER(F2475),E2475*F2475,\"\")","v":""},null,null,0]
[null,null,null,null,null,"",{"$f":"IF(ISNUMBER(F2476),E2476*F2476,\"\")","v":""},null,null,0]
[null,null,"BLOCO DE CONCRETO ESTRUTURAL 9 X 19 X 39 CM, FBK 4,5 MPA (NBR 6136)","UN",1,1.6909999999999998,{"$f":"IF(ISNUMBER(F2477),E2477*F2477,\"\")","v":1.6909999999999998},{"$f":"SUM(G2477:G2477)","v":1.6909999999999998},null,0]
[null,null,null,null,null,"",{"$f":"IF(ISNUMBER(F2478),E2478*F2478,\"\")","v":""},null,null,0]
["SF-00574",{"$f":"INDEX(Orçamentária!A:B,MATCH(Composições!A2479,Orçamentária!A:A,0),2)","v":"Bloco De Concreto Tipo Canaleta"},null,{"$f":"TRIM(INDEX(Orçamentária!C:C,MATCH(Composições!A2479,Orçamentária!A:A,0),1))","v":"un"},null,"",{"$f":"IF(ISNUMBER(F2479),E2479*F2479,\"\")","v":""},null,null,0]
[null,null,null,null,null,"",{"$f":"IF(ISNUMBER(F2480),E2480*F2480,\"\")","v":""},null,null,0]
[null,null,"Bloco de concreto tipo canaleta 11,5 x 19 x 39 cm","un ",1,0,{"$f":"IF(ISNUMBER(F2481),E2481*F2481,\"\")","v":0},{"$f":"SUM(G2481:G2481)","v":0},null,0]
[null,null,null,null,null,"",{"$f":"IF(ISNUMBER(F2482),E2482*F2482,\"\")","v":""},null,null,0]
["SF-00575",{"$f":"INDEX(Orçamentária!A:B,MATCH(Composições!A2483,Orçamentária!A:A,0),2)","v":"Vergalhão Ca-60 Diâmetro 5,0 Mm"},null,{"$f":"TRIM(INDEX(Orçamentária!C:C,MATCH(Composições!A2483,Orçamentária!A:A,0),1))","v":"m"},null,"",{"$f":"IF(ISNUMBER(F2483),E2483*F2483,\"\")","v":""},null,null,0]
[null,null,null,null,null,"",{"$f":"IF(ISNUMBER(F2484),E2484*F2484,\"\")","v":""},null,null,0]
[null,null,"TIJOLO CERAMICO MACICO COMUM *5 X 10 X 20* CM (L X A X C)","UN",1,0.58899999999999997,{"$f":"IF(ISNUMBER(F2485),E2485*F2485,\"\")","v":0.58899999999999997},{"$f":"SUM(G2485:G2485)","v":0.58899999999999997},null,0]
[null,null,null,null,null,"",{"$f":"IF(ISNUMBER(F2486),E2486*F2486,\"\")","v":""},null,null,0]
["SF-00576",{"$f":"INDEX(Orçamentária!A:B,MATCH(Composições!A2487,Orçamentária!A:A,0),2)","v":"Vergalhão Ca-50 Diâmetro 6,3 Mm"},null,{"$f":"TRIM(INDEX(Orçamentária!C:C,MATCH(Composições!A2487,Orçamentária!A:A,0),1))","v":"m"},null,"",{"$f":"IF(ISNUMBER(F2487),E2487*F2487,\"\")","v":""},null,null,0]
[null,null,null,null,null,"",{"$f":"IF(ISNUMBER(F2488),E2488*F2488,\"\")","v":""},null,null,0]
[null,null,"ACO CA-50, 6,3 MM, VERGALHAO","kg",0.245,5.8425000000000002,{"$f":"IF(ISNUMBER(F2489),E2489*F2489,\"\")","v":1.4314125},{"$f":"SUM(G2489:G2489)","v":1.4314125},null,0]
[null,null,null,null,null,"",{"$f":"IF(ISNUMBER(F2490),E2490*F2490,\"\")","v":""},null,null,0]
["SF-00577",{"$f":"INDEX(Orçamentária!A:B,MATCH(Composições!A2491,Orçamentária!A:A,0),2)","v":"Vergalhão Ca-50 Diâmetro 8,0 Mm"},null,{"$f":"TRIM(INDEX(Orçamentária!C:C,MATCH(Composições!A2491,Orçamentária!A:A,0),1))","v":"m"},null,"",{"$f":"IF(ISNUMBER(F2491),E2491*F2491,\"\")","v":""},null,null,0]
[null,null,null,null,null,"",{"$f":"IF(ISNUMBER(F2492),E2492*F2492,\"\")","v":""},null,null,0]
[null,null,"ACO CA-50, 8,0 MM, VERGALHAO","kg",0.39500000000000002,5.8709999999999996,{"$f":"IF(ISNUMBER(F2493),E2493*F2493,\"\")","v":2.319045},{"$f":"SUM(G2493:G2493)","v":2.319045},null,0]
[null,null,null,null,null,"",{"$f":"IF(ISNUMBER(F2494),E2494*F2494,\"\")","v":""},null,null,0]
["SF-00578",{"$f":"INDEX(Orçamentária!A:B,MATCH(Composições!A2495,Orçamentária!A:A,0),2)","v":"Vergalhão Ca-50 Diâmetro 10,0 Mm"},null,{"$f":"TRIM(INDEX(Orçamentária!C:C,MATCH(Composições!A2495,Orçamentária!A:A,0),1))","v":"m"},null,"",{"$f":"IF(ISNUMBER(F2495),E2495*F2495,\"\")","v":""},null,null,0]
[null,null,null,null,null,"",{"$f":"IF(ISNUMBER(F2496),E2496*F2496,\"\")","v":""},null,null,0]
[null,null,"ACO CA-50, 10,0 MM, VERGALHAO","kg",0.61699999999999999,5.5385,{"$f":"IF(ISNUMBER(F2497),E2497*F2497,\"\")","v":3.4172544999999999},{"$f":"SUM(G2497:G2497)","v":3.4172544999999999},null,0]
[null,null,null,null,null,"",{"$f":"IF(ISNUMBER(F2498),E2498*F2498,\"\")","v":""},null,null,0]
["SF-00579",{"$f":"INDEX(Orçamentária!A:B,MATCH(Composições!A2499,Orçamentária!A:A,0),2)","v":"Vergalhão Ca-50 Diâmetro 12,5 Mm"},null,{"$f":"TRIM(INDEX(Orçamentária!C:C,MATCH(Composições!A2499,Orçamentária!A:A,0),1))","v":"m"},null,"",{"$f":"IF(ISNUMBER(F2499),E2499*F2499,\"\")","v":""},null,null,0]
[null,null,null,null,null,"",{"$f":"IF(ISNUMBER(F2500),E2500*F2500,\"\")","v":""},null,null,0]
[null,null,"ACO CA-50, 12,5 MM OU 16,0 MM, VERGALHAO","kg",0.96299999999999997,4.7974999999999994,{"$f":"IF(ISNUMBER(F2501),E2501*F2501,\"\")","v":4.6199924999999995},{"$f":"SUM(G2501:G2501)","v":4.6199924999999995},null,0]
[null,null,null,null,null,"",{"$f":"IF(ISNUMBER(F2502),E2502*F2502,\"\")","v":""},null,null,0]
["SF-00580",{"$f":"INDEX(Orçamentária!A:B,MATCH(Composições!A2503,Orçamentária!A:A,0),2)","v":"Arame Recozido Nº 18"},null,{"$f":"TRIM(INDEX(Orçamentária!C:C,MATCH(Composições!A2503,Orçamentária!A:A,0),1))","v":"kg"},null,"",{"$f":"IF(ISNUMBER(F2503),E2503*F2503,\"\")","v":""},null,null,0]
[null,null,null,null,null,"",{"$f":"IF(ISNUMBER(F2504),E2504*F2504,\"\")","v":""},null,null,0]
[null,null,"ARAME RECOZIDO 16 BWG, D = 1,65 MM (0,016 KG/M) OU 18 BWG, D = 1,25 MM (0,01 KG/M)","kg",1,13.281000000000001,{"$f":"IF(ISNUMBER(F2505),E2505*F2505,\"\")","v":13.281000000000001},{"$f":"SUM(G2505:G2505)","v":13.281000000000001},null,0]
[null,null,null,null,null,"",{"$f":"IF(ISNUMBER(F2506),E2506*F2506,\"\")","v":""},null,null,0]
["SF-00581",{"$f":"INDEX(Orçamentária!A:B,MATCH(Composições!A2507,Orçamentária!A:A,0),2)","v":"Adesivo Estrutural Epóxi Bicomponente"},null,{"$f":"TRIM(INDEX(Orçamentária!C:C,MATCH(Composições!A2507,Orçamentária!A:A,0),1))","v":"kg"},null,"",{"$f":"IF(ISNUMBER(F2507),E2507*F2507,\"\")","v":""},null,null,0]
[null,null,null,null,null,"",{"$f":"IF(ISNUMBER(F2508),E2508*F2508,\"\")","v":""},null,null,0]
[null,null,"ADESIVO ESTRUTURAL A BASE DE RESINA EPOXI, BICOMPONENTE, PASTOSO (TIXOTROPICO)","kg",1,32.271499999999996,{"$f":"IF(ISNUMBER(F2509),E2509*F2509,\"\")","v":32.271499999999996},{"$f":"SUM(G2509:G2509)","v":32.271499999999996},null,0]
[null,null,null,null,null,"",{"$f":"IF(ISNUMBER(F2510),E2510*F2510,\"\")","v":""},null,null,0]
["SF-00588",{"$f":"INDEX(Orçamentária!A:B,MATCH(Composições!A2511,Orçamentária!A:A,0),2)","v":"Aditivo Impermeabilizante"},null,{"$f":"TRIM(INDEX(Orçamentária!C:C,MATCH(Composições!A2511,Orçamentária!A:A,0),1))","v":"L"},null,"",{"$f":"IF(ISNUMBER(F2511),E2511*F2511,\"\")","v":""},null,null,0]
[null,null,null,null,null,"",{"$f":"IF(ISNUMBER(F2512),E2512*F2512,\"\")","v":""},null,null,0]
[null,null,"ADITIVO IMPERMEABILIZANTE DE PEGA NORMAL PARA ARGAMASSAS E CONCRETOS SEM ARMACAO, LIQUIDO E ISENTO DE CLORETOS","L",1,5.0919999999999996,{"$f":"IF(ISNUMBER(F2513),E2513*F2513,\"\")","v":5.0919999999999996},{"$f":"SUM(G2513:G2513)","v":5.0919999999999996},null,0]
[null,null,null,null,null,"",{"$f":"IF(ISNUMBER(F2514),E2514*F2514,\"\")","v":""},null,null,0]
["SF-00708",{"$f":"INDEX(Orçamentária!A:B,MATCH(Composições!A2515,Orçamentária!A:A,0),2)","v":"Supervisor(a)-Geral"},null,{"$f":"TRIM(INDEX(Orçamentária!C:C,MATCH(Composições!A2515,Orçamentária!A:A,0),1))","v":"Profissional"},null,"",{"$f":"IF(ISNUMBER(F2515),E2515*F2515,\"\")","v":""},null,null,0]
[null,null,null,null,null,"",{"$f":"IF(ISNUMBER(F2516),E2516*F2516,\"\")","v":""},null,null,0]
[null,null,"ENGENHEIRO CIVIL DE OBRA PLENO COM ENCARGOS COMPLEMENTARES","h",{"$f":"ROUND(220/(1+112.85%),4)","v":103.3592},81.338999999999999,{"$f":"IF(ISNUMBER(F2517),E2517*F2517,\"\")","v":8407.1339688000007},{"$f":"SUM(G2517:G2517)","v":8407.1339688000007},null,0]
[null,null,null,null,null,"",{"$f":"IF(ISNUMBER(F2518),E2518*F2518,\"\")","v":""},null,null,0]
[null,null,"Obs: considerando 220h/mês e encargos sociais indicados na tabela do SINAPI.",null,null,"",{"$f":"IF(ISNUMBER(F2519),E2519*F2519,\"\")","v":""},null,null,0]
[null,null,null,null,null,"",{"$f":"IF(ISNUMBER(F2520),E2520*F2520,\"\")","v":""},null,null,0]
["SF-00709",{"$f":"INDEX(Orçamentária!A:B,MATCH(Composições!A2521,Orçamentária!A:A,0),2)","v":"Apoio Técnico Administrativo – Controle de Almoxarifado"},null,{"$f":"TRIM(INDEX(Orçamentária!C:C,MATCH(Composições!A2521,Orçamentária!A:A,0),1))","v":"Profissional"},null,"",{"$f":"IF(ISNUMBER(F2521),E2521*F2521,\"\")","v":""},null,null,0]
[null,null,null,null,null,"",{"$f":"IF(ISNUMBER(F2522),E2522*F2522,\"\")","v":""},null,null,0]
[null,null,"ALMOXARIFE COM ENCARGOS COMPLEMENTARES","h",{"$f":"ROUND(220/(1+112.85%),4)","v":103.3592},21.963999999999999,{"$f":"IF(ISNUMBER(F2523),E2523*F2523,\"\")","v":2270.1814687999999},{"$f":"SUM(G2523:G2523)","v":2270.1814687999999},null,0]
[null,null,null,null,null,"",{"$f":"IF(ISNUMBER(F2524),E2524*F2524,\"\")","v":""},null,null,0]
[null,null,"Obs: considerando 220h/mês e encargos sociais indicados na tabela do SINAPI.",null,null,"",{"$f":"IF(ISNUMBER(F2525),E2525*F2525,\"\")","v":""},null,null,0]
[null,null,null,null,null,"",{"$f":"IF(ISNUMBER(F2526),E2526*F2526,\"\")","v":""},null,null,0]
["SF-00710",{"$f":"INDEX(Orçamentária!A:B,MATCH(Composições!A2527,Orçamentária!A:A,0),2)","v":"Ajudante de Serviços Gerais"},null,{"$f":"TRIM(INDEX(Orçamentária!C:C,MATCH(Composições!A2527,Orçamentária!A:A,0),1))","v":"Profissional"},null,"",{"$f":"IF(ISNUMBER(F2527),E2527*F2527,\"\")","v":""},null,null,0]
[null,null,null,null,null,"",{"$f":"IF(ISNUMBER(F2528),E2528*F2528,\"\")","v":""},null,null,0]
[null,null,"SERVENTE COM ENCARGOS COMPLEMENTARES","h",{"$f":"ROUND(220/(1+112.85%),4)","v":103.3592},14.554,{"$f":"IF(ISNUMBER(F2529),E2529*F2529,\"\")","v":1504.2897968},{"$f":"SUM(G2529:G2529)","v":1504.2897968},null,0]
[null,null,null,null,null,"",{"$f":"IF(ISNUMBER(F2530),E2530*F2530,\"\")","v":""},null,null,0]
[null,null,"Obs: considerando 220h/mês e encargos sociais indicados na tabela do SINAPI.",null,null,"",{"$f":"IF(ISNUMBER(F2531),E2531*F2531,\"\")","v":""},null,null,0]
[null,null,null,null,null,"",{"$f":"IF(ISNUMBER(F2532),E2532*F2532,\"\")","v":""},null,null,0]
["SF-00711",{"$f":"INDEX(Orçamentária!A:B,MATCH(Composições!A2533,Orçamentária!A:A,0),2)","v":"Ajudante de Marceneiro(a)"},null,{"$f":"TRIM(INDEX(Orçamentária!C:C,MATCH(Composições!A2533,Orçamentária!A:A,0),1))","v":"Profissional"},null,"",{"$f":"IF(ISNUMBER(F2533),E2533*F2533,\"\")","v":""},null,null,0]
[null,null,null,null,null,"",{"$f":"IF(ISNUMBER(F2534),E2534*F2534,\"\")","v":""},null,null,0]
[null,null,"AJUDANTE DE CARPINTEIRO COM ENCARGOS COMPLEMENTARES","h",{"$f":"ROUND(220/(1+112.85%),4)","v":103.3592},16.416,{"$f":"IF(ISNUMBER(F2535),E2535*F2535,\"\")","v":1696.7446272},{"$f":"SUM(G2535:G2535)","v":1696.7446272},null,0]
[null,null,null,null,null,"",{"$f":"IF(ISNUMBER(F2536),E2536*F2536,\"\")","v":""},null,null,0]
[null,null,"Obs: considerando 220h/mês e encargos sociais indicados na tabela do SINAPI.",null,null,"",{"$f":"IF(ISNUMBER(F2537),E2537*F2537,\"\")","v":""},null,null,0]
[null,null,null,null,null,"",{"$f":"IF(ISNUMBER(F2538),E2538*F2538,\"\")","v":""},null,null,0]
["SF-00712",{"$f":"INDEX(Orçamentária!A:B,MATCH(Composições!A2539,Orçamentária!A:A,0),2)","v":"Ajudante de Serralheiro(a)"},null,{"$f":"TRIM(INDEX(Orçamentária!C:C,MATCH(Composições!A2539,Orçamentária!A:A,0),1))","v":"Profissional"},null,"",{"$f":"IF(ISNUMBER(F2539),E2539*F2539,\"\")","v":""},null,null,0]
[null,null,null,null,null,"",{"$f":"IF(ISNUMBER(F2540),E2540*F2540,\"\")","v":""},null,null,0]
[null,null,"AUXILIAR DE SERRALHEIRO COM ENCARGOS COMPLEMENTARES","h",{"$f":"ROUND(220/(1+112.85%),4)","v":103.3592},15.883999999999999,{"$f":"IF(ISNUMBER(F2541),E2541*F2541,\"\")","v":1641.7575327999998},{"$f":"SUM(G2541:G2541)","v":1641.7575327999998},null,0]
[null,null,null,null,null,"",{"$f":"IF(ISNUMBER(F2542),E2542*F2542,\"\")","v":""},null,null,0]
[null,null,"Obs: considerando 220h/mês e encargos sociais indicados na tabela do SINAPI.",null,null,"",{"$f":"IF(ISNUMBER(F2543),E2543*F2543,\"\")","v":""},null,null,0]
[null,null,null,null,null,"",{"$f":"IF(ISNUMBER(F2544),E2544*F2544,\"\")","v":""},null,null,0]
["SF-00713",{"$f":"INDEX(Orçamentária!A:B,MATCH(Composições!A2545,Orçamentária!A:A,0),2)","v":"Lustrador(a) de Móveis"},null,{"$f":"TRIM(INDEX(Orçamentária!C:C,MATCH(Composições!A2545,Orçamentária!A:A,0),1))","v":"Profissional"},null,"",{"$f":"IF(ISNUMBER(F2545),E2545*F2545,\"\")","v":""},null,null,0]
[null,null,null,null,null,"",{"$f":"IF(ISNUMBER(F2546),E2546*F2546,\"\")","v":""},null,null,0]
[null,null,"Marceneiro com encargos complementares","h",{"$f":"ROUND(220/(1+112.85%),4)","v":103.3592},19.683999999999997,{"$f":"IF(ISNUMBER(F2547),E2547*F2547,\"\")","v":2034.5224927999998},{"$f":"SUM(G2547:G2547)","v":2034.5224927999998},null,0]
[null,null,null,null,null,"",{"$f":"IF(ISNUMBER(F2548),E2548*F2548,\"\")","v":""},null,null,0]
[null,null,"Obs: considerando 220h/mês e encargos sociais indicados na tabela do SINAPI.",null,null,"",{"$f":"IF(ISNUMBER(F2549),E2549*F2549,\"\")","v":""},null,null,0]
[null,null,null,null,null,"",{"$f":"IF(ISNUMBER(F2550),E2550*F2550,\"\")","v":""},null,null,0]
["SF-00714",{"$f":"INDEX(Orçamentária!A:B,MATCH(Composições!A2551,Orçamentária!A:A,0),2)","v":"Marceneiro(a)"},null,{"$f":"TRIM(INDEX(Orçamentária!C:C,MATCH(Composições!A2551,Orçamentária!A:A,0),1))","v":"Profissional"},null,"",{"$f":"IF(ISNUMBER(F2551),E2551*F2551,\"\")","v":""},null,null,0]
[null,null,null,null,null,"",{"$f":"IF(ISNUMBER(F2552),E2552*F2552,\"\")","v":""},null,null,0]
[null,null,"Marceneiro com encargos complementares","h",{"$f":"ROUND(220/(1+112.85%),4)","v":103.3592},19.683999999999997,{"$f":"IF(ISNUMBER(F2553),E2553*F2553,\"\")","v":2034.5224927999998},{"$f":"SUM(G2553:G2553)","v":2034.5224927999998},null,0]
[null,null,null,null,null,"",{"$f":"IF(ISNUMBER(F2554),E2554*F2554,\"\")","v":""},null,null,0]
[null,null,"Obs: considerando 220h/mês e encargos sociais indicados na tabela do SINAPI.",null,null,"",{"$f":"IF(ISNUMBER(F2555),E2555*F2555,\"\")","v":""},null,null,0]
[null,null,null,null,null,"",{"$f":"IF(ISNUMBER(F2556),E2556*F2556,\"\")","v":""},null,null,0]
["SF-00715",{"$f":"INDEX(Orçamentária!A:B,MATCH(Composições!A2557,Orçamentária!A:A,0),2)","v":"Serralheiro(a)"},null,{"$f":"TRIM(INDEX(Orçamentária!C:C,MATCH(Composições!A2557,Orçamentária!A:A,0),1))","v":"Profissional"},null,"",{"$f":"IF(ISNUMBER(F2557),E2557*F2557,\"\")","v":""},null,null,0]
[null,null,null,null,null,"",{"$f":"IF(ISNUMBER(F2558),E2558*F2558,\"\")","v":""},null,null,0]
[null,null,"Serralheiro com encargos complementares","h",{"$f":"ROUND(220/(1+112.85%),4)","v":103.3592},19.38,{"$f":"IF(ISNUMBER(F2559),E2559*F2559,\"\")","v":2003.1012959999998},{"$f":"SUM(G2559:G2559)","v":2003.1012959999998},null,0]
[null,null,null,null,null,"",{"$f":"IF(ISNUMBER(F2560),E2560*F2560,\"\")","v":""},null,null,0]
[null,null,"Obs: considerando 220h/mês e encargos sociais indicados na tabela do SINAPI.",null,null,"",{"$f":"IF(ISNUMBER(F2561),E2561*F2561,\"\")","v":""},null,null,0]
[null,null,null,null,null,"",{"$f":"IF(ISNUMBER(F2562),E2562*F2562,\"\")","v":""},null,null,0]
["SF-00716",{"$f":"INDEX(Orçamentária!A:B,MATCH(Composições!A2563,Orçamentária!A:A,0),2)","v":"Mestre de Obras (Posto de Trabalho)"},null,{"$f":"TRIM(INDEX(Orçamentária!C:C,MATCH(Composições!A2563,Orçamentária!A:A,0),1))","v":"Profissional"},null,"",{"$f":"IF(ISNUMBER(F2563),E2563*F2563,\"\")","v":""},null,null,0]
[null,null,null,null,null,"",{"$f":"IF(ISNUMBER(F2564),E2564*F2564,\"\")","v":""},null,null,0]
[null,null,"Mestre de obras com encargos complementares","h",{"$f":"ROUND(220/(1+112.85%),4)","v":103.3592},22.5625,{"$f":"IF(ISNUMBER(F2565),E2565*F2565,\"\")","v":2332.0419499999998},{"$f":"SUM(G2565:G2565)","v":2332.0419499999998},null,0]
[null,null,null,null,null,"",{"$f":"IF(ISNUMBER(F2566),E2566*F2566,\"\")","v":""},null,null,0]
[null,null,"Obs: considerando 220h/mês e encargos sociais indicados na tabela do SINAPI.",null,null,"",{"$f":"IF(ISNUMBER(F2567),E2567*F2567,\"\")","v":""},null,null,0]
[null,null,null,null,null,"",{"$f":"IF(ISNUMBER(F2568),E2568*F2568,\"\")","v":""},null,null,0]
["SF-00717",{"$f":"INDEX(Orçamentária!A:B,MATCH(Composições!A2569,Orçamentária!A:A,0),2)","v":"Oficial de Serviços Gerais"},null,{"$f":"TRIM(INDEX(Orçamentária!C:C,MATCH(Composições!A2569,Orçamentária!A:A,0),1))","v":"Profissional"},null,"",{"$f":"IF(ISNUMBER(F2569),E2569*F2569,\"\")","v":""},null,null,0]
[null,null,null,null,null,"",{"$f":"IF(ISNUMBER(F2570),E2570*F2570,\"\")","v":""},null,null,0]
[null,null,"PEDREIRO COM ENCARGOS COMPLEMENTARES","h",{"$f":"ROUND(220/(1+112.85%),4)","v":103.3592},19.474999999999998,{"$f":"IF(ISNUMBER(F2571),E2571*F2571,\"\")","v":2012.9204199999997},{"$f":"SUM(G2571:G2571)","v":2012.9204199999997},null,0]
[null,null,null,null,null,"",{"$f":"IF(ISNUMBER(F2572),E2572*F2572,\"\")","v":""},null,null,0]
[null,null,"Obs: considerando 220h/mês e encargos sociais indicados na tabela do SINAPI.",null,null,"",{"$f":"IF(ISNUMBER(F2573),E2573*F2573,\"\")","v":""},null,null,0]
[null,null,null,null,null,"",{"$f":"IF(ISNUMBER(F2574),E2574*F2574,\"\")","v":""},null,null,0]
["SF-00844",{"$f":"INDEX(Orçamentária!A:B,MATCH(Composições!A2575,Orçamentária!A:A,0),2)","v":"Instalação de vidro (comum, temperado, aramado ou laminado) reaproveitado"},null,{"$f":"TRIM(INDEX(Orçamentária!C:C,MATCH(Composições!A2575,Orçamentária!A:A,0),1))","v":"m2"},null,"",{"$f":"IF(ISNUMBER(F2575),E2575*F2575,\"\")","v":""},null,null,0]
[null,null,null,null,null,"",{"$f":"IF(ISNUMBER(F2576),E2576*F2576,\"\")","v":""},null,null,0]
[null,null,"Vidraceiro com encargos complementares","h",1,18.145,{"$f":"IF(ISNUMBER(F2577),E2577*F2577,\"\")","v":18.145},{"$f":"SUM(G2577:G2579)","v":34.032799999999995},null,0]
[null,null,"Servente com Encargos Complementares","h",0.2,14.554,{"$f":"IF(ISNUMBER(F2578),E2578*F2578,\"\")","v":2.9108000000000001},null,null,0]
[null,null,"Massa para vidro","Kg",2,6.4885000000000002,{"$f":"IF(ISNUMBER(F2579),E2579*F2579,\"\")","v":12.977},null,null,0]
[null,null,null,null,null,"",{"$f":"IF(ISNUMBER(F2580),E2580*F2580,\"\")","v":""},null,null,0]
["SF-00845",{"$f":"INDEX(Orçamentária!A:B,MATCH(Composições!A2581,Orçamentária!A:A,0),2)","v":"Vidro temperado incolor com 8mm de espessura"},null,{"$f":"TRIM(INDEX(Orçamentária!C:C,MATCH(Composições!A2581,Orçamentária!A:A,0),1))","v":"m2"},null,"",{"$f":"IF(ISNUMBER(F2581),E2581*F2581,\"\")","v":""},null,null,0]
[null,null,null,null,null,"",{"$f":"IF(ISNUMBER(F2582),E2582*F2582,\"\")","v":""},null,null,0]
[null,null,"Vidraceiro com encargos complementares","h",1,18.145,{"$f":"IF(ISNUMBER(F2583),E2583*F2583,\"\")","v":18.145},{"$f":"SUM(G2583:G2586)","v":153.20079999999999},null,0]
[null,null,"Servente com Encargos Complementares","h",0.2,14.554,{"$f":"IF(ISNUMBER(F2584),E2584*F2584,\"\")","v":2.9108000000000001},null,null,0]
[null,null,"Massa para vidro","Kg",2,6.4885000000000002,{"$f":"IF(ISNUMBER(F2585),E2585*F2585,\"\")","v":12.977},null,null,0]
[null,null,"VIDRO LISO INCOLOR 5MM - SEM COLOCACAO","m2",1,119.16799999999999,{"$f":"IF(ISNUMBER(F2586),E2586*F2586,\"\")","v":119.16799999999999},null,null,0]
[null,null,null,null,null,"",{"$f":"IF(ISNUMBER(F2587),E2587*F2587,\"\")","v":""},null,null,0]
["SF-00846",{"$f":"INDEX(Orçamentária!A:B,MATCH(Composições!A2588,Orçamentária!A:A,0),2)","v":"Vidro liso comum transparente 5mm"},null,{"$f":"TRIM(INDEX(Orçamentária!C:C,MATCH(Composições!A2588,Orçamentária!A:A,0),1))","v":"m2"},null,"",{"$f":"IF(ISNUMBER(F2588),E2588*F2588,\"\")","v":""},null,null,0]
[null,null,null,null,null,"",{"$f":"IF(ISNUMBER(F2589),E2589*F2589,\"\")","v":""},null,null,0]
[null,null,"Vidraceiro com encargos complementares","h",0.5,18.145,{"$f":"IF(ISNUMBER(F2590),E2590*F2590,\"\")","v":9.0724999999999998},{"$f":"SUM(G2590:G2593)","v":129.64175},null,0]
[null,null,"Servente com Encargos Complementares","h",0.5,14.554,{"$f":"IF(ISNUMBER(F2591),E2591*F2591,\"\")","v":7.2770000000000001},null,null,0]
[null,null,"Massa para vidro","Kg",1.5,6.4885000000000002,{"$f":"IF(ISNUMBER(F2592),E2592*F2592,\"\")","v":9.7327499999999993},null,null,0]
[null,null,"VIDRO TEMPERADO INCOLOR E = 8 MM, SEM COLOCACAO","m2",1,103.5595,{"$f":"IF(ISNUMBER(F2593),E2593*F2593,\"\")","v":103.5595},null,null,0]
[null,null,null,null,null,"",{"$f":"IF(ISNUMBER(F2594),E2594*F2594,\"\")","v":""},null,null,0]
["SF-00847",{"$f":"INDEX(Orçamentária!A:B,MATCH(Composições!A2595,Orçamentária!A:A,0),2)","v":"Corte em vidro ou espelho reaproveitado"},null,{"$f":"TRIM(INDEX(Orçamentária!C:C,MATCH(Composições!A2595,Orçamentária!A:A,0),1))","v":"m"},null,"",{"$f":"IF(ISNUMBER(F2595),E2595*F2595,\"\")","v":""},null,null,0]
[null,null,null,null,null,"",{"$f":"IF(ISNUMBER(F2596),E2596*F2596,\"\")","v":""},null,null,0]
[null,null,"Vidraceiro com encargos complementares","h",0.5,18.145,{"$f":"IF(ISNUMBER(F2597),E2597*F2597,\"\")","v":9.0724999999999998},{"$f":"SUM(G2597:G2598)","v":16.349499999999999},null,0]
[null,null,"Servente com Encargos Complementares","h",0.5,14.554,{"$f":"IF(ISNUMBER(F2598),E2598*F2598,\"\")","v":7.2770000000000001},null,null,0]
[null,null,null,null,null,"",{"$f":"IF(ISNUMBER(F2599),E2599*F2599,\"\")","v":""},null,null,0]
["SF-00848",{"$f":"INDEX(Orçamentária!A:B,MATCH(Composições!A2600,Orçamentária!A:A,0),2)","v":"Lapidação de vidro / espelho reaproveitado"},null,{"$f":"TRIM(INDEX(Orçamentária!C:C,MATCH(Composições!A2600,Orçamentária!A:A,0),1))","v":"m"},null,"",{"$f":"IF(ISNUMBER(F2600),E2600*F2600,\"\")","v":""},null,null,0]
[null,null,null,null,null,"",{"$f":"IF(ISNUMBER(F2601),E2601*F2601,\"\")","v":""},null,null,0]
[null,null,"Vidraceiro com encargos complementares","h",0.75,18.145,{"$f":"IF(ISNUMBER(F2602),E2602*F2602,\"\")","v":13.608750000000001},{"$f":"SUM(G2602:G2603)","v":24.524250000000002},null,0]
[null,null,"Servente com Encargos Complementares","h",0.75,14.554,{"$f":"IF(ISNUMBER(F2603),E2603*F2603,\"\")","v":10.9155},null,null,0]
[null,null,null,null,null,"",{"$f":"IF(ISNUMBER(F2604),E2604*F2604,\"\")","v":""},null,null,0]
["SF-00849",{"$f":"INDEX(Orçamentária!A:B,MATCH(Composições!A2605,Orçamentária!A:A,0),2)","v":"Vidro temperado incolor com 10 mm de espessura"},null,{"$f":"TRIM(INDEX(Orçamentária!C:C,MATCH(Composições!A2605,Orçamentária!A:A,0),1))","v":"m2"},null,"",{"$f":"IF(ISNUMBER(F2605),E2605*F2605,\"\")","v":""},null,null,0]
[null,null,null,null,null,"",{"$f":"IF(ISNUMBER(F2606),E2606*F2606,\"\")","v":""},null,null,0]
[null,null,"Vidraceiro com encargos complementares","h",0.5,18.145,{"$f":"IF(ISNUMBER(F2607),E2607*F2607,\"\")","v":9.0724999999999998},{"$f":"SUM(G2607:G2610)","v":160.52625},null,0]
[null,null,"Servente com Encargos Complementares","h",0.5,14.554,{"$f":"IF(ISNUMBER(F2608),E2608*F2608,\"\")","v":7.2770000000000001},null,null,0]
[null,null,"Massa para vidro","Kg",1.5,6.4885000000000002,{"$f":"IF(ISNUMBER(F2609),E2609*F2609,\"\")","v":9.7327499999999993},null,null,0]
[null,null,"VIDRO TEMPERADO INCOLOR E = 10 MM, SEM COLOCACAO","m2",1,134.44400000000002,{"$f":"IF(ISNUMBER(F2610),E2610*F2610,\"\")","v":134.44400000000002},null,null,0]
[null,null,null,null,null,"",{"$f":"IF(ISNUMBER(F2611),E2611*F2611,\"\")","v":""},null,null,0]
["SF-00850",{"$f":"INDEX(Orçamentária!A:B,MATCH(Composições!A2612,Orçamentária!A:A,0),2)","v":"Bucha para pivô de dobradiça para vidro temperado"},null,{"$f":"TRIM(INDEX(Orçamentária!C:C,MATCH(Composições!A2612,Orçamentária!A:A,0),1))","v":"un"},null,"",{"$f":"IF(ISNUMBER(F2612),E2612*F2612,\"\")","v":""},null,null,0]
[null,null,null,null,null,"",{"$f":"IF(ISNUMBER(F2613),E2613*F2613,\"\")","v":""},null,null,0]
[null,null,"Vidraceiro com encargos complementares","h",0.15,18.145,{"$f":"IF(ISNUMBER(F2614),E2614*F2614,\"\")","v":2.7217499999999997},{"$f":"SUM(G2614:G2615)","v":3.6717499999999994},null,0]
[null,null,"Bucha para pivô de dobradiça para vidro temperado. Ref.: Santa Marina/1201; Belga Metais / 9201","un",1,0.95,{"$f":"IF(ISNUMBER(F2615),E2615*F2615,\"\")","v":0.95},null,null,0]
[null,null,null,null,null,"",{"$f":"IF(ISNUMBER(F2616),E2616*F2616,\"\")","v":""},null,null,0]
["SF-00851",{"$f":"INDEX(Orçamentária!A:B,MATCH(Composições!A2617,Orçamentária!A:A,0),2)","v":"Suporte para bandeira de vidro temperado, com ponto de giro para dobradiça"},null,{"$f":"TRIM(INDEX(Orçamentária!C:C,MATCH(Composições!A2617,Orçamentária!A:A,0),1))","v":"un"},null,"",{"$f":"IF(ISNUMBER(F2617),E2617*F2617,\"\")","v":""},null,null,0]
[null,null,null,null,null,"",{"$f":"IF(ISNUMBER(F2618),E2618*F2618,\"\")","v":""},null,null,0]
[null,null,"Vidraceiro com encargos complementares","h",0.3,18.145,{"$f":"IF(ISNUMBER(F2619),E2619*F2619,\"\")","v":5.4434999999999993},{"$f":"SUM(G2619:G2620)","v":5.4434999999999993},null,0]
[null,null,"Suporte para bandeira de vidro temperado, com ponto de giro para dobradiça. Ref.: Santa Marina / 1203; Belga Metais / 9203","un",1,0,{"$f":"IF(ISNUMBER(F2620),E2620*F2620,\"\")","v":0},null,null,0]
[null,null,null,null,null,"",{"$f":"IF(ISNUMBER(F2621),E2621*F2621,\"\")","v":""},null,null,0]
["SF-00852",{"$f":"INDEX(Orçamentária!A:B,MATCH(Composições!A2622,Orçamentária!A:A,0),2)","v":"Suporte de canto, simples, para vidro temperado"},null,{"$f":"TRIM(INDEX(Orçamentária!C:C,MATCH(Composições!A2622,Orçamentária!A:A,0),1))","v":"un"},null,"",{"$f":"IF(ISNUMBER(F2622),E2622*F2622,\"\")","v":""},null,null,0]
[null,null,null,null,null,"",{"$f":"IF(ISNUMBER(F2623),E2623*F2623,\"\")","v":""},null,null,0]
[null,null,"Vidraceiro com encargos complementares","h",0.15,18.145,{"$f":"IF(ISNUMBER(F2624),E2624*F2624,\"\")","v":2.7217499999999997},{"$f":"SUM(G2624:G2625)","v":2.7217499999999997},null,0]
[null,null,"Suporte de canto, simples, para vidro temperado. Ref.: Santa Marina/1302; Belga Metais/9302","un",1,0,{"$f":"IF(ISNUMBER(F2625),E2625*F2625,\"\")","v":0},null,null,0]
[null,null,null,null,null,"",{"$f":"IF(ISNUMBER(F2626),E2626*F2626,\"\")","v":""},null,null,0]
["SF-00853",{"$f":"INDEX(Orçamentária!A:B,MATCH(Composições!A2627,Orçamentária!A:A,0),2)","v":"Suporte de união, sem batedor, para dois ou três vidros temperados"},null,{"$f":"TRIM(INDEX(Orçamentária!C:C,MATCH(Composições!A2627,Orçamentária!A:A,0),1))","v":"un"},null,"",{"$f":"IF(ISNUMBER(F2627),E2627*F2627,\"\")","v":""},null,null,0]
[null,null,null,null,null,"",{"$f":"IF(ISNUMBER(F2628),E2628*F2628,\"\")","v":""},null,null,0]
[null,null,"Vidraceiro com encargos complementares","h",0.3,18.145,{"$f":"IF(ISNUMBER(F2629),E2629*F2629,\"\")","v":5.4434999999999993},{"$f":"SUM(G2629:G2630)","v":5.4434999999999993},null,0]
[null,null,"Suporte de união em \"L\" em latão fundido, sem batedor, para dois ou três vidros temperados de 10 mm. Ref.: Santa Marina/1310; Belga Metais/9310","un",1,0,{"$f":"IF(ISNUMBER(F2630),E2630*F2630,\"\")","v":0},null,null,0]
[null,null,null,null,null,"",{"$f":"IF(ISNUMBER(F2631),E2631*F2631,\"\")","v":""},null,null,0]
[null,null,"OBS: Para o preço unitário do insumo, considerou-se 85% do preço da peça tipo 1308 da tabela TCPO/Pini, percentual esse verificado mediante pesquisa de mercado.",null,null,"",{"$f":"IF(ISNUMBER(F2632),E2632*F2632,\"\")","v":""},null,null,0]
[null,null,null,null,null,"",{"$f":"IF(ISNUMBER(F2633),E2633*F2633,\"\")","v":""},null,null,0]
["SF-00854",{"$f":"INDEX(Orçamentária!A:B,MATCH(Composições!A2634,Orçamentária!A:A,0),2)","v":"Botão de correção para vidro temperado"},null,{"$f":"TRIM(INDEX(Orçamentária!C:C,MATCH(Composições!A2634,Orçamentária!A:A,0),1))","v":"un"},null,"",{"$f":"IF(ISNUMBER(F2634),E2634*F2634,\"\")","v":""},null,null,0]
[null,null,null,null,null,"",{"$f":"IF(ISNUMBER(F2635),E2635*F2635,\"\")","v":""},null,null,0]
[null,null,"Vidraceiro com encargos complementares","h",0.15,18.145,{"$f":"IF(ISNUMBER(F2636),E2636*F2636,\"\")","v":2.7217499999999997},{"$f":"SUM(G2636:G2637)","v":2.7217499999999997},null,0]
[null,null,"Botão de correção fosco acetinado com parafuso. Ref.: Santa Marina/1002","un",1,0,{"$f":"IF(ISNUMBER(F2637),E2637*F2637,\"\")","v":0},null,null,0]
[null,null,null,null,null,"",{"$f":"IF(ISNUMBER(F2638),E2638*F2638,\"\")","v":""},null,null,0]
["SF-00855",{"$f":"INDEX(Orçamentária!A:B,MATCH(Composições!A2639,Orçamentária!A:A,0),2)","v":"Fechadura bico-de-papagaio, com furo, para vidro temperado"},null,{"$f":"TRIM(INDEX(Orçamentária!C:C,MATCH(Composições!A2639,Orçamentária!A:A,0),1))","v":"un"},null,"",{"$f":"IF(ISNUMBER(F2639),E2639*F2639,\"\")","v":""},null,null,0]
[null,null,null,null,null,"",{"$f":"IF(ISNUMBER(F2640),E2640*F2640,\"\")","v":""},null,null,0]
[null,null,"Vidraceiro com encargos complementares","h",0.4,18.145,{"$f":"IF(ISNUMBER(F2641),E2641*F2641,\"\")","v":7.258},{"$f":"SUM(G2641:G2642)","v":7.258},null,0]
[null,null,"Fechadura bico-de-papagaio, com furo, para porta de correr em vidro temperado 10 mm. Ref.: Santa Marina / 3530; Belga Metais / 9510-F","un",1,"",{"$f":"IF(ISNUMBER(F2642),E2642*F2642,\"\")","v":""},null,null,0]
[null,null,null,null,null,"",{"$f":"IF(ISNUMBER(F2643),E2643*F2643,\"\")","v":""},null,null,0]
["SF-00856",{"$f":"INDEX(Orçamentária!A:B,MATCH(Composições!A2644,Orçamentária!A:A,0),2)","v":"Fechadura bico-de-papagaio, com furo, para janela de vidro temperado"},null,{"$f":"TRIM(INDEX(Orçamentária!C:C,MATCH(Composições!A2644,Orçamentária!A:A,0),1))","v":"un"},null,"",{"$f":"IF(ISNUMBER(F2644),E2644*F2644,\"\")","v":""},null,null,0]
[null,null,null,null,null,"",{"$f":"IF(ISNUMBER(F2645),E2645*F2645,\"\")","v":""},null,null,0]
[null,null,"Vidraceiro com encargos complementares","h",0.4,18.145,{"$f":"IF(ISNUMBER(F2646),E2646*F2646,\"\")","v":7.258},{"$f":"SUM(G2646:G2647)","v":7.258},null,0]
[null,null,"Fechadura bico-de-papagaio, com furo, para aplicação em janela de correr em vidro temperado 10 mm. Ref.: Santa Marina/3532; Belga Metais/9510-JF","un",1,"",{"$f":"IF(ISNUMBER(F2647),E2647*F2647,\"\")","v":""},null,null,0]
[null,null,null,null,null,"",{"$f":"IF(ISNUMBER(F2648),E2648*F2648,\"\")","v":""},null,null,0]
["SF-00857",{"$f":"INDEX(Orçamentária!A:B,MATCH(Composições!A2649,Orçamentária!A:A,0),2)","v":"Fechadura para porta de abrir de vidro temperado"},null,{"$f":"TRIM(INDEX(Orçamentária!C:C,MATCH(Composições!A2649,Orçamentária!A:A,0),1))","v":"un"},null,"",{"$f":"IF(ISNUMBER(F2649),E2649*F2649,\"\")","v":""},null,null,0]
[null,null,null,null,null,"",{"$f":"IF(ISNUMBER(F2650),E2650*F2650,\"\")","v":""},null,null,0]
[null,null,"Vidraceiro com encargos complementares","h",0.4,18.145,{"$f":"IF(ISNUMBER(F2651),E2651*F2651,\"\")","v":7.258},{"$f":"SUM(G2651:G2652)","v":7.258},null,0]
[null,null,"Fechadura para aplicação em porta de abrirem vidro temperado 10 mm. Ref.: Santa Marina/1520; Belga Metais/9520","un",1,"",{"$f":"IF(ISNUMBER(F2652),E2652*F2652,\"\")","v":""},null,null,0]
[null,null,null,null,null,"",{"$f":"IF(ISNUMBER(F2653),E2653*F2653,\"\")","v":""},null,null,0]
["SF-00858",{"$f":"INDEX(Orçamentária!A:B,MATCH(Composições!A2654,Orçamentária!A:A,0),2)","v":"Contra fechadura, para alvenaria, para porta com fechadura 1520/9520"},null,{"$f":"TRIM(INDEX(Orçamentária!C:C,MATCH(Composições!A2654,Orçamentária!A:A,0),1))","v":"un"},null,"",{"$f":"IF(ISNUMBER(F2654),E2654*F2654,\"\")","v":""},null,null,0]
[null,null,null,null,null,"",{"$f":"IF(ISNUMBER(F2655),E2655*F2655,\"\")","v":""},null,null,0]
[null,null,"Vidraceiro com encargos complementares","h",0.25,18.145,{"$f":"IF(ISNUMBER(F2656),E2656*F2656,\"\")","v":4.5362499999999999},{"$f":"SUM(G2656:G2657)","v":4.5362499999999999},null,0]
[null,null,"Contra fechadura, para alvenaria, para porta com fechadura 1520/952, aplicada em alvenaria junto a porta de abrirem vidro temperado 10 mm. Ref.: TQ Ferragens/1504; Santa Marina/1504; Belga Metais/1504","un",1,"",{"$f":"IF(ISNUMBER(F2657),E2657*F2657,\"\")","v":""},null,null,0]
[null,null,null,null,null,"",{"$f":"IF(ISNUMBER(F2658),E2658*F2658,\"\")","v":""},null,null,0]
["SF-00859",{"$f":"INDEX(Orçamentária!A:B,MATCH(Composições!A2659,Orçamentária!A:A,0),2)","v":"Contra fechadura de pressão para porta de vidro temperado"},null,{"$f":"TRIM(INDEX(Orçamentária!C:C,MATCH(Composições!A2659,Orçamentária!A:A,0),1))","v":"un"},null,"",{"$f":"IF(ISNUMBER(F2659),E2659*F2659,\"\")","v":""},null,null,0]
[null,null,null,null,null,"",{"$f":"IF(ISNUMBER(F2660),E2660*F2660,\"\")","v":""},null,null,0]
[null,null,"Vidraceiro com encargos complementares","h",0.25,18.145,{"$f":"IF(ISNUMBER(F2661),E2661*F2661,\"\")","v":4.5362499999999999},{"$f":"SUM(G2661:G2662)","v":4.5362499999999999},null,0]
[null,null,"Contra fechadura de pressão para porta de vidro temperado de 10 mm, usada com fechaduras de referência 1520SE / 9520PRD / 9520PRE. Ref.: Santa Marina/1504S; Belga Metais 9504S","un",1,"",{"$f":"IF(ISNUMBER(F2662),E2662*F2662,\"\")","v":""},null,null,0]
[null,null,null,null,null,"",{"$f":"IF(ISNUMBER(F2663),E2663*F2663,\"\")","v":""},null,null,0]
["SF-00860",{"$f":"INDEX(Orçamentária!A:B,MATCH(Composições!A2664,Orçamentária!A:A,0),2)","v":"Contra fechadura, com furo, para porta com furo"},null,{"$f":"TRIM(INDEX(Orçamentária!C:C,MATCH(Composições!A2664,Orçamentária!A:A,0),1))","v":"un"},null,"",{"$f":"IF(ISNUMBER(F2664),E2664*F2664,\"\")","v":""},null,null,0]
[null,null,null,null,null,"",{"$f":"IF(ISNUMBER(F2665),E2665*F2665,\"\")","v":""},null,null,0]
[null,null,"Vidraceiro com encargos complementares","h",0.25,18.145,{"$f":"IF(ISNUMBER(F2666),E2666*F2666,\"\")","v":4.5362499999999999},{"$f":"SUM(G2666:G2667)","v":4.5362499999999999},null,0]
[null,null,"Contra fechadura, com furo, para porta de correr com furo em vidro temperado 10 mm, usada com fechaduras de referência 3530/9510-F. Ref.: Santa Marina/3534; Belga Metais/9511-F","un",1,"",{"$f":"IF(ISNUMBER(F2667),E2667*F2667,\"\")","v":""},null,null,0]
[null,null,null,null,null,"",{"$f":"IF(ISNUMBER(F2668),E2668*F2668,\"\")","v":""},null,null,0]
["SF-00861",{"$f":"INDEX(Orçamentária!A:B,MATCH(Composições!A2669,Orçamentária!A:A,0),2)","v":"Trinco inferior, com miolo, para porta de vidro temperado"},null,{"$f":"TRIM(INDEX(Orçamentária!C:C,MATCH(Composições!A2669,Orçamentária!A:A,0),1))","v":"un"},null,"",{"$f":"IF(ISNUMBER(F2669),E2669*F2669,\"\")","v":""},null,null,0]
[null,null,null,null,null,"",{"$f":"IF(ISNUMBER(F2670),E2670*F2670,\"\")","v":""},null,null,0]
[null,null,"Vidraceiro com encargos complementares","h",0.25,18.145,{"$f":"IF(ISNUMBER(F2671),E2671*F2671,\"\")","v":4.5362499999999999},{"$f":"SUM(G2671:G2672)","v":4.5362499999999999},null,0]
[null,null,"Trinco inferior, com miolo, em latão fundido cromado, para porta de vidro temperado 10 mm. Ref.: Santa Marina/1502; Belga Metais/9502","un",1,0,{"$f":"IF(ISNUMBER(F2672),E2672*F2672,\"\")","v":0},null,null,0]
[null,null,null,null,null,"",{"$f":"IF(ISNUMBER(F2673),E2673*F2673,\"\")","v":""},null,null,0]
["SF-00862",{"$f":"INDEX(Orçamentária!A:B,MATCH(Composições!A2674,Orçamentária!A:A,0),2)","v":"Mola hidráulica BTS 75R"},null,{"$f":"TRIM(INDEX(Orçamentária!C:C,MATCH(Composições!A2674,Orçamentária!A:A,0),1))","v":"un"},null,"",{"$f":"IF(ISNUMBER(F2674),E2674*F2674,\"\")","v":""},null,null,0]
[null,null,null,null,null,"",{"$f":"IF(ISNUMBER(F2675),E2675*F2675,\"\")","v":""},null,null,0]
[null,null,"Vidraceiro com encargos complementares","h",0.75,18.145,{"$f":"IF(ISNUMBER(F2676),E2676*F2676,\"\")","v":13.608750000000001},{"$f":"SUM(G2676:G2681)","v":38.106894000000004},null,0]
[null,null,"Servente com Encargos Complementares","h",0.3,14.554,{"$f":"IF(ISNUMBER(F2677),E2677*F2677,\"\")","v":4.3662000000000001},null,null,0]
[null,null,"Impermeabilizante Dorma SealProtect","un",1,"",{"$f":"IF(ISNUMBER(F2678),E2678*F2678,\"\")","v":""},null,null,0]
[null,null,"Mola Hidráulica de piso universal para portas de batente e portas vai-e-vem em aço inoxidável. Ref.: DORMA, modelo BTS 75V, com eixo intercambiável tipo \"B\"","un",1,"",{"$f":"IF(ISNUMBER(F2679),E2679*F2679,\"\")","v":""},null,null,0]
[null,null,"Vidraceiro com encargos complementares","h",{"$f":"0.5*2.1*0.8","v":0.84000000000000008},18.145,{"$f":"IF(ISNUMBER(F2680),E2680*F2680,\"\")","v":15.241800000000001},null,null,0]
[null,null,"Servente com Encargos Complementares","h",{"$f":"0.2*2.1*0.8","v":0.33600000000000008},14.554,{"$f":"IF(ISNUMBER(F2681),E2681*F2681,\"\")","v":4.8901440000000012},null,null,0]
[null,null,null,null,null,"",{"$f":"IF(ISNUMBER(F2682),E2682*F2682,\"\")","v":""},null,null,0]
[null,null,"Obs: considerando remoção de uma folha de 2,10 m x 0,80 m.",null,null,"",{"$f":"IF(ISNUMBER(F2683),E2683*F2683,\"\")","v":""},null,null,0]
[null,null,null,null,null,"",{"$f":"IF(ISNUMBER(F2684),E2684*F2684,\"\")","v":""},null,null,0]
["SF-00863",{"$f":"INDEX(Orçamentária!A:B,MATCH(Composições!A2685,Orçamentária!A:A,0),2)","v":"Puxador redondo, padrão em poliéster, para porta de vidro temperado"},null,{"$f":"TRIM(INDEX(Orçamentária!C:C,MATCH(Composições!A2685,Orçamentária!A:A,0),1))","v":"un"},null,"",{"$f":"IF(ISNUMBER(F2685),E2685*F2685,\"\")","v":""},null,null,0]
[null,null,null,null,null,"",{"$f":"IF(ISNUMBER(F2686),E2686*F2686,\"\")","v":""},null,null,0]
[null,null,"Vidraceiro com encargos complementares","h",0.2,18.145,{"$f":"IF(ISNUMBER(F2687),E2687*F2687,\"\")","v":3.629},{"$f":"SUM(G2687:G2688)","v":3.629},null,0]
[null,null,"Puxador para porta de vidro temperado redondo duplo em resina poliéster incolor com aditivo anti-UV com 110-135 mm de diâmetro. Ref.: 1608 e 1609, Poliforma Alumínios e Ferragens; 1613, Aço Metais","un",1,"",{"$f":"IF(ISNUMBER(F2688),E2688*F2688,\"\")","v":""},null,null,0]
[null,null,null,null,null,"",{"$f":"IF(ISNUMBER(F2689),E2689*F2689,\"\")","v":""},null,null,0]
["SF-00864",{"$f":"INDEX(Orçamentária!A:B,MATCH(Composições!A2690,Orçamentária!A:A,0),2)","v":"Puxador em aço inox sob medida – Tipo A"},null,{"$f":"TRIM(INDEX(Orçamentária!C:C,MATCH(Composições!A2690,Orçamentária!A:A,0),1))","v":"un"},null,"",{"$f":"IF(ISNUMBER(F2690),E2690*F2690,\"\")","v":""},null,null,0]
[null,null,null,null,null,"",{"$f":"IF(ISNUMBER(F2691),E2691*F2691,\"\")","v":""},null,null,0]
[null,null,"Vidraceiro com encargos complementares","h",0.4,18.145,{"$f":"IF(ISNUMBER(F2692),E2692*F2692,\"\")","v":7.258},{"$f":"SUM(G2692:G2693)","v":7.258},null,0]
[null,null,"Puxador para porta de vidro temperado em aço inox, sob medida, tipo A","un",1,"",{"$f":"IF(ISNUMBER(F2693),E2693*F2693,\"\")","v":""},null,null,0]
[null,null,null,null,null,"",{"$f":"IF(ISNUMBER(F2694),E2694*F2694,\"\")","v":""},null,null,0]
["SF-00865",{"$f":"INDEX(Orçamentária!A:B,MATCH(Composições!A2695,Orçamentária!A:A,0),2)","v":"Dobradiça superior para porta de vidro temperado"},null,{"$f":"TRIM(INDEX(Orçamentária!C:C,MATCH(Composições!A2695,Orçamentária!A:A,0),1))","v":"un"},null,"",{"$f":"IF(ISNUMBER(F2695),E2695*F2695,\"\")","v":""},null,null,0]
[null,null,null,null,null,"",{"$f":"IF(ISNUMBER(F2696),E2696*F2696,\"\")","v":""},null,null,0]
[null,null,"Vidraceiro com encargos complementares","h",0.3,18.145,{"$f":"IF(ISNUMBER(F2697),E2697*F2697,\"\")","v":5.4434999999999993},{"$f":"SUM(G2697:G2698)","v":5.4434999999999993},null,0]
[null,null,"Dobradiça superior para porta de vidro temperado, em latão fundido cromado. Ref.: Santa Marina / 1101 ou Belga Metais / 9101","un",1,0,{"$f":"IF(ISNUMBER(F2698),E2698*F2698,\"\")","v":0},null,null,0]
[null,null,null,null,null,"",{"$f":"IF(ISNUMBER(F2699),E2699*F2699,\"\")","v":""},null,null,0]
["SF-00866",{"$f":"INDEX(Orçamentária!A:B,MATCH(Composições!A2700,Orçamentária!A:A,0),2)","v":"Perfil em alumínio, tipo U - abas iguais - PU 5/8\" x 5/8\" – espessura 1,58mm"},null,{"$f":"TRIM(INDEX(Orçamentária!C:C,MATCH(Composições!A2700,Orçamentária!A:A,0),1))","v":"m"},null,"",{"$f":"IF(ISNUMBER(F2700),E2700*F2700,\"\")","v":""},null,null,0]
[null,null,null,null,null,"",{"$f":"IF(ISNUMBER(F2701),E2701*F2701,\"\")","v":""},null,null,0]
[null,null,"Vidraceiro com encargos complementares","h",0.2,18.145,{"$f":"IF(ISNUMBER(F2702),E2702*F2702,\"\")","v":3.629},{"$f":"SUM(G2702:G2703)","v":9.1035649999999997},null,0]
[null,null,"PERFIL DE ALUMINIO ANODIZADO","kg",0.19,28.813499999999998,{"$f":"IF(ISNUMBER(F2703),E2703*F2703,\"\")","v":5.4745649999999992},null,null,0]
[null,null,null,null,null,"",{"$f":"IF(ISNUMBER(F2704),E2704*F2704,\"\")","v":""},null,null,0]
[null,null,"Obs: Perfil em alumínio anodizado, tipo U - abas iguais - PU 5/8\" x 5/8\" – espessura 1,58mm",null,null,"",{"$f":"IF(ISNUMBER(F2705),E2705*F2705,\"\")","v":""},null,null,0]
[null,null,"Fonte do coeficiente: http://www.estreladosmetais.com.br/pag_metal_aluminio_perfil_u_igual.php",null,null,"",{"$f":"IF(ISNUMBER(F2706),E2706*F2706,\"\")","v":""},null,null,0]
[null,null,null,null,null,"",{"$f":"IF(ISNUMBER(F2707),E2707*F2707,\"\")","v":""},null,null,0]
["SF-00867",{"$f":"INDEX(Orçamentária!A:B,MATCH(Composições!A2708,Orçamentária!A:A,0),2)","v":"Trilho superior em alumínio 60mm x 49,5mm, para vidro temperado"},null,{"$f":"TRIM(INDEX(Orçamentária!C:C,MATCH(Composições!A2708,Orçamentária!A:A,0),1))","v":"m"},null,"",{"$f":"IF(ISNUMBER(F2708),E2708*F2708,\"\")","v":""},null,null,0]
[null,null,null,null,null,"",{"$f":"IF(ISNUMBER(F2709),E2709*F2709,\"\")","v":""},null,null,0]
[null,null,"Vidraceiro com encargos complementares","h",0.3,18.145,{"$f":"IF(ISNUMBER(F2710),E2710*F2710,\"\")","v":5.4434999999999993},{"$f":"SUM(G2710:G2711)","v":27.7163355},null,0]
[null,null,"PERFIL DE ALUMINIO ANODIZADO","kg",0.77300000000000002,28.813499999999998,{"$f":"IF(ISNUMBER(F2711),E2711*F2711,\"\")","v":22.272835499999999},null,null,0]
[null,null,null,null,null,"",{"$f":"IF(ISNUMBER(F2712),E2712*F2712,\"\")","v":""},null,null,0]
[null,null,"Obs: Trilho superior em alumínio anodizado 60mm x 49,5mm, para vidro temperado. Ref.: AL-0051",null,null,"",{"$f":"IF(ISNUMBER(F2713),E2713*F2713,\"\")","v":""},null,null,0]
[null,null,"Fonte do coeficiente: http://www.ferragensdbf.com.br/produtos-aluminio.html",null,null,"",{"$f":"IF(ISNUMBER(F2714),E2714*F2714,\"\")","v":""},null,null,0]
[null,null,null,null,null,"",{"$f":"IF(ISNUMBER(F2715),E2715*F2715,\"\")","v":""},null,null,0]
["SF-00868",{"$f":"INDEX(Orçamentária!A:B,MATCH(Composições!A2716,Orçamentária!A:A,0),2)","v":"Perfil em alumínio para acabamento de trilho superior"},null,{"$f":"TRIM(INDEX(Orçamentária!C:C,MATCH(Composições!A2716,Orçamentária!A:A,0),1))","v":"m"},null,"",{"$f":"IF(ISNUMBER(F2716),E2716*F2716,\"\")","v":""},null,null,0]
[null,null,null,null,null,"",{"$f":"IF(ISNUMBER(F2717),E2717*F2717,\"\")","v":""},null,null,0]
[null,null,"Vidraceiro com encargos complementares","h",0.2,18.145,{"$f":"IF(ISNUMBER(F2718),E2718*F2718,\"\")","v":3.629},{"$f":"SUM(G2718:G2719)","v":11.7255935},null,0]
[null,null,"PERFIL DE ALUMINIO ANODIZADO","kg",0.28100000000000003,28.813499999999998,{"$f":"IF(ISNUMBER(F2719),E2719*F2719,\"\")","v":8.0965935000000009},null,null,0]
[null,null,null,null,null,"",{"$f":"IF(ISNUMBER(F2720),E2720*F2720,\"\")","v":""},null,null,0]
[null,null,"Obs: Perfil guia inferior de alumínio anodizado 39,3 mm x 24 mm para vidro temperado 10mm. Ref.: Perfil Guia Inferior AL-0005",null,null,"",{"$f":"IF(ISNUMBER(F2721),E2721*F2721,\"\")","v":""},null,null,0]
[null,null,"Fonte do coeficiente: http://www.ferragensdbf.com.br/produtos-aluminio.html",null,null,"",{"$f":"IF(ISNUMBER(F2722),E2722*F2722,\"\")","v":""},null,null,0]
[null,null,null,null,null,"",{"$f":"IF(ISNUMBER(F2723),E2723*F2723,\"\")","v":""},null,null,0]
["SF-00869",{"$f":"INDEX(Orçamentária!A:B,MATCH(Composições!A2724,Orçamentária!A:A,0),2)","v":"Perfil guia inferior de alumínio 39,3 mm x 24 mm para vidro temperado 10mm"},null,{"$f":"TRIM(INDEX(Orçamentária!C:C,MATCH(Composições!A2724,Orçamentária!A:A,0),1))","v":"m"},null,"",{"$f":"IF(ISNUMBER(F2724),E2724*F2724,\"\")","v":""},null,null,0]
[null,null,null,null,null,"",{"$f":"IF(ISNUMBER(F2725),E2725*F2725,\"\")","v":""},null,null,0]
[null,null,"Vidraceiro com encargos complementares","h",0.3,18.145,{"$f":"IF(ISNUMBER(F2726),E2726*F2726,\"\")","v":5.4434999999999993},{"$f":"SUM(G2726:G2727)","v":18.438388499999999},null,0]
[null,null,"PERFIL DE ALUMINIO ANODIZADO","kg",0.45100000000000001,28.813499999999998,{"$f":"IF(ISNUMBER(F2727),E2727*F2727,\"\")","v":12.9948885},null,null,0]
[null,null,null,null,null,"",{"$f":"IF(ISNUMBER(F2728),E2728*F2728,\"\")","v":""},null,null,0]
[null,null,"Obs: Perfil guia inferior de alumínio anodizado 39,3 mm x 24 mm para vidro temperado 10mm. Ref.: Perfil Guia Inferior AL-0005",null,null,"",{"$f":"IF(ISNUMBER(F2729),E2729*F2729,\"\")","v":""},null,null,0]
[null,null,"Fonte do coeficiente: http://www.ferragensdbf.com.br/produtos-aluminio.html",null,null,"",{"$f":"IF(ISNUMBER(F2730),E2730*F2730,\"\")","v":""},null,null,0]
[null,null,null,null,null,"",{"$f":"IF(ISNUMBER(F2731),E2731*F2731,\"\")","v":""},null,null,0]
["SF-00870",{"$f":"INDEX(Orçamentária!A:B,MATCH(Composições!A2732,Orçamentária!A:A,0),2)","v":"Capa do Perfil Guia Inferior “Click”"},null,{"$f":"TRIM(INDEX(Orçamentária!C:C,MATCH(Composições!A2732,Orçamentária!A:A,0),1))","v":"m"},null,"",{"$f":"IF(ISNUMBER(F2732),E2732*F2732,\"\")","v":""},null,null,0]
[null,null,null,null,null,"",{"$f":"IF(ISNUMBER(F2733),E2733*F2733,\"\")","v":""},null,null,0]
[null,null,"Vidraceiro com encargos complementares","h",0.15,18.145,{"$f":"IF(ISNUMBER(F2734),E2734*F2734,\"\")","v":2.7217499999999997},{"$f":"SUM(G2734:G2735)","v":5.891235},null,0]
[null,null,"PERFIL DE ALUMINIO ANODIZADO","kg",0.11,28.813499999999998,{"$f":"IF(ISNUMBER(F2735),E2735*F2735,\"\")","v":3.1694849999999999},null,null,0]
[null,null,null,null,null,"",{"$f":"IF(ISNUMBER(F2736),E2736*F2736,\"\")","v":""},null,null,0]
[null,null,"Obs: Perfil Guia Inferior “Click” de alumínio anodizado. Ref.: Perfil AL-0013",null,null,"",{"$f":"IF(ISNUMBER(F2737),E2737*F2737,\"\")","v":""},null,null,0]
[null,null,"Fonte do coeficiente: http://www.ferragensdbf.com.br/produtos-aluminio.html",null,null,"",{"$f":"IF(ISNUMBER(F2738),E2738*F2738,\"\")","v":""},null,null,0]
[null,null,null,null,null,"",{"$f":"IF(ISNUMBER(F2739),E2739*F2739,\"\")","v":""},null,null,0]
["SF-00871",{"$f":"INDEX(Orçamentária!A:B,MATCH(Composições!A2740,Orçamentária!A:A,0),2)","v":"Dobradiça inferior para porta de vidro temperado"},null,{"$f":"TRIM(INDEX(Orçamentária!C:C,MATCH(Composições!A2740,Orçamentária!A:A,0),1))","v":"un"},null,"",{"$f":"IF(ISNUMBER(F2740),E2740*F2740,\"\")","v":""},null,null,0]
[null,null,null,null,null,"",{"$f":"IF(ISNUMBER(F2741),E2741*F2741,\"\")","v":""},null,null,0]
[null,null,"Vidraceiro com encargos complementares","h",0.3,18.145,{"$f":"IF(ISNUMBER(F2742),E2742*F2742,\"\")","v":5.4434999999999993},{"$f":"SUM(G2742:G2743)","v":5.4434999999999993},null,0]
[null,null,"Dobradiça inferior para porta de vidro temperado, em latão fundido cromado. Ref.: Santa Marina / 1103; Belga Metais / 9103","un",1,0,{"$f":"IF(ISNUMBER(F2743),E2743*F2743,\"\")","v":0},null,null,0]
[null,null,null,null,null,"",{"$f":"IF(ISNUMBER(F2744),E2744*F2744,\"\")","v":""},null,null,0]
["SF-00872",{"$f":"INDEX(Orçamentária!A:B,MATCH(Composições!A2745,Orçamentária!A:A,0),2)","v":"Escova de vedação para vidro temperado"},null,{"$f":"TRIM(INDEX(Orçamentária!C:C,MATCH(Composições!A2745,Orçamentária!A:A,0),1))","v":"m"},null,"",{"$f":"IF(ISNUMBER(F2745),E2745*F2745,\"\")","v":""},null,null,0]
[null,null,null,null,null,"",{"$f":"IF(ISNUMBER(F2746),E2746*F2746,\"\")","v":""},null,null,0]
[null,null,"Vidraceiro com encargos complementares","h",0.3,18.145,{"$f":"IF(ISNUMBER(F2747),E2747*F2747,\"\")","v":5.4434999999999993},{"$f":"SUM(G2747:G2748)","v":5.4434999999999993},null,0]
[null,null,"Escova de vedação para aplicação em janela ou porta de vidro temperado, autocolante ou de encaixe, na cor preta, branca ou cinza alumínio, entre 5mm e 7mm de base. Ref.: 290-1 (vidromax) 5x5 preto; Seal; VBrasil; Aluinter","un",1,"",{"$f":"IF(ISNUMBER(F2748),E2748*F2748,\"\")","v":""},null,null,0]
[null,null,null,null,null,"",{"$f":"IF(ISNUMBER(F2749),E2749*F2749,\"\")","v":""},null,null,0]
["SF-00873",{"$f":"INDEX(Orçamentária!A:B,MATCH(Composições!A2750,Orçamentária!A:A,0),2)","v":"Roldana simples para porta de correr em vidro temperado"},null,{"$f":"TRIM(INDEX(Orçamentária!C:C,MATCH(Composições!A2750,Orçamentária!A:A,0),1))","v":"un"},null,"",{"$f":"IF(ISNUMBER(F2750),E2750*F2750,\"\")","v":""},null,null,0]
[null,null,null,null,null,"",{"$f":"IF(ISNUMBER(F2751),E2751*F2751,\"\")","v":""},null,null,0]
[null,null,"Vidraceiro com encargos complementares","h",0.15,18.145,{"$f":"IF(ISNUMBER(F2752),E2752*F2752,\"\")","v":2.7217499999999997},{"$f":"SUM(G2752:G2753)","v":2.7217499999999997},null,0]
[null,null,"Roldana simples em nylon para porta ou janela de correr de vidro temperado. Ref.: Santa Marina/1125N; Belga Metais/9125","un",1,"",{"$f":"IF(ISNUMBER(F2753),E2753*F2753,\"\")","v":""},null,null,0]
[null,null,null,null,null,"",{"$f":"IF(ISNUMBER(F2754),E2754*F2754,\"\")","v":""},null,null,0]
["SF-00874",{"$f":"INDEX(Orçamentária!A:B,MATCH(Composições!A2755,Orçamentária!A:A,0),2)","v":"Roldana dupla para porta de correr em vidro temperado"},null,{"$f":"TRIM(INDEX(Orçamentária!C:C,MATCH(Composições!A2755,Orçamentária!A:A,0),1))","v":"un"},null,"",{"$f":"IF(ISNUMBER(F2755),E2755*F2755,\"\")","v":""},null,null,0]
[null,null,null,null,null,"",{"$f":"IF(ISNUMBER(F2756),E2756*F2756,\"\")","v":""},null,null,0]
[null,null,"Vidraceiro com encargos complementares","h",0.15,18.145,{"$f":"IF(ISNUMBER(F2757),E2757*F2757,\"\")","v":2.7217499999999997},{"$f":"SUM(G2757:G2758)","v":2.7217499999999997},null,0]
[null,null,"Roldana dupla em nylon para porta ou janela de correr de vidro temperado. Ref.: Santa Marina/1125N; Belga Metais/9125","un",1,"",{"$f":"IF(ISNUMBER(F2758),E2758*F2758,\"\")","v":""},null,null,0]
[null,null,null,null,null,"",{"$f":"IF(ISNUMBER(F2759),E2759*F2759,\"\")","v":""},null,null,0]
["SF-00875",{"$f":"INDEX(Orçamentária!A:B,MATCH(Composições!A2760,Orçamentária!A:A,0),2)","v":"Capuchinho para trinco para vidro temperado"},null,{"$f":"TRIM(INDEX(Orçamentária!C:C,MATCH(Composições!A2760,Orçamentária!A:A,0),1))","v":"un"},null,"",{"$f":"IF(ISNUMBER(F2760),E2760*F2760,\"\")","v":""},null,null,0]
[null,null,null,null,null,"",{"$f":"IF(ISNUMBER(F2761),E2761*F2761,\"\")","v":""},null,null,0]
[null,null,"Vidraceiro com encargos complementares","h",0.1,18.145,{"$f":"IF(ISNUMBER(F2762),E2762*F2762,\"\")","v":1.8145},{"$f":"SUM(G2762:G2763)","v":1.8145},null,0]
[null,null,"Capuchinho para trinco para vidro temperado, com furo de 8 ou 10 mm, em latão fundido. Ref.: Santa Marina/1037; Santa Marina/1038; Belga Metais/9038","un",1,0,{"$f":"IF(ISNUMBER(F2763),E2763*F2763,\"\")","v":0},null,null,0]
[null,null,null,null,null,"",{"$f":"IF(ISNUMBER(F2764),E2764*F2764,\"\")","v":""},null,null,0]
["SF-00876",{"$f":"INDEX(Orçamentária!A:B,MATCH(Composições!A2765,Orçamentária!A:A,0),2)","v":"Facão simples para lateral e bandeira de vidro temperado"},null,{"$f":"TRIM(INDEX(Orçamentária!C:C,MATCH(Composições!A2765,Orçamentária!A:A,0),1))","v":"un"},null,"",{"$f":"IF(ISNUMBER(F2765),E2765*F2765,\"\")","v":""},null,null,0]
[null,null,null,null,null,"",{"$f":"IF(ISNUMBER(F2766),E2766*F2766,\"\")","v":""},null,null,0]
[null,null,"Vidraceiro com encargos complementares","h",0.4,18.145,{"$f":"IF(ISNUMBER(F2767),E2767*F2767,\"\")","v":7.258},{"$f":"SUM(G2767:G2768)","v":7.258},null,0]
[null,null,"Facão simples para lateral e bandeira de vidro temperado 10 mm, com ponto de giro para dobradiça superior, em latão fundido cromado. Ref.: Santa Marina/1209; Belga Metais/9209","un",1,0,{"$f":"IF(ISNUMBER(F2768),E2768*F2768,\"\")","v":0},null,null,0]
[null,null,null,null,null,"",{"$f":"IF(ISNUMBER(F2769),E2769*F2769,\"\")","v":""},null,null,0]
["SF-00877",{"$f":"INDEX(Orçamentária!A:B,MATCH(Composições!A2770,Orçamentária!A:A,0),2)","v":"Fechadura de pressão para porta de abrir em vidro temperado"},null,{"$f":"TRIM(INDEX(Orçamentária!C:C,MATCH(Composições!A2770,Orçamentária!A:A,0),1))","v":"un"},null,"",{"$f":"IF(ISNUMBER(F2770),E2770*F2770,\"\")","v":""},null,null,0]
[null,null,null,null,null,"",{"$f":"IF(ISNUMBER(F2771),E2771*F2771,\"\")","v":""},null,null,0]
[null,null,"Vidraceiro com encargos complementares","h",0.4,18.145,{"$f":"IF(ISNUMBER(F2772),E2772*F2772,\"\")","v":7.258},{"$f":"SUM(G2772:G2773)","v":7.258},null,0]
[null,null,"Fechadura de pressão para porta de abrir em vidro temperado 10 mm. Ref.: Belga  Metais/9520-PRD (lado direito); Santa Marina/1520SE; Belga Metais/9520-PRE (lado esquerdo)","un",1,"",{"$f":"IF(ISNUMBER(F2773),E2773*F2773,\"\")","v":""},null,null,0]
[null,null,null,null,null,"",{"$f":"IF(ISNUMBER(F2774),E2774*F2774,\"\")","v":""},null,null,0]
["SF-00878",{"$f":"INDEX(Orçamentária!A:B,MATCH(Composições!A2775,Orçamentária!A:A,0),2)","v":"Suporte de união, com miolo, para vidro temperado"},null,{"$f":"TRIM(INDEX(Orçamentária!C:C,MATCH(Composições!A2775,Orçamentária!A:A,0),1))","v":"un"},null,"",{"$f":"IF(ISNUMBER(F2775),E2775*F2775,\"\")","v":""},null,null,0]
[null,null,null,null,null,"",{"$f":"IF(ISNUMBER(F2776),E2776*F2776,\"\")","v":""},null,null,0]
[null,null,"Vidraceiro com encargos complementares","h",0.3,18.145,{"$f":"IF(ISNUMBER(F2777),E2777*F2777,\"\")","v":5.4434999999999993},{"$f":"SUM(G2777:G2778)","v":5.4434999999999993},null,0]
[null,null,"Suporte de união, com miolo, para vidro temperado de 10 mm, em latão fundido cromado. Ref.: Santa Marina/1306; Belga Metais/9306","un",1,0,{"$f":"IF(ISNUMBER(F2778),E2778*F2778,\"\")","v":0},null,null,0]
[null,null,null,null,null,"",{"$f":"IF(ISNUMBER(F2779),E2779*F2779,\"\")","v":""},null,null,0]
["SF-00879",{"$f":"INDEX(Orçamentária!A:B,MATCH(Composições!A2780,Orçamentária!A:A,0),2)","v":"Suporte para basculante e pivotante de vidro temperado"},null,{"$f":"TRIM(INDEX(Orçamentária!C:C,MATCH(Composições!A2780,Orçamentária!A:A,0),1))","v":"un"},null,"",{"$f":"IF(ISNUMBER(F2780),E2780*F2780,\"\")","v":""},null,null,0]
[null,null,null,null,null,"",{"$f":"IF(ISNUMBER(F2781),E2781*F2781,\"\")","v":""},null,null,0]
[null,null,"Vidraceiro com encargos complementares","h",0.2,18.145,{"$f":"IF(ISNUMBER(F2782),E2782*F2782,\"\")","v":3.629},{"$f":"SUM(G2782:G2783)","v":3.629},null,0]
[null,null,"Suporte para basculante e pivotante de vidro temperado 10 mm, em latão fundido cromado. Ref.: Santa Marina/1230; Belga Metais/9230","un",1,0,{"$f":"IF(ISNUMBER(F2783),E2783*F2783,\"\")","v":0},null,null,0]
[null,null,null,null,null,"",{"$f":"IF(ISNUMBER(F2784),E2784*F2784,\"\")","v":""},null,null,0]
["SF-00880",{"$f":"INDEX(Orçamentária!A:B,MATCH(Composições!A2785,Orçamentária!A:A,0),2)","v":"Trinco central para basculante em vidro temperado"},null,{"$f":"TRIM(INDEX(Orçamentária!C:C,MATCH(Composições!A2785,Orçamentária!A:A,0),1))","v":"un"},null,"",{"$f":"IF(ISNUMBER(F2785),E2785*F2785,\"\")","v":""},null,null,0]
[null,null,null,null,null,"",{"$f":"IF(ISNUMBER(F2786),E2786*F2786,\"\")","v":""},null,null,0]
[null,null,"Vidraceiro com encargos complementares","h",0.2,18.145,{"$f":"IF(ISNUMBER(F2787),E2787*F2787,\"\")","v":3.629},{"$f":"SUM(G2787:G2788)","v":3.629},null,0]
[null,null,"Trinco central para basculante em vidro temperado 10 mm, em latão fundido cromado. Ref.: Santa Marina/1523; Belga Metais/9523","un",1,0,{"$f":"IF(ISNUMBER(F2788),E2788*F2788,\"\")","v":0},null,null,0]
[null,null,null,null,null,"",{"$f":"IF(ISNUMBER(F2789),E2789*F2789,\"\")","v":""},null,null,0]
["SF-00881",{"$f":"INDEX(Orçamentária!A:B,MATCH(Composições!A2790,Orçamentária!A:A,0),2)","v":"Vidro laminado incolor de 8mm de espessura"},null,{"$f":"TRIM(INDEX(Orçamentária!C:C,MATCH(Composições!A2790,Orçamentária!A:A,0),1))","v":"m2"},null,"",{"$f":"IF(ISNUMBER(F2790),E2790*F2790,\"\")","v":""},null,null,0]
[null,null,null,null,null,"",{"$f":"IF(ISNUMBER(F2791),E2791*F2791,\"\")","v":""},null,null,0]
[null,null,"Vidro laminado incolor de 8mm de espessura","m2",1,0,{"$f":"IF(ISNUMBER(F2792),E2792*F2792,\"\")","v":0},{"$f":"SUM(G2792:G2795)","v":26.082249999999998},null,0]
[null,null,"Vidraceiro com encargos complementares","h",0.5,18.145,{"$f":"IF(ISNUMBER(F2793),E2793*F2793,\"\")","v":9.0724999999999998},null,null,0]
[null,null,"Servente com Encargos Complementares","h",0.5,14.554,{"$f":"IF(ISNUMBER(F2794),E2794*F2794,\"\")","v":7.2770000000000001},null,null,0]
[null,null,"Massa para vidro","Kg",1.5,6.4885000000000002,{"$f":"IF(ISNUMBER(F2795),E2795*F2795,\"\")","v":9.7327499999999993},null,null,0]
[null,null,null,null,null,"",{"$f":"IF(ISNUMBER(F2796),E2796*F2796,\"\")","v":""},null,null,0]
["SF-00883",{"$f":"INDEX(Orçamentária!A:B,MATCH(Composições!A2797,Orçamentária!A:A,0),2)","v":"Dobradiça automática para box de vidro temperado"},null,{"$f":"TRIM(INDEX(Orçamentária!C:C,MATCH(Composições!A2797,Orçamentária!A:A,0),1))","v":"un"},null,"",{"$f":"IF(ISNUMBER(F2797),E2797*F2797,\"\")","v":""},null,null,0]
[null,null,null,null,null,"",{"$f":"IF(ISNUMBER(F2798),E2798*F2798,\"\")","v":""},null,null,0]
[null,null,"Vidraceiro com encargos complementares","h",0.2,18.145,{"$f":"IF(ISNUMBER(F2799),E2799*F2799,\"\")","v":3.629},{"$f":"SUM(G2799:G2800)","v":3.629},null,0]
[null,null,"Dobradiça automática para Box de vidro temperado. Ref.: Belga Metais/9114 e Belga Metais/9115","un",1,"",{"$f":"IF(ISNUMBER(F2800),E2800*F2800,\"\")","v":""},null,null,0]
[null,null,null,null,null,"",{"$f":"IF(ISNUMBER(F2801),E2801*F2801,\"\")","v":""},null,null,0]
["SF-00884",{"$f":"INDEX(Orçamentária!A:B,MATCH(Composições!A2802,Orçamentária!A:A,0),2)","v":"Dobradiça horizontal para vidro basculante com trinco"},null,{"$f":"TRIM(INDEX(Orçamentária!C:C,MATCH(Composições!A2802,Orçamentária!A:A,0),1))","v":"un"},null,"",{"$f":"IF(ISNUMBER(F2802),E2802*F2802,\"\")","v":""},null,null,0]
[null,null,null,null,null,"",{"$f":"IF(ISNUMBER(F2803),E2803*F2803,\"\")","v":""},null,null,0]
[null,null,"Vidraceiro com encargos complementares","h",0.2,18.145,{"$f":"IF(ISNUMBER(F2804),E2804*F2804,\"\")","v":3.629},{"$f":"SUM(G2804:G2805)","v":3.629},null,0]
[null,null,"Dobradiça horizontal, com trinco central, para janela tipo basculante de vidro temperado com 8mm ou 10mm de espessura. Ref.: Belga Metais/9123-A","un",1,"",{"$f":"IF(ISNUMBER(F2805),E2805*F2805,\"\")","v":""},null,null,0]
[null,null,null,null,null,"",{"$f":"IF(ISNUMBER(F2806),E2806*F2806,\"\")","v":""},null,null,0]
["SF-00885",{"$f":"INDEX(Orçamentária!A:B,MATCH(Composições!A2807,Orçamentária!A:A,0),2)","v":"Dobradiça horizontal para vidro basculante"},null,{"$f":"TRIM(INDEX(Orçamentária!C:C,MATCH(Composições!A2807,Orçamentária!A:A,0),1))","v":"un"},null,"",{"$f":"IF(ISNUMBER(F2807),E2807*F2807,\"\")","v":""},null,null,0]
[null,null,null,null,null,"",{"$f":"IF(ISNUMBER(F2808),E2808*F2808,\"\")","v":""},null,null,0]
[null,null,"Vidraceiro com encargos complementares","h",0.2,18.145,{"$f":"IF(ISNUMBER(F2809),E2809*F2809,\"\")","v":3.629},{"$f":"SUM(G2809:G2810)","v":3.629},null,0]
[null,null,"Dobradiça horizontal, sem trinco, para janela tipo basculante de vidro temperado com 8mm ou 10mm de espessura. Ref.: Belga Metais/9123","un",1,"",{"$f":"IF(ISNUMBER(F2810),E2810*F2810,\"\")","v":""},null,null,0]
[null,null,null,null,null,"",{"$f":"IF(ISNUMBER(F2811),E2811*F2811,\"\")","v":""},null,null,0]
["SF-00886",{"$f":"INDEX(Orçamentária!A:B,MATCH(Composições!A2812,Orçamentária!A:A,0),2)","v":"Fechadura elétrica para porta de vidro temperado"},null,{"$f":"TRIM(INDEX(Orçamentária!C:C,MATCH(Composições!A2812,Orçamentária!A:A,0),1))","v":"un"},null,"",{"$f":"IF(ISNUMBER(F2812),E2812*F2812,\"\")","v":""},null,null,0]
[null,null,null,null,null,"",{"$f":"IF(ISNUMBER(F2813),E2813*F2813,\"\")","v":""},null,null,0]
[null,null,"Vidraceiro com encargos complementares","h",1.5,18.145,{"$f":"IF(ISNUMBER(F2814),E2814*F2814,\"\")","v":27.217500000000001},{"$f":"SUM(G2814:G2815)","v":27.217500000000001},null,0]
[null,null,"Fechadura elétrica para porta de vidro temperado com 8mm ou 10mm de espessura, acabamento cromado. Ref.: Fechadura Modelo FV35ICR / FV35ECRA / FV32ICR / FV32IPR / FV32ICRA / FV32ECRA, fabricante Amelco","un",1,"",{"$f":"IF(ISNUMBER(F2815),E2815*F2815,\"\")","v":""},null,null,0]
[null,null,null,null,null,"",{"$f":"IF(ISNUMBER(F2816),E2816*F2816,\"\")","v":""},null,null,0]
["SF-00887",{"$f":"INDEX(Orçamentária!A:B,MATCH(Composições!A2817,Orçamentária!A:A,0),2)","v":"Porteiro eletrônico"},null,{"$f":"TRIM(INDEX(Orçamentária!C:C,MATCH(Composições!A2817,Orçamentária!A:A,0),1))","v":"un"},null,"",{"$f":"IF(ISNUMBER(F2817),E2817*F2817,\"\")","v":""},null,null,0]
[null,null,null,null,null,"",{"$f":"IF(ISNUMBER(F2818),E2818*F2818,\"\")","v":""},null,null,0]
[null,null,"Vidraceiro com encargos complementares","h",1.5,18.145,{"$f":"IF(ISNUMBER(F2819),E2819*F2819,\"\")","v":27.217500000000001},{"$f":"SUM(G2819:G2820)","v":27.217500000000001},null,0]
[null,null,"Porteiro eletrônico residencial. Ref.: Amelco AM-m²00","un",1,"",{"$f":"IF(ISNUMBER(F2820),E2820*F2820,\"\")","v":""},null,null,0]
[null,null,null,null,null,"",{"$f":"IF(ISNUMBER(F2821),E2821*F2821,\"\")","v":""},null,null,0]
["SF-00888",{"$f":"INDEX(Orçamentária!A:B,MATCH(Composições!A2822,Orçamentária!A:A,0),2)","v":"Acionador fixo"},null,{"$f":"TRIM(INDEX(Orçamentária!C:C,MATCH(Composições!A2822,Orçamentária!A:A,0),1))","v":"un"},null,"",{"$f":"IF(ISNUMBER(F2822),E2822*F2822,\"\")","v":""},null,null,0]
[null,null,null,null,null,"",{"$f":"IF(ISNUMBER(F2823),E2823*F2823,\"\")","v":""},null,null,0]
[null,null,"Vidraceiro com encargos complementares","h",1,18.145,{"$f":"IF(ISNUMBER(F2824),E2824*F2824,\"\")","v":18.145},{"$f":"SUM(G2824:G2825)","v":18.145},null,0]
[null,null,"Acionador de fechadura elétrica para porta de vidro temperado com 01 acionador fixo. Ref.; Amelco AF62UP","un",1,"",{"$f":"IF(ISNUMBER(F2825),E2825*F2825,\"\")","v":""},null,null,0]
[null,null,null,null,null,"",{"$f":"IF(ISNUMBER(F2826),E2826*F2826,\"\")","v":""},null,null,0]
["SF-00889",{"$f":"INDEX(Orçamentária!A:B,MATCH(Composições!A2827,Orçamentária!A:A,0),2)","v":"Mini chapinha para trinco basculante"},null,{"$f":"TRIM(INDEX(Orçamentária!C:C,MATCH(Composições!A2827,Orçamentária!A:A,0),1))","v":"un"},null,"",{"$f":"IF(ISNUMBER(F2827),E2827*F2827,\"\")","v":""},null,null,0]
[null,null,null,null,null,"",{"$f":"IF(ISNUMBER(F2828),E2828*F2828,\"\")","v":""},null,null,0]
[null,null,"Vidraceiro com encargos complementares","h",0.1,18.145,{"$f":"IF(ISNUMBER(F2829),E2829*F2829,\"\")","v":1.8145},{"$f":"SUM(G2829:G2830)","v":1.8145},null,0]
[null,null,"Mini chapinha para trinco de janela basculante em vidro temperado 8 ou 10 mm, em latão fundido cromado. Ref.: Belga Metais/9801-M","un",1,"",{"$f":"IF(ISNUMBER(F2830),E2830*F2830,\"\")","v":""},null,null,0]
[null,null,null,null,null,"",{"$f":"IF(ISNUMBER(F2831),E2831*F2831,\"\")","v":""},null,null,0]
["SF-00890",{"$f":"INDEX(Orçamentária!A:B,MATCH(Composições!A2832,Orçamentária!A:A,0),2)","v":"Puxador de latão - diâmetro 25mm"},null,{"$f":"TRIM(INDEX(Orçamentária!C:C,MATCH(Composições!A2832,Orçamentária!A:A,0),1))","v":"un"},null,"",{"$f":"IF(ISNUMBER(F2832),E2832*F2832,\"\")","v":""},null,null,0]
[null,null,null,null,null,"",{"$f":"IF(ISNUMBER(F2833),E2833*F2833,\"\")","v":""},null,null,0]
[null,null,"Vidraceiro com encargos complementares","h",0.2,18.145,{"$f":"IF(ISNUMBER(F2834),E2834*F2834,\"\")","v":3.629},{"$f":"SUM(G2834:G2835)","v":3.629},null,0]
[null,null,"Puxador de latão polido - diâmetro 25mm, para portas e janelas de vidro temperado. Ref.: Belga Metais/9629","un",1,"",{"$f":"IF(ISNUMBER(F2835),E2835*F2835,\"\")","v":""},null,null,0]
[null,null,null,null,null,"",{"$f":"IF(ISNUMBER(F2836),E2836*F2836,\"\")","v":""},null,null,0]
["SF-00891",{"$f":"INDEX(Orçamentária!A:B,MATCH(Composições!A2837,Orçamentária!A:A,0),2)","v":"Trinco sem miolo para vidro temperado"},null,{"$f":"TRIM(INDEX(Orçamentária!C:C,MATCH(Composições!A2837,Orçamentária!A:A,0),1))","v":"un"},null,"",{"$f":"IF(ISNUMBER(F2837),E2837*F2837,\"\")","v":""},null,null,0]
[null,null,null,null,null,"",{"$f":"IF(ISNUMBER(F2838),E2838*F2838,\"\")","v":""},null,null,0]
[null,null,"Vidraceiro com encargos complementares","h",0.2,18.145,{"$f":"IF(ISNUMBER(F2839),E2839*F2839,\"\")","v":3.629},{"$f":"SUM(G2839:G2840)","v":3.629},null,0]
[null,null,"Trinco sem miolo, para vidro temperado 8mm ou 10 mm, funcionando como suporte inferior de centro, em latão fundido cromado. Ref.: Belga Metais/9335","un",1,"",{"$f":"IF(ISNUMBER(F2840),E2840*F2840,\"\")","v":""},null,null,0]
[null,null,null,null,null,"",{"$f":"IF(ISNUMBER(F2841),E2841*F2841,\"\")","v":""},null,null,0]
["SF-00892",{"$f":"INDEX(Orçamentária!A:B,MATCH(Composições!A2842,Orçamentária!A:A,0),2)","v":"Tubo de alumínio quadrado 50x50"},null,{"$f":"TRIM(INDEX(Orçamentária!C:C,MATCH(Composições!A2842,Orçamentária!A:A,0),1))","v":"m"},null,"",{"$f":"IF(ISNUMBER(F2842),E2842*F2842,\"\")","v":""},null,null,0]
[null,null,null,null,null,"",{"$f":"IF(ISNUMBER(F2843),E2843*F2843,\"\")","v":""},null,null,0]
[null,null,"Vidraceiro com encargos complementares","h",0.25,18.145,{"$f":"IF(ISNUMBER(F2844),E2844*F2844,\"\")","v":4.5362499999999999},{"$f":"SUM(G2844:G2845)","v":29.114165499999995},null,0]
[null,null,"PERFIL DE ALUMINIO ANODIZADO","kg",0.85299999999999998,28.813499999999998,{"$f":"IF(ISNUMBER(F2845),E2845*F2845,\"\")","v":24.577915499999996},null,null,0]
[null,null,null,null,null,"",{"$f":"IF(ISNUMBER(F2846),E2846*F2846,\"\")","v":""},null,null,0]
[null,null,"Obs: Tubo de alumínio quadrado 50x50, para fixação de painéis em vidro temperado de 8mm ou 10 mm",null,null,"",{"$f":"IF(ISNUMBER(F2847),E2847*F2847,\"\")","v":""},null,null,0]
[null,null,"Fonte do coeficiente: http://www.ferragensdbf.com.br/produtos-aluminio.html",null,null,"",{"$f":"IF(ISNUMBER(F2848),E2848*F2848,\"\")","v":""},null,null,0]
[null,null,null,null,null,"",{"$f":"IF(ISNUMBER(F2849),E2849*F2849,\"\")","v":""},null,null,0]
["SF-00893",{"$f":"INDEX(Orçamentária!A:B,MATCH(Composições!A2850,Orçamentária!A:A,0),2)","v":"Veda fresta adesivo “E” branco"},null,{"$f":"TRIM(INDEX(Orçamentária!C:C,MATCH(Composições!A2850,Orçamentária!A:A,0),1))","v":"m"},null,"",{"$f":"IF(ISNUMBER(F2850),E2850*F2850,\"\")","v":""},null,null,0]
[null,null,null,null,null,"",{"$f":"IF(ISNUMBER(F2851),E2851*F2851,\"\")","v":""},null,null,0]
[null,null,"Vidraceiro com encargos complementares","h",0.2,18.145,{"$f":"IF(ISNUMBER(F2852),E2852*F2852,\"\")","v":3.629},{"$f":"SUM(G2852:G2853)","v":3.629},null,0]
[null,null,"Veda fresta adesivo “E” em PVC branco, elemento vedante adesivo para portas e janelas","m",0.11899999999999999,"",{"$f":"IF(ISNUMBER(F2853),E2853*F2853,\"\")","v":""},null,null,0]
[null,null,null,null,null,"",{"$f":"IF(ISNUMBER(F2854),E2854*F2854,\"\")","v":""},null,null,0]
["SF-00894",{"$f":"INDEX(Orçamentária!A:B,MATCH(Composições!A2855,Orçamentária!A:A,0),2)","v":"Vedapress 10mm"},null,{"$f":"TRIM(INDEX(Orçamentária!C:C,MATCH(Composições!A2855,Orçamentária!A:A,0),1))","v":"m"},null,"",{"$f":"IF(ISNUMBER(F2855),E2855*F2855,\"\")","v":""},null,null,0]
[null,null,null,null,null,"",{"$f":"IF(ISNUMBER(F2856),E2856*F2856,\"\")","v":""},null,null,0]
[null,null,"Vidraceiro com encargos complementares","h",0.3,18.145,{"$f":"IF(ISNUMBER(F2857),E2857*F2857,\"\")","v":5.4434999999999993},{"$f":"SUM(G2857:G2858)","v":8.8723064999999988},null,0]
[null,null,"PERFIL DE ALUMINIO ANODIZADO","kg",0.11899999999999999,28.813499999999998,{"$f":"IF(ISNUMBER(F2858),E2858*F2858,\"\")","v":3.4288064999999994},null,null,0]
[null,null,null,null,null,"",{"$f":"IF(ISNUMBER(F2859),E2859*F2859,\"\")","v":""},null,null,0]
[null,null,"Obs: Vedapress 10mm, elemento vedante para portas e janelas de vidro temperado de 8mm ou 10 mm. Ref.: AL-15 - Poliformas alumínio e ferragens",null,null,"",{"$f":"IF(ISNUMBER(F2860),E2860*F2860,\"\")","v":""},null,null,0]
[null,null,"Fonte do coeficiente: http://www.alumipremium.com/produto/al15",null,null,"",{"$f":"IF(ISNUMBER(F2861),E2861*F2861,\"\")","v":""},null,null,0]
[null,null,null,null,null,"",{"$f":"IF(ISNUMBER(F2862),E2862*F2862,\"\")","v":""},null,null,0]
["SF-00895",{"$f":"INDEX(Orçamentária!A:B,MATCH(Composições!A2863,Orçamentária!A:A,0),2)","v":"Regulagem de ferragens"},null,{"$f":"TRIM(INDEX(Orçamentária!C:C,MATCH(Composições!A2863,Orçamentária!A:A,0),1))","v":"un"},null,"",{"$f":"IF(ISNUMBER(F2863),E2863*F2863,\"\")","v":""},null,null,0]
[null,null,null,null,null,"",{"$f":"IF(ISNUMBER(F2864),E2864*F2864,\"\")","v":""},null,null,0]
[null,null,"Vidraceiro com encargos complementares","h",1.5,18.145,{"$f":"IF(ISNUMBER(F2865),E2865*F2865,\"\")","v":27.217500000000001},{"$f":"SUM(G2865:G2865)","v":27.217500000000001},null,0]
[null,null,null,null,null,"",{"$f":"IF(ISNUMBER(F2866),E2866*F2866,\"\")","v":""},null,null,0]
["SF-00896",{"$f":"INDEX(Orçamentária!A:B,MATCH(Composições!A2867,Orçamentária!A:A,0),2)","v":"Vidro fumê / bronze temperado 10mm"},null,{"$f":"TRIM(INDEX(Orçamentária!C:C,MATCH(Composições!A2867,Orçamentária!A:A,0),1))","v":"m2"},null,"",{"$f":"IF(ISNUMBER(F2867),E2867*F2867,\"\")","v":""},null,null,0]
[null,null,null,null,null,"",{"$f":"IF(ISNUMBER(F2868),E2868*F2868,\"\")","v":""},null,null,0]
[null,null,"Vidraceiro com encargos complementares","h",0.5,18.145,{"$f":"IF(ISNUMBER(F2869),E2869*F2869,\"\")","v":9.0724999999999998},{"$f":"SUM(G2869:G2872)","v":26.082249999999998},null,0]
[null,null,"Servente com Encargos Complementares","h",0.5,14.554,{"$f":"IF(ISNUMBER(F2870),E2870*F2870,\"\")","v":7.2770000000000001},null,null,0]
[null,null,"Massa para vidro","Kg",1.5,6.4885000000000002,{"$f":"IF(ISNUMBER(F2871),E2871*F2871,\"\")","v":9.7327499999999993},null,null,0]
[null,null,"Vidro fumê/bronze temperado 10mm","m2",1,"",{"$f":"IF(ISNUMBER(F2872),E2872*F2872,\"\")","v":""},null,null,0]
[null,null,null,null,null,"",{"$f":"IF(ISNUMBER(F2873),E2873*F2873,\"\")","v":""},null,null,0]
["SF-00897",{"$f":"INDEX(Orçamentária!A:B,MATCH(Composições!A2874,Orçamentária!A:A,0),2)","v":"Puxador em aço inox sob medida – Tipo B"},null,{"$f":"TRIM(INDEX(Orçamentária!C:C,MATCH(Composições!A2874,Orçamentária!A:A,0),1))","v":"un"},null,"",{"$f":"IF(ISNUMBER(F2874),E2874*F2874,\"\")","v":""},null,null,0]
[null,null,null,null,null,"",{"$f":"IF(ISNUMBER(F2875),E2875*F2875,\"\")","v":""},null,null,0]
[null,null,"Vidraceiro com encargos complementares","h",0.4,18.145,{"$f":"IF(ISNUMBER(F2876),E2876*F2876,\"\")","v":7.258},{"$f":"SUM(G2876:G2877)","v":7.258},null,0]
[null,null,"Puxador para porta de vidro temperado em aço inox, sob medida, tipo B","un",1,"",{"$f":"IF(ISNUMBER(F2877),E2877*F2877,\"\")","v":""},null,null,0]
[null,null,null,null,null,"",{"$f":"IF(ISNUMBER(F2878),E2878*F2878,\"\")","v":""},null,null,0]
["SF-00898",{"$f":"INDEX(Orçamentária!A:B,MATCH(Composições!A2879,Orçamentária!A:A,0),2)","v":"Armação de aço CA-50 bitolas de 5,0mm a 8,00mm"},null,{"$f":"TRIM(INDEX(Orçamentária!C:C,MATCH(Composições!A2879,Orçamentária!A:A,0),1))","v":"kg"},null,"",{"$f":"IF(ISNUMBER(F2879),E2879*F2879,\"\")","v":""},null,null,0]
[null,null,null,null,null,"",{"$f":"IF(ISNUMBER(F2880),E2880*F2880,\"\")","v":""},null,null,0]
[null,null,"ARAME RECOZIDO 16 BWG, D = 1,65 MM (0,016 KG/M) OU 18 BWG, D = 1,25 MM (0,01 KG/M)","KG",2.5000000000000001E-2,13.281000000000001,{"$f":"IF(ISNUMBER(F2881),E2881*F2881,\"\")","v":0.33202500000000001},{"$f":"SUM(G2881:G2885)","v":10.2173336},null,0]
[null,null,"ESPACADOR / DISTANCIADOR CIRCULAR COM ENTRADA LATERAL, EM PLASTICO, PARA VERGALHAO *4,2 A 12,5* MM, COBRIMENTO 20 MM","UN",0.74299999999999999,0.1235,{"$f":"IF(ISNUMBER(F2882),E2882*F2882,\"\")","v":9.1760499999999995E-2},null,null,0]
[null,null,"AJUDANTE DE ARMADOR COM ENCARGOS COMPLEMENTARES","H",2.0899999999999998E-2,15.180999999999999,{"$f":"IF(ISNUMBER(F2883),E2883*F2883,\"\")","v":0.31728289999999998},null,null,0]
[null,null,"ARMADOR COM ENCARGOS COMPLEMENTARES","H",0.1278,19.38,{"$f":"IF(ISNUMBER(F2884),E2884*F2884,\"\")","v":2.4767639999999997},null,null,0]
[null,null,"CORTE E DOBRA DE AÇO CA-50, DIÂMETRO DE 8,0 MM, UTILIZADO EM ESTRUTURAS DIVERSAS, EXCETO LAJES. AF_12/2015","KG",1,6.9995011999999992,{"$f":"IF(ISNUMBER(F2885),E2885*F2885,\"\")","v":6.9995011999999992},null,null,0]
[null,null,null,null,null,"",{"$f":"IF(ISNUMBER(F2886),E2886*F2886,\"\")","v":""},null,null,0]
["SF-00899",{"$f":"INDEX(Orçamentária!A:B,MATCH(Composições!A2887,Orçamentária!A:A,0),2)","v":"Pivô para dobradiça inferior (Montagem com a 1103-TQ)"},null,{"$f":"TRIM(INDEX(Orçamentária!C:C,MATCH(Composições!A2887,Orçamentária!A:A,0),1))","v":"un"},null,"",{"$f":"IF(ISNUMBER(F2887),E2887*F2887,\"\")","v":""},null,null,0]
[null,null,null,null,null,"",{"$f":"IF(ISNUMBER(F2888),E2888*F2888,\"\")","v":""},null,null,0]
[null,null,"Vidraceiro com encargos complementares","h",0.2,18.145,{"$f":"IF(ISNUMBER(F2889),E2889*F2889,\"\")","v":3.629},{"$f":"SUM(G2889:G2890)","v":3.629},null,0]
[null,null,"Pivô para dobradiça inferior (montagem com a 1103- TQ) para porta em vidro temperado","un",1,"",{"$f":"IF(ISNUMBER(F2890),E2890*F2890,\"\")","v":""},null,null,0]
[null,null,null,null,null,"",{"$f":"IF(ISNUMBER(F2891),E2891*F2891,\"\")","v":""},null,null,0]
["SF-00900",{"$f":"INDEX(Orçamentária!A:B,MATCH(Composições!A2892,Orçamentária!A:A,0),2)","v":"Dobradiça direita inferior excêntrica"},null,{"$f":"TRIM(INDEX(Orçamentária!C:C,MATCH(Composições!A2892,Orçamentária!A:A,0),1))","v":"un"},null,"",{"$f":"IF(ISNUMBER(F2892),E2892*F2892,\"\")","v":""},null,null,0]
[null,null,null,null,null,"",{"$f":"IF(ISNUMBER(F2893),E2893*F2893,\"\")","v":""},null,null,0]
[null,null,"Vidraceiro com encargos complementares","h",0.3,18.145,{"$f":"IF(ISNUMBER(F2894),E2894*F2894,\"\")","v":5.4434999999999993},{"$f":"SUM(G2894:G2895)","v":5.4434999999999993},null,0]
[null,null,"Dobradiça direita inferior excêntrica para porta pivotante em vidro temperado, dimensões máximas recomendadas 1000 x 2100 mm ou 900 x 2400 mm","un",1,"",{"$f":"IF(ISNUMBER(F2895),E2895*F2895,\"\")","v":""},null,null,0]
[null,null,null,null,null,"",{"$f":"IF(ISNUMBER(F2896),E2896*F2896,\"\")","v":""},null,null,0]
["SF-00901",{"$f":"INDEX(Orçamentária!A:B,MATCH(Composições!A2897,Orçamentária!A:A,0),2)","v":"Dobradiça esquerda inferior excêntrica"},null,{"$f":"TRIM(INDEX(Orçamentária!C:C,MATCH(Composições!A2897,Orçamentária!A:A,0),1))","v":"un"},null,"",{"$f":"IF(ISNUMBER(F2897),E2897*F2897,\"\")","v":""},null,null,0]
[null,null,null,null,null,"",{"$f":"IF(ISNUMBER(F2898),E2898*F2898,\"\")","v":""},null,null,0]
[null,null,"Vidraceiro com encargos complementares","h",0.3,18.145,{"$f":"IF(ISNUMBER(F2899),E2899*F2899,\"\")","v":5.4434999999999993},{"$f":"SUM(G2899:G2900)","v":5.4434999999999993},null,0]
[null,null,"Dobradiça esquerda inferior excêntrica para porta pivotante em vidro temperado, dimensões máximas recomendadas 1000 x 2100 mm ou 900 x 2400 mm","un",1,"",{"$f":"IF(ISNUMBER(F2900),E2900*F2900,\"\")","v":""},null,null,0]
[null,null,null,null,null,"",{"$f":"IF(ISNUMBER(F2901),E2901*F2901,\"\")","v":""},null,null,0]
["SF-00902",{"$f":"INDEX(Orçamentária!A:B,MATCH(Composições!A2902,Orçamentária!A:A,0),2)","v":"Dobradiça pivotante inferior com trinco"},null,{"$f":"TRIM(INDEX(Orçamentária!C:C,MATCH(Composições!A2902,Orçamentária!A:A,0),1))","v":"un"},null,"",{"$f":"IF(ISNUMBER(F2902),E2902*F2902,\"\")","v":""},null,null,0]
[null,null,null,null,null,"",{"$f":"IF(ISNUMBER(F2903),E2903*F2903,\"\")","v":""},null,null,0]
[null,null,"Vidraceiro com encargos complementares","h",0.3,18.145,{"$f":"IF(ISNUMBER(F2904),E2904*F2904,\"\")","v":5.4434999999999993},{"$f":"SUM(G2904:G2905)","v":5.4434999999999993},null,0]
[null,null,"Dobradiça pivotante inferior com trinco, em alumínio, para porta em vidro temperado, dimensões máximas recomendadas 900 x 2200 mm","un",1,"",{"$f":"IF(ISNUMBER(F2905),E2905*F2905,\"\")","v":""},null,null,0]
[null,null,null,null,null,"",{"$f":"IF(ISNUMBER(F2906),E2906*F2906,\"\")","v":""},null,null,0]
["SF-00903",{"$f":"INDEX(Orçamentária!A:B,MATCH(Composições!A2907,Orçamentária!A:A,0),2)","v":"Carrinho para porta de correr 1 roldana e 2 furos"},null,{"$f":"TRIM(INDEX(Orçamentária!C:C,MATCH(Composições!A2907,Orçamentária!A:A,0),1))","v":"un"},null,"",{"$f":"IF(ISNUMBER(F2907),E2907*F2907,\"\")","v":""},null,null,0]
[null,null,null,null,null,"",{"$f":"IF(ISNUMBER(F2908),E2908*F2908,\"\")","v":""},null,null,0]
[null,null,"Vidraceiro com encargos complementares","h",0.15,18.145,{"$f":"IF(ISNUMBER(F2909),E2909*F2909,\"\")","v":2.7217499999999997},{"$f":"SUM(G2909:G2910)","v":2.7217499999999997},null,0]
[null,null,"Carrinho para porta de correr em vidro temperado até 20kg 1 roldana e 2 furos. Ref.: Vidromax 1122-S","un",1,"",{"$f":"IF(ISNUMBER(F2910),E2910*F2910,\"\")","v":""},null,null,0]
[null,null,null,null,null,"",{"$f":"IF(ISNUMBER(F2911),E2911*F2911,\"\")","v":""},null,null,0]
["SF-00904",{"$f":"INDEX(Orçamentária!A:B,MATCH(Composições!A2912,Orçamentária!A:A,0),2)","v":"Carrinho para porta de correr 2 roldanas e 2 furos"},null,{"$f":"TRIM(INDEX(Orçamentária!C:C,MATCH(Composições!A2912,Orçamentária!A:A,0),1))","v":"un"},null,"",{"$f":"IF(ISNUMBER(F2912),E2912*F2912,\"\")","v":""},null,null,0]
[null,null,null,null,null,"",{"$f":"IF(ISNUMBER(F2913),E2913*F2913,\"\")","v":""},null,null,0]
[null,null,"Vidraceiro com encargos complementares","h",0.15,18.145,{"$f":"IF(ISNUMBER(F2914),E2914*F2914,\"\")","v":2.7217499999999997},{"$f":"SUM(G2914:G2915)","v":2.7217499999999997},null,0]
[null,null,"Carrinho para porta de correr em vidro temperado até 80kg 2 roldanas e 2 furos. Ref.: Vidromax 1122","un",1,"",{"$f":"IF(ISNUMBER(F2915),E2915*F2915,\"\")","v":""},null,null,0]
[null,null,null,null,null,"",{"$f":"IF(ISNUMBER(F2916),E2916*F2916,\"\")","v":""},null,null,0]
["SF-00905",{"$f":"INDEX(Orçamentária!A:B,MATCH(Composições!A2917,Orçamentária!A:A,0),2)","v":"Carrinho para porta de correr com roldana côncava"},null,{"$f":"TRIM(INDEX(Orçamentária!C:C,MATCH(Composições!A2917,Orçamentária!A:A,0),1))","v":"un"},null,"",{"$f":"IF(ISNUMBER(F2917),E2917*F2917,\"\")","v":""},null,null,0]
[null,null,null,null,null,"",{"$f":"IF(ISNUMBER(F2918),E2918*F2918,\"\")","v":""},null,null,0]
[null,null,"Vidraceiro com encargos complementares","h",0.15,18.145,{"$f":"IF(ISNUMBER(F2919),E2919*F2919,\"\")","v":2.7217499999999997},{"$f":"SUM(G2919:G2920)","v":2.7217499999999997},null,0]
[null,null,"Carrinho para porta de correr em vidro temperado com roldana côncava, dimensões máximas recomendadas 600 x 1800 mm","un",1,"",{"$f":"IF(ISNUMBER(F2920),E2920*F2920,\"\")","v":""},null,null,0]
[null,null,null,null,null,"",{"$f":"IF(ISNUMBER(F2921),E2921*F2921,\"\")","v":""},null,null,0]
["SF-00906",{"$f":"INDEX(Orçamentária!A:B,MATCH(Composições!A2922,Orçamentária!A:A,0),2)","v":"Guia de nylon para porta de correr"},null,{"$f":"TRIM(INDEX(Orçamentária!C:C,MATCH(Composições!A2922,Orçamentária!A:A,0),1))","v":"un"},null,"",{"$f":"IF(ISNUMBER(F2922),E2922*F2922,\"\")","v":""},null,null,0]
[null,null,null,null,null,"",{"$f":"IF(ISNUMBER(F2923),E2923*F2923,\"\")","v":""},null,null,0]
[null,null,"Vidraceiro com encargos complementares","h",0.15,18.145,{"$f":"IF(ISNUMBER(F2924),E2924*F2924,\"\")","v":2.7217499999999997},{"$f":"SUM(G2924:G2925)","v":2.7217499999999997},null,0]
[null,null,"Guia de nylon para porta de correr em vidro temperado","un",1,"",{"$f":"IF(ISNUMBER(F2925),E2925*F2925,\"\")","v":""},null,null,0]
[null,null,null,null,null,"",{"$f":"IF(ISNUMBER(F2926),E2926*F2926,\"\")","v":""},null,null,0]
["SF-00907",{"$f":"INDEX(Orçamentária!A:B,MATCH(Composições!A2927,Orçamentária!A:A,0),2)","v":"Puxador H tubular em aço inox, comprimento 45cm, para portas de vidro temperado"},null,{"$f":"TRIM(INDEX(Orçamentária!C:C,MATCH(Composições!A2927,Orçamentária!A:A,0),1))","v":"un"},null,"",{"$f":"IF(ISNUMBER(F2927),E2927*F2927,\"\")","v":""},null,null,0]
[null,null,null,null,null,"",{"$f":"IF(ISNUMBER(F2928),E2928*F2928,\"\")","v":""},null,null,0]
[null,null,"Vidraceiro com encargos complementares","h",0.4,18.145,{"$f":"IF(ISNUMBER(F2929),E2929*F2929,\"\")","v":7.258},{"$f":"SUM(G2929:G2930)","v":7.258},null,0]
[null,null,"Puxador H tubular em aço inox AISI304, com porcas tipo castelo, comprimento 45cm, entre furos de 30cm,  diâmetro 1.1/4\",  chapa #16, acabamento escovado. Ref.: PX-RD, Poliforma Alumínio e Ferragens","un",1,"",{"$f":"IF(ISNUMBER(F2930),E2930*F2930,\"\")","v":""},null,null,0]
[null,null,null,null,null,"",{"$f":"IF(ISNUMBER(F2931),E2931*F2931,\"\")","v":""},null,null,0]
["SF-00908",{"$f":"INDEX(Orçamentária!A:B,MATCH(Composições!A2932,Orçamentária!A:A,0),2)","v":"Transporte de vidros"},null,{"$f":"TRIM(INDEX(Orçamentária!C:C,MATCH(Composições!A2932,Orçamentária!A:A,0),1))","v":"m2 x km"},null,"",{"$f":"IF(ISNUMBER(F2932),E2932*F2932,\"\")","v":""},null,null,0]
[null,null,null,null,null,"",{"$f":"IF(ISNUMBER(F2933),E2933*F2933,\"\")","v":""},null,null,0]
[null,null,"Servente com Encargos Complementares","h",2.9209999999999998,14.554,{"$f":"IF(ISNUMBER(F2934),E2934*F2934,\"\")","v":42.512233999999999},{"$f":"SUM(G2934:G2934)","v":42.512233999999999},null,0]
[null,null,null,null,null,"",{"$f":"IF(ISNUMBER(F2935),E2935*F2935,\"\")","v":""},null,null,0]
[null,null,"Fonte do coeficiente: http://www.alumipremium.com/produto/al15",null,null,"",{"$f":"IF(ISNUMBER(F2936),E2936*F2936,\"\")","v":""},null,null,0]
[null,null,null,null,null,"",{"$f":"IF(ISNUMBER(F2937),E2937*F2937,\"\")","v":""},null,null,0]
["SF-00909",{"$f":"INDEX(Orçamentária!A:B,MATCH(Composições!A2938,Orçamentária!A:A,0),2)","v":"Vidro fantasia 4mm (canelado, martelado, pontilhado e mini-boreal)"},null,{"$f":"TRIM(INDEX(Orçamentária!C:C,MATCH(Composições!A2938,Orçamentária!A:A,0),1))","v":"m2"},null,"",{"$f":"IF(ISNUMBER(F2938),E2938*F2938,\"\")","v":""},null,null,0]
[null,null,null,null,null,"",{"$f":"IF(ISNUMBER(F2939),E2939*F2939,\"\")","v":""},null,null,0]
[null,null,"Vidraceiro com encargos complementares","h",0.45,18.145,{"$f":"IF(ISNUMBER(F2940),E2940*F2940,\"\")","v":8.1652500000000003},{"$f":"SUM(G2940:G2943)","v":109.5578},null,0]
[null,null,"Servente com Encargos Complementares","h",0.45,14.554,{"$f":"IF(ISNUMBER(F2941),E2941*F2941,\"\")","v":6.5493000000000006},null,null,0]
[null,null,"Massa para vidro","Kg",1.5,6.4885000000000002,{"$f":"IF(ISNUMBER(F2942),E2942*F2942,\"\")","v":9.7327499999999993},null,null,0]
[null,null,"VIDRO MARTELADO OU CANELADO, 4 MM - SEM COLOCACAO","m2",1,85.110500000000002,{"$f":"IF(ISNUMBER(F2943),E2943*F2943,\"\")","v":85.110500000000002},null,null,0]
[null,null,null,null,null,"",{"$f":"IF(ISNUMBER(F2944),E2944*F2944,\"\")","v":""},null,null,0]
["SF-00910",{"$f":"INDEX(Orçamentária!A:B,MATCH(Composições!A2945,Orçamentária!A:A,0),2)","v":"Vidro fumê/bronze 5mm"},null,{"$f":"TRIM(INDEX(Orçamentária!C:C,MATCH(Composições!A2945,Orçamentária!A:A,0),1))","v":"m2"},null,"",{"$f":"IF(ISNUMBER(F2945),E2945*F2945,\"\")","v":""},null,null,0]
[null,null,null,null,null,"",{"$f":"IF(ISNUMBER(F2946),E2946*F2946,\"\")","v":""},null,null,0]
[null,null,"Vidraceiro com encargos complementares","h",1,18.145,{"$f":"IF(ISNUMBER(F2947),E2947*F2947,\"\")","v":18.145},{"$f":"SUM(G2947:G2950)","v":181.03579999999999},null,0]
[null,null,"Servente com Encargos Complementares","h",0.2,14.554,{"$f":"IF(ISNUMBER(F2948),E2948*F2948,\"\")","v":2.9108000000000001},null,null,0]
[null,null,"Massa para vidro","Kg",2,6.4885000000000002,{"$f":"IF(ISNUMBER(F2949),E2949*F2949,\"\")","v":12.977},null,null,0]
[null,null,"VIDRO LISO FUME, E = 5 MM - SEM COLOCACAO","m2",1,147.00300000000001,{"$f":"IF(ISNUMBER(F2950),E2950*F2950,\"\")","v":147.00300000000001},null,null,0]
[null,null,null,null,null,"",{"$f":"IF(ISNUMBER(F2951),E2951*F2951,\"\")","v":""},null,null,0]
["SF-00911",{"$f":"INDEX(Orçamentária!A:B,MATCH(Composições!A2952,Orçamentária!A:A,0),2)","v":"Recuperação de massa em esquadria metálica"},null,{"$f":"TRIM(INDEX(Orçamentária!C:C,MATCH(Composições!A2952,Orçamentária!A:A,0),1))","v":"m"},null,"",{"$f":"IF(ISNUMBER(F2952),E2952*F2952,\"\")","v":""},null,null,0]
[null,null,null,null,null,"",{"$f":"IF(ISNUMBER(F2953),E2953*F2953,\"\")","v":""},null,null,0]
[null,null,"Vidraceiro com encargos complementares","h",{"$f":"ROUND(1/3,4)","v":0.33329999999999999},18.145,{"$f":"IF(ISNUMBER(F2954),E2954*F2954,\"\")","v":6.0477284999999998},{"$f":"SUM(G2954:G2956)","v":21.9355285},null,0]
[null,null,"Servente com Encargos Complementares","h",0.2,14.554,{"$f":"IF(ISNUMBER(F2955),E2955*F2955,\"\")","v":2.9108000000000001},null,null,0]
[null,null,"Massa para vidro","Kg",2,6.4885000000000002,{"$f":"IF(ISNUMBER(F2956),E2956*F2956,\"\")","v":12.977},null,null,0]
[null,null,null,null,null,"",{"$f":"IF(ISNUMBER(F2957),E2957*F2957,\"\")","v":""},null,null,0]
["SF-00912",{"$f":"INDEX(Orçamentária!A:B,MATCH(Composições!A2958,Orçamentária!A:A,0),2)","v":"Instalação de espelho reaproveitado"},null,{"$f":"TRIM(INDEX(Orçamentária!C:C,MATCH(Composições!A2958,Orçamentária!A:A,0),1))","v":"m2"},null,"",{"$f":"IF(ISNUMBER(F2958),E2958*F2958,\"\")","v":""},null,null,0]
[null,null,null,null,null,"",{"$f":"IF(ISNUMBER(F2959),E2959*F2959,\"\")","v":""},null,null,0]
[null,null,"Servente com Encargos Complementares","h",0.4,14.554,{"$f":"IF(ISNUMBER(F2960),E2960*F2960,\"\")","v":5.8216000000000001},{"$f":"SUM(G2960:G2962)","v":56.133599999999994},null,0]
[null,null,"Vidraceiro com encargos complementares","h",2,18.145,{"$f":"IF(ISNUMBER(F2961),E2961*F2961,\"\")","v":36.29},null,null,0]
[null,null,"PARAFUSO FRANCES M16 EM ACO GALVANIZADO, COMPRIMENTO = 45 MM, DIAMETRO = 16 MM, CABECA ABAULADA","UN",4,3.5054999999999996,{"$f":"IF(ISNUMBER(F2962),E2962*F2962,\"\")","v":14.021999999999998},null,null,0]
[null,null,null,null,null,"",{"$f":"IF(ISNUMBER(F2963),E2963*F2963,\"\")","v":""},null,null,0]
["SF-00913",{"$f":"INDEX(Orçamentária!A:B,MATCH(Composições!A2964,Orçamentária!A:A,0),2)","v":"Espelho fumê/bronze 4mm lapidado"},null,{"$f":"TRIM(INDEX(Orçamentária!C:C,MATCH(Composições!A2964,Orçamentária!A:A,0),1))","v":"m2"},null,"",{"$f":"IF(ISNUMBER(F2964),E2964*F2964,\"\")","v":""},null,null,0]
[null,null,null,null,null,"",{"$f":"IF(ISNUMBER(F2965),E2965*F2965,\"\")","v":""},null,null,0]
[null,null,"PARAFUSO FRANCES M16 EM ACO GALVANIZADO, COMPRIMENTO = 45 MM, DIAMETRO = 16 MM, CABECA ABAULADA","un",4,3.5054999999999996,{"$f":"IF(ISNUMBER(F2966),E2966*F2966,\"\")","v":14.021999999999998},{"$f":"SUM(G2966:G2969)","v":56.133600000000001},null,0]
[null,null,"Espelho fumê/bronze 4mm lapidado","m2",1,"",{"$f":"IF(ISNUMBER(F2967),E2967*F2967,\"\")","v":""},null,null,0]
[null,null,"Servente com Encargos Complementares","h",0.4,14.554,{"$f":"IF(ISNUMBER(F2968),E2968*F2968,\"\")","v":5.8216000000000001},null,null,0]
[null,null,"Vidraceiro com encargos complementares","h",2,18.145,{"$f":"IF(ISNUMBER(F2969),E2969*F2969,\"\")","v":36.29},null,null,0]
[null,null,null,null,null,"",{"$f":"IF(ISNUMBER(F2970),E2970*F2970,\"\")","v":""},null,null,0]
["SF-00914",{"$f":"INDEX(Orçamentária!A:B,MATCH(Composições!A2971,Orçamentária!A:A,0),2)","v":"Finesson (parafuso de fixação francês)"},null,{"$f":"TRIM(INDEX(Orçamentária!C:C,MATCH(Composições!A2971,Orçamentária!A:A,0),1))","v":"un"},null,"",{"$f":"IF(ISNUMBER(F2971),E2971*F2971,\"\")","v":""},null,null,0]
[null,null,null,null,null,"",{"$f":"IF(ISNUMBER(F2972),E2972*F2972,\"\")","v":""},null,null,0]
[null,null,"Vidraceiro com encargos complementares","h",0.1,18.145,{"$f":"IF(ISNUMBER(F2973),E2973*F2973,\"\")","v":1.8145},{"$f":"SUM(G2973:G2974)","v":5.3199999999999994},null,0]
[null,null,"PARAFUSO FRANCES M16 EM ACO GALVANIZADO, COMPRIMENTO = 45 MM, DIAMETRO = 16 MM, CABECA ABAULADA","un",1,3.5054999999999996,{"$f":"IF(ISNUMBER(F2974),E2974*F2974,\"\")","v":3.5054999999999996},null,null,0]
[null,null,null,null,null,"",{"$f":"IF(ISNUMBER(F2975),E2975*F2975,\"\")","v":""},null,null,0]
["SF-00915",{"$f":"INDEX(Orçamentária!A:B,MATCH(Composições!A2976,Orçamentária!A:A,0),2)","v":"Graute industrializado, fck ≥ 25MPa"},null,{"$f":"TRIM(INDEX(Orçamentária!C:C,MATCH(Composições!A2976,Orçamentária!A:A,0),1))","v":"m3"},null,"",{"$f":"IF(ISNUMBER(F2976),E2976*F2976,\"\")","v":""},null,null,0.31]
[null,null,null,null,null,"",{"$f":"IF(ISNUMBER(F2977),E2977*F2977,\"\")","v":""},null,null,0.31]
[null,null,"PEDREIRO COM ENCARGOS COMPLEMENTARES","H",4.7313999999999998,19.474999999999998,{"$f":"IF(ISNUMBER(F2978),E2978*F2978,\"\")","v":92.144014999999982},{"$f":"SUM(G2978:G2980)","v":2385.2254313999997},null,0.31]
[null,null,"SERVENTE COM ENCARGOS COMPLEMENTARES","H",3.3466,14.554,{"$f":"IF(ISNUMBER(F2979),E2979*F2979,\"\")","v":48.706416400000002},null,null,0.31]
[null,null,"GRAUTE CIMENTICIO PARA USO GERAL","KG",1875,1.1969999999999998,{"$f":"IF(ISNUMBER(F2980),E2980*F2980,\"\")","v":2244.3749999999995},null,null,0.31]
[null,null,null,null,null,"",{"$f":"IF(ISNUMBER(F2981),E2981*F2981,\"\")","v":""},null,null,0.31]
["SF-00916",{"$f":"INDEX(Orçamentária!A:B,MATCH(Composições!A2982,Orçamentária!A:A,0),2)","v":"Armação de aço CA-50 bitolas de 10,0mm a 12,50mm"},null,{"$f":"TRIM(INDEX(Orçamentária!C:C,MATCH(Composições!A2982,Orçamentária!A:A,0),1))","v":"kg"},null,"",{"$f":"IF(ISNUMBER(F2982),E2982*F2982,\"\")","v":""},null,null,0]
[null,null,null,null,null,"",{"$f":"IF(ISNUMBER(F2983),E2983*F2983,\"\")","v":""},null,null,0]
[null,null,"ARAME RECOZIDO 16 BWG, D = 1,65 MM (0,016 KG/M) OU 18 BWG, D = 1,25 MM (0,01 KG/M)","KG",2.5000000000000001E-2,13.281000000000001,{"$f":"IF(ISNUMBER(F2984),E2984*F2984,\"\")","v":0.33202500000000001},{"$f":"SUM(G2984:G2988)","v":7.3792029000000001},null,0]
[null,null,"ESPACADOR / DISTANCIADOR CIRCULAR COM ENTRADA LATERAL, EM PLASTICO, PARA VERGALHAO *4,2 A 12,5* MM, COBRIMENTO 20 MM","UN",0.36699999999999999,0.1235,{"$f":"IF(ISNUMBER(F2985),E2985*F2985,\"\")","v":4.5324499999999997E-2},null,null,0]
[null,null,"AJUDANTE DE ARMADOR COM ENCARGOS COMPLEMENTARES","H",1.14E-2,15.180999999999999,{"$f":"IF(ISNUMBER(F2986),E2986*F2986,\"\")","v":0.17306340000000001},null,null,0]
[null,null,"ARMADOR COM ENCARGOS COMPLEMENTARES","H",6.9800000000000001E-2,19.38,{"$f":"IF(ISNUMBER(F2987),E2987*F2987,\"\")","v":1.352724},null,null,0]
[null,null,"CORTE E DOBRA DE AÇO CA-50, DIÂMETRO DE 12,5 MM, UTILIZADO EM ESTRUTURAS DIVERSAS, EXCETO LAJES. AF_12/2015","KG",1,5.4760660000000003,{"$f":"IF(ISNUMBER(F2988),E2988*F2988,\"\")","v":5.4760660000000003},null,null,0]
[null,null,null,null,null,"",{"$f":"IF(ISNUMBER(F2989),E2989*F2989,\"\")","v":""},null,null,0]
["SF-00917",{"$f":"INDEX(Orçamentária!A:B,MATCH(Composições!A2990,Orçamentária!A:A,0),2)","v":"Armação de aço CA-50 bitolas de 16,0mm a 25,0mm"},null,{"$f":"TRIM(INDEX(Orçamentária!C:C,MATCH(Composições!A2990,Orçamentária!A:A,0),1))","v":"kg"},null,"",{"$f":"IF(ISNUMBER(F2990),E2990*F2990,\"\")","v":""},null,null,0]
[null,null,null,null,null,"",{"$f":"IF(ISNUMBER(F2991),E2991*F2991,\"\")","v":""},null,null,0]
[null,null,"ARAME RECOZIDO 16 BWG, D = 1,65 MM (0,016 KG/M) OU 18 BWG, D = 1,25 MM (0,01 KG/M)","KG",2.5000000000000001E-2,13.281000000000001,{"$f":"IF(ISNUMBER(F2992),E2992*F2992,\"\")","v":0.33202500000000001},{"$f":"SUM(G2992:G2996)","v":7.3698795999999991},null,0]
[null,null,"ESPACADOR / DISTANCIADOR CIRCULAR COM ENTRADA LATERAL, EM PLASTICO, PARA VERGALHAO *4,2 A 12,5* MM, COBRIMENTO 20 MM","UN",0.113,0.1235,{"$f":"IF(ISNUMBER(F2993),E2993*F2993,\"\")","v":1.3955500000000001E-2},null,null,0]
[null,null,"AJUDANTE DE ARMADOR COM ENCARGOS COMPLEMENTARES","H",5.1000000000000004E-3,15.180999999999999,{"$f":"IF(ISNUMBER(F2994),E2994*F2994,\"\")","v":7.7423099999999995E-2},null,null,0]
[null,null,"ARMADOR COM ENCARGOS COMPLEMENTARES","H",3.1199999999999999E-2,19.38,{"$f":"IF(ISNUMBER(F2995),E2995*F2995,\"\")","v":0.60465599999999997},null,null,0]
[null,null,"CORTE E DOBRA DE AÇO CA-50, DIÂMETRO DE 20,0 MM, UTILIZADO EM ESTRUTURAS DIVERSAS, EXCETO LAJES. AF_12/2015","KG",1,6.3418199999999993,{"$f":"IF(ISNUMBER(F2996),E2996*F2996,\"\")","v":6.3418199999999993},null,null,0]
[null,null,null,null,null,"",{"$f":"IF(ISNUMBER(F2997),E2997*F2997,\"\")","v":""},null,null,0]
["SF-00918",{"$f":"INDEX(Orçamentária!A:B,MATCH(Composições!A2998,Orçamentária!A:A,0),2)","v":"Remoção de mola hidráulica de piso"},null,{"$f":"TRIM(INDEX(Orçamentária!C:C,MATCH(Composições!A2998,Orçamentária!A:A,0),1))","v":"un"},null,"",{"$f":"IF(ISNUMBER(F2998),E2998*F2998,\"\")","v":""},null,null,0]
[null,null,null,null,null,"",{"$f":"IF(ISNUMBER(F2999),E2999*F2999,\"\")","v":""},null,null,0]
[null,null,"Servente com Encargos Complementares","h",0.55000000000000004,14.554,{"$f":"IF(ISNUMBER(F3000),E3000*F3000,\"\")","v":8.0047000000000015},{"$f":"SUM(G3000:G3001)","v":17.984450000000002},null,0]
[null,null,"Vidraceiro com encargos complementares","h",0.55000000000000004,18.145,{"$f":"IF(ISNUMBER(F3001),E3001*F3001,\"\")","v":9.979750000000001},null,null,0]
[null,null,null,null,null,"",{"$f":"IF(ISNUMBER(F3002),E3002*F3002,\"\")","v":""},null,null,0]
["SF-00919",{"$f":"INDEX(Orçamentária!A:B,MATCH(Composições!A3003,Orçamentária!A:A,0),2)","v":"Escavação manual de valas"},null,{"$f":"TRIM(INDEX(Orçamentária!C:C,MATCH(Composições!A3003,Orçamentária!A:A,0),1))","v":"m3"},null,"",{"$f":"IF(ISNUMBER(F3003),E3003*F3003,\"\")","v":""},null,null,0]
[null,null,null,null,null,"",{"$f":"IF(ISNUMBER(F3004),E3004*F3004,\"\")","v":""},null,null,0]
[null,null,"Servente com Encargos Complementares","h",3.956,14.554,{"$f":"IF(ISNUMBER(F3005),E3005*F3005,\"\")","v":57.575623999999998},{"$f":"SUM(G3005:G3005)","v":57.575623999999998},null,0]
[null,null,null,null,null,"",{"$f":"IF(ISNUMBER(F3006),E3006*F3006,\"\")","v":""},null,null,0]
["SF-00920",{"$f":"INDEX(Orçamentária!A:B,MATCH(Composições!A3007,Orçamentária!A:A,0),2)","v":"Reaterro de vala com compactação mecanizada"},null,{"$f":"TRIM(INDEX(Orçamentária!C:C,MATCH(Composições!A3007,Orçamentária!A:A,0),1))","v":"m3"},null,"",{"$f":"IF(ISNUMBER(F3007),E3007*F3007,\"\")","v":""},null,null,0]
[null,null,null,null,null,"",{"$f":"IF(ISNUMBER(F3008),E3008*F3008,\"\")","v":""},null,null,0]
[null,null,"SERVENTE COM ENCARGOS COMPLEMENTARES","H",0.65,14.554,{"$f":"IF(ISNUMBER(F3009),E3009*F3009,\"\")","v":9.4601000000000006},{"$f":"SUM(G3009:G3012)","v":20.689204500000002},null,0]
[null,null,"COMPACTADOR DE SOLOS DE PERCUSSÃO (SOQUETE) COM MOTOR A GASOLINA 4 TEMPOS, POTÊNCIA 4 CV - CHP DIURNO. AF_08/2015","CHP",0.27400000000000002,21.555499999999999,{"$f":"IF(ISNUMBER(F3010),E3010*F3010,\"\")","v":5.9062070000000002},null,null,0]
[null,null,"COMPACTADOR DE SOLOS DE PERCUSSÃO (SOQUETE) COM MOTOR A GASOLINA 4 TEMPOS, POTÊNCIA 4 CV - CHI DIURNO. AF_08/2015","CHI",0.254,16.349499999999999,{"$f":"IF(ISNUMBER(F3011),E3011*F3011,\"\")","v":4.1527729999999998},null,null,0]
[null,null,"UMIDIFICAÇÃO DE MATERIAL PARA VALAS COM CAMINHÃO PIPA 10000L. AF_11/2016","M3",1,1.1701244999999998,{"$f":"IF(ISNUMBER(F3012),E3012*F3012,\"\")","v":1.1701244999999998},null,null,0]
[null,null,null,null,null,"",{"$f":"IF(ISNUMBER(F3013),E3013*F3013,\"\")","v":""},null,null,0]
["SF-00921",{"$f":"INDEX(Orçamentária!A:B,MATCH(Composições!A3014,Orçamentária!A:A,0),2)","v":"Aterro de vala com compactação mecanizada"},null,{"$f":"TRIM(INDEX(Orçamentária!C:C,MATCH(Composições!A3014,Orçamentária!A:A,0),1))","v":"m3"},null,"",{"$f":"IF(ISNUMBER(F3014),E3014*F3014,\"\")","v":""},null,null,0]
[null,null,null,null,null,"",{"$f":"IF(ISNUMBER(F3015),E3015*F3015,\"\")","v":""},null,null,0]
[null,null,"CAMINHÃO PIPA 10.000 L TRUCADO, PESO BRUTO TOTAL 23.000 KG, CARGA ÚTIL MÁXIMA 15.935 KG, DISTÂNCIA ENTRE EIXOS 4,8 M, POTÊNCIA 230 CV, INCLUSIVE TANQUE DE AÇO PARA TRANSPORTE DE ÁGUA - CHP DIURNO. AF_06/2014","CHP",6.0000000000000001E-3,157.38649999999998,{"$f":"IF(ISNUMBER(F3016),E3016*F3016,\"\")","v":0.94431899999999991},{"$f":"SUM(G3016:G3023)","v":75.522243812499994},null,0]
[null,null,"CAMINHÃO PIPA 10.000 L TRUCADO, PESO BRUTO TOTAL 23.000 KG, CARGA ÚTIL MÁXIMA 15.935 KG, DISTÂNCIA ENTRE EIXOS 4,8 M, POTÊNCIA 230 CV, INCLUSIVE TANQUE DE AÇO PARA TRANSPORTE DE ÁGUA - CHI DIURNO. AF_06/2014","CHI",3.0000000000000001E-3,31.6065,{"$f":"IF(ISNUMBER(F3017),E3017*F3017,\"\")","v":9.4819500000000001E-2},null,null,0]
[null,null,"ARGILA, ARGILA VERMELHA OU ARGILA ARENOSA (RETIRADA NA JAZIDA, SEM TRANSPORTE)","M3",1.25,9.1769999999999996,{"$f":"IF(ISNUMBER(F3018),E3018*F3018,\"\")","v":11.47125},null,null,0]
[null,null,"SERVENTE COM ENCARGOS COMPLEMENTARES","H",0.65900000000000003,14.554,{"$f":"IF(ISNUMBER(F3019),E3019*F3019,\"\")","v":9.5910860000000007},null,null,0]
[null,null,"COMPACTADOR DE SOLOS DE PERCUSSÃO (SOQUETE) COM MOTOR A GASOLINA 4 TEMPOS, POTÊNCIA 4 CV - CHP DIURNO. AF_08/2015","CHP",0.27400000000000002,21.555499999999999,{"$f":"IF(ISNUMBER(F3020),E3020*F3020,\"\")","v":5.9062070000000002},null,null,0]
[null,null,"COMPACTADOR DE SOLOS DE PERCUSSÃO (SOQUETE) COM MOTOR A GASOLINA 4 TEMPOS, POTÊNCIA 4 CV - CHI DIURNO. AF_08/2015","CHI",0.254,16.349499999999999,{"$f":"IF(ISNUMBER(F3021),E3021*F3021,\"\")","v":4.1527729999999998},null,null,0]
[null,null,"CARGA, MANOBRA E DESCARGA DE SOLOS E MATERIAIS GRANULARES EM CAMINHÃO BASCULANTE 6 M³ - CARGA COM PÁ CARREGADEIRA (CAÇAMBA DE 1,7 A 2,8 M³ / 128 HP) E DESCARGA LIVRE (UNIDADE: M3). AF_07/2020","m3",{"$f":"E3018*1","v":1.25},4.6197654500000001,{"$f":"IF(ISNUMBER(F3022),E3022*F3022,\"\")","v":5.7747068124999998},null,null,0]
[null,null,"TRANSPORTE COM CAMINHÃO BASCULANTE DE 6 M3, EM VIA URBANA PAVIMENTADA, DMT ATÉ 30 KM (UNIDADE: M3xKM). AF_01/2018","M3xKM",{"$f":"E3018*20","v":25},1.5034832999999999,{"$f":"IF(ISNUMBER(F3023),E3023*F3023,\"\")","v":37.587082499999994},null,null,0]
[null,null,null,null,null,"",{"$f":"IF(ISNUMBER(F3024),E3024*F3024,\"\")","v":""},null,null,0]
[null,null,"Obs.: Considerando fornecedor de argila a 20 km do Senado Federal.",null,null,"",{"$f":"IF(ISNUMBER(F3025),E3025*F3025,\"\")","v":""},null,null,0]
[null,null,null,null,null,"",{"$f":"IF(ISNUMBER(F3026),E3026*F3026,\"\")","v":""},null,null,0]
["SF-00922",{"$f":"INDEX(Orçamentária!A:B,MATCH(Composições!A3027,Orçamentária!A:A,0),2)","v":"Tubo de cobre classe \"E\" 22mm"},null,{"$f":"TRIM(INDEX(Orçamentária!C:C,MATCH(Composições!A3027,Orçamentária!A:A,0),1))","v":"m"},null,"",{"$f":"IF(ISNUMBER(F3027),E3027*F3027,\"\")","v":""},null,null,0]
[null,null,null,null,null,"",{"$f":"IF(ISNUMBER(F3028),E3028*F3028,\"\")","v":""},null,null,0]
[null,null,"TUBO DE COBRE CLASSE \"E\", DN = 22 MM, PARA INSTALACAO HIDRAULICA PREDIAL","M",1.0210999999999999,35.15,{"$f":"IF(ISNUMBER(F3029),E3029*F3029,\"\")","v":35.891664999999996},{"$f":"SUM(G3029:G3031)","v":40.800048999999994},null,0]
[null,null,"AUXILIAR DE ENCANADOR OU BOMBEIRO HIDRÁULICO COM ENCARGOS COMPLEMENTARES","H",0.14399999999999999,15.019499999999999,{"$f":"IF(ISNUMBER(F3030),E3030*F3030,\"\")","v":2.1628079999999996},null,null,0]
[null,null,"ENCANADOR OU BOMBEIRO HIDRÁULICO COM ENCARGOS COMPLEMENTARES","H",0.14399999999999999,19.066499999999998,{"$f":"IF(ISNUMBER(F3031),E3031*F3031,\"\")","v":2.7455759999999994},null,null,0]
[null,null,null,null,null,"",{"$f":"IF(ISNUMBER(F3032),E3032*F3032,\"\")","v":""},null,null,0]
["SF-00923",{"$f":"INDEX(Orçamentária!A:B,MATCH(Composições!A3033,Orçamentária!A:A,0),2)","v":"Tubo de cobre classe \"E\" 28 mm"},null,{"$f":"TRIM(INDEX(Orçamentária!C:C,MATCH(Composições!A3033,Orçamentária!A:A,0),1))","v":"m"},null,"",{"$f":"IF(ISNUMBER(F3033),E3033*F3033,\"\")","v":""},null,null,0]
[null,null,null,null,null,"",{"$f":"IF(ISNUMBER(F3034),E3034*F3034,\"\")","v":""},null,null,0]
[null,null,"TUBO DE COBRE CLASSE \"E\", DN = 28 MM, PARA INSTALACAO HIDRAULICA PREDIAL","M",1.0210999999999999,44.612000000000002,{"$f":"IF(ISNUMBER(F3035),E3035*F3035,\"\")","v":45.553313199999998},{"$f":"SUM(G3035:G3037)","v":51.007073200000001},null,0]
[null,null,"AUXILIAR DE ENCANADOR OU BOMBEIRO HIDRÁULICO COM ENCARGOS COMPLEMENTARES","H",0.16,15.019499999999999,{"$f":"IF(ISNUMBER(F3036),E3036*F3036,\"\")","v":2.4031199999999999},null,null,0]
[null,null,"ENCANADOR OU BOMBEIRO HIDRÁULICO COM ENCARGOS COMPLEMENTARES","H",0.16,19.066499999999998,{"$f":"IF(ISNUMBER(F3037),E3037*F3037,\"\")","v":3.0506399999999996},null,null,0]
[null,null,null,null,null,"",{"$f":"IF(ISNUMBER(F3038),E3038*F3038,\"\")","v":""},null,null,0]
["SF-00924",{"$f":"INDEX(Orçamentária!A:B,MATCH(Composições!A3039,Orçamentária!A:A,0),2)","v":"Tubo de cobre classe \"E\" 42mm"},null,{"$f":"TRIM(INDEX(Orçamentária!C:C,MATCH(Composições!A3039,Orçamentária!A:A,0),1))","v":"m"},null,"",{"$f":"IF(ISNUMBER(F3039),E3039*F3039,\"\")","v":""},null,null,0]
[null,null,null,null,null,"",{"$f":"IF(ISNUMBER(F3040),E3040*F3040,\"\")","v":""},null,null,0]
[null,null,"TUBO DE COBRE CLASSE \"E\", DN = 42 MM, PARA INSTALACAO HIDRAULICA PREDIAL","M",1.0210999999999999,87.485500000000002,{"$f":"IF(ISNUMBER(F3041),E3041*F3041,\"\")","v":89.331444049999988},{"$f":"SUM(G3041:G3043)","v":91.921980049999988},null,0]
[null,null,"AUXILIAR DE ENCANADOR OU BOMBEIRO HIDRÁULICO COM ENCARGOS COMPLEMENTARES","H",7.5999999999999998E-2,15.019499999999999,{"$f":"IF(ISNUMBER(F3042),E3042*F3042,\"\")","v":1.1414819999999999},null,null,0]
[null,null,"ENCANADOR OU BOMBEIRO HIDRÁULICO COM ENCARGOS COMPLEMENTARES","H",7.5999999999999998E-2,19.066499999999998,{"$f":"IF(ISNUMBER(F3043),E3043*F3043,\"\")","v":1.4490539999999998},null,null,0]
[null,null,null,null,null,"",{"$f":"IF(ISNUMBER(F3044),E3044*F3044,\"\")","v":""},null,null,0]
["SF-00925",{"$f":"INDEX(Orçamentária!A:B,MATCH(Composições!A3045,Orçamentária!A:A,0),2)","v":"Bacia convencional - Linha Acessibilidade"},null,{"$f":"TRIM(INDEX(Orçamentária!C:C,MATCH(Composições!A3045,Orçamentária!A:A,0),1))","v":"un"},null,"",{"$f":"IF(ISNUMBER(F3045),E3045*F3045,\"\")","v":""},null,null,0]
[null,null,null,null,null,"",{"$f":"IF(ISNUMBER(F3046),E3046*F3046,\"\")","v":""},null,null,0]
[null,null,"PARAFUSO NIQUELADO COM ACABAMENTO CROMADO PARA FIXAR PECA SANITARIA, INCLUI PORCA CEGA, ARRUELA E BUCHA DE NYLON TAMANHO S-10","UN",2,17.270999999999997,{"$f":"IF(ISNUMBER(F3047),E3047*F3047,\"\")","v":34.541999999999994},{"$f":"SUM(G3047:G3053)","v":604.12342334999994},null,0]
[null,null,"VEDACAO PVC, 100 MM, PARA SAIDA VASO SANITARIO","UN",1,1.7765,{"$f":"IF(ISNUMBER(F3048),E3048*F3048,\"\")","v":1.7765},null,null,0]
[null,null,"BACIA SANITARIA (VASO) CONVENCIONAL PARA PCD SEM FURO FRONTAL, DE LOUCA BRANCA, SEM ASSENTO","UN",1,548.79599999999994,{"$f":"IF(ISNUMBER(F3049),E3049*F3049,\"\")","v":548.79599999999994},null,null,0]
[null,null,"Rejunte epoxi, qualquer cor","KG",8.8099999999999998E-2,50.511499999999998,{"$f":"IF(ISNUMBER(F3050),E3050*F3050,\"\")","v":4.4500631500000001},null,null,0]
[null,null,"ENCANADOR OU BOMBEIRO HIDRÁULICO COM ENCARGOS COMPLEMENTARES","H",0.49680000000000002,19.066499999999998,{"$f":"IF(ISNUMBER(F3051),E3051*F3051,\"\")","v":9.4722371999999986},null,null,0]
[null,null,"SERVENTE COM ENCARGOS COMPLEMENTARES","H",0.34949999999999998,14.554,{"$f":"IF(ISNUMBER(F3052),E3052*F3052,\"\")","v":5.0866229999999995},null,null,0]
[null,null,"Tubo de ligação para bacia sanitária em PVC, com acabamento cromado, ajustável ou não. Ref.: DECA 1968C ou equivalente","un",1,"",{"$f":"IF(ISNUMBER(F3053),E3053*F3053,\"\")","v":""},null,null,0]
[null,null,null,null,null,"",{"$f":"IF(ISNUMBER(F3054),E3054*F3054,\"\")","v":""},null,null,0]
["SF-00926",{"$f":"INDEX(Orçamentária!A:B,MATCH(Composições!A3055,Orçamentária!A:A,0),2)","v":"Assento para bacia convencional - Linha Acessibilidade"},null,{"$f":"TRIM(INDEX(Orçamentária!C:C,MATCH(Composições!A3055,Orçamentária!A:A,0),1))","v":"un"},null,"",{"$f":"IF(ISNUMBER(F3055),E3055*F3055,\"\")","v":""},null,null,0]
[null,null,null,null,null,"",{"$f":"IF(ISNUMBER(F3056),E3056*F3056,\"\")","v":""},null,null,0]
[null,null,"Assento poliéster, mod.: Vogue plus, cor branca, com fixação cromada. AP.51 ref: DECA ou equivalente","un ",1,"",{"$f":"IF(ISNUMBER(F3057),E3057*F3057,\"\")","v":""},{"$f":"SUM(G3057:G3058)","v":1.4554},null,0]
[null,null,"Servente Com Encargos Complementares","h",0.1,14.554,{"$f":"IF(ISNUMBER(F3058),E3058*F3058,\"\")","v":1.4554},null,null,0]
[null,null,null,null,null,"",{"$f":"IF(ISNUMBER(F3059),E3059*F3059,\"\")","v":""},null,null,0]
["SF-00927",{"$f":"INDEX(Orçamentária!A:B,MATCH(Composições!A3060,Orçamentária!A:A,0),2)","v":"Base registro de gaveta 1 1/2”"},null,{"$f":"TRIM(INDEX(Orçamentária!C:C,MATCH(Composições!A3060,Orçamentária!A:A,0),1))","v":"un"},null,"",{"$f":"IF(ISNUMBER(F3060),E3060*F3060,\"\")","v":""},null,null,0]
[null,null,null,null,null,"",{"$f":"IF(ISNUMBER(F3061),E3061*F3061,\"\")","v":""},null,null,0]
[null,null,"Registro gaveta em liga de cobre, bitola 1 1/2\" mod:1502.B.112 ref: DECA ou equivalente","un ",1,"",{"$f":"IF(ISNUMBER(F3062),E3062*F3062,\"\")","v":""},{"$f":"SUM(G3062:G3065)","v":27.116771499999999},null,0]
[null,null,"FITA VEDA ROSCA EM ROLOS DE 18 MM X 50 M (L X C)","UN",1.9E-2,11.7325,{"$f":"IF(ISNUMBER(F3063),E3063*F3063,\"\")","v":0.22291749999999999},null,null,0]
[null,null,"Encanador ou Bombeiro Hidráulico com Encargos Complementares","h",0.78900000000000003,19.066499999999998,{"$f":"IF(ISNUMBER(F3064),E3064*F3064,\"\")","v":15.043468499999999},null,null,0]
[null,null,"AUXILIAR DE ENCANADOR OU BOMBEIRO HIDRÁULICO COM ENCARGOS COMPLEMENTARES","h",0.78900000000000003,15.019499999999999,{"$f":"IF(ISNUMBER(F3065),E3065*F3065,\"\")","v":11.8503855},null,null,0]
[null,null,null,null,null,"",{"$f":"IF(ISNUMBER(F3066),E3066*F3066,\"\")","v":""},null,null,0]
["SF-00928",{"$f":"INDEX(Orçamentária!A:B,MATCH(Composições!A3067,Orçamentária!A:A,0),2)","v":"Condutor 25mm²"},null,{"$f":"TRIM(INDEX(Orçamentária!C:C,MATCH(Composições!A3067,Orçamentária!A:A,0),1))","v":"m"},null,"",{"$f":"IF(ISNUMBER(F3067),E3067*F3067,\"\")","v":""},null,null,0]
[null,null,null,null,null,"",{"$f":"IF(ISNUMBER(F3068),E3068*F3068,\"\")","v":""},null,null,0]
[null,null,"Cabo flexível isolado em EPR não halogenado 25 mm² 0,6 a 1 kV","m",1.0149999999999999,0,{"$f":"IF(ISNUMBER(F3069),E3069*F3069,\"\")","v":0},{"$f":"SUM(G3069:G3072)","v":2.2756204999999996},null,0]
[null,null,"Fita isolante adesiva antichama, uso ate 750 V, em rolo de 19 mm x 5 m","UN",8.9999999999999993E-3,3.2965,{"$f":"IF(ISNUMBER(F3070),E3070*F3070,\"\")","v":2.9668499999999997E-2},null,null,0]
[null,null,"Auxiliar de eletricista com encargos complementares","h",6.4000000000000001E-2,15.447000000000001,{"$f":"IF(ISNUMBER(F3071),E3071*F3071,\"\")","v":0.98860800000000004},null,null,0]
[null,null,"Eletricista com encargos complementares","h",6.4000000000000001E-2,19.645999999999997,{"$f":"IF(ISNUMBER(F3072),E3072*F3072,\"\")","v":1.2573439999999998},null,null,0]
[null,null,null,null,null,"",{"$f":"IF(ISNUMBER(F3073),E3073*F3073,\"\")","v":""},null,null,0]
["SF-00929",{"$f":"INDEX(Orçamentária!A:B,MATCH(Composições!A3074,Orçamentária!A:A,0),2)","v":"Condutor 35mm²"},null,{"$f":"TRIM(INDEX(Orçamentária!C:C,MATCH(Composições!A3074,Orçamentária!A:A,0),1))","v":"m"},null,"",{"$f":"IF(ISNUMBER(F3074),E3074*F3074,\"\")","v":""},null,null,0]
[null,null,null,null,null,"",{"$f":"IF(ISNUMBER(F3075),E3075*F3075,\"\")","v":""},null,null,0]
[null,null,"Cabo flexível isolado em EPR não halogenado 35 mm² 0,6 a 1 kV","m",1.0149999999999999,0,{"$f":"IF(ISNUMBER(F3076),E3076*F3076,\"\")","v":0},{"$f":"SUM(G3076:G3079)","v":2.5914574999999997},null,0]
[null,null,"Fita isolante adesiva antichama, uso ate 750 V, em rolo de 19 mm x 5 m","UN",8.9999999999999993E-3,3.2965,{"$f":"IF(ISNUMBER(F3077),E3077*F3077,\"\")","v":2.9668499999999997E-2},null,null,0]
[null,null,"Auxiliar de eletricista com encargos complementares","h",7.2999999999999995E-2,15.447000000000001,{"$f":"IF(ISNUMBER(F3078),E3078*F3078,\"\")","v":1.127631},null,null,0]
[null,null,"Eletricista com encargos complementares","h",7.2999999999999995E-2,19.645999999999997,{"$f":"IF(ISNUMBER(F3079),E3079*F3079,\"\")","v":1.4341579999999996},null,null,0]
[null,null,null,null,null,"",{"$f":"IF(ISNUMBER(F3080),E3080*F3080,\"\")","v":""},null,null,0]
["SF-00930",{"$f":"INDEX(Orçamentária!A:B,MATCH(Composições!A3081,Orçamentária!A:A,0),2)","v":"Condutor 50mm²"},null,{"$f":"TRIM(INDEX(Orçamentária!C:C,MATCH(Composições!A3081,Orçamentária!A:A,0),1))","v":"m"},null,"",{"$f":"IF(ISNUMBER(F3081),E3081*F3081,\"\")","v":""},null,null,0]
[null,null,null,null,null,"",{"$f":"IF(ISNUMBER(F3082),E3082*F3082,\"\")","v":""},null,null,0]
[null,null,"Cabo flexível isolado em EPR não halogenado 50 mm² 0,6 a 1 kV","m",1.0149999999999999,0,{"$f":"IF(ISNUMBER(F3083),E3083*F3083,\"\")","v":0},{"$f":"SUM(G3083:G3086)","v":3.0827594999999999},null,0]
[null,null,"Fita isolante adesiva antichama, uso ate 750 V, em rolo de 19 mm x 5 m","UN",8.9999999999999993E-3,3.2965,{"$f":"IF(ISNUMBER(F3084),E3084*F3084,\"\")","v":2.9668499999999997E-2},null,null,0]
[null,null,"Auxiliar de eletricista com encargos complementares","h",8.6999999999999994E-2,15.447000000000001,{"$f":"IF(ISNUMBER(F3085),E3085*F3085,\"\")","v":1.3438889999999999},null,null,0]
[null,null,"Eletricista com encargos complementares","h",8.6999999999999994E-2,19.645999999999997,{"$f":"IF(ISNUMBER(F3086),E3086*F3086,\"\")","v":1.7092019999999997},null,null,0]
[null,null,null,null,null,"",{"$f":"IF(ISNUMBER(F3087),E3087*F3087,\"\")","v":""},null,null,0]
["SF-00931",{"$f":"INDEX(Orçamentária!A:B,MATCH(Composições!A3088,Orçamentária!A:A,0),2)","v":"Condutor 70mm²"},null,{"$f":"TRIM(INDEX(Orçamentária!C:C,MATCH(Composições!A3088,Orçamentária!A:A,0),1))","v":"m"},null,"",{"$f":"IF(ISNUMBER(F3088),E3088*F3088,\"\")","v":""},null,null,0]
[null,null,null,null,null,"",{"$f":"IF(ISNUMBER(F3089),E3089*F3089,\"\")","v":""},null,null,0]
[null,null,"Cabo flexível isolado em EPR não halogenado 70 mm² 0,6 a 1 kV","m",1.0149999999999999,0,{"$f":"IF(ISNUMBER(F3090),E3090*F3090,\"\")","v":0},{"$f":"SUM(G3090:G3093)","v":3.7144334999999997},null,0]
[null,null,"Fita isolante adesiva antichama, uso ate 750 V, em rolo de 19 mm x 5 m","UN",8.9999999999999993E-3,3.2965,{"$f":"IF(ISNUMBER(F3091),E3091*F3091,\"\")","v":2.9668499999999997E-2},null,null,0]
[null,null,"Auxiliar de eletricista com encargos complementares","h",0.105,15.447000000000001,{"$f":"IF(ISNUMBER(F3092),E3092*F3092,\"\")","v":1.6219350000000001},null,null,0]
[null,null,"Eletricista com encargos complementares","h",0.105,19.645999999999997,{"$f":"IF(ISNUMBER(F3093),E3093*F3093,\"\")","v":2.0628299999999995},null,null,0]
[null,null,null,null,null,"",{"$f":"IF(ISNUMBER(F3094),E3094*F3094,\"\")","v":""},null,null,0]
["SF-00932",{"$f":"INDEX(Orçamentária!A:B,MATCH(Composições!A3095,Orçamentária!A:A,0),2)","v":"Condutor 95mm²"},null,{"$f":"TRIM(INDEX(Orçamentária!C:C,MATCH(Composições!A3095,Orçamentária!A:A,0),1))","v":"m"},null,"",{"$f":"IF(ISNUMBER(F3095),E3095*F3095,\"\")","v":""},null,null,0]
[null,null,null,null,null,"",{"$f":"IF(ISNUMBER(F3096),E3096*F3096,\"\")","v":""},null,null,0]
[null,null,"Cabo flexível isolado em EPR não halogenado 95 mm² 0,6 a 1 kV","m",1.0149999999999999,0,{"$f":"IF(ISNUMBER(F3097),E3097*F3097,\"\")","v":0},{"$f":"SUM(G3097:G3100)","v":4.5215724999999996},null,0]
[null,null,"Fita isolante adesiva antichama, uso ate 750 V, em rolo de 19 mm x 5 m","UN",8.9999999999999993E-3,3.2965,{"$f":"IF(ISNUMBER(F3098),E3098*F3098,\"\")","v":2.9668499999999997E-2},null,null,0]
[null,null,"Auxiliar de eletricista com encargos complementares","h",0.128,15.447000000000001,{"$f":"IF(ISNUMBER(F3099),E3099*F3099,\"\")","v":1.9772160000000001},null,null,0]
[null,null,"Eletricista com encargos complementares","h",0.128,19.645999999999997,{"$f":"IF(ISNUMBER(F3100),E3100*F3100,\"\")","v":2.5146879999999996},null,null,0]
[null,null,null,null,null,"",{"$f":"IF(ISNUMBER(F3101),E3101*F3101,\"\")","v":""},null,null,0]
["SF-00933",{"$f":"INDEX(Orçamentária!A:B,MATCH(Composições!A3102,Orçamentária!A:A,0),2)","v":"Condutor 120mm²"},null,{"$f":"TRIM(INDEX(Orçamentária!C:C,MATCH(Composições!A3102,Orçamentária!A:A,0),1))","v":"m"},null,"",{"$f":"IF(ISNUMBER(F3102),E3102*F3102,\"\")","v":""},null,null,0]
[null,null,null,null,null,"",{"$f":"IF(ISNUMBER(F3103),E3103*F3103,\"\")","v":""},null,null,0]
[null,null,"Cabo flexível isolado em EPR não halogenado 120 mm² 0,6 a 1 kV","m",1.0149999999999999,0,{"$f":"IF(ISNUMBER(F3104),E3104*F3104,\"\")","v":0},{"$f":"SUM(G3104:G3107)","v":5.3638044999999996},null,0]
[null,null,"Fita isolante adesiva antichama, uso ate 750 V, em rolo de 19 mm x 5 m","UN",8.9999999999999993E-3,3.2965,{"$f":"IF(ISNUMBER(F3105),E3105*F3105,\"\")","v":2.9668499999999997E-2},null,null,0]
[null,null,"Auxiliar de eletricista com encargos complementares","h",0.152,15.447000000000001,{"$f":"IF(ISNUMBER(F3106),E3106*F3106,\"\")","v":2.347944},null,null,0]
[null,null,"Eletricista com encargos complementares","h",0.152,19.645999999999997,{"$f":"IF(ISNUMBER(F3107),E3107*F3107,\"\")","v":2.9861919999999995},null,null,0]
[null,null,null,null,null,"",{"$f":"IF(ISNUMBER(F3108),E3108*F3108,\"\")","v":""},null,null,0]
["SF-00934",{"$f":"INDEX(Orçamentária!A:B,MATCH(Composições!A3109,Orçamentária!A:A,0),2)","v":"Condutor 150mm²"},null,{"$f":"TRIM(INDEX(Orçamentária!C:C,MATCH(Composições!A3109,Orçamentária!A:A,0),1))","v":"m"},null,"",{"$f":"IF(ISNUMBER(F3109),E3109*F3109,\"\")","v":""},null,null,0]
[null,null,null,null,null,"",{"$f":"IF(ISNUMBER(F3110),E3110*F3110,\"\")","v":""},null,null,0]
[null,null,"Cabo flexível isolado em EPR não halogenado 150 mm² 0,6 a 1 kV","m",1.0149999999999999,0,{"$f":"IF(ISNUMBER(F3111),E3111*F3111,\"\")","v":0},{"$f":"SUM(G3111:G3114)","v":6.3113154999999992},null,0]
[null,null,"Fita isolante adesiva antichama, uso ate 750 V, em rolo de 19 mm x 5 m","UN",8.9999999999999993E-3,3.2965,{"$f":"IF(ISNUMBER(F3112),E3112*F3112,\"\")","v":2.9668499999999997E-2},null,null,0]
[null,null,"Auxiliar de eletricista com encargos complementares","h",0.17899999999999999,15.447000000000001,{"$f":"IF(ISNUMBER(F3113),E3113*F3113,\"\")","v":2.7650130000000002},null,null,0]
[null,null,"Eletricista com encargos complementares","h",0.17899999999999999,19.645999999999997,{"$f":"IF(ISNUMBER(F3114),E3114*F3114,\"\")","v":3.5166339999999994},null,null,0]
[null,null,null,null,null,"",{"$f":"IF(ISNUMBER(F3115),E3115*F3115,\"\")","v":""},null,null,0]
["SF-00935",{"$f":"INDEX(Orçamentária!A:B,MATCH(Composições!A3116,Orçamentária!A:A,0),2)","v":"Condutor 185mm²"},null,{"$f":"TRIM(INDEX(Orçamentária!C:C,MATCH(Composições!A3116,Orçamentária!A:A,0),1))","v":"m"},null,"",{"$f":"IF(ISNUMBER(F3116),E3116*F3116,\"\")","v":""},null,null,0]
[null,null,null,null,null,"",{"$f":"IF(ISNUMBER(F3117),E3117*F3117,\"\")","v":""},null,null,0]
[null,null,"Cabo flexível isolado em EPR não halogenado 185 mm² 0,6 a 1 kV","m",1.0149999999999999,0,{"$f":"IF(ISNUMBER(F3118),E3118*F3118,\"\")","v":0},{"$f":"SUM(G3118:G3121)","v":7.4693845000000003},null,0]
[null,null,"Fita isolante adesiva antichama, uso ate 750 V, em rolo de 19 mm x 5 m","UN",8.9999999999999993E-3,3.2965,{"$f":"IF(ISNUMBER(F3119),E3119*F3119,\"\")","v":2.9668499999999997E-2},null,null,0]
[null,null,"Auxiliar de eletricista com encargos complementares","h",0.21199999999999999,15.447000000000001,{"$f":"IF(ISNUMBER(F3120),E3120*F3120,\"\")","v":3.2747640000000002},null,null,0]
[null,null,"Eletricista com encargos complementares","h",0.21199999999999999,19.645999999999997,{"$f":"IF(ISNUMBER(F3121),E3121*F3121,\"\")","v":4.1649519999999995},null,null,0]
[null,null,null,null,null,"",{"$f":"IF(ISNUMBER(F3122),E3122*F3122,\"\")","v":""},null,null,0]
["SF-00936",{"$f":"INDEX(Orçamentária!A:B,MATCH(Composições!A3123,Orçamentária!A:A,0),2)","v":"Condutor 240mm²"},null,{"$f":"TRIM(INDEX(Orçamentária!C:C,MATCH(Composições!A3123,Orçamentária!A:A,0),1))","v":"m"},null,"",{"$f":"IF(ISNUMBER(F3123),E3123*F3123,\"\")","v":""},null,null,0]
[null,null,null,null,null,"",{"$f":"IF(ISNUMBER(F3124),E3124*F3124,\"\")","v":""},null,null,0]
[null,null,"Cabo flexível isolado em EPR não halogenado 240 mm² 0,6 a 1 kV","m",1.0149999999999999,0,{"$f":"IF(ISNUMBER(F3125),E3125*F3125,\"\")","v":0},{"$f":"SUM(G3125:G3128)","v":2.2756204999999996},null,0]
[null,null,"Fita isolante adesiva antichama, uso ate 750 V, em rolo de 19 mm x 5 m","UN",8.9999999999999993E-3,3.2965,{"$f":"IF(ISNUMBER(F3126),E3126*F3126,\"\")","v":2.9668499999999997E-2},null,null,0]
[null,null,"Auxiliar de eletricista com encargos complementares","h",6.4000000000000001E-2,15.447000000000001,{"$f":"IF(ISNUMBER(F3127),E3127*F3127,\"\")","v":0.98860800000000004},null,null,0]
[null,null,"Eletricista com encargos complementares","h",6.4000000000000001E-2,19.645999999999997,{"$f":"IF(ISNUMBER(F3128),E3128*F3128,\"\")","v":1.2573439999999998},null,null,0]
[null,null,null,null,null,"",{"$f":"IF(ISNUMBER(F3129),E3129*F3129,\"\")","v":""},null,null,0]
["SF-00937",{"$f":"INDEX(Orçamentária!A:B,MATCH(Composições!A3130,Orçamentária!A:A,0),2)","v":"Montagem e desmontagem de andaime fachadeiro"},null,{"$f":"TRIM(INDEX(Orçamentária!C:C,MATCH(Composições!A3130,Orçamentária!A:A,0),1))","v":"m2"},null,"",{"$f":"IF(ISNUMBER(F3130),E3130*F3130,\"\")","v":""},null,null,1007.72]
[null,null,null,null,null,"",{"$f":"IF(ISNUMBER(F3131),E3131*F3131,\"\")","v":""},null,null,1007.72]
[null,null,"MONTADOR DE ESTRUTURA METÁLICA COM ENCARGOS COMPLEMENTARES","H",0.29509999999999997,14.962499999999999,{"$f":"IF(ISNUMBER(F3132),E3132*F3132,\"\")","v":4.4154337499999992},{"$f":"SUM(G3132:G3134)","v":6.7637819035599982},null,1007.72]
[null,null,"SERVENTE COM ENCARGOS COMPLEMENTARES","H",5.8999999999999997E-2,14.554,{"$f":"IF(ISNUMBER(F3133),E3133*F3133,\"\")","v":0.85868599999999995},null,null,1007.72]
[null,null,"TRANSPORTE HORIZONTAL MANUAL, DE TUBO DE AÇO CARBONO LEVE OU MÉDIO, PRETO OU GALVANIZADO, COM DIÂMETRO MAIOR QUE 32 MM E MENOR OU IGUAL A 65 MM (UNIDADE: MXKM). AF_07/2019","MXKM",0.1673,8.9041371999999992,{"$f":"IF(ISNUMBER(F3134),E3134*F3134,\"\")","v":1.4896621535599999},null,null,1007.72]
[null,null,null,null,null,"",{"$f":"IF(ISNUMBER(F3135),E3135*F3135,\"\")","v":""},null,null,1007.72]
["SF-00938",{"$f":"INDEX(Orçamentária!A:B,MATCH(Composições!A3136,Orçamentária!A:A,0),2)","v":"Montagem e desmontagem de andaime tubular"},null,{"$f":"TRIM(INDEX(Orçamentária!C:C,MATCH(Composições!A3136,Orçamentária!A:A,0),1))","v":"m"},null,"",{"$f":"IF(ISNUMBER(F3136),E3136*F3136,\"\")","v":""},null,null,0]
[null,null,null,null,null,"",{"$f":"IF(ISNUMBER(F3137),E3137*F3137,\"\")","v":""},null,null,0]
[null,null,"MONTADOR DE ESTRUTURA METÁLICA COM ENCARGOS COMPLEMENTARES","H",0.5,14.962499999999999,{"$f":"IF(ISNUMBER(F3138),E3138*F3138,\"\")","v":7.4812499999999993},{"$f":"SUM(G3138:G3140)","v":12.516113154399999},null,0]
[null,null,"SERVENTE COM ENCARGOS COMPLEMENTARES","H",0.1,14.554,{"$f":"IF(ISNUMBER(F3139),E3139*F3139,\"\")","v":1.4554},null,null,0]
[null,null,"TRANSPORTE HORIZONTAL MANUAL, DE TUBO DE AÇO CARBONO LEVE OU MÉDIO, PRETO OU GALVANIZADO, COM DIÂMETRO MAIOR QUE 32 MM E MENOR OU IGUAL A 65 MM (UNIDADE: MXKM). AF_07/2019","MXKM",0.40200000000000002,8.9041371999999992,{"$f":"IF(ISNUMBER(F3140),E3140*F3140,\"\")","v":3.5794631544},null,null,0]
[null,null,null,null,null,"",{"$f":"IF(ISNUMBER(F3141),E3141*F3141,\"\")","v":""},null,null,0]
["SF-00940",{"$f":"INDEX(Orçamentária!A:B,MATCH(Composições!A3142,Orçamentária!A:A,0),2)","v":"Locação de fechamento para andaimes com tela 100% polietileno"},null,{"$f":"TRIM(INDEX(Orçamentária!C:C,MATCH(Composições!A3142,Orçamentária!A:A,0),1))","v":"m2 x mês"},null,"",{"$f":"IF(ISNUMBER(F3142),E3142*F3142,\"\")","v":""},null,null,809.75]
[null,null,null,null,null,"",{"$f":"IF(ISNUMBER(F3143),E3143*F3143,\"\")","v":""},null,null,809.75]
[null,null,"ABRACADEIRA DE NYLON PARA AMARRACAO DE CABOS, COMPRIMENTO DE 200 X *4,6* MM","UN",0.89449999999999996,0.17099999999999999,{"$f":"IF(ISNUMBER(F3144),E3144*F3144,\"\")","v":0.15295949999999997},{"$f":"SUM(G3144:G3147)","v":3.4655106999999998},null,809.75]
[null,null,"TELA FACHADEIRA EM POLIETILENO, ROLO DE 3 X 100 M (L X C), COR BRANCA, SEM LOGOMARCA - PARA PROTECAO DE OBRAS","M2",{"$f":"ROUND(1.177*(1/3),4)","v":0.39229999999999998},1.9,{"$f":"IF(ISNUMBER(F3145),E3145*F3145,\"\")","v":0.74536999999999998},null,null,809.75]
[null,null,"AJUDANTE DE CARPINTEIRO COM ENCARGOS COMPLEMENTARES","H",6.9900000000000004E-2,16.416,{"$f":"IF(ISNUMBER(F3146),E3146*F3146,\"\")","v":1.1474784},null,null,809.75]
[null,null,"CARPINTEIRO DE FORMAS COM ENCARGOS COMPLEMENTARES","H",7.3400000000000007E-2,19.341999999999999,{"$f":"IF(ISNUMBER(F3147),E3147*F3147,\"\")","v":1.4197028},null,null,809.75]
[null,null,null,null,null,"",{"$f":"IF(ISNUMBER(F3148),E3148*F3148,\"\")","v":""},null,null,809.75]
[null,null,"Obs.: Considerou-se aproveitamento de 3x para a tela, já que trata-se de locação.",null,null,"",{"$f":"IF(ISNUMBER(F3149),E3149*F3149,\"\")","v":""},null,null,809.75]
[null,null,null,null,null,"",{"$f":"IF(ISNUMBER(F3150),E3150*F3150,\"\")","v":""},null,null,809.75]
["SF-00942",{"$f":"INDEX(Orçamentária!A:B,MATCH(Composições!A3151,Orçamentária!A:A,0),2)","v":"Remoção de folha de porta de enrolar"},null,{"$f":"TRIM(INDEX(Orçamentária!C:C,MATCH(Composições!A3151,Orçamentária!A:A,0),1))","v":"un"},null,"",{"$f":"IF(ISNUMBER(F3151),E3151*F3151,\"\")","v":""},null,null,0]
[null,null,null,null,null,"",{"$f":"IF(ISNUMBER(F3152),E3152*F3152,\"\")","v":""},null,null,0]
[null,null,"Serralheiro com encargos complementares","h",2.5,19.38,{"$f":"IF(ISNUMBER(F3153),E3153*F3153,\"\")","v":48.449999999999996},{"$f":"SUM(G3153:G3154)","v":127.86999999999998},null,0]
[null,null,"Auxiliar de serralheiro com encargos complementares","h",5,15.883999999999999,{"$f":"IF(ISNUMBER(F3154),E3154*F3154,\"\")","v":79.419999999999987},null,null,0]
[null,null,null,null,null,"",{"$f":"IF(ISNUMBER(F3155),E3155*F3155,\"\")","v":""},null,null,0]
["SF-00943",{"$f":"INDEX(Orçamentária!A:B,MATCH(Composições!A3156,Orçamentária!A:A,0),2)","v":"Base registro de gaveta 1\""},null,{"$f":"TRIM(INDEX(Orçamentária!C:C,MATCH(Composições!A3156,Orçamentária!A:A,0),1))","v":"un"},null,"",{"$f":"IF(ISNUMBER(F3156),E3156*F3156,\"\")","v":""},null,null,0]
[null,null,null,null,null,"",{"$f":"IF(ISNUMBER(F3157),E3157*F3157,\"\")","v":""},null,null,0]
[null,null,"Registro de gaveta em liga de cobre, bitola 1\" mod: 4509.302 ref: DECA ou equivalente","un ",1,"",{"$f":"IF(ISNUMBER(F3158),E3158*F3158,\"\")","v":""},{"$f":"SUM(G3158:G3161)","v":26.511065749999997},null,0]
[null,null,"FITA VEDA ROSCA EM ROLOS DE 18 MM X 50 M (L X C)","UN",9.4999999999999998E-3,11.7325,{"$f":"IF(ISNUMBER(F3159),E3159*F3159,\"\")","v":0.11145875},null,null,0]
[null,null,"Encanador ou Bombeiro Hidráulico com Encargos Complementares","h",0.77449999999999997,19.066499999999998,{"$f":"IF(ISNUMBER(F3160),E3160*F3160,\"\")","v":14.767004249999998},null,null,0]
[null,null,"Auxiliar de encanador ou bombeiro hidráulico com encargos complementares","h",0.77449999999999997,15.019499999999999,{"$f":"IF(ISNUMBER(F3161),E3161*F3161,\"\")","v":11.632602749999998},null,null,0]
[null,null,null,null,null,"",{"$f":"IF(ISNUMBER(F3162),E3162*F3162,\"\")","v":""},null,null,0]
["SF-00944",{"$f":"INDEX(Orçamentária!A:B,MATCH(Composições!A3163,Orçamentária!A:A,0),2)","v":"Base registro de pressão 3/4\""},null,{"$f":"TRIM(INDEX(Orçamentária!C:C,MATCH(Composições!A3163,Orçamentária!A:A,0),1))","v":"un"},null,"",{"$f":"IF(ISNUMBER(F3163),E3163*F3163,\"\")","v":""},null,null,0]
[null,null,null,null,null,"",{"$f":"IF(ISNUMBER(F3164),E3164*F3164,\"\")","v":""},null,null,0]
[null,null,"FITA VEDA ROSCA EM ROLOS DE 18 MM X 50 M (L X C)","UN",1.2999999999999999E-2,11.7325,{"$f":"IF(ISNUMBER(F3165),E3165*F3165,\"\")","v":0.15252250000000001},{"$f":"SUM(G3165:G3168)","v":6.9697224999999996},null,0]
[null,null,"Registro de pressão em liga de cobre, bitola 3/4\" mod: 4416.202 ref: DECA ou equivalente","un ",1,"",{"$f":"IF(ISNUMBER(F3166),E3166*F3166,\"\")","v":""},null,null,0]
[null,null,"Auxiliar de encanador ou bombeiro hidráulico com encargos complementares","h",0.2,15.019499999999999,{"$f":"IF(ISNUMBER(F3167),E3167*F3167,\"\")","v":3.0038999999999998},null,null,0]
[null,null,"Encanador ou Bombeiro Hidráulico com Encargos Complementares","h",0.2,19.066499999999998,{"$f":"IF(ISNUMBER(F3168),E3168*F3168,\"\")","v":3.8132999999999999},null,null,0]
[null,null,null,null,null,"",{"$f":"IF(ISNUMBER(F3169),E3169*F3169,\"\")","v":""},null,null,0]
["SF-00946",{"$f":"INDEX(Orçamentária!A:B,MATCH(Composições!A3170,Orçamentária!A:A,0),2)","v":"Tampa em ferro fundido T33"},null,{"$f":"TRIM(INDEX(Orçamentária!C:C,MATCH(Composições!A3170,Orçamentária!A:A,0),1))","v":"un"},null,"",{"$f":"IF(ISNUMBER(F3170),E3170*F3170,\"\")","v":""},null,null,0]
[null,null,null,null,null,"",{"$f":"IF(ISNUMBER(F3171),E3171*F3171,\"\")","v":""},null,null,0]
[null,null,"TAMPAO FOFO ARTICULADO P/ REGISTRO, CLASSE A15 CARGA MAXIMA 1,5 T, *400 X 400* MM","UN",1,153.20650000000001,{"$f":"IF(ISNUMBER(F3172),E3172*F3172,\"\")","v":153.20650000000001},{"$f":"SUM(G3172:G3175)","v":213.715034694991},null,0]
[null,null,"ARGAMASSA TRAÇO 1:4 (EM VOLUME DE CIMENTO E AREIA GROSSA ÚMIDA) PARA CHAPISCO CONVENCIONAL, PREPARO MECÂNICO COM BETONEIRA 400 L. AF_08/2019","M3",7.0000000000000001E-3,379.89067071299996,{"$f":"IF(ISNUMBER(F3173),E3173*F3173,\"\")","v":2.659234694991},null,null,0]
[null,null,"Pedreiro com Encargos Complementares","h",1.7,19.474999999999998,{"$f":"IF(ISNUMBER(F3174),E3174*F3174,\"\")","v":33.107499999999995},null,null,0]
[null,null,"Servente com Encargos Complementares","h",1.7,14.554,{"$f":"IF(ISNUMBER(F3175),E3175*F3175,\"\")","v":24.741800000000001},null,null,0]
[null,null,null,null,null,"",{"$f":"IF(ISNUMBER(F3176),E3176*F3176,\"\")","v":""},null,null,0]
["SF-00947",{"$f":"INDEX(Orçamentária!A:B,MATCH(Composições!A3177,Orçamentária!A:A,0),2)","v":"Arquiteto(a) com experiência em intervenção no patrimônio cultural"},null,{"$f":"TRIM(INDEX(Orçamentária!C:C,MATCH(Composições!A3177,Orçamentária!A:A,0),1))","v":"hh"},null,"",{"$f":"IF(ISNUMBER(F3177),E3177*F3177,\"\")","v":""},null,null,1200]
[null,null,null,null,null,"",{"$f":"IF(ISNUMBER(F3178),E3178*F3178,\"\")","v":""},null,null,1200]
[null,null,"Arquiteto de obra pleno com encargos complementares","h",1,74.565499999999986,{"$f":"IF(ISNUMBER(F3179),E3179*F3179,\"\")","v":74.565499999999986},{"$f":"SUM(G3179:G3179)","v":74.565499999999986},null,1200]
[null,null,null,null,null,"",{"$f":"IF(ISNUMBER(F3180),E3180*F3180,\"\")","v":""},null,null,1200]
["SF-00948",{"$f":"INDEX(Orçamentária!A:B,MATCH(Composições!A3181,Orçamentária!A:A,0),2)","v":"Locação de andaime suspenso tipo leve"},null,{"$f":"TRIM(INDEX(Orçamentária!C:C,MATCH(Composições!A3181,Orçamentária!A:A,0),1))","v":"un x mês"},null,"",{"$f":"IF(ISNUMBER(F3181),E3181*F3181,\"\")","v":""},null,null,5]
[null,null,null,null,null,"",{"$f":"IF(ISNUMBER(F3182),E3182*F3182,\"\")","v":""},null,null,5]
[null,null,"LOCACAO DE ANDAIME SUSPENSO OU BALANCIM MANUAL, CAPACIDADE DE CARGA TOTAL DE APROXIMADAMENTE 250 KG/M2, PLATAFORMA DE 1,50 M X 0,80 M (C X L), CABO DE 45 M","MES",1,570,{"$f":"IF(ISNUMBER(F3183),E3183*F3183,\"\")","v":570},{"$f":"SUM(G3183:G3183)","v":570},null,5]
[null,null,null,null,null,"",{"$f":"IF(ISNUMBER(F3184),E3184*F3184,\"\")","v":""},null,null,5]
["SF-00950",{"$f":"INDEX(Orçamentária!A:B,MATCH(Composições!A3185,Orçamentária!A:A,0),2)","v":"Limpeza de superfície por hidrojateamento de média pressão"},null,{"$f":"TRIM(INDEX(Orçamentária!C:C,MATCH(Composições!A3185,Orçamentária!A:A,0),1))","v":"m2"},null,"",{"$f":"IF(ISNUMBER(F3185),E3185*F3185,\"\")","v":""},null,null,226]
[null,null,null,null,null,"",{"$f":"IF(ISNUMBER(F3186),E3186*F3186,\"\")","v":""},null,null,226]
[null,null,"Servente com Encargos Complementares","h",8.8999999999999996E-2,14.554,{"$f":"IF(ISNUMBER(F3187),E3187*F3187,\"\")","v":1.2953060000000001},{"$f":"SUM(G3187:G3188)","v":1.3095560000000002},null,226]
[null,null,"LAVADORA DE ALTA PRESSAO (LAVA-JATO) PARA AGUA FRIA, PRESSAO DE OPERACAO ENTRE 1400 E 1900 LIB/POL2, VAZAO MAXIMA ENTRE 400 E 700 L/H - CHP DIURNO. AF_04/2019","chp",1.4999999999999999E-2,0.95,{"$f":"IF(ISNUMBER(F3188),E3188*F3188,\"\")","v":1.4249999999999999E-2},null,null,226]
[null,null,null,null,null,"",{"$f":"IF(ISNUMBER(F3189),E3189*F3189,\"\")","v":""},null,null,226]
["SF-00951",{"$f":"INDEX(Orçamentária!A:B,MATCH(Composições!A3190,Orçamentária!A:A,0),2)","v":"Inspeção da integridade e adesão de placas de rocha ornamental por percussão"},null,{"$f":"TRIM(INDEX(Orçamentária!C:C,MATCH(Composições!A3190,Orçamentária!A:A,0),1))","v":"m2"},null,"",{"$f":"IF(ISNUMBER(F3190),E3190*F3190,\"\")","v":""},null,null,482.16]
[null,null,null,null,null,"",{"$f":"IF(ISNUMBER(F3191),E3191*F3191,\"\")","v":""},null,null,482.16]
[null,null,"Marmorista/graniteiro com encargos complementares","h",0.25,16.330500000000001,{"$f":"IF(ISNUMBER(F3192),E3192*F3192,\"\")","v":4.0826250000000002},{"$f":"SUM(G3192:G3193)","v":4.0826250000000002},null,482.16]
[null,null,null,null,null,"",{"$f":"IF(ISNUMBER(F3193),E3193*F3193,\"\")","v":""},null,null,482.16]
["SF-00952",{"$f":"INDEX(Orçamentária!A:B,MATCH(Composições!A3194,Orçamentária!A:A,0),2)","v":"Demolição de proteção mecânica de impermeabilização"},null,{"$f":"TRIM(INDEX(Orçamentária!C:C,MATCH(Composições!A3194,Orçamentária!A:A,0),1))","v":"m2"},null,"",{"$f":"IF(ISNUMBER(F3194),E3194*F3194,\"\")","v":""},null,null,30.69]
[null,null,null,null,null,"",{"$f":"IF(ISNUMBER(F3195),E3195*F3195,\"\")","v":""},null,null,30.69]
[null,null,"Servente com Encargos Complementares","H",1.25,14.554,{"$f":"IF(ISNUMBER(F3196),E3196*F3196,\"\")","v":18.192499999999999},{"$f":"SUM(G3196:G3196)","v":18.192499999999999},null,30.69]
[null,null,null,null,null,"",{"$f":"IF(ISNUMBER(F3197),E3197*F3197,\"\")","v":""},null,null,30.69]
["SF-00953",{"$f":"INDEX(Orçamentária!A:B,MATCH(Composições!A3198,Orçamentária!A:A,0),2)","v":"Impermeabilização com emulsão asfáltica"},null,{"$f":"TRIM(INDEX(Orçamentária!C:C,MATCH(Composições!A3198,Orçamentária!A:A,0),1))","v":"m2"},null,"",{"$f":"IF(ISNUMBER(F3198),E3198*F3198,\"\")","v":""},null,null,30.69]
[null,null,null,null,null,"",{"$f":"IF(ISNUMBER(F3199),E3199*F3199,\"\")","v":""},null,null,30.69]
[null,null,"MANTA LIQUIDA DE BASE ASFALTICA MODIFICADA COM A ADICAO DE ELASTOMEROS DILUIDOS EM SOLVENTE ORGANICO, APLICACAO A FRIO (MEMBRANA IMPERMEABILIZANTE ASFASTICA)","KG",1.5,14.0695,{"$f":"IF(ISNUMBER(F3200),E3200*F3200,\"\")","v":21.10425},{"$f":"SUM(G3200:G3203)","v":36.969696499999998},null,30.69]
[null,null,"VEU POLIESTER","M2",1.351,4.5789999999999997,{"$f":"IF(ISNUMBER(F3201),E3201*F3201,\"\")","v":6.186229},null,null,30.69]
[null,null,"Ajudante Especializado Com Encargos Complementares","H",8.5000000000000006E-2,17.185499999999998,{"$f":"IF(ISNUMBER(F3202),E3202*F3202,\"\")","v":1.4607675},null,null,30.69]
[null,null,"IMPERMEABILIZADOR COM ENCARGOS COMPLEMENTARES","H",0.42199999999999999,19.474999999999998,{"$f":"IF(ISNUMBER(F3203),E3203*F3203,\"\")","v":8.2184499999999989},null,null,30.69]
[null,null,null,null,null,"",{"$f":"IF(ISNUMBER(F3204),E3204*F3204,\"\")","v":""},null,null,30.69]
["SF-00954",{"$f":"INDEX(Orçamentária!A:B,MATCH(Composições!A3205,Orçamentária!A:A,0),2)","v":"Camada de proteção mecânica simples de impermeabilização"},null,{"$f":"TRIM(INDEX(Orçamentária!C:C,MATCH(Composições!A3205,Orçamentária!A:A,0),1))","v":"m2"},null,"",{"$f":"IF(ISNUMBER(F3205),E3205*F3205,\"\")","v":""},null,null,11.8]
[null,null,null,null,null,"",{"$f":"IF(ISNUMBER(F3206),E3206*F3206,\"\")","v":""},null,null,11.8]
[null,null,"CAMADA SEPARADORA DE FILME DE POLIETILENO 20 A 25 MICRA","M2",1.04,1.349,{"$f":"IF(ISNUMBER(F3207),E3207*F3207,\"\")","v":1.40296},{"$f":"SUM(G3207:G3210)","v":36.5370125815625},null,11.8]
[null,null,"ARGAMASSA TRAÇO 1:3 (EM VOLUME DE CIMENTO E AREIA MÉDIA ÚMIDA) PARA CONTRAPISO, PREPARO MANUAL. AF_08/2019","M3",3.5000000000000003E-2,581.83844518749993,{"$f":"IF(ISNUMBER(F3208),E3208*F3208,\"\")","v":20.3643455815625},null,null,11.8]
[null,null,"Pedreiro com Encargos Complementares","H",0.65900000000000003,19.474999999999998,{"$f":"IF(ISNUMBER(F3209),E3209*F3209,\"\")","v":12.834024999999999},null,null,11.8]
[null,null,"Servente com Encargos Complementares","H",0.13300000000000001,14.554,{"$f":"IF(ISNUMBER(F3210),E3210*F3210,\"\")","v":1.9356820000000001},null,null,11.8]
[null,null,null,null,null,"",{"$f":"IF(ISNUMBER(F3211),E3211*F3211,\"\")","v":""},null,null,11.8]
["SF-00955",{"$f":"INDEX(Orçamentária!A:B,MATCH(Composições!A3212,Orçamentária!A:A,0),2)","v":"Camada de proteção mecânica estruturada de impermeabilização"},null,{"$f":"TRIM(INDEX(Orçamentária!C:C,MATCH(Composições!A3212,Orçamentária!A:A,0),1))","v":"m2"},null,"",{"$f":"IF(ISNUMBER(F3212),E3212*F3212,\"\")","v":""},null,null,18.89]
[null,null,null,null,null,"",{"$f":"IF(ISNUMBER(F3213),E3213*F3213,\"\")","v":""},null,null,18.89]
[null,null,"TELA DE ARAME GALVANIZADA, HEXAGONAL, FIO 0,56 MM (24 BWG), MALHA 1/2\", H = 1 M","M2",1.05,7.9799999999999995,{"$f":"IF(ISNUMBER(F3214),E3214*F3214,\"\")","v":8.3789999999999996},{"$f":"SUM(G3214:G3217)","v":44.573917581562498},null,18.89]
[null,null,"ARGAMASSA TRAÇO 1:3 (EM VOLUME DE CIMENTO E AREIA MÉDIA ÚMIDA) PARA CONTRAPISO, PREPARO MANUAL. AF_08/2019","M3",3.5000000000000003E-2,581.83844518749993,{"$f":"IF(ISNUMBER(F3215),E3215*F3215,\"\")","v":20.3643455815625},null,null,18.89]
[null,null,"Pedreiro com Encargos Complementares","H",0.70599999999999996,19.474999999999998,{"$f":"IF(ISNUMBER(F3216),E3216*F3216,\"\")","v":13.749349999999998},null,null,18.89]
[null,null,"Servente com Encargos Complementares","H",0.14299999999999999,14.554,{"$f":"IF(ISNUMBER(F3217),E3217*F3217,\"\")","v":2.0812219999999999},null,null,18.89]
[null,null,null,null,null,"",{"$f":"IF(ISNUMBER(F3218),E3218*F3218,\"\")","v":""},null,null,18.89]
["SF-00956",{"$f":"INDEX(Orçamentária!A:B,MATCH(Composições!A3219,Orçamentária!A:A,0),2)","v":"Remoção de placas  de mármore encaixadas por fixadores metálicos (modelo Ed. Principal)"},null,{"$f":"TRIM(INDEX(Orçamentária!C:C,MATCH(Composições!A3219,Orçamentária!A:A,0),1))","v":"m2"},null,"",{"$f":"IF(ISNUMBER(F3219),E3219*F3219,\"\")","v":""},null,null,17.190000000000001]
[null,null,null,null,null,"",{"$f":"IF(ISNUMBER(F3220),E3220*F3220,\"\")","v":""},null,null,17.190000000000001]
[null,null,"Marmorista/graniteiro com encargos complementares","h",0.4,16.330500000000001,{"$f":"IF(ISNUMBER(F3221),E3221*F3221,\"\")","v":6.5322000000000005},{"$f":"SUM(G3221:G3222)","v":12.3538},null,17.190000000000001]
[null,null,"Servente com Encargos Complementares","h",0.4,14.554,{"$f":"IF(ISNUMBER(F3222),E3222*F3222,\"\")","v":5.8216000000000001},null,null,17.190000000000001]
[null,null,null,null,null,"",{"$f":"IF(ISNUMBER(F3223),E3223*F3223,\"\")","v":""},null,null,17.190000000000001]
["SF-00957",{"$f":"INDEX(Orçamentária!A:B,MATCH(Composições!A3224,Orçamentária!A:A,0),2)","v":"Remoção de placas de rocha ornamental argamassada, para reaproveitamento"},null,{"$f":"TRIM(INDEX(Orçamentária!C:C,MATCH(Composições!A3224,Orçamentária!A:A,0),1))","v":"m2"},null,"",{"$f":"IF(ISNUMBER(F3224),E3224*F3224,\"\")","v":""},null,null,177.26]
[null,null,null,null,null,"",{"$f":"IF(ISNUMBER(F3225),E3225*F3225,\"\")","v":""},null,null,177.26]
[null,null,"Marmorista/graniteiro com encargos complementares","h",1.2,16.330500000000001,{"$f":"IF(ISNUMBER(F3226),E3226*F3226,\"\")","v":19.596599999999999},{"$f":"SUM(G3226:G3227)","v":37.061399999999999},null,177.26]
[null,null,"Servente com Encargos Complementares","h",1.2,14.554,{"$f":"IF(ISNUMBER(F3227),E3227*F3227,\"\")","v":17.4648},null,null,177.26]
[null,null,null,null,null,"",{"$f":"IF(ISNUMBER(F3228),E3228*F3228,\"\")","v":""},null,null,177.26]
["SF-00958",{"$f":"INDEX(Orçamentária!A:B,MATCH(Composições!A3229,Orçamentária!A:A,0),2)","v":"Identificação e acondicionamento de placas de rocha ornamental"},null,{"$f":"TRIM(INDEX(Orçamentária!C:C,MATCH(Composições!A3229,Orçamentária!A:A,0),1))","v":"m2"},null,"",{"$f":"IF(ISNUMBER(F3229),E3229*F3229,\"\")","v":""},null,null,164.04]
[null,null,null,null,null,"",{"$f":"IF(ISNUMBER(F3230),E3230*F3230,\"\")","v":""},null,null,164.04]
[null,null,"Papel kraft betumado","m2",1.05,3.5909999999999997,{"$f":"IF(ISNUMBER(F3231),E3231*F3231,\"\")","v":3.7705500000000001},{"$f":"SUM(G3231:G3232)","v":6.6813500000000001},null,164.04]
[null,null,"Servente com Encargos Complementares","h",0.2,14.554,{"$f":"IF(ISNUMBER(F3232),E3232*F3232,\"\")","v":2.9108000000000001},null,null,164.04]
[null,null,null,null,null,"",{"$f":"IF(ISNUMBER(F3233),E3233*F3233,\"\")","v":""},null,null,164.04]
["SF-00959",{"$f":"INDEX(Orçamentária!A:B,MATCH(Composições!A3234,Orçamentária!A:A,0),2)","v":"Limpeza de placas de rocha ornamental argamassada, para reaproveitamento"},null,{"$f":"TRIM(INDEX(Orçamentária!C:C,MATCH(Composições!A3234,Orçamentária!A:A,0),1))","v":"m2"},null,"",{"$f":"IF(ISNUMBER(F3234),E3234*F3234,\"\")","v":""},null,null,144.35]
[null,null,null,null,null,"",{"$f":"IF(ISNUMBER(F3235),E3235*F3235,\"\")","v":""},null,null,144.35]
[null,null,"Servente com Encargos Complementares","h",0.3,14.554,{"$f":"IF(ISNUMBER(F3236),E3236*F3236,\"\")","v":4.3662000000000001},{"$f":"SUM(G3236)","v":4.3662000000000001},null,144.35]
[null,null,null,null,null,"",{"$f":"IF(ISNUMBER(F3237),E3237*F3237,\"\")","v":""},null,null,144.35]
["SF-00960",{"$f":"INDEX(Orçamentária!A:B,MATCH(Composições!A3238,Orçamentária!A:A,0),2)","v":"Remoção e acondicionamento de fixadores metálicos para placas de mármore em fachada (modelo Ed. Principal)"},null,{"$f":"TRIM(INDEX(Orçamentária!C:C,MATCH(Composições!A3238,Orçamentária!A:A,0),1))","v":"un"},null,"",{"$f":"IF(ISNUMBER(F3238),E3238*F3238,\"\")","v":""},null,null,6]
[null,null,null,null,null,"",{"$f":"IF(ISNUMBER(F3239),E3239*F3239,\"\")","v":""},null,null,6]
[null,null,"Servente com Encargos Complementares","h",0.1,14.554,{"$f":"IF(ISNUMBER(F3240),E3240*F3240,\"\")","v":1.4554},{"$f":"SUM(G3240)","v":1.4554},null,6]
[null,null,null,null,null,"",{"$f":"IF(ISNUMBER(F3241),E3241*F3241,\"\")","v":""},null,null,6]
["SF-00961",{"$f":"INDEX(Orçamentária!A:B,MATCH(Composições!A3242,Orçamentária!A:A,0),2)","v":"Instalação de fixadores metálicos para placas de mármore em fachada reaproveitados (modelo Ed. Principal)"},null,{"$f":"TRIM(INDEX(Orçamentária!C:C,MATCH(Composições!A3242,Orçamentária!A:A,0),1))","v":"un"},null,"",{"$f":"IF(ISNUMBER(F3242),E3242*F3242,\"\")","v":""},null,null,6]
[null,null,null,null,null,"",{"$f":"IF(ISNUMBER(F3243),E3243*F3243,\"\")","v":""},null,null,6]
[null,null,"Pedreiro com Encargos Complementares","h",{"$f":"0.1+0.1","v":0.2},19.474999999999998,{"$f":"IF(ISNUMBER(F3244),E3244*F3244,\"\")","v":3.8949999999999996},{"$f":"SUM(G3244:G3248)","v":8.384328597823},null,6]
[null,null,"Servente com Encargos Complementares","h",{"$f":"0.1+0.1","v":0.2},14.554,{"$f":"IF(ISNUMBER(F3245),E3245*F3245,\"\")","v":2.9108000000000001},null,null,6]
[null,null,"Broca com ponta de widia Ø 3/8\" x 160 mm","un ",{"$f":"0.016*2","v":3.2000000000000001E-2},9.69,{"$f":"IF(ISNUMBER(F3246),E3246*F3246,\"\")","v":0.31007999999999997},null,null,6]
[null,null,"Furadeira de impacto elétrica - 0,65 kW, Ø mandril 5/8\"","h prod",{"$f":"0.1*2","v":0.2},5.548,{"$f":"IF(ISNUMBER(F3247),E3247*F3247,\"\")","v":1.1096000000000001},null,null,6]
[null,null,"GRAUTE FGK=25 MPA; TRAÇO 1:0,02:1,2:1,5 (CIMENTO/ CAL/ AREIA GROSSA/ BRITA 0) - PREPARO MECÂNICO COM BETONEIRA 400 L. AF_02/2015","m3",{"$f":"ROUND(0.15*0.05*0.05,4)","v":4.0000000000000002E-4},397.12149455749989,{"$f":"IF(ISNUMBER(F3248),E3248*F3248,\"\")","v":0.15884859782299995},null,null,6]
[null,null,null,null,null,"",{"$f":"IF(ISNUMBER(F3249),E3249*F3249,\"\")","v":""},null,null,6]
[null,null,"Fontes: PINI 05.102.000020.SER",null,null,"",{"$f":"IF(ISNUMBER(F3250),E3250*F3250,\"\")","v":""},null,null,6]
[null,null,null,null,null,"",{"$f":"IF(ISNUMBER(F3251),E3251*F3251,\"\")","v":""},null,null,6]
["SF-00962",{"$f":"INDEX(Orçamentária!A:B,MATCH(Composições!A3252,Orçamentária!A:A,0),2)","v":"Fixadores metálicos para rochas ornamentais (tipo Ed. Principal, peça superior)"},null,{"$f":"TRIM(INDEX(Orçamentária!C:C,MATCH(Composições!A3252,Orçamentária!A:A,0),1))","v":"un"},null,"",{"$f":"IF(ISNUMBER(F3252),E3252*F3252,\"\")","v":""},null,null,4]
[null,null,null,null,null,"",{"$f":"IF(ISNUMBER(F3253),E3253*F3253,\"\")","v":""},null,null,4]
[null,null,"Pedreiro com Encargos Complementares","h",{"$f":"0.1+0.1","v":0.2},19.474999999999998,{"$f":"IF(ISNUMBER(F3254),E3254*F3254,\"\")","v":3.8949999999999996},{"$f":"SUM(G3254:G3259)","v":40.384328597823},null,4]
[null,null,"Servente com Encargos Complementares","h",{"$f":"0.1+0.1","v":0.2},14.554,{"$f":"IF(ISNUMBER(F3255),E3255*F3255,\"\")","v":2.9108000000000001},null,null,4]
[null,null,"Broca com ponta de widia Ø 3/8\" x 160 mm","un ",{"$f":"0.016*2","v":3.2000000000000001E-2},9.69,{"$f":"IF(ISNUMBER(F3256),E3256*F3256,\"\")","v":0.31007999999999997},null,null,4]
[null,null,"Furadeira de impacto elétrica - 0,65 kW, Ø mandril 5/8\"","h prod",{"$f":"0.1*2","v":0.2},5.548,{"$f":"IF(ISNUMBER(F3257),E3257*F3257,\"\")","v":1.1096000000000001},null,null,4]
[null,null,"Insert metálico tipo 2, conforme projeto","un ",1,32,{"$f":"IF(ISNUMBER(F3258),E3258*F3258,\"\")","v":32},null,null,4]
[null,null,"GRAUTE FGK=25 MPA; TRAÇO 1:0,02:1,2:1,5 (CIMENTO/ CAL/ AREIA GROSSA/ BRITA 0) - PREPARO MECÂNICO COM BETONEIRA 400 L. AF_02/2015","m3",{"$f":"ROUND(0.15*0.05*0.05,4)","v":4.0000000000000002E-4},397.12149455749989,{"$f":"IF(ISNUMBER(F3259),E3259*F3259,\"\")","v":0.15884859782299995},null,null,4]
[null,null,null,null,null,"",{"$f":"IF(ISNUMBER(F3260),E3260*F3260,\"\")","v":""},null,null,4]
[null,null,"Fontes: PINI 05.102.000020.SER",null,null,"",{"$f":"IF(ISNUMBER(F3261),E3261*F3261,\"\")","v":""},null,null,4]
[null,null,null,null,null,"",{"$f":"IF(ISNUMBER(F3262),E3262*F3262,\"\")","v":""},null,null,4]
["SF-00964",{"$f":"INDEX(Orçamentária!A:B,MATCH(Composições!A3263,Orçamentária!A:A,0),2)","v":"Mármore Branco Especial 20mm argamassado (Ed. Principal e Anexo 1)"},null,{"$f":"TRIM(INDEX(Orçamentária!C:C,MATCH(Composições!A3263,Orçamentária!A:A,0),1))","v":"m2"},null,"",{"$f":"IF(ISNUMBER(F3263),E3263*F3263,\"\")","v":""},null,null,38.25]
[null,null,null,null,null,"",{"$f":"IF(ISNUMBER(F3264),E3264*F3264,\"\")","v":""},null,null,38.25]
[null,null,"Mármore branco especial 20mm","m2",1.05,450,{"$f":"IF(ISNUMBER(F3265),E3265*F3265,\"\")","v":472.5},{"$f":"SUM(G3265:G3269)","v":509.63977499999999},null,38.25]
[null,null,"Marmorista/graniteiro com encargos complementares","h",1.35,16.330500000000001,{"$f":"IF(ISNUMBER(F3266),E3266*F3266,\"\")","v":22.046175000000002},null,null,38.25]
[null,null,"Servente com Encargos Complementares","h",0.6,14.554,{"$f":"IF(ISNUMBER(F3267),E3267*F3267,\"\")","v":8.7324000000000002},null,null,38.25]
[null,null,"Argamassa colante tipo AC III","kg",4.5,1.254,{"$f":"IF(ISNUMBER(F3268),E3268*F3268,\"\")","v":5.6429999999999998},null,null,38.25]
[null,null,"Rejunte cimenticio, qualquer cor","kg",0.3,2.3939999999999997,{"$f":"IF(ISNUMBER(F3269),E3269*F3269,\"\")","v":0.71819999999999984},null,null,38.25]
[null,null,null,null,null,"",{"$f":"IF(ISNUMBER(F3270),E3270*F3270,\"\")","v":""},null,null,38.25]
["SF-00965",{"$f":"INDEX(Orçamentária!A:B,MATCH(Composições!A3271,Orçamentária!A:A,0),2)","v":"Mármore Branco Especial 20mm com inserts e argamassa (Ed. Principal e Anexo 1)"},null,{"$f":"TRIM(INDEX(Orçamentária!C:C,MATCH(Composições!A3271,Orçamentária!A:A,0),1))","v":"m2"},null,"",{"$f":"IF(ISNUMBER(F3271),E3271*F3271,\"\")","v":""},null,null,11.33]
[null,null,null,null,null,"",{"$f":"IF(ISNUMBER(F3272),E3272*F3272,\"\")","v":""},null,null,11.33]
[null,null,"Mármore branco especial 20mm","m2",1.05,450,{"$f":"IF(ISNUMBER(F3273),E3273*F3273,\"\")","v":472.5},{"$f":"SUM(G3273:G3283)","v":732.65191214945571},null,11.33]
[null,null,"Marmorista/graniteiro com encargos complementares","h",{"$f":"1.35","v":1.35},16.330500000000001,{"$f":"IF(ISNUMBER(F3274),E3274*F3274,\"\")","v":22.046175000000002},null,null,11.33]
[null,null,"Pedreiro com Encargos Complementares","h",0.1,19.474999999999998,{"$f":"IF(ISNUMBER(F3275),E3275*F3275,\"\")","v":1.9474999999999998},null,null,11.33]
[null,null,"Servente com Encargos Complementares","h",{"$f":"0.6+0.1+0.1","v":0.79999999999999993},14.554,{"$f":"IF(ISNUMBER(F3276),E3276*F3276,\"\")","v":11.643199999999998},null,null,11.33]
[null,null,"Argamassa colante tipo AC III","kg",4.5,1.254,{"$f":"IF(ISNUMBER(F3277),E3277*F3277,\"\")","v":5.6429999999999998},null,null,11.33]
[null,null,"Rejunte cimenticio, qualquer cor","kg",0.3,2.3939999999999997,{"$f":"IF(ISNUMBER(F3278),E3278*F3278,\"\")","v":0.71819999999999984},null,null,11.33]
[null,null,"PARAFUSO DE ACO TIPO CHUMBADOR PARABOLT, DIAMETRO 3/8\", COMPRIMENTO 75 MM","UN",{"$f":"2/(0.4*0.8)","v":6.2499999999999991},1.8334999999999999,{"$f":"IF(ISNUMBER(F3279),E3279*F3279,\"\")","v":11.459374999999998},null,null,11.33]
[null,null,"Broca com ponta de widia Ø 3/8\" x 160 mm","un ",{"$f":"(2/(0.4*0.8))*(0.016)*1.5","v":0.15},9.69,{"$f":"IF(ISNUMBER(F3280),E3280*F3280,\"\")","v":1.4534999999999998},null,null,11.33]
[null,null,"Furadeira de impacto elétrica - 0,65 kW, Ø mandril 5/8\"","h prod",{"$f":"(2/(0.4*0.8))*0.1*1.5","v":0.9375},5.548,{"$f":"IF(ISNUMBER(F3281),E3281*F3281,\"\")","v":5.2012499999999999},null,null,11.33]
[null,null,"Insert metálico tipo 1, conforme projeto","un ",{"$f":"2/(0.4*0.8)","v":6.2499999999999991},32,{"$f":"IF(ISNUMBER(F3282),E3282*F3282,\"\")","v":199.99999999999997},null,null,11.33]
[null,null,"GRAUTE FGK=25 MPA; TRAÇO 1:0,02:1,2:1,5 (CIMENTO/ CAL/ AREIA GROSSA/ BRITA 0) - PREPARO MECÂNICO COM BETONEIRA 400 L. AF_02/2015","m3",1E-4,397.12149455749989,{"$f":"IF(ISNUMBER(F3283),E3283*F3283,\"\")","v":3.9712149455749989E-2},null,null,11.33]
[null,null,null,null,null,"",{"$f":"IF(ISNUMBER(F3284),E3284*F3284,\"\")","v":""},null,null,11.33]
[null,null,"Fontes: ORSE 03735, PINI 05.102.000020.SER e 05.108.000450.SER",null,null,"",{"$f":"IF(ISNUMBER(F3285),E3285*F3285,\"\")","v":""},null,null,11.33]
[null,null,"Observações: Considerando uma placa de 0,40 m x 0,80 m, que, conforme projeto, necessita de 2 inserts.",null,null,"",{"$f":"IF(ISNUMBER(F3286),E3286*F3286,\"\")","v":""},null,null,11.33]
[null,null,null,null,null,"",{"$f":"IF(ISNUMBER(F3287),E3287*F3287,\"\")","v":""},null,null,11.33]
["SF-00966",{"$f":"INDEX(Orçamentária!A:B,MATCH(Composições!A3288,Orçamentária!A:A,0),2)","v":"Mármore Branco Especial 30mm argamassado (Ed. Principal e Anexo 1)"},null,{"$f":"TRIM(INDEX(Orçamentária!C:C,MATCH(Composições!A3288,Orçamentária!A:A,0),1))","v":"m2"},null,"",{"$f":"IF(ISNUMBER(F3288),E3288*F3288,\"\")","v":""},null,null,1.3]
[null,null,null,null,null,"",{"$f":"IF(ISNUMBER(F3289),E3289*F3289,\"\")","v":""},null,null,1.3]
[null,null,"Mármore branco especial 30mm","m2",1.05,560,{"$f":"IF(ISNUMBER(F3290),E3290*F3290,\"\")","v":588},{"$f":"SUM(G3290:G3294)","v":625.13977499999999},null,1.3]
[null,null,"Marmorista/graniteiro com encargos complementares","h",1.35,16.330500000000001,{"$f":"IF(ISNUMBER(F3291),E3291*F3291,\"\")","v":22.046175000000002},null,null,1.3]
[null,null,"Servente com Encargos Complementares","h",0.6,14.554,{"$f":"IF(ISNUMBER(F3292),E3292*F3292,\"\")","v":8.7324000000000002},null,null,1.3]
[null,null,"Argamassa colante tipo AC III","kg",4.5,1.254,{"$f":"IF(ISNUMBER(F3293),E3293*F3293,\"\")","v":5.6429999999999998},null,null,1.3]
[null,null,"Rejunte cimenticio, qualquer cor","kg",0.3,2.3939999999999997,{"$f":"IF(ISNUMBER(F3294),E3294*F3294,\"\")","v":0.71819999999999984},null,null,1.3]
[null,null,null,null,null,"",{"$f":"IF(ISNUMBER(F3295),E3295*F3295,\"\")","v":""},null,null,1.3]
["SF-00967",{"$f":"INDEX(Orçamentária!A:B,MATCH(Composições!A3296,Orçamentária!A:A,0),2)","v":"Mármore Branco Especial 30mm com inserts e argamassa (Ed. Principal e Anexo 1)"},null,{"$f":"TRIM(INDEX(Orçamentária!C:C,MATCH(Composições!A3296,Orçamentária!A:A,0),1))","v":"m2"},null,"",{"$f":"IF(ISNUMBER(F3296),E3296*F3296,\"\")","v":""},null,null,51.64]
[null,null,null,null,null,"",{"$f":"IF(ISNUMBER(F3297),E3297*F3297,\"\")","v":""},null,null,51.64]
[null,null,"Mármore branco especial 30mm","m2",1.05,560,{"$f":"IF(ISNUMBER(F3298),E3298*F3298,\"\")","v":588},{"$f":"SUM(G3298:G3308)","v":848.15191214945571},null,51.64]
[null,null,"Marmorista/graniteiro com encargos complementares","h",{"$f":"1.35","v":1.35},16.330500000000001,{"$f":"IF(ISNUMBER(F3299),E3299*F3299,\"\")","v":22.046175000000002},null,null,51.64]
[null,null,"Pedreiro com Encargos Complementares","h",0.1,19.474999999999998,{"$f":"IF(ISNUMBER(F3300),E3300*F3300,\"\")","v":1.9474999999999998},null,null,51.64]
[null,null,"Servente com Encargos Complementares","h",{"$f":"0.6+0.1+0.1","v":0.79999999999999993},14.554,{"$f":"IF(ISNUMBER(F3301),E3301*F3301,\"\")","v":11.643199999999998},null,null,51.64]
[null,null,"Argamassa colante tipo AC III","kg",4.5,1.254,{"$f":"IF(ISNUMBER(F3302),E3302*F3302,\"\")","v":5.6429999999999998},null,null,51.64]
[null,null,"Rejunte cimenticio, qualquer cor","kg",0.3,2.3939999999999997,{"$f":"IF(ISNUMBER(F3303),E3303*F3303,\"\")","v":0.71819999999999984},null,null,51.64]
[null,null,"PARAFUSO DE ACO TIPO CHUMBADOR PARABOLT, DIAMETRO 3/8\", COMPRIMENTO 75 MM","UN",{"$f":"2/(0.4*0.8)","v":6.2499999999999991},1.8334999999999999,{"$f":"IF(ISNUMBER(F3304),E3304*F3304,\"\")","v":11.459374999999998},null,null,51.64]
[null,null,"Broca com ponta de widia Ø 3/8\" x 160 mm","un ",{"$f":"(2/(0.4*0.8))*(0.016)*1.5","v":0.15},9.69,{"$f":"IF(ISNUMBER(F3305),E3305*F3305,\"\")","v":1.4534999999999998},null,null,51.64]
[null,null,"Furadeira de impacto elétrica - 0,65 kW, Ø mandril 5/8\"","h prod",{"$f":"(2/(0.4*0.8))*0.1*1.5","v":0.9375},5.548,{"$f":"IF(ISNUMBER(F3306),E3306*F3306,\"\")","v":5.2012499999999999},null,null,51.64]
[null,null,"Insert metálico tipo 1, conforme projeto","un ",{"$f":"2/(0.4*0.8)","v":6.2499999999999991},32,{"$f":"IF(ISNUMBER(F3307),E3307*F3307,\"\")","v":199.99999999999997},null,null,51.64]
[null,null,"GRAUTE FGK=25 MPA; TRAÇO 1:0,02:1,2:1,5 (CIMENTO/ CAL/ AREIA GROSSA/ BRITA 0) - PREPARO MECÂNICO COM BETONEIRA 400 L. AF_02/2015","m3",1E-4,397.12149455749989,{"$f":"IF(ISNUMBER(F3308),E3308*F3308,\"\")","v":3.9712149455749989E-2},null,null,51.64]
[null,null,null,null,null,"",{"$f":"IF(ISNUMBER(F3309),E3309*F3309,\"\")","v":""},null,null,51.64]
[null,null,"Fontes: ORSE 03735, PINI 05.102.000020.SER e 05.108.000450.SER",null,null,"",{"$f":"IF(ISNUMBER(F3310),E3310*F3310,\"\")","v":""},null,null,51.64]
[null,null,"Observações: Considerando uma placa de 0,40 m x 0,80 m, que, conforme projeto, necessita de 2 inserts.",null,null,"",{"$f":"IF(ISNUMBER(F3311),E3311*F3311,\"\")","v":""},null,null,51.64]
[null,null,null,null,null,"",{"$f":"IF(ISNUMBER(F3312),E3312*F3312,\"\")","v":""},null,null,51.64]
["SF-00968",{"$f":"INDEX(Orçamentária!A:B,MATCH(Composições!A3313,Orçamentária!A:A,0),2)","v":"Mármore branco especial, e=30mm, instalação em fixadores metálicos existentes (modelo Edifício Principal)"},null,{"$f":"TRIM(INDEX(Orçamentária!C:C,MATCH(Composições!A3313,Orçamentária!A:A,0),1))","v":"m2"},null,"",{"$f":"IF(ISNUMBER(F3313),E3313*F3313,\"\")","v":""},null,null,37.32]
[null,null,null,null,null,"",{"$f":"IF(ISNUMBER(F3314),E3314*F3314,\"\")","v":""},null,null,37.32]
[null,null,"Mármore branco especial 30mm","m2",1.05,560,{"$f":"IF(ISNUMBER(F3315),E3315*F3315,\"\")","v":588},{"$f":"SUM(G3315:G3320)","v":595.79598714945587},null,37.32]
[null,null,"Marmorista/graniteiro com encargos complementares","h",0.25,16.330500000000001,{"$f":"IF(ISNUMBER(F3316),E3316*F3316,\"\")","v":4.0826250000000002},null,null,37.32]
[null,null,"Servente com Encargos Complementares","h",0.1,14.554,{"$f":"IF(ISNUMBER(F3317),E3317*F3317,\"\")","v":1.4554},null,null,37.32]
[null,null,"Broca com ponta de widia Ø 3/8\" x 160 mm","un ",{"$f":"(2/(0.4*0.8))*0.016/2","v":4.9999999999999996E-2},9.69,{"$f":"IF(ISNUMBER(F3318),E3318*F3318,\"\")","v":0.48449999999999993},null,null,37.32]
[null,null,"Furadeira de impacto elétrica - 0,65 kW, Ø mandril 5/8\"","h prod",{"$f":"(2/(0.4*0.8))*0.1/2","v":0.3125},5.548,{"$f":"IF(ISNUMBER(F3319),E3319*F3319,\"\")","v":1.7337500000000001},null,null,37.32]
[null,null,"GRAUTE FGK=25 MPA; TRAÇO 1:0,02:1,2:1,5 (CIMENTO/ CAL/ AREIA GROSSA/ BRITA 0) - PREPARO MECÂNICO COM BETONEIRA 400 L. AF_02/2015","m3",1E-4,397.12149455749989,{"$f":"IF(ISNUMBER(F3320),E3320*F3320,\"\")","v":3.9712149455749989E-2},null,null,37.32]
[null,null,null,null,null,"",{"$f":"IF(ISNUMBER(F3321),E3321*F3321,\"\")","v":""},null,null,37.32]
[null,null,"Fontes: PINI 05.102.000020.SER e 05.108.000450.SER",null,null,"",{"$f":"IF(ISNUMBER(F3322),E3322*F3322,\"\")","v":""},null,null,37.32]
[null,null,"Observações: Considerando uma placa de 0,40 m x 0,80 m, que, conforme projeto, necessita de 2 inserts.",null,null,"",{"$f":"IF(ISNUMBER(F3323),E3323*F3323,\"\")","v":""},null,null,37.32]
[null,null,null,null,null,"",{"$f":"IF(ISNUMBER(F3324),E3324*F3324,\"\")","v":""},null,null,37.32]
["SF-00970",{"$f":"INDEX(Orçamentária!A:B,MATCH(Composições!A3325,Orçamentária!A:A,0),2)","v":"Instalação de placas de rocha ornamental reaproveitadas, por meio de argamassa"},null,{"$f":"TRIM(INDEX(Orçamentária!C:C,MATCH(Composições!A3325,Orçamentária!A:A,0),1))","v":"m2"},null,"",{"$f":"IF(ISNUMBER(F3325),E3325*F3325,\"\")","v":""},null,null,36.81]
[null,null,null,null,null,"",{"$f":"IF(ISNUMBER(F3326),E3326*F3326,\"\")","v":""},null,null,36.81]
[null,null,"Marmorista/graniteiro com encargos complementares","h",1.35,16.330500000000001,{"$f":"IF(ISNUMBER(F3327),E3327*F3327,\"\")","v":22.046175000000002},{"$f":"SUM(G3327:G3330)","v":37.139775000000007},null,36.81]
[null,null,"Servente com Encargos Complementares","h",0.6,14.554,{"$f":"IF(ISNUMBER(F3328),E3328*F3328,\"\")","v":8.7324000000000002},null,null,36.81]
[null,null,"Argamassa colante tipo AC III","kg",4.5,1.254,{"$f":"IF(ISNUMBER(F3329),E3329*F3329,\"\")","v":5.6429999999999998},null,null,36.81]
[null,null,"Rejunte cimenticio, qualquer cor","kg",0.3,2.3939999999999997,{"$f":"IF(ISNUMBER(F3330),E3330*F3330,\"\")","v":0.71819999999999984},null,null,36.81]
[null,null,null,null,null,"",{"$f":"IF(ISNUMBER(F3331),E3331*F3331,\"\")","v":""},null,null,36.81]
["SF-00971",{"$f":"INDEX(Orçamentária!A:B,MATCH(Composições!A3332,Orçamentária!A:A,0),2)","v":"Instalação de placas de rocha ornamental reaproveitadas, por meio de argamassa e fixadores metálicos"},null,{"$f":"TRIM(INDEX(Orçamentária!C:C,MATCH(Composições!A3332,Orçamentária!A:A,0),1))","v":"m2"},null,"",{"$f":"IF(ISNUMBER(F3332),E3332*F3332,\"\")","v":""},null,null,101.83]
[null,null,null,null,null,"",{"$f":"IF(ISNUMBER(F3333),E3333*F3333,\"\")","v":""},null,null,101.83]
[null,null,"Marmorista/graniteiro com encargos complementares","h",{"$f":"1.35","v":1.35},16.330500000000001,{"$f":"IF(ISNUMBER(F3334),E3334*F3334,\"\")","v":22.046175000000002},{"$f":"SUM(G3334:G3343)","v":260.15191214945571},null,101.83]
[null,null,"Pedreiro com Encargos Complementares","h",0.1,19.474999999999998,{"$f":"IF(ISNUMBER(F3335),E3335*F3335,\"\")","v":1.9474999999999998},null,null,101.83]
[null,null,"Servente com Encargos Complementares","h",{"$f":"0.6+0.1+0.1","v":0.79999999999999993},14.554,{"$f":"IF(ISNUMBER(F3336),E3336*F3336,\"\")","v":11.643199999999998},null,null,101.83]
[null,null,"Argamassa colante tipo AC III","kg",4.5,1.254,{"$f":"IF(ISNUMBER(F3337),E3337*F3337,\"\")","v":5.6429999999999998},null,null,101.83]
[null,null,"Rejunte cimenticio, qualquer cor","kg",0.3,2.3939999999999997,{"$f":"IF(ISNUMBER(F3338),E3338*F3338,\"\")","v":0.71819999999999984},null,null,101.83]
[null,null,"PARAFUSO DE ACO TIPO CHUMBADOR PARABOLT, DIAMETRO 3/8\", COMPRIMENTO 75 MM","UN",{"$f":"2/(0.4*0.8)","v":6.2499999999999991},1.8334999999999999,{"$f":"IF(ISNUMBER(F3339),E3339*F3339,\"\")","v":11.459374999999998},null,null,101.83]
[null,null,"Broca com ponta de widia Ø 3/8\" x 160 mm","un ",{"$f":"(2/(0.4*0.8))*(0.016)*1.5","v":0.15},9.69,{"$f":"IF(ISNUMBER(F3340),E3340*F3340,\"\")","v":1.4534999999999998},null,null,101.83]
[null,null,"Furadeira de impacto elétrica - 0,65 kW, Ø mandril 5/8\"","h prod",{"$f":"(2/(0.4*0.8))*0.1*1.5","v":0.9375},5.548,{"$f":"IF(ISNUMBER(F3341),E3341*F3341,\"\")","v":5.2012499999999999},null,null,101.83]
[null,null,"Insert metálico tipo 1, conforme projeto","un ",{"$f":"2/(0.4*0.8)","v":6.2499999999999991},32,{"$f":"IF(ISNUMBER(F3342),E3342*F3342,\"\")","v":199.99999999999997},null,null,101.83]
[null,null,"GRAUTE FGK=25 MPA; TRAÇO 1:0,02:1,2:1,5 (CIMENTO/ CAL/ AREIA GROSSA/ BRITA 0) - PREPARO MECÂNICO COM BETONEIRA 400 L. AF_02/2015","m3",1E-4,397.12149455749989,{"$f":"IF(ISNUMBER(F3343),E3343*F3343,\"\")","v":3.9712149455749989E-2},null,null,101.83]
[null,null,null,null,null,"",{"$f":"IF(ISNUMBER(F3344),E3344*F3344,\"\")","v":""},null,null,101.83]
[null,null,"Fontes: ORSE 03735, PINI 05.102.000020.SER e 05.108.000450.SER",null,null,"",{"$f":"IF(ISNUMBER(F3345),E3345*F3345,\"\")","v":""},null,null,101.83]
[null,null,"Observações: Considerando uma placa de 0,40 m x 0,80 m, que, conforme projeto, necessita de 2 inserts.",null,null,"",{"$f":"IF(ISNUMBER(F3346),E3346*F3346,\"\")","v":""},null,null,101.83]
[null,null,null,null,null,"",{"$f":"IF(ISNUMBER(F3347),E3347*F3347,\"\")","v":""},null,null,101.83]
["SF-00972",{"$f":"INDEX(Orçamentária!A:B,MATCH(Composições!A3348,Orçamentária!A:A,0),2)","v":"Aplicação de hidrofugante à base de silano e silicone"},null,{"$f":"TRIM(INDEX(Orçamentária!C:C,MATCH(Composições!A3348,Orçamentária!A:A,0),1))","v":"m2"},null,"",{"$f":"IF(ISNUMBER(F3348),E3348*F3348,\"\")","v":""},null,null,134.6]
[null,null,null,null,null,"",{"$f":"IF(ISNUMBER(F3349),E3349*F3349,\"\")","v":""},null,null,134.6]
[null,null,"Pintor com encargos complementares","h",0.4,20.52,{"$f":"IF(ISNUMBER(F3350),E3350*F3350,\"\")","v":8.2080000000000002},{"$f":"SUM(G3350:G3352)","v":18.889610000000001},null,134.6]
[null,null,"Ajudante de pintor com Encargos Complementares","h",0.1,16.653500000000001,{"$f":"IF(ISNUMBER(F3351),E3351*F3351,\"\")","v":1.6653500000000001},null,null,134.6]
[null,null,"Hidrofugante à base de silano e silicone","L",0.33,27.321999999999999,{"$f":"IF(ISNUMBER(F3352),E3352*F3352,\"\")","v":9.0162600000000008},null,null,134.6]
[null,null,null,null,null,"",{"$f":"IF(ISNUMBER(F3353),E3353*F3353,\"\")","v":""},null,null,134.6]
["SF-00973",{"$f":"INDEX(Orçamentária!A:B,MATCH(Composições!A3354,Orçamentária!A:A,0),2)","v":"Cantoneira em alumínio abas iguais 1\" x 1/8\" – Pingadeira “L”"},null,{"$f":"TRIM(INDEX(Orçamentária!C:C,MATCH(Composições!A3354,Orçamentária!A:A,0),1))","v":"m"},null,"",{"$f":"IF(ISNUMBER(F3354),E3354*F3354,\"\")","v":""},null,null,319.62]
[null,null,null,null,null,"",{"$f":"IF(ISNUMBER(F3355),E3355*F3355,\"\")","v":""},null,null,319.62]
[null,null,"Marmorista/graniteiro com encargos complementares","h",0.6,16.330500000000001,{"$f":"IF(ISNUMBER(F3356),E3356*F3356,\"\")","v":9.7982999999999993},{"$f":"SUM(G3356:G3358)","v":32.719900000000003},null,319.62]
[null,null,"Servente com Encargos Complementares","h",0.4,14.554,{"$f":"IF(ISNUMBER(F3357),E3357*F3357,\"\")","v":5.8216000000000001},null,null,319.62]
[null,null,"Cantoneira em alumínio abas iguais 1\" x 1/8\" com pintura eletrostática branca","m",1,17.100000000000001,{"$f":"IF(ISNUMBER(F3358),E3358*F3358,\"\")","v":17.100000000000001},null,null,319.62]
[null,null,null,null,null,"",{"$f":"IF(ISNUMBER(F3359),E3359*F3359,\"\")","v":""},null,null,319.62]
["SF-00974",{"$f":"INDEX(Orçamentária!A:B,MATCH(Composições!A3360,Orçamentária!A:A,0),2)","v":"Granito Amarelo Maracujá para rodapé"},null,{"$f":"TRIM(INDEX(Orçamentária!C:C,MATCH(Composições!A3360,Orçamentária!A:A,0),1))","v":"m2"},null,"",{"$f":"IF(ISNUMBER(F3360),E3360*F3360,\"\")","v":""},null,null,1]
[null,null,null,null,null,"",{"$f":"IF(ISNUMBER(F3361),E3361*F3361,\"\")","v":""},null,null,1]
[null,null,"Granito Amarelo Capri para rodapé","m2",1.05,275,{"$f":"IF(ISNUMBER(F3362),E3362*F3362,\"\")","v":288.75},{"$f":"SUM(G3362:G3366)","v":373.08395100000001},null,1]
[null,null,"Argamassa colante tipo AC III","kg",{"$f":"0.8614/0.1","v":8.6140000000000008},1.254,{"$f":"IF(ISNUMBER(F3363),E3363*F3363,\"\")","v":10.801956000000001},null,null,1]
[null,null,"Marmorista/graniteiro com encargos complementares","h",{"$f":"0.299/0.1","v":2.9899999999999998},16.330500000000001,{"$f":"IF(ISNUMBER(F3364),E3364*F3364,\"\")","v":48.828195000000001},null,null,1]
[null,null,"Servente com Encargos Complementares","h",{"$f":"0.15/0.1","v":1.4999999999999998},14.554,{"$f":"IF(ISNUMBER(F3365),E3365*F3365,\"\")","v":21.830999999999996},null,null,1]
[null,null,"Rejunte cimenticio, qualquer cor","kg",{"$f":"0.12/0.1","v":1.2},2.3939999999999997,{"$f":"IF(ISNUMBER(F3366),E3366*F3366,\"\")","v":2.8727999999999994},null,null,1]
[null,null,null,null,null,"",{"$f":"IF(ISNUMBER(F3367),E3367*F3367,\"\")","v":""},null,null,1]
["SF-00975",{"$f":"INDEX(Orçamentária!A:B,MATCH(Composições!A3368,Orçamentária!A:A,0),2)","v":"Acabamento das extremidades aparentes dos parafusos de fixação (lixamento e revestimento)"},null,{"$f":"TRIM(INDEX(Orçamentária!C:C,MATCH(Composições!A3368,Orçamentária!A:A,0),1))","v":"un"},null,"",{"$f":"IF(ISNUMBER(F3368),E3368*F3368,\"\")","v":""},null,null,140]
[null,null,null,null,null,"",{"$f":"IF(ISNUMBER(F3369),E3369*F3369,\"\")","v":""},null,null,140]
[null,null,"Servente com Encargos Complementares","h",0.05,14.554,{"$f":"IF(ISNUMBER(F3370),E3370*F3370,\"\")","v":0.72770000000000001},{"$f":"SUM(G3370:G3373)","v":2.3409249999999999},null,140]
[null,null,"Lixadeira angular manual elétrica Ø 7\" 2200 W 6600 rpm","loc/un/dia",{"$f":"0.25/10","v":2.5000000000000001E-2},27.341000000000001,{"$f":"IF(ISNUMBER(F3371),E3371*F3371,\"\")","v":0.68352500000000005},null,null,140]
[null,null,"Ponta montada A2 haste 1/4\"","un",0.25,3.24,{"$f":"IF(ISNUMBER(F3372),E3372*F3372,\"\")","v":0.81},null,null,140]
[null,null,"Rejunte cimenticio, qualquer cor","kg",0.05,2.3939999999999997,{"$f":"IF(ISNUMBER(F3373),E3373*F3373,\"\")","v":0.11969999999999999},null,null,140]
[null,null,null,null,null,"",{"$f":"IF(ISNUMBER(F3374),E3374*F3374,\"\")","v":""},null,null,140]
["SF-00976",{"$f":"INDEX(Orçamentária!A:B,MATCH(Composições!A3375,Orçamentária!A:A,0),2)","v":"Rejuntamento de placas de rocha ornamental em fachada"},null,{"$f":"TRIM(INDEX(Orçamentária!C:C,MATCH(Composições!A3375,Orçamentária!A:A,0),1))","v":"m2"},null,"",{"$f":"IF(ISNUMBER(F3375),E3375*F3375,\"\")","v":""},null,null,672.51]
[null,null,null,null,null,"",{"$f":"IF(ISNUMBER(F3376),E3376*F3376,\"\")","v":""},null,null,672.51]
[null,null,"Servente com Encargos Complementares","h",0.25,14.554,{"$f":"IF(ISNUMBER(F3377),E3377*F3377,\"\")","v":3.6385000000000001},{"$f":"SUM(G3377:G3378)","v":4.9049259999999997},null,672.51]
[null,null,"Rejunte cimenticio, qualquer cor","kg",0.52900000000000003,2.3939999999999997,{"$f":"IF(ISNUMBER(F3378),E3378*F3378,\"\")","v":1.2664259999999998},null,null,672.51]
[null,null,null,null,null,"",{"$f":"IF(ISNUMBER(F3379),E3379*F3379,\"\")","v":""},null,null,672.51]
["SF-00977",{"$f":"INDEX(Orçamentária!A:B,MATCH(Composições!A3380,Orçamentária!A:A,0),2)","v":"Junta de movimentação em fachada"},null,{"$f":"TRIM(INDEX(Orçamentária!C:C,MATCH(Composições!A3380,Orçamentária!A:A,0),1))","v":"m"},null,"",{"$f":"IF(ISNUMBER(F3380),E3380*F3380,\"\")","v":""},null,null,738.24]
[null,null,null,null,null,"",{"$f":"IF(ISNUMBER(F3381),E3381*F3381,\"\")","v":""},null,null,738.24]
[null,null,"Pedreiro com Encargos Complementares","h",0.33,19.474999999999998,{"$f":"IF(ISNUMBER(F3382),E3382*F3382,\"\")","v":6.4267499999999993},{"$f":"SUM(G3382:G3386)","v":24.097443499999997},null,738.24]
[null,null,"Servente com Encargos Complementares","h",0.1,14.554,{"$f":"IF(ISNUMBER(F3383),E3383*F3383,\"\")","v":1.4554},null,null,738.24]
[null,null,"Primer de secagem rápida e alto poder de aderência ao concreto","L",0.15,25.792499999999997,{"$f":"IF(ISNUMBER(F3384),E3384*F3384,\"\")","v":3.8688749999999992},null,null,738.24]
[null,null,"Corpo de apoio em polietileno para aplicação de mástiques em juntas","m",1,0.53200000000000003,{"$f":"IF(ISNUMBER(F3385),E3385*F3385,\"\")","v":0.53200000000000003},null,null,738.24]
[null,null,"SELANTE ELASTICO MONOCOMPONENTE A BASE DE POLIURETANO (PU) PARA JUNTAS DIVERSAS","310ml",{"$f":"ROUND(0.15/0.31,4)","v":0.4839},24.414999999999999,{"$f":"IF(ISNUMBER(F3386),E3386*F3386,\"\")","v":11.8144185},null,null,738.24]
[null,null,null,null,null,"",{"$f":"IF(ISNUMBER(F3387),E3387*F3387,\"\")","v":""},null,null,738.24]
["SF-00978",{"$f":"INDEX(Orçamentária!A:B,MATCH(Composições!A3388,Orçamentária!A:A,0),2)","v":"Adesivo Selante Poliuretano – fornecimento e aplicação"},null,{"$f":"TRIM(INDEX(Orçamentária!C:C,MATCH(Composições!A3388,Orçamentária!A:A,0),1))","v":"m"},null,"",{"$f":"IF(ISNUMBER(F3388),E3388*F3388,\"\")","v":""},null,null,153.9]
[null,null,null,null,null,"",{"$f":"IF(ISNUMBER(F3389),E3389*F3389,\"\")","v":""},null,null,153.9]
[null,null,"Pedreiro com Encargos Complementares","h",0.16500000000000001,19.474999999999998,{"$f":"IF(ISNUMBER(F3390),E3390*F3390,\"\")","v":3.2133749999999996},{"$f":"SUM(G3390:G3392)","v":12.803853},null,153.9]
[null,null,"Servente com Encargos Complementares","h",0.1,14.554,{"$f":"IF(ISNUMBER(F3391),E3391*F3391,\"\")","v":1.4554},null,null,153.9]
[null,null,"SELANTE ELASTICO MONOCOMPONENTE A BASE DE POLIURETANO (PU) PARA JUNTAS DIVERSAS","310ml",{"$f":"ROUND(0.1033/0.31,4)","v":0.3332},24.414999999999999,{"$f":"IF(ISNUMBER(F3392),E3392*F3392,\"\")","v":8.135078},null,null,153.9]
[null,null,null,null,null,"",{"$f":"IF(ISNUMBER(F3393),E3393*F3393,\"\")","v":""},null,null,153.9]
["SF-00980",{"$f":"INDEX(Orçamentária!A:B,MATCH(Composições!A3394,Orçamentária!A:A,0),2)","v":"Chuveiro elétrico"},null,{"$f":"TRIM(INDEX(Orçamentária!C:C,MATCH(Composições!A3394,Orçamentária!A:A,0),1))","v":"un"},null,"",{"$f":"IF(ISNUMBER(F3394),E3394*F3394,\"\")","v":""},null,null,0]
[null,null,null,null,null,"",{"$f":"IF(ISNUMBER(F3395),E3395*F3395,\"\")","v":""},null,null,0]
[null,null,"CHUVEIRO COMUM EM PLASTICO BRANCO, COM CANO, 3 TEMPERATURAS, 5500 W (110/220 V)","UN",1,51.784499999999994,{"$f":"IF(ISNUMBER(F3396),E3396*F3396,\"\")","v":51.784499999999994},{"$f":"SUM(G3396:G3399)","v":62.416085849999988},null,0]
[null,null,"FITA VEDA ROSCA EM ROLOS DE 18 MM X 10 M (L X C)","UN",2.1000000000000001E-2,3.1825000000000001,{"$f":"IF(ISNUMBER(F3397),E3397*F3397,\"\")","v":6.6832500000000003E-2},null,null,0]
[null,null,"ENCANADOR OU BOMBEIRO HIDRÁULICO COM ENCARGOS COMPLEMENTARES","H",0.44669999999999999,19.066499999999998,{"$f":"IF(ISNUMBER(F3398),E3398*F3398,\"\")","v":8.5170055499999986},null,null,0]
[null,null,"SERVENTE COM ENCARGOS COMPLEMENTARES","H",0.14069999999999999,14.554,{"$f":"IF(ISNUMBER(F3399),E3399*F3399,\"\")","v":2.0477477999999998},null,null,0]
[null,null,null,null,null,"",{"$f":"IF(ISNUMBER(F3400),E3400*F3400,\"\")","v":""},null,null,0]
["SF-00981",{"$f":"INDEX(Orçamentária!A:B,MATCH(Composições!A3401,Orçamentária!A:A,0),2)","v":"Base para pavimentação com concreto magro"},null,{"$f":"TRIM(INDEX(Orçamentária!C:C,MATCH(Composições!A3401,Orçamentária!A:A,0),1))","v":"m3"},null,"",{"$f":"IF(ISNUMBER(F3401),E3401*F3401,\"\")","v":""},null,null,0]
[null,null,null,null,null,"",{"$f":"IF(ISNUMBER(F3402),E3402*F3402,\"\")","v":""},null,null,0]
[null,null,"Pedreiro com Encargos Complementares","H",2,19.474999999999998,{"$f":"IF(ISNUMBER(F3403),E3403*F3403,\"\")","v":38.949999999999996},{"$f":"SUM(G3403:G3405)","v":445.9413482041},null,0]
[null,null,"Servente com Encargos Complementares","H",6,14.554,{"$f":"IF(ISNUMBER(F3404),E3404*F3404,\"\")","v":87.323999999999998},null,null,0]
[null,null,"CONCRETO MAGRO PARA LASTRO, TRAÇO 1:4,5:4,5 (CIMENTO/ AREIA MÉDIA/ BRITA 1)  - PREPARO MECÂNICO COM BETONEIRA 600 L. AF_07/2016","M3",1,319.66734820409999,{"$f":"IF(ISNUMBER(F3405),E3405*F3405,\"\")","v":319.66734820409999},null,null,0]
[null,null,null,null,null,"",{"$f":"IF(ISNUMBER(F3406),E3406*F3406,\"\")","v":""},null,null,0]
["SF-00982",{"$f":"INDEX(Orçamentária!A:B,MATCH(Composições!A3407,Orçamentária!A:A,0),2)","v":"Pavimentação em concreto armado simples"},null,{"$f":"TRIM(INDEX(Orçamentária!C:C,MATCH(Composições!A3407,Orçamentária!A:A,0),1))","v":"m2"},null,"",{"$f":"IF(ISNUMBER(F3407),E3407*F3407,\"\")","v":""},null,null,0]
[null,null,null,null,null,"",{"$f":"IF(ISNUMBER(F3408),E3408*F3408,\"\")","v":""},null,null,0]
[null,null,"CONCRETO USINADO BOMBEAVEL, CLASSE DE RESISTENCIA C20, COM BRITA 0 E 1, SLUMP = 100 +/- 20 MM, EXCLUI SERVICO DE BOMBEAMENTO (NBR 8953)","M3",8.14E-2,246.38250000000002,{"$f":"IF(ISNUMBER(F3409),E3409*F3409,\"\")","v":20.055535500000001},{"$f":"SUM(G3409:G3415)","v":71.863223099999999},null,0]
[null,null,"ENDURECEDOR MINERAL DE BASE CIMENTICIA PARA PISO DE CONCRETO","KG",4,6.2604999999999995,{"$f":"IF(ISNUMBER(F3410),E3410*F3410,\"\")","v":25.041999999999998},null,null,0]
[null,null,"PEDREIRO COM ENCARGOS COMPLEMENTARES","H",0.1119,19.474999999999998,{"$f":"IF(ISNUMBER(F3411),E3411*F3411,\"\")","v":2.1792524999999996},null,null,0]
[null,null,"SERVENTE COM ENCARGOS COMPLEMENTARES","H",4.6600000000000003E-2,14.554,{"$f":"IF(ISNUMBER(F3412),E3412*F3412,\"\")","v":0.67821640000000005},null,null,0]
[null,null,"DESEMPENADEIRA DE CONCRETO, PESO DE 75KG, 4 PÁS, MOTOR A GASOLINA, POTÊNCIA 5,5 HP - CHP DIURNO. AF_09/2016","CHP",7.0000000000000001E-3,6.4504999999999999,{"$f":"IF(ISNUMBER(F3413),E3413*F3413,\"\")","v":4.5153499999999999E-2},null,null,0]
[null,null,"TELA DE ACO SOLDADA NERVURADA, CA-60, Q-196, (3,11 KG/M2), DIAMETRO DO FIO = 5,0 MM, LARGURA = 2,45 M, ESPACAMENTO DA MALHA = 10 X 10 CM","M2",1.1224000000000001,19.0855,{"$f":"IF(ISNUMBER(F3414),E3414*F3414,\"\")","v":21.4215652},null,null,0]
[null,null,"SELANTE ELASTICO MONOCOMPONENTE A BASE DE POLIURETANO (PU) PARA JUNTAS DIVERSAS","310ML",0.1,24.414999999999999,{"$f":"IF(ISNUMBER(F3415),E3415*F3415,\"\")","v":2.4415},null,null,0]
[null,null,null,null,null,"",{"$f":"IF(ISNUMBER(F3416),E3416*F3416,\"\")","v":""},null,null,0]
["SF-00983",{"$f":"INDEX(Orçamentária!A:B,MATCH(Composições!A3417,Orçamentária!A:A,0),2)","v":"Remoção de reservatório d’água"},null,{"$f":"TRIM(INDEX(Orçamentária!C:C,MATCH(Composições!A3417,Orçamentária!A:A,0),1))","v":"un"},null,"",{"$f":"IF(ISNUMBER(F3417),E3417*F3417,\"\")","v":""},null,null,0]
[null,null,null,null,null,"",{"$f":"IF(ISNUMBER(F3418),E3418*F3418,\"\")","v":""},null,null,0]
[null,null,"Encanador ou Bombeiro Hidráulico com Encargos Complementares","h",4,19.066499999999998,{"$f":"IF(ISNUMBER(F3419),E3419*F3419,\"\")","v":76.265999999999991},{"$f":"SUM(G3419:G3420)","v":134.482},null,0]
[null,null,"Servente com Encargos Complementares","h",4,14.554,{"$f":"IF(ISNUMBER(F3420),E3420*F3420,\"\")","v":58.216000000000001},null,null,0]
[null,null,null,null,null,"",{"$f":"IF(ISNUMBER(F3421),E3421*F3421,\"\")","v":""},null,null,0]
["SF-00984",{"$f":"INDEX(Orçamentária!A:B,MATCH(Composições!A3422,Orçamentária!A:A,0),2)","v":"Transporte e destinação final de entulho para distâncias até 30 km"},null,{"$f":"TRIM(INDEX(Orçamentária!C:C,MATCH(Composições!A3422,Orçamentária!A:A,0),1))","v":"m3 x km"},null,"",{"$f":"IF(ISNUMBER(F3422),E3422*F3422,\"\")","v":""},null,null,0]
[null,null,null,null,null,"",{"$f":"IF(ISNUMBER(F3423),E3423*F3423,\"\")","v":""},null,null,0]
[null,null,"CAMINHÃO BASCULANTE 6 M3 TOCO, PESO BRUTO TOTAL 16.000 KG, CARGA ÚTIL MÁXIMA 11.130 KG, DISTÂNCIA ENTRE EIXOS 5,36 M, POTÊNCIA 185 CV, INCLUSIVE CAÇAMBA METÁLICA - CHP DIURNO. AF_06/2014","CHP",1.3899999999999999E-2,95.247,{"$f":"IF(ISNUMBER(F3424),E3424*F3424,\"\")","v":1.3239333},{"$f":"SUM(G3424:G3425)","v":1.5034833000000001},null,0]
[null,null,"CAMINHÃO BASCULANTE 6 M3 TOCO, PESO BRUTO TOTAL 16.000 KG, CARGA ÚTIL MÁXIMA 11.130 KG, DISTÂNCIA ENTRE EIXOS 5,36 M, POTÊNCIA 185 CV, INCLUSIVE CAÇAMBA METÁLICA - CHI DIURNO. AF_06/2014","CHI",6.0000000000000001E-3,29.924999999999997,{"$f":"IF(ISNUMBER(F3425),E3425*F3425,\"\")","v":0.17954999999999999},null,null,0]
[null,null,null,null,null,"",{"$f":"IF(ISNUMBER(F3426),E3426*F3426,\"\")","v":""},null,null,0]
["SF-00986",{"$f":"INDEX(Orçamentária!A:B,MATCH(Composições!A3427,Orçamentária!A:A,0),2)","v":"Demolição de estrutura metálica"},null,{"$f":"TRIM(INDEX(Orçamentária!C:C,MATCH(Composições!A3427,Orçamentária!A:A,0),1))","v":"kg"},null,"",{"$f":"IF(ISNUMBER(F3427),E3427*F3427,\"\")","v":""},null,null,0]
[null,null,null,null,null,"",{"$f":"IF(ISNUMBER(F3428),E3428*F3428,\"\")","v":""},null,null,0]
[null,null,"OXIGENIO, RECARGA PARA CILINDRO DE CONJUNTO OXICORTE GRANDE","m3",2.1999999999999999E-2,9.2530000000000001,{"$f":"IF(ISNUMBER(F3429),E3429*F3429,\"\")","v":0.203566},{"$f":"SUM(G3429:G3433)","v":2.6948459999999996},null,0]
[null,null,"ACETILENO (RECARGA PARA CILINDRO DE CONJUNTO OXICORTE GRANDE)","kg",5.0000000000000001E-3,42.217999999999996,{"$f":"IF(ISNUMBER(F3430),E3430*F3430,\"\")","v":0.21109},null,null,0]
[null,null,"APARELHO PARA CORTE E SOLDA OXI-ACETILENO SOBRE RODAS, INCLUSIVE CILINDROS E MAÇARICOS - CHP DIURNO. AF_12/2015","CHP",{"$f":"E3432","v":4.3999999999999997E-2},17.185499999999998,{"$f":"IF(ISNUMBER(F3431),E3431*F3431,\"\")","v":0.75616199999999989},null,null,0]
[null,null,"Soldador com encargos complementares","h",4.3999999999999997E-2,20.082999999999998,{"$f":"IF(ISNUMBER(F3432),E3432*F3432,\"\")","v":0.88365199999999988},null,null,0]
[null,null,"Servente com Encargos Complementares","h",4.3999999999999997E-2,14.554,{"$f":"IF(ISNUMBER(F3433),E3433*F3433,\"\")","v":0.64037599999999995},null,null,0]
[null,null,null,null,null,"",{"$f":"IF(ISNUMBER(F3434),E3434*F3434,\"\")","v":""},null,null,0]
["SF-00987",{"$f":"INDEX(Orçamentária!A:B,MATCH(Composições!A3435,Orçamentária!A:A,0),2)","v":"Escavação manual com profundidade maior do que 1,30 m"},null,{"$f":"TRIM(INDEX(Orçamentária!C:C,MATCH(Composições!A3435,Orçamentária!A:A,0),1))","v":"m3"},null,"",{"$f":"IF(ISNUMBER(F3435),E3435*F3435,\"\")","v":""},null,null,0]
[null,null,null,null,null,"",{"$f":"IF(ISNUMBER(F3436),E3436*F3436,\"\")","v":""},null,null,0]
[null,null,"Servente com Encargos Complementares","h",4.3,14.554,{"$f":"IF(ISNUMBER(F3437),E3437*F3437,\"\")","v":62.5822},{"$f":"SUM(G3437:G3437)","v":62.5822},null,0]
[null,null,null,null,null,"",{"$f":"IF(ISNUMBER(F3438),E3438*F3438,\"\")","v":""},null,null,0]
["SF-00988",{"$f":"INDEX(Orçamentária!A:B,MATCH(Composições!A3439,Orçamentária!A:A,0),2)","v":"Escavação mecânica com profundidade maior do que 1,30 m"},null,{"$f":"TRIM(INDEX(Orçamentária!C:C,MATCH(Composições!A3439,Orçamentária!A:A,0),1))","v":"m3"},null,"",{"$f":"IF(ISNUMBER(F3439),E3439*F3439,\"\")","v":""},null,null,0]
[null,null,null,null,null,"",{"$f":"IF(ISNUMBER(F3440),E3440*F3440,\"\")","v":""},null,null,0]
[null,null,"RETROESCAVADEIRA SOBRE RODAS COM CARREGADEIRA, TRAÇÃO 4X4, POTÊNCIA LÍQ. 88 HP, CAÇAMBA CARREG. CAP. MÍN. 1 M3, CAÇAMBA RETRO CAP. 0,26 M3, PESO OPERACIONAL MÍN. 6.674 KG, PROFUNDIDADE ESCAVAÇÃO MÁX. 4,37 M - CHP DIURNO. AF_06/2014","CHP",2.7099999999999999E-2,79.828499999999991,{"$f":"IF(ISNUMBER(F3441),E3441*F3441,\"\")","v":2.1633523499999998},{"$f":"SUM(G3441:G3443)","v":4.1547157499999994},null,0]
[null,null,"RETROESCAVADEIRA SOBRE RODAS COM CARREGADEIRA, TRAÇÃO 4X4, POTÊNCIA LÍQ. 88 HP, CAÇAMBA CARREG. CAP. MÍN. 1 M3, CAÇAMBA RETRO CAP. 0,26 M3, PESO OPERACIONAL MÍN. 6.674 KG, PROFUNDIDADE ESCAVAÇÃO MÁX. 4,37 M - CHI DIURNO. AF_06/2014","CHI",3.2800000000000003E-2,34.133499999999998,{"$f":"IF(ISNUMBER(F3442),E3442*F3442,\"\")","v":1.1195788},null,null,0]
[null,null,"SERVENTE COM ENCARGOS COMPLEMENTARES","H",5.9900000000000002E-2,14.554,{"$f":"IF(ISNUMBER(F3443),E3443*F3443,\"\")","v":0.87178460000000002},null,null,0]
[null,null,null,null,null,"",{"$f":"IF(ISNUMBER(F3444),E3444*F3444,\"\")","v":""},null,null,0]
["SF-00989",{"$f":"INDEX(Orçamentária!A:B,MATCH(Composições!A3445,Orçamentária!A:A,0),2)","v":"Grama Batatais em placas de 40 x 40 cm"},null,{"$f":"TRIM(INDEX(Orçamentária!C:C,MATCH(Composições!A3445,Orçamentária!A:A,0),1))","v":"m2"},null,"",{"$f":"IF(ISNUMBER(F3445),E3445*F3445,\"\")","v":""},null,null,0]
[null,null,null,null,null,"",{"$f":"IF(ISNUMBER(F3446),E3446*F3446,\"\")","v":""},null,null,0]
[null,null,"GRAMA BATATAIS EM PLACAS, SEM PLANTIO","m2",1,4.6739999999999995,{"$f":"IF(ISNUMBER(F3447),E3447*F3447,\"\")","v":4.6739999999999995},{"$f":"SUM(G3447:G3457)","v":36.992610178216005},null,0]
[null,null,"Servente com Encargos Complementares","h",0.15640000000000001,14.554,{"$f":"IF(ISNUMBER(F3448),E3448*F3448,\"\")","v":2.2762456000000002},null,null,0]
[null,null,"JARDINEIRO COM ENCARGOS COMPLEMENTARES","h",3.9100000000000003E-2,18.866999999999997,{"$f":"IF(ISNUMBER(F3449),E3449*F3449,\"\")","v":0.73769969999999996},null,null,0]
[null,null,"Servente com Encargos Complementares","h",{"$f":"1.6*0.25","v":0.4},14.554,{"$f":"IF(ISNUMBER(F3450),E3450*F3450,\"\")","v":5.8216000000000001},null,null,0]
[null,null,"CALCARIO DOLOMITICO A (POSTO PEDREIRA/FORNECEDOR, SEM FRETE)","kg",{"$f":"1*0.25","v":0.25},0.1045,{"$f":"IF(ISNUMBER(F3451),E3451*F3451,\"\")","v":2.6124999999999999E-2},null,null,0]
[null,null,"TERRA VEGETAL (GRANEL)","m3",{"$f":"0.9*0.25","v":0.22500000000000001},101.783,{"$f":"IF(ISNUMBER(F3452),E3452*F3452,\"\")","v":22.901175000000002},null,null,0]
[null,null,"FERTILIZANTE NPK - 10:10:10","kg",{"$f":"1*0.25","v":0.25},2.1185,{"$f":"IF(ISNUMBER(F3453),E3453*F3453,\"\")","v":0.52962500000000001},null,null,0]
[null,null,"FERTILIZANTE ORGANICO COMPOSTO, CLASSE A","kg",{"$f":"0.1*0.25","v":2.5000000000000001E-2},0.8075,{"$f":"IF(ISNUMBER(F3454),E3454*F3454,\"\")","v":2.0187500000000001E-2},null,null,0]
[null,null,"CARGA, MANOBRAS E DESCARGA DE AREIA, BRITA, PEDRA DE MAO E SOLOS COM CAMINHAO BASCULANTE 6 M3 (DESCARGA LIVRE)","t",{"$f":"ROUND(1*E3451/1000,4)","v":2.9999999999999997E-4},3.0829757200000003,{"$f":"IF(ISNUMBER(F3455),E3455*F3455,\"\")","v":9.2489271600000003E-4},null,null,0]
[null,null,"TRANSPORTE COM CAMINHÃO BASCULANTE DE 6 M3, EM VIA URBANA PAVIMENTADA, DMT ATÉ 30 KM (UNIDADE: TxKM). AF_01/2018","TxKM",{"$f":"20*E3451*1/1000","v":5.0000000000000001E-3},1.0054970999999999,{"$f":"IF(ISNUMBER(F3456),E3456*F3456,\"\")","v":5.0274854999999997E-3},null,null,0]
[null,null,null,null,null,"",{"$f":"IF(ISNUMBER(F3457),E3457*F3457,\"\")","v":""},null,null,0]
[null,null,"Obs.: Considerando fornecedor de calcário a 20km do Senado Federal.",null,null,"",{"$f":"IF(ISNUMBER(F3458),E3458*F3458,\"\")","v":""},null,null,0]
[null,null,null,null,null,"",{"$f":"IF(ISNUMBER(F3459),E3459*F3459,\"\")","v":""},null,null,0]
["SF-00990",{"$f":"INDEX(Orçamentária!A:B,MATCH(Composições!A3460,Orçamentária!A:A,0),2)","v":"Pintura de meios-fios com tinta acrílica"},null,{"$f":"TRIM(INDEX(Orçamentária!C:C,MATCH(Composições!A3460,Orçamentária!A:A,0),1))","v":"m"},null,"",{"$f":"IF(ISNUMBER(F3460),E3460*F3460,\"\")","v":""},null,null,0]
[null,null,null,null,null,"",{"$f":"IF(ISNUMBER(F3461),E3461*F3461,\"\")","v":""},null,null,0]
[null,null,"TINTA ACRILICA PREMIUM PARA PISO","L",{"$f":"ROUND(0.17/2*(0.25+0.13+0.25),4)","v":5.3600000000000002E-2},13.233499999999999,{"$f":"IF(ISNUMBER(F3462),E3462*F3462,\"\")","v":0.70931559999999994},{"$f":"SUM(G3462:G3464)","v":4.1177730999999991},null,0]
[null,null,"PINTOR COM ENCARGOS COMPLEMENTARES","H",{"$f":"0.35*(0.25+0.13+0.25)/2","v":0.11024999999999999},20.52,{"$f":"IF(ISNUMBER(F3463),E3463*F3463,\"\")","v":2.2623299999999995},null,null,0]
[null,null,"Servente com Encargos Complementares","H",{"$f":"0.25*(0.25+0.13+0.25)/2","v":7.8750000000000001E-2},14.554,{"$f":"IF(ISNUMBER(F3464),E3464*F3464,\"\")","v":1.1461275},null,null,0]
[null,null,null,null,null,"",{"$f":"IF(ISNUMBER(F3465),E3465*F3465,\"\")","v":""},null,null,0]
[null,null,"Obs: considerando uma demão, meio-fio de 30 cm x 15 cm x 13 cm (altura, base inferior, base superior), enterrado 5 cm.",null,null,"",{"$f":"IF(ISNUMBER(F3466),E3466*F3466,\"\")","v":""},null,null,0]
[null,null,null,null,null,"",{"$f":"IF(ISNUMBER(F3467),E3467*F3467,\"\")","v":""},null,null,0]
["SF-00991",{"$f":"INDEX(Orçamentária!A:B,MATCH(Composições!A3468,Orçamentária!A:A,0),2)","v":"Meios-fios em concreto pré-moldado"},null,{"$f":"TRIM(INDEX(Orçamentária!C:C,MATCH(Composições!A3468,Orçamentária!A:A,0),1))","v":"m"},null,"",{"$f":"IF(ISNUMBER(F3468),E3468*F3468,\"\")","v":""},null,null,0]
[null,null,null,null,null,"",{"$f":"IF(ISNUMBER(F3469),E3469*F3469,\"\")","v":""},null,null,0]
[null,null,"AREIA MEDIA - POSTO JAZIDA/FORNECEDOR (RETIRADO NA JAZIDA, SEM TRANSPORTE)","m3",7.0000000000000001E-3,93.8125,{"$f":"IF(ISNUMBER(F3470),E3470*F3470,\"\")","v":0.65668749999999998},{"$f":"SUM(G3470:G3478)","v":36.076246454390997},null,0]
[null,null,"MEIO-FIO OU GUIA DE CONCRETO, PRE-MOLDADO, COMP 1 M, *30 X 15/ 12* CM (H X L1/L2)","m",1.0049999999999999,20.71,{"$f":"IF(ISNUMBER(F3471),E3471*F3471,\"\")","v":20.813549999999999},null,null,0]
[null,null,"Pedreiro com Encargos Complementares","h",0.39400000000000002,19.474999999999998,{"$f":"IF(ISNUMBER(F3472),E3472*F3472,\"\")","v":7.6731499999999997},null,null,0]
[null,null,"Servente com Encargos Complementares","h",0.39400000000000002,14.554,{"$f":"IF(ISNUMBER(F3473),E3473*F3473,\"\")","v":5.7342760000000004},null,null,0]
[null,null,"ARGAMASSA TRAÇO 1:3 (EM VOLUME DE CIMENTO E AREIA MÉDIA ÚMIDA), PREPARO MANUAL. AF_08/2019","m3",2E-3,477.87846712050003,{"$f":"IF(ISNUMBER(F3474),E3474*F3474,\"\")","v":0.95575693424100006},null,null,0]
[null,null,"CARGA, MANOBRA E DESCARGA DE SOLOS E MATERIAIS GRANULARES EM CAMINHÃO BASCULANTE 6 M³ - CARGA COM PÁ CARREGADEIRA (CAÇAMBA DE 1,7 A 2,8 M³ / 128 HP) E DESCARGA LIVRE (UNIDADE: M3). AF_07/2020","m3",{"$f":"1*E3470","v":7.0000000000000001E-3},4.6197654500000001,{"$f":"IF(ISNUMBER(F3475),E3475*F3475,\"\")","v":3.2338358150000003E-2},null,null,0]
[null,null,"TRANSPORTE COM CAMINHÃO BASCULANTE DE 6 M3, EM VIA URBANA PAVIMENTADA, DMT ATÉ 30 KM (UNIDADE: M3xKM). AF_01/2018","M3xKM",{"$f":"0.007*20","v":0.14000000000000001},1.5034832999999999,{"$f":"IF(ISNUMBER(F3476),E3476*F3476,\"\")","v":0.21048766199999999},null,null,0]
[null,null,null,null,null,"",{"$f":"IF(ISNUMBER(F3477),E3477*F3477,\"\")","v":""},null,null,0]
[null,null,"Obs.: Considerando fornecedor de areia a 20km do Senado Federal.",null,null,"",{"$f":"IF(ISNUMBER(F3478),E3478*F3478,\"\")","v":""},null,null,0]
[null,null,null,null,null,"",{"$f":"IF(ISNUMBER(F3479),E3479*F3479,\"\")","v":""},null,null,0]
["SF-00992",{"$f":"INDEX(Orçamentária!A:B,MATCH(Composições!A3480,Orçamentária!A:A,0),2)","v":"Tubo PEAD corrugado para drenagem – Diâmetro 100 mm"},null,{"$f":"TRIM(INDEX(Orçamentária!C:C,MATCH(Composições!A3480,Orçamentária!A:A,0),1))","v":"m"},null,"",{"$f":"IF(ISNUMBER(F3480),E3480*F3480,\"\")","v":""},null,null,0]
[null,null,null,null,null,"",{"$f":"IF(ISNUMBER(F3481),E3481*F3481,\"\")","v":""},null,null,0]
[null,null,"PEDRA BRITADA N. 2 (19 A 38 MM) POSTO PEDREIRA/FORNECEDOR, SEM FRETE","M3",8.2100000000000006E-2,76,{"$f":"IF(ISNUMBER(F3482),E3482*F3482,\"\")","v":6.2396000000000003},{"$f":"SUM(G3482:G3492)","v":26.211786472044999},null,0]
[null,null,"CAMINHÃO BASCULANTE 6 M3, PESO BRUTO TOTAL 16.000 KG, CARGA ÚTIL MÁXIMA 13.071 KG, DISTÂNCIA ENTRE EIXOS 4,80 M, POTÊNCIA 230 CV INCLUSIVE CAÇAMBA METÁLICA - CHP DIURNO. AF_06/2014","CHP",3.2000000000000002E-3,107.5685,{"$f":"IF(ISNUMBER(F3483),E3483*F3483,\"\")","v":0.3442192},null,null,0]
[null,null,"TUBO DRENO, CORRUGADO, ESPIRALADO, FLEXIVEL, PERFURADO, EM POLIETILENO DE ALTA DENSIDADE (PEAD), DN 100 MM, (4\") PARA DRENAGEM - EM ROLO (NORMA DNIT 093/2006 - E.M)","M",1,4.7594999999999992,{"$f":"IF(ISNUMBER(F3484),E3484*F3484,\"\")","v":4.7594999999999992},null,null,0]
[null,null,"ENCANADOR OU BOMBEIRO HIDRÁULICO COM ENCARGOS COMPLEMENTARES","H",1.7500000000000002E-2,19.066499999999998,{"$f":"IF(ISNUMBER(F3485),E3485*F3485,\"\")","v":0.33366374999999998},null,null,0]
[null,null,"SERVENTE COM ENCARGOS COMPLEMENTARES","H",0.79930000000000001,14.554,{"$f":"IF(ISNUMBER(F3486),E3486*F3486,\"\")","v":11.6330122},null,null,0]
[null,null,"PLACA VIBRATÓRIA REVERSÍVEL COM MOTOR 4 TEMPOS A GASOLINA, FORÇA CENTRÍFUGA DE 25 KN (2500 KGF), POTÊNCIA 5,5 CV - CHP DIURNO. AF_08/2015","CHP",7.6E-3,7.0774999999999997,{"$f":"IF(ISNUMBER(F3487),E3487*F3487,\"\")","v":5.3788999999999997E-2},null,null,0]
[null,null,"CARGA, MANOBRA E DESCARGA DE SOLOS E MATERIAIS GRANULARES EM CAMINHÃO BASCULANTE 6 M³ - CARGA COM PÁ CARREGADEIRA (CAÇAMBA DE 1,7 A 2,8 M³ / 128 HP) E DESCARGA LIVRE (UNIDADE: M3). AF_07/2020","m3",{"$f":"1*E3482","v":8.2100000000000006E-2},4.6197654500000001,{"$f":"IF(ISNUMBER(F3488),E3488*F3488,\"\")","v":0.37928274344500001},null,null,0]
[null,null,"TRANSPORTE COM CAMINHÃO BASCULANTE DE 6 M3, EM VIA URBANA PAVIMENTADA, DMT ATÉ 30 KM (UNIDADE: M3xKM). AF_01/2018","M3xKM",{"$f":"E3482*20","v":1.6420000000000001},1.5034832999999999,{"$f":"IF(ISNUMBER(F3489),E3489*F3489,\"\")","v":2.4687195786},null,null,0]
[null,null,null,null,null,"",{"$f":"IF(ISNUMBER(F3490),E3490*F3490,\"\")","v":""},null,null,0]
[null,null,"Obs.: Considerando fornecedor de brita a 20km do Senado Federal.",null,null,"",{"$f":"IF(ISNUMBER(F3491),E3491*F3491,\"\")","v":""},null,null,0]
[null,null,null,null,null,"",{"$f":"IF(ISNUMBER(F3492),E3492*F3492,\"\")","v":""},null,null,0]
["SF-00994",{"$f":"INDEX(Orçamentária!A:B,MATCH(Composições!A3493,Orçamentária!A:A,0),2)","v":"Fixadores metálicos para rochas ornamentais (Modelo Edifício Principal, peça inferior)"},null,{"$f":"TRIM(INDEX(Orçamentária!C:C,MATCH(Composições!A3493,Orçamentária!A:A,0),1))","v":"un"},null,"",{"$f":"IF(ISNUMBER(F3493),E3493*F3493,\"\")","v":""},null,null,4]
[null,null,null,null,null,"",{"$f":"IF(ISNUMBER(F3494),E3494*F3494,\"\")","v":""},null,null,4]
[null,null,"Pedreiro com Encargos Complementares","h",{"$f":"0.1+0.1","v":0.2},19.474999999999998,{"$f":"IF(ISNUMBER(F3495),E3495*F3495,\"\")","v":3.8949999999999996},{"$f":"SUM(G3495:G3500)","v":50.314328597823},null,4]
[null,null,"Servente com Encargos Complementares","h",{"$f":"0.1+0.1","v":0.2},14.554,{"$f":"IF(ISNUMBER(F3496),E3496*F3496,\"\")","v":2.9108000000000001},null,null,4]
[null,null,"Broca com ponta de widia Ø 3/8\" x 160 mm","un ",{"$f":"0.016*2","v":3.2000000000000001E-2},9.69,{"$f":"IF(ISNUMBER(F3497),E3497*F3497,\"\")","v":0.31007999999999997},null,null,4]
[null,null,"Furadeira de impacto elétrica - 0,65 kW, Ø mandril 5/8\"","h prod",{"$f":"0.1*2","v":0.2},5.548,{"$f":"IF(ISNUMBER(F3498),E3498*F3498,\"\")","v":1.1096000000000001},null,null,4]
[null,null,"Insert metálico tipo 3, conforme projeto","un ",1,41.93,{"$f":"IF(ISNUMBER(F3499),E3499*F3499,\"\")","v":41.93},null,null,4]
[null,null,"GRAUTE FGK=25 MPA; TRAÇO 1:0,02:1,2:1,5 (CIMENTO/ CAL/ AREIA GROSSA/ BRITA 0) - PREPARO MECÂNICO COM BETONEIRA 400 L. AF_02/2015","m3",{"$f":"ROUND(0.15*0.05*0.05,4)","v":4.0000000000000002E-4},397.12149455749989,{"$f":"IF(ISNUMBER(F3500),E3500*F3500,\"\")","v":0.15884859782299995},null,null,4]
[null,null,null,null,null,"",{"$f":"IF(ISNUMBER(F3501),E3501*F3501,\"\")","v":""},null,null,4]
[null,null,"Fontes: PINI 05.102.000020.SER",null,null,"",{"$f":"IF(ISNUMBER(F3502),E3502*F3502,\"\")","v":""},null,null,4]
[null,null,null,null,null,"",{"$f":"IF(ISNUMBER(F3503),E3503*F3503,\"\")","v":""},null,null,4]
["SF-01001",{"$f":"INDEX(Orçamentária!A:B,MATCH(Composições!A3504,Orçamentária!A:A,0),2)","v":"Locação de Container - Escritório"},null,{"$f":"TRIM(INDEX(Orçamentária!C:C,MATCH(Composições!A3504,Orçamentária!A:A,0),1))","v":"mês"},null,"",{"$f":"IF(ISNUMBER(F3504),E3504*F3504,\"\")","v":""},null,null,0]
[null,null,null,null,null,"",{"$f":"IF(ISNUMBER(F3505),E3505*F3505,\"\")","v":""},null,null,0]
[null,null,"LOCACAO DE CONTAINER 2,30  X  6,00 M, ALT. 2,50 M, COM 1 SANITARIO, PARA ESCRITORIO, COMPLETO, SEM DIVISORIAS INTERNAS","MES",1,495.9,{"$f":"IF(ISNUMBER(F3506),E3506*F3506,\"\")","v":495.9},{"$f":"SUM(G3506:G3506)","v":495.9},null,0]
[null,null,null,null,null,"",{"$f":"IF(ISNUMBER(F3507),E3507*F3507,\"\")","v":""},null,null,0]
["SF-01011",{"$f":"INDEX(Orçamentária!A:B,MATCH(Composições!A3508,Orçamentária!A:A,0),2)","v":"Abertura/fechamento de rasgo em concreto"},null,{"$f":"TRIM(INDEX(Orçamentária!C:C,MATCH(Composições!A3508,Orçamentária!A:A,0),1))","v":"m"},null,"",{"$f":"IF(ISNUMBER(F3508),E3508*F3508,\"\")","v":""},null,null,0]
[null,null,null,null,null,"",{"$f":"IF(ISNUMBER(F3509),E3509*F3509,\"\")","v":""},null,null,0]
[null,null,"MARTELETE OU ROMPEDOR PNEUMÁTICO MANUAL, 28 KG, COM SILENCIADOR - CHP DIURNO. AF_07/2016","CHP",0.183,18.05,{"$f":"IF(ISNUMBER(F3510),E3510*F3510,\"\")","v":3.30315},{"$f":"SUM(G3510:G3516)","v":32.077889736963996},null,0]
[null,null,"MARTELETE OU ROMPEDOR PNEUMÁTICO MANUAL, 28 KG, COM SILENCIADOR - CHI DIURNO. AF_07/2016","CHI",0.40100000000000002,16.739000000000001,{"$f":"IF(ISNUMBER(F3511),E3511*F3511,\"\")","v":6.7123390000000009},null,null,0]
[null,null,"Auxiliar de encanador ou bombeiro hidráulico com encargos complementares","h",9.0999999999999998E-2,15.019499999999999,{"$f":"IF(ISNUMBER(F3512),E3512*F3512,\"\")","v":1.3667744999999998},null,null,0]
[null,null,"Encanador ou Bombeiro Hidráulico com Encargos Complementares","h",0.58299999999999996,19.066499999999998,{"$f":"IF(ISNUMBER(F3513),E3513*F3513,\"\")","v":11.115769499999997},null,null,0]
[null,null,"Auxiliar de encanador ou bombeiro hidráulico com encargos complementares","h",3.7999999999999999E-2,15.019499999999999,{"$f":"IF(ISNUMBER(F3514),E3514*F3514,\"\")","v":0.57074099999999994},null,null,0]
[null,null,"Encanador ou Bombeiro Hidráulico com Encargos Complementares","h",0.27200000000000002,19.066499999999998,{"$f":"IF(ISNUMBER(F3515),E3515*F3515,\"\")","v":5.1860879999999998},null,null,0]
[null,null,"ARGAMASSA TRAÇO 1:3 (EM VOLUME DE CIMENTO E AREIA MÉDIA ÚMIDA), PREPARO MANUAL. AF_08/2019","m3",8.0000000000000002E-3,477.87846712050003,{"$f":"IF(ISNUMBER(F3516),E3516*F3516,\"\")","v":3.8230277369640002},null,null,0]
[null,null,null,null,null,"",{"$f":"IF(ISNUMBER(F3517),E3517*F3517,\"\")","v":""},null,null,0]
["SF-01012",{"$f":"INDEX(Orçamentária!A:B,MATCH(Composições!A3518,Orçamentária!A:A,0),2)","v":"Recomposição de rejuntamento sobre revestimentos"},null,{"$f":"TRIM(INDEX(Orçamentária!C:C,MATCH(Composições!A3518,Orçamentária!A:A,0),1))","v":"m2"},null,"",{"$f":"IF(ISNUMBER(F3518),E3518*F3518,\"\")","v":""},null,null,0]
[null,null,null,null,null,"",{"$f":"IF(ISNUMBER(F3519),E3519*F3519,\"\")","v":""},null,null,0]
[null,null,"Rejunte cimenticio, qualquer cor","kg",0.25900000000000001,2.3939999999999997,{"$f":"IF(ISNUMBER(F3520),E3520*F3520,\"\")","v":0.62004599999999999},{"$f":"SUM(G3520:G3521)","v":7.8970460000000005},null,0]
[null,null,"Servente com Encargos Complementares","h",{"$f":"0.25*2","v":0.5},14.554,{"$f":"IF(ISNUMBER(F3521),E3521*F3521,\"\")","v":7.2770000000000001},null,null,0]
[null,null,null,null,null,"",{"$f":"IF(ISNUMBER(F3522),E3522*F3522,\"\")","v":""},null,null,0]
["SF-01013",{"$f":"INDEX(Orçamentária!A:B,MATCH(Composições!A3523,Orçamentária!A:A,0),2)","v":"Impermeabilização de revestimentos em pedra"},null,{"$f":"TRIM(INDEX(Orçamentária!C:C,MATCH(Composições!A3523,Orçamentária!A:A,0),1))","v":"m2"},null,"",{"$f":"IF(ISNUMBER(F3523),E3523*F3523,\"\")","v":""},null,null,0]
[null,null,null,null,null,"",{"$f":"IF(ISNUMBER(F3524),E3524*F3524,\"\")","v":""},null,null,0]
[null,null,"Impermeabilizante Idea HP","L",{"$f":"ROUND(1/12,4)","v":8.3299999999999999E-2},"",{"$f":"IF(ISNUMBER(F3525),E3525*F3525,\"\")","v":""},{"$f":"SUM(G3525:G3527)","v":16.051199999999998},null,0]
[null,null,"IMPERMEABILIZADOR COM ENCARGOS COMPLEMENTARES","H",{"$f":"1.2/2","v":0.6},19.474999999999998,{"$f":"IF(ISNUMBER(F3526),E3526*F3526,\"\")","v":11.684999999999999},null,null,0]
[null,null,"Servente com Encargos Complementares","H",{"$f":"0.6/2","v":0.3},14.554,{"$f":"IF(ISNUMBER(F3527),E3527*F3527,\"\")","v":4.3662000000000001},null,null,0]
[null,null,null,null,null,"",{"$f":"IF(ISNUMBER(F3528),E3528*F3528,\"\")","v":""},null,null,0]
[null,null,"Obs: Rendimento informado na especificação do serviço (12 m2 para 1 L, considerando duas demãos).",null,null,"",{"$f":"IF(ISNUMBER(F3529),E3529*F3529,\"\")","v":""},null,null,0]
[null,null,"Fonte: SINAPI 73872/2",null,null,"",{"$f":"IF(ISNUMBER(F3530),E3530*F3530,\"\")","v":""},null,null,0]
[null,null,null,null,null,"",{"$f":"IF(ISNUMBER(F3531),E3531*F3531,\"\")","v":""},null,null,0]
["SF-01014",{"$f":"INDEX(Orçamentária!A:B,MATCH(Composições!A3532,Orçamentária!A:A,0),2)","v":"Piso vinílico semiflexível"},null,{"$f":"TRIM(INDEX(Orçamentária!C:C,MATCH(Composições!A3532,Orçamentária!A:A,0),1))","v":"m2"},null,"",{"$f":"IF(ISNUMBER(F3532),E3532*F3532,\"\")","v":""},null,null,0]
[null,null,null,null,null,"",{"$f":"IF(ISNUMBER(F3533),E3533*F3533,\"\")","v":""},null,null,0]
[null,null,"ADESIVO ACRILICO/COLA DE CONTATO","KG",9.5000000000000001E-2,23.797499999999999,{"$f":"IF(ISNUMBER(F3534),E3534*F3534,\"\")","v":2.2607624999999998},{"$f":"SUM(G3534:G3539)","v":101.0763805},null,0]
[null,null,"PLACA VINILICA SEMIFLEXIVEL PARA REVESTIMENTO DE PISOS E PAREDES, E = 2 MM (SEM COLOCACAO)","M2",1.1100000000000001,82.602499999999992,{"$f":"IF(ISNUMBER(F3535),E3535*F3535,\"\")","v":91.688774999999993},null,null,0]
[null,null,"PEDREIRO COM ENCARGOS COMPLEMENTARES","H",0.26100000000000001,19.474999999999998,{"$f":"IF(ISNUMBER(F3536),E3536*F3536,\"\")","v":5.0829749999999994},null,null,0]
[null,null,"SERVENTE COM ENCARGOS COMPLEMENTARES","H",0.13,14.554,{"$f":"IF(ISNUMBER(F3537),E3537*F3537,\"\")","v":1.89202},null,null,0]
[null,null,"POLIDORA DE PISO (POLITRIZ), PESO DE 100KG, DIÂMETRO 450 MM, MOTOR ELÉTRICO, POTÊNCIA 4 HP - CHP DIURNO. AF_09/2016","CHP",2.5000000000000001E-2,2.1280000000000001,{"$f":"IF(ISNUMBER(F3538),E3538*F3538,\"\")","v":5.3200000000000004E-2},null,null,0]
[null,null,"POLIDORA DE PISO (POLITRIZ), PESO DE 100KG, DIÂMETRO 450 MM, MOTOR ELÉTRICO, POTÊNCIA 4 HP - CHI DIURNO. AF_09/2016","CHI",0.23599999999999999,0.41799999999999998,{"$f":"IF(ISNUMBER(F3539),E3539*F3539,\"\")","v":9.8647999999999986E-2},null,null,0]
[null,null,null,null,null,"",{"$f":"IF(ISNUMBER(F3540),E3540*F3540,\"\")","v":""},null,null,0]
["SF-01029",{"$f":"INDEX(Orçamentária!A:B,MATCH(Composições!A3541,Orçamentária!A:A,0),2)","v":"Locação de Container - Sanitário"},null,{"$f":"TRIM(INDEX(Orçamentária!C:C,MATCH(Composições!A3541,Orçamentária!A:A,0),1))","v":"mês"},null,"",{"$f":"IF(ISNUMBER(F3541),E3541*F3541,\"\")","v":""},null,null,0]
[null,null,null,null,null,"",{"$f":"IF(ISNUMBER(F3542),E3542*F3542,\"\")","v":""},null,null,0]
[null,null,"LOCACAO DE CONTAINER 2,30 X 6,00 M, ALT. 2,50 M,  PARA SANITARIO,  COM 4 BACIAS, 8 CHUVEIROS,1 LAVATORIO E 1 MICTORIO","MES",1,619.875,{"$f":"IF(ISNUMBER(F3543),E3543*F3543,\"\")","v":619.875},{"$f":"SUM(G3543:G3543)","v":619.875},null,0]
[null,null,null,null,null,"",{"$f":"IF(ISNUMBER(F3544),E3544*F3544,\"\")","v":""},null,null,0]
["SF-01030",{"$f":"INDEX(Orçamentária!A:B,MATCH(Composições!A3545,Orçamentária!A:A,0),2)","v":"Locação de Container - Almoxarifado"},null,{"$f":"TRIM(INDEX(Orçamentária!C:C,MATCH(Composições!A3545,Orçamentária!A:A,0),1))","v":"mês"},null,"",{"$f":"IF(ISNUMBER(F3545),E3545*F3545,\"\")","v":""},null,null,0]
[null,null,null,null,null,"",{"$f":"IF(ISNUMBER(F3546),E3546*F3546,\"\")","v":""},null,null,0]
[null,null,"LOCACAO DE CONTAINER 2,30  X  6,00 M, ALT. 2,50 M, PARA ESCRITORIO, SEM DIVISORIAS INTERNAS E SEM SANITARIO","MES",1,387.41949999999997,{"$f":"IF(ISNUMBER(F3547),E3547*F3547,\"\")","v":387.41949999999997},{"$f":"SUM(G3547:G3547)","v":387.41949999999997},null,0]
[null,null,null,null,null,"",{"$f":"IF(ISNUMBER(F3548),E3548*F3548,\"\")","v":""},null,null,0]
["SF-01031",{"$f":"INDEX(Orçamentária!A:B,MATCH(Composições!A3549,Orçamentária!A:A,0),2)","v":"Placa de Obra"},null,{"$f":"TRIM(INDEX(Orçamentária!C:C,MATCH(Composições!A3549,Orçamentária!A:A,0),1))","v":"m2"},null,"",{"$f":"IF(ISNUMBER(F3549),E3549*F3549,\"\")","v":""},null,null,0]
[null,null,null,null,null,"",{"$f":"IF(ISNUMBER(F3550),E3550*F3550,\"\")","v":""},null,null,0]
[null,null,"PLACA DE OBRA (PARA CONSTRUCAO CIVIL) EM CHAPA GALVANIZADA *N. 22*, ADESIVADA, DE *2,0 X 1,125* M","M2",1,285,{"$f":"IF(ISNUMBER(F3551),E3551*F3551,\"\")","v":285},{"$f":"SUM(G3551:G3552)","v":285},null,0]
[null,null,null,null,null,"",{"$f":"IF(ISNUMBER(F3552),E3552*F3552,\"\")","v":""},null,null,0]
["SF-01041",{"$f":"INDEX(Orçamentária!A:B,MATCH(Composições!A3553,Orçamentária!A:A,0),2)","v":"Supervisor de Obras e Manutenção – Apoio de campo – Segurança do Trabalho"},null,{"$f":"TRIM(INDEX(Orçamentária!C:C,MATCH(Composições!A3553,Orçamentária!A:A,0),1))","v":"Profissional"},null,"",{"$f":"IF(ISNUMBER(F3553),E3553*F3553,\"\")","v":""},null,null,0]
[null,null,null,null,null,"",{"$f":"IF(ISNUMBER(F3554),E3554*F3554,\"\")","v":""},null,null,0]
[null,null,"TÉCNICO EM SEGURANÇA DO TRABALHO COM ENCARGOS COMPLEMENTARES","MES",{"$f":"ROUND(1/(1+72.54%),4)","v":0.5796},5675.0909999999994,{"$f":"IF(ISNUMBER(F3555),E3555*F3555,\"\")","v":3289.2827435999998},{"$f":"SUM(G3555:G3558)","v":3289.2827435999998},null,0]
[null,null,null,null,null,"",{"$f":"IF(ISNUMBER(F3556),E3556*F3556,\"\")","v":""},null,null,0]
[null,null,"Obs: considerando 220h/mês e encargos sociais indicados na tabela do SINAPI.",null,null,"",{"$f":"IF(ISNUMBER(F3557),E3557*F3557,\"\")","v":""},null,null,0]
[null,null,null,null,null,"",{"$f":"IF(ISNUMBER(F3558),E3558*F3558,\"\")","v":""},null,null,0]
["SF-01053",{"$f":"INDEX(Orçamentária!A:B,MATCH(Composições!A3559,Orçamentária!A:A,0),2)","v":"Reparo de placas de mármore com adesivo estrutural epóxi branco/transparente "},null,{"$f":"TRIM(INDEX(Orçamentária!C:C,MATCH(Composições!A3559,Orçamentária!A:A,0),1))","v":"m2"},null,"",{"$f":"IF(ISNUMBER(F3559),E3559*F3559,\"\")","v":""},null,null,1138.9100000000001]
[null,null,null,null,null,"",{"$f":"IF(ISNUMBER(F3560),E3560*F3560,\"\")","v":""},null,null,1138.9100000000001]
[null,null,"Marmorista/graniteiro com encargos complementares","h",{"$f":"0.5/50","v":0.01},16.330500000000001,{"$f":"IF(ISNUMBER(F3561),E3561*F3561,\"\")","v":0.16330500000000001},{"$f":"SUM(G3561:G3562)","v":3.420105},null,1138.9100000000001]
[null,null,"Adesivo epóxi estrutural - bisnaga de 50ml","un ",{"$f":"1/50","v":0.02},162.84,{"$f":"IF(ISNUMBER(F3562),E3562*F3562,\"\")","v":3.2568000000000001},null,null,1138.9100000000001]
[null,null,null,null,null,"",{"$f":"IF(ISNUMBER(F3563),E3563*F3563,\"\")","v":""},null,null,1138.9100000000001]
["SF-01054",{"$f":"INDEX(Orçamentária!A:B,MATCH(Composições!A3564,Orçamentária!A:A,0),2)","v":"Perfil de chapa de aço galvanizado para esquadria (Anexo 1)"},null,{"$f":"TRIM(INDEX(Orçamentária!C:C,MATCH(Composições!A3564,Orçamentária!A:A,0),1))","v":"m2"},null,"",{"$f":"IF(ISNUMBER(F3564),E3564*F3564,\"\")","v":""},null,null,32.4]
[null,null,null,null,null,"",{"$f":"IF(ISNUMBER(F3565),E3565*F3565,\"\")","v":""},null,null,32.4]
[null,null,"Pedreiro com Encargos Complementares","h",0.5,19.474999999999998,{"$f":"IF(ISNUMBER(F3566),E3566*F3566,\"\")","v":9.7374999999999989},{"$f":"SUM(G3566:G3571)","v":49.132713877929099},null,32.4]
[null,null,"Servente com Encargos Complementares","h",0.51,14.554,{"$f":"IF(ISNUMBER(F3567),E3567*F3567,\"\")","v":7.4225400000000006},null,null,32.4]
[null,null,"ARGAMASSA TRAÇO 1:3 (EM VOLUME DE CIMENTO E AREIA GROSSA ÚMIDA) PARA CHAPISCO CONVENCIONAL, PREPARO MANUAL. AF_08/2019","m3",3.0999999999999999E-3,493.28831546100002,{"$f":"IF(ISNUMBER(F3568),E3568*F3568,\"\")","v":1.5291937779291001},null,null,32.4]
[null,null,"Perfil metálico em chapa #14 dobrada","m",1,22.5,{"$f":"IF(ISNUMBER(F3569),E3569*F3569,\"\")","v":22.5},null,null,32.4]
[null,null,"Servente com Encargos Complementares","h",0.15,14.554,{"$f":"IF(ISNUMBER(F3570),E3570*F3570,\"\")","v":2.1831},null,null,32.4]
[null,null,"SILICONE ACETICO USO GERAL INCOLOR 280 G","UN",{"$f":"ROUND(0.1/0.28,4)","v":0.35709999999999997},16.131,{"$f":"IF(ISNUMBER(F3571),E3571*F3571,\"\")","v":5.7603800999999999},null,null,32.4]
[null,null,null,null,null,"",{"$f":"IF(ISNUMBER(F3572),E3572*F3572,\"\")","v":""},null,null,32.4]
[null,null,"Fonte: SIURB 08-01-70 e CDHU 403091",null,null,"",{"$f":"IF(ISNUMBER(F3573),E3573*F3573,\"\")","v":""},null,null,32.4]
[null,null,null,null,null,"",{"$f":"IF(ISNUMBER(F3574),E3574*F3574,\"\")","v":""},null,null,32.4]
["SF-01059",{"$f":"INDEX(Orçamentária!A:B,MATCH(Composições!A3575,Orçamentária!A:A,0),2)","v":"Granito Vermelho Brasília 20 mm para bancadas"},null,{"$f":"TRIM(INDEX(Orçamentária!C:C,MATCH(Composições!A3575,Orçamentária!A:A,0),1))","v":"m2"},null,"",{"$f":"IF(ISNUMBER(F3575),E3575*F3575,\"\")","v":""},null,null,0]
[null,null,null,null,null,"",{"$f":"IF(ISNUMBER(F3576),E3576*F3576,\"\")","v":""},null,null,0]
[null,null,"MASSA PLASTICA PARA MARMORE/GRANITO","KG",{"$f":"ROUND(0.5228/(1.5*0.6),4)","v":0.58089999999999997},25.412499999999998,{"$f":"IF(ISNUMBER(F3577),E3577*F3577,\"\")","v":14.762121249999998},{"$f":"SUM(G3577:G3583)","v":91.958832449999989},null,0]
[null,null,"BUCHA DE NYLON SEM ABA S10, COM PARAFUSO DE 6,10 X 65 MM EM ACO ZINCADO COM ROSCA SOBERBA, CABECA CHATA E FENDA PHILLIPS","UN",{"$f":"ROUND(6/(1.5*0.6),4)","v":6.6666999999999996},0.874,{"$f":"IF(ISNUMBER(F3578),E3578*F3578,\"\")","v":5.8266957999999995},null,null,0]
[null,null,"Granito Vermelho Brasília, com 20 mm de espessura, polido, com testeira para acabamento em meia esquadria, para bancadas","M2",{"$f":"ROUND(1.005/(1.5*0.6),4)","v":1.1167},"",{"$f":"IF(ISNUMBER(F3579),E3579*F3579,\"\")","v":""},null,null,0]
[null,null,"REJUNTE EPOXI, QUALQUER COR","KG",{"$f":"ROUND(0.0211/(1.5*0.6),4)","v":2.3400000000000001E-2},50.511499999999998,{"$f":"IF(ISNUMBER(F3580),E3580*F3580,\"\")","v":1.1819690999999999},null,null,0]
[null,null,"SUPORTE MAO-FRANCESA EM ACO, ABAS IGUAIS 40 CM, CAPACIDADE MINIMA 70 KG, BRANCO","UN",{"$f":"ROUND(2/(1.5*0.6),4)","v":2.2222},12.226499999999998,{"$f":"IF(ISNUMBER(F3581),E3581*F3581,\"\")","v":27.169728299999996},null,null,0]
[null,null,"MARMORISTA/GRANITEIRO COM ENCARGOS COMPLEMENTARES","H",{"$f":"ROUND(1.4944/(1.5*0.6),4)","v":1.6604000000000001},16.330500000000001,{"$f":"IF(ISNUMBER(F3582),E3582*F3582,\"\")","v":27.115162200000004},null,null,0]
[null,null,"SERVENTE COM ENCARGOS COMPLEMENTARES","H",{"$f":"ROUND(0.9834/(1.5*0.6),4)","v":1.0927},14.554,{"$f":"IF(ISNUMBER(F3583),E3583*F3583,\"\")","v":15.9031558},null,null,0]
[null,null,null,null,null,"",{"$f":"IF(ISNUMBER(F3584),E3584*F3584,\"\")","v":""},null,null,0]
["SF-01060",{"$f":"INDEX(Orçamentária!A:B,MATCH(Composições!A3585,Orçamentária!A:A,0),2)","v":"Porta em alumínio tipo veneziana"},null,{"$f":"TRIM(INDEX(Orçamentária!C:C,MATCH(Composições!A3585,Orçamentária!A:A,0),1))","v":"m2"},null,"",{"$f":"IF(ISNUMBER(F3585),E3585*F3585,\"\")","v":""},null,null,0]
[null,null,null,null,null,"",{"$f":"IF(ISNUMBER(F3586),E3586*F3586,\"\")","v":""},null,null,0]
[null,null,"SELANTE ELASTICO MONOCOMPONENTE A BASE DE POLIURETANO (PU) PARA JUNTAS DIVERSAS","310ML",0.88290000000000002,24.414999999999999,{"$f":"IF(ISNUMBER(F3587),E3587*F3587,\"\")","v":21.556003499999999},{"$f":"SUM(G3587:G3592)","v":381.66773734999998},null,0]
[null,null,"BUCHA DE NYLON SEM ABA S10, COM PARAFUSO DE 6,10 X 65 MM EM ACO ZINCADO COM ROSCA SOBERBA, CABECA CHATA E FENDA PHILLIPS","UN",4.8166000000000002,0.874,{"$f":"IF(ISNUMBER(F3588),E3588*F3588,\"\")","v":4.2097084000000002},null,null,0]
[null,null,"GUARNICAO/MOLDURA DE ACABAMENTO PARA ESQUADRIA DE ALUMINIO ANODIZADO NATURAL, PARA 1 FACE","M",6.8503999999999996,6.2604999999999995,{"$f":"IF(ISNUMBER(F3589),E3589*F3589,\"\")","v":42.886929199999997},null,null,0]
[null,null,"PORTA DE ABRIR EM ALUMINIO TIPO VENEZIANA, ACABAMENTO ANODIZADO NATURAL, SEM GUARNICAO/ALIZAR/VISTA, 87 X 210 CM","UN",0.54730000000000001,553.23249999999996,{"$f":"IF(ISNUMBER(F3590),E3590*F3590,\"\")","v":302.78414724999999},null,null,0]
[null,null,"Pedreiro com encargos complementares","H",0.3826,19.474999999999998,{"$f":"IF(ISNUMBER(F3591),E3591*F3591,\"\")","v":7.451134999999999},null,null,0]
[null,null,"Servente com Encargos Complementares","H",0.191,14.554,{"$f":"IF(ISNUMBER(F3592),E3592*F3592,\"\")","v":2.779814},null,null,0]
[null,null,null,null,null,"",{"$f":"IF(ISNUMBER(F3593),E3593*F3593,\"\")","v":""},null,null,0]
["SF-01061",{"$f":"INDEX(Orçamentária!A:B,MATCH(Composições!A3594,Orçamentária!A:A,0),2)","v":"Janela em alumínio, duas seções, 120x60cm"},null,{"$f":"TRIM(INDEX(Orçamentária!C:C,MATCH(Composições!A3594,Orçamentária!A:A,0),1))","v":"m2"},null,"",{"$f":"IF(ISNUMBER(F3594),E3594*F3594,\"\")","v":""},null,null,0]
[null,null,null,null,null,"",{"$f":"IF(ISNUMBER(F3595),E3595*F3595,\"\")","v":""},null,null,0]
[null,null,"JANELA MAXIM AR EM ALUMINIO, 80 X 60 CM (A X L), BATENTE/REQUADRO DE 4 A 14 CM, COM VIDRO, SEM GUARNICAO/ALIZAR","M2",1,288.84750000000003,{"$f":"IF(ISNUMBER(F3596),E3596*F3596,\"\")","v":288.84750000000003},{"$f":"SUM(G3596:G3600)","v":358.09340470000001},null,0]
[null,null,"PARAFUSO DE ACO ZINCADO COM ROSCA SOBERBA, CABECA CHATA E FENDA SIMPLES, DIAMETRO 4,2 MM, COMPRIMENTO * 32 * MM","UN",24.4,0.14249999999999999,{"$f":"IF(ISNUMBER(F3597),E3597*F3597,\"\")","v":3.4769999999999994},null,null,0]
[null,null,"SILICONE ACETICO USO GERAL INCOLOR 280 G","UN",1.2466999999999999,16.131,{"$f":"IF(ISNUMBER(F3598),E3598*F3598,\"\")","v":20.110517699999999},null,null,0]
[null,null,"PEDREIRO COM ENCARGOS COMPLEMENTARES","H",1.7070000000000001,19.474999999999998,{"$f":"IF(ISNUMBER(F3599),E3599*F3599,\"\")","v":33.243825000000001},null,null,0]
[null,null,"SERVENTE COM ENCARGOS COMPLEMENTARES","H",0.85299999999999998,14.554,{"$f":"IF(ISNUMBER(F3600),E3600*F3600,\"\")","v":12.414562},null,null,0]
[null,null,null,null,null,"",{"$f":"IF(ISNUMBER(F3601),E3601*F3601,\"\")","v":""},null,null,0]
["SF-01062",{"$f":"INDEX(Orçamentária!A:B,MATCH(Composições!A3602,Orçamentária!A:A,0),2)","v":"Porta metálica de enrolar"},null,{"$f":"TRIM(INDEX(Orçamentária!C:C,MATCH(Composições!A3602,Orçamentária!A:A,0),1))","v":"m2"},null,"",{"$f":"IF(ISNUMBER(F3602),E3602*F3602,\"\")","v":""},null,null,0]
[null,null,null,null,null,"",{"$f":"IF(ISNUMBER(F3603),E3603*F3603,\"\")","v":""},null,null,0]
[null,null,"PORTA DE ENROLAR MANUAL COMPLETA, ARTICULADA RAIADA LARGA, EM ACO GALVANIZADO NATURAL, CHAPA NUMERO 24 (SEM INSTALACAO)","M2",1,199.23399999999998,{"$f":"IF(ISNUMBER(F3604),E3604*F3604,\"\")","v":199.23399999999998},{"$f":"SUM(G3604:G3610)","v":236.56752510884996},null,0]
[null,null,"PEDREIRO COM ENCARGOS COMPLEMENTARES","H",1,19.474999999999998,{"$f":"IF(ISNUMBER(F3605),E3605*F3605,\"\")","v":19.474999999999998},null,null,0]
[null,null,"SERVENTE COM ENCARGOS COMPLEMENTARES","H",1.1000000000000001,14.554,{"$f":"IF(ISNUMBER(F3606),E3606*F3606,\"\")","v":16.009400000000003},null,null,0]
[null,null,"AREIA MEDIA - POSTO JAZIDA/FORNECEDOR (RETIRADO NA JAZIDA, SEM TRANSPORTE)","M3",1.2999999999999999E-2,93.8125,{"$f":"IF(ISNUMBER(F3607),E3607*F3607,\"\")","v":1.2195624999999999},null,null,0]
[null,null,"CIMENTO PORTLAND COMPOSTO CP II-32","KG",0.4,0.44649999999999995,{"$f":"IF(ISNUMBER(F3608),E3608*F3608,\"\")","v":0.17859999999999998},null,null,0]
[null,null,"CARGA, MANOBRA E DESCARGA DE SOLOS E MATERIAIS GRANULARES EM CAMINHÃO BASCULANTE 6 M³ - CARGA COM PÁ CARREGADEIRA (CAÇAMBA DE 1,7 A 2,8 M³ / 128 HP) E DESCARGA LIVRE (UNIDADE: M3). AF_07/2020","m3",{"$f":"1*E3607","v":1.2999999999999999E-2},4.6197654500000001,{"$f":"IF(ISNUMBER(F3609),E3609*F3609,\"\")","v":6.0056950849999999E-2},null,null,0]
[null,null,"TRANSPORTE COM CAMINHÃO BASCULANTE DE 6 M3, EM VIA URBANA PAVIMENTADA, DMT ATÉ 30 KM (UNIDADE: M3xKM). AF_01/2018","M3xKM",{"$f":"E3607*20","v":0.26},1.5034832999999999,{"$f":"IF(ISNUMBER(F3610),E3610*F3610,\"\")","v":0.39090565799999999},null,null,0]
[null,null,null,null,null,"",{"$f":"IF(ISNUMBER(F3611),E3611*F3611,\"\")","v":""},null,null,0]
[null,null,"Obs.: Considerando fornecedor de areia a 20 km do Senado Federal.",null,null,"",{"$f":"IF(ISNUMBER(F3612),E3612*F3612,\"\")","v":""},null,null,0]
[null,null,null,null,null,"",{"$f":"IF(ISNUMBER(F3613),E3613*F3613,\"\")","v":""},null,null,0]
["SF-01063",{"$f":"INDEX(Orçamentária!A:B,MATCH(Composições!A3614,Orçamentária!A:A,0),2)","v":"Medidor de Gás"},null,{"$f":"TRIM(INDEX(Orçamentária!C:C,MATCH(Composições!A3614,Orçamentária!A:A,0),1))","v":"un"},null,"",{"$f":"IF(ISNUMBER(F3614),E3614*F3614,\"\")","v":""},null,null,0]
[null,null,null,null,null,"",{"$f":"IF(ISNUMBER(F3615),E3615*F3615,\"\")","v":""},null,null,0]
[null,null,"FITA VEDA ROSCA EM ROLOS DE 18 MM X 50 M (L X C)","UN",0.20519999999999999,11.7325,{"$f":"IF(ISNUMBER(F3616),E3616*F3616,\"\")","v":2.4075090000000001},{"$f":"SUM(G3616:G3627)","v":506.70800084999991},null,0]
[null,null,"COTOVELO 90 GRAUS DE FERRO GALVANIZADO, COM ROSCA BSP, DE 1\"","UN",2,8.2744999999999997,{"$f":"IF(ISNUMBER(F3617),E3617*F3617,\"\")","v":16.548999999999999},null,null,0]
[null,null,"NIPLE DE FERRO GALVANIZADO, COM ROSCA BSP, DE 1\"","UN",4,6.1369999999999996,{"$f":"IF(ISNUMBER(F3618),E3618*F3618,\"\")","v":24.547999999999998},null,null,0]
[null,null,"PLUG OU BUJAO DE FERRO GALVANIZADO, DE 1/2\"","UN",2,2.1849999999999996,{"$f":"IF(ISNUMBER(F3619),E3619*F3619,\"\")","v":4.3699999999999992},null,null,0]
[null,null,"TE DE REDUCAO DE FERRO GALVANIZADO, COM ROSCA BSP, DE 1\" X 1/2\"","UN",2,13.470999999999998,{"$f":"IF(ISNUMBER(F3620),E3620*F3620,\"\")","v":26.941999999999997},null,null,0]
[null,null,"UNIAO DE FERRO GALVANIZADO, COM ROSCA BSP, COM ASSENTO PLANO, DE 1\"","UN",1,17.679499999999997,{"$f":"IF(ISNUMBER(F3621),E3621*F3621,\"\")","v":17.679499999999997},null,null,0]
[null,null,"VALVULA DE ESFERA BRUTA EM BRONZE, BITOLA 1 \" (REF 1552-B)","UN",3,62.842500000000001,{"$f":"IF(ISNUMBER(F3622),E3622*F3622,\"\")","v":188.5275},null,null,0]
[null,null,"VALVULA DE ESFERA BRUTA EM BRONZE, BITOLA 1/2 \" (REF 1552-B)","UN",2,40.327500000000001,{"$f":"IF(ISNUMBER(F3623),E3623*F3623,\"\")","v":80.655000000000001},null,null,0]
[null,null,"TUBO ACO GALVANIZADO COM COSTURA, CLASSE MEDIA, DN 1\", E = 3,38 MM, PESO 2,50 KG/M (NBR 5580)","M",0.72729999999999995,22.999500000000001,{"$f":"IF(ISNUMBER(F3624),E3624*F3624,\"\")","v":16.727536350000001},null,null,0]
[null,null,"AUXILIAR DE ENCANADOR OU BOMBEIRO HIDRÁULICO COM ENCARGOS COMPLEMENTARES","H",1.6462000000000001,15.019499999999999,{"$f":"IF(ISNUMBER(F3625),E3625*F3625,\"\")","v":24.725100900000001},null,null,0]
[null,null,"ENCANADOR OU BOMBEIRO HIDRÁULICO COM ENCARGOS COMPLEMENTARES","H",5.4324000000000003,19.066499999999998,{"$f":"IF(ISNUMBER(F3626),E3626*F3626,\"\")","v":103.57685459999999},null,null,0]
[null,null,"MEDIDOR DE GÁS EM ALUMÍNIO. Ref. LAO G6 ","UN",1,"",{"$f":"IF(ISNUMBER(F3627),E3627*F3627,\"\")","v":""},null,null,0]
[null,null,null,null,null,"",{"$f":"IF(ISNUMBER(F3628),E3628*F3628,\"\")","v":""},null,null,0]
["SF-01064",{"$f":"INDEX(Orçamentária!A:B,MATCH(Composições!A3629,Orçamentária!A:A,0),2)","v":"Registro Esfera para Gás 3/4”"},null,{"$f":"TRIM(INDEX(Orçamentária!C:C,MATCH(Composições!A3629,Orçamentária!A:A,0),1))","v":"un"},null,"",{"$f":"IF(ISNUMBER(F3629),E3629*F3629,\"\")","v":""},null,null,0]
[null,null,null,null,null,"",{"$f":"IF(ISNUMBER(F3630),E3630*F3630,\"\")","v":""},null,null,0]
[null,null,"FITA VEDA ROSCA EM ROLOS DE 18 MM X 50 M (L X C)","UN",1.2999999999999999E-2,11.7325,{"$f":"IF(ISNUMBER(F3631),E3631*F3631,\"\")","v":0.15252250000000001},{"$f":"SUM(G3631:G3634)","v":6.9697224999999996},null,0]
[null,null,"Válvula de esfera tripartida Classe 300","UN",1,"",{"$f":"IF(ISNUMBER(F3632),E3632*F3632,\"\")","v":""},null,null,0]
[null,null,"AUXILIAR DE ENCANADOR OU BOMBEIRO HIDRÁULICO COM ENCARGOS COMPLEMENTARES","H",0.2,15.019499999999999,{"$f":"IF(ISNUMBER(F3633),E3633*F3633,\"\")","v":3.0038999999999998},null,null,0]
[null,null,"ENCANADOR OU BOMBEIRO HIDRÁULICO COM ENCARGOS COMPLEMENTARES","H",0.2,19.066499999999998,{"$f":"IF(ISNUMBER(F3634),E3634*F3634,\"\")","v":3.8132999999999999},null,null,0]
[null,null,null,null,null,"",{"$f":"IF(ISNUMBER(F3635),E3635*F3635,\"\")","v":""},null,null,0]
["SF-01065",{"$f":"INDEX(Orçamentária!A:B,MATCH(Composições!A3636,Orçamentária!A:A,0),2)","v":"Placa de Concreto Pré-Moldado 15 Mpa"},null,{"$f":"TRIM(INDEX(Orçamentária!C:C,MATCH(Composições!A3636,Orçamentária!A:A,0),1))","v":"m3"},null,"",{"$f":"IF(ISNUMBER(F3636),E3636*F3636,\"\")","v":""},null,null,0]
[null,null,null,null,null,"",{"$f":"IF(ISNUMBER(F3637),E3637*F3637,\"\")","v":""},null,null,0]
[null,null,"CHAPA DE MADEIRA COMPENSADA RESINADA PARA FORMA DE CONCRETO, DE *2,2 X 1,1* M, E = 17 MM","M2",2.9790000000000001,28.062999999999999,{"$f":"IF(ISNUMBER(F3638),E3638*F3638,\"\")","v":83.599677},{"$f":"SUM(G3638:G3650)","v":2376.6703807050494},null,0]
[null,null,"DESMOLDANTE PROTETOR PARA FORMAS DE MADEIRA, DE BASE OLEOSA EMULSIONADA EM AGUA","L",0.12,4.8925000000000001,{"$f":"IF(ISNUMBER(F3639),E3639*F3639,\"\")","v":0.58709999999999996},null,null,0]
[null,null,"PREGO DE ACO POLIDO COM CABECA 15 X 15 (1 1/4 X 13)","KG",0.64449999999999996,12.520999999999999,{"$f":"IF(ISNUMBER(F3640),E3640*F3640,\"\")","v":8.069784499999999},null,null,0]
[null,null,"AJUDANTE DE CARPINTEIRO COM ENCARGOS COMPLEMENTARES","H",1.8137000000000001,16.416,{"$f":"IF(ISNUMBER(F3641),E3641*F3641,\"\")","v":29.773699200000003},null,null,0]
[null,null,"CARPINTEIRO DE ESQUADRIA COM ENCARGOS COMPLEMENTARES","H",9.0685000000000002,19.3705,{"$f":"IF(ISNUMBER(F3642),E3642*F3642,\"\")","v":175.66137925000001},null,null,0]
[null,null,"PEDREIRO COM ENCARGOS COMPLEMENTARES","H",32.192999999999998,19.474999999999998,{"$f":"IF(ISNUMBER(F3643),E3643*F3643,\"\")","v":626.95867499999986},null,null,0]
[null,null,"SERVENTE COM ENCARGOS COMPLEMENTARES","H",32.192999999999998,14.554,{"$f":"IF(ISNUMBER(F3644),E3644*F3644,\"\")","v":468.536922},null,null,0]
[null,null,"VIBRADOR DE IMERSÃO, DIÂMETRO DE PONTEIRA 45MM, MOTOR ELÉTRICO TRIFÁSICO POTÊNCIA DE 2 CV - CHP DIURNO. AF_06/2015","CHP",6.6319999999999997,1.2444999999999999,{"$f":"IF(ISNUMBER(F3645),E3645*F3645,\"\")","v":8.2535239999999988},null,null,0]
[null,null,"VIBRADOR DE IMERSÃO, DIÂMETRO DE PONTEIRA 45MM, MOTOR ELÉTRICO TRIFÁSICO POTÊNCIA DE 2 CV - CHI DIURNO. AF_06/2015","CHI",18.246200000000002,0.32300000000000001,{"$f":"IF(ISNUMBER(F3646),E3646*F3646,\"\")","v":5.8935226000000007},null,null,0]
[null,null,"SERRA CIRCULAR DE BANCADA COM MOTOR ELÉTRICO POTÊNCIA DE 5HP, COM COIFA PARA DISCO 10\" - CHP DIURNO. AF_08/2015","CHP",0.77359999999999995,17.204499999999999,{"$f":"IF(ISNUMBER(F3647),E3647*F3647,\"\")","v":13.309401199999998},null,null,0]
[null,null,"SERRA CIRCULAR DE BANCADA COM MOTOR ELÉTRICO POTÊNCIA DE 5HP, COM COIFA PARA DISCO 10\" - CHI DIURNO. AF_08/2015","CHI",1.0401,15.3805,{"$f":"IF(ISNUMBER(F3648),E3648*F3648,\"\")","v":15.997258049999999},null,null,0]
[null,null,"ARMAÇÃO DE LAJE DE UMA ESTRUTURA CONVENCIONAL DE CONCRETO ARMADO EM UMA EDIFICAÇÃO TÉRREA OU SOBRADO UTILIZANDO AÇO CA-60 DE 4,2 MM - MONTAGEM. AF_12/2015","KG",42.646299999999997,12.432800099999998,{"$f":"IF(ISNUMBER(F3649),E3649*F3649,\"\")","v":530.21292290462986},null,null,0]
[null,null,"CONCRETO FCK = 15MPA, TRAÇO 1:3,4:3,5 (CIMENTO/ AREIA MÉDIA/ BRITA 1)  - PREPARO MECÂNICO COM BETONEIRA 600 L. AF_07/2016","M3",1.2,341.51376250034991,{"$f":"IF(ISNUMBER(F3650),E3650*F3650,\"\")","v":409.81651500041988},null,null,0]
[null,null,null,null,null,"",{"$f":"IF(ISNUMBER(F3651),E3651*F3651,\"\")","v":""},null,null,0]
["SF-01066",{"$f":"INDEX(Orçamentária!A:B,MATCH(Composições!A3652,Orçamentária!A:A,0),2)","v":"Eletroduto PEAD 3”"},null,{"$f":"TRIM(INDEX(Orçamentária!C:C,MATCH(Composições!A3652,Orçamentária!A:A,0),1))","v":"m"},null,"",{"$f":"IF(ISNUMBER(F3652),E3652*F3652,\"\")","v":""},null,null,0]
[null,null,null,null,null,"",{"$f":"IF(ISNUMBER(F3653),E3653*F3653,\"\")","v":""},null,null,0]
[null,null,"ELETRODUTO/DUTO PEAD FLEXIVEL PAREDE SIMPLES, CORRUGACAO HELICOIDAL, COR PRETA, SEM ROSCA, DE 3\",  PARA CABEAMENTO SUBTERRANEO (NBR 15715)","M",1.1000000000000001,6.9539999999999997,{"$f":"IF(ISNUMBER(F3654),E3654*F3654,\"\")","v":7.6494},{"$f":"SUM(G3654:G3656)","v":14.527628},null,0]
[null,null,"AUXILIAR DE ELETRICISTA COM ENCARGOS COMPLEMENTARES","H",0.19600000000000001,15.447000000000001,{"$f":"IF(ISNUMBER(F3655),E3655*F3655,\"\")","v":3.0276120000000004},null,null,0]
[null,null,"ELETRICISTA COM ENCARGOS COMPLEMENTARES","H",0.19600000000000001,19.645999999999997,{"$f":"IF(ISNUMBER(F3656),E3656*F3656,\"\")","v":3.8506159999999996},null,null,0]
[null,null,null,null,null,"",{"$f":"IF(ISNUMBER(F3657),E3657*F3657,\"\")","v":""},null,null,0]
["SF-01068",{"$f":"INDEX(Orçamentária!A:B,MATCH(Composições!A3658,Orçamentária!A:A,0),2)","v":"Eletroduto de aço galvanizado de 3”"},null,{"$f":"TRIM(INDEX(Orçamentária!C:C,MATCH(Composições!A3658,Orçamentária!A:A,0),1))","v":"m"},null,"",{"$f":"IF(ISNUMBER(F3658),E3658*F3658,\"\")","v":""},null,null,0]
[null,null,null,null,null,"",{"$f":"IF(ISNUMBER(F3659),E3659*F3659,\"\")","v":""},null,null,0]
[null,null,"Eletroduto de aço com costura galvanização eletrolítica Ø 3\"","m",1.05,0,{"$f":"IF(ISNUMBER(F3660),E3660*F3660,\"\")","v":0},{"$f":"SUM(G3660:G3662)","v":35.092999999999996},null,0]
[null,null,"AUXILIAR DE ELETRICISTA COM ENCARGOS COMPLEMENTARES","H",1,15.447000000000001,{"$f":"IF(ISNUMBER(F3661),E3661*F3661,\"\")","v":15.447000000000001},null,null,0]
[null,null,"ELETRICISTA COM ENCARGOS COMPLEMENTARES","H",1,19.645999999999997,{"$f":"IF(ISNUMBER(F3662),E3662*F3662,\"\")","v":19.645999999999997},null,null,0]
[null,null,null,null,null,"",{"$f":"IF(ISNUMBER(F3663),E3663*F3663,\"\")","v":""},null,null,0]
["SF-01069",{"$f":"INDEX(Orçamentária!A:B,MATCH(Composições!A3664,Orçamentária!A:A,0),2)","v":"Grelha reta para ralo"},null,{"$f":"TRIM(INDEX(Orçamentária!C:C,MATCH(Composições!A3664,Orçamentária!A:A,0),1))","v":"m"},null,"",{"$f":"IF(ISNUMBER(F3664),E3664*F3664,\"\")","v":""},null,null,0]
[null,null,null,null,null,"",{"$f":"IF(ISNUMBER(F3665),E3665*F3665,\"\")","v":""},null,null,0]
[null,null,"Grelha em ferro fundido com caixilho de apoio espessura 15 mm, largura 200 mm","m",1,0,{"$f":"IF(ISNUMBER(F3666),E3666*F3666,\"\")","v":0},{"$f":"SUM(G3666:G3668)","v":22.799430000000001},null,0]
[null,null,"PEDREIRO COM ENCARGOS COMPLEMENTARES","H",0.67,19.474999999999998,{"$f":"IF(ISNUMBER(F3667),E3667*F3667,\"\")","v":13.048249999999999},null,null,0]
[null,null,"SERVENTE COM ENCARGOS COMPLEMENTARES","H",0.67,14.554,{"$f":"IF(ISNUMBER(F3668),E3668*F3668,\"\")","v":9.7511800000000015},null,null,0]
[null,null,null,null,null,"",{"$f":"IF(ISNUMBER(F3669),E3669*F3669,\"\")","v":""},null,null,0]
["SF-01070",{"$f":"INDEX(Orçamentária!A:B,MATCH(Composições!A3670,Orçamentária!A:A,0),2)","v":"Granito Vermelho Brasília para soleira e peitoril"},null,{"$f":"TRIM(INDEX(Orçamentária!C:C,MATCH(Composições!A3670,Orçamentária!A:A,0),1))","v":"m2"},null,"",{"$f":"IF(ISNUMBER(F3670),E3670*F3670,\"\")","v":""},null,null,0]
[null,null,null,null,null,"",{"$f":"IF(ISNUMBER(F3671),E3671*F3671,\"\")","v":""},null,null,0]
[null,null,"Granito Vermelho Brasília, com 20 mm de espessura e 150 mm de altura, para soleira e peitoril","m",{"$f":"ROUND(1/0.15,4)","v":6.6666999999999996},"",{"$f":"IF(ISNUMBER(F3672),E3672*F3672,\"\")","v":""},{"$f":"SUM(G3672:G3675)","v":96.825114350000007},null,0]
[null,null,"Argamassa colante tipo AC III","kg",{"$f":"1.29/0.15","v":8.6000000000000014},1.254,{"$f":"IF(ISNUMBER(F3673),E3673*F3673,\"\")","v":10.784400000000002},null,null,0]
[null,null,"Marmorista/graniteiro com encargos complementares","h",{"$f":"ROUND(0.547/0.15,4)","v":3.6467000000000001},16.330500000000001,{"$f":"IF(ISNUMBER(F3674),E3674*F3674,\"\")","v":59.552434350000006},null,null,0]
[null,null,"Servente com Encargos Complementares","h",{"$f":"0.273/0.15","v":1.8200000000000003},14.554,{"$f":"IF(ISNUMBER(F3675),E3675*F3675,\"\")","v":26.488280000000003},null,null,0]
[null,null,null,null,null,"",{"$f":"IF(ISNUMBER(F3676),E3676*F3676,\"\")","v":""},null,null,0]
["SF-01071",{"$f":"INDEX(Orçamentária!A:B,MATCH(Composições!A3677,Orçamentária!A:A,0),2)","v":"Luminária LED redonda de embutir"},null,{"$f":"TRIM(INDEX(Orçamentária!C:C,MATCH(Composições!A3677,Orçamentária!A:A,0),1))","v":"un"},null,"",{"$f":"IF(ISNUMBER(F3677),E3677*F3677,\"\")","v":""},null,null,0]
[null,null,null,null,null,"",{"$f":"IF(ISNUMBER(F3678),E3678*F3678,\"\")","v":""},null,null,0]
[null,null,"Luminária redonda de embutir, LED, potência 19 W, temperatura de cor 3000 K, fluxo luminoso 1770 lm. Ref: OSRAM - LEDVANCE DOWNLIGHT XL WT 830","un ",1,"",{"$f":"IF(ISNUMBER(F3679),E3679*F3679,\"\")","v":""},{"$f":"SUM(G3679:G3684)","v":9.2624505999999993},null,0]
[null,null,"Cabo PP 3x2,5mm2 300/500 V, extraflexível (classe 5), com condutor de proteção, com isolação, enchimento e cobertura de PVC","m",1.5,"",{"$f":"IF(ISNUMBER(F3680),E3680*F3680,\"\")","v":""},null,null,0]
[null,null,"Plugue (macho) com 3 polos (2P+T), para 10A","un ",1,"",{"$f":"IF(ISNUMBER(F3681),E3681*F3681,\"\")","v":""},null,null,0]
[null,null,"Plugue (fêmea) com 3 polos (2P+T), para 10A","un ",1,"",{"$f":"IF(ISNUMBER(F3682),E3682*F3682,\"\")","v":""},null,null,0]
[null,null,"Auxiliar de eletricista com encargos complementares","h",0.14799999999999999,15.447000000000001,{"$f":"IF(ISNUMBER(F3683),E3683*F3683,\"\")","v":2.2861560000000001},null,null,0]
[null,null,"Eletricista com encargos complementares","h",0.35510000000000003,19.645999999999997,{"$f":"IF(ISNUMBER(F3684),E3684*F3684,\"\")","v":6.9762945999999992},null,null,0]
[null,null,null,null,null,"",{"$f":"IF(ISNUMBER(F3685),E3685*F3685,\"\")","v":""},null,null,0]
["SF-01072",{"$f":"INDEX(Orçamentária!A:B,MATCH(Composições!A3686,Orçamentária!A:A,0),2)","v":"Piso tátil de borracha"},null,{"$f":"TRIM(INDEX(Orçamentária!C:C,MATCH(Composições!A3686,Orçamentária!A:A,0),1))","v":"m2"},null,"",{"$f":"IF(ISNUMBER(F3686),E3686*F3686,\"\")","v":""},null,null,0]
[null,null,null,null,null,"",{"$f":"IF(ISNUMBER(F3687),E3687*F3687,\"\")","v":""},null,null,0]
[null,null,"ADESIVO ACRILICO/COLA DE CONTATO","KG",9.5000000000000001E-2,23.797499999999999,{"$f":"IF(ISNUMBER(F3688),E3688*F3688,\"\")","v":2.2607624999999998},{"$f":"SUM(G3688:G3691)","v":21.446819999999999},null,0]
[null,null,"PISO TATIL ALERTA OU DIRECIONAL, DE BORRACHA, COLORIDO, 25 X 25 CM, E = 5 MM, PARA COLA","M2",{"$f":"1*0.25*0.25","v":6.25E-2},195.37699999999998,{"$f":"IF(ISNUMBER(F3689),E3689*F3689,\"\")","v":12.211062499999999},null,null,0]
[null,null,"PEDREIRO COM ENCARGOS COMPLEMENTARES","H",0.26100000000000001,19.474999999999998,{"$f":"IF(ISNUMBER(F3690),E3690*F3690,\"\")","v":5.0829749999999994},null,null,0]
[null,null,"SERVENTE COM ENCARGOS COMPLEMENTARES","H",0.13,14.554,{"$f":"IF(ISNUMBER(F3691),E3691*F3691,\"\")","v":1.89202},null,null,0]
[null,null,null,null,null,"",{"$f":"IF(ISNUMBER(F3692),E3692*F3692,\"\")","v":""},null,null,0]
["SF-01073",{"$f":"INDEX(Orçamentária!A:B,MATCH(Composições!A3693,Orçamentária!A:A,0),2)","v":"Granito Vermelho Brasília 20 mm para divisória"},null,{"$f":"TRIM(INDEX(Orçamentária!C:C,MATCH(Composições!A3693,Orçamentária!A:A,0),1))","v":"m2"},null,"",{"$f":"IF(ISNUMBER(F3693),E3693*F3693,\"\")","v":""},null,null,0]
[null,null,null,null,null,"",{"$f":"IF(ISNUMBER(F3694),E3694*F3694,\"\")","v":""},null,null,0]
[null,null,"Cimento branco","kg",0.7,2.6599999999999997,{"$f":"IF(ISNUMBER(F3695),E3695*F3695,\"\")","v":1.8619999999999997},{"$f":"SUM(G3695:G3699)","v":115.18242881232923},null,0]
[null,null,"Granito Vermelho Brasília ou equivalente, com 30 mm de espessura, polido em todas as faces aparentes, para divisórias","m2",1,"",{"$f":"IF(ISNUMBER(F3696),E3696*F3696,\"\")","v":""},null,null,0]
[null,null,"Marmorista/graniteiro com encargos complementares","h",4.8,16.330500000000001,{"$f":"IF(ISNUMBER(F3697),E3697*F3697,\"\")","v":78.386399999999995},null,null,0]
[null,null,"Servente com Encargos Complementares","h",2.2999999999999998,14.554,{"$f":"IF(ISNUMBER(F3698),E3698*F3698,\"\")","v":33.474199999999996},null,null,0]
[null,null,"ARGAMASSA TRAÇO 1:4 (EM VOLUME DE CIMENTO E AREIA MÉDIA ÚMIDA), PREPARO MANUAL. AF_08/2019","m3",3.3E-3,442.37236737249998,{"$f":"IF(ISNUMBER(F3699),E3699*F3699,\"\")","v":1.45982881232925},null,null,0]
[null,null,null,null,null,"",{"$f":"IF(ISNUMBER(F3700),E3700*F3700,\"\")","v":""},null,null,0]
["SF-01074",{"$f":"INDEX(Orçamentária!A:B,MATCH(Composições!A3701,Orçamentária!A:A,0),2)","v":"Tampa em ferro fundido 20x20 cm"},null,{"$f":"TRIM(INDEX(Orçamentária!C:C,MATCH(Composições!A3701,Orçamentária!A:A,0),1))","v":"un"},null,"",{"$f":"IF(ISNUMBER(F3701),E3701*F3701,\"\")","v":""},null,null,0]
[null,null,null,null,null,"",{"$f":"IF(ISNUMBER(F3702),E3702*F3702,\"\")","v":""},null,null,0]
[null,null,"TAMPAO FOFO ARTICULADO P/ REGISTRO, CLASSE A15 CARGA MAX 1,5 T, *200 X 200* MM","UN",1,61.274999999999999,{"$f":"IF(ISNUMBER(F3703),E3703*F3703,\"\")","v":61.274999999999999},{"$f":"SUM(G3703:G3706)","v":121.78353469499099},null,0]
[null,null,"ARGAMASSA TRAÇO 1:4 (EM VOLUME DE CIMENTO E AREIA GROSSA ÚMIDA) PARA CHAPISCO CONVENCIONAL, PREPARO MECÂNICO COM BETONEIRA 400 L. AF_08/2019","M3",7.0000000000000001E-3,379.89067071299996,{"$f":"IF(ISNUMBER(F3704),E3704*F3704,\"\")","v":2.659234694991},null,null,0]
[null,null,"Pedreiro com Encargos Complementares","h",1.7,19.474999999999998,{"$f":"IF(ISNUMBER(F3705),E3705*F3705,\"\")","v":33.107499999999995},null,null,0]
[null,null,"Servente com Encargos Complementares","h",1.7,14.554,{"$f":"IF(ISNUMBER(F3706),E3706*F3706,\"\")","v":24.741800000000001},null,null,0]
[null,null,null,null,null,"",{"$f":"IF(ISNUMBER(F3707),E3707*F3707,\"\")","v":""},null,null,0]
["SF-01076",{"$f":"INDEX(Orçamentária!A:B,MATCH(Composições!A3708,Orçamentária!A:A,0),2)","v":"Cerâmica para revestimento de superfícies internas ou externas – Linha GAIL"},null,{"$f":"TRIM(INDEX(Orçamentária!C:C,MATCH(Composições!A3708,Orçamentária!A:A,0),1))","v":"m2"},null,"",{"$f":"IF(ISNUMBER(F3708),E3708*F3708,\"\")","v":""},null,null,0]
[null,null,null,null,null,"",{"$f":"IF(ISNUMBER(F3709),E3709*F3709,\"\")","v":""},null,null,0]
[null,null,"Cerâmica GAIL (Referência 1009 Placa Cerâmica Linha Gressit da Marca Gail, tamanho 240 mm x 116 mm, espessura 9 mm)","m2",1.08,"",{"$f":"IF(ISNUMBER(F3710),E3710*F3710,\"\")","v":""},{"$f":"SUM(G3710:G3714)","v":23.242130000000003},null,0]
[null,null,"Argamassa colante AC II","kg",6.14,0.76,{"$f":"IF(ISNUMBER(F3711),E3711*F3711,\"\")","v":4.6663999999999994},null,null,0]
[null,null,"Rejunte cimenticio, qualquer cor","kg",0.22,2.3939999999999997,{"$f":"IF(ISNUMBER(F3712),E3712*F3712,\"\")","v":0.52667999999999993},null,null,0]
[null,null,"Azulejista ou ladrilhista com encargos complementares","h",0.66,19.4085,{"$f":"IF(ISNUMBER(F3713),E3713*F3713,\"\")","v":12.809610000000001},null,null,0]
[null,null,"Servente com Encargos Complementares","h",0.36,14.554,{"$f":"IF(ISNUMBER(F3714),E3714*F3714,\"\")","v":5.2394400000000001},null,null,0]
[null,null,null,null,null,"",{"$f":"IF(ISNUMBER(F3715),E3715*F3715,\"\")","v":""},null,null,0]
["SF-01077",{"$f":"INDEX(Orçamentária!A:B,MATCH(Composições!A3716,Orçamentária!A:A,0),2)","v":"Aterro de vala com areia média e compactação mecanizada"},null,{"$f":"TRIM(INDEX(Orçamentária!C:C,MATCH(Composições!A3716,Orçamentária!A:A,0),1))","v":"m3"},null,"",{"$f":"IF(ISNUMBER(F3716),E3716*F3716,\"\")","v":""},null,null,0]
[null,null,null,null,null,"",{"$f":"IF(ISNUMBER(F3717),E3717*F3717,\"\")","v":""},null,null,0]
[null,null,"AREIA PARA ATERRO - POSTO JAZIDA/FORNECEDOR (RETIRADO NA JAZIDA, SEM TRANSPORTE)","M3",1.25,89.024499999999989,{"$f":"IF(ISNUMBER(F3718),E3718*F3718,\"\")","v":111.28062499999999},{"$f":"SUM(G3718:G3725)","v":175.33161881249998},null,0]
[null,null,"CAMINHÃO PIPA 10.000 L TRUCADO, PESO BRUTO TOTAL 23.000 KG, CARGA ÚTIL MÁXIMA 15.935 KG, DISTÂNCIA ENTRE EIXOS 4,8 M, POTÊNCIA 230 CV, INCLUSIVE TANQUE DE AÇO PARA TRANSPORTE DE ÁGUA - CHP DIURNO. AF_06/2014","CHP",6.0000000000000001E-3,157.38649999999998,{"$f":"IF(ISNUMBER(F3719),E3719*F3719,\"\")","v":0.94431899999999991},null,null,0]
[null,null,"CAMINHÃO PIPA 10.000 L TRUCADO, PESO BRUTO TOTAL 23.000 KG, CARGA ÚTIL MÁXIMA 15.935 KG, DISTÂNCIA ENTRE EIXOS 4,8 M, POTÊNCIA 230 CV, INCLUSIVE TANQUE DE AÇO PARA TRANSPORTE DE ÁGUA - CHI DIURNO. AF_06/2014","CHI",3.0000000000000001E-3,31.6065,{"$f":"IF(ISNUMBER(F3720),E3720*F3720,\"\")","v":9.4819500000000001E-2},null,null,0]
[null,null,"SERVENTE COM ENCARGOS COMPLEMENTARES","H",0.65900000000000003,14.554,{"$f":"IF(ISNUMBER(F3721),E3721*F3721,\"\")","v":9.5910860000000007},null,null,0]
[null,null,"COMPACTADOR DE SOLOS DE PERCUSSÃO (SOQUETE) COM MOTOR A GASOLINA 4 TEMPOS, POTÊNCIA 4 CV - CHP DIURNO. AF_08/2015","CHP",0.27400000000000002,21.555499999999999,{"$f":"IF(ISNUMBER(F3722),E3722*F3722,\"\")","v":5.9062070000000002},null,null,0]
[null,null,"COMPACTADOR DE SOLOS DE PERCUSSÃO (SOQUETE) COM MOTOR A GASOLINA 4 TEMPOS, POTÊNCIA 4 CV - CHI DIURNO. AF_08/2015","CHI",0.254,16.349499999999999,{"$f":"IF(ISNUMBER(F3723),E3723*F3723,\"\")","v":4.1527729999999998},null,null,0]
[null,null,"CARGA, MANOBRA E DESCARGA DE SOLOS E MATERIAIS GRANULARES EM CAMINHÃO BASCULANTE 6 M³ - CARGA COM PÁ CARREGADEIRA (CAÇAMBA DE 1,7 A 2,8 M³ / 128 HP) E DESCARGA LIVRE (UNIDADE: M3). AF_07/2020","m3",{"$f":"1*E3718","v":1.25},4.6197654500000001,{"$f":"IF(ISNUMBER(F3724),E3724*F3724,\"\")","v":5.7747068124999998},null,null,0]
[null,null,"TRANSPORTE COM CAMINHÃO BASCULANTE DE 6 M3, EM VIA URBANA PAVIMENTADA, DMT ATÉ 30 KM (UNIDADE: M3xKM). AF_01/2018","M3xKM",{"$f":"E3718*20","v":25},1.5034832999999999,{"$f":"IF(ISNUMBER(F3725),E3725*F3725,\"\")","v":37.587082499999994},null,null,0]
[null,null,null,null,null,"",{"$f":"IF(ISNUMBER(F3726),E3726*F3726,\"\")","v":""},null,null,0]
[null,null,"Obs.: Considerando fornecedor de areia a 20 km do Senado Federal.",null,null,"",{"$f":"IF(ISNUMBER(F3727),E3727*F3727,\"\")","v":""},null,null,0]
[null,null,null,null,null,"",{"$f":"IF(ISNUMBER(F3728),E3728*F3728,\"\")","v":""},null,null,0]
["SF-01078",{"$f":"INDEX(Orçamentária!A:B,MATCH(Composições!A3729,Orçamentária!A:A,0),2)","v":"Guarda-corpo panorâmico"},null,{"$f":"TRIM(INDEX(Orçamentária!C:C,MATCH(Composições!A3729,Orçamentária!A:A,0),1))","v":"m"},null,"",{"$f":"IF(ISNUMBER(F3729),E3729*F3729,\"\")","v":""},null,null,0]
[null,null,null,null,null,"",{"$f":"IF(ISNUMBER(F3730),E3730*F3730,\"\")","v":""},null,null,0]
[null,null,"CHAPA DE ACO GROSSA, ASTM A36, E = 3/8 \" (9,53 MM) 74,69 KG/M2","KG",1.4,5.51,{"$f":"IF(ISNUMBER(F3731),E3731*F3731,\"\")","v":7.7139999999999995},{"$f":"SUM(G3731:G3740)","v":754.18168700000001},null,0]
[null,null,"ELETRODO REVESTIDO AWS - E6013, DIAMETRO IGUAL A 2,50 MM","KG",3.0000000000000001E-3,16.187999999999999,{"$f":"IF(ISNUMBER(F3732),E3732*F3732,\"\")","v":4.8563999999999996E-2},null,null,0]
[null,null,"PARAFUSO DE ACO TIPO CHUMBADOR PARABOLT, DIAMETRO 3/8\", COMPRIMENTO 75 MM","UN",3.3330000000000002,1.8334999999999999,{"$f":"IF(ISNUMBER(F3733),E3733*F3733,\"\")","v":6.1110555},null,null,0]
[null,null,"PARAFUSO DE FERRO POLIDO, SEXTAVADO, COM ROSCA INTEIRA, DIAMETRO 5/16\", COMPRIMENTO 3/4\", COM PORCA E ARRUELA LISA LEVE","UN",5,0.34199999999999997,{"$f":"IF(ISNUMBER(F3734),E3734*F3734,\"\")","v":1.71},null,null,0]
[null,null,"PERFIL DE BORRACHA EPDM MACICO *12 X 15* MM PARA ESQUADRIAS","M",3.149,9.5,{"$f":"IF(ISNUMBER(F3735),E3735*F3735,\"\")","v":29.915500000000002},null,null,0]
[null,null,"PERFIL DE ALUMINIO ANODIZADO","KG",3.4089999999999998,28.813499999999998,{"$f":"IF(ISNUMBER(F3736),E3736*F3736,\"\")","v":98.225221499999989},null,null,0]
[null,null,"VIDRO COMUM LAMINADO LISO INCOLOR DUPLO, ESPESSURA TOTAL 8 MM (CADA CAMADA DE 4 MM) - COLOCADO","M2",0.998,488.91749999999996,{"$f":"IF(ISNUMBER(F3737),E3737*F3737,\"\")","v":487.93966499999993},null,null,0]
[null,null,"SILICONE ACETICO USO GERAL INCOLOR 280 G","UN",0.85499999999999998,16.131,{"$f":"IF(ISNUMBER(F3738),E3738*F3738,\"\")","v":13.792005},null,null,0]
[null,null,"AUXILIAR DE SERRALHEIRO COM ENCARGOS COMPLEMENTARES","H",2.754,15.883999999999999,{"$f":"IF(ISNUMBER(F3739),E3739*F3739,\"\")","v":43.744535999999997},null,null,0]
[null,null,"SERRALHEIRO COM ENCARGOS COMPLEMENTARES","H",3.3530000000000002,19.38,{"$f":"IF(ISNUMBER(F3740),E3740*F3740,\"\")","v":64.981139999999996},null,null,0]
[null,null,null,null,null,"",{"$f":"IF(ISNUMBER(F3741),E3741*F3741,\"\")","v":""},null,null,0]
["SF-01080",{"$f":"INDEX(Orçamentária!A:B,MATCH(Composições!A3742,Orçamentária!A:A,0),2)","v":"Perfil “U” em aço 25 x 25mm"},null,{"$f":"TRIM(INDEX(Orçamentária!C:C,MATCH(Composições!A3742,Orçamentária!A:A,0),1))","v":"m"},null,"",{"$f":"IF(ISNUMBER(F3742),E3742*F3742,\"\")","v":""},null,null,0]
[null,null,null,null,null,"",{"$f":"IF(ISNUMBER(F3743),E3743*F3743,\"\")","v":""},null,null,0]
[null,null,"Vidraceiro com encargos complementares","h",{"$f":"1/10","v":0.1},18.145,{"$f":"IF(ISNUMBER(F3744),E3744*F3744,\"\")","v":1.8145},{"$f":"SUM(G3744:G3745)","v":1.8145},null,0]
[null,null,"Perfil \"U\" em aço galvanizado 25mm x 25mm, espessura 1,5mm (#16)","m",1.05,"",{"$f":"IF(ISNUMBER(F3745),E3745*F3745,\"\")","v":""},null,null,0]
[null,null,null,null,null,"",{"$f":"IF(ISNUMBER(F3746),E3746*F3746,\"\")","v":""},null,null,0]
["SF-01082",{"$f":"INDEX(Orçamentária!A:B,MATCH(Composições!A3747,Orçamentária!A:A,0),2)","v":"Alimentação para mão-de-obra indireta"},null,{"$f":"TRIM(INDEX(Orçamentária!C:C,MATCH(Composições!A3747,Orçamentária!A:A,0),1))","v":"h"},null,"",{"$f":"IF(ISNUMBER(F3747),E3747*F3747,\"\")","v":""},null,null,0]
[null,null,null,null,null,"",{"$f":"IF(ISNUMBER(F3748),E3748*F3748,\"\")","v":""},null,null,0]
[null,null,"ALIMENTACAO - HORISTA (COLETADO CAIXA)","h",1,2.4414999999999996,{"$f":"IF(ISNUMBER(F3749),E3749*F3749,\"\")","v":2.4414999999999996},{"$f":"SUM(G3749:G3749)","v":2.4414999999999996},null,0]
[null,null,null,null,null,"",{"$f":"IF(ISNUMBER(F3750),E3750*F3750,\"\")","v":""},null,null,0]
["SF-01083",{"$f":"INDEX(Orçamentária!A:B,MATCH(Composições!A3751,Orçamentária!A:A,0),2)","v":"Transporte para mão-de-obra indireta"},null,{"$f":"TRIM(INDEX(Orçamentária!C:C,MATCH(Composições!A3751,Orçamentária!A:A,0),1))","v":"h"},null,"",{"$f":"IF(ISNUMBER(F3751),E3751*F3751,\"\")","v":""},null,null,0]
[null,null,null,null,null,"",{"$f":"IF(ISNUMBER(F3752),E3752*F3752,\"\")","v":""},null,null,0]
[null,null,"TRANSPORTE - HORISTA (COLETADO CAIXA)","H",1.05,1.292,{"$f":"IF(ISNUMBER(F3753),E3753*F3753,\"\")","v":1.3566},{"$f":"SUM(G3753:G3753)","v":1.3566},null,0]
[null,null,null,null,null,"",{"$f":"IF(ISNUMBER(F3754),E3754*F3754,\"\")","v":""},null,null,0]
["SF-01088",{"$f":"INDEX(Orçamentária!A:B,MATCH(Composições!A3755,Orçamentária!A:A,0),2)","v":"Cotovelo bolsa–bolsa 90° para solda em tubulação de cobre diâmetro de 1 3/8\""},null,{"$f":"TRIM(INDEX(Orçamentária!C:C,MATCH(Composições!A3755,Orçamentária!A:A,0),1))","v":"un"},null,"",{"$f":"IF(ISNUMBER(F3755),E3755*F3755,\"\")","v":""},null,null,0]
[null,null,null,null,null,"",{"$f":"IF(ISNUMBER(F3756),E3756*F3756,\"\")","v":""},null,null,0]
[null,null,"COTOVELO DE COBRE 90 GRAUS (REF 607) SEM ANEL DE SOLDA, BOLSA X BOLSA, 35 MM","UN",1,26.153500000000001,{"$f":"IF(ISNUMBER(F3757),E3757*F3757,\"\")","v":26.153500000000001},{"$f":"SUM(G3757:G3762)","v":32.822904700000002},null,0]
[null,null,"SOLDA ESTANHO/COBRE PARA CONEXOES DE COBRE, FIO 2,5 MM, CARRETEL 500 GR (SEM CHUMBO)","UN",8.3999999999999995E-3,193.20149999999998,{"$f":"IF(ISNUMBER(F3758),E3758*F3758,\"\")","v":1.6228925999999997},null,null,0]
[null,null,"LIXA D'AGUA EM FOLHA, GRAO 100","UN",5.9400000000000001E-2,1.6244999999999998,{"$f":"IF(ISNUMBER(F3759),E3759*F3759,\"\")","v":9.6495299999999992E-2},null,null,0]
[null,null,"PASTA PARA SOLDA DE TUBOS E CONEXOES DE COBRE (EMBALAGEM COM 250 G)","UN",1.0800000000000001E-2,35.415999999999997,{"$f":"IF(ISNUMBER(F3760),E3760*F3760,\"\")","v":0.38249279999999997},null,null,0]
[null,null,"AUXILIAR DE ENCANADOR OU BOMBEIRO HIDRÁULICO COM ENCARGOS COMPLEMENTARES","H",0.13400000000000001,15.019499999999999,{"$f":"IF(ISNUMBER(F3761),E3761*F3761,\"\")","v":2.012613},null,null,0]
[null,null,"ENCANADOR OU BOMBEIRO HIDRÁULICO COM ENCARGOS COMPLEMENTARES","H",0.13400000000000001,19.066499999999998,{"$f":"IF(ISNUMBER(F3762),E3762*F3762,\"\")","v":2.5549109999999997},null,null,0]
[null,null,null,null,null,"",{"$f":"IF(ISNUMBER(F3763),E3763*F3763,\"\")","v":""},null,null,0]
["SF-01089",{"$f":"INDEX(Orçamentária!A:B,MATCH(Composições!A3764,Orçamentária!A:A,0),2)","v":"Cotovelo bolsa–bolsa 90° para solda em tubulação de cobre diâmetro de 1 5/8\""},null,{"$f":"TRIM(INDEX(Orçamentária!C:C,MATCH(Composições!A3764,Orçamentária!A:A,0),1))","v":"un"},null,"",{"$f":"IF(ISNUMBER(F3764),E3764*F3764,\"\")","v":""},null,null,0]
[null,null,null,null,null,"",{"$f":"IF(ISNUMBER(F3765),E3765*F3765,\"\")","v":""},null,null,0]
[null,null,"COTOVELO DE COBRE 90 GRAUS (REF 607) SEM ANEL DE SOLDA, BOLSA X BOLSA, 42 MM","UN",1,40.137499999999996,{"$f":"IF(ISNUMBER(F3766),E3766*F3766,\"\")","v":40.137499999999996},{"$f":"SUM(G3766:G3771)","v":49.744780649999996},null,0]
[null,null,"SOLDA ESTANHO/COBRE PARA CONEXOES DE COBRE, FIO 2,5 MM, CARRETEL 500 GR (SEM CHUMBO)","UN",1.7600000000000001E-2,193.20149999999998,{"$f":"IF(ISNUMBER(F3767),E3767*F3767,\"\")","v":3.4003464000000001},null,null,0]
[null,null,"LIXA D'AGUA EM FOLHA, GRAO 100","UN",6.93E-2,1.6244999999999998,{"$f":"IF(ISNUMBER(F3768),E3768*F3768,\"\")","v":0.11257784999999999},null,null,0]
[null,null,"PASTA PARA SOLDA DE TUBOS E CONEXOES DE COBRE (EMBALAGEM COM 250 G)","UN",2.29E-2,35.415999999999997,{"$f":"IF(ISNUMBER(F3769),E3769*F3769,\"\")","v":0.81102639999999993},null,null,0]
[null,null,"AUXILIAR DE ENCANADOR OU BOMBEIRO HIDRÁULICO COM ENCARGOS COMPLEMENTARES","H",0.155,15.019499999999999,{"$f":"IF(ISNUMBER(F3770),E3770*F3770,\"\")","v":2.3280224999999999},null,null,0]
[null,null,"ENCANADOR OU BOMBEIRO HIDRÁULICO COM ENCARGOS COMPLEMENTARES","H",0.155,19.066499999999998,{"$f":"IF(ISNUMBER(F3771),E3771*F3771,\"\")","v":2.9553074999999995},null,null,0]
[null,null,null,null,null,"",{"$f":"IF(ISNUMBER(F3772),E3772*F3772,\"\")","v":""},null,null,0]
["SF-01090",{"$f":"INDEX(Orçamentária!A:B,MATCH(Composições!A3773,Orçamentária!A:A,0),2)","v":"Cotovelo bolsa–bolsa 90° para solda em tubulação de cobre diâmetro de 7/8\""},null,{"$f":"TRIM(INDEX(Orçamentária!C:C,MATCH(Composições!A3773,Orçamentária!A:A,0),1))","v":"un"},null,"",{"$f":"IF(ISNUMBER(F3773),E3773*F3773,\"\")","v":""},null,null,0]
[null,null,null,null,null,"",{"$f":"IF(ISNUMBER(F3774),E3774*F3774,\"\")","v":""},null,null,0]
[null,null,"COTOVELO DE COBRE 90 GRAUS (REF 607) SEM ANEL DE SOLDA, BOLSA X BOLSA, 22 MM","UN",1,7.7424999999999997,{"$f":"IF(ISNUMBER(F3775),E3775*F3775,\"\")","v":7.7424999999999997},{"$f":"SUM(G3775:G3780)","v":12.235422399999999},null,0]
[null,null,"SOLDA ESTANHO/COBRE PARA CONEXOES DE COBRE, FIO 2,5 MM, CARRETEL 500 GR (SEM CHUMBO)","UN",4.7999999999999996E-3,193.20149999999998,{"$f":"IF(ISNUMBER(F3776),E3776*F3776,\"\")","v":0.92736719999999984},null,null,0]
[null,null,"LIXA D'AGUA EM FOLHA, GRAO 100","UN",4.3200000000000002E-2,1.6244999999999998,{"$f":"IF(ISNUMBER(F3777),E3777*F3777,\"\")","v":7.0178400000000002E-2},null,null,0]
[null,null,"PASTA PARA SOLDA DE TUBOS E CONEXOES DE COBRE (EMBALAGEM COM 250 G)","UN",6.3E-3,35.415999999999997,{"$f":"IF(ISNUMBER(F3778),E3778*F3778,\"\")","v":0.22312079999999998},null,null,0]
[null,null,"AUXILIAR DE ENCANADOR OU BOMBEIRO HIDRÁULICO COM ENCARGOS COMPLEMENTARES","H",9.6000000000000002E-2,15.019499999999999,{"$f":"IF(ISNUMBER(F3779),E3779*F3779,\"\")","v":1.4418719999999998},null,null,0]
[null,null,"ENCANADOR OU BOMBEIRO HIDRÁULICO COM ENCARGOS COMPLEMENTARES","H",9.6000000000000002E-2,19.066499999999998,{"$f":"IF(ISNUMBER(F3780),E3780*F3780,\"\")","v":1.8303839999999998},null,null,0]
[null,null,null,null,null,"",{"$f":"IF(ISNUMBER(F3781),E3781*F3781,\"\")","v":""},null,null,0]
["SF-01092",{"$f":"INDEX(Orçamentária!A:B,MATCH(Composições!A3782,Orçamentária!A:A,0),2)","v":"Luva bolsa–bolsa para solda em tubulação de cobre diâmetro de 1 3/8\""},null,{"$f":"TRIM(INDEX(Orçamentária!C:C,MATCH(Composições!A3782,Orçamentária!A:A,0),1))","v":"un"},null,"",{"$f":"IF(ISNUMBER(F3782),E3782*F3782,\"\")","v":""},null,null,0]
[null,null,null,null,null,"",{"$f":"IF(ISNUMBER(F3783),E3783*F3783,\"\")","v":""},null,null,0]
[null,null,"LUVA DE COBRE (REF 600) SEM ANEL DE SOLDA, BOLSA X BOLSA, 35 MM","UN",1,16.245000000000001,{"$f":"IF(ISNUMBER(F3784),E3784*F3784,\"\")","v":16.245000000000001},{"$f":"SUM(G3784:G3789)","v":21.380534700000002},null,0]
[null,null,"SOLDA ESTANHO/COBRE PARA CONEXOES DE COBRE, FIO 2,5 MM, CARRETEL 500 GR (SEM CHUMBO)","UN",8.3999999999999995E-3,193.20149999999998,{"$f":"IF(ISNUMBER(F3785),E3785*F3785,\"\")","v":1.6228925999999997},null,null,0]
[null,null,"LIXA D'AGUA EM FOLHA, GRAO 100","UN",5.9400000000000001E-2,1.6244999999999998,{"$f":"IF(ISNUMBER(F3786),E3786*F3786,\"\")","v":9.6495299999999992E-2},null,null,0]
[null,null,"PASTA PARA SOLDA DE TUBOS E CONEXOES DE COBRE (EMBALAGEM COM 250 G)","UN",1.0800000000000001E-2,35.415999999999997,{"$f":"IF(ISNUMBER(F3787),E3787*F3787,\"\")","v":0.38249279999999997},null,null,0]
[null,null,"AUXILIAR DE ENCANADOR OU BOMBEIRO HIDRÁULICO COM ENCARGOS COMPLEMENTARES","H",8.8999999999999996E-2,15.019499999999999,{"$f":"IF(ISNUMBER(F3788),E3788*F3788,\"\")","v":1.3367354999999999},null,null,0]
[null,null,"ENCANADOR OU BOMBEIRO HIDRÁULICO COM ENCARGOS COMPLEMENTARES","H",8.8999999999999996E-2,19.066499999999998,{"$f":"IF(ISNUMBER(F3789),E3789*F3789,\"\")","v":1.6969184999999998},null,null,0]
[null,null,null,null,null,"",{"$f":"IF(ISNUMBER(F3790),E3790*F3790,\"\")","v":""},null,null,0]
["SF-01093",{"$f":"INDEX(Orçamentária!A:B,MATCH(Composições!A3791,Orçamentária!A:A,0),2)","v":"Luva bolsa–bolsa para solda em tubulação de cobre diâmetro de 1 5/8\""},null,{"$f":"TRIM(INDEX(Orçamentária!C:C,MATCH(Composições!A3791,Orçamentária!A:A,0),1))","v":"un"},null,"",{"$f":"IF(ISNUMBER(F3791),E3791*F3791,\"\")","v":""},null,null,0]
[null,null,null,null,null,"",{"$f":"IF(ISNUMBER(F3792),E3792*F3792,\"\")","v":""},null,null,0]
[null,null,"LUVA DE COBRE (REF 600) SEM ANEL DE SOLDA, BOLSA X BOLSA, 42 MM","UN",1,20.605499999999999,{"$f":"IF(ISNUMBER(F3793),E3793*F3793,\"\")","v":20.605499999999999},{"$f":"SUM(G3793:G3798)","v":28.440308649999999},null,0]
[null,null,"SOLDA ESTANHO/COBRE PARA CONEXOES DE COBRE, FIO 2,5 MM, CARRETEL 500 GR (SEM CHUMBO)","UN",1.7600000000000001E-2,193.20149999999998,{"$f":"IF(ISNUMBER(F3794),E3794*F3794,\"\")","v":3.4003464000000001},null,null,0]
[null,null,"LIXA D'AGUA EM FOLHA, GRAO 100","UN",6.93E-2,1.6244999999999998,{"$f":"IF(ISNUMBER(F3795),E3795*F3795,\"\")","v":0.11257784999999999},null,null,0]
[null,null,"PASTA PARA SOLDA DE TUBOS E CONEXOES DE COBRE (EMBALAGEM COM 250 G)","UN",2.29E-2,35.415999999999997,{"$f":"IF(ISNUMBER(F3796),E3796*F3796,\"\")","v":0.81102639999999993},null,null,0]
[null,null,"AUXILIAR DE ENCANADOR OU BOMBEIRO HIDRÁULICO COM ENCARGOS COMPLEMENTARES","H",0.10299999999999999,15.019499999999999,{"$f":"IF(ISNUMBER(F3797),E3797*F3797,\"\")","v":1.5470084999999998},null,null,0]
[null,null,"ENCANADOR OU BOMBEIRO HIDRÁULICO COM ENCARGOS COMPLEMENTARES","H",0.10299999999999999,19.066499999999998,{"$f":"IF(ISNUMBER(F3798),E3798*F3798,\"\")","v":1.9638494999999996},null,null,0]
[null,null,null,null,null,"",{"$f":"IF(ISNUMBER(F3799),E3799*F3799,\"\")","v":""},null,null,0]
["SF-01094",{"$f":"INDEX(Orçamentária!A:B,MATCH(Composições!A3800,Orçamentária!A:A,0),2)","v":"Luva bolsa–bolsa para solda em tubulação de cobre diâmetro de 7/8\""},null,{"$f":"TRIM(INDEX(Orçamentária!C:C,MATCH(Composições!A3800,Orçamentária!A:A,0),1))","v":"un"},null,"",{"$f":"IF(ISNUMBER(F3800),E3800*F3800,\"\")","v":""},null,null,0]
[null,null,null,null,null,"",{"$f":"IF(ISNUMBER(F3801),E3801*F3801,\"\")","v":""},null,null,0]
[null,null,"LUVA DE COBRE (REF 600) SEM ANEL DE SOLDA, BOLSA X BOLSA, 22 MM","UN",1,3.6669999999999998,{"$f":"IF(ISNUMBER(F3802),E3802*F3802,\"\")","v":3.6669999999999998},{"$f":"SUM(G3802:G3807)","v":7.0691704},null,0]
[null,null,"SOLDA ESTANHO/COBRE PARA CONEXOES DE COBRE, FIO 2,5 MM, CARRETEL 500 GR (SEM CHUMBO)","UN",4.7999999999999996E-3,193.20149999999998,{"$f":"IF(ISNUMBER(F3803),E3803*F3803,\"\")","v":0.92736719999999984},null,null,0]
[null,null,"LIXA D'AGUA EM FOLHA, GRAO 100","UN",4.3200000000000002E-2,1.6244999999999998,{"$f":"IF(ISNUMBER(F3804),E3804*F3804,\"\")","v":7.0178400000000002E-2},null,null,0]
[null,null,"PASTA PARA SOLDA DE TUBOS E CONEXOES DE COBRE (EMBALAGEM COM 250 G)","UN",6.3E-3,35.415999999999997,{"$f":"IF(ISNUMBER(F3805),E3805*F3805,\"\")","v":0.22312079999999998},null,null,0]
[null,null,"AUXILIAR DE ENCANADOR OU BOMBEIRO HIDRÁULICO COM ENCARGOS COMPLEMENTARES","H",6.4000000000000001E-2,15.019499999999999,{"$f":"IF(ISNUMBER(F3806),E3806*F3806,\"\")","v":0.96124799999999999},null,null,0]
[null,null,"ENCANADOR OU BOMBEIRO HIDRÁULICO COM ENCARGOS COMPLEMENTARES","H",6.4000000000000001E-2,19.066499999999998,{"$f":"IF(ISNUMBER(F3807),E3807*F3807,\"\")","v":1.2202559999999998},null,null,0]
[null,null,null,null,null,"",{"$f":"IF(ISNUMBER(F3808),E3808*F3808,\"\")","v":""},null,null,0]
["SF-01097",{"$f":"INDEX(Orçamentária!A:B,MATCH(Composições!A3809,Orçamentária!A:A,0),2)","v":"Tubo de cobre rígido 1 3/8\""},null,{"$f":"TRIM(INDEX(Orçamentária!C:C,MATCH(Composições!A3809,Orçamentária!A:A,0),1))","v":"m"},null,"",{"$f":"IF(ISNUMBER(F3809),E3809*F3809,\"\")","v":""},null,null,0]
[null,null,null,null,null,"",{"$f":"IF(ISNUMBER(F3810),E3810*F3810,\"\")","v":""},null,null,0]
[null,null,"TUBO DE COBRE CLASSE \"A\", DN = 1 1/4 \" (35 MM), PARA INSTALACOES DE MEDIA PRESSAO PARA GASES COMBUSTIVEIS E MEDICINAIS","M",1.0210999999999999,98.353499999999997,{"$f":"IF(ISNUMBER(F3811),E3811*F3811,\"\")","v":100.42875884999998},{"$f":"SUM(G3811:G3813)","v":102.67843484999997},null,0]
[null,null,"AUXILIAR DE ENCANADOR OU BOMBEIRO HIDRÁULICO COM ENCARGOS COMPLEMENTARES","H",6.6000000000000003E-2,15.019499999999999,{"$f":"IF(ISNUMBER(F3812),E3812*F3812,\"\")","v":0.99128700000000003},null,null,0]
[null,null,"ENCANADOR OU BOMBEIRO HIDRÁULICO COM ENCARGOS COMPLEMENTARES","H",6.6000000000000003E-2,19.066499999999998,{"$f":"IF(ISNUMBER(F3813),E3813*F3813,\"\")","v":1.258389},null,null,0]
[null,null,null,null,null,"",{"$f":"IF(ISNUMBER(F3814),E3814*F3814,\"\")","v":""},null,null,0]
["SF-01098",{"$f":"INDEX(Orçamentária!A:B,MATCH(Composições!A3815,Orçamentária!A:A,0),2)","v":"Tubo de cobre rígido 1 5/8\""},null,{"$f":"TRIM(INDEX(Orçamentária!C:C,MATCH(Composições!A3815,Orçamentária!A:A,0),1))","v":"m"},null,"",{"$f":"IF(ISNUMBER(F3815),E3815*F3815,\"\")","v":""},null,null,0]
[null,null,null,null,null,"",{"$f":"IF(ISNUMBER(F3816),E3816*F3816,\"\")","v":""},null,null,0]
[null,null,"TUBO DE COBRE CLASSE \"A\", DN = 1 1/2 \" (42 MM), PARA INSTALACOES DE MEDIA PRESSAO PARA GASES COMBUSTIVEIS E MEDICINAIS","M",1.0210999999999999,118.33199999999999,{"$f":"IF(ISNUMBER(F3817),E3817*F3817,\"\")","v":120.82880519999998},{"$f":"SUM(G3817:G3819)","v":123.41934119999998},null,0]
[null,null,"AUXILIAR DE ENCANADOR OU BOMBEIRO HIDRÁULICO COM ENCARGOS COMPLEMENTARES","H",7.5999999999999998E-2,15.019499999999999,{"$f":"IF(ISNUMBER(F3818),E3818*F3818,\"\")","v":1.1414819999999999},null,null,0]
[null,null,"ENCANADOR OU BOMBEIRO HIDRÁULICO COM ENCARGOS COMPLEMENTARES","H",7.5999999999999998E-2,19.066499999999998,{"$f":"IF(ISNUMBER(F3819),E3819*F3819,\"\")","v":1.4490539999999998},null,null,0]
[null,null,null,null,null,"",{"$f":"IF(ISNUMBER(F3820),E3820*F3820,\"\")","v":""},null,null,0]
["SF-01101",{"$f":"INDEX(Orçamentária!A:B,MATCH(Composições!A3821,Orçamentária!A:A,0),2)","v":"Eletroduto flexível metálico com capa de PVC 1 1/2\""},null,{"$f":"TRIM(INDEX(Orçamentária!C:C,MATCH(Composições!A3821,Orçamentária!A:A,0),1))","v":"m"},null,"",{"$f":"IF(ISNUMBER(F3821),E3821*F3821,\"\")","v":""},null,null,0]
[null,null,null,null,null,"",{"$f":"IF(ISNUMBER(F3822),E3822*F3822,\"\")","v":""},null,null,0]
[null,null,"ELETRODUTO FLEXIVEL, EM ACO GALVANIZADO, REVESTIDO EXTERNAMENTE COM PVC PRETO, DIAMETRO EXTERNO DE 50 MM( 1 1/2\"), TIPO SEALTUBO","M",1.1000000000000001,21.7455,{"$f":"IF(ISNUMBER(F3823),E3823*F3823,\"\")","v":23.920050000000003},{"$f":"SUM(G3823:G3826)","v":28.547779300000006},null,0]
[null,null,"ARAME RECOZIDO 16 BWG, D = 1,65 MM (0,016 KG/M) OU 18 BWG, D = 1,25 MM (0,01 KG/M)","KG",2.3E-3,13.281000000000001,{"$f":"IF(ISNUMBER(F3824),E3824*F3824,\"\")","v":3.0546300000000002E-2},null,null,0]
[null,null,"AUXILIAR DE ELETRICISTA COM ENCARGOS COMPLEMENTARES","H",0.13100000000000001,15.447000000000001,{"$f":"IF(ISNUMBER(F3825),E3825*F3825,\"\")","v":2.0235570000000003},null,null,0]
[null,null,"ELETRICISTA COM ENCARGOS COMPLEMENTARES","H",0.13100000000000001,19.645999999999997,{"$f":"IF(ISNUMBER(F3826),E3826*F3826,\"\")","v":2.5736259999999995},null,null,0]
[null,null,null,null,null,"",{"$f":"IF(ISNUMBER(F3827),E3827*F3827,\"\")","v":""},null,null,0]
["SF-01102",{"$f":"INDEX(Orçamentária!A:B,MATCH(Composições!A3828,Orçamentária!A:A,0),2)","v":"Técnico(a) em Edificações - Planejamento de Manutenção"},null,{"$f":"TRIM(INDEX(Orçamentária!C:C,MATCH(Composições!A3828,Orçamentária!A:A,0),1))","v":"Profissional"},null,"",{"$f":"IF(ISNUMBER(F3828),E3828*F3828,\"\")","v":""},null,null,0]
[null,null,null,null,null,"",{"$f":"IF(ISNUMBER(F3829),E3829*F3829,\"\")","v":""},null,null,0]
[null,null,"TECNICO DE EDIFICACOES COM ENCARGOS COMPLEMENTARES","h",{"$f":"ROUND(1/(1+72.54%),2)","v":0.57999999999999996},2553.6189999999997,{"$f":"IF(ISNUMBER(F3830),E3830*F3830,\"\")","v":1481.0990199999997},{"$f":"SUM(G3830:G3830)","v":1481.0990199999997},null,0]
[null,null,null,null,null,"",{"$f":"IF(ISNUMBER(F3831),E3831*F3831,\"\")","v":""},null,null,0]
[null,null,"Obs: considerando 220h/mês e encargos sociais indicados na tabela do SINAPI.",null,null,"",{"$f":"IF(ISNUMBER(F3832),E3832*F3832,\"\")","v":""},null,null,0]
[null,null,null,null,null,"",{"$f":"IF(ISNUMBER(F3833),E3833*F3833,\"\")","v":""},null,null,0]
["SF-01104",{"$f":"INDEX(Orçamentária!A:B,MATCH(Composições!A3834,Orçamentária!A:A,0),2)","v":"Projeto de Impermeabilização"},null,{"$f":"TRIM(INDEX(Orçamentária!C:C,MATCH(Composições!A3834,Orçamentária!A:A,0),1))","v":"m2"},null,"",{"$f":"IF(ISNUMBER(F3834),E3834*F3834,\"\")","v":""},null,null,0]
[null,null,null,null,null,"",{"$f":"IF(ISNUMBER(F3835),E3835*F3835,\"\")","v":""},null,null,0]
[null,null,"ENGENHEIRO CIVIL PLENO COM ENCARGOS COMPLEMENTARES","h",{"$f":"ROUND(1/10,4)","v":0.1},81.614499999999992,{"$f":"IF(ISNUMBER(F3836),E3836*F3836,\"\")","v":8.1614500000000003},{"$f":"SUM(G3836:G3836)","v":8.1614500000000003},null,0]
[null,null,null,null,null,"",{"$f":"IF(ISNUMBER(F3837),E3837*F3837,\"\")","v":""},null,null,0]
["SF-01105",{"$f":"INDEX(Orçamentária!A:B,MATCH(Composições!A3838,Orçamentária!A:A,0),2)","v":"Laminado decorativo de alta pressão (LDAP)"},null,{"$f":"TRIM(INDEX(Orçamentária!C:C,MATCH(Composições!A3838,Orçamentária!A:A,0),1))","v":"m2"},null,"",{"$f":"IF(ISNUMBER(F3838),E3838*F3838,\"\")","v":""},null,null,0]
[null,null,null,null,null,"",{"$f":"IF(ISNUMBER(F3839),E3839*F3839,\"\")","v":""},null,null,0]
[null,null,"Servente com Encargos Complementares","h",0.18,14.554,{"$f":"IF(ISNUMBER(F3840),E3840*F3840,\"\")","v":2.61972},{"$f":"SUM(G3840:G3843)","v":32.755049999999997},null,0]
[null,null,"TAQUEADOR OU TAQUEIRO COM ENCARGOS COMPLEMENTARES","h",0.18,22.495999999999999,{"$f":"IF(ISNUMBER(F3841),E3841*F3841,\"\")","v":4.0492799999999995},null,null,0]
[null,null,"Cola a base de resina sintetica para chapa de laminado melaminico","kg",0.9,28.984500000000001,{"$f":"IF(ISNUMBER(F3842),E3842*F3842,\"\")","v":26.08605},null,null,0]
[null,null,"Laminado melamínico texturizado esp. 1,3 mm","m2",1.05,0,{"$f":"IF(ISNUMBER(F3843),E3843*F3843,\"\")","v":0},null,null,0]
[null,null,null,null,null,"",{"$f":"IF(ISNUMBER(F3844),E3844*F3844,\"\")","v":""},null,null,0]
["SF-01106",{"$f":"INDEX(Orçamentária!A:B,MATCH(Composições!A3845,Orçamentária!A:A,0),2)","v":"Granito Preto Absoluto para revestimento de superfícies internas e externas - Linha Administrativa"},null,{"$f":"TRIM(INDEX(Orçamentária!C:C,MATCH(Composições!A3845,Orçamentária!A:A,0),1))","v":"m2"},null,"",{"$f":"IF(ISNUMBER(F3845),E3845*F3845,\"\")","v":""},null,null,0]
[null,null,null,null,null,"",{"$f":"IF(ISNUMBER(F3846),E3846*F3846,\"\")","v":""},null,null,0]
[null,null,"Argamassa colante tipo AC III","kg",8.6199999999999992,1.254,{"$f":"IF(ISNUMBER(F3847),E3847*F3847,\"\")","v":10.809479999999999},{"$f":"SUM(G3847:G3851)","v":39.190349999999995},null,0]
[null,null,"Marmorista/graniteiro com encargos complementares","h",1.1879999999999999,16.330500000000001,{"$f":"IF(ISNUMBER(F3848),E3848*F3848,\"\")","v":19.400634},null,null,0]
[null,null,"Servente com Encargos Complementares","h",0.59399999999999997,14.554,{"$f":"IF(ISNUMBER(F3849),E3849*F3849,\"\")","v":8.6450759999999995},null,null,0]
[null,null,"Rejunte cimenticio, qualquer cor","kg",0.14000000000000001,2.3939999999999997,{"$f":"IF(ISNUMBER(F3850),E3850*F3850,\"\")","v":0.33516000000000001},null,null,0]
[null,null,"Granito Preto Absoluto, com 20 mm de espessura","m2",1.1599999999999999,"",{"$f":"IF(ISNUMBER(F3851),E3851*F3851,\"\")","v":""},null,null,0]
[null,null,null,null,null,"",{"$f":"IF(ISNUMBER(F3852),E3852*F3852,\"\")","v":""},null,null,0]
["SF-01107",{"$f":"INDEX(Orçamentária!A:B,MATCH(Composições!A3853,Orçamentária!A:A,0),2)","v":"Granito Arabesco para revestimento de superfícies internas e externas - Linha Administrativa"},null,{"$f":"TRIM(INDEX(Orçamentária!C:C,MATCH(Composições!A3853,Orçamentária!A:A,0),1))","v":"m2"},null,"",{"$f":"IF(ISNUMBER(F3853),E3853*F3853,\"\")","v":""},null,null,0]
[null,null,null,null,null,"",{"$f":"IF(ISNUMBER(F3854),E3854*F3854,\"\")","v":""},null,null,0]
[null,null,"Argamassa colante tipo AC III","kg",8.6199999999999992,1.254,{"$f":"IF(ISNUMBER(F3855),E3855*F3855,\"\")","v":10.809479999999999},{"$f":"SUM(G3855:G3859)","v":39.190349999999995},null,0]
[null,null,"Marmorista/graniteiro com encargos complementares","h",1.1879999999999999,16.330500000000001,{"$f":"IF(ISNUMBER(F3856),E3856*F3856,\"\")","v":19.400634},null,null,0]
[null,null,"Servente com Encargos Complementares","h",0.59399999999999997,14.554,{"$f":"IF(ISNUMBER(F3857),E3857*F3857,\"\")","v":8.6450759999999995},null,null,0]
[null,null,"Rejunte cimenticio, qualquer cor","kg",0.14000000000000001,2.3939999999999997,{"$f":"IF(ISNUMBER(F3858),E3858*F3858,\"\")","v":0.33516000000000001},null,null,0]
[null,null,"Granito Arabesco, com 20 mm de espessura","m2",1.1599999999999999,"",{"$f":"IF(ISNUMBER(F3859),E3859*F3859,\"\")","v":""},null,null,0]
[null,null,null,null,null,"",{"$f":"IF(ISNUMBER(F3860),E3860*F3860,\"\")","v":""},null,null,0]
["SF-01108",{"$f":"INDEX(Orçamentária!A:B,MATCH(Composições!A3861,Orçamentária!A:A,0),2)","v":"Porcelanato para revestimento de superfícies internas e externas - Linha Residencial"},null,{"$f":"TRIM(INDEX(Orçamentária!C:C,MATCH(Composições!A3861,Orçamentária!A:A,0),1))","v":"m2"},null,"",{"$f":"IF(ISNUMBER(F3861),E3861*F3861,\"\")","v":""},null,null,0]
[null,null,null,null,null,"",{"$f":"IF(ISNUMBER(F3862),E3862*F3862,\"\")","v":""},null,null,0]
[null,null,"PISO EM PORCELANATO RETIFICADO EXTRA, FORMATO MENOR OU IGUAL A 2025 CM2","M2",1.07,46.198500000000003,{"$f":"IF(ISNUMBER(F3863),E3863*F3863,\"\")","v":49.432395000000007},{"$f":"SUM(G3863:G3867)","v":76.294119999999992},null,0]
[null,null,"Rejunte cimenticio, qualquer cor","KG",0.24,2.3939999999999997,{"$f":"IF(ISNUMBER(F3864),E3864*F3864,\"\")","v":0.57455999999999985},null,null,0]
[null,null,"Argamassa colante tipo AC III","KG",8.6199999999999992,1.254,{"$f":"IF(ISNUMBER(F3865),E3865*F3865,\"\")","v":10.809479999999999},null,null,0]
[null,null,"AZULEJISTA OU LADRILHISTA COM ENCARGOS COMPLEMENTARES","H",0.61,19.4085,{"$f":"IF(ISNUMBER(F3866),E3866*F3866,\"\")","v":11.839185000000001},null,null,0]
[null,null,"SERVENTE COM ENCARGOS COMPLEMENTARES","H",0.25,14.554,{"$f":"IF(ISNUMBER(F3867),E3867*F3867,\"\")","v":3.6385000000000001},null,null,0]
[null,null,null,null,null,"",{"$f":"IF(ISNUMBER(F3868),E3868*F3868,\"\")","v":""},null,null,0]
["SF-01109",{"$f":"INDEX(Orçamentária!A:B,MATCH(Composições!A3869,Orçamentária!A:A,0),2)","v":"Granitina para revestimento de pisos"},null,{"$f":"TRIM(INDEX(Orçamentária!C:C,MATCH(Composições!A3869,Orçamentária!A:A,0),1))","v":"m2"},null,"",{"$f":"IF(ISNUMBER(F3869),E3869*F3869,\"\")","v":""},null,null,0]
[null,null,null,null,null,"",{"$f":"IF(ISNUMBER(F3870),E3870*F3870,\"\")","v":""},null,null,0]
[null,null,"JUNTA PLASTICA DE DILATACAO PARA PISOS, COR CINZA, 17 X 3 MM (ALTURA X ESPESSURA)","M",1.67,0.95,{"$f":"IF(ISNUMBER(F3871),E3871*F3871,\"\")","v":1.5864999999999998},{"$f":"SUM(G3871:G3877)","v":31.755948498658299},null,0]
[null,null,"GRANILHA/ GRANA/ PEDRISCO OU AGREGADO EM MARMORE/ GRANITO/ QUARTZO E CALCARIO, PRETO, CINZA, PALHA OU BRANCO","KG",23.24,0.27549999999999997,{"$f":"IF(ISNUMBER(F3872),E3872*F3872,\"\")","v":6.4026199999999989},null,null,0]
[null,null,"ARGAMASSA TRAÇO 1:3 (EM VOLUME DE CIMENTO E AREIA MÉDIA ÚMIDA) PARA CONTRAPISO, PREPARO MECÂNICO COM BETONEIRA 400 L. AF_08/2019","M3",1.66E-2,517.65695775049994,{"$f":"IF(ISNUMBER(F3873),E3873*F3873,\"\")","v":8.5931054986583},null,null,0]
[null,null,"PEDREIRO COM ENCARGOS COMPLEMENTARES","H",0.55100000000000005,19.474999999999998,{"$f":"IF(ISNUMBER(F3874),E3874*F3874,\"\")","v":10.730725},null,null,0]
[null,null,"SERVENTE COM ENCARGOS COMPLEMENTARES","H",0.27500000000000002,14.554,{"$f":"IF(ISNUMBER(F3875),E3875*F3875,\"\")","v":4.0023500000000007},null,null,0]
[null,null,"POLIDORA DE PISO (POLITRIZ), PESO DE 100KG, DIÂMETRO 450 MM, MOTOR ELÉTRICO, POTÊNCIA 4 HP - CHP DIURNO. AF_09/2016","CHP",0.123,2.1280000000000001,{"$f":"IF(ISNUMBER(F3876),E3876*F3876,\"\")","v":0.26174400000000003},null,null,0]
[null,null,"POLIDORA DE PISO (POLITRIZ), PESO DE 100KG, DIÂMETRO 450 MM, MOTOR ELÉTRICO, POTÊNCIA 4 HP - CHI DIURNO. AF_09/2016","CHI",0.42799999999999999,0.41799999999999998,{"$f":"IF(ISNUMBER(F3877),E3877*F3877,\"\")","v":0.17890399999999998},null,null,0]
[null,null,null,null,null,"",{"$f":"IF(ISNUMBER(F3878),E3878*F3878,\"\")","v":""},null,null,0]
["SF-01110",{"$f":"INDEX(Orçamentária!A:B,MATCH(Composições!A3879,Orçamentária!A:A,0),2)","v":"Piso vinílico flexível em manta"},null,{"$f":"TRIM(INDEX(Orçamentária!C:C,MATCH(Composições!A3879,Orçamentária!A:A,0),1))","v":"m2"},null,"",{"$f":"IF(ISNUMBER(F3879),E3879*F3879,\"\")","v":""},null,null,0]
[null,null,null,null,null,"",{"$f":"IF(ISNUMBER(F3880),E3880*F3880,\"\")","v":""},null,null,0]
[null,null,"Piso vinílico em manta esp. 2 mm","m2",1.05,"",{"$f":"IF(ISNUMBER(F3881),E3881*F3881,\"\")","v":""},{"$f":"SUM(G3881:G3884)","v":13.433474999999998},null,0]
[null,null,"ADESIVO ACRILICO/COLA DE CONTATO","kg",0.35,23.797499999999999,{"$f":"IF(ISNUMBER(F3882),E3882*F3882,\"\")","v":8.3291249999999994},null,null,0]
[null,null,"Pedreiro com Encargos Complementares","h",0.15,19.474999999999998,{"$f":"IF(ISNUMBER(F3883),E3883*F3883,\"\")","v":2.9212499999999997},null,null,0]
[null,null,"Servente com Encargos Complementares","h",0.15,14.554,{"$f":"IF(ISNUMBER(F3884),E3884*F3884,\"\")","v":2.1831},null,null,0]
[null,null,null,null,null,"",{"$f":"IF(ISNUMBER(F3885),E3885*F3885,\"\")","v":""},null,null,0]
["SF-01111",{"$f":"INDEX(Orçamentária!A:B,MATCH(Composições!A3886,Orçamentária!A:A,0),2)","v":"Tratamento de juntas de dilatação ou movimentação"},null,{"$f":"TRIM(INDEX(Orçamentária!C:C,MATCH(Composições!A3886,Orçamentária!A:A,0),1))","v":"m"},null,"",{"$f":"IF(ISNUMBER(F3886),E3886*F3886,\"\")","v":""},null,null,0]
[null,null,null,null,null,"",{"$f":"IF(ISNUMBER(F3887),E3887*F3887,\"\")","v":""},null,null,0]
[null,null,"Pedreiro com Encargos Complementares","h",0.35,19.474999999999998,{"$f":"IF(ISNUMBER(F3888),E3888*F3888,\"\")","v":6.8162499999999993},{"$f":"SUM(G3888:G3892)","v":46.244289999999992},null,0]
[null,null,"Servente com Encargos Complementares","h",0.35,14.554,{"$f":"IF(ISNUMBER(F3889),E3889*F3889,\"\")","v":5.0938999999999997},null,null,0]
[null,null,"SELANTE MONOCOMPONENTE A BASE DE SILICONE DE BAIXO MODULO, PARA JUNTAS DE PAVIMENTACAO","L",0.2,110.922,{"$f":"IF(ISNUMBER(F3890),E3890*F3890,\"\")","v":22.1844},null,null,0]
[null,null,"Corpo de apoio em polietileno para aplicação de mástiques em juntas","m",1,0.53200000000000003,{"$f":"IF(ISNUMBER(F3891),E3891*F3891,\"\")","v":0.53200000000000003},null,null,0]
[null,null,"ADESIVO ESTRUTURAL A BASE DE RESINA EPOXI, BICOMPONENTE, PASTOSO (TIXOTROPICO)","kg",{"$f":"1.8*1*(0.01+0.01)*10","v":0.36000000000000004},32.271499999999996,{"$f":"IF(ISNUMBER(F3892),E3892*F3892,\"\")","v":11.61774},null,null,0]
[null,null,null,null,null,null,null,null,null,0]
[null,null,"Obs 1: Considerando consumo do adesivo estrutural 1,8 kg / m² / mm.",null,null,null,null,null,null,0]
[null,null,"Obs 2: Considerando consumo do selante 100 ml / cm de espessura.",null,null,null,null,null,null,0]
[null,null,null,null,null,"",{"$f":"IF(ISNUMBER(F3896),E3896*F3896,\"\")","v":""},null,null,0]
["SF-01112",{"$f":"INDEX(Orçamentária!A:B,MATCH(Composições!A3897,Orçamentária!A:A,0),2)","v":"Recuperação superficial de preparação para pintura epóxi de alto desempenho"},null,{"$f":"TRIM(INDEX(Orçamentária!C:C,MATCH(Composições!A3897,Orçamentária!A:A,0),1))","v":"m2"},null,"",{"$f":"IF(ISNUMBER(F3897),E3897*F3897,\"\")","v":""},null,null,0]
[null,null,null,null,null,"",{"$f":"IF(ISNUMBER(F3898),E3898*F3898,\"\")","v":""},null,null,0]
[null,null,"Pedreiro com Encargos Complementares","h",0.3,19.474999999999998,{"$f":"IF(ISNUMBER(F3899),E3899*F3899,\"\")","v":5.8424999999999994},{"$f":"SUM(G3899:G3904)","v":13.847200000000001},null,0]
[null,null,"Servente com Encargos Complementares","h",{"$f":"0.3+0.25","v":0.55000000000000004},14.554,{"$f":"IF(ISNUMBER(F3900),E3900*F3900,\"\")","v":8.0047000000000015},null,null,0]
[null,null,"Massa rápida para recuperação","kg",5,"",{"$f":"IF(ISNUMBER(F3901),E3901*F3901,\"\")","v":""},null,null,0]
[null,null,"Argamassa para recuperação","kg",0.5,"",{"$f":"IF(ISNUMBER(F3902),E3902*F3902,\"\")","v":""},null,null,0]
[null,null,"Primer à base de resina acrílica","kg",0.1,"",{"$f":"IF(ISNUMBER(F3903),E3903*F3903,\"\")","v":""},null,null,0]
[null,null,"Lixa grana 100 para superfície metálica","UN",0.5,0,{"$f":"IF(ISNUMBER(F3904),E3904*F3904,\"\")","v":0},null,null,0]
[null,null,null,null,null,"",{"$f":"IF(ISNUMBER(F3905),E3905*F3905,\"\")","v":""},null,null,0]
[null,null,"Fonte: Pini 20.105.000010.SER e Pini 20.105.000015.SER",null,null,"",{"$f":"IF(ISNUMBER(F3906),E3906*F3906,\"\")","v":""},null,null,0]
[null,null,null,null,null,"",{"$f":"IF(ISNUMBER(F3907),E3907*F3907,\"\")","v":""},null,null,0]
["SF-01113",{"$f":"INDEX(Orçamentária!A:B,MATCH(Composições!A3908,Orçamentária!A:A,0),2)","v":"Lixamento, calafetação e aplicação de sinteco em piso de madeira - Linha Residencial"},null,{"$f":"TRIM(INDEX(Orçamentária!C:C,MATCH(Composições!A3908,Orçamentária!A:A,0),1))","v":"m2"},null,"",{"$f":"IF(ISNUMBER(F3908),E3908*F3908,\"\")","v":""},null,null,0]
[null,null,null,null,null,"",{"$f":"IF(ISNUMBER(F3909),E3909*F3909,\"\")","v":""},null,null,0]
[null,null,"Raspagem, calafetagem, aplicação de synteko alto brilho em piso de madeira","m2",1,0,{"$f":"IF(ISNUMBER(F3910),E3910*F3910,\"\")","v":0},{"$f":"SUM(G3910:G3910)","v":0},null,0]
[null,null,null,null,null,"",{"$f":"IF(ISNUMBER(F3911),E3911*F3911,\"\")","v":""},null,null,0]
["SF-01114",{"$f":"INDEX(Orçamentária!A:B,MATCH(Composições!A3912,Orçamentária!A:A,0),2)","v":"Piso em taco de madeira - Linha Residencial"},null,{"$f":"TRIM(INDEX(Orçamentária!C:C,MATCH(Composições!A3912,Orçamentária!A:A,0),1))","v":"m2"},null,"",{"$f":"IF(ISNUMBER(F3912),E3912*F3912,\"\")","v":""},null,null,0]
[null,null,null,null,null,"",{"$f":"IF(ISNUMBER(F3913),E3913*F3913,\"\")","v":""},null,null,0]
[null,null,"TACO DE MADEIRA PARA PISO, IPE (CERNE) OU EQUIVALENTE DA REGIAO, 7 X 42 CM, E = 2 CM","M2",1.05,100.624,{"$f":"IF(ISNUMBER(F3914),E3914*F3914,\"\")","v":105.65519999999999},{"$f":"SUM(G3914:G3917)","v":131.49765099999999},null,0]
[null,null,"COLA BRANCA BASE PVA","L",0.57499999999999996,16.34,{"$f":"IF(ISNUMBER(F3915),E3915*F3915,\"\")","v":9.3954999999999984},null,null,0]
[null,null,"SERVENTE COM ENCARGOS COMPLEMENTARES","H",0.2399,14.554,{"$f":"IF(ISNUMBER(F3916),E3916*F3916,\"\")","v":3.4915046000000003},null,null,0]
[null,null,"TAQUEADOR OU TAQUEIRO COM ENCARGOS COMPLEMENTARES","H",0.57589999999999997,22.495999999999999,{"$f":"IF(ISNUMBER(F3917),E3917*F3917,\"\")","v":12.955446399999998},null,null,0]
[null,null,null,null,null,"",{"$f":"IF(ISNUMBER(F3918),E3918*F3918,\"\")","v":""},null,null,0]
["SF-01115",{"$f":"INDEX(Orçamentária!A:B,MATCH(Composições!A3919,Orçamentária!A:A,0),2)","v":"Piso de borracha antiderrapante tipo moeda"},null,{"$f":"TRIM(INDEX(Orçamentária!C:C,MATCH(Composições!A3919,Orçamentária!A:A,0),1))","v":"m2"},null,"",{"$f":"IF(ISNUMBER(F3919),E3919*F3919,\"\")","v":""},null,null,0]
[null,null,null,null,null,"",{"$f":"IF(ISNUMBER(F3920),E3920*F3920,\"\")","v":""},null,null,0]
[null,null,"ADESIVO ACRILICO/COLA DE CONTATO","KG",0.56369999999999998,23.797499999999999,{"$f":"IF(ISNUMBER(F3921),E3921*F3921,\"\")","v":13.41465075},{"$f":"SUM(G3921:G3924)","v":77.585611749999998},null,0]
[null,null,"PISO DE BORRACHA PASTILHADO EM PLACAS 50 X 50 CM, E = *3,5* MM, PARA COLA, PRETO","M2",1.06,48.887,{"$f":"IF(ISNUMBER(F3922),E3922*F3922,\"\")","v":51.820220000000006},null,null,0]
[null,null,"PEDREIRO COM ENCARGOS COMPLEMENTARES","H",0.48359999999999997,19.474999999999998,{"$f":"IF(ISNUMBER(F3923),E3923*F3923,\"\")","v":9.4181099999999986},null,null,0]
[null,null,"SERVENTE COM ENCARGOS COMPLEMENTARES","H",0.20150000000000001,14.554,{"$f":"IF(ISNUMBER(F3924),E3924*F3924,\"\")","v":2.9326310000000002},null,null,0]
[null,null,null,null,null,"",{"$f":"IF(ISNUMBER(F3925),E3925*F3925,\"\")","v":""},null,null,0]
["SF-01116",{"$f":"INDEX(Orçamentária!A:B,MATCH(Composições!A3926,Orçamentária!A:A,0),2)","v":"Piso sintético flutuante - Linha Residencial"},null,{"$f":"TRIM(INDEX(Orçamentária!C:C,MATCH(Composições!A3926,Orçamentária!A:A,0),1))","v":"m2"},null,"",{"$f":"IF(ISNUMBER(F3926),E3926*F3926,\"\")","v":""},null,null,0]
[null,null,null,null,null,"",{"$f":"IF(ISNUMBER(F3927),E3927*F3927,\"\")","v":""},null,null,0]
[null,null,"Piso sintético flutuante, laminado de alta resistência, superfície em overlay, substrato HDF-H, painel de fibras de madeira de alta densidade, e = 7 cm","M2",1.05,"",{"$f":"IF(ISNUMBER(F3928),E3928*F3928,\"\")","v":""},{"$f":"SUM(G3928:G3930)","v":12.560317079999999},null,0]
[null,null,"SERVENTE COM ENCARGOS COMPLEMENTARES","H",0.2399,14.554,{"$f":"IF(ISNUMBER(F3929),E3929*F3929,\"\")","v":3.4915046000000003},null,null,0]
[null,null,"TAQUEADOR OU TAQUEIRO COM ENCARGOS COMPLEMENTARES","H",{"$f":"0.5759*0.7","v":0.40312999999999993},22.495999999999999,{"$f":"IF(ISNUMBER(F3930),E3930*F3930,\"\")","v":9.0688124799999983},null,null,0]
[null,null,null,null,null,"",{"$f":"IF(ISNUMBER(F3931),E3931*F3931,\"\")","v":""},null,null,0]
["SF-01117",{"$f":"INDEX(Orçamentária!A:B,MATCH(Composições!A3932,Orçamentária!A:A,0),2)","v":"Revestimento acústico perfilado - Linha Administrativa"},null,{"$f":"TRIM(INDEX(Orçamentária!C:C,MATCH(Composições!A3932,Orçamentária!A:A,0),1))","v":"m2"},null,"",{"$f":"IF(ISNUMBER(F3932),E3932*F3932,\"\")","v":""},null,null,0]
[null,null,null,null,null,"",{"$f":"IF(ISNUMBER(F3933),E3933*F3933,\"\")","v":""},null,null,0]
[null,null,"Placa acústica perfilada, semi-rígida, de estrutura micro-celular, com dimensões de 625x625x25 mm, na cor natural (cinza claro)","m2",1.05,"",{"$f":"IF(ISNUMBER(F3934),E3934*F3934,\"\")","v":""},{"$f":"SUM(G3934:G3936)","v":7.419975},null,0]
[null,null,"TAQUEADOR OU TAQUEIRO COM ENCARGOS COMPLEMENTARES","H",0.15,22.495999999999999,{"$f":"IF(ISNUMBER(F3935),E3935*F3935,\"\")","v":3.3743999999999996},null,null,0]
[null,null,"ADESIVO ACRILICO/COLA DE CONTATO","kg",0.17,23.797499999999999,{"$f":"IF(ISNUMBER(F3936),E3936*F3936,\"\")","v":4.0455750000000004},null,null,0]
[null,null,null,null,null,"",{"$f":"IF(ISNUMBER(F3937),E3937*F3937,\"\")","v":""},null,null,0]
["SF-01118",{"$f":"INDEX(Orçamentária!A:B,MATCH(Composições!A3938,Orçamentária!A:A,0),2)","v":"Revestimento acústico plano - Linha Administrativa"},null,{"$f":"TRIM(INDEX(Orçamentária!C:C,MATCH(Composições!A3938,Orçamentária!A:A,0),1))","v":"m2"},null,"",{"$f":"IF(ISNUMBER(F3938),E3938*F3938,\"\")","v":""},null,null,0]
[null,null,null,null,null,"",{"$f":"IF(ISNUMBER(F3939),E3939*F3939,\"\")","v":""},null,null,0]
[null,null,"Placa acústica plana, semi-rígida, de estrutura micro-celular, com dimensões de 625x625x25 mm, na cor natural (cinza claro)","m2",1.05,"",{"$f":"IF(ISNUMBER(F3940),E3940*F3940,\"\")","v":""},{"$f":"SUM(G3940:G3942)","v":7.419975},null,0]
[null,null,"TAQUEADOR OU TAQUEIRO COM ENCARGOS COMPLEMENTARES","H",0.15,22.495999999999999,{"$f":"IF(ISNUMBER(F3941),E3941*F3941,\"\")","v":3.3743999999999996},null,null,0]
[null,null,"ADESIVO ACRILICO/COLA DE CONTATO","kg",0.17,23.797499999999999,{"$f":"IF(ISNUMBER(F3942),E3942*F3942,\"\")","v":4.0455750000000004},null,null,0]
[null,null,null,null,null,"",{"$f":"IF(ISNUMBER(F3943),E3943*F3943,\"\")","v":""},null,null,0]
["SF-01119",{"$f":"INDEX(Orçamentária!A:B,MATCH(Composições!A3944,Orçamentária!A:A,0),2)","v":"Forro monolítico de gesso em placas"},null,{"$f":"TRIM(INDEX(Orçamentária!C:C,MATCH(Composições!A3944,Orçamentária!A:A,0),1))","v":"m2"},null,"",{"$f":"IF(ISNUMBER(F3944),E3944*F3944,\"\")","v":""},null,null,0]
[null,null,null,null,null,"",{"$f":"IF(ISNUMBER(F3945),E3945*F3945,\"\")","v":""},null,null,0]
[null,null,"ARAME GALVANIZADO 18 BWG, D = 1,24MM (0,009 KG/M)","KG",2.5000000000000001E-2,18.943000000000001,{"$f":"IF(ISNUMBER(F3946),E3946*F3946,\"\")","v":0.47357500000000008},{"$f":"SUM(G3946:G3952)","v":36.628387150000002},null,0]
[null,null,"GESSO EM PO PARA REVESTIMENTOS/MOLDURAS/SANCAS","KG",0.99639999999999995,0.57950000000000002,{"$f":"IF(ISNUMBER(F3947),E3947*F3947,\"\")","v":0.57741379999999998},null,null,0]
[null,null,"PLACA DE GESSO PARA FORRO, DE  *60 X 60* CM E ESPESSURA DE 12 MM (30 MM NAS BORDAS) SEM COLOCACAO","M2",1.0293000000000001,13.195499999999999,{"$f":"IF(ISNUMBER(F3948),E3948*F3948,\"\")","v":13.582128150000001},null,null,0]
[null,null,"SISAL EM FIBRA","KG",7.7999999999999996E-3,11.875,{"$f":"IF(ISNUMBER(F3949),E3949*F3949,\"\")","v":9.2624999999999999E-2},null,null,0]
[null,null,"PARAFUSO ZINCADO, AUTOBROCANTE, FLANGEADO, 4,2 MM X 19 MM","CENTO",3.0800000000000001E-2,20.985499999999998,{"$f":"IF(ISNUMBER(F3950),E3950*F3950,\"\")","v":0.64635339999999997},null,null,0]
[null,null,"GESSEIRO COM ENCARGOS COMPLEMENTARES","H",0.7974,19.38,{"$f":"IF(ISNUMBER(F3951),E3951*F3951,\"\")","v":15.453612},null,null,0]
[null,null,"SERVENTE COM ENCARGOS COMPLEMENTARES","H",0.3987,14.554,{"$f":"IF(ISNUMBER(F3952),E3952*F3952,\"\")","v":5.8026797999999999},null,null,0]
[null,null,null,null,null,"",{"$f":"IF(ISNUMBER(F3953),E3953*F3953,\"\")","v":""},null,null,0]
["SF-01120",{"$f":"INDEX(Orçamentária!A:B,MATCH(Composições!A3954,Orçamentária!A:A,0),2)","v":"Textura acrílica - Linha Administrativa"},null,{"$f":"TRIM(INDEX(Orçamentária!C:C,MATCH(Composições!A3954,Orçamentária!A:A,0),1))","v":"m2"},null,"",{"$f":"IF(ISNUMBER(F3954),E3954*F3954,\"\")","v":""},null,null,0]
[null,null,null,null,null,"",{"$f":"IF(ISNUMBER(F3955),E3955*F3955,\"\")","v":""},null,null,0]
[null,null,"MASSA PARA TEXTURA LISA DE BASE ACRILICA, USO INTERNO E EXTERNO","KG",1.1399999999999999,6.1084999999999994,{"$f":"IF(ISNUMBER(F3956),E3956*F3956,\"\")","v":6.9636899999999988},{"$f":"SUM(G3956:G3958)","v":11.825675999999998},null,0]
[null,null,"PINTOR COM ENCARGOS COMPLEMENTARES","H",0.188,20.52,{"$f":"IF(ISNUMBER(F3957),E3957*F3957,\"\")","v":3.8577599999999999},null,null,0]
[null,null,"SERVENTE COM ENCARGOS COMPLEMENTARES","H",6.9000000000000006E-2,14.554,{"$f":"IF(ISNUMBER(F3958),E3958*F3958,\"\")","v":1.0042260000000001},null,null,0]
[null,null,null,null,null,"",{"$f":"IF(ISNUMBER(F3959),E3959*F3959,\"\")","v":""},null,null,0]
["SF-01121",{"$f":"INDEX(Orçamentária!A:B,MATCH(Composições!A3960,Orçamentária!A:A,0),2)","v":"Pintura com tinta látex acrílica Premium - cores especiais (sistema tintométrico)"},null,{"$f":"TRIM(INDEX(Orçamentária!C:C,MATCH(Composições!A3960,Orçamentária!A:A,0),1))","v":"m2"},null,"",{"$f":"IF(ISNUMBER(F3960),E3960*F3960,\"\")","v":""},null,null,0]
[null,null,null,null,null,"",{"$f":"IF(ISNUMBER(F3961),E3961*F3961,\"\")","v":""},null,null,0]
[null,null,"TINTA ACRILICA PREMIUM, COR BRANCO FOSCO","L",{"$f":"ROUND(0.33*1.15,4)","v":0.3795},19.835999999999999,{"$f":"IF(ISNUMBER(F3962),E3962*F3962,\"\")","v":7.5277619999999992},{"$f":"SUM(G3962:G3964)","v":12.369228},null,0]
[null,null,"PINTOR COM ENCARGOS COMPLEMENTARES","H",0.187,20.52,{"$f":"IF(ISNUMBER(F3963),E3963*F3963,\"\")","v":3.83724},null,null,0]
[null,null,"SERVENTE COM ENCARGOS COMPLEMENTARES","H",6.9000000000000006E-2,14.554,{"$f":"IF(ISNUMBER(F3964),E3964*F3964,\"\")","v":1.0042260000000001},null,null,0]
[null,null,null,null,null,"",{"$f":"IF(ISNUMBER(F3965),E3965*F3965,\"\")","v":""},null,null,0]
[null,null,"Obs.: Acréscimo de 15% no coeficiente da tinta para suprir a diferença de preço da tinta branca para as tintas de cores especiais.",null,null,"",{"$f":"IF(ISNUMBER(F3966),E3966*F3966,\"\")","v":""},null,null,0]
[null,null,null,null,null,"",{"$f":"IF(ISNUMBER(F3967),E3967*F3967,\"\")","v":""},null,null,0]
["SF-01123",{"$f":"INDEX(Orçamentária!A:B,MATCH(Composições!A3968,Orçamentária!A:A,0),2)","v":"Pintura com tinta acrílica (pisos)"},null,{"$f":"TRIM(INDEX(Orçamentária!C:C,MATCH(Composições!A3968,Orçamentária!A:A,0),1))","v":"m2"},null,"",{"$f":"IF(ISNUMBER(F3968),E3968*F3968,\"\")","v":""},null,null,0]
[null,null,null,null,null,"",{"$f":"IF(ISNUMBER(F3969),E3969*F3969,\"\")","v":""},null,null,0]
[null,null,"TINTA ACRILICA PREMIUM PARA PISO","L",0.17,13.233499999999999,{"$f":"IF(ISNUMBER(F3970),E3970*F3970,\"\")","v":2.249695},{"$f":"SUM(G3970:G3972)","v":13.070195},null,0]
[null,null,"PINTOR COM ENCARGOS COMPLEMENTARES","H",0.35,20.52,{"$f":"IF(ISNUMBER(F3971),E3971*F3971,\"\")","v":7.1819999999999995},null,null,0]
[null,null,"SERVENTE COM ENCARGOS COMPLEMENTARES","H",0.25,14.554,{"$f":"IF(ISNUMBER(F3972),E3972*F3972,\"\")","v":3.6385000000000001},null,null,0]
[null,null,null,null,null,"",{"$f":"IF(ISNUMBER(F3973),E3973*F3973,\"\")","v":""},null,null,0]
["SF-01124",{"$f":"INDEX(Orçamentária!A:B,MATCH(Composições!A3974,Orçamentária!A:A,0),2)","v":"Pintura com tinta epóxi de alto desempenho (pisos)"},null,{"$f":"TRIM(INDEX(Orçamentária!C:C,MATCH(Composições!A3974,Orçamentária!A:A,0),1))","v":"m2"},null,"",{"$f":"IF(ISNUMBER(F3974),E3974*F3974,\"\")","v":""},null,null,0]
[null,null,null,null,null,"",{"$f":"IF(ISNUMBER(F3975),E3975*F3975,\"\")","v":""},null,null,0]
[null,null,"TINTA EPOXI PREMIUM, BRANCA","L",0.52559999999999996,61.635999999999996,{"$f":"IF(ISNUMBER(F3976),E3976*F3976,\"\")","v":32.395881599999996},{"$f":"SUM(G3976:G3979)","v":55.384422399999991},null,0]
[null,null,"PEDREIRO COM ENCARGOS COMPLEMENTARES","H",0.5,19.474999999999998,{"$f":"IF(ISNUMBER(F3977),E3977*F3977,\"\")","v":9.7374999999999989},null,null,0]
[null,null,"SERVENTE COM ENCARGOS COMPLEMENTARES","H",0.5,14.554,{"$f":"IF(ISNUMBER(F3978),E3978*F3978,\"\")","v":7.2770000000000001},null,null,0]
[null,null,"PRIMER EPOXI","GL",3.9199999999999999E-2,152.39899999999997,{"$f":"IF(ISNUMBER(F3979),E3979*F3979,\"\")","v":5.9740407999999992},null,null,0]
[null,null,null,null,null,"",{"$f":"IF(ISNUMBER(F3980),E3980*F3980,\"\")","v":""},null,null,0]
["SF-01125",{"$f":"INDEX(Orçamentária!A:B,MATCH(Composições!A3981,Orçamentária!A:A,0),2)","v":"Verniz de poliuretano sobre pintura epóxi de alto desempenho"},null,{"$f":"TRIM(INDEX(Orçamentária!C:C,MATCH(Composições!A3981,Orçamentária!A:A,0),1))","v":"m2"},null,"",{"$f":"IF(ISNUMBER(F3981),E3981*F3981,\"\")","v":""},null,null,0]
[null,null,null,null,null,"",{"$f":"IF(ISNUMBER(F3982),E3982*F3982,\"\")","v":""},null,null,0]
[null,null,"LIXA EM FOLHA PARA PAREDE OU MADEIRA, NUMERO 120 (COR VERMELHA)","UN",0.4,0.64600000000000002,{"$f":"IF(ISNUMBER(F3983),E3983*F3983,\"\")","v":0.25840000000000002},{"$f":"SUM(G3983:G3987)","v":17.522579},null,0]
[null,null,"SOLVENTE DILUENTE A BASE DE AGUARRAS","L",3.3000000000000002E-2,10.773,{"$f":"IF(ISNUMBER(F3984),E3984*F3984,\"\")","v":0.35550900000000002},null,null,0]
[null,null,"VERNIZ POLIURETANO BRILHANTE PARA MADEIRA, COM FILTRO SOLAR, USO INTERNO E EXTERNO","L",0.22,27.673499999999997,{"$f":"IF(ISNUMBER(F3985),E3985*F3985,\"\")","v":6.088169999999999},null,null,0]
[null,null,"PINTOR COM ENCARGOS COMPLEMENTARES","H",0.35,20.52,{"$f":"IF(ISNUMBER(F3986),E3986*F3986,\"\")","v":7.1819999999999995},null,null,0]
[null,null,"SERVENTE COM ENCARGOS COMPLEMENTARES","H",0.25,14.554,{"$f":"IF(ISNUMBER(F3987),E3987*F3987,\"\")","v":3.6385000000000001},null,null,0]
[null,null,null,null,null,"",{"$f":"IF(ISNUMBER(F3988),E3988*F3988,\"\")","v":""},null,null,0]
["SF-01126",{"$f":"INDEX(Orçamentária!A:B,MATCH(Composições!A3989,Orçamentária!A:A,0),2)","v":"Tratamento antiderrapante em verniz de poliuretano sobre pintura epóxi"},null,{"$f":"TRIM(INDEX(Orçamentária!C:C,MATCH(Composições!A3989,Orçamentária!A:A,0),1))","v":"m2"},null,"",{"$f":"IF(ISNUMBER(F3989),E3989*F3989,\"\")","v":""},null,null,0]
[null,null,null,null,null,"",{"$f":"IF(ISNUMBER(F3990),E3990*F3990,\"\")","v":""},null,null,0]
[null,null,"Carga inerte para tratamento antiderrapante em piso (ref.: Sikadur 512 ou 515)","KG",2,"",{"$f":"IF(ISNUMBER(F3991),E3991*F3991,\"\")","v":""},{"$f":"SUM(G3991:G3992)","v":1.0042260000000001},null,0]
[null,null,"SERVENTE COM ENCARGOS COMPLEMENTARES","H",6.9000000000000006E-2,14.554,{"$f":"IF(ISNUMBER(F3992),E3992*F3992,\"\")","v":1.0042260000000001},null,null,0]
[null,null,null,null,null,"",{"$f":"IF(ISNUMBER(F3993),E3993*F3993,\"\")","v":""},null,null,0]
["SF-01127",{"$f":"INDEX(Orçamentária!A:B,MATCH(Composições!A3994,Orçamentária!A:A,0),2)","v":"Pintura para superfícies galvanizadas"},null,{"$f":"TRIM(INDEX(Orçamentária!C:C,MATCH(Composições!A3994,Orçamentária!A:A,0),1))","v":"m2"},null,"",{"$f":"IF(ISNUMBER(F3994),E3994*F3994,\"\")","v":""},null,null,0]
[null,null,null,null,null,"",{"$f":"IF(ISNUMBER(F3995),E3995*F3995,\"\")","v":""},null,null,0]
[null,null,"SOLVENTE DILUENTE A BASE DE AGUARRAS","L",6.1899999999999997E-2,10.773,{"$f":"IF(ISNUMBER(F3996),E3996*F3996,\"\")","v":0.66684869999999996},{"$f":"SUM(G3996:G4002)","v":23.599633049999994},null,0]
[null,null,"PRIMER UNIVERSAL, FUNDO ANTICORROSIVO TIPO ZARCAO","18L",1.15E-2,432.71549999999996,{"$f":"IF(ISNUMBER(F3997),E3997*F3997,\"\")","v":4.9762282499999992},null,null,0]
[null,null,"PINTOR COM ENCARGOS COMPLEMENTARES","H",0.52659999999999996,20.52,{"$f":"IF(ISNUMBER(F3998),E3998*F3998,\"\")","v":10.805831999999999},null,null,0]
[null,null,"COMPRESSOR DE AR, VAZAO DE 10 PCM, RESERVATORIO 100 L, PRESSAO DE TRABALHO ENTRE 6,9 E 9,7 BAR  POTENCIA 2 HP, TENSAO 110/220 V \u0096 CHI DIURNO. AF_05/2017","CHI",0.37319999999999998,0.13300000000000001,{"$f":"IF(ISNUMBER(F3999),E3999*F3999,\"\")","v":4.9635600000000002E-2},null,null,0]
[null,null,"COMPRESSOR DE AR, VAZAO DE 10 PCM, RESERVATORIO 100 L, PRESSAO DE TRABALHO ENTRE 6,9 E 9,7 BAR, POTENCIA 2 HP, TENSAO 110/220 V - CHP DIURNO. AF_05/2017","CHP",0.15340000000000001,0.99749999999999994,{"$f":"IF(ISNUMBER(F4000),E4000*F4000,\"\")","v":0.1530165},null,null,0]
[null,null,"LIXA EM FOLHA PARA FERRO, NUMERO 150","UN",0.3,2.7359999999999998,{"$f":"IF(ISNUMBER(F4001),E4001*F4001,\"\")","v":0.82079999999999986},null,null,0]
[null,null,"PINTOR COM ENCARGOS COMPLEMENTARES","H",0.29859999999999998,20.52,{"$f":"IF(ISNUMBER(F4002),E4002*F4002,\"\")","v":6.1272719999999996},null,null,0]
[null,null,null,null,null,"",{"$f":"IF(ISNUMBER(F4003),E4003*F4003,\"\")","v":""},null,null,0]
["SF-01128",{"$f":"INDEX(Orçamentária!A:B,MATCH(Composições!A4004,Orçamentária!A:A,0),2)","v":"Selagem ou resselagem de juntas em pavimentação de concreto armado"},null,{"$f":"TRIM(INDEX(Orçamentária!C:C,MATCH(Composições!A4004,Orçamentária!A:A,0),1))","v":"m"},null,"",{"$f":"IF(ISNUMBER(F4004),E4004*F4004,\"\")","v":""},null,null,0]
[null,null,null,null,null,"",{"$f":"IF(ISNUMBER(F4005),E4005*F4005,\"\")","v":""},null,null,0]
[null,null,"SERVENTE COM ENCARGOS COMPLEMENTARES","h",{"$f":"ROUND(4/74.7,4)","v":5.3499999999999999E-2},14.554,{"$f":"IF(ISNUMBER(F4006),E4006*F4006,\"\")","v":0.77863899999999997},{"$f":"SUM(G4006:G4011)","v":6.8899006499999995},null,0]
[null,null,"Compressor de ar portátil de 71 PCM - 15 kW","CHP",{"$f":"ROUND(1/74.7,4)","v":1.34E-2},0,{"$f":"IF(ISNUMBER(F4007),E4007*F4007,\"\")","v":0},null,null,0]
[null,null,"Serra para corte de concreto e asfalto - 10 kW","CHP",{"$f":"ROUND(1/74.7,4)","v":1.34E-2},0,{"$f":"IF(ISNUMBER(F4008),E4008*F4008,\"\")","v":0},null,null,0]
[null,null,"Cordão de polietileno expandido","m",1,0,{"$f":"IF(ISNUMBER(F4009),E4009*F4009,\"\")","v":0},null,null,0]
[null,null,"Disco diamantado - D = 350 mm","UN",3.3E-3,0,{"$f":"IF(ISNUMBER(F4010),E4010*F4010,\"\")","v":0},null,null,0]
[null,null,"SELANTE A BASE DE ALCATRAO E POLIURETANO PARA JUNTAS HORIZONTAIS","kg",0.1181,51.746499999999997,{"$f":"IF(ISNUMBER(F4011),E4011*F4011,\"\")","v":6.1112616499999994},null,null,0]
[null,null,null,null,null,"",{"$f":"IF(ISNUMBER(F4012),E4012*F4012,\"\")","v":""},null,null,0]
["SF-01129",{"$f":"INDEX(Orçamentária!A:B,MATCH(Composições!A4013,Orçamentária!A:A,0),2)","v":"Pavimentação em elementos intertravados de concreto"},null,{"$f":"TRIM(INDEX(Orçamentária!C:C,MATCH(Composições!A4013,Orçamentária!A:A,0),1))","v":"m2"},null,"",{"$f":"IF(ISNUMBER(F4013),E4013*F4013,\"\")","v":""},null,null,0]
[null,null,null,null,null,"",{"$f":"IF(ISNUMBER(F4014),E4014*F4014,\"\")","v":""},null,null,0]
[null,null,"AREIA MEDIA - POSTO JAZIDA/FORNECEDOR (RETIRADO NA JAZIDA, SEM TRANSPORTE)","M3",5.6800000000000003E-2,93.8125,{"$f":"IF(ISNUMBER(F4015),E4015*F4015,\"\")","v":5.3285499999999999},{"$f":"SUM(G4015:G4025)","v":48.258970709580005},null,0]
[null,null,"PO DE PEDRA (POSTO PEDREIRA/FORNECEDOR, SEM FRETE)","M3",3.5999999999999999E-3,72.551500000000004,{"$f":"IF(ISNUMBER(F4016),E4016*F4016,\"\")","v":0.26118540000000001},null,null,0]
[null,null,"BLOQUETE/PISO DE CONCRETO - MODELO BLOCO PISOGRAMA/CONCREGRAMA 2 FUROS, DIMENSOES APROX. DE 35 CM X 15 CM E ESPESSURA DE 7 CM (+/- 1 CM), COR NATURAL","M2",1.0042,37.078499999999998,{"$f":"IF(ISNUMBER(F4017),E4017*F4017,\"\")","v":37.2342297},null,null,0]
[null,null,"CALCETEIRO COM ENCARGOS COMPLEMENTARES","H",9.7000000000000003E-2,18.344499999999996,{"$f":"IF(ISNUMBER(F4018),E4018*F4018,\"\")","v":1.7794164999999997},null,null,0]
[null,null,"SERVENTE COM ENCARGOS COMPLEMENTARES","H",9.7000000000000003E-2,14.554,{"$f":"IF(ISNUMBER(F4019),E4019*F4019,\"\")","v":1.4117380000000002},null,null,0]
[null,null,"PLACA VIBRATÓRIA REVERSÍVEL COM MOTOR 4 TEMPOS A GASOLINA, FORÇA CENTRÍFUGA DE 25 KN (2500 KGF), POTÊNCIA 5,5 CV - CHP DIURNO. AF_08/2015","CHP",4.1000000000000003E-3,7.0774999999999997,{"$f":"IF(ISNUMBER(F4020),E4020*F4020,\"\")","v":2.9017750000000002E-2},null,null,0]
[null,null,"PLACA VIBRATÓRIA REVERSÍVEL COM MOTOR 4 TEMPOS A GASOLINA, FORÇA CENTRÍFUGA DE 25 KN (2500 KGF), POTÊNCIA 5,5 CV - CHI DIURNO. AF_08/2015","CHI",4.4400000000000002E-2,0.71249999999999991,{"$f":"IF(ISNUMBER(F4021),E4021*F4021,\"\")","v":3.1634999999999996E-2},null,null,0]
[null,null,"CORTADORA DE PISO COM MOTOR 4 TEMPOS A GASOLINA, POTÊNCIA DE 13 HP, COM DISCO DE CORTE DIAMANTADO SEGMENTADO PARA CONCRETO, DIÂMETRO DE 350 MM, FURO DE 1\" (14 X 1\") - CHP DIURNO. AF_08/2015","CHP",3.7000000000000002E-3,14.914999999999999,{"$f":"IF(ISNUMBER(F4022),E4022*F4022,\"\")","v":5.5185499999999998E-2},null,null,0]
[null,null,"CORTADORA DE PISO COM MOTOR 4 TEMPOS A GASOLINA, POTÊNCIA DE 13 HP, COM DISCO DE CORTE DIAMANTADO SEGMENTADO PARA CONCRETO, DIÂMETRO DE 350 MM, FURO DE 1\" (14 X 1\") - CHI DIURNO. AF_08/2015","CHI",4.48E-2,0.73149999999999993,{"$f":"IF(ISNUMBER(F4023),E4023*F4023,\"\")","v":3.2771199999999993E-2},null,null,0]
[null,null,"CARGA, MANOBRA E DESCARGA DE SOLOS E MATERIAIS GRANULARES EM CAMINHÃO BASCULANTE 6 M³ - CARGA COM PÁ CARREGADEIRA (CAÇAMBA DE 1,7 A 2,8 M³ / 128 HP) E DESCARGA LIVRE (UNIDADE: M3). AF_07/2020","m3",{"$f":"1*(E4015+E4016)","v":6.0400000000000002E-2},4.6197654500000001,{"$f":"IF(ISNUMBER(F4024),E4024*F4024,\"\")","v":0.27903383318000002},null,null,0]
[null,null,"TRANSPORTE COM CAMINHÃO BASCULANTE DE 6 M3, EM VIA URBANA PAVIMENTADA, DMT ATÉ 30 KM (UNIDADE: M3xKM). AF_01/2018","M3xKM",{"$f":"20*(E4015+E4016)","v":1.208},1.5034832999999999,{"$f":"IF(ISNUMBER(F4025),E4025*F4025,\"\")","v":1.8162078263999997},null,null,0]
[null,null,null,null,null,"",{"$f":"IF(ISNUMBER(F4026),E4026*F4026,\"\")","v":""},null,null,0]
[null,null,"Obs: considerando fornecedor de areia e brita a 20 km do Senado Federal",null,null,"",{"$f":"IF(ISNUMBER(F4027),E4027*F4027,\"\")","v":""},null,null,0]
[null,null,null,null,null,"",{"$f":"IF(ISNUMBER(F4028),E4028*F4028,\"\")","v":""},null,null,0]
["SF-01130",{"$f":"INDEX(Orçamentária!A:B,MATCH(Composições!A4029,Orçamentária!A:A,0),2)","v":"Pavimentação com Asfalto Pré-Misturado a Frio (PMF)"},null,{"$f":"TRIM(INDEX(Orçamentária!C:C,MATCH(Composições!A4029,Orçamentária!A:A,0),1))","v":"m3"},null,"",{"$f":"IF(ISNUMBER(F4029),E4029*F4029,\"\")","v":""},null,null,0]
[null,null,null,null,null,"",{"$f":"IF(ISNUMBER(F4030),E4030*F4030,\"\")","v":""},null,null,0]
[null,null,"SERVENTE COM ENCARGOS COMPLEMENTARES","H",0.4,14.554,{"$f":"IF(ISNUMBER(F4031),E4031*F4031,\"\")","v":5.8216000000000001},{"$f":"SUM(G4031:G4052)","v":569.68395403800002},null,0]
[null,null,"ROLO COMPACTADOR DE PNEUS, ESTATICO, PRESSAO VARIAVEL, POTENCIA 110 HP, PESO SEM/COM LASTRO 10,8/27 T, LARGURA DE ROLAGEM 2,30 M - CHI DIURNO. AF_06/2017","CHI",6.0000000000000001E-3,43.975499999999997,{"$f":"IF(ISNUMBER(F4032),E4032*F4032,\"\")","v":0.263853},null,null,0]
[null,null,"ROLO COMPACTADOR DE PNEUS, ESTATICO, PRESSAO VARIAVEL, POTENCIA 110 HP, PESO SEM/COM LASTRO 10,8/27 T, LARGURA DE ROLAGEM 2,30 M - CHP DIURNO. AF_06/2017","CHP",1.0699999999999999E-2,109.706,{"$f":"IF(ISNUMBER(F4033),E4033*F4033,\"\")","v":1.1738542000000001},null,null,0]
[null,null,"ROLO COMPACTADOR VIBRATORIO TANDEM, ACO LISO, POTENCIA 125 HP, PESO SEM/COM LASTRO 10,20/11,65 T, LARGURA DE TRABALHO 1,73 M - CHP DIURNO. AF_11/2016","CHP",6.1999999999999998E-3,117.43899999999999,{"$f":"IF(ISNUMBER(F4034),E4034*F4034,\"\")","v":0.72812179999999993},null,null,0]
[null,null,"ROLO COMPACTADOR VIBRATORIO TANDEM, ACO LISO, POTENCIA 125 HP, PESO SEM/COM LASTRO 10,20/11,65 T, LARGURA DE TRABALHO 1,73 M - CHI DIURNO. AF_11/2016","CHI",1.0500000000000001E-2,41.163499999999999,{"$f":"IF(ISNUMBER(F4035),E4035*F4035,\"\")","v":0.43221675000000004},null,null,0]
[null,null,"TRATOR DE PNEUS, POTÊNCIA 85 CV, TRAÇÃO 4X4, PESO COM LASTRO DE 4.675 KG - CHI DIURNO. AF_06/2014","CHI",1.2200000000000001E-2,23.740499999999997,{"$f":"IF(ISNUMBER(F4036),E4036*F4036,\"\")","v":0.28963410000000001},null,null,0]
[null,null,"TRATOR DE PNEUS, POTÊNCIA 85 CV, TRAÇÃO 4X4, PESO COM LASTRO DE 4.675 KG - CHP DIURNO. AF_06/2014","CHP",4.4999999999999997E-3,96.158999999999992,{"$f":"IF(ISNUMBER(F4037),E4037*F4037,\"\")","v":0.43271549999999992},null,null,0]
[null,null,"VASSOURA MECÂNICA REBOCÁVEL COM ESCOVA CILÍNDRICA, LARGURA ÚTIL DE VARRIMENTO DE 2,44 M - CHI DIURNO. AF_06/2014","CHI",1.2200000000000001E-2,2.1849999999999996,{"$f":"IF(ISNUMBER(F4038),E4038*F4038,\"\")","v":2.6656999999999997E-2},null,null,0]
[null,null,"VASSOURA MECÂNICA REBOCÁVEL COM ESCOVA CILÍNDRICA, LARGURA ÚTIL DE VARRIMENTO DE 2,44 M - CHP DIURNO. AF_06/2014","CHP",4.4999999999999997E-3,4.5979999999999999,{"$f":"IF(ISNUMBER(F4039),E4039*F4039,\"\")","v":2.0690999999999998E-2},null,null,0]
[null,null,"VIBROACABADORA DE ASFALTO SOBRE ESTEIRAS, LARGURA DE PAVIMENTAÇÃO 1,90 M A 5,30 M, POTÊNCIA 105 HP CAPACIDADE 450 T/H - CHP DIURNO. AF_11/2014","CHP",1.67E-2,236.36,{"$f":"IF(ISNUMBER(F4040),E4040*F4040,\"\")","v":3.9472119999999999},null,null,0]
[null,null,"CAMINHÃO BASCULANTE 10 M3, TRUCADO, POTÊNCIA 230 CV, INCLUSIVE CAÇAMBA METÁLICA, COM DISTRIBUIDOR DE AGREGADOS ACOPLADO - CHP DIURNO. AF_02/2017","CHP",2.7199999999999998E-2,141.08449999999999,{"$f":"IF(ISNUMBER(F4041),E4041*F4041,\"\")","v":3.8374983999999994},null,null,0]
[null,null,"SERVENTE COM ENCARGOS COMPLEMENTARES","H",0.3,14.554,{"$f":"IF(ISNUMBER(F4042),E4042*F4042,\"\")","v":4.3662000000000001},null,null,0]
[null,null,"AREIA GROSSA - POSTO JAZIDA/FORNECEDOR (RETIRADO NA JAZIDA, SEM TRANSPORTE)","m3",0.18,118.7025,{"$f":"IF(ISNUMBER(F4043),E4043*F4043,\"\")","v":21.36645},null,null,0]
[null,null,"PEDRA BRITADA N. 0, OU PEDRISCO (4,8 A 9,5 MM) POSTO PEDREIRA/FORNECEDOR, SEM FRETE","m3",1.26,97.042500000000004,{"$f":"IF(ISNUMBER(F4044),E4044*F4044,\"\")","v":122.27355},null,null,0]
[null,null,"EMULSAO ASFALTICA CATIONICA RL-1C PARA USO EM PAVIMENTACAO ASFALTICA (COLETADO CAIXA NA ANP ACRESCIDO DE ICMS)","T",0.14000000000000001,2347.9915000000001,{"$f":"IF(ISNUMBER(F4045),E4045*F4045,\"\")","v":328.71881000000002},null,null,0]
[null,null,"GRUPO GERADOR ESTACIONÁRIO, POTÊNCIA 150 KVA, MOTOR A DIESEL- CHP DIURNO. AF_03/2016","CHP",0.05,93.707999999999998,{"$f":"IF(ISNUMBER(F4046),E4046*F4046,\"\")","v":4.6854000000000005},null,null,0]
[null,null,"PÁ CARREGADEIRA SOBRE RODAS, POTÊNCIA 197 HP, CAPACIDADE DA CAÇAMBA 2,5 A 3,5 M3, PESO OPERACIONAL 18338 KG - CHP DIURNO. AF_06/2014","CHP",2.1000000000000001E-2,119.02549999999999,{"$f":"IF(ISNUMBER(F4047),E4047*F4047,\"\")","v":2.4995354999999999},null,null,0]
[null,null,"PÁ CARREGADEIRA SOBRE RODAS, POTÊNCIA 197 HP, CAPACIDADE DA CAÇAMBA 2,5 A 3,5 M3, PESO OPERACIONAL 18338 KG - CHI DIURNO. AF_06/2014","CHI",2.9000000000000001E-2,47.471499999999999,{"$f":"IF(ISNUMBER(F4048),E4048*F4048,\"\")","v":1.3766735000000001},null,null,0]
[null,null,"USINA DE ASFALTO À FRIO, CAPACIDADE DE 40 A 60 TON/HORA, ELÉTRICA POTÊNCIA 30 CV - CHP DIURNO. AF_03/2016","CHP",0.05,100.75699999999999,{"$f":"IF(ISNUMBER(F4049),E4049*F4049,\"\")","v":5.0378499999999997},null,null,0]
[null,null,"TANQUE DE ASFALTO ESTACIONÁRIO COM SERPENTINA, CAPACIDADE 30.000 L - CHP DIURNO. AF_06/2014","CHP",0.1,124.3265,{"$f":"IF(ISNUMBER(F4050),E4050*F4050,\"\")","v":12.432650000000001},null,null,0]
[null,null,"CARGA, MANOBRA E DESCARGA DE SOLOS E MATERIAIS GRANULARES EM CAMINHÃO BASCULANTE 6 M³ - CARGA COM PÁ CARREGADEIRA (CAÇAMBA DE 1,7 A 2,8 M³ / 128 HP) E DESCARGA LIVRE (UNIDADE: M3). AF_07/2020","m3",{"$f":"1*(E4043+E4044)","v":1.44},4.6197654500000001,{"$f":"IF(ISNUMBER(F4051),E4051*F4051,\"\")","v":6.652462248},null,null,0]
[null,null,"TRANSPORTE COM CAMINHÃO BASCULANTE DE 6 M3, EM VIA URBANA PAVIMENTADA, DMT ATÉ 30 KM (UNIDADE: M3xKM). AF_01/2018","M3xKM",{"$f":"20*(E4044+E4043)","v":28.799999999999997},1.5034832999999999,{"$f":"IF(ISNUMBER(F4052),E4052*F4052,\"\")","v":43.300319039999991},null,null,0]
[null,null,null,null,null,"",{"$f":"IF(ISNUMBER(F4053),E4053*F4053,\"\")","v":""},null,null,0]
[null,null,"Obs: considerando fornecedor de areia e brita a 20 km do Senado Federal",null,null,"",{"$f":"IF(ISNUMBER(F4054),E4054*F4054,\"\")","v":""},null,null,0]
[null,null,null,null,null,"",{"$f":"IF(ISNUMBER(F4055),E4055*F4055,\"\")","v":""},null,null,0]
["SF-01131",{"$f":"INDEX(Orçamentária!A:B,MATCH(Composições!A4056,Orçamentária!A:A,0),2)","v":"Pavimentação asfáltica com CBUQ para aplicação a frio (remendo)"},null,{"$f":"TRIM(INDEX(Orçamentária!C:C,MATCH(Composições!A4056,Orçamentária!A:A,0),1))","v":"m3"},null,"",{"$f":"IF(ISNUMBER(F4056),E4056*F4056,\"\")","v":""},null,null,0]
[null,null,null,null,null,"",{"$f":"IF(ISNUMBER(F4057),E4057*F4057,\"\")","v":""},null,null,0]
[null,null,"SERVENTE COM ENCARGOS COMPLEMENTARES","H",{"$f":"6/0.5","v":12},14.554,{"$f":"IF(ISNUMBER(F4058),E4058*F4058,\"\")","v":174.648},{"$f":"SUM(G4058:G4061)","v":174.648},null,0]
[null,null,"Compactador manual de placa vibratória - 3 kW - CHP","CHP",{"$f":"0.2/0.5","v":0.4},0,{"$f":"IF(ISNUMBER(F4059),E4059*F4059,\"\")","v":0},null,null,0]
[null,null,"Compactador manual de placa vibratória - 3 kW - CHI","CHI",{"$f":"0.8/0.5","v":1.6},0,{"$f":"IF(ISNUMBER(F4060),E4060*F4060,\"\")","v":0},null,null,0]
[null,null,"Asfalto a frio ensacado","kg",2500,"",{"$f":"IF(ISNUMBER(F4061),E4061*F4061,\"\")","v":""},null,null,0]
[null,null,null,null,null,"",{"$f":"IF(ISNUMBER(F4062),E4062*F4062,\"\")","v":""},null,null,0]
["SF-01132",{"$f":"INDEX(Orçamentária!A:B,MATCH(Composições!A4063,Orçamentária!A:A,0),2)","v":"Pintura para sinalização e demarcação viária horizontal"},null,{"$f":"TRIM(INDEX(Orçamentária!C:C,MATCH(Composições!A4063,Orçamentária!A:A,0),1))","v":"m2"},null,"",{"$f":"IF(ISNUMBER(F4063),E4063*F4063,\"\")","v":""},null,null,0]
[null,null,null,null,null,"",{"$f":"IF(ISNUMBER(F4064),E4064*F4064,\"\")","v":""},null,null,0]
[null,null,"SOLVENTE DILUENTE A BASE DE AGUARRAS","L",0.13,10.773,{"$f":"IF(ISNUMBER(F4065),E4065*F4065,\"\")","v":1.40049},{"$f":"SUM(G4065:G4071)","v":14.440178599999999},null,0]
[null,null,"CAMINHÃO TOCO, PBT 16.000 KG, CARGA ÚTIL MÁX. 10.685 KG, DIST. ENTRE EIXOS 4,8 M, POTÊNCIA 189 CV, INCLUSIVE CARROCERIA FIXA ABERTA DE MADEIRA P/ TRANSPORTE GERAL DE CARGA SECA, DIMEN. APROX. 2,5 X 7,00 X 0,50 M - CHP DIURNO. AF_06/2014","CHP",3.3E-3,102.32449999999999,{"$f":"IF(ISNUMBER(F4066),E4066*F4066,\"\")","v":0.33767084999999997},null,null,0]
[null,null,"TINTA A BASE DE RESINA ACRILICA, PARA SINALIZACAO HORIZONTAL VIARIA (NBR 11862)","L",0.6,13.5185,{"$f":"IF(ISNUMBER(F4067),E4067*F4067,\"\")","v":8.1110999999999986},null,null,0]
[null,null,"TINTA ACRILICA PREMIUM PARA PISO","L",0.03,13.233499999999999,{"$f":"IF(ISNUMBER(F4068),E4068*F4068,\"\")","v":0.39700499999999994},null,null,0]
[null,null,"MICROESFERAS DE VIDRO PARA SINALIZACAO HORIZONTAL VIARIA, TIPO I-B (PREMIX) - NBR 16184","KG",0.4,8.5024999999999995,{"$f":"IF(ISNUMBER(F4069),E4069*F4069,\"\")","v":3.4009999999999998},null,null,0]
[null,null,"SERVENTE COM ENCARGOS COMPLEMENTARES","H",3.3300000000000003E-2,14.554,{"$f":"IF(ISNUMBER(F4070),E4070*F4070,\"\")","v":0.48464820000000003},null,null,0]
[null,null,"MÁQUINA DEMARCADORA DE FAIXA DE TRÁFEGO À FRIO, AUTOPROPELIDA, POTÊNCIA 38 HP - CHP DIURNO. AF_07/2016","CHP",3.3E-3,93.413499999999999,{"$f":"IF(ISNUMBER(F4071),E4071*F4071,\"\")","v":0.30826454999999997},null,null,0]
[null,null,null,null,null,"",{"$f":"IF(ISNUMBER(F4072),E4072*F4072,\"\")","v":""},null,null,0]
["SF-01133",{"$f":"INDEX(Orçamentária!A:B,MATCH(Composições!A4073,Orçamentária!A:A,0),2)","v":"Telha metálica trapezoidal galvanizada - GR-40"},null,{"$f":"TRIM(INDEX(Orçamentária!C:C,MATCH(Composições!A4073,Orçamentária!A:A,0),1))","v":"m2"},null,"",{"$f":"IF(ISNUMBER(F4073),E4073*F4073,\"\")","v":""},null,null,0]
[null,null,null,null,null,"",{"$f":"IF(ISNUMBER(F4074),E4074*F4074,\"\")","v":""},null,null,0]
[null,null,"TELHA TRAPEZOIDAL EM ACO ZINCADO, SEM PINTURA, ALTURA DE APROXIMADAMENTE 40 MM, ESPESSURA DE 0,50 MM E LARGURA UTIL DE 980 MM","M2",1.1659999999999999,37.43,{"$f":"IF(ISNUMBER(F4075),E4075*F4075,\"\")","v":43.643379999999993},{"$f":"SUM(G4075:G4080)","v":51.696172799999992},null,0]
[null,null,"HASTE RETA PARA GANCHO DE FERRO GALVANIZADO, COM ROSCA 1/4 \" X 30 CM PARA FIXACAO DE TELHA METALICA, INCLUI PORCA E ARRUELAS DE VEDACAO","CJ",4.1500000000000004,1.1399999999999999,{"$f":"IF(ISNUMBER(F4076),E4076*F4076,\"\")","v":4.7309999999999999},null,null,0]
[null,null,"SERVENTE COM ENCARGOS COMPLEMENTARES","H",9.7000000000000003E-2,14.554,{"$f":"IF(ISNUMBER(F4077),E4077*F4077,\"\")","v":1.4117380000000002},null,null,0]
[null,null,"TELHADISTA COM ENCARGOS COMPLEMENTARES","H",9.0999999999999998E-2,20.605499999999999,{"$f":"IF(ISNUMBER(F4078),E4078*F4078,\"\")","v":1.8751004999999998},null,null,0]
[null,null,"GUINCHO ELÉTRICO DE COLUNA, CAPACIDADE 400 KG, COM MOTO FREIO, MOTOR TRIFÁSICO DE 1,25 CV - CHP DIURNO. AF_03/2016","CHP",8.9999999999999998E-4,16.292499999999997,{"$f":"IF(ISNUMBER(F4079),E4079*F4079,\"\")","v":1.4663249999999997E-2},null,null,0]
[null,null,"GUINCHO ELÉTRICO DE COLUNA, CAPACIDADE 400 KG, COM MOTO FREIO, MOTOR TRIFÁSICO DE 1,25 CV - CHI DIURNO. AF_03/2016","CHI",1.2999999999999999E-3,15.608499999999999,{"$f":"IF(ISNUMBER(F4080),E4080*F4080,\"\")","v":2.0291049999999998E-2},null,null,0]
[null,null,null,null,null,"",{"$f":"IF(ISNUMBER(F4081),E4081*F4081,\"\")","v":""},null,null,0]
["SF-01134",{"$f":"INDEX(Orçamentária!A:B,MATCH(Composições!A4082,Orçamentária!A:A,0),2)","v":"Cumeeira para telha metálica trapezoidal galvanizada - GR-40"},null,{"$f":"TRIM(INDEX(Orçamentária!C:C,MATCH(Composições!A4082,Orçamentária!A:A,0),1))","v":"m"},null,"",{"$f":"IF(ISNUMBER(F4082),E4082*F4082,\"\")","v":""},null,null,0]
[null,null,null,null,null,"",{"$f":"IF(ISNUMBER(F4083),E4083*F4083,\"\")","v":""},null,null,0]
[null,null,"HASTE RETA PARA GANCHO DE FERRO GALVANIZADO, COM ROSCA 1/4 \" X 30 CM PARA FIXACAO DE TELHA METALICA, INCLUI PORCA E ARRUELAS DE VEDACAO","CJ",4.1500000000000004,1.1399999999999999,{"$f":"IF(ISNUMBER(F4084),E4084*F4084,\"\")","v":4.7309999999999999},{"$f":"SUM(G4084:G4089)","v":7.0996805999999992},null,0]
[null,null,"Cumeeira metálica galvanizada GR 40 com espessura de 0,43 mm.","m",1.0289999999999999,"",{"$f":"IF(ISNUMBER(F4085),E4085*F4085,\"\")","v":""},null,null,0]
[null,null,"SERVENTE COM ENCARGOS COMPLEMENTARES","H",7.2999999999999995E-2,14.554,{"$f":"IF(ISNUMBER(F4086),E4086*F4086,\"\")","v":1.0624419999999999},null,null,0]
[null,null,"TELHADISTA COM ENCARGOS COMPLEMENTARES","H",0.06,20.605499999999999,{"$f":"IF(ISNUMBER(F4087),E4087*F4087,\"\")","v":1.2363299999999999},null,null,0]
[null,null,"GUINCHO ELÉTRICO DE COLUNA, CAPACIDADE 400 KG, COM MOTO FREIO, MOTOR TRIFÁSICO DE 1,25 CV - CHP DIURNO. AF_03/2016","CHP",1.8E-3,16.292499999999997,{"$f":"IF(ISNUMBER(F4088),E4088*F4088,\"\")","v":2.9326499999999995E-2},null,null,0]
[null,null,"GUINCHO ELÉTRICO DE COLUNA, CAPACIDADE 400 KG, COM MOTO FREIO, MOTOR TRIFÁSICO DE 1,25 CV - CHI DIURNO. AF_03/2016","CHI",2.5999999999999999E-3,15.608499999999999,{"$f":"IF(ISNUMBER(F4089),E4089*F4089,\"\")","v":4.0582099999999996E-2},null,null,0]
[null,null,null,null,null,"",{"$f":"IF(ISNUMBER(F4090),E4090*F4090,\"\")","v":""},null,null,0]
["SF-01135",{"$f":"INDEX(Orçamentária!A:B,MATCH(Composições!A4091,Orçamentária!A:A,0),2)","v":"Telha metálica trapezoidal galvanizada - GR-25"},null,{"$f":"TRIM(INDEX(Orçamentária!C:C,MATCH(Composições!A4091,Orçamentária!A:A,0),1))","v":"m2"},null,"",{"$f":"IF(ISNUMBER(F4091),E4091*F4091,\"\")","v":""},null,null,0]
[null,null,null,null,null,"",{"$f":"IF(ISNUMBER(F4092),E4092*F4092,\"\")","v":""},null,null,0]
[null,null,"Telha metálica trapezoidal galvanizada GR 25 com espessura de 0,43 mm, com largura de 1020 mm e comprimento de 5 metros.","M2",1.1659999999999999,"",{"$f":"IF(ISNUMBER(F4093),E4093*F4093,\"\")","v":""},{"$f":"SUM(G4093:G4098)","v":8.0527928000000006},null,0]
[null,null,"HASTE RETA PARA GANCHO DE FERRO GALVANIZADO, COM ROSCA 1/4 \" X 30 CM PARA FIXACAO DE TELHA METALICA, INCLUI PORCA E ARRUELAS DE VEDACAO","CJ",4.1500000000000004,1.1399999999999999,{"$f":"IF(ISNUMBER(F4094),E4094*F4094,\"\")","v":4.7309999999999999},null,null,0]
[null,null,"SERVENTE COM ENCARGOS COMPLEMENTARES","H",9.7000000000000003E-2,14.554,{"$f":"IF(ISNUMBER(F4095),E4095*F4095,\"\")","v":1.4117380000000002},null,null,0]
[null,null,"TELHADISTA COM ENCARGOS COMPLEMENTARES","H",9.0999999999999998E-2,20.605499999999999,{"$f":"IF(ISNUMBER(F4096),E4096*F4096,\"\")","v":1.8751004999999998},null,null,0]
[null,null,"GUINCHO ELÉTRICO DE COLUNA, CAPACIDADE 400 KG, COM MOTO FREIO, MOTOR TRIFÁSICO DE 1,25 CV - CHP DIURNO. AF_03/2016","CHP",8.9999999999999998E-4,16.292499999999997,{"$f":"IF(ISNUMBER(F4097),E4097*F4097,\"\")","v":1.4663249999999997E-2},null,null,0]
[null,null,"GUINCHO ELÉTRICO DE COLUNA, CAPACIDADE 400 KG, COM MOTO FREIO, MOTOR TRIFÁSICO DE 1,25 CV - CHI DIURNO. AF_03/2016","CHI",1.2999999999999999E-3,15.608499999999999,{"$f":"IF(ISNUMBER(F4098),E4098*F4098,\"\")","v":2.0291049999999998E-2},null,null,0]
[null,null,null,null,null,"",{"$f":"IF(ISNUMBER(F4099),E4099*F4099,\"\")","v":""},null,null,0]
["SF-01136",{"$f":"INDEX(Orçamentária!A:B,MATCH(Composições!A4100,Orçamentária!A:A,0),2)","v":"Cumeeira para telha metálica trapezoidal galvanizada - GR-25"},null,{"$f":"TRIM(INDEX(Orçamentária!C:C,MATCH(Composições!A4100,Orçamentária!A:A,0),1))","v":"m"},null,"",{"$f":"IF(ISNUMBER(F4100),E4100*F4100,\"\")","v":""},null,null,0]
[null,null,null,null,null,"",{"$f":"IF(ISNUMBER(F4101),E4101*F4101,\"\")","v":""},null,null,0]
[null,null,"HASTE RETA PARA GANCHO DE FERRO GALVANIZADO, COM ROSCA 1/4 \" X 30 CM PARA FIXACAO DE TELHA METALICA, INCLUI PORCA E ARRUELAS DE VEDACAO","CJ",4.1500000000000004,1.1399999999999999,{"$f":"IF(ISNUMBER(F4102),E4102*F4102,\"\")","v":4.7309999999999999},{"$f":"SUM(G4102:G4107)","v":7.0996805999999992},null,0]
[null,null,"Cumeeira metálica galvanizada GR 25 com espessura de 0,43 mm.","m",1.0289999999999999,"",{"$f":"IF(ISNUMBER(F4103),E4103*F4103,\"\")","v":""},null,null,0]
[null,null,"SERVENTE COM ENCARGOS COMPLEMENTARES","H",7.2999999999999995E-2,14.554,{"$f":"IF(ISNUMBER(F4104),E4104*F4104,\"\")","v":1.0624419999999999},null,null,0]
[null,null,"TELHADISTA COM ENCARGOS COMPLEMENTARES","H",0.06,20.605499999999999,{"$f":"IF(ISNUMBER(F4105),E4105*F4105,\"\")","v":1.2363299999999999},null,null,0]
[null,null,"GUINCHO ELÉTRICO DE COLUNA, CAPACIDADE 400 KG, COM MOTO FREIO, MOTOR TRIFÁSICO DE 1,25 CV - CHP DIURNO. AF_03/2016","CHP",1.8E-3,16.292499999999997,{"$f":"IF(ISNUMBER(F4106),E4106*F4106,\"\")","v":2.9326499999999995E-2},null,null,0]
[null,null,"GUINCHO ELÉTRICO DE COLUNA, CAPACIDADE 400 KG, COM MOTO FREIO, MOTOR TRIFÁSICO DE 1,25 CV - CHI DIURNO. AF_03/2016","CHI",2.5999999999999999E-3,15.608499999999999,{"$f":"IF(ISNUMBER(F4107),E4107*F4107,\"\")","v":4.0582099999999996E-2},null,null,0]
[null,null,null,null,null,"",{"$f":"IF(ISNUMBER(F4108),E4108*F4108,\"\")","v":""},null,null,0]
["SF-01137",{"$f":"INDEX(Orçamentária!A:B,MATCH(Composições!A4109,Orçamentária!A:A,0),2)","v":"Telha de fibrocimento modulada - espessura 8mm"},null,{"$f":"TRIM(INDEX(Orçamentária!C:C,MATCH(Composições!A4109,Orçamentária!A:A,0),1))","v":"m2"},null,"",{"$f":"IF(ISNUMBER(F4109),E4109*F4109,\"\")","v":""},null,null,0]
[null,null,null,null,null,"",{"$f":"IF(ISNUMBER(F4110),E4110*F4110,\"\")","v":""},null,null,0]
[null,null,"TELHADISTA COM ENCARGOS COMPLEMENTARES","h",0.3,20.605499999999999,{"$f":"IF(ISNUMBER(F4111),E4111*F4111,\"\")","v":6.1816499999999994},{"$f":"SUM(G4111:G4117)","v":14.91405},null,0]
[null,null,"SERVENTE COM ENCARGOS COMPLEMENTARES","h",0.6,14.554,{"$f":"IF(ISNUMBER(F4112),E4112*F4112,\"\")","v":8.7324000000000002},null,null,0]
[null,null,"Conjunto de vedação elástica para furo Ø 8 mm","UN",1.1100000000000001,0,{"$f":"IF(ISNUMBER(F4113),E4113*F4113,\"\")","v":0},null,null,0]
[null,null,"Telha estrutural de fibrocimento ondulada esp. 8 mm largura útil 102 cm","m2",1.24,0,{"$f":"IF(ISNUMBER(F4114),E4114*F4114,\"\")","v":0},null,null,0]
[null,null,"Calço plástico para fixação de telha de fibrocimento tipo modulada e onda 50","UN",1.1100000000000001,0,{"$f":"IF(ISNUMBER(F4115),E4115*F4115,\"\")","v":0},null,null,0]
[null,null,"Fixador de aba telha de fibrocimento simples modulada","UN",1,0,{"$f":"IF(ISNUMBER(F4116),E4116*F4116,\"\")","v":0},null,null,0]
[null,null,"Parafuso rosca soberba galvanizado Ø 8 mm x 165 mm","UN",1.1100000000000001,0,{"$f":"IF(ISNUMBER(F4117),E4117*F4117,\"\")","v":0},null,null,0]
[null,null,null,null,null,"",{"$f":"IF(ISNUMBER(F4118),E4118*F4118,\"\")","v":""},null,null,0]
["SF-01138",{"$f":"INDEX(Orçamentária!A:B,MATCH(Composições!A4119,Orçamentária!A:A,0),2)","v":"Cumeeira articulada ABA SUPERIOR de fibrocimento para telha modulada - espessura 6 mm"},null,{"$f":"TRIM(INDEX(Orçamentária!C:C,MATCH(Composições!A4119,Orçamentária!A:A,0),1))","v":"m"},null,"",{"$f":"IF(ISNUMBER(F4119),E4119*F4119,\"\")","v":""},null,null,0]
[null,null,null,null,null,"",{"$f":"IF(ISNUMBER(F4120),E4120*F4120,\"\")","v":""},null,null,0]
[null,null,"TELHADISTA COM ENCARGOS COMPLEMENTARES","h",{"$f":"0.12/2","v":0.06},20.605499999999999,{"$f":"IF(ISNUMBER(F4121),E4121*F4121,\"\")","v":1.2363299999999999},{"$f":"SUM(G4121:G4125)","v":2.1095699999999997},null,0]
[null,null,"SERVENTE COM ENCARGOS COMPLEMENTARES","h",{"$f":"0.12/2","v":0.06},14.554,{"$f":"IF(ISNUMBER(F4122),E4122*F4122,\"\")","v":0.87324000000000002},null,null,0]
[null,null,"Conjunto de vedação elástica para furo Ø 8 mm","UN",{"$f":"4.12/2","v":2.06},0,{"$f":"IF(ISNUMBER(F4123),E4123*F4123,\"\")","v":0},null,null,0]
[null,null,"Cumeeira articulada superior para telha de fibrocimento modulada ou onda 50","UN",2.06,0,{"$f":"IF(ISNUMBER(F4124),E4124*F4124,\"\")","v":0},null,null,0]
[null,null,"Parafuso rosca soberba galvanizado Ø 8 mm x 165 mm","UN",{"$f":"4.12/2","v":2.06},0,{"$f":"IF(ISNUMBER(F4125),E4125*F4125,\"\")","v":0},null,null,0]
[null,null,null,null,null,"",{"$f":"IF(ISNUMBER(F4126),E4126*F4126,\"\")","v":""},null,null,0]
["SF-01139",{"$f":"INDEX(Orçamentária!A:B,MATCH(Composições!A4127,Orçamentária!A:A,0),2)","v":"Cumeeira articulada ABA INFERIOR de fibrocimento para telha modulada - espessura 6 mm"},null,{"$f":"TRIM(INDEX(Orçamentária!C:C,MATCH(Composições!A4127,Orçamentária!A:A,0),1))","v":"m"},null,"",{"$f":"IF(ISNUMBER(F4127),E4127*F4127,\"\")","v":""},null,null,0]
[null,null,null,null,null,"",{"$f":"IF(ISNUMBER(F4128),E4128*F4128,\"\")","v":""},null,null,0]
[null,null,"TELHADISTA COM ENCARGOS COMPLEMENTARES","h",{"$f":"0.12/2","v":0.06},20.605499999999999,{"$f":"IF(ISNUMBER(F4129),E4129*F4129,\"\")","v":1.2363299999999999},{"$f":"SUM(G4129:G4133)","v":2.1095699999999997},null,0]
[null,null,"SERVENTE COM ENCARGOS COMPLEMENTARES","h",{"$f":"0.12/2","v":0.06},14.554,{"$f":"IF(ISNUMBER(F4130),E4130*F4130,\"\")","v":0.87324000000000002},null,null,0]
[null,null,"Conjunto de vedação elástica para furo Ø 8 mm","UN",{"$f":"4.12/2","v":2.06},0,{"$f":"IF(ISNUMBER(F4131),E4131*F4131,\"\")","v":0},null,null,0]
[null,null,"Cumeeira articulada inferior para telha de fibrocimento tipo modulada ou onda 50","UN",2.06,0,{"$f":"IF(ISNUMBER(F4132),E4132*F4132,\"\")","v":0},null,null,0]
[null,null,"Parafuso rosca soberba galvanizado Ø 8 mm x 165 mm","UN",{"$f":"4.12/2","v":2.06},0,{"$f":"IF(ISNUMBER(F4133),E4133*F4133,\"\")","v":0},null,null,0]
[null,null,null,null,null,"",{"$f":"IF(ISNUMBER(F4134),E4134*F4134,\"\")","v":""},null,null,0]
["SF-01140",{"$f":"INDEX(Orçamentária!A:B,MATCH(Composições!A4135,Orçamentária!A:A,0),2)","v":"Telha de fibrocimento ondulada - espessura 6mm"},null,{"$f":"TRIM(INDEX(Orçamentária!C:C,MATCH(Composições!A4135,Orçamentária!A:A,0),1))","v":"m2"},null,"",{"$f":"IF(ISNUMBER(F4135),E4135*F4135,\"\")","v":""},null,null,0]
[null,null,null,null,null,"",{"$f":"IF(ISNUMBER(F4136),E4136*F4136,\"\")","v":""},null,null,0]
[null,null,"CONJUNTO ARRUELAS DE VEDACAO 5/16\" PARA TELHA FIBROCIMENTO (UMA ARRUELA METALICA E UMA ARRUELA PVC - CONICAS)","CJ",1.27,0.152,{"$f":"IF(ISNUMBER(F4137),E4137*F4137,\"\")","v":0.19303999999999999},{"$f":"SUM(G4137:G4143)","v":27.610151149999997},null,0]
[null,null,"PARAFUSO ZINCADO ROSCA SOBERBA, CABECA SEXTAVADA, 5/16 \" X 250 MM, PARA FIXACAO DE TELHA EM MADEIRA","UN",1.27,2.2989999999999999,{"$f":"IF(ISNUMBER(F4138),E4138*F4138,\"\")","v":2.9197299999999999},null,null,0]
[null,null,"TELHA DE FIBROCIMENTO ONDULADA E = 6 MM, DE 2,44 X 1,10 M (SEM AMIANTO)","M2",1.2749999999999999,15.494499999999999,{"$f":"IF(ISNUMBER(F4139),E4139*F4139,\"\")","v":19.755487499999997},null,null,0]
[null,null,"SERVENTE COM ENCARGOS COMPLEMENTARES","H",0.15,14.554,{"$f":"IF(ISNUMBER(F4140),E4140*F4140,\"\")","v":2.1831},null,null,0]
[null,null,"TELHADISTA COM ENCARGOS COMPLEMENTARES","H",0.115,20.605499999999999,{"$f":"IF(ISNUMBER(F4141),E4141*F4141,\"\")","v":2.3696324999999998},null,null,0]
[null,null,"GUINCHO ELÉTRICO DE COLUNA, CAPACIDADE 400 KG, COM MOTO FREIO, MOTOR TRIFÁSICO DE 1,25 CV - CHP DIURNO. AF_03/2016","CHP",5.0000000000000001E-3,16.292499999999997,{"$f":"IF(ISNUMBER(F4142),E4142*F4142,\"\")","v":8.1462499999999979E-2},null,null,0]
[null,null,"GUINCHO ELÉTRICO DE COLUNA, CAPACIDADE 400 KG, COM MOTO FREIO, MOTOR TRIFÁSICO DE 1,25 CV - CHI DIURNO. AF_03/2016","CHI",6.8999999999999999E-3,15.608499999999999,{"$f":"IF(ISNUMBER(F4143),E4143*F4143,\"\")","v":0.10769864999999999},null,null,0]
[null,null,null,null,null,"",{"$f":"IF(ISNUMBER(F4144),E4144*F4144,\"\")","v":""},null,null,0]
["SF-01141",{"$f":"INDEX(Orçamentária!A:B,MATCH(Composições!A4145,Orçamentária!A:A,0),2)","v":"Cumeeira UNIVERSAL para telha de fibrocimento ondulada - espessura 6 mm"},null,{"$f":"TRIM(INDEX(Orçamentária!C:C,MATCH(Composições!A4145,Orçamentária!A:A,0),1))","v":"m"},null,"",{"$f":"IF(ISNUMBER(F4145),E4145*F4145,\"\")","v":""},null,null,0]
[null,null,null,null,null,"",{"$f":"IF(ISNUMBER(F4146),E4146*F4146,\"\")","v":""},null,null,0]
[null,null,"CONJUNTO ARRUELAS DE VEDACAO 5/16\" PARA TELHA FIBROCIMENTO (UMA ARRUELA METALICA E UMA ARRUELA PVC - CONICAS)","CJ",4.2,0.152,{"$f":"IF(ISNUMBER(F4147),E4147*F4147,\"\")","v":0.63839999999999997},{"$f":"SUM(G4147:G4153)","v":35.312714100000008},null,0]
[null,null,"PARAFUSO ZINCADO ROSCA SOBERBA, CABECA SEXTAVADA, 5/16 \" X 250 MM, PARA FIXACAO DE TELHA EM MADEIRA","UN",4.2,2.2989999999999999,{"$f":"IF(ISNUMBER(F4148),E4148*F4148,\"\")","v":9.6557999999999993},null,null,0]
[null,null,"CUMEEIRA UNIVERSAL PARA TELHA ONDULADA DE FIBROCIMENTO, E = 6 MM, ABA 210 MM, COMPRIMENTO 1100 MM (SEM AMIANTO)","UN",1.0289999999999999,22.011500000000002,{"$f":"IF(ISNUMBER(F4149),E4149*F4149,\"\")","v":22.6498335},null,null,0]
[null,null,"SERVENTE COM ENCARGOS COMPLEMENTARES","H",7.2999999999999995E-2,14.554,{"$f":"IF(ISNUMBER(F4150),E4150*F4150,\"\")","v":1.0624419999999999},null,null,0]
[null,null,"TELHADISTA COM ENCARGOS COMPLEMENTARES","H",0.06,20.605499999999999,{"$f":"IF(ISNUMBER(F4151),E4151*F4151,\"\")","v":1.2363299999999999},null,null,0]
[null,null,"GUINCHO ELÉTRICO DE COLUNA, CAPACIDADE 400 KG, COM MOTO FREIO, MOTOR TRIFÁSICO DE 1,25 CV - CHP DIURNO. AF_03/2016","CHP",1.8E-3,16.292499999999997,{"$f":"IF(ISNUMBER(F4152),E4152*F4152,\"\")","v":2.9326499999999995E-2},null,null,0]
[null,null,"GUINCHO ELÉTRICO DE COLUNA, CAPACIDADE 400 KG, COM MOTO FREIO, MOTOR TRIFÁSICO DE 1,25 CV - CHI DIURNO. AF_03/2016","CHI",2.5999999999999999E-3,15.608499999999999,{"$f":"IF(ISNUMBER(F4153),E4153*F4153,\"\")","v":4.0582099999999996E-2},null,null,0]
[null,null,null,null,null,"",{"$f":"IF(ISNUMBER(F4154),E4154*F4154,\"\")","v":""},null,null,0]
["SF-01142",{"$f":"INDEX(Orçamentária!A:B,MATCH(Composições!A4155,Orçamentária!A:A,0),2)","v":"Cumeeira TIPO SHED para telha de fibrocimento ondulada - espessura 6 mm"},null,{"$f":"TRIM(INDEX(Orçamentária!C:C,MATCH(Composições!A4155,Orçamentária!A:A,0),1))","v":"m"},null,"",{"$f":"IF(ISNUMBER(F4155),E4155*F4155,\"\")","v":""},null,null,0]
[null,null,null,null,null,"",{"$f":"IF(ISNUMBER(F4156),E4156*F4156,\"\")","v":""},null,null,0]
[null,null,"CONJUNTO ARRUELAS DE VEDACAO 5/16\" PARA TELHA FIBROCIMENTO (UMA ARRUELA METALICA E UMA ARRUELA PVC - CONICAS)","CJ",4.2,0.152,{"$f":"IF(ISNUMBER(F4157),E4157*F4157,\"\")","v":0.63839999999999997},{"$f":"SUM(G4157:G4163)","v":33.896748600000002},null,0]
[null,null,"PARAFUSO ZINCADO ROSCA SOBERBA, CABECA SEXTAVADA, 5/16 \" X 250 MM, PARA FIXACAO DE TELHA EM MADEIRA","UN",4.2,2.2989999999999999,{"$f":"IF(ISNUMBER(F4158),E4158*F4158,\"\")","v":9.6557999999999993},null,null,0]
[null,null,"CUMEEIRA SHED PARA TELHA ONDULADA DE FIBROCIMENTO, E = 6 MM, ABA 280 MM, COMPRIMENTO 1100 MM (SEM AMIANTO)","UN",1.0289999999999999,21.270499999999998,{"$f":"IF(ISNUMBER(F4159),E4159*F4159,\"\")","v":21.887344499999998},null,null,0]
[null,null,"SERVENTE COM ENCARGOS COMPLEMENTARES","H",5.5E-2,14.554,{"$f":"IF(ISNUMBER(F4160),E4160*F4160,\"\")","v":0.80047000000000001},null,null,0]
[null,null,"TELHADISTA COM ENCARGOS COMPLEMENTARES","H",4.1000000000000002E-2,20.605499999999999,{"$f":"IF(ISNUMBER(F4161),E4161*F4161,\"\")","v":0.84482550000000001},null,null,0]
[null,null,"GUINCHO ELÉTRICO DE COLUNA, CAPACIDADE 400 KG, COM MOTO FREIO, MOTOR TRIFÁSICO DE 1,25 CV - CHP DIURNO. AF_03/2016","CHP",1.8E-3,16.292499999999997,{"$f":"IF(ISNUMBER(F4162),E4162*F4162,\"\")","v":2.9326499999999995E-2},null,null,0]
[null,null,"GUINCHO ELÉTRICO DE COLUNA, CAPACIDADE 400 KG, COM MOTO FREIO, MOTOR TRIFÁSICO DE 1,25 CV - CHI DIURNO. AF_03/2016","CHI",2.5999999999999999E-3,15.608499999999999,{"$f":"IF(ISNUMBER(F4163),E4163*F4163,\"\")","v":4.0582099999999996E-2},null,null,0]
[null,null,null,null,null,"",{"$f":"IF(ISNUMBER(F4164),E4164*F4164,\"\")","v":""},null,null,0]
["SF-01143",{"$f":"INDEX(Orçamentária!A:B,MATCH(Composições!A4165,Orçamentária!A:A,0),2)","v":"Telha de fibrocimento - Canalete 49 Eternit"},null,{"$f":"TRIM(INDEX(Orçamentária!C:C,MATCH(Composições!A4165,Orçamentária!A:A,0),1))","v":"m2"},null,"",{"$f":"IF(ISNUMBER(F4165),E4165*F4165,\"\")","v":""},null,null,0]
[null,null,null,null,null,"",{"$f":"IF(ISNUMBER(F4166),E4166*F4166,\"\")","v":""},null,null,0]
[null,null,"TELHADISTA COM ENCARGOS COMPLEMENTARES","h",0.15,20.605499999999999,{"$f":"IF(ISNUMBER(F4167),E4167*F4167,\"\")","v":3.0908249999999997},{"$f":"SUM(G4167:G4171)","v":5.2739250000000002},null,0]
[null,null,"SERVENTE COM ENCARGOS COMPLEMENTARES","h",0.15,14.554,{"$f":"IF(ISNUMBER(F4168),E4168*F4168,\"\")","v":2.1831},null,null,0]
[null,null,"Conjunto de vedação elástica para furo Ø 8 mm","UN",4.12,0,{"$f":"IF(ISNUMBER(F4169),E4169*F4169,\"\")","v":0},null,null,0]
[null,null,"Telha estrutural de fibrocimento esp. 8 mm largura útil 49 cm","m2",1.06,0,{"$f":"IF(ISNUMBER(F4170),E4170*F4170,\"\")","v":0},null,null,0]
[null,null,"Parafuso rosca soberba galvanizado Ø 8 mm x 250 mm","UN",4.12,0,{"$f":"IF(ISNUMBER(F4171),E4171*F4171,\"\")","v":0},null,null,0]
[null,null,null,null,null,"",{"$f":"IF(ISNUMBER(F4172),E4172*F4172,\"\")","v":""},null,null,0]
["SF-01147",{"$f":"INDEX(Orçamentária!A:B,MATCH(Composições!A4173,Orçamentária!A:A,0),2)","v":"Escada tipo marinheiro COM proteção"},null,{"$f":"TRIM(INDEX(Orçamentária!C:C,MATCH(Composições!A4173,Orçamentária!A:A,0),1))","v":"m"},null,"",{"$f":"IF(ISNUMBER(F4173),E4173*F4173,\"\")","v":""},null,null,0]
[null,null,null,null,null,"",{"$f":"IF(ISNUMBER(F4174),E4174*F4174,\"\")","v":""},null,null,0]
[null,null,"ACO CA-50, 10,0 MM, VERGALHAO","KG",2.8,5.5385,{"$f":"IF(ISNUMBER(F4175),E4175*F4175,\"\")","v":15.5078},{"$f":"SUM(G4175:G4187)","v":215.70405963492175},null,0]
[null,null,"FUNDO ANTICORROSIVO PARA METAIS FERROSOS (ZARCAO)","L",2.5000000000000001E-2,26.960999999999999,{"$f":"IF(ISNUMBER(F4176),E4176*F4176,\"\")","v":0.67402499999999999},null,null,0]
[null,null,"ARMADOR COM ENCARGOS COMPLEMENTARES","H",0.35,19.38,{"$f":"IF(ISNUMBER(F4177),E4177*F4177,\"\")","v":6.7829999999999995},null,null,0]
[null,null,"PEDREIRO COM ENCARGOS COMPLEMENTARES","H",1.1000000000000001,19.474999999999998,{"$f":"IF(ISNUMBER(F4178),E4178*F4178,\"\")","v":21.422499999999999},null,null,0]
[null,null,"SERVENTE COM ENCARGOS COMPLEMENTARES","H",1.1299999999999999,14.554,{"$f":"IF(ISNUMBER(F4179),E4179*F4179,\"\")","v":16.446019999999997},null,null,0]
[null,null,"ARGAMASSA TRAÇO 1:3 (EM VOLUME DE CIMENTO E AREIA MÉDIA ÚMIDA), PREPARO MANUAL. AF_08/2019","M3",3.5000000000000001E-3,477.87846712050003,{"$f":"IF(ISNUMBER(F4180),E4180*F4180,\"\")","v":1.6725746349217501},null,null,0]
[null,null,"ACO CA-50, 10,0 MM, VERGALHAO","KG",3,5.5385,{"$f":"IF(ISNUMBER(F4181),E4181*F4181,\"\")","v":16.615500000000001},null,null,0]
[null,null,"CANTONEIRA ACO ABAS IGUAIS (QUALQUER BITOLA), ESPESSURA ENTRE 1/8\" E 1/4\"","KG",15,4.8354999999999997,{"$f":"IF(ISNUMBER(F4182),E4182*F4182,\"\")","v":72.532499999999999},null,null,0]
[null,null,"PEDREIRO COM ENCARGOS COMPLEMENTARES","H",0.4,19.474999999999998,{"$f":"IF(ISNUMBER(F4183),E4183*F4183,\"\")","v":7.7899999999999991},null,null,0]
[null,null,"SERVENTE COM ENCARGOS COMPLEMENTARES","H",0.8,14.554,{"$f":"IF(ISNUMBER(F4184),E4184*F4184,\"\")","v":11.6432},null,null,0]
[null,null,"Soldador com encargos complementares","H",2,20.082999999999998,{"$f":"IF(ISNUMBER(F4185),E4185*F4185,\"\")","v":40.165999999999997},null,null,0]
[null,null,"ELETRODO REVESTIDO AWS - E7018, DIAMETRO IGUAL A 4,00 MM","KG",0.2,16.862500000000001,{"$f":"IF(ISNUMBER(F4186),E4186*F4186,\"\")","v":3.3725000000000005},null,null,0]
[null,null,"FUNDO ANTICORROSIVO PARA METAIS FERROSOS (ZARCAO)","L",0.04,26.960999999999999,{"$f":"IF(ISNUMBER(F4187),E4187*F4187,\"\")","v":1.0784400000000001},null,null,0]
[null,null,null,null,null,"",{"$f":"IF(ISNUMBER(F4188),E4188*F4188,\"\")","v":""},null,null,0]
["SF-01148",{"$f":"INDEX(Orçamentária!A:B,MATCH(Composições!A4189,Orçamentária!A:A,0),2)","v":"Escada tipo marinheiro SEM proteção"},null,{"$f":"TRIM(INDEX(Orçamentária!C:C,MATCH(Composições!A4189,Orçamentária!A:A,0),1))","v":"m"},null,"",{"$f":"IF(ISNUMBER(F4189),E4189*F4189,\"\")","v":""},null,null,0]
[null,null,null,null,null,"",{"$f":"IF(ISNUMBER(F4190),E4190*F4190,\"\")","v":""},null,null,0]
[null,null,"ACO CA-50, 10,0 MM, VERGALHAO","KG",2.8,5.5385,{"$f":"IF(ISNUMBER(F4191),E4191*F4191,\"\")","v":15.5078},{"$f":"SUM(G4191:G4196)","v":62.505919634921746},null,0]
[null,null,"FUNDO ANTICORROSIVO PARA METAIS FERROSOS (ZARCAO)","L",2.5000000000000001E-2,26.960999999999999,{"$f":"IF(ISNUMBER(F4192),E4192*F4192,\"\")","v":0.67402499999999999},null,null,0]
[null,null,"ARMADOR COM ENCARGOS COMPLEMENTARES","H",0.35,19.38,{"$f":"IF(ISNUMBER(F4193),E4193*F4193,\"\")","v":6.7829999999999995},null,null,0]
[null,null,"PEDREIRO COM ENCARGOS COMPLEMENTARES","H",1.1000000000000001,19.474999999999998,{"$f":"IF(ISNUMBER(F4194),E4194*F4194,\"\")","v":21.422499999999999},null,null,0]
[null,null,"SERVENTE COM ENCARGOS COMPLEMENTARES","H",1.1299999999999999,14.554,{"$f":"IF(ISNUMBER(F4195),E4195*F4195,\"\")","v":16.446019999999997},null,null,0]
[null,null,"ARGAMASSA TRAÇO 1:3 (EM VOLUME DE CIMENTO E AREIA MÉDIA ÚMIDA), PREPARO MANUAL. AF_08/2019","M3",3.5000000000000001E-3,477.87846712050003,{"$f":"IF(ISNUMBER(F4196),E4196*F4196,\"\")","v":1.6725746349217501},null,null,0]
[null,null,null,null,null,"",{"$f":"IF(ISNUMBER(F4197),E4197*F4197,\"\")","v":""},null,null,0]
["SF-01149",{"$f":"INDEX(Orçamentária!A:B,MATCH(Composições!A4198,Orçamentária!A:A,0),2)","v":"Limpeza e Preparação do Substrato para Impermeabilização"},null,{"$f":"TRIM(INDEX(Orçamentária!C:C,MATCH(Composições!A4198,Orçamentária!A:A,0),1))","v":"m2"},null,"",{"$f":"IF(ISNUMBER(F4198),E4198*F4198,\"\")","v":""},null,null,0]
[null,null,null,null,null,"",{"$f":"IF(ISNUMBER(F4199),E4199*F4199,\"\")","v":""},null,null,0]
[null,null,"SERVENTE COM ENCARGOS COMPLEMENTARES","h",0.11,14.554,{"$f":"IF(ISNUMBER(F4200),E4200*F4200,\"\")","v":1.60094},{"$f":"SUM(G4200:G4202)","v":1.60094},null,0]
[null,null,"Lava-jato água fria pressão 1700 psi","loc/un/h",0.22,0,{"$f":"IF(ISNUMBER(F4201),E4201*F4201,\"\")","v":0},null,null,0]
[null,null,"Solução limpadora diluída em água","L",0.4,0,{"$f":"IF(ISNUMBER(F4202),E4202*F4202,\"\")","v":0},null,null,0]
[null,null,null,null,null,"",{"$f":"IF(ISNUMBER(F4203),E4203*F4203,\"\")","v":""},null,null,0]
["SF-01150",{"$f":"INDEX(Orçamentária!A:B,MATCH(Composições!A4204,Orçamentária!A:A,0),2)","v":"Substituição de Coletores de Águas Pluviais"},null,{"$f":"TRIM(INDEX(Orçamentária!C:C,MATCH(Composições!A4204,Orçamentária!A:A,0),1))","v":"un"},null,"",{"$f":"IF(ISNUMBER(F4204),E4204*F4204,\"\")","v":""},null,null,0]
[null,null,null,null,null,"",{"$f":"IF(ISNUMBER(F4205),E4205*F4205,\"\")","v":""},null,null,0]
[null,null,"ANEL BORRACHA, DN 150 MM, PARA TUBO SERIE REFORCADA ESGOTO PREDIAL","UN",1,8.4550000000000001,{"$f":"IF(ISNUMBER(F4206),E4206*F4206,\"\")","v":8.4550000000000001},{"$f":"SUM(G4206:G4220)","v":153.43942004999997},null,0]
[null,null,"REDUCAO EXCENTRICA PVC, SERIE R, DN 150 X 100 MM, PARA ESGOTO PREDIAL","UN",1,31.198,{"$f":"IF(ISNUMBER(F4207),E4207*F4207,\"\")","v":31.198},null,null,0]
[null,null,"PASTA LUBRIFICANTE PARA TUBOS E CONEXOES COM JUNTA ELASTICA (USO EM PVC, ACO, POLIETILENO E OUTROS) ( DE *400* G)","UN",7.0000000000000007E-2,19.854999999999997,{"$f":"IF(ISNUMBER(F4208),E4208*F4208,\"\")","v":1.3898499999999998},null,null,0]
[null,null,"AUXILIAR DE ENCANADOR OU BOMBEIRO HIDRÁULICO COM ENCARGOS COMPLEMENTARES","H",0.11,15.019499999999999,{"$f":"IF(ISNUMBER(F4209),E4209*F4209,\"\")","v":1.652145},null,null,0]
[null,null,"ENCANADOR OU BOMBEIRO HIDRÁULICO COM ENCARGOS COMPLEMENTARES","H",0.11,19.066499999999998,{"$f":"IF(ISNUMBER(F4210),E4210*F4210,\"\")","v":2.0973149999999996},null,null,0]
[null,null,"ADESIVO PLASTICO PARA PVC, FRASCO COM 850 GR","UN",6.1999999999999998E-3,54.235500000000002,{"$f":"IF(ISNUMBER(F4211),E4211*F4211,\"\")","v":0.33626010000000001},null,null,0]
[null,null,"TUBO PVC, SERIE R, DN 150 MM, PARA ESGOTO OU AGUAS PLUVIAIS PREDIAL (NBR 5688)","M",{"$f":"1.04/2","v":0.52},45.552500000000002,{"$f":"IF(ISNUMBER(F4212),E4212*F4212,\"\")","v":23.6873},null,null,0]
[null,null,"SOLUCAO LIMPADORA PARA PVC, FRASCO COM 1000 CM3","UN",1.0200000000000001E-2,47.100999999999999,{"$f":"IF(ISNUMBER(F4213),E4213*F4213,\"\")","v":0.48043020000000003},null,null,0]
[null,null,"LIXA D'AGUA EM FOLHA, GRAO 100","UN",3.6999999999999998E-2,1.6244999999999998,{"$f":"IF(ISNUMBER(F4214),E4214*F4214,\"\")","v":6.0106499999999993E-2},null,null,0]
[null,null,"AUXILIAR DE ENCANADOR OU BOMBEIRO HIDRÁULICO COM ENCARGOS COMPLEMENTARES","H",0.18,15.019499999999999,{"$f":"IF(ISNUMBER(F4215),E4215*F4215,\"\")","v":2.7035099999999996},null,null,0]
[null,null,"ENCANADOR OU BOMBEIRO HIDRÁULICO COM ENCARGOS COMPLEMENTARES","H",0.18,19.066499999999998,{"$f":"IF(ISNUMBER(F4216),E4216*F4216,\"\")","v":3.4319699999999993},null,null,0]
[null,null,"PEDREIRO COM ENCARGOS COMPLEMENTARES","H",1,19.474999999999998,{"$f":"IF(ISNUMBER(F4217),E4217*F4217,\"\")","v":19.474999999999998},null,null,0]
[null,null,"ADESIVO ESTRUTURAL A BASE DE RESINA EPOXI, BICOMPONENTE, PASTOSO (TIXOTROPICO)","KG",{"$f":"ROUND(1.8*(PI()*(0.25-0.15)*0.1)*10,4)","v":0.5655},32.271499999999996,{"$f":"IF(ISNUMBER(F4218),E4218*F4218,\"\")","v":18.249533249999999},null,null,0]
[null,null,"SELANTE ELASTICO MONOCOMPONENTE A BASE DE POLIURETANO (PU) PARA JUNTAS DIVERSAS","310ml",0.2,24.414999999999999,{"$f":"IF(ISNUMBER(F4219),E4219*F4219,\"\")","v":4.883},null,null,0]
[null,null,"RALO FOFO SEMIESFERICO, 150 MM, PARA LAJES/ CALHAS","UN",1,35.340000000000003,{"$f":"IF(ISNUMBER(F4220),E4220*F4220,\"\")","v":35.340000000000003},null,null,0]
[null,null,null,null,null,null,null,null,null,0]
[null,null,"Obs 1: Considerando consumo do adesivo estrutural 1,8 kg / m² / mm.",null,null,null,null,null,null,0]
[null,null,null,null,null,"",{"$f":"IF(ISNUMBER(F4223),E4223*F4223,\"\")","v":""},null,null,0]
["SF-01151",{"$f":"INDEX(Orçamentária!A:B,MATCH(Composições!A4224,Orçamentária!A:A,0),2)","v":"Tratamento de Tubulação Passante para Impermeabilização"},null,{"$f":"TRIM(INDEX(Orçamentária!C:C,MATCH(Composições!A4224,Orçamentária!A:A,0),1))","v":"un"},null,"",{"$f":"IF(ISNUMBER(F4224),E4224*F4224,\"\")","v":""},null,null,0]
[null,null,null,null,null,"",{"$f":"IF(ISNUMBER(F4225),E4225*F4225,\"\")","v":""},null,null,0]
[null,null,"IMPERMEABILIZADOR COM ENCARGOS COMPLEMENTARES","H",0.5,19.474999999999998,{"$f":"IF(ISNUMBER(F4226),E4226*F4226,\"\")","v":9.7374999999999989},{"$f":"SUM(G4226:G4228)","v":32.870033249999999},null,0]
[null,null,"ADESIVO ESTRUTURAL A BASE DE RESINA EPOXI, BICOMPONENTE, PASTOSO (TIXOTROPICO)","KG",{"$f":"ROUND(1.8*(PI()*(0.25-0.15)*0.1)*10,4)","v":0.5655},32.271499999999996,{"$f":"IF(ISNUMBER(F4227),E4227*F4227,\"\")","v":18.249533249999999},null,null,0]
[null,null,"SELANTE ELASTICO MONOCOMPONENTE A BASE DE POLIURETANO (PU) PARA JUNTAS DIVERSAS","310ml",0.2,24.414999999999999,{"$f":"IF(ISNUMBER(F4228),E4228*F4228,\"\")","v":4.883},null,null,0]
[null,null,null,null,null,null,null,null,null,0]
[null,null,"Obs 1: Considerando consumo do adesivo estrutural 1,8 kg / m² / mm.",null,null,null,null,null,null,0]
[null,null,null,null,null,"",{"$f":"IF(ISNUMBER(F4231),E4231*F4231,\"\")","v":""},null,null,0]
["SF-01152",{"$f":"INDEX(Orçamentária!A:B,MATCH(Composições!A4232,Orçamentária!A:A,0),2)","v":"Regularização de substrato para Impermeabilização - 3cm"},null,{"$f":"TRIM(INDEX(Orçamentária!C:C,MATCH(Composições!A4232,Orçamentária!A:A,0),1))","v":"m2"},null,"",{"$f":"IF(ISNUMBER(F4232),E4232*F4232,\"\")","v":""},null,null,0]
[null,null,null,null,null,"",{"$f":"IF(ISNUMBER(F4233),E4233*F4233,\"\")","v":""},null,null,0]
[null,null,"CIMENTO PORTLAND COMPOSTO CP II-32","KG",0.5,0.44649999999999995,{"$f":"IF(ISNUMBER(F4234),E4234*F4234,\"\")","v":0.22324999999999998},{"$f":"SUM(G4234:G4238)","v":33.543916703640399},null,0]
[null,null,"ADITIVO ADESIVO LIQUIDO PARA ARGAMASSAS DE REVESTIMENTOS CIMENTICIOS","L",0.435,11.390499999999999,{"$f":"IF(ISNUMBER(F4235),E4235*F4235,\"\")","v":4.9548674999999998},null,null,0]
[null,null,"ARGAMASSA TRAÇO 1:4 (EM VOLUME DE CIMENTO E AREIA MÉDIA ÚMIDA) PARA CONTRAPISO, PREPARO MECÂNICO COM BETONEIRA 400 L. AF_08/2019","M3",4.3099999999999999E-2,453.30949428399998,{"$f":"IF(ISNUMBER(F4236),E4236*F4236,\"\")","v":19.537639203640399},null,null,0]
[null,null,"PEDREIRO COM ENCARGOS COMPLEMENTARES","H",0.33,19.474999999999998,{"$f":"IF(ISNUMBER(F4237),E4237*F4237,\"\")","v":6.4267499999999993},null,null,0]
[null,null,"SERVENTE COM ENCARGOS COMPLEMENTARES","H",0.16500000000000001,14.554,{"$f":"IF(ISNUMBER(F4238),E4238*F4238,\"\")","v":2.4014100000000003},null,null,0]
[null,null,null,null,null,"",{"$f":"IF(ISNUMBER(F4239),E4239*F4239,\"\")","v":""},null,null,0]
["SF-01153",{"$f":"INDEX(Orçamentária!A:B,MATCH(Composições!A4240,Orçamentária!A:A,0),2)","v":"Regularização de substrato para Impermeabilização - 6cm"},null,{"$f":"TRIM(INDEX(Orçamentária!C:C,MATCH(Composições!A4240,Orçamentária!A:A,0),1))","v":"m2"},null,"",{"$f":"IF(ISNUMBER(F4240),E4240*F4240,\"\")","v":""},null,null,0]
[null,null,null,null,null,"",{"$f":"IF(ISNUMBER(F4241),E4241*F4241,\"\")","v":""},null,null,0]
[null,null,"PEDREIRO COM ENCARGOS COMPLEMENTARES","h",0.38,19.474999999999998,{"$f":"IF(ISNUMBER(F4242),E4242*F4242,\"\")","v":7.4004999999999992},{"$f":"SUM(G4242:G4244)","v":40.056747572172398},null,0]
[null,null,"SERVENTE COM ENCARGOS COMPLEMENTARES","h",0.185,14.554,{"$f":"IF(ISNUMBER(F4243),E4243*F4243,\"\")","v":2.6924899999999998},null,null,0]
[null,null,"ARGAMASSA TRAÇO 1:4 (EM VOLUME DE CIMENTO E AREIA MÉDIA ÚMIDA) PARA CONTRAPISO, PREPARO MECÂNICO COM BETONEIRA 400 L. AF_08/2019","M3",6.6100000000000006E-2,453.30949428399998,{"$f":"IF(ISNUMBER(F4244),E4244*F4244,\"\")","v":29.963757572172401},null,null,0]
[null,null,null,null,null,"",{"$f":"IF(ISNUMBER(F4245),E4245*F4245,\"\")","v":""},null,null,0]
["SF-01154",{"$f":"INDEX(Orçamentária!A:B,MATCH(Composições!A4246,Orçamentária!A:A,0),2)","v":"Camada Separadora para Impermeabilização"},null,{"$f":"TRIM(INDEX(Orçamentária!C:C,MATCH(Composições!A4246,Orçamentária!A:A,0),1))","v":"m2"},null,"",{"$f":"IF(ISNUMBER(F4246),E4246*F4246,\"\")","v":""},null,null,0]
[null,null,null,null,null,"",{"$f":"IF(ISNUMBER(F4247),E4247*F4247,\"\")","v":""},null,null,0]
[null,null,"SERVENTE COM ENCARGOS COMPLEMENTARES","H",0.01,14.554,{"$f":"IF(ISNUMBER(F4248),E4248*F4248,\"\")","v":0.14554},{"$f":"SUM(G4248:G4249)","v":5.5795399999999997},null,0]
[null,null,"GEOTEXTIL NAO TECIDO AGULHADO DE FILAMENTOS CONTINUOS 100% POLIESTER, RESITENCIA A TRACAO = 10 KN/M","m2",1.1000000000000001,4.9399999999999995,{"$f":"IF(ISNUMBER(F4249),E4249*F4249,\"\")","v":5.4340000000000002},null,null,0]
[null,null,null,null,null,"",{"$f":"IF(ISNUMBER(F4250),E4250*F4250,\"\")","v":""},null,null,0]
["SF-01155",{"$f":"INDEX(Orçamentária!A:B,MATCH(Composições!A4251,Orçamentária!A:A,0),2)","v":"Camada de Proteção Térmica para Impermeabilização"},null,{"$f":"TRIM(INDEX(Orçamentária!C:C,MATCH(Composições!A4251,Orçamentária!A:A,0),1))","v":"m2"},null,"",{"$f":"IF(ISNUMBER(F4251),E4251*F4251,\"\")","v":""},null,null,0]
[null,null,null,null,null,"",{"$f":"IF(ISNUMBER(F4252),E4252*F4252,\"\")","v":""},null,null,0]
[null,null,"SERVENTE COM ENCARGOS COMPLEMENTARES","H",0.05,14.554,{"$f":"IF(ISNUMBER(F4253),E4253*F4253,\"\")","v":0.72770000000000001},{"$f":"SUM(G4253:G4254)","v":7.4109499999999997},null,0]
[null,null,"POLIESTIRENO EXPANDIDO/EPS (ISOPOR), TIPO 2F, PLACA, ISOLAMENTO TERMOACUSTICO, E = 20 MM, 1000 X 500 MM","m2",1.05,6.3650000000000002,{"$f":"IF(ISNUMBER(F4254),E4254*F4254,\"\")","v":6.6832500000000001},null,null,0]
[null,null,null,null,null,"",{"$f":"IF(ISNUMBER(F4255),E4255*F4255,\"\")","v":""},null,null,0]
["SF-01156",{"$f":"INDEX(Orçamentária!A:B,MATCH(Composições!A4256,Orçamentária!A:A,0),2)","v":"Camada de Amortecimento para Impermeabilização"},null,{"$f":"TRIM(INDEX(Orçamentária!C:C,MATCH(Composições!A4256,Orçamentária!A:A,0),1))","v":"m2"},null,"",{"$f":"IF(ISNUMBER(F4256),E4256*F4256,\"\")","v":""},null,null,0]
[null,null,null,null,null,"",{"$f":"IF(ISNUMBER(F4257),E4257*F4257,\"\")","v":""},null,null,0]
[null,null,"PEDREIRO COM ENCARGOS COMPLEMENTARES","h",0.28999999999999998,19.474999999999998,{"$f":"IF(ISNUMBER(F4258),E4258*F4258,\"\")","v":5.6477499999999994},{"$f":"SUM(G4258:G4260)","v":21.297938178273995},null,0]
[null,null,"SERVENTE COM ENCARGOS COMPLEMENTARES","h",0.14499999999999999,14.554,{"$f":"IF(ISNUMBER(F4259),E4259*F4259,\"\")","v":2.1103299999999998},null,null,0]
[null,null,"ARGAMASSA TRAÇO 1:2:8 (EM VOLUME DE CIMENTO, CAL E AREIA MÉDIA ÚMIDA) PARA EMBOÇO/MASSA ÚNICA/ASSENTAMENTO DE ALVENARIA DE VEDAÇÃO, PREPARO MECÂNICO COM BETONEIRA 400 L. AF_08/2019","M3",3.1E-2,436.76961865399988,{"$f":"IF(ISNUMBER(F4260),E4260*F4260,\"\")","v":13.539858178273997},null,null,0]
[null,null,null,null,null,"",{"$f":"IF(ISNUMBER(F4261),E4261*F4261,\"\")","v":""},null,null,0]
["SF-01157",{"$f":"INDEX(Orçamentária!A:B,MATCH(Composições!A4262,Orçamentária!A:A,0),2)","v":"Camada de Proteção Mecânica em Placas de Impermeabilização"},null,{"$f":"TRIM(INDEX(Orçamentária!C:C,MATCH(Composições!A4262,Orçamentária!A:A,0),1))","v":"m2"},null,"",{"$f":"IF(ISNUMBER(F4262),E4262*F4262,\"\")","v":""},null,null,0]
[null,null,null,null,null,"",{"$f":"IF(ISNUMBER(F4263),E4263*F4263,\"\")","v":""},null,null,0]
[null,null,"CAMADA SEPARADORA DE FILME DE POLIETILENO 20 A 25 MICRA","M2",1.04,1.349,{"$f":"IF(ISNUMBER(F4264),E4264*F4264,\"\")","v":1.40296},{"$f":"SUM(G4264:G4268)","v":62.988892088249997},null,0]
[null,null,"ARGAMASSA TRAÇO 1:3 (EM VOLUME DE CIMENTO E AREIA MÉDIA ÚMIDA) PARA CONTRAPISO, PREPARO MANUAL. AF_08/2019","M3",4.3999999999999997E-2,581.83844518749993,{"$f":"IF(ISNUMBER(F4265),E4265*F4265,\"\")","v":25.600891588249997},null,null,0]
[null,null,"PEDREIRO COM ENCARGOS COMPLEMENTARES","H",0.89900000000000002,19.474999999999998,{"$f":"IF(ISNUMBER(F4266),E4266*F4266,\"\")","v":17.508025},null,null,0]
[null,null,"SERVENTE COM ENCARGOS COMPLEMENTARES","H",0.182,14.554,{"$f":"IF(ISNUMBER(F4267),E4267*F4267,\"\")","v":2.648828},null,null,0]
[null,null,"MANTA LIQUIDA DE BASE ASFALTICA MODIFICADA COM A ADICAO DE ELASTOMEROS DILUIDOS EM SOLVENTE ORGANICO, APLICACAO A FRIO (MEMBRANA IMPERMEABILIZANTE ASFASTICA)","KG",{"$f":"0.15*2.5*(6/2)","v":1.125},14.0695,{"$f":"IF(ISNUMBER(F4268),E4268*F4268,\"\")","v":15.8281875},null,null,0]
[null,null,null,null,null,"",{"$f":"IF(ISNUMBER(F4269),E4269*F4269,\"\")","v":""},null,null,0]
["SF-01158",{"$f":"INDEX(Orçamentária!A:B,MATCH(Composições!A4270,Orçamentária!A:A,0),2)","v":"Pintura Inibidora de Raízes em Estrutura Impermeabilizada"},null,{"$f":"TRIM(INDEX(Orçamentária!C:C,MATCH(Composições!A4270,Orçamentária!A:A,0),1))","v":"m2"},null,"",{"$f":"IF(ISNUMBER(F4270),E4270*F4270,\"\")","v":""},null,null,0]
[null,null,null,null,null,"",{"$f":"IF(ISNUMBER(F4271),E4271*F4271,\"\")","v":""},null,null,0]
[null,null,"Pintura inibidora de raízes","L",1,"",{"$f":"IF(ISNUMBER(F4272),E4272*F4272,\"\")","v":""},{"$f":"SUM(G4272:G4274)","v":10.5222},null,0]
[null,null,"PINTOR COM ENCARGOS COMPLEMENTARES","H",0.3,20.52,{"$f":"IF(ISNUMBER(F4273),E4273*F4273,\"\")","v":6.1559999999999997},null,null,0]
[null,null,"SERVENTE COM ENCARGOS COMPLEMENTARES","H",0.3,14.554,{"$f":"IF(ISNUMBER(F4274),E4274*F4274,\"\")","v":4.3662000000000001},null,null,0]
[null,null,null,null,null,"",{"$f":"IF(ISNUMBER(F4275),E4275*F4275,\"\")","v":""},null,null,0]
["SF-01159",{"$f":"INDEX(Orçamentária!A:B,MATCH(Composições!A4276,Orçamentária!A:A,0),2)","v":"Camada Drenante para Impermeabilização"},null,{"$f":"TRIM(INDEX(Orçamentária!C:C,MATCH(Composições!A4276,Orçamentária!A:A,0),1))","v":"m2"},null,"",{"$f":"IF(ISNUMBER(F4276),E4276*F4276,\"\")","v":""},null,null,0]
[null,null,null,null,null,"",{"$f":"IF(ISNUMBER(F4277),E4277*F4277,\"\")","v":""},null,null,0]
[null,null,"SERVENTE COM ENCARGOS COMPLEMENTARES","H",0.02,14.554,{"$f":"IF(ISNUMBER(F4278),E4278*F4278,\"\")","v":0.29108000000000001},{"$f":"SUM(G4278:G4280)","v":5.7250800000000002},null,0]
[null,null,"Geocomposto Drenante industrializado formado por estrutura drenante de pelo menos 10 mm","m2",1.05,"",{"$f":"IF(ISNUMBER(F4279),E4279*F4279,\"\")","v":""},null,null,0]
[null,null,"GEOTEXTIL NAO TECIDO AGULHADO DE FILAMENTOS CONTINUOS 100% POLIESTER, RESITENCIA A TRACAO = 10 KN/M","m2",1.1000000000000001,4.9399999999999995,{"$f":"IF(ISNUMBER(F4280),E4280*F4280,\"\")","v":5.4340000000000002},null,null,0]
[null,null,null,null,null,"",{"$f":"IF(ISNUMBER(F4281),E4281*F4281,\"\")","v":""},null,null,0]
["SF-01160",{"$f":"INDEX(Orçamentária!A:B,MATCH(Composições!A4282,Orçamentária!A:A,0),2)","v":"Calha em Chapa de Aço Galvanizado nº 24"},null,{"$f":"TRIM(INDEX(Orçamentária!C:C,MATCH(Composições!A4282,Orçamentária!A:A,0),1))","v":"m2"},null,"",{"$f":"IF(ISNUMBER(F4282),E4282*F4282,\"\")","v":""},null,null,0]
[null,null,null,null,null,"",{"$f":"IF(ISNUMBER(F4283),E4283*F4283,\"\")","v":""},null,null,0]
[null,null,"SELANTE ELASTICO MONOCOMPONENTE A BASE DE POLIURETANO (PU) PARA JUNTAS DIVERSAS","310ML",0.161,24.414999999999999,{"$f":"IF(ISNUMBER(F4284),E4284*F4284,\"\")","v":3.9308149999999999},{"$f":"SUM(G4284:G4292)","v":97.425752799999998},null,0]
[null,null,"PREGO DE ACO POLIDO COM CABECA 18 X 27 (2 1/2 X 10)","KG",2.5000000000000001E-2,11.114999999999998,{"$f":"IF(ISNUMBER(F4285),E4285*F4285,\"\")","v":0.27787499999999998},null,null,0]
[null,null,"REBITE DE ALUMINIO VAZADO DE REPUXO, 3,2 X 8 MM (1KG = 1025 UNIDADES)","KG",4.8999999999999998E-3,46.977499999999999,{"$f":"IF(ISNUMBER(F4286),E4286*F4286,\"\")","v":0.23018975},null,null,0]
[null,null,"SOLDA EM BARRA DE ESTANHO-CHUMBO 50/50","KG",0.18,82.060999999999993,{"$f":"IF(ISNUMBER(F4287),E4287*F4287,\"\")","v":14.770979999999998},null,null,0]
[null,null,"CALHA QUADRADA DE CHAPA DE ACO GALVANIZADA NUM 24, CORTE 100 CM","M",1.05,54.662999999999997,{"$f":"IF(ISNUMBER(F4288),E4288*F4288,\"\")","v":57.396149999999999},null,null,0]
[null,null,"SERVENTE COM ENCARGOS COMPLEMENTARES","H",0.63300000000000001,14.554,{"$f":"IF(ISNUMBER(F4289),E4289*F4289,\"\")","v":9.2126820000000009},null,null,0]
[null,null,"TELHADISTA COM ENCARGOS COMPLEMENTARES","H",0.53900000000000003,20.605499999999999,{"$f":"IF(ISNUMBER(F4290),E4290*F4290,\"\")","v":11.1063645},null,null,0]
[null,null,"GUINCHO ELÉTRICO DE COLUNA, CAPACIDADE 400 KG, COM MOTO FREIO, MOTOR TRIFÁSICO DE 1,25 CV - CHP DIURNO. AF_03/2016","CHP",1.32E-2,16.292499999999997,{"$f":"IF(ISNUMBER(F4291),E4291*F4291,\"\")","v":0.21506099999999995},null,null,0]
[null,null,"GUINCHO ELÉTRICO DE COLUNA, CAPACIDADE 400 KG, COM MOTO FREIO, MOTOR TRIFÁSICO DE 1,25 CV - CHI DIURNO. AF_03/2016","CHI",1.83E-2,15.608499999999999,{"$f":"IF(ISNUMBER(F4292),E4292*F4292,\"\")","v":0.28563555000000002},null,null,0]
[null,null,null,null,null,"",{"$f":"IF(ISNUMBER(F4293),E4293*F4293,\"\")","v":""},null,null,0]
["SF-01161",{"$f":"INDEX(Orçamentária!A:B,MATCH(Composições!A4294,Orçamentária!A:A,0),2)","v":"Rufo em Chapa de Aço Galvanizado nº 24"},null,{"$f":"TRIM(INDEX(Orçamentária!C:C,MATCH(Composições!A4294,Orçamentária!A:A,0),1))","v":"m2"},null,"",{"$f":"IF(ISNUMBER(F4294),E4294*F4294,\"\")","v":""},null,null,0]
[null,null,null,null,null,"",{"$f":"IF(ISNUMBER(F4295),E4295*F4295,\"\")","v":""},null,null,0]
[null,null,"SELANTE ELASTICO MONOCOMPONENTE A BASE DE POLIURETANO (PU) PARA JUNTAS DIVERSAS","310ML",{"$f":"0.198*2","v":0.39600000000000002},24.414999999999999,{"$f":"IF(ISNUMBER(F4296),E4296*F4296,\"\")","v":9.6683400000000006},{"$f":"SUM(G4296:G4304)","v":88.23794654999999},null,0]
[null,null,"PREGO DE ACO POLIDO COM CABECA 18 X 27 (2 1/2 X 10)","KG",{"$f":"0.006*2","v":1.2E-2},11.114999999999998,{"$f":"IF(ISNUMBER(F4297),E4297*F4297,\"\")","v":0.13337999999999997},null,null,0]
[null,null,"REBITE DE ALUMINIO VAZADO DE REPUXO, 3,2 X 8 MM (1KG = 1025 UNIDADES)","KG",{"$f":"0.0012*2","v":2.3999999999999998E-3},46.977499999999999,{"$f":"IF(ISNUMBER(F4298),E4298*F4298,\"\")","v":0.11274599999999999},null,null,0]
[null,null,"SOLDA EM BARRA DE ESTANHO-CHUMBO 50/50","KG",{"$f":"0.045*2","v":0.09},82.060999999999993,{"$f":"IF(ISNUMBER(F4299),E4299*F4299,\"\")","v":7.385489999999999},null,null,0]
[null,null,"RUFO INTERNO/EXTERNO DE CHAPA DE ACO GALVANIZADA NUM 24, CORTE 25 CM","M",{"$f":"4*1.05","v":4.2},15.504,{"$f":"IF(ISNUMBER(F4300),E4300*F4300,\"\")","v":65.116799999999998},null,null,0]
[null,null,"SERVENTE COM ENCARGOS COMPLEMENTARES","H",0.20699999999999999,14.554,{"$f":"IF(ISNUMBER(F4301),E4301*F4301,\"\")","v":3.0126779999999997},null,null,0]
[null,null,"TELHADISTA COM ENCARGOS COMPLEMENTARES","H",0.112,20.605499999999999,{"$f":"IF(ISNUMBER(F4302),E4302*F4302,\"\")","v":2.3078159999999999},null,null,0]
[null,null,"GUINCHO ELÉTRICO DE COLUNA, CAPACIDADE 400 KG, COM MOTO FREIO, MOTOR TRIFÁSICO DE 1,25 CV - CHP DIURNO. AF_03/2016","CHP",1.32E-2,16.292499999999997,{"$f":"IF(ISNUMBER(F4303),E4303*F4303,\"\")","v":0.21506099999999995},null,null,0]
[null,null,"GUINCHO ELÉTRICO DE COLUNA, CAPACIDADE 400 KG, COM MOTO FREIO, MOTOR TRIFÁSICO DE 1,25 CV - CHI DIURNO. AF_03/2016","CHI",1.83E-2,15.608499999999999,{"$f":"IF(ISNUMBER(F4304),E4304*F4304,\"\")","v":0.28563555000000002},null,null,0]
[null,null,null,null,null,"",{"$f":"IF(ISNUMBER(F4305),E4305*F4305,\"\")","v":""},null,null,0]
["SF-01163",{"$f":"INDEX(Orçamentária!A:B,MATCH(Composições!A4306,Orçamentária!A:A,0),2)","v":"Chapim Pré-Moldado de Concreto Aparente"},null,{"$f":"TRIM(INDEX(Orçamentária!C:C,MATCH(Composições!A4306,Orçamentária!A:A,0),1))","v":"m"},null,"",{"$f":"IF(ISNUMBER(F4306),E4306*F4306,\"\")","v":""},null,null,0]
[null,null,null,null,null,"",{"$f":"IF(ISNUMBER(F4307),E4307*F4307,\"\")","v":""},null,null,0]
[null,null,"ARAME RECOZIDO 16 BWG, D = 1,65 MM (0,016 KG/M) OU 18 BWG, D = 1,25 MM (0,01 KG/M)","KG",0.02,13.281000000000001,{"$f":"IF(ISNUMBER(F4308),E4308*F4308,\"\")","v":0.26562000000000002},{"$f":"SUM(G4308:G4321)","v":84.631581088499999},null,0]
[null,null,"AREIA GROSSA - POSTO JAZIDA/FORNECEDOR (RETIRADO NA JAZIDA, SEM TRANSPORTE)","m3",0.04,118.7025,{"$f":"IF(ISNUMBER(F4309),E4309*F4309,\"\")","v":4.7481},null,null,0]
[null,null,"ARMADOR COM ENCARGOS COMPLEMENTARES","H",0.8,19.38,{"$f":"IF(ISNUMBER(F4310),E4310*F4310,\"\")","v":15.504},null,null,0]
[null,null,"ACO CA-50, 10,0 MM, OU 12,5 MM, OU 16,0 MM, OU 20,0 MM, DOBRADO E CORTADO","KG",1.35,5.51,{"$f":"IF(ISNUMBER(F4311),E4311*F4311,\"\")","v":7.4385000000000003},null,null,0]
[null,null,"Carpinteiro de formas com encargos complementares","H",0.7,19.341999999999999,{"$f":"IF(ISNUMBER(F4312),E4312*F4312,\"\")","v":13.539399999999999},null,null,0]
[null,null,"Chapa de madeira compensada resinada 1,10 x 2,20 m # 10 mm","m2",1,0,{"$f":"IF(ISNUMBER(F4313),E4313*F4313,\"\")","v":0},null,null,0]
[null,null,"BETONEIRA CAPACIDADE NOMINAL DE 600 L, CAPACIDADE DE MISTURA 360 L, MOTOR ELÉTRICO TRIFÁSICO POTÊNCIA DE 4 CV, SEM CARREGADOR - CHP DIURNO. AF_11/2014","CHP",0.02,3.1635,{"$f":"IF(ISNUMBER(F4314),E4314*F4314,\"\")","v":6.3270000000000007E-2},null,null,0]
[null,null,"CIMENTO PORTLAND COMPOSTO CP II-32","KG",17.36,0.44649999999999995,{"$f":"IF(ISNUMBER(F4315),E4315*F4315,\"\")","v":7.7512399999999992},null,null,0]
[null,null,"PEDRA BRITADA N. 0, OU PEDRISCO (4,8 A 9,5 MM) POSTO PEDREIRA/FORNECEDOR, SEM FRETE","m3",0.09,97.042500000000004,{"$f":"IF(ISNUMBER(F4316),E4316*F4316,\"\")","v":8.7338249999999995},null,null,0]
[null,null,"PREGO DE ACO POLIDO COM CABECA 17 X 21 (2 X 11)","kg",0.02,11.305,{"$f":"IF(ISNUMBER(F4317),E4317*F4317,\"\")","v":0.2261},null,null,0]
[null,null,"PEDREIRO COM ENCARGOS COMPLEMENTARES","h",0.3,19.474999999999998,{"$f":"IF(ISNUMBER(F4318),E4318*F4318,\"\")","v":5.8424999999999994},null,null,0]
[null,null,"SERVENTE COM ENCARGOS COMPLEMENTARES","H",1.1000000000000001,14.554,{"$f":"IF(ISNUMBER(F4319),E4319*F4319,\"\")","v":16.009400000000003},null,null,0]
[null,null,"CARGA, MANOBRA E DESCARGA DE SOLOS E MATERIAIS GRANULARES EM CAMINHÃO BASCULANTE 6 M³ - CARGA COM PÁ CARREGADEIRA (CAÇAMBA DE 1,7 A 2,8 M³ / 128 HP) E DESCARGA LIVRE (UNIDADE: M3). AF_07/2020","m3",{"$f":"1*(E4309+E4316)","v":0.13},4.6197654500000001,{"$f":"IF(ISNUMBER(F4320),E4320*F4320,\"\")","v":0.60056950850000002},null,null,0]
[null,null,"TRANSPORTE COM CAMINHÃO BASCULANTE DE 6 M3, EM VIA URBANA PAVIMENTADA, DMT ATÉ 30 KM (UNIDADE: M3xKM). AF_01/2018","M3xKM",{"$f":"(E4309+E4316)*20","v":2.6},1.5034832999999999,{"$f":"IF(ISNUMBER(F4321),E4321*F4321,\"\")","v":3.9090565799999997},null,null,0]
[null,null,null,null,null,"",{"$f":"IF(ISNUMBER(F4322),E4322*F4322,\"\")","v":""},null,null,0]
[null,null,"Obs: considerando fornecedor de areia e brita a 20 km do Senado Federal",null,null,"",{"$f":"IF(ISNUMBER(F4323),E4323*F4323,\"\")","v":""},null,null,0]
[null,null,null,null,null,"",{"$f":"IF(ISNUMBER(F4324),E4324*F4324,\"\")","v":""},null,null,0]
["SF-01164",{"$f":"INDEX(Orçamentária!A:B,MATCH(Composições!A4325,Orçamentária!A:A,0),2)","v":"Armação em tela de aço soldado nervurada"},null,{"$f":"TRIM(INDEX(Orçamentária!C:C,MATCH(Composições!A4325,Orçamentária!A:A,0),1))","v":"m2"},null,"",{"$f":"IF(ISNUMBER(F4325),E4325*F4325,\"\")","v":""},null,null,0]
[null,null,null,null,null,"",{"$f":"IF(ISNUMBER(F4326),E4326*F4326,\"\")","v":""},null,null,0]
[null,null,"TELA DE ACO SOLDADA NERVURADA, CA-60, Q-92, (1,48 KG/M2), DIAMETRO DO FIO = 4,2 MM, LARGURA = 2,45 X 60 M DE COMPRIMENTO, ESPACAMENTO DA MALHA = 15  X 15 CM","M2",{"$f":"ROUND(0.712*1.48,4)","v":1.0538000000000001},8.9205000000000005,{"$f":"IF(ISNUMBER(F4327),E4327*F4327,\"\")","v":9.4004229000000006},{"$f":"SUM(G4327:G4331)","v":11.112222200000001},null,0]
[null,null,"ESPACADOR / DISTANCIADOR CIRCULAR COM ENTRADA LATERAL, EM PLASTICO, PARA VERGALHAO *4,2 A 12,5* MM, COBRIMENTO 20 MM","UN",{"$f":"ROUND(1.382*1.48,4)","v":2.0453999999999999},0.1235,{"$f":"IF(ISNUMBER(F4328),E4328*F4328,\"\")","v":0.25260689999999997},null,null,0]
[null,null,"ARAME RECOZIDO 16 BWG, D = 1,65 MM (0,016 KG/M) OU 18 BWG, D = 1,25 MM (0,01 KG/M)","KG",{"$f":"ROUND(0.0105*1.48,4)","v":1.55E-2},13.281000000000001,{"$f":"IF(ISNUMBER(F4329),E4329*F4329,\"\")","v":0.2058555},null,null,0]
[null,null,"AJUDANTE DE ARMADOR COM ENCARGOS COMPLEMENTARES","H",{"$f":"ROUND(0.006*1.48,4)","v":8.8999999999999999E-3},15.180999999999999,{"$f":"IF(ISNUMBER(F4330),E4330*F4330,\"\")","v":0.13511089999999998},null,null,0]
[null,null,"ARMADOR COM ENCARGOS COMPLEMENTARES","H",{"$f":"ROUND(0.039*1.48,4)","v":5.7700000000000001E-2},19.38,{"$f":"IF(ISNUMBER(F4331),E4331*F4331,\"\")","v":1.1182259999999999},null,null,0]
[null,null,null,null,null,"",{"$f":"IF(ISNUMBER(F4332),E4332*F4332,\"\")","v":""},null,null,0]
["SF-01165",{"$f":"INDEX(Orçamentária!A:B,MATCH(Composições!A4333,Orçamentária!A:A,0),2)","v":"Trama de aço composta por terças para telhados de até 2 águas"},null,{"$f":"TRIM(INDEX(Orçamentária!C:C,MATCH(Composições!A4333,Orçamentária!A:A,0),1))","v":"m2"},null,"",{"$f":"IF(ISNUMBER(F4333),E4333*F4333,\"\")","v":""},null,null,0]
[null,null,null,null,null,"",{"$f":"IF(ISNUMBER(F4334),E4334*F4334,\"\")","v":""},null,null,0]
[null,null,"PARAFUSO, COMUM, ASTM A307, SEXTAVADO, DIAMETRO 1/2\" (12,7 MM), COMPRIMENTO 1\" (25,4 MM)","CENTO",7.0000000000000001E-3,142.43350000000001,{"$f":"IF(ISNUMBER(F4335),E4335*F4335,\"\")","v":0.99703450000000005},{"$f":"SUM(G4335:G4340)","v":28.624204899999999},null,0]
[null,null,"PERFIL \"U\" ENRIJECIDO DE ACO GALVANIZADO, DOBRADO, 150 X 60 X 20 MM, E = 3,00 MM OU 200 X 75 X 25 MM, E = 3,75 MM","KG",4.3330000000000002,5.2249999999999996,{"$f":"IF(ISNUMBER(F4336),E4336*F4336,\"\")","v":22.639924999999998},null,null,0]
[null,null,"MONTADOR DE ESTRUTURA METÁLICA COM ENCARGOS COMPLEMENTARES","H",0.21299999999999999,14.962499999999999,{"$f":"IF(ISNUMBER(F4337),E4337*F4337,\"\")","v":3.1870124999999998},null,null,0]
[null,null,"SERVENTE COM ENCARGOS COMPLEMENTARES","H",0.106,14.554,{"$f":"IF(ISNUMBER(F4338),E4338*F4338,\"\")","v":1.542724},null,null,0]
[null,null,"GUINCHO ELÉTRICO DE COLUNA, CAPACIDADE 400 KG, COM MOTO FREIO, MOTOR TRIFÁSICO DE 1,25 CV - CHP DIURNO. AF_03/2016","CHP",6.7999999999999996E-3,16.292499999999997,{"$f":"IF(ISNUMBER(F4339),E4339*F4339,\"\")","v":0.11078899999999997},null,null,0]
[null,null,"GUINCHO ELÉTRICO DE COLUNA, CAPACIDADE 400 KG, COM MOTO FREIO, MOTOR TRIFÁSICO DE 1,25 CV - CHI DIURNO. AF_03/2016","CHI",9.4000000000000004E-3,15.608499999999999,{"$f":"IF(ISNUMBER(F4340),E4340*F4340,\"\")","v":0.14671989999999999},null,null,0]
[null,null,null,null,null,"",{"$f":"IF(ISNUMBER(F4341),E4341*F4341,\"\")","v":""},null,null,0]
["SF-01166",{"$f":"INDEX(Orçamentária!A:B,MATCH(Composições!A4342,Orçamentária!A:A,0),2)","v":"Revestimento impermeabilizante bloqueador de umidade"},null,{"$f":"TRIM(INDEX(Orçamentária!C:C,MATCH(Composições!A4342,Orçamentária!A:A,0),1))","v":"m2"},null,"",{"$f":"IF(ISNUMBER(F4342),E4342*F4342,\"\")","v":""},null,null,0]
[null,null,null,null,null,"",{"$f":"IF(ISNUMBER(F4343),E4343*F4343,\"\")","v":""},null,null,0]
[null,null,"Ajudante de pintor com Encargos Complementares","H",0.1,16.653500000000001,{"$f":"IF(ISNUMBER(F4344),E4344*F4344,\"\")","v":1.6653500000000001},{"$f":"SUM(G4344:G4346)","v":5.7693500000000002},null,0]
[null,null,"PINTOR COM ENCARGOS COMPLEMENTARES","H",0.2,20.52,{"$f":"IF(ISNUMBER(F4345),E4345*F4345,\"\")","v":4.1040000000000001},null,null,0]
[null,null,"Revestimento impermabilizante bloqueador de umidade","L",{"$f":"2*3.6/75","v":9.6000000000000002E-2},"",{"$f":"IF(ISNUMBER(F4346),E4346*F4346,\"\")","v":""},null,null,0]
[null,null,null,null,null,"",{"$f":"IF(ISNUMBER(F4347),E4347*F4347,\"\")","v":""},null,null,0]
[null,null,"Obs: considerando rendimento informado na especificação técnica do produto indicado como referência comercial (Lata de 3,6L rende até 3 demãos, com 25 m²/demão).",null,null,"",{"$f":"IF(ISNUMBER(F4348),E4348*F4348,\"\")","v":""},null,null,0]
[null,null,null,null,null,"",{"$f":"IF(ISNUMBER(F4349),E4349*F4349,\"\")","v":""},null,null,0]
["SF-01167",{"$f":"INDEX(Orçamentária!A:B,MATCH(Composições!A4350,Orçamentária!A:A,0),2)","v":"Pintura com tinta refletiva aluminizada para impermeabilização"},null,{"$f":"TRIM(INDEX(Orçamentária!C:C,MATCH(Composições!A4350,Orçamentária!A:A,0),1))","v":"m2"},null,"",{"$f":"IF(ISNUMBER(F4350),E4350*F4350,\"\")","v":""},null,null,0]
[null,null,null,null,null,"",{"$f":"IF(ISNUMBER(F4351),E4351*F4351,\"\")","v":""},null,null,0]
[null,null,"Ajudante de pintor com Encargos Complementares","H",0.1,16.653500000000001,{"$f":"IF(ISNUMBER(F4352),E4352*F4352,\"\")","v":1.6653500000000001},{"$f":"SUM(G4352:G4354)","v":5.7693500000000002},null,0]
[null,null,"PINTOR COM ENCARGOS COMPLEMENTARES","H",0.2,20.52,{"$f":"IF(ISNUMBER(F4353),E4353*F4353,\"\")","v":4.1040000000000001},null,null,0]
[null,null,"Tinta aluminizada de base asfáltica","L",0.5,0,{"$f":"IF(ISNUMBER(F4354),E4354*F4354,\"\")","v":0},null,null,0]
[null,null,null,null,null,"",{"$f":"IF(ISNUMBER(F4355),E4355*F4355,\"\")","v":""},null,null,0]
["SF-01168",{"$f":"INDEX(Orçamentária!A:B,MATCH(Composições!A4356,Orçamentária!A:A,0),2)","v":"Concreto leve com poliestireno expandido"},null,{"$f":"TRIM(INDEX(Orçamentária!C:C,MATCH(Composições!A4356,Orçamentária!A:A,0),1))","v":"m3"},null,"",{"$f":"IF(ISNUMBER(F4356),E4356*F4356,\"\")","v":""},null,null,0]
[null,null,null,null,null,"",{"$f":"IF(ISNUMBER(F4357),E4357*F4357,\"\")","v":""},null,null,0]
[null,null,"SERVENTE COM ENCARGOS COMPLEMENTARES","H",6.5,14.554,{"$f":"IF(ISNUMBER(F4358),E4358*F4358,\"\")","v":94.600999999999999},{"$f":"SUM(G4358:G4364)","v":705.22269445910001},null,0]
[null,null,"AREIA MEDIA - POSTO JAZIDA/FORNECEDOR (RETIRADO NA JAZIDA, SEM TRANSPORTE)","m3",0.35799999999999998,93.8125,{"$f":"IF(ISNUMBER(F4359),E4359*F4359,\"\")","v":33.584874999999997},null,null,0]
[null,null,"CIMENTO PORTLAND COMPOSTO CP II-32","KG",400,0.44649999999999995,{"$f":"IF(ISNUMBER(F4360),E4360*F4360,\"\")","v":178.6},null,null,0]
[null,null,"POLIESTIRENO EXPANDIDO/EPS (ISOPOR), PEROLAS, PARA CONCRETO LEVE","kg",10.5,36.726999999999997,{"$f":"IF(ISNUMBER(F4361),E4361*F4361,\"\")","v":385.63349999999997},null,null,0]
[null,null,"BETONEIRA CAPACIDADE NOMINAL DE 400 L, CAPACIDADE DE MISTURA 280 L, MOTOR ELÉTRICO TRIFÁSICO POTÊNCIA DE 2 CV, SEM CARREGADOR - CHP DIURNO. AF_10/2014","CHP",0.34300000000000003,1.121,{"$f":"IF(ISNUMBER(F4362),E4362*F4362,\"\")","v":0.38450300000000004},null,null,0]
[null,null,"CARGA, MANOBRA E DESCARGA DE SOLOS E MATERIAIS GRANULARES EM CAMINHÃO BASCULANTE 6 M³ - CARGA COM PÁ CARREGADEIRA (CAÇAMBA DE 1,7 A 2,8 M³ / 128 HP) E DESCARGA LIVRE (UNIDADE: M3). AF_07/2020","m3",{"$f":"1*E4359","v":0.35799999999999998},4.6197654500000001,{"$f":"IF(ISNUMBER(F4363),E4363*F4363,\"\")","v":1.6538760311},null,null,0]
[null,null,"TRANSPORTE COM CAMINHÃO BASCULANTE DE 6 M3, EM VIA URBANA PAVIMENTADA, DMT ATÉ 30 KM (UNIDADE: M3xKM). AF_01/2018","M3xKM",{"$f":"E4359*20","v":7.16},1.5034832999999999,{"$f":"IF(ISNUMBER(F4364),E4364*F4364,\"\")","v":10.764940427999999},null,null,0]
[null,null,null,null,null,"",{"$f":"IF(ISNUMBER(F4365),E4365*F4365,\"\")","v":""},null,null,0]
[null,null,"Obs: considerando fornecedor de areia a 20 km do Senado Federal",null,null,"",{"$f":"IF(ISNUMBER(F4366),E4366*F4366,\"\")","v":""},null,null,0]
[null,null,null,null,null,"",{"$f":"IF(ISNUMBER(F4367),E4367*F4367,\"\")","v":""},null,null,0]
["SF-01169",{"$f":"INDEX(Orçamentária!A:B,MATCH(Composições!A4368,Orçamentária!A:A,0),2)","v":"Colagem da camada de proteção térmica de impermeabilização"},null,{"$f":"TRIM(INDEX(Orçamentária!C:C,MATCH(Composições!A4368,Orçamentária!A:A,0),1))","v":"m2"},null,"",{"$f":"IF(ISNUMBER(F4368),E4368*F4368,\"\")","v":""},null,null,0]
[null,null,null,null,null,"",{"$f":"IF(ISNUMBER(F4369),E4369*F4369,\"\")","v":""},null,null,0]
[null,null,"PRIMER PARA MANTA ASFALTICA A BASE DE ASFALTO MODIFICADO DILUIDO EM SOLVENTE, APLICACAO A FRIO","L",0.35,15.1905,{"$f":"IF(ISNUMBER(F4370),E4370*F4370,\"\")","v":5.316675},{"$f":"SUM(G4370:G4371)","v":6.7774425000000003},null,0]
[null,null,"AJUDANTE ESPECIALIZADO COM ENCARGOS COMPLEMENTARES","H",8.5000000000000006E-2,17.185499999999998,{"$f":"IF(ISNUMBER(F4371),E4371*F4371,\"\")","v":1.4607675},null,null,0]
[null,null,null,null,null,"",{"$f":"IF(ISNUMBER(F4372),E4372*F4372,\"\")","v":""},null,null,0]
[null,null,"Obs: Adotou-se o consumo de 350 mL/m², conforme recomendação do fabricante do produto para aplicação homogênea.",null,null,"",{"$f":"IF(ISNUMBER(F4373),E4373*F4373,\"\")","v":""},null,null,0]
[null,null,"http://vedacit.com.br/produtos/primer-eco-vedacit",null,null,"",{"$f":"IF(ISNUMBER(F4374),E4374*F4374,\"\")","v":""},null,null,0]
[null,null,null,null,null,"",{"$f":"IF(ISNUMBER(F4375),E4375*F4375,\"\")","v":""},null,null,0]
["SF-01170",{"$f":"INDEX(Orçamentária!A:B,MATCH(Composições!A4376,Orçamentária!A:A,0),2)","v":"Impermeabilização com Membrana de Poliuretano"},null,{"$f":"TRIM(INDEX(Orçamentária!C:C,MATCH(Composições!A4376,Orçamentária!A:A,0),1))","v":"m2"},null,"",{"$f":"IF(ISNUMBER(F4376),E4376*F4376,\"\")","v":""},null,null,0]
[null,null,null,null,null,"",{"$f":"IF(ISNUMBER(F4377),E4377*F4377,\"\")","v":""},null,null,0]
[null,null,"MEMBRANA IMPERMEABILIZANTE A BASE DE POLIURETANO","KG",2,42.350999999999999,{"$f":"IF(ISNUMBER(F4378),E4378*F4378,\"\")","v":84.701999999999998},{"$f":"SUM(G4378:G4380)","v":95.621907999999991},null,0]
[null,null,"AJUDANTE ESPECIALIZADO COM ENCARGOS COMPLEMENTARES","H",9.6000000000000002E-2,17.185499999999998,{"$f":"IF(ISNUMBER(F4379),E4379*F4379,\"\")","v":1.6498079999999997},null,null,0]
[null,null,"IMPERMEABILIZADOR COM ENCARGOS COMPLEMENTARES","H",0.47599999999999998,19.474999999999998,{"$f":"IF(ISNUMBER(F4380),E4380*F4380,\"\")","v":9.2700999999999993},null,null,0]
[null,null,null,null,null,"",{"$f":"IF(ISNUMBER(F4381),E4381*F4381,\"\")","v":""},null,null,0]
["SF-01171",{"$f":"INDEX(Orçamentária!A:B,MATCH(Composições!A4382,Orçamentária!A:A,0),2)","v":"Impermeabilização com Manta Asfáltica"},null,{"$f":"TRIM(INDEX(Orçamentária!C:C,MATCH(Composições!A4382,Orçamentária!A:A,0),1))","v":"m2"},null,"",{"$f":"IF(ISNUMBER(F4382),E4382*F4382,\"\")","v":""},null,null,0]
[null,null,null,null,null,"",{"$f":"IF(ISNUMBER(F4383),E4383*F4383,\"\")","v":""},null,null,0]
[null,null,"PRIMER PARA MANTA ASFALTICA A BASE DE ASFALTO MODIFICADO DILUIDO EM SOLVENTE, APLICACAO A FRIO","L",0.61499999999999999,15.1905,{"$f":"IF(ISNUMBER(F4384),E4384*F4384,\"\")","v":9.3421575000000008},{"$f":"SUM(G4384:G4388)","v":80.784038499999994},null,0]
[null,null,"MANTA ASFALTICA ELASTOMERICA EM POLIESTER 4 MM, TIPO III, CLASSE B, ACABAMENTO PP (NBR 9952)","M2",1.125,42.958999999999996,{"$f":"IF(ISNUMBER(F4385),E4385*F4385,\"\")","v":48.328874999999996},null,null,0]
[null,null,"GAS DE COZINHA - GLP","KG",0.26,5.1964999999999995,{"$f":"IF(ISNUMBER(F4386),E4386*F4386,\"\")","v":1.3510899999999999},null,null,0]
[null,null,"AJUDANTE ESPECIALIZADO COM ENCARGOS COMPLEMENTARES","H",0.192,17.185499999999998,{"$f":"IF(ISNUMBER(F4387),E4387*F4387,\"\")","v":3.2996159999999994},null,null,0]
[null,null,"IMPERMEABILIZADOR COM ENCARGOS COMPLEMENTARES","H",0.94799999999999995,19.474999999999998,{"$f":"IF(ISNUMBER(F4388),E4388*F4388,\"\")","v":18.462299999999995},null,null,0]
[null,null,null,null,null,"",{"$f":"IF(ISNUMBER(F4389),E4389*F4389,\"\")","v":""},null,null,0]
["SF-01172",{"$f":"INDEX(Orçamentária!A:B,MATCH(Composições!A4390,Orçamentária!A:A,0),2)","v":"Impermeabilização com manta asfáltica aluminizada"},null,{"$f":"TRIM(INDEX(Orçamentária!C:C,MATCH(Composições!A4390,Orçamentária!A:A,0),1))","v":"m2"},null,"",{"$f":"IF(ISNUMBER(F4390),E4390*F4390,\"\")","v":""},null,null,0]
[null,null,null,null,null,"",{"$f":"IF(ISNUMBER(F4391),E4391*F4391,\"\")","v":""},null,null,0]
[null,null,"PRIMER PARA MANTA ASFALTICA A BASE DE ASFALTO MODIFICADO DILUIDO EM SOLVENTE, APLICACAO A FRIO","L",0.61499999999999999,15.1905,{"$f":"IF(ISNUMBER(F4392),E4392*F4392,\"\")","v":9.3421575000000008},{"$f":"SUM(G4392:G4396)","v":32.455163499999998},null,0]
[null,null,"Manta asfáltica aluminizada","M2",1.125,0,{"$f":"IF(ISNUMBER(F4393),E4393*F4393,\"\")","v":0},null,null,0]
[null,null,"GAS DE COZINHA - GLP","KG",0.26,5.1964999999999995,{"$f":"IF(ISNUMBER(F4394),E4394*F4394,\"\")","v":1.3510899999999999},null,null,0]
[null,null,"AJUDANTE ESPECIALIZADO COM ENCARGOS COMPLEMENTARES","H",0.192,17.185499999999998,{"$f":"IF(ISNUMBER(F4395),E4395*F4395,\"\")","v":3.2996159999999994},null,null,0]
[null,null,"IMPERMEABILIZADOR COM ENCARGOS COMPLEMENTARES","H",0.94799999999999995,19.474999999999998,{"$f":"IF(ISNUMBER(F4396),E4396*F4396,\"\")","v":18.462299999999995},null,null,0]
[null,null,null,null,null,"",{"$f":"IF(ISNUMBER(F4397),E4397*F4397,\"\")","v":""},null,null,0]
["SF-01173",{"$f":"INDEX(Orçamentária!A:B,MATCH(Composições!A4398,Orçamentária!A:A,0),2)","v":"Impermeabilização com manta elastomérica de etileno-propileno-dieno-monômero (EPDM)"},null,{"$f":"TRIM(INDEX(Orçamentária!C:C,MATCH(Composições!A4398,Orçamentária!A:A,0),1))","v":"m2"},null,"",{"$f":"IF(ISNUMBER(F4398),E4398*F4398,\"\")","v":""},null,null,0]
[null,null,null,null,null,"",{"$f":"IF(ISNUMBER(F4399),E4399*F4399,\"\")","v":""},null,null,0]
[null,null,"IMPERMEABILIZADOR COM ENCARGOS COMPLEMENTARES","H",0.5,19.474999999999998,{"$f":"IF(ISNUMBER(F4400),E4400*F4400,\"\")","v":9.7374999999999989},{"$f":"SUM(G4400:G4406)","v":18.330249999999999},null,0]
[null,null,"AJUDANTE ESPECIALIZADO COM ENCARGOS COMPLEMENTARES","H",0.5,17.185499999999998,{"$f":"IF(ISNUMBER(F4401),E4401*F4401,\"\")","v":8.5927499999999988},null,null,0]
[null,null,"Emulsão hidro-asfáltica","KG",0.8,0,{"$f":"IF(ISNUMBER(F4402),E4402*F4402,\"\")","v":0},null,null,0]
[null,null,"Tinta betuminosa","L",0.6,0,{"$f":"IF(ISNUMBER(F4403),E4403*F4403,\"\")","v":0},null,null,0]
[null,null,"Manta butílica # 0,8 mm","m2",1.1000000000000001,0,{"$f":"IF(ISNUMBER(F4404),E4404*F4404,\"\")","v":0},null,null,0]
[null,null,"Fita de caldeação para manta butilíca largura 50 mm # 3 mm","m",2,0,{"$f":"IF(ISNUMBER(F4405),E4405*F4405,\"\")","v":0},null,null,0]
[null,null,"Adesivo auto vulcanizante para manta butilíca","L",0.2,0,{"$f":"IF(ISNUMBER(F4406),E4406*F4406,\"\")","v":0},null,null,0]
[null,null,null,null,null,"",{"$f":"IF(ISNUMBER(F4407),E4407*F4407,\"\")","v":""},null,null,0]
["SF-01174",{"$f":"INDEX(Orçamentária!A:B,MATCH(Composições!A4408,Orçamentária!A:A,0),2)","v":"Impermeabilização com membrana acrílica"},null,{"$f":"TRIM(INDEX(Orçamentária!C:C,MATCH(Composições!A4408,Orçamentária!A:A,0),1))","v":"m2"},null,"",{"$f":"IF(ISNUMBER(F4408),E4408*F4408,\"\")","v":""},null,null,0]
[null,null,null,null,null,"",{"$f":"IF(ISNUMBER(F4409),E4409*F4409,\"\")","v":""},null,null,0]
[null,null,"MEMBRANA IMPERMEABILIZANTE ACRILICA MONOCOMPONENTE","KG",1.2,16.397000000000002,{"$f":"IF(ISNUMBER(F4410),E4410*F4410,\"\")","v":19.676400000000001},{"$f":"SUM(G4410:G4412)","v":32.943653499999996},null,0]
[null,null,"AJUDANTE ESPECIALIZADO COM ENCARGOS COMPLEMENTARES","H",0.11700000000000001,17.185499999999998,{"$f":"IF(ISNUMBER(F4411),E4411*F4411,\"\")","v":2.0107035},null,null,0]
[null,null,"IMPERMEABILIZADOR COM ENCARGOS COMPLEMENTARES","H",0.57799999999999996,19.474999999999998,{"$f":"IF(ISNUMBER(F4412),E4412*F4412,\"\")","v":11.256549999999997},null,null,0]
[null,null,null,null,null,"",{"$f":"IF(ISNUMBER(F4413),E4413*F4413,\"\")","v":""},null,null,0]
["SF-01175",{"$f":"INDEX(Orçamentária!A:B,MATCH(Composições!A4414,Orçamentária!A:A,0),2)","v":"Asfalto elastomérico para colagem de manta asfáltica"},null,{"$f":"TRIM(INDEX(Orçamentária!C:C,MATCH(Composições!A4414,Orçamentária!A:A,0),1))","v":"m2"},null,"",{"$f":"IF(ISNUMBER(F4414),E4414*F4414,\"\")","v":""},null,null,0]
[null,null,null,null,null,"",{"$f":"IF(ISNUMBER(F4415),E4415*F4415,\"\")","v":""},null,null,0]
[null,null,"Asfalto elastomérico","KG",3,"",{"$f":"IF(ISNUMBER(F4416),E4416*F4416,\"\")","v":""},{"$f":"SUM(G4416:G4417)","v":3.8949999999999996},null,0]
[null,null,"IMPERMEABILIZADOR COM ENCARGOS COMPLEMENTARES","H",0.2,19.474999999999998,{"$f":"IF(ISNUMBER(F4417),E4417*F4417,\"\")","v":3.8949999999999996},null,null,0]
[null,null,null,null,null,"",{"$f":"IF(ISNUMBER(F4418),E4418*F4418,\"\")","v":""},null,null,0]
[null,null,"*Adotou-se o consumo de 2 kg/m², valor intermediário da recomendação do fabricante do produto.",null,null,"",{"$f":"IF(ISNUMBER(F4419),E4419*F4419,\"\")","v":""},null,null,0]
[null,null,"http://www.denverimper.com.br/files/produtos/0000001-0000500/122/e5fe48d2b8810574e94921c5fb6cea0c.pdf",null,null,"",{"$f":"IF(ISNUMBER(F4420),E4420*F4420,\"\")","v":""},null,null,0]
[null,null,null,null,null,"",{"$f":"IF(ISNUMBER(F4421),E4421*F4421,\"\")","v":""},null,null,0]
["SF-01176",{"$f":"INDEX(Orçamentária!A:B,MATCH(Composições!A4422,Orçamentária!A:A,0),2)","v":"Impermeabilização com manta dupla (com maçarico)"},null,{"$f":"TRIM(INDEX(Orçamentária!C:C,MATCH(Composições!A4422,Orçamentária!A:A,0),1))","v":"m2"},null,"",{"$f":"IF(ISNUMBER(F4422),E4422*F4422,\"\")","v":""},null,null,0]
[null,null,null,null,null,"",{"$f":"IF(ISNUMBER(F4423),E4423*F4423,\"\")","v":""},null,null,0]
[null,null,"PRIMER PARA MANTA ASFALTICA A BASE DE ASFALTO MODIFICADO DILUIDO EM SOLVENTE, APLICACAO A FRIO","L",0.61499999999999999,15.1905,{"$f":"IF(ISNUMBER(F4424),E4424*F4424,\"\")","v":9.3421575000000008},{"$f":"SUM(G4424:G4429)","v":131.28028149999997},null,0]
[null,null,"MANTA ASFALTICA ELASTOMERICA EM POLIESTER 3 MM, TIPO III, CLASSE B, ACABAMENTO PP (NBR 9952)","M2",1.125,34.978999999999999,{"$f":"IF(ISNUMBER(F4425),E4425*F4425,\"\")","v":39.351374999999997},null,null,0]
[null,null,"MANTA ASFALTICA ELASTOMERICA EM POLIESTER 4 MM, TIPO III, CLASSE B, ACABAMENTO PP (NBR 9952)","M2",1.125,42.958999999999996,{"$f":"IF(ISNUMBER(F4426),E4426*F4426,\"\")","v":48.328874999999996},null,null,0]
[null,null,"GAS DE COZINHA - GLP","KG",0.52,5.1964999999999995,{"$f":"IF(ISNUMBER(F4427),E4427*F4427,\"\")","v":2.7021799999999998},null,null,0]
[null,null,"AJUDANTE ESPECIALIZADO COM ENCARGOS COMPLEMENTARES","H",0.27800000000000002,17.185499999999998,{"$f":"IF(ISNUMBER(F4428),E4428*F4428,\"\")","v":4.7775689999999997},null,null,0]
[null,null,"IMPERMEABILIZADOR COM ENCARGOS COMPLEMENTARES","H",1.375,19.474999999999998,{"$f":"IF(ISNUMBER(F4429),E4429*F4429,\"\")","v":26.778124999999996},null,null,0]
[null,null,null,null,null,"",{"$f":"IF(ISNUMBER(F4430),E4430*F4430,\"\")","v":""},null,null,0]
["SF-01177",{"$f":"INDEX(Orçamentária!A:B,MATCH(Composições!A4431,Orçamentária!A:A,0),2)","v":"Impermeabilização com manta dupla (com asfalto elastomérico)"},null,{"$f":"TRIM(INDEX(Orçamentária!C:C,MATCH(Composições!A4431,Orçamentária!A:A,0),1))","v":"m2"},null,"",{"$f":"IF(ISNUMBER(F4431),E4431*F4431,\"\")","v":""},null,null,0]
[null,null,null,null,null,"",{"$f":"IF(ISNUMBER(F4432),E4432*F4432,\"\")","v":""},null,null,0]
[null,null,"PRIMER PARA MANTA ASFALTICA A BASE DE ASFALTO MODIFICADO DILUIDO EM SOLVENTE, APLICACAO A FRIO","L",0.61499999999999999,15.1905,{"$f":"IF(ISNUMBER(F4433),E4433*F4433,\"\")","v":9.3421575000000008},{"$f":"SUM(G4433:G4438)","v":133.35567049999997},null,0]
[null,null,"MANTA ASFALTICA ELASTOMERICA EM POLIESTER 3 MM, TIPO III, CLASSE B, ACABAMENTO PP (NBR 9952)","M2",1.125,34.978999999999999,{"$f":"IF(ISNUMBER(F4434),E4434*F4434,\"\")","v":39.351374999999997},null,null,0]
[null,null,"MANTA ASFALTICA ELASTOMERICA EM POLIESTER 4 MM, TIPO III, CLASSE B, ACABAMENTO PP (NBR 9952)","M2",1.125,42.958999999999996,{"$f":"IF(ISNUMBER(F4435),E4435*F4435,\"\")","v":48.328874999999996},null,null,0]
[null,null,"Asfalto elastomérico","KG",2,"",{"$f":"IF(ISNUMBER(F4436),E4436*F4436,\"\")","v":""},null,null,0]
[null,null,"AJUDANTE ESPECIALIZADO COM ENCARGOS COMPLEMENTARES","H",{"$f":"0.278*2","v":0.55600000000000005},17.185499999999998,{"$f":"IF(ISNUMBER(F4437),E4437*F4437,\"\")","v":9.5551379999999995},null,null,0]
[null,null,"IMPERMEABILIZADOR COM ENCARGOS COMPLEMENTARES","H",1.375,19.474999999999998,{"$f":"IF(ISNUMBER(F4438),E4438*F4438,\"\")","v":26.778124999999996},null,null,0]
[null,null,null,null,null,"",{"$f":"IF(ISNUMBER(F4439),E4439*F4439,\"\")","v":""},null,null,0]
[null,null,"*Adotou-se o consumo de 2 kg/m², valor intermediário da recomendação do fabricante do produto.",null,null,"",{"$f":"IF(ISNUMBER(F4440),E4440*F4440,\"\")","v":""},null,null,0]
[null,null,"http://www.denverimper.com.br/files/produtos/0000001-0000500/122/e5fe48d2b8810574e94921c5fb6cea0c.pdf",null,null,"",{"$f":"IF(ISNUMBER(F4441),E4441*F4441,\"\")","v":""},null,null,0]
[null,null,null,null,null,"",{"$f":"IF(ISNUMBER(F4442),E4442*F4442,\"\")","v":""},null,null,0]
["SF-01179",{"$f":"INDEX(Orçamentária!A:B,MATCH(Composições!A4443,Orçamentária!A:A,0),2)","v":"Aditivo Incorporador de Ar"},null,{"$f":"TRIM(INDEX(Orçamentária!C:C,MATCH(Composições!A4443,Orçamentária!A:A,0),1))","v":"kg"},null,"",{"$f":"IF(ISNUMBER(F4443),E4443*F4443,\"\")","v":""},null,null,0]
[null,null,null,null,null,"",{"$f":"IF(ISNUMBER(F4444),E4444*F4444,\"\")","v":""},null,null,0]
[null,null,"ADITIVO LIQUIDO INCORPORADOR DE AR PARA CONCRETO E ARGAMASSA, LIQUIDO E ISENTO DE CLORETOS","L",1.01,5.0444999999999993,{"$f":"IF(ISNUMBER(F4445),E4445*F4445,\"\")","v":5.0949449999999992},{"$f":"SUM(G4445:G4445)","v":5.0949449999999992},null,0]
[null,null,null,null,null,"",{"$f":"IF(ISNUMBER(F4446),E4446*F4446,\"\")","v":""},null,null,0]
[null,null,"Obs: considerando 1,01 L/kg, conforme especificado na ficha técnica do produto indicado como referência comercial.",null,null,"",{"$f":"IF(ISNUMBER(F4447),E4447*F4447,\"\")","v":""},null,null,0]
[null,null,null,null,null,"",{"$f":"IF(ISNUMBER(F4448),E4448*F4448,\"\")","v":""},null,null,0]
["SF-01180",{"$f":"INDEX(Orçamentária!A:B,MATCH(Composições!A4449,Orçamentária!A:A,0),2)","v":"Brita Nº 2"},null,{"$f":"TRIM(INDEX(Orçamentária!C:C,MATCH(Composições!A4449,Orçamentária!A:A,0),1))","v":"m3"},null,"",{"$f":"IF(ISNUMBER(F4449),E4449*F4449,\"\")","v":""},null,null,0]
[null,null,null,null,null,"",{"$f":"IF(ISNUMBER(F4450),E4450*F4450,\"\")","v":""},null,null,0]
[null,null,"PEDRA BRITADA N. 2 (19 A 38 MM) POSTO PEDREIRA/FORNECEDOR, SEM FRETE","m3",1,76,{"$f":"IF(ISNUMBER(F4451),E4451*F4451,\"\")","v":76},{"$f":"SUM(G4451:G4453)","v":110.68943145},null,0]
[null,null,"CARGA, MANOBRA E DESCARGA DE SOLOS E MATERIAIS GRANULARES EM CAMINHÃO BASCULANTE 6 M³ - CARGA COM PÁ CARREGADEIRA (CAÇAMBA DE 1,7 A 2,8 M³ / 128 HP) E DESCARGA LIVRE (UNIDADE: M3). AF_07/2020","m3",{"$f":"1*E4451","v":1},4.6197654500000001,{"$f":"IF(ISNUMBER(F4452),E4452*F4452,\"\")","v":4.6197654500000001},null,null,0]
[null,null,"TRANSPORTE COM CAMINHÃO BASCULANTE DE 6 M3, EM VIA URBANA PAVIMENTADA, DMT ATÉ 30 KM (UNIDADE: M3xKM). AF_01/2018","M3xKM",{"$f":"E4451*20","v":20},1.5034832999999999,{"$f":"IF(ISNUMBER(F4453),E4453*F4453,\"\")","v":30.069665999999998},null,null,0]
[null,null,null,null,null,"",{"$f":"IF(ISNUMBER(F4454),E4454*F4454,\"\")","v":""},null,null,0]
[null,null,"Obs: considerando fornecedor de brita a 20 km do Senado Federal",null,null,"",{"$f":"IF(ISNUMBER(F4455),E4455*F4455,\"\")","v":""},null,null,0]
[null,null,null,null,null,"",{"$f":"IF(ISNUMBER(F4456),E4456*F4456,\"\")","v":""},null,null,0]
["SF-01232",{"$f":"INDEX(Orçamentária!A:B,MATCH(Composições!A4457,Orçamentária!A:A,0),2)","v":"Carpete aveludado azul royal - fornecimento e instalação"},null,{"$f":"TRIM(INDEX(Orçamentária!C:C,MATCH(Composições!A4457,Orçamentária!A:A,0),1))","v":"m2"},null,"",{"$f":"IF(ISNUMBER(F4457),E4457*F4457,\"\")","v":""},null,null,0]
[null,null,null,null,null,"",{"$f":"IF(ISNUMBER(F4458),E4458*F4458,\"\")","v":""},null,null,0]
[null,null,"PEDREIRO COM ENCARGOS COMPLEMENTARES","H",0.1,19.474999999999998,{"$f":"IF(ISNUMBER(F4459),E4459*F4459,\"\")","v":1.9474999999999998},{"$f":"SUM(G4459:G4466)","v":10.878450000000001},null,0]
[null,null,"SERVENTE COM ENCARGOS COMPLEMENTARES","H",0.1,14.554,{"$f":"IF(ISNUMBER(F4460),E4460*F4460,\"\")","v":1.4554},null,null,0]
[null,null,"Cola de contato a base d'água","KG",0.1,"",{"$f":"IF(ISNUMBER(F4461),E4461*F4461,\"\")","v":""},null,null,0]
[null,null,"Carpete aveludado azul royal, para uso comercial, adequado para tráfego pesado, conforme especificações técnicas.","m2",1.1000000000000001,"",{"$f":"IF(ISNUMBER(F4462),E4462*F4462,\"\")","v":""},null,null,0]
[null,null,"PEDREIRO COM ENCARGOS COMPLEMENTARES","H",0.2,19.474999999999998,{"$f":"IF(ISNUMBER(F4463),E4463*F4463,\"\")","v":3.8949999999999996},null,null,0]
[null,null,"SERVENTE COM ENCARGOS COMPLEMENTARES","H",0.2,14.554,{"$f":"IF(ISNUMBER(F4464),E4464*F4464,\"\")","v":2.9108000000000001},null,null,0]
[null,null,"CIMENTO PORTLAND COMPOSTO CP II-32","KG",1.5,0.44649999999999995,{"$f":"IF(ISNUMBER(F4465),E4465*F4465,\"\")","v":0.66974999999999996},null,null,0]
[null,null,"Adjuvante para argamassa base PVA","KG",{"$f":"ROUND(E4465*0.1,2)","v":0.15},"",{"$f":"IF(ISNUMBER(F4466),E4466*F4466,\"\")","v":""},null,null,0]
[null,null,null,null,null,"",{"$f":"IF(ISNUMBER(F4467),E4467*F4467,\"\")","v":""},null,null,0]
["SF-01233",{"$f":"INDEX(Orçamentária!A:B,MATCH(Composições!A4468,Orçamentária!A:A,0),2)","v":"Demolição de revestimento de piso têxtil (carpete)"},null,{"$f":"TRIM(INDEX(Orçamentária!C:C,MATCH(Composições!A4468,Orçamentária!A:A,0),1))","v":"m2"},null,"",{"$f":"IF(ISNUMBER(F4468),E4468*F4468,\"\")","v":""},null,null,0]
[null,null,null,null,null,"",{"$f":"IF(ISNUMBER(F4469),E4469*F4469,\"\")","v":""},null,null,0]
[null,null,"PEDREIRO COM ENCARGOS COMPLEMENTARES","H",0.01,19.474999999999998,{"$f":"IF(ISNUMBER(F4470),E4470*F4470,\"\")","v":0.19474999999999998},{"$f":"SUM(G4470:G4471)","v":1.65015},null,0]
[null,null,"SERVENTE COM ENCARGOS COMPLEMENTARES","H",0.1,14.554,{"$f":"IF(ISNUMBER(F4471),E4471*F4471,\"\")","v":1.4554},null,null,0]
[null,null,null,null,null,"",{"$f":"IF(ISNUMBER(F4472),E4472*F4472,\"\")","v":""},null,null,0]
["SF-01235",{"$f":"INDEX(Orçamentária!A:B,MATCH(Composições!A4473,Orçamentária!A:A,0),2)","v":"Bancada em granito cinza andorinha polido - 2,40 m x 0,60 m"},null,{"$f":"TRIM(INDEX(Orçamentária!C:C,MATCH(Composições!A4473,Orçamentária!A:A,0),1))","v":"un"},null,"",{"$f":"IF(ISNUMBER(F4473),E4473*F4473,\"\")","v":""},null,null,0]
[null,null,null,null,null,"",{"$f":"IF(ISNUMBER(F4474),E4474*F4474,\"\")","v":""},null,null,0]
[null,null,"MASSA PLASTICA PARA MARMORE/GRANITO","KG",{"$f":"0.5228*2.4/1.5","v":0.83648},25.412499999999998,{"$f":"IF(ISNUMBER(F4475),E4475*F4475,\"\")","v":21.257047999999998},{"$f":"SUM(G4475:G4481)","v":867.13735503999987},null,0]
[null,null,"BUCHA DE NYLON SEM ABA S10, COM PARAFUSO DE 6,10 X 65 MM EM ACO ZINCADO COM ROSCA SOBERBA, CABECA CHATA E FENDA PHILLIPS","UN",9,0.874,{"$f":"IF(ISNUMBER(F4476),E4476*F4476,\"\")","v":7.8659999999999997},null,null,0]
[null,null,"GRANITO PARA BANCADA, POLIDO, TIPO ANDORINHA/ QUARTZ/ CASTELO/ CORUMBA OU OUTROS EQUIVALENTES DA REGIAO, E=  *2,5* CM","M2",{"$f":"1.005*2.4/1.5","v":1.6079999999999997},473.2045,{"$f":"IF(ISNUMBER(F4477),E4477*F4477,\"\")","v":760.91283599999986},null,null,0]
[null,null,"REJUNTE EPOXI, QUALQUER COR","KG",{"$f":"0.0211*2.4/1.5","v":3.3759999999999998E-2},50.511499999999998,{"$f":"IF(ISNUMBER(F4478),E4478*F4478,\"\")","v":1.7052682399999999},null,null,0]
[null,null,"SUPORTE MAO-FRANCESA EM ACO, ABAS IGUAIS 40 CM, CAPACIDADE MINIMA 70 KG, BRANCO","UN",3,12.226499999999998,{"$f":"IF(ISNUMBER(F4479),E4479*F4479,\"\")","v":36.67949999999999},null,null,0]
[null,null,"MARMORISTA/GRANITEIRO COM ENCARGOS COMPLEMENTARES","H",1.4944,16.330500000000001,{"$f":"IF(ISNUMBER(F4480),E4480*F4480,\"\")","v":24.404299200000001},null,null,0]
[null,null,"SERVENTE COM ENCARGOS COMPLEMENTARES","H",0.98340000000000005,14.554,{"$f":"IF(ISNUMBER(F4481),E4481*F4481,\"\")","v":14.312403600000001},null,null,0]
[null,null,null,null,null,"",{"$f":"IF(ISNUMBER(F4482),E4482*F4482,\"\")","v":""},null,null,0]
["SF-01236",{"$f":"INDEX(Orçamentária!A:B,MATCH(Composições!A4483,Orçamentária!A:A,0),2)","v":"Bancada em granito cinza andorinha polido - 2,50 m x 0,60 m"},null,{"$f":"TRIM(INDEX(Orçamentária!C:C,MATCH(Composições!A4483,Orçamentária!A:A,0),1))","v":"un"},null,"",{"$f":"IF(ISNUMBER(F4483),E4483*F4483,\"\")","v":""},null,null,0]
[null,null,null,null,null,"",{"$f":"IF(ISNUMBER(F4484),E4484*F4484,\"\")","v":""},null,null,0]
[null,null,"MASSA PLASTICA PARA MARMORE/GRANITO","KG",{"$f":"0.5228*2.5/1.5","v":0.8713333333333334},25.412499999999998,{"$f":"IF(ISNUMBER(F4485),E4485*F4485,\"\")","v":22.142758333333333},{"$f":"SUM(G4485:G4491)","v":899.79881971666646},null,0]
[null,null,"BUCHA DE NYLON SEM ABA S10, COM PARAFUSO DE 6,10 X 65 MM EM ACO ZINCADO COM ROSCA SOBERBA, CABECA CHATA E FENDA PHILLIPS","UN",9,0.874,{"$f":"IF(ISNUMBER(F4486),E4486*F4486,\"\")","v":7.8659999999999997},null,null,0]
[null,null,"GRANITO PARA BANCADA, POLIDO, TIPO ANDORINHA/ QUARTZ/ CASTELO/ CORUMBA OU OUTROS EQUIVALENTES DA REGIAO, E=  *2,5* CM","M2",{"$f":"1.005*2.5/1.5","v":1.6749999999999998},473.2045,{"$f":"IF(ISNUMBER(F4487),E4487*F4487,\"\")","v":792.61753749999991},null,null,0]
[null,null,"REJUNTE EPOXI, QUALQUER COR","KG",{"$f":"0.0211*2.5/1.5","v":3.5166666666666672E-2},50.511499999999998,{"$f":"IF(ISNUMBER(F4488),E4488*F4488,\"\")","v":1.7763210833333336},null,null,0]
[null,null,"SUPORTE MAO-FRANCESA EM ACO, ABAS IGUAIS 40 CM, CAPACIDADE MINIMA 70 KG, BRANCO","UN",3,12.226499999999998,{"$f":"IF(ISNUMBER(F4489),E4489*F4489,\"\")","v":36.67949999999999},null,null,0]
[null,null,"MARMORISTA/GRANITEIRO COM ENCARGOS COMPLEMENTARES","H",1.4944,16.330500000000001,{"$f":"IF(ISNUMBER(F4490),E4490*F4490,\"\")","v":24.404299200000001},null,null,0]
[null,null,"SERVENTE COM ENCARGOS COMPLEMENTARES","H",0.98340000000000005,14.554,{"$f":"IF(ISNUMBER(F4491),E4491*F4491,\"\")","v":14.312403600000001},null,null,0]
[null,null,null,null,null,"",{"$f":"IF(ISNUMBER(F4492),E4492*F4492,\"\")","v":""},null,null,0]
["SF-01240",{"$f":"INDEX(Orçamentária!A:B,MATCH(Composições!A4493,Orçamentária!A:A,0),2)","v":"Batedor/limitador inferior para box de correr"},null,{"$f":"TRIM(INDEX(Orçamentária!C:C,MATCH(Composições!A4493,Orçamentária!A:A,0),1))","v":"un"},null,"",{"$f":"IF(ISNUMBER(F4493),E4493*F4493,\"\")","v":""},null,null,0]
[null,null,null,null,null,"",{"$f":"IF(ISNUMBER(F4494),E4494*F4494,\"\")","v":""},null,null,0]
[null,null,"Vidraceiro com encargos complementares","h",0.15,18.145,{"$f":"IF(ISNUMBER(F4495),E4495*F4495,\"\")","v":2.7217499999999997},{"$f":"SUM(G4495:G4496)","v":2.7217499999999997},null,0]
[null,null,"Batedor/limitador inferior para box de correr, em material polimérico sintético","un",1,"",{"$f":"IF(ISNUMBER(F4496),E4496*F4496,\"\")","v":""},null,null,0]
[null,null,null,null,null,"",{"$f":"IF(ISNUMBER(F4497),E4497*F4497,\"\")","v":""},null,null,0]
["SF-01241",{"$f":"INDEX(Orçamentária!A:B,MATCH(Composições!A4498,Orçamentária!A:A,0),2)","v":"Batedor/amortecedor lateral para box de correr"},null,{"$f":"TRIM(INDEX(Orçamentária!C:C,MATCH(Composições!A4498,Orçamentária!A:A,0),1))","v":"un"},null,"",{"$f":"IF(ISNUMBER(F4498),E4498*F4498,\"\")","v":""},null,null,0]
[null,null,null,null,null,"",{"$f":"IF(ISNUMBER(F4499),E4499*F4499,\"\")","v":""},null,null,0]
[null,null,"Vidraceiro com encargos complementares","h",0.15,18.145,{"$f":"IF(ISNUMBER(F4500),E4500*F4500,\"\")","v":2.7217499999999997},{"$f":"SUM(G4500:G4501)","v":2.7217499999999997},null,0]
[null,null,"Batedor/amortecedor lateral de borracha para box de correr.","un",1,"",{"$f":"IF(ISNUMBER(F4501),E4501*F4501,\"\")","v":""},null,null,0]
[null,null,null,null,null,"",{"$f":"IF(ISNUMBER(F4502),E4502*F4502,\"\")","v":""},null,null,0]
["SF-01242",{"$f":"INDEX(Orçamentária!A:B,MATCH(Composições!A4503,Orçamentária!A:A,0),2)","v":"Batedor/limitador superior para box de correr"},null,{"$f":"TRIM(INDEX(Orçamentária!C:C,MATCH(Composições!A4503,Orçamentária!A:A,0),1))","v":"un"},null,"",{"$f":"IF(ISNUMBER(F4503),E4503*F4503,\"\")","v":""},null,null,0]
[null,null,null,null,null,"",{"$f":"IF(ISNUMBER(F4504),E4504*F4504,\"\")","v":""},null,null,0]
[null,null,"Vidraceiro com encargos complementares","h",0.15,18.145,{"$f":"IF(ISNUMBER(F4505),E4505*F4505,\"\")","v":2.7217499999999997},{"$f":"SUM(G4505:G4506)","v":2.7217499999999997},null,0]
[null,null,"Batedor/limitador superior para roldana de box de correr, em material polimérico sintético","un",1,"",{"$f":"IF(ISNUMBER(F4506),E4506*F4506,\"\")","v":""},null,null,0]
[null,null,null,null,null,"",{"$f":"IF(ISNUMBER(F4507),E4507*F4507,\"\")","v":""},null,null,0]
["SF-01243",{"$f":"INDEX(Orçamentária!A:B,MATCH(Composições!A4508,Orçamentária!A:A,0),2)","v":"Perfil cadeirinha em alumínio com encaixe para escova de vedação para vidro temperado 8mm"},null,{"$f":"TRIM(INDEX(Orçamentária!C:C,MATCH(Composições!A4508,Orçamentária!A:A,0),1))","v":"m"},null,"",{"$f":"IF(ISNUMBER(F4508),E4508*F4508,\"\")","v":""},null,null,0]
[null,null,null,null,null,"",{"$f":"IF(ISNUMBER(F4509),E4509*F4509,\"\")","v":""},null,null,0]
[null,null,"Vidraceiro com encargos complementares","h",0.2,18.145,{"$f":"IF(ISNUMBER(F4510),E4510*F4510,\"\")","v":3.629},{"$f":"SUM(G4510:G4511)","v":7.2595010000000002},null,0]
[null,null,"PERFIL DE ALUMINIO ANODIZADO","kg",0.126,28.813499999999998,{"$f":"IF(ISNUMBER(F4511),E4511*F4511,\"\")","v":3.6305009999999998},null,null,0]
[null,null,null,null,null,null,null,null,null,0]
[null,null,"Ref.: AL Indústria Ref.: AL-63",null,null,null,null,null,null,0]
[null,null,"Fonte: http://www.alpuxadores.com.br/baixar/catalogo.pdf",null,null,"",{"$f":"IF(ISNUMBER(F4514),E4514*F4514,\"\")","v":""},null,null,0]
[null,null,null,null,null,null,null,null,null,0]
["SF-01244",{"$f":"INDEX(Orçamentária!A:B,MATCH(Composições!A4516,Orçamentária!A:A,0),2)","v":"Perfil em alumínio para acabamento de trilho superior - Vidro temperado 8mm"},null,{"$f":"TRIM(INDEX(Orçamentária!C:C,MATCH(Composições!A4516,Orçamentária!A:A,0),1))","v":"m"},null,"",{"$f":"IF(ISNUMBER(F4516),E4516*F4516,\"\")","v":""},null,null,0]
[null,null,null,null,null,"",{"$f":"IF(ISNUMBER(F4517),E4517*F4517,\"\")","v":""},null,null,0]
[null,null,"Vidraceiro com encargos complementares","h",0.2,18.145,{"$f":"IF(ISNUMBER(F4518),E4518*F4518,\"\")","v":3.629},{"$f":"SUM(G4518:G4519)","v":10.1120375},null,0]
[null,null,"PERFIL DE ALUMINIO ANODIZADO","kg",0.22500000000000001,28.813499999999998,{"$f":"IF(ISNUMBER(F4519),E4519*F4519,\"\")","v":6.4830375},null,null,0]
[null,null,null,null,null,null,null,null,null,0]
[null,null,"Ref.: AL Indústria Ref.: AL-BX-02",null,null,null,null,null,null,0]
[null,null,"Fonte: http://www.alpuxadores.com.br/baixar/catalogo.pdf",null,null,null,null,null,null,0]
[null,null,null,null,null,"",{"$f":"IF(ISNUMBER(F4523),E4523*F4523,\"\")","v":""},null,null,0]
["SF-01245",{"$f":"INDEX(Orçamentária!A:B,MATCH(Composições!A4524,Orçamentária!A:A,0),2)","v":"Capa do Perfil Guia Inferior “Click” - Vidro temperado 8mm"},null,{"$f":"TRIM(INDEX(Orçamentária!C:C,MATCH(Composições!A4524,Orçamentária!A:A,0),1))","v":"m"},null,"",{"$f":"IF(ISNUMBER(F4524),E4524*F4524,\"\")","v":""},null,null,0]
[null,null,null,null,null,"",{"$f":"IF(ISNUMBER(F4525),E4525*F4525,\"\")","v":""},null,null,0]
[null,null,"Vidraceiro com encargos complementares","h",0.15,18.145,{"$f":"IF(ISNUMBER(F4526),E4526*F4526,\"\")","v":2.7217499999999997},{"$f":"SUM(G4526:G4527)","v":4.3064924999999992},null,0]
[null,null,"PERFIL DE ALUMINIO ANODIZADO","kg",5.5E-2,28.813499999999998,{"$f":"IF(ISNUMBER(F4527),E4527*F4527,\"\")","v":1.5847424999999999},null,null,0]
[null,null,null,null,null,null,null,null,null,0]
[null,null,"Ref.: AL Indústria Ref.: AL-BX-07",null,null,null,null,null,null,0]
[null,null,"Fonte: http://www.alpuxadores.com.br/baixar/catalogo.pdf",null,null,null,null,null,null,0]
[null,null,null,null,null,"",{"$f":"IF(ISNUMBER(F4531),E4531*F4531,\"\")","v":""},null,null,0]
["SF-01246",{"$f":"INDEX(Orçamentária!A:B,MATCH(Composições!A4532,Orçamentária!A:A,0),2)","v":"Perfil guia inferior de alumínio para porta de giro em vidro temperado 8mm"},null,{"$f":"TRIM(INDEX(Orçamentária!C:C,MATCH(Composições!A4532,Orçamentária!A:A,0),1))","v":"m"},null,"",{"$f":"IF(ISNUMBER(F4532),E4532*F4532,\"\")","v":""},null,null,0]
[null,null,null,null,null,"",{"$f":"IF(ISNUMBER(F4533),E4533*F4533,\"\")","v":""},null,null,0]
[null,null,"Vidraceiro com encargos complementares","h",0.3,18.145,{"$f":"IF(ISNUMBER(F4534),E4534*F4534,\"\")","v":5.4434999999999993},{"$f":"SUM(G4534:G4535)","v":11.436707999999999},null,0]
[null,null,"PERFIL DE ALUMINIO ANODIZADO","kg",0.20799999999999999,28.813499999999998,{"$f":"IF(ISNUMBER(F4535),E4535*F4535,\"\")","v":5.9932079999999992},null,null,0]
[null,null,null,null,null,null,null,null,null,0]
[null,null,"Ref.: AL Indústria Ref.: AL-BX-08",null,null,null,null,null,null,0]
[null,null,"Fonte: http://www.alpuxadores.com.br/baixar/catalogo.pdf",null,null,null,null,null,null,0]
[null,null,null,null,null,"",{"$f":"IF(ISNUMBER(F4539),E4539*F4539,\"\")","v":""},null,null,0]
["SF-01247",{"$f":"INDEX(Orçamentária!A:B,MATCH(Composições!A4540,Orçamentária!A:A,0),2)","v":"Perfil guia inferior de alumínio para porta de correr em vidro temperado 8mm"},null,{"$f":"TRIM(INDEX(Orçamentária!C:C,MATCH(Composições!A4540,Orçamentária!A:A,0),1))","v":"m"},null,"",{"$f":"IF(ISNUMBER(F4540),E4540*F4540,\"\")","v":""},null,null,0]
[null,null,null,null,null,"",{"$f":"IF(ISNUMBER(F4541),E4541*F4541,\"\")","v":""},null,null,0]
[null,null,"Vidraceiro com encargos complementares","h",0.3,18.145,{"$f":"IF(ISNUMBER(F4542),E4542*F4542,\"\")","v":5.4434999999999993},{"$f":"SUM(G4542:G4543)","v":12.9061965},null,0]
[null,null,"PERFIL DE ALUMINIO ANODIZADO","kg",0.25900000000000001,28.813499999999998,{"$f":"IF(ISNUMBER(F4543),E4543*F4543,\"\")","v":7.4626964999999998},null,null,0]
[null,null,null,null,null,null,null,null,null,0]
[null,null,"Ref.: AL Indústria Ref.: AL-BX-03",null,null,null,null,null,null,0]
[null,null,"Fonte: http://www.alpuxadores.com.br/baixar/catalogo.pdf",null,null,null,null,null,null,0]
[null,null,null,null,null,"",{"$f":"IF(ISNUMBER(F4547),E4547*F4547,\"\")","v":""},null,null,0]
["SF-01248",{"$f":"INDEX(Orçamentária!A:B,MATCH(Composições!A4548,Orçamentária!A:A,0),2)","v":"Trilho superior em alumínio 53,8mm x 49,6mm, para vidro temperado"},null,{"$f":"TRIM(INDEX(Orçamentária!C:C,MATCH(Composições!A4548,Orçamentária!A:A,0),1))","v":"m"},null,"",{"$f":"IF(ISNUMBER(F4548),E4548*F4548,\"\")","v":""},null,null,0]
[null,null,null,null,null,"",{"$f":"IF(ISNUMBER(F4549),E4549*F4549,\"\")","v":""},null,null,0]
[null,null,"Vidraceiro com encargos complementares","h",0.3,18.145,{"$f":"IF(ISNUMBER(F4550),E4550*F4550,\"\")","v":5.4434999999999993},{"$f":"SUM(G4550:G4551)","v":20.887536000000001},null,0]
[null,null,"PERFIL DE ALUMINIO ANODIZADO","kg",0.53600000000000003,28.813499999999998,{"$f":"IF(ISNUMBER(F4551),E4551*F4551,\"\")","v":15.444036000000001},null,null,0]
[null,null,null,null,null,null,null,null,null,0]
[null,null,"Ref.: AL Indústria Ref.: AL-BX-01",null,null,null,null,null,null,0]
[null,null,"Fonte: http://www.alpuxadores.com.br/baixar/catalogo.pdf",null,null,null,null,null,null,0]
[null,null,null,null,null,"",{"$f":"IF(ISNUMBER(F4555),E4555*F4555,\"\")","v":""},null,null,0]
["SF-01249",{"$f":"INDEX(Orçamentária!A:B,MATCH(Composições!A4556,Orçamentária!A:A,0),2)","v":"Perfil em alumínio, tipo U - 10,5 x 20mm - para box de vidro temperado 8mm"},null,{"$f":"TRIM(INDEX(Orçamentária!C:C,MATCH(Composições!A4556,Orçamentária!A:A,0),1))","v":"m"},null,"",{"$f":"IF(ISNUMBER(F4556),E4556*F4556,\"\")","v":""},null,null,0]
[null,null,null,null,null,"",{"$f":"IF(ISNUMBER(F4557),E4557*F4557,\"\")","v":""},null,null,0]
[null,null,"Vidraceiro com encargos complementares","h",0.2,18.145,{"$f":"IF(ISNUMBER(F4558),E4558*F4558,\"\")","v":3.629},{"$f":"SUM(G4558:G4559)","v":6.6544174999999992},null,0]
[null,null,"PERFIL DE ALUMINIO ANODIZADO","kg",0.105,28.813499999999998,{"$f":"IF(ISNUMBER(F4559),E4559*F4559,\"\")","v":3.0254174999999996},null,null,0]
[null,null,null,null,null,null,null,null,null,0]
[null,null,"Ref.: AL Indústria Ref.: AL-BX-05",null,null,null,null,null,null,0]
[null,null,"Fonte: http://www.alpuxadores.com.br/baixar/catalogo.pdf",null,null,null,null,null,null,0]
[null,null,null,null,null,"",{"$f":"IF(ISNUMBER(F4563),E4563*F4563,\"\")","v":""},null,null,0]
["SF-01250",{"$f":"INDEX(Orçamentária!A:B,MATCH(Composições!A4564,Orçamentária!A:A,0),2)","v":"Perfil em alumínio , tipo U –  14 x 20mm - para box de vidro temperado 8mm"},null,{"$f":"TRIM(INDEX(Orçamentária!C:C,MATCH(Composições!A4564,Orçamentária!A:A,0),1))","v":"m"},null,"",{"$f":"IF(ISNUMBER(F4564),E4564*F4564,\"\")","v":""},null,null,0]
[null,null,null,null,null,"",{"$f":"IF(ISNUMBER(F4565),E4565*F4565,\"\")","v":""},null,null,0]
[null,null,"Vidraceiro com encargos complementares","h",0.2,18.145,{"$f":"IF(ISNUMBER(F4566),E4566*F4566,\"\")","v":3.629},{"$f":"SUM(G4566:G4567)","v":7.0578064999999999},null,0]
[null,null,"PERFIL DE ALUMINIO ANODIZADO","kg",0.11899999999999999,28.813499999999998,{"$f":"IF(ISNUMBER(F4567),E4567*F4567,\"\")","v":3.4288064999999994},null,null,0]
[null,null,null,null,null,null,null,null,null,0]
[null,null,"Ref.: AL Indústria Ref.: AL-BX-06",null,null,null,null,null,null,0]
[null,null,"Fonte: http://www.alpuxadores.com.br/baixar/catalogo.pdf",null,null,null,null,null,null,0]
[null,null,null,null,null,"",{"$f":"IF(ISNUMBER(F4571),E4571*F4571,\"\")","v":""},null,null,0]
["SF-01251",{"$f":"INDEX(Orçamentária!A:B,MATCH(Composições!A4572,Orçamentária!A:A,0),2)","v":"Bacia convencional – Linha Residencial"},null,{"$f":"TRIM(INDEX(Orçamentária!C:C,MATCH(Composições!A4572,Orçamentária!A:A,0),1))","v":"un"},null,"",{"$f":"IF(ISNUMBER(F4572),E4572*F4572,\"\")","v":""},null,null,0]
[null,null,null,null,null,"",{"$f":"IF(ISNUMBER(F4573),E4573*F4573,\"\")","v":""},null,null,0]
[null,null,"Bacia Sanitária convencional branca ref: Deca Vogue Plus P.5.17 ou equivalente","UN",1,"",{"$f":"IF(ISNUMBER(F4574),E4574*F4574,\"\")","v":""},{"$f":"SUM(G4574:G4580)","v":55.327423349999989},null,0]
[null,null,"Tubo de ligação para bacia sanitária em PVC, com acabamento cromado, ajustável ou não. Ref.: DECA 1968C ou equivalente","un",1,"",{"$f":"IF(ISNUMBER(F4575),E4575*F4575,\"\")","v":""},null,null,0]
[null,null,"Parafuso niquelado com acabamento cromado para fixar peca sanitaria, inclui porca cega, arruela e bucha de nylon tamanho S-10","UN",2,17.270999999999997,{"$f":"IF(ISNUMBER(F4576),E4576*F4576,\"\")","v":34.541999999999994},null,null,0]
[null,null,"Vedacao PVC, 100 mm, para saida vaso sanitario","un",1,1.7765,{"$f":"IF(ISNUMBER(F4577),E4577*F4577,\"\")","v":1.7765},null,null,0]
[null,null,"Rejunte epoxi, qualquer cor","kg",8.8099999999999998E-2,50.511499999999998,{"$f":"IF(ISNUMBER(F4578),E4578*F4578,\"\")","v":4.4500631500000001},null,null,0]
[null,null,"Encanador ou Bombeiro Hidráulico com Encargos Complementares","h",0.49680000000000002,19.066499999999998,{"$f":"IF(ISNUMBER(F4579),E4579*F4579,\"\")","v":9.4722371999999986},null,null,0]
[null,null,"Servente com Encargos Complementares","h",0.34949999999999998,14.554,{"$f":"IF(ISNUMBER(F4580),E4580*F4580,\"\")","v":5.0866229999999995},null,null,0]
[null,null,null,null,null,"",{"$f":"IF(ISNUMBER(F4581),E4581*F4581,\"\")","v":""},null,null,0]
["SF-01252",{"$f":"INDEX(Orçamentária!A:B,MATCH(Composições!A4582,Orçamentária!A:A,0),2)","v":"Bidê 3 furos - Linha Residencial"},null,{"$f":"TRIM(INDEX(Orçamentária!C:C,MATCH(Composições!A4582,Orçamentária!A:A,0),1))","v":"un"},null,"",{"$f":"IF(ISNUMBER(F4582),E4582*F4582,\"\")","v":""},null,null,0]
[null,null,null,null,null,"",{"$f":"IF(ISNUMBER(F4583),E4583*F4583,\"\")","v":""},null,null,0]
[null,null,"Bidê 3 furos branco ref: Deca Vogue Plus B.5.17 ou equivalente","UN",1,"",{"$f":"IF(ISNUMBER(F4584),E4584*F4584,\"\")","v":""},{"$f":"SUM(G4584:G4588)","v":53.550923349999991},null,0]
[null,null,"Parafuso niquelado com acabamento cromado para fixar peca sanitaria, inclui porca cega, arruela e bucha de nylon tamanho S-10","UN",2,17.270999999999997,{"$f":"IF(ISNUMBER(F4585),E4585*F4585,\"\")","v":34.541999999999994},null,null,0]
[null,null,"Rejunte epoxi, qualquer cor","kg",8.8099999999999998E-2,50.511499999999998,{"$f":"IF(ISNUMBER(F4586),E4586*F4586,\"\")","v":4.4500631500000001},null,null,0]
[null,null,"Encanador ou Bombeiro Hidráulico com Encargos Complementares","h",0.49680000000000002,19.066499999999998,{"$f":"IF(ISNUMBER(F4587),E4587*F4587,\"\")","v":9.4722371999999986},null,null,0]
[null,null,"Servente com Encargos Complementares","h",0.34949999999999998,14.554,{"$f":"IF(ISNUMBER(F4588),E4588*F4588,\"\")","v":5.0866229999999995},null,null,0]
[null,null,null,null,null,"",{"$f":"IF(ISNUMBER(F4589),E4589*F4589,\"\")","v":""},null,null,0]
["SF-01255",{"$f":"INDEX(Orçamentária!A:B,MATCH(Composições!A4590,Orçamentária!A:A,0),2)","v":"Chuveiro de metal com tubo de parede – Linha Residencial"},null,{"$f":"TRIM(INDEX(Orçamentária!C:C,MATCH(Composições!A4590,Orçamentária!A:A,0),1))","v":"un"},null,"",{"$f":"IF(ISNUMBER(F4590),E4590*F4590,\"\")","v":""},null,null,0]
[null,null,null,null,null,"",{"$f":"IF(ISNUMBER(F4591),E4591*F4591,\"\")","v":""},null,null,0]
[null,null,"Chuveiro de metal cromado com tubo de parede, crivo regulável e restritor de vazão. Ref.: Deca Aspen 1967.C.CT ou equivalente","UN",1,"",{"$f":"IF(ISNUMBER(F4592),E4592*F4592,\"\")","v":""},{"$f":"SUM(G4592:G4595)","v":10.631585849999999},null,0]
[null,null,"FITA VEDA ROSCA EM ROLOS DE 18 MM X 10 M (L X C)","UN",2.1000000000000001E-2,3.1825000000000001,{"$f":"IF(ISNUMBER(F4593),E4593*F4593,\"\")","v":6.6832500000000003E-2},null,null,0]
[null,null,"ENCANADOR OU BOMBEIRO HIDRÁULICO COM ENCARGOS COMPLEMENTARES","H",0.44669999999999999,19.066499999999998,{"$f":"IF(ISNUMBER(F4594),E4594*F4594,\"\")","v":8.5170055499999986},null,null,0]
[null,null,"SERVENTE COM ENCARGOS COMPLEMENTARES","H",0.14069999999999999,14.554,{"$f":"IF(ISNUMBER(F4595),E4595*F4595,\"\")","v":2.0477477999999998},null,null,0]
[null,null,null,null,null,"",{"$f":"IF(ISNUMBER(F4596),E4596*F4596,\"\")","v":""},null,null,0]
["SF-01256",{"$f":"INDEX(Orçamentária!A:B,MATCH(Composições!A4597,Orçamentária!A:A,0),2)","v":"Misturador para bidê – Linha Residencial"},null,{"$f":"TRIM(INDEX(Orçamentária!C:C,MATCH(Composições!A4597,Orçamentária!A:A,0),1))","v":"un"},null,"",{"$f":"IF(ISNUMBER(F4597),E4597*F4597,\"\")","v":""},null,null,0]
[null,null,null,null,null,"",{"$f":"IF(ISNUMBER(F4598),E4598*F4598,\"\")","v":""},null,null,0]
[null,null,"FITA VEDA ROSCA EM ROLOS DE 18 MM X 10 M (L X C)","UN",4.2000000000000003E-2,3.1825000000000001,{"$f":"IF(ISNUMBER(F4599),E4599*F4599,\"\")","v":0.13366500000000001},{"$f":"SUM(G4599:G4602)","v":11.09205845},null,0]
[null,null,"Misturador para bidê, ref: Deca Aspen 1895.C35 ou equivalente","UN",1,"",{"$f":"IF(ISNUMBER(F4600),E4600*F4600,\"\")","v":""},null,null,0]
[null,null,"ENCANADOR OU BOMBEIRO HIDRÁULICO COM ENCARGOS COMPLEMENTARES","H",0.46329999999999999,19.066499999999998,{"$f":"IF(ISNUMBER(F4601),E4601*F4601,\"\")","v":8.8335094499999993},null,null,0]
[null,null,"SERVENTE COM ENCARGOS COMPLEMENTARES","H",0.14599999999999999,14.554,{"$f":"IF(ISNUMBER(F4602),E4602*F4602,\"\")","v":2.1248839999999998},null,null,0]
[null,null,null,null,null,"",{"$f":"IF(ISNUMBER(F4603),E4603*F4603,\"\")","v":""},null,null,0]
["SF-01257",{"$f":"INDEX(Orçamentária!A:B,MATCH(Composições!A4604,Orçamentária!A:A,0),2)","v":"Misturador de mesa para cozinha bica móvel – Linha Residencial"},null,{"$f":"TRIM(INDEX(Orçamentária!C:C,MATCH(Composições!A4604,Orçamentária!A:A,0),1))","v":"un"},null,"",{"$f":"IF(ISNUMBER(F4604),E4604*F4604,\"\")","v":""},null,null,0]
[null,null,null,null,null,"",{"$f":"IF(ISNUMBER(F4605),E4605*F4605,\"\")","v":""},null,null,0]
[null,null,"FITA VEDA ROSCA EM ROLOS DE 18 MM X 10 M (L X C)","UN",4.2000000000000003E-2,3.1825000000000001,{"$f":"IF(ISNUMBER(F4606),E4606*F4606,\"\")","v":0.13366500000000001},{"$f":"SUM(G4606:G4609)","v":5.4932894999999995},null,0]
[null,null,"Misturador de mesa para cozinha, bica móvel, cromado. Ref.: Deca Aspen 1256.C35 ou equivalente","UN",1,"",{"$f":"IF(ISNUMBER(F4607),E4607*F4607,\"\")","v":""},null,null,0]
[null,null,"ENCANADOR OU BOMBEIRO HIDRÁULICO COM ENCARGOS COMPLEMENTARES","H",0.2266,19.066499999999998,{"$f":"IF(ISNUMBER(F4608),E4608*F4608,\"\")","v":4.3204688999999998},null,null,0]
[null,null,"SERVENTE COM ENCARGOS COMPLEMENTARES","H",7.1400000000000005E-2,14.554,{"$f":"IF(ISNUMBER(F4609),E4609*F4609,\"\")","v":1.0391556000000002},null,null,0]
[null,null,null,null,null,"",{"$f":"IF(ISNUMBER(F4610),E4610*F4610,\"\")","v":""},null,null,0]
["SF-01258",{"$f":"INDEX(Orçamentária!A:B,MATCH(Composições!A4611,Orçamentária!A:A,0),2)","v":"Misturador de mesa para lavatório bica alta – Linha Residencial"},null,{"$f":"TRIM(INDEX(Orçamentária!C:C,MATCH(Composições!A4611,Orçamentária!A:A,0),1))","v":"un"},null,"",{"$f":"IF(ISNUMBER(F4611),E4611*F4611,\"\")","v":""},null,null,0]
[null,null,null,null,null,"",{"$f":"IF(ISNUMBER(F4612),E4612*F4612,\"\")","v":""},null,null,0]
[null,null,"FITA VEDA ROSCA EM ROLOS DE 18 MM X 10 M (L X C)","UN",4.2000000000000003E-2,3.1825000000000001,{"$f":"IF(ISNUMBER(F4613),E4613*F4613,\"\")","v":0.13366500000000001},{"$f":"SUM(G4613:G4616)","v":11.09205845},null,0]
[null,null,"Misturador para lavatório de mesa bica alta, cromado. Ref.: Deca Aspen 1877.C35 ou equivalente","UN",1,"",{"$f":"IF(ISNUMBER(F4614),E4614*F4614,\"\")","v":""},null,null,0]
[null,null,"ENCANADOR OU BOMBEIRO HIDRÁULICO COM ENCARGOS COMPLEMENTARES","H",0.46329999999999999,19.066499999999998,{"$f":"IF(ISNUMBER(F4615),E4615*F4615,\"\")","v":8.8335094499999993},null,null,0]
[null,null,"SERVENTE COM ENCARGOS COMPLEMENTARES","H",0.14599999999999999,14.554,{"$f":"IF(ISNUMBER(F4616),E4616*F4616,\"\")","v":2.1248839999999998},null,null,0]
[null,null,null,null,null,"",{"$f":"IF(ISNUMBER(F4617),E4617*F4617,\"\")","v":""},null,null,0]
["SF-01259",{"$f":"INDEX(Orçamentária!A:B,MATCH(Composições!A4618,Orçamentária!A:A,0),2)","v":"Misturador de parede para cozinha bica móvel – Linha Residencial"},null,{"$f":"TRIM(INDEX(Orçamentária!C:C,MATCH(Composições!A4618,Orçamentária!A:A,0),1))","v":"un"},null,"",{"$f":"IF(ISNUMBER(F4618),E4618*F4618,\"\")","v":""},null,null,0]
[null,null,null,null,null,"",{"$f":"IF(ISNUMBER(F4619),E4619*F4619,\"\")","v":""},null,null,0]
[null,null,"FITA VEDA ROSCA EM ROLOS DE 18 MM X 10 M (L X C)","UN",4.2000000000000003E-2,3.1825000000000001,{"$f":"IF(ISNUMBER(F4620),E4620*F4620,\"\")","v":0.13366500000000001},{"$f":"SUM(G4620:G4623)","v":5.4932894999999995},null,0]
[null,null,"Misturador de parede para cozinha, cromada. Ref.: Deca Aspen 1258.C35 ou equivalente","UN",1,"",{"$f":"IF(ISNUMBER(F4621),E4621*F4621,\"\")","v":""},null,null,0]
[null,null,"ENCANADOR OU BOMBEIRO HIDRÁULICO COM ENCARGOS COMPLEMENTARES","H",0.2266,19.066499999999998,{"$f":"IF(ISNUMBER(F4622),E4622*F4622,\"\")","v":4.3204688999999998},null,null,0]
[null,null,"SERVENTE COM ENCARGOS COMPLEMENTARES","H",7.1400000000000005E-2,14.554,{"$f":"IF(ISNUMBER(F4623),E4623*F4623,\"\")","v":1.0391556000000002},null,null,0]
[null,null,null,null,null,"",{"$f":"IF(ISNUMBER(F4624),E4624*F4624,\"\")","v":""},null,null,0]
["SF-01260",{"$f":"INDEX(Orçamentária!A:B,MATCH(Composições!A4625,Orçamentária!A:A,0),2)","v":"Dobradiça automática vidro/vidro para box de vidro temperado"},null,{"$f":"TRIM(INDEX(Orçamentária!C:C,MATCH(Composições!A4625,Orçamentária!A:A,0),1))","v":"un"},null,"",{"$f":"IF(ISNUMBER(F4625),E4625*F4625,\"\")","v":""},null,null,0]
[null,null,null,null,null,"",{"$f":"IF(ISNUMBER(F4626),E4626*F4626,\"\")","v":""},null,null,0]
[null,null,"Vidraceiro com encargos complementares","h",0.3,18.145,{"$f":"IF(ISNUMBER(F4627),E4627*F4627,\"\")","v":5.4434999999999993},{"$f":"SUM(G4627:G4628)","v":5.4434999999999993},null,0]
[null,null,"Dobradiça metálica automática para vidro/vidro, utilizada em Box de vidro temperado, com porta de abrir. Ref.: Santa Marina, 1129.","un",1,"",{"$f":"IF(ISNUMBER(F4628),E4628*F4628,\"\")","v":""},null,null,0]
[null,null,null,null,null,"",{"$f":"IF(ISNUMBER(F4629),E4629*F4629,\"\")","v":""},null,null,0]
["SF-01261",{"$f":"INDEX(Orçamentária!A:B,MATCH(Composições!A4630,Orçamentária!A:A,0),2)","v":"Luminária tipo arandela – Linha Residencial"},null,{"$f":"TRIM(INDEX(Orçamentária!C:C,MATCH(Composições!A4630,Orçamentária!A:A,0),1))","v":"un"},null,"",{"$f":"IF(ISNUMBER(F4630),E4630*F4630,\"\")","v":""},null,null,0]
[null,null,null,null,null,"",{"$f":"IF(ISNUMBER(F4631),E4631*F4631,\"\")","v":""},null,null,0]
[null,null,"Luminária tipo arandela, de sobrepor, dimensões (em mm) 250 x 250 x 73, base E27. Ref.: Taschibra-Arandela Embaú; Bronzearte - Bambu","un ",1,"",{"$f":"IF(ISNUMBER(F4632),E4632*F4632,\"\")","v":""},{"$f":"SUM(G4632:G4635)","v":12.342635599999999},null,0]
[null,null,"Lâmpada fluorescente compacta, 23W, ref: OSRAM Duluxstar DST STICK 23 W/865 220V E27","un ",1,"",{"$f":"IF(ISNUMBER(F4633),E4633*F4633,\"\")","v":""},null,null,0]
[null,null,"Auxiliar de eletricista com encargos complementares","h",0.19719999999999999,15.447000000000001,{"$f":"IF(ISNUMBER(F4634),E4634*F4634,\"\")","v":3.0461483999999999},null,null,0]
[null,null,"Eletricista com encargos complementares","h",0.47320000000000001,19.645999999999997,{"$f":"IF(ISNUMBER(F4635),E4635*F4635,\"\")","v":9.2964871999999996},null,null,0]
[null,null,null,null,null,"",{"$f":"IF(ISNUMBER(F4636),E4636*F4636,\"\")","v":""},null,null,0]
["SF-01262",{"$f":"INDEX(Orçamentária!A:B,MATCH(Composições!A4637,Orçamentária!A:A,0),2)","v":"Tê misturador de transição 1/2” ou 3/4” – Linha Residencial"},null,{"$f":"TRIM(INDEX(Orçamentária!C:C,MATCH(Composições!A4637,Orçamentária!A:A,0),1))","v":"un"},null,"",{"$f":"IF(ISNUMBER(F4637),E4637*F4637,\"\")","v":""},null,null,0]
[null,null,null,null,null,"",{"$f":"IF(ISNUMBER(F4638),E4638*F4638,\"\")","v":""},null,null,0]
[null,null,"ADESIVO PARA TUBOS CPVC, *75* G","UN",1.2E-2,15.218999999999999,{"$f":"IF(ISNUMBER(F4639),E4639*F4639,\"\")","v":0.18262799999999998},{"$f":"SUM(G4639:G4642)","v":26.845366000000002},null,0]
[null,null,"TE MISTURADOR DE TRANSICAO, CPVC, COM ROSCA, 22 MM X 3/4\", PARA AGUA QUENTE","UN",1,20.425000000000001,{"$f":"IF(ISNUMBER(F4640),E4640*F4640,\"\")","v":20.425000000000001},null,null,0]
[null,null,"AUXILIAR DE ENCANADOR OU BOMBEIRO HIDRÁULICO COM ENCARGOS COMPLEMENTARES","H",0.183,15.019499999999999,{"$f":"IF(ISNUMBER(F4641),E4641*F4641,\"\")","v":2.7485684999999997},null,null,0]
[null,null,"ENCANADOR OU BOMBEIRO HIDRÁULICO COM ENCARGOS COMPLEMENTARES","H",0.183,19.066499999999998,{"$f":"IF(ISNUMBER(F4642),E4642*F4642,\"\")","v":3.4891694999999996},null,null,0]
[null,null,null,null,null,"",{"$f":"IF(ISNUMBER(F4643),E4643*F4643,\"\")","v":""},null,null,0]
["SF-01263",{"$f":"INDEX(Orçamentária!A:B,MATCH(Composições!A4644,Orçamentária!A:A,0),2)","v":"Base para válvula de descarga 1 1/2”"},null,{"$f":"TRIM(INDEX(Orçamentária!C:C,MATCH(Composições!A4644,Orçamentária!A:A,0),1))","v":"un"},null,"",{"$f":"IF(ISNUMBER(F4644),E4644*F4644,\"\")","v":""},null,null,0]
[null,null,null,null,null,"",{"$f":"IF(ISNUMBER(F4645),E4645*F4645,\"\")","v":""},null,null,0]
[null,null,"FITA VEDA ROSCA EM ROLOS DE 18 MM X 50 M (L X C)","UN",1.9E-2,11.7325,{"$f":"IF(ISNUMBER(F4646),E4646*F4646,\"\")","v":0.22291749999999999},{"$f":"SUM(G4646:G4649)","v":21.738000699999994},null,0]
[null,null,"Base de válvula de descarga 1 1/2”","UN",1,"",{"$f":"IF(ISNUMBER(F4647),E4647*F4647,\"\")","v":""},null,null,0]
[null,null,"AUXILIAR DE ENCANADOR OU BOMBEIRO HIDRÁULICO COM ENCARGOS COMPLEMENTARES","H",{"$f":"ROUND(0.789*0.8,4)","v":0.63119999999999998},15.019499999999999,{"$f":"IF(ISNUMBER(F4648),E4648*F4648,\"\")","v":9.4803083999999984},null,null,0]
[null,null,"ENCANADOR OU BOMBEIRO HIDRÁULICO COM ENCARGOS COMPLEMENTARES","H",{"$f":"ROUND(0.789*0.8,4)","v":0.63119999999999998},19.066499999999998,{"$f":"IF(ISNUMBER(F4649),E4649*F4649,\"\")","v":12.034774799999997},null,null,0]
[null,null,null,null,null,"",{"$f":"IF(ISNUMBER(F4650),E4650*F4650,\"\")","v":""},null,null,0]
["SF-01264",{"$f":"INDEX(Orçamentária!A:B,MATCH(Composições!A4651,Orçamentária!A:A,0),2)","v":"Base para válvula de descarga 1 1/4”"},null,{"$f":"TRIM(INDEX(Orçamentária!C:C,MATCH(Composições!A4651,Orçamentária!A:A,0),1))","v":"un"},null,"",{"$f":"IF(ISNUMBER(F4651),E4651*F4651,\"\")","v":""},null,null,0]
[null,null,null,null,null,"",{"$f":"IF(ISNUMBER(F4652),E4652*F4652,\"\")","v":""},null,null,0]
[null,null,"FITA VEDA ROSCA EM ROLOS DE 18 MM X 50 M (L X C)","UN",1.9E-2,11.7325,{"$f":"IF(ISNUMBER(F4653),E4653*F4653,\"\")","v":0.22291749999999999},{"$f":"SUM(G4653:G4656)","v":21.738000699999994},null,0]
[null,null,"Base de válvula de descarga 1 1/4”","UN",1,"",{"$f":"IF(ISNUMBER(F4654),E4654*F4654,\"\")","v":""},null,null,0]
[null,null,"AUXILIAR DE ENCANADOR OU BOMBEIRO HIDRÁULICO COM ENCARGOS COMPLEMENTARES","H",{"$f":"ROUND(0.789*0.8,4)","v":0.63119999999999998},15.019499999999999,{"$f":"IF(ISNUMBER(F4655),E4655*F4655,\"\")","v":9.4803083999999984},null,null,0]
[null,null,"ENCANADOR OU BOMBEIRO HIDRÁULICO COM ENCARGOS COMPLEMENTARES","H",0.63119999999999998,19.066499999999998,{"$f":"IF(ISNUMBER(F4656),E4656*F4656,\"\")","v":12.034774799999997},null,null,0]
[null,null,null,null,null,"",{"$f":"IF(ISNUMBER(F4657),E4657*F4657,\"\")","v":""},null,null,0]
["SF-01265",{"$f":"INDEX(Orçamentária!A:B,MATCH(Composições!A4658,Orçamentária!A:A,0),2)","v":"Anel de Vedação para bacia sanitária"},null,{"$f":"TRIM(INDEX(Orçamentária!C:C,MATCH(Composições!A4658,Orçamentária!A:A,0),1))","v":"un"},null,"",{"$f":"IF(ISNUMBER(F4658),E4658*F4658,\"\")","v":""},null,null,0]
[null,null,null,null,null,"",{"$f":"IF(ISNUMBER(F4659),E4659*F4659,\"\")","v":""},null,null,0]
[null,null,"Vedacao PVC, 100 mm, para saida vaso sanitario","un",1,1.7765,{"$f":"IF(ISNUMBER(F4660),E4660*F4660,\"\")","v":1.7765},{"$f":"SUM(G4660:G4661)","v":3.6831499999999999},null,0]
[null,null,"ENCANADOR OU BOMBEIRO HIDRÁULICO COM ENCARGOS COMPLEMENTARES","H",0.1,19.066499999999998,{"$f":"IF(ISNUMBER(F4661),E4661*F4661,\"\")","v":1.90665},null,null,0]
[null,null,null,null,null,"",{"$f":"IF(ISNUMBER(F4662),E4662*F4662,\"\")","v":""},null,null,0]
["SF-01266",{"$f":"INDEX(Orçamentária!A:B,MATCH(Composições!A4663,Orçamentária!A:A,0),2)","v":"Folha de porta em madeira e MDF 2,10x0,60m"},null,{"$f":"TRIM(INDEX(Orçamentária!C:C,MATCH(Composições!A4663,Orçamentária!A:A,0),1))","v":"un"},null,"",{"$f":"IF(ISNUMBER(F4663),E4663*F4663,\"\")","v":""},null,null,0]
[null,null,null,null,null,"",{"$f":"IF(ISNUMBER(F4664),E4664*F4664,\"\")","v":""},null,null,0]
[null,null,"PORTA DE MADEIRA, FOLHA MEDIA (NBR 15930) DE 60 X 210 CM, E = 35 MM, NUCLEO SARRAFEADO, CAPA FRISADA EM HDF, ACABAMENTO MELAMINICO EM PADRAO MADEIRA","UN",1,171.209,{"$f":"IF(ISNUMBER(F4665),E4665*F4665,\"\")","v":171.209},{"$f":"SUM(G4665:G4667)","v":198.53867600000001},null,0]
[null,null,"CARPINTEIRO DE ESQUADRIA COM ENCARGOS COMPLEMENTARES","H",{"$f":"ROUND(1.282*0.8,4)","v":1.0256000000000001},19.3705,{"$f":"IF(ISNUMBER(F4666),E4666*F4666,\"\")","v":19.866384800000002},null,null,0]
[null,null,"SERVENTE COM ENCARGOS COMPLEMENTARES","H",{"$f":"ROUND(0.641*0.8,4)","v":0.51280000000000003},14.554,{"$f":"IF(ISNUMBER(F4667),E4667*F4667,\"\")","v":7.4632912000000005},null,null,0]
[null,null,null,null,null,"",{"$f":"IF(ISNUMBER(F4668),E4668*F4668,\"\")","v":""},null,null,0]
["SF-01267",{"$f":"INDEX(Orçamentária!A:B,MATCH(Composições!A4669,Orçamentária!A:A,0),2)","v":"Folha de porta em madeira e MDF 2,10x0,70m"},null,{"$f":"TRIM(INDEX(Orçamentária!C:C,MATCH(Composições!A4669,Orçamentária!A:A,0),1))","v":"un"},null,"",{"$f":"IF(ISNUMBER(F4669),E4669*F4669,\"\")","v":""},null,null,0]
[null,null,null,null,null,"",{"$f":"IF(ISNUMBER(F4670),E4670*F4670,\"\")","v":""},null,null,0]
[null,null,"PORTA DE MADEIRA, FOLHA MEDIA (NBR 15930) DE 70 X 210 CM, E = 35 MM, NUCLEO SARRAFEADO, CAPA FRISADA EM HDF, ACABAMENTO MELAMINICO EM PADRAO MADEIRA","UN",1,184.38550000000001,{"$f":"IF(ISNUMBER(F4671),E4671*F4671,\"\")","v":184.38550000000001},{"$f":"SUM(G4671:G4673)","v":214.52915200000001},null,0]
[null,null,"CARPINTEIRO DE ESQUADRIA COM ENCARGOS COMPLEMENTARES","H",{"$f":"ROUND(1.414*0.8,4)","v":1.1312},19.3705,{"$f":"IF(ISNUMBER(F4672),E4672*F4672,\"\")","v":21.911909599999998},null,null,0]
[null,null,"SERVENTE COM ENCARGOS COMPLEMENTARES","H",{"$f":"ROUND(0.707*0.8,4)","v":0.56559999999999999},14.554,{"$f":"IF(ISNUMBER(F4673),E4673*F4673,\"\")","v":8.2317423999999999},null,null,0]
[null,null,null,null,null,"",{"$f":"IF(ISNUMBER(F4674),E4674*F4674,\"\")","v":""},null,null,0]
["SF-01268",{"$f":"INDEX(Orçamentária!A:B,MATCH(Composições!A4675,Orçamentária!A:A,0),2)","v":"Folha de porta em madeira e MDF 2,10x0,80m"},null,{"$f":"TRIM(INDEX(Orçamentária!C:C,MATCH(Composições!A4675,Orçamentária!A:A,0),1))","v":"un"},null,"",{"$f":"IF(ISNUMBER(F4675),E4675*F4675,\"\")","v":""},null,null,0]
[null,null,null,null,null,"",{"$f":"IF(ISNUMBER(F4676),E4676*F4676,\"\")","v":""},null,null,0]
[null,null,"PORTA DE MADEIRA, FOLHA MEDIA (NBR 15930) DE 80 X 210 CM, E = 35 MM, NUCLEO SARRAFEADO, CAPA FRISADA EM HDF, ACABAMENTO MELAMINICO EM PADRAO MADEIRA","UN",1,223.89599999999999,{"$f":"IF(ISNUMBER(F4677),E4677*F4677,\"\")","v":223.89599999999999},{"$f":"SUM(G4677:G4679)","v":256.85362799999996},null,0]
[null,null,"CARPINTEIRO DE ESQUADRIA COM ENCARGOS COMPLEMENTARES","H",{"$f":"ROUND(1.546*0.8,4)","v":1.2367999999999999},19.3705,{"$f":"IF(ISNUMBER(F4678),E4678*F4678,\"\")","v":23.957434399999997},null,null,0]
[null,null,"SERVENTE COM ENCARGOS COMPLEMENTARES","H",{"$f":"ROUND(0.773*0.8,4)","v":0.61839999999999995},14.554,{"$f":"IF(ISNUMBER(F4679),E4679*F4679,\"\")","v":9.0001935999999993},null,null,0]
[null,null,null,null,null,"",{"$f":"IF(ISNUMBER(F4680),E4680*F4680,\"\")","v":""},null,null,0]
["SF-01269",{"$f":"INDEX(Orçamentária!A:B,MATCH(Composições!A4681,Orçamentária!A:A,0),2)","v":"Folha de porta em madeira e MDF 2,10x0,90m"},null,{"$f":"TRIM(INDEX(Orçamentária!C:C,MATCH(Composições!A4681,Orçamentária!A:A,0),1))","v":"un"},null,"",{"$f":"IF(ISNUMBER(F4681),E4681*F4681,\"\")","v":""},null,null,0]
[null,null,null,null,null,"",{"$f":"IF(ISNUMBER(F4682),E4682*F4682,\"\")","v":""},null,null,0]
[null,null,"PORTA DE MADEIRA, FOLHA MEDIA (NBR 15930) DE 90 X 210 CM, E = 35 MM, NUCLEO SARRAFEADO, CAPA LISA EM HDF, ACABAMENTO EM LAMINADO NATURAL PARA VERNIZ","UN",1,204.00299999999999,{"$f":"IF(ISNUMBER(F4683),E4683*F4683,\"\")","v":204.00299999999999},{"$f":"SUM(G4683:G4685)","v":239.77460399999998},null,0]
[null,null,"CARPINTEIRO DE ESQUADRIA COM ENCARGOS COMPLEMENTARES","H",{"$f":"ROUND(1.678*0.8,4)","v":1.3424},19.3705,{"$f":"IF(ISNUMBER(F4684),E4684*F4684,\"\")","v":26.002959199999999},null,null,0]
[null,null,"SERVENTE COM ENCARGOS COMPLEMENTARES","H",{"$f":"ROUND(0.839*0.8,4)","v":0.67120000000000002},14.554,{"$f":"IF(ISNUMBER(F4685),E4685*F4685,\"\")","v":9.7686448000000006},null,null,0]
[null,null,null,null,null,"",{"$f":"IF(ISNUMBER(F4686),E4686*F4686,\"\")","v":""},null,null,0]
["SF-01270",{"$f":"INDEX(Orçamentária!A:B,MATCH(Composições!A4687,Orçamentária!A:A,0),2)","v":"Remoção de boiler"},null,{"$f":"TRIM(INDEX(Orçamentária!C:C,MATCH(Composições!A4687,Orçamentária!A:A,0),1))","v":"un"},null,"",{"$f":"IF(ISNUMBER(F4687),E4687*F4687,\"\")","v":""},null,null,0]
[null,null,null,null,null,"",{"$f":"IF(ISNUMBER(F4688),E4688*F4688,\"\")","v":""},null,null,0]
[null,null,"AUXILIAR DE ENCANADOR OU BOMBEIRO HIDRÁULICO COM ENCARGOS COMPLEMENTARES","H",{"$f":"4*0.3","v":1.2},15.019499999999999,{"$f":"IF(ISNUMBER(F4689),E4689*F4689,\"\")","v":18.023399999999999},{"$f":"SUM(G4689:G4692)","v":61.958999999999996},null,0]
[null,null,"ENCANADOR OU BOMBEIRO HIDRÁULICO COM ENCARGOS COMPLEMENTARES","H",{"$f":"4*0.3","v":1.2},19.066499999999998,{"$f":"IF(ISNUMBER(F4690),E4690*F4690,\"\")","v":22.879799999999996},null,null,0]
[null,null,"Auxiliar de eletricista com encargos complementares","H",{"$f":"2*0.3","v":0.6},15.447000000000001,{"$f":"IF(ISNUMBER(F4691),E4691*F4691,\"\")","v":9.2682000000000002},null,null,0]
[null,null,"Eletricista com encargos complementares","H",{"$f":"2*0.3","v":0.6},19.645999999999997,{"$f":"IF(ISNUMBER(F4692),E4692*F4692,\"\")","v":11.787599999999998},null,null,0]
[null,null,null,null,null,"",{"$f":"IF(ISNUMBER(F4693),E4693*F4693,\"\")","v":""},null,null,0]
["SF-01271",{"$f":"INDEX(Orçamentária!A:B,MATCH(Composições!A4694,Orçamentária!A:A,0),2)","v":"Remoção de tacos de madeira"},null,{"$f":"TRIM(INDEX(Orçamentária!C:C,MATCH(Composições!A4694,Orçamentária!A:A,0),1))","v":"m2"},null,"",{"$f":"IF(ISNUMBER(F4694),E4694*F4694,\"\")","v":""},null,null,0]
[null,null,null,null,null,"",{"$f":"IF(ISNUMBER(F4695),E4695*F4695,\"\")","v":""},null,null,0]
[null,null,"CARPINTEIRO DE ESQUADRIA COM ENCARGOS COMPLEMENTARES","H",0.12,19.3705,{"$f":"IF(ISNUMBER(F4696),E4696*F4696,\"\")","v":2.3244599999999997},{"$f":"SUM(G4696:G4697)","v":22.02366},null,0]
[null,null,"AJUDANTE DE CARPINTEIRO COM ENCARGOS COMPLEMENTARES","H",1.2,16.416,{"$f":"IF(ISNUMBER(F4697),E4697*F4697,\"\")","v":19.699200000000001},null,null,0]
[null,null,null,null,null,"",{"$f":"IF(ISNUMBER(F4698),E4698*F4698,\"\")","v":""},null,null,0]
["SF-01272",{"$f":"INDEX(Orçamentária!A:B,MATCH(Composições!A4699,Orçamentária!A:A,0),2)","v":"Cerâmica 30x60cm - Glacier White - Portobello – Linha Residencial"},null,{"$f":"TRIM(INDEX(Orçamentária!C:C,MATCH(Composições!A4699,Orçamentária!A:A,0),1))","v":"m2"},null,"",{"$f":"IF(ISNUMBER(F4699),E4699*F4699,\"\")","v":""},null,null,0]
[null,null,null,null,null,"",{"$f":"IF(ISNUMBER(F4700),E4700*F4700,\"\")","v":""},null,null,0]
[null,null,"Cerâmica 30x60xm Glacier White (26109E) – Linha White Home – Portobello, ou similar","m2",1.08,"",{"$f":"IF(ISNUMBER(F4701),E4701*F4701,\"\")","v":""},{"$f":"SUM(G4701:G4705)","v":23.242130000000003},null,0]
[null,null,"Argamassa colante AC II","kg",6.14,0.76,{"$f":"IF(ISNUMBER(F4702),E4702*F4702,\"\")","v":4.6663999999999994},null,null,0]
[null,null,"Rejunte cimenticio, qualquer cor","kg",0.22,2.3939999999999997,{"$f":"IF(ISNUMBER(F4703),E4703*F4703,\"\")","v":0.52667999999999993},null,null,0]
[null,null,"Azulejista ou ladrilhista com encargos complementares","h",0.66,19.4085,{"$f":"IF(ISNUMBER(F4704),E4704*F4704,\"\")","v":12.809610000000001},null,null,0]
[null,null,"Servente com Encargos Complementares","h",0.36,14.554,{"$f":"IF(ISNUMBER(F4705),E4705*F4705,\"\")","v":5.2394400000000001},null,null,0]
[null,null,null,null,null,"",{"$f":"IF(ISNUMBER(F4706),E4706*F4706,\"\")","v":""},null,null,0]
["SF-01273",{"$f":"INDEX(Orçamentária!A:B,MATCH(Composições!A4707,Orçamentária!A:A,0),2)","v":"Instalação de tacos de madeira reaproveitados"},null,{"$f":"TRIM(INDEX(Orçamentária!C:C,MATCH(Composições!A4707,Orçamentária!A:A,0),1))","v":"m2"},null,"",{"$f":"IF(ISNUMBER(F4707),E4707*F4707,\"\")","v":""},null,null,0]
[null,null,null,null,null,"",{"$f":"IF(ISNUMBER(F4708),E4708*F4708,\"\")","v":""},null,null,0]
[null,null,"COLA BRANCA BASE PVA","L",0.57499999999999996,16.34,{"$f":"IF(ISNUMBER(F4709),E4709*F4709,\"\")","v":9.3954999999999984},{"$f":"SUM(G4709:G4711)","v":25.842450999999997},null,0]
[null,null,"SERVENTE COM ENCARGOS COMPLEMENTARES","H",0.2399,14.554,{"$f":"IF(ISNUMBER(F4710),E4710*F4710,\"\")","v":3.4915046000000003},null,null,0]
[null,null,"TAQUEADOR OU TAQUEIRO COM ENCARGOS COMPLEMENTARES","H",0.57589999999999997,22.495999999999999,{"$f":"IF(ISNUMBER(F4711),E4711*F4711,\"\")","v":12.955446399999998},null,null,0]
[null,null,null,null,null,"",{"$f":"IF(ISNUMBER(F4712),E4712*F4712,\"\")","v":""},null,null,0]
["SF-01278",{"$f":"INDEX(Orçamentária!A:B,MATCH(Composições!A4713,Orçamentária!A:A,0),2)","v":"Instalação de cortinas reaproveitadas"},null,{"$f":"TRIM(INDEX(Orçamentária!C:C,MATCH(Composições!A4713,Orçamentária!A:A,0),1))","v":"m"},null,"",{"$f":"IF(ISNUMBER(F4713),E4713*F4713,\"\")","v":""},null,null,0]
[null,null,null,null,null,"",{"$f":"IF(ISNUMBER(F4714),E4714*F4714,\"\")","v":""},null,null,0]
[null,null,"AJUDANTE ESPECIALIZADO COM ENCARGOS COMPLEMENTARES","H",0.5,17.185499999999998,{"$f":"IF(ISNUMBER(F4715),E4715*F4715,\"\")","v":8.5927499999999988},{"$f":"SUM(G4715:G4715)","v":8.5927499999999988},null,0]
[null,null,null,null,null,"",{"$f":"IF(ISNUMBER(F4716),E4716*F4716,\"\")","v":""},null,null,0]
["SF-01279",{"$f":"INDEX(Orçamentária!A:B,MATCH(Composições!A4717,Orçamentária!A:A,0),2)","v":"Tubo CPVC soldável 22mm – Linha Residencial"},null,{"$f":"TRIM(INDEX(Orçamentária!C:C,MATCH(Composições!A4717,Orçamentária!A:A,0),1))","v":"m"},null,"",{"$f":"IF(ISNUMBER(F4717),E4717*F4717,\"\")","v":""},null,null,0]
[null,null,null,null,null,"",{"$f":"IF(ISNUMBER(F4718),E4718*F4718,\"\")","v":""},null,null,0]
[null,null,"TUBO CPVC, SOLDAVEL, 22 MM, AGUA QUENTE PREDIAL (NBR 15884)","M",1.0609999999999999,9.6330000000000009,{"$f":"IF(ISNUMBER(F4719),E4719*F4719,\"\")","v":10.220613},{"$f":"SUM(G4719:G4721)","v":21.775767000000002},null,0]
[null,null,"AUXILIAR DE ENCANADOR OU BOMBEIRO HIDRÁULICO COM ENCARGOS COMPLEMENTARES","H",0.33900000000000002,15.019499999999999,{"$f":"IF(ISNUMBER(F4720),E4720*F4720,\"\")","v":5.0916104999999998},null,null,0]
[null,null,"ENCANADOR OU BOMBEIRO HIDRÁULICO COM ENCARGOS COMPLEMENTARES","H",0.33900000000000002,19.066499999999998,{"$f":"IF(ISNUMBER(F4721),E4721*F4721,\"\")","v":6.4635435000000001},null,null,0]
[null,null,null,null,null,"",{"$f":"IF(ISNUMBER(F4722),E4722*F4722,\"\")","v":""},null,null,0]
["SF-01280",{"$f":"INDEX(Orçamentária!A:B,MATCH(Composições!A4723,Orçamentária!A:A,0),2)","v":"Tubo CPVC soldável 28mm – Linha Residencial"},null,{"$f":"TRIM(INDEX(Orçamentária!C:C,MATCH(Composições!A4723,Orçamentária!A:A,0),1))","v":"m"},null,"",{"$f":"IF(ISNUMBER(F4723),E4723*F4723,\"\")","v":""},null,null,0]
[null,null,null,null,null,"",{"$f":"IF(ISNUMBER(F4724),E4724*F4724,\"\")","v":""},null,null,0]
[null,null,"TUBO CPVC, SOLDAVEL, 28 MM, AGUA QUENTE PREDIAL (NBR 15884)","M",1.0609999999999999,15.466000000000001,{"$f":"IF(ISNUMBER(F4725),E4725*F4725,\"\")","v":16.409426},{"$f":"SUM(G4725:G4727)","v":30.043825999999999},null,0]
[null,null,"AUXILIAR DE ENCANADOR OU BOMBEIRO HIDRÁULICO COM ENCARGOS COMPLEMENTARES","H",0.4,15.019499999999999,{"$f":"IF(ISNUMBER(F4726),E4726*F4726,\"\")","v":6.0077999999999996},null,null,0]
[null,null,"ENCANADOR OU BOMBEIRO HIDRÁULICO COM ENCARGOS COMPLEMENTARES","H",0.4,19.066499999999998,{"$f":"IF(ISNUMBER(F4727),E4727*F4727,\"\")","v":7.6265999999999998},null,null,0]
[null,null,null,null,null,"",{"$f":"IF(ISNUMBER(F4728),E4728*F4728,\"\")","v":""},null,null,0]
["SF-01281",{"$f":"INDEX(Orçamentária!A:B,MATCH(Composições!A4729,Orçamentária!A:A,0),2)","v":"Instalação de bidê reaproveitado"},null,{"$f":"TRIM(INDEX(Orçamentária!C:C,MATCH(Composições!A4729,Orçamentária!A:A,0),1))","v":"un"},null,"",{"$f":"IF(ISNUMBER(F4729),E4729*F4729,\"\")","v":""},null,null,0]
[null,null,null,null,null,"",{"$f":"IF(ISNUMBER(F4730),E4730*F4730,\"\")","v":""},null,null,0]
[null,null,"Parafuso niquelado com acabamento cromado para fixar peca sanitaria, inclui porca cega, arruela e bucha de nylon tamanho S-10","UN",2,17.270999999999997,{"$f":"IF(ISNUMBER(F4731),E4731*F4731,\"\")","v":34.541999999999994},{"$f":"SUM(G4731:G4734)","v":53.550923349999991},null,0]
[null,null,"Rejunte epoxi, qualquer cor","kg",8.8099999999999998E-2,50.511499999999998,{"$f":"IF(ISNUMBER(F4732),E4732*F4732,\"\")","v":4.4500631500000001},null,null,0]
[null,null,"Encanador ou Bombeiro Hidráulico com Encargos Complementares","h",0.49680000000000002,19.066499999999998,{"$f":"IF(ISNUMBER(F4733),E4733*F4733,\"\")","v":9.4722371999999986},null,null,0]
[null,null,"Servente com Encargos Complementares","h",0.34949999999999998,14.554,{"$f":"IF(ISNUMBER(F4734),E4734*F4734,\"\")","v":5.0866229999999995},null,null,0]
[null,null,null,null,null,"",{"$f":"IF(ISNUMBER(F4735),E4735*F4735,\"\")","v":""},null,null,0]
["SF-01282",{"$f":"INDEX(Orçamentária!A:B,MATCH(Composições!A4736,Orçamentária!A:A,0),2)","v":"Aquecedor elétrico para pia – Linha Residencial"},null,{"$f":"TRIM(INDEX(Orçamentária!C:C,MATCH(Composições!A4736,Orçamentária!A:A,0),1))","v":"un"},null,"",{"$f":"IF(ISNUMBER(F4736),E4736*F4736,\"\")","v":""},null,null,0]
[null,null,null,null,null,"",{"$f":"IF(ISNUMBER(F4737),E4737*F4737,\"\")","v":""},null,null,0]
[null,null,"ENCANADOR OU BOMBEIRO HIDRÁULICO COM ENCARGOS COMPLEMENTARES","H",0.5,19.066499999999998,{"$f":"IF(ISNUMBER(F4738),E4738*F4738,\"\")","v":9.5332499999999989},{"$f":"SUM(G4738:G4741)","v":17.153285499999999},null,0]
[null,null,"AUXILIAR DE ENCANADOR OU BOMBEIRO HIDRÁULICO COM ENCARGOS COMPLEMENTARES","H",0.5,15.019499999999999,{"$f":"IF(ISNUMBER(F4739),E4739*F4739,\"\")","v":7.5097499999999995},null,null,0]
[null,null,"FITA VEDA ROSCA EM ROLOS DE 18 MM X 50 M (L X C)","UN",{"$f":"0.47/50","v":9.3999999999999986E-3},11.7325,{"$f":"IF(ISNUMBER(F4740),E4740*F4740,\"\")","v":0.11028549999999998},null,null,0]
[null,null,"Aquecedor elétrico individual automático, 5000W, 220V","UN",1,"",{"$f":"IF(ISNUMBER(F4741),E4741*F4741,\"\")","v":""},null,null,0]
[null,null,null,null,null,"",{"$f":"IF(ISNUMBER(F4742),E4742*F4742,\"\")","v":""},null,null,0]
["SF-01283",{"$f":"INDEX(Orçamentária!A:B,MATCH(Composições!A4743,Orçamentária!A:A,0),2)","v":"Chuveiro elétrico – Linha Residencial"},null,{"$f":"TRIM(INDEX(Orçamentária!C:C,MATCH(Composições!A4743,Orçamentária!A:A,0),1))","v":"un"},null,"",{"$f":"IF(ISNUMBER(F4743),E4743*F4743,\"\")","v":""},null,null,0]
[null,null,null,null,null,"",{"$f":"IF(ISNUMBER(F4744),E4744*F4744,\"\")","v":""},null,null,0]
[null,null,"Chuveiro elétrico 7800W, 220V. Ref: Lorenzetti Acqua Storm Ultra","UN",1,"",{"$f":"IF(ISNUMBER(F4745),E4745*F4745,\"\")","v":""},{"$f":"SUM(G4745:G4748)","v":10.631585849999999},null,0]
[null,null,"FITA VEDA ROSCA EM ROLOS DE 18 MM X 10 M (L X C)","UN",2.1000000000000001E-2,3.1825000000000001,{"$f":"IF(ISNUMBER(F4746),E4746*F4746,\"\")","v":6.6832500000000003E-2},null,null,0]
[null,null,"ENCANADOR OU BOMBEIRO HIDRÁULICO COM ENCARGOS COMPLEMENTARES","H",0.44669999999999999,19.066499999999998,{"$f":"IF(ISNUMBER(F4747),E4747*F4747,\"\")","v":8.5170055499999986},null,null,0]
[null,null,"SERVENTE COM ENCARGOS COMPLEMENTARES","H",0.14069999999999999,14.554,{"$f":"IF(ISNUMBER(F4748),E4748*F4748,\"\")","v":2.0477477999999998},null,null,0]
[null,null,null,null,null,"",{"$f":"IF(ISNUMBER(F4749),E4749*F4749,\"\")","v":""},null,null,0]
["SF-01284",{"$f":"INDEX(Orçamentária!A:B,MATCH(Composições!A4750,Orçamentária!A:A,0),2)","v":"Instalação de boiler reaproveitado"},null,{"$f":"TRIM(INDEX(Orçamentária!C:C,MATCH(Composições!A4750,Orçamentária!A:A,0),1))","v":"un"},null,"",{"$f":"IF(ISNUMBER(F4750),E4750*F4750,\"\")","v":""},null,null,0]
[null,null,null,null,null,"",{"$f":"IF(ISNUMBER(F4751),E4751*F4751,\"\")","v":""},null,null,0]
[null,null,"AUXILIAR DE ENCANADOR OU BOMBEIRO HIDRÁULICO COM ENCARGOS COMPLEMENTARES","H",4,15.019499999999999,{"$f":"IF(ISNUMBER(F4752),E4752*F4752,\"\")","v":60.077999999999996},{"$f":"SUM(G4752:G4756)","v":206.9119},null,0]
[null,null,"ENCANADOR OU BOMBEIRO HIDRÁULICO COM ENCARGOS COMPLEMENTARES","H",4,19.066499999999998,{"$f":"IF(ISNUMBER(F4753),E4753*F4753,\"\")","v":76.265999999999991},null,null,0]
[null,null,"Auxiliar de eletricista com encargos complementares","H",2,15.447000000000001,{"$f":"IF(ISNUMBER(F4754),E4754*F4754,\"\")","v":30.894000000000002},null,null,0]
[null,null,"Eletricista com encargos complementares","H",2,19.645999999999997,{"$f":"IF(ISNUMBER(F4755),E4755*F4755,\"\")","v":39.291999999999994},null,null,0]
[null,null,"FITA VEDA ROSCA EM ROLOS DE 18 MM X 10 M (L X C)","UN",{"$f":"1.2/10","v":0.12},3.1825000000000001,{"$f":"IF(ISNUMBER(F4756),E4756*F4756,\"\")","v":0.38190000000000002},null,null,0]
[null,null,null,null,null,"",{"$f":"IF(ISNUMBER(F4757),E4757*F4757,\"\")","v":""},null,null,0]
["SF-01285",{"$f":"INDEX(Orçamentária!A:B,MATCH(Composições!A4758,Orçamentária!A:A,0),2)","v":"Prateleira – Linha Residencial"},null,{"$f":"TRIM(INDEX(Orçamentária!C:C,MATCH(Composições!A4758,Orçamentária!A:A,0),1))","v":"un"},null,"",{"$f":"IF(ISNUMBER(F4758),E4758*F4758,\"\")","v":""},null,null,0]
[null,null,null,null,null,"",{"$f":"IF(ISNUMBER(F4759),E4759*F4759,\"\")","v":""},null,null,0]
[null,null,"Prateleira com base em resina, com acabamento cromado. Ref: Deca Flex 2031.C.FLX ou equivalente","un ",1,"",{"$f":"IF(ISNUMBER(F4760),E4760*F4760,\"\")","v":""},{"$f":"SUM(G4760:G4762)","v":14.954904749999999},null,0]
[null,null,"Encanador ou Bombeiro Hidráulico com Encargos Complementares","h",0.63229999999999997,19.066499999999998,{"$f":"IF(ISNUMBER(F4761),E4761*F4761,\"\")","v":12.055747949999999},null,null,0]
[null,null,"Servente com Encargos Complementares","h",0.19919999999999999,14.554,{"$f":"IF(ISNUMBER(F4762),E4762*F4762,\"\")","v":2.8991568000000001},null,null,0]
[null,null,null,null,null,"",{"$f":"IF(ISNUMBER(F4763),E4763*F4763,\"\")","v":""},null,null,0]
["SF-01286",{"$f":"INDEX(Orçamentária!A:B,MATCH(Composições!A4764,Orçamentária!A:A,0),2)","v":"Saboneteira – Linha Residencial"},null,{"$f":"TRIM(INDEX(Orçamentária!C:C,MATCH(Composições!A4764,Orçamentária!A:A,0),1))","v":"un"},null,"",{"$f":"IF(ISNUMBER(F4764),E4764*F4764,\"\")","v":""},null,null,0]
[null,null,null,null,null,"",{"$f":"IF(ISNUMBER(F4765),E4765*F4765,\"\")","v":""},null,null,0]
[null,null,"Saboneteira com base em resina de alta resistência com espessura com acabamento cromado. Ref: Deca Flex 2010.C.FLX ou equivalente","un ",1,"",{"$f":"IF(ISNUMBER(F4766),E4766*F4766,\"\")","v":""},{"$f":"SUM(G4766:G4768)","v":7.4784056999999988},null,0]
[null,null,"Encanador ou Bombeiro Hidráulico com Encargos Complementares","h",0.31619999999999998,19.066499999999998,{"$f":"IF(ISNUMBER(F4767),E4767*F4767,\"\")","v":6.0288272999999988},null,null,0]
[null,null,"Servente com Encargos Complementares","h",9.9599999999999994E-2,14.554,{"$f":"IF(ISNUMBER(F4768),E4768*F4768,\"\")","v":1.4495784},null,null,0]
[null,null,null,null,null,"",{"$f":"IF(ISNUMBER(F4769),E4769*F4769,\"\")","v":""},null,null,0]
["SF-01287",{"$f":"INDEX(Orçamentária!A:B,MATCH(Composições!A4770,Orçamentária!A:A,0),2)","v":"Módulo campainha eletrônica – Linha Residencial"},null,{"$f":"TRIM(INDEX(Orçamentária!C:C,MATCH(Composições!A4770,Orçamentária!A:A,0),1))","v":"un"},null,"",{"$f":"IF(ISNUMBER(F4770),E4770*F4770,\"\")","v":""},null,null,0]
[null,null,null,null,null,"",{"$f":"IF(ISNUMBER(F4771),E4771*F4771,\"\")","v":""},null,null,0]
[null,null,"Campainha eletrônica de dois tons, 70 dB,  220V","un",1,"",{"$f":"IF(ISNUMBER(F4772),E4772*F4772,\"\")","v":""},{"$f":"SUM(G4772:G4774)","v":12.317643},null,0]
[null,null,"Auxiliar de eletricista com encargos complementares","h",0.35099999999999998,15.447000000000001,{"$f":"IF(ISNUMBER(F4773),E4773*F4773,\"\")","v":5.4218970000000004},null,null,0]
[null,null,"Eletricista com encargos complementares","h",0.35099999999999998,19.645999999999997,{"$f":"IF(ISNUMBER(F4774),E4774*F4774,\"\")","v":6.895745999999999},null,null,0]
[null,null,null,null,null,"",{"$f":"IF(ISNUMBER(F4775),E4775*F4775,\"\")","v":""},null,null,0]
["SF-01288",{"$f":"INDEX(Orçamentária!A:B,MATCH(Composições!A4776,Orçamentária!A:A,0),2)","v":"Módulo pulsador – Linha Residencial"},null,{"$f":"TRIM(INDEX(Orçamentária!C:C,MATCH(Composições!A4776,Orçamentária!A:A,0),1))","v":"un"},null,"",{"$f":"IF(ISNUMBER(F4776),E4776*F4776,\"\")","v":""},null,null,0]
[null,null,null,null,null,"",{"$f":"IF(ISNUMBER(F4777),E4777*F4777,\"\")","v":""},null,null,0]
[null,null,"PULSADOR CAMPAINHA 10A, 250V (APENAS MODULO)","UN",1,5.0540000000000003,{"$f":"IF(ISNUMBER(F4778),E4778*F4778,\"\")","v":5.0540000000000003},{"$f":"SUM(G4778:G4780)","v":12.949925},null,0]
[null,null,"Auxiliar de eletricista com encargos complementares","h",0.22500000000000001,15.447000000000001,{"$f":"IF(ISNUMBER(F4779),E4779*F4779,\"\")","v":3.4755750000000001},null,null,0]
[null,null,"Eletricista com encargos complementares","h",0.22500000000000001,19.645999999999997,{"$f":"IF(ISNUMBER(F4780),E4780*F4780,\"\")","v":4.4203499999999991},null,null,0]
[null,null,null,null,null,"",{"$f":"IF(ISNUMBER(F4781),E4781*F4781,\"\")","v":""},null,null,0]
["SF-01289",{"$f":"INDEX(Orçamentária!A:B,MATCH(Composições!A4782,Orçamentária!A:A,0),2)","v":"Luminária redonda de sobrepor (plafond) – Linha Residencial"},null,{"$f":"TRIM(INDEX(Orçamentária!C:C,MATCH(Composições!A4782,Orçamentária!A:A,0),1))","v":"un"},null,"",{"$f":"IF(ISNUMBER(F4782),E4782*F4782,\"\")","v":""},null,null,0]
[null,null,null,null,null,"",{"$f":"IF(ISNUMBER(F4783),E4783*F4783,\"\")","v":""},null,null,0]
[null,null,"LUMINARIA PLAFON REDONDO COM VIDRO FOSCO DIAMETRO *30* CM, PARA 2 LAMPADAS, BASE E27, POTENCIA MAXIMA 40/60 W (NAO INCLUI LAMPADAS)","UN",1,38.978499999999997,{"$f":"IF(ISNUMBER(F4784),E4784*F4784,\"\")","v":38.978499999999997},{"$f":"SUM(G4784:G4787)","v":77.356902099999985},null,0]
[null,null,"LAMPADA FLUORESCENTE COMPACTA 2U BRANCA 15 W, BASE E27 (127/220 V)","UN",2,10.164999999999999,{"$f":"IF(ISNUMBER(F4785),E4785*F4785,\"\")","v":20.329999999999998},null,null,0]
[null,null,"Auxiliar de eletricista com encargos complementares","h",0.2883,15.447000000000001,{"$f":"IF(ISNUMBER(F4786),E4786*F4786,\"\")","v":4.4533700999999999},null,null,0]
[null,null,"Eletricista com encargos complementares","h",0.69199999999999995,19.645999999999997,{"$f":"IF(ISNUMBER(F4787),E4787*F4787,\"\")","v":13.595031999999996},null,null,0]
[null,null,null,null,null,"",{"$f":"IF(ISNUMBER(F4788),E4788*F4788,\"\")","v":""},null,null,0]
["SF-01295",{"$f":"INDEX(Orçamentária!A:B,MATCH(Composições!A4789,Orçamentária!A:A,0),2)","v":"Bandeira de porta, em madeira e MDF"},null,{"$f":"TRIM(INDEX(Orçamentária!C:C,MATCH(Composições!A4789,Orçamentária!A:A,0),1))","v":"m²"},null,"",{"$f":"IF(ISNUMBER(F4789),E4789*F4789,\"\")","v":""},null,null,0]
[null,null,null,null,null,"",{"$f":"IF(ISNUMBER(F4790),E4790*F4790,\"\")","v":""},null,null,0]
[null,null,"PORTA DE MADEIRA, FOLHA MEDIA (NBR 15930) DE 80 X 210 CM, E = 35 MM, NUCLEO SARRAFEADO, CAPA FRISADA EM HDF, ACABAMENTO MELAMINICO EM PADRAO MADEIRA","UN",{"$f":"1/(0.8*2.1)","v":0.59523809523809523},223.89599999999999,{"$f":"IF(ISNUMBER(F4791),E4791*F4791,\"\")","v":133.27142857142857},{"$f":"SUM(G4791:G4794)","v":171.03431807142857},null,0]
[null,null,"CANTONEIRA ALUMINIO ABAS IGUAIS 1 \", E = 3 /16 \"","M",{"$f":"1/0.8","v":1.25},14.515999999999998,{"$f":"IF(ISNUMBER(F4792),E4792*F4792,\"\")","v":18.144999999999996},null,null,0]
[null,null,"CARPINTEIRO DE ESQUADRIA COM ENCARGOS COMPLEMENTARES","H",{"$f":"ROUND(1.546*0.8/(2.1*0.8),4)","v":0.73619999999999997},19.3705,{"$f":"IF(ISNUMBER(F4793),E4793*F4793,\"\")","v":14.2605621},null,null,0]
[null,null,"SERVENTE COM ENCARGOS COMPLEMENTARES","H",{"$f":"ROUND(0.773*0.8/(2.1*0.8),4)","v":0.36809999999999998},14.554,{"$f":"IF(ISNUMBER(F4794),E4794*F4794,\"\")","v":5.3573274},null,null,0]
[null,null,null,null,null,"",{"$f":"IF(ISNUMBER(F4795),E4795*F4795,\"\")","v":""},null,null,0]
["SF-01296",{"$f":"INDEX(Orçamentária!A:B,MATCH(Composições!A4796,Orçamentária!A:A,0),2)","v":"Bandeira de porta, em madeira pintada"},null,{"$f":"TRIM(INDEX(Orçamentária!C:C,MATCH(Composições!A4796,Orçamentária!A:A,0),1))","v":"m²"},null,"",{"$f":"IF(ISNUMBER(F4796),E4796*F4796,\"\")","v":""},null,null,0]
[null,null,null,null,null,"",{"$f":"IF(ISNUMBER(F4797),E4797*F4797,\"\")","v":""},null,null,0]
[null,null,"PORTA DE MADEIRA, FOLHA MEDIA (NBR 15930) DE 80 X 210 CM, E = 35 MM, NUCLEO SARRAFEADO, CAPA LISA EM HDF, ACABAMENTO EM LAMINADO NATURAL PARA VERNIZ","UN",{"$f":"1/(0.8*2.1)","v":0.59523809523809523},222.053,{"$f":"IF(ISNUMBER(F4798),E4798*F4798,\"\")","v":132.17440476190475},{"$f":"SUM(G4798:G4805)","v":183.15749426190473},null,0]
[null,null,"CANTONEIRA ALUMINIO ABAS IGUAIS 1 \", E = 3 /16 \"","M",{"$f":"1/0.8","v":1.25},14.515999999999998,{"$f":"IF(ISNUMBER(F4799),E4799*F4799,\"\")","v":18.144999999999996},null,null,0]
[null,null,"CARPINTEIRO DE ESQUADRIA COM ENCARGOS COMPLEMENTARES","H",{"$f":"ROUND(1.546*0.8/(0.8*2.1),4)","v":0.73619999999999997},19.3705,{"$f":"IF(ISNUMBER(F4800),E4800*F4800,\"\")","v":14.2605621},null,null,0]
[null,null,"SERVENTE COM ENCARGOS COMPLEMENTARES","H",{"$f":"ROUND(0.773*0.8/(0.8*2.1),4)","v":0.36809999999999998},14.554,{"$f":"IF(ISNUMBER(F4801),E4801*F4801,\"\")","v":5.3573274},null,null,0]
[null,null,"Lixa em folha para parede ou madeira, numero 120 (cor vermelha)","un",1,0.64600000000000002,{"$f":"IF(ISNUMBER(F4802),E4802*F4802,\"\")","v":0.64600000000000002},null,null,0]
[null,null,"Verniz a base de água para madeira","L",0.108,"",{"$f":"IF(ISNUMBER(F4803),E4803*F4803,\"\")","v":""},null,null,0]
[null,null,"Pintor com encargos complementares","h",0.4,20.52,{"$f":"IF(ISNUMBER(F4804),E4804*F4804,\"\")","v":8.2080000000000002},null,null,0]
[null,null,"Servente com Encargos Complementares","h",0.3,14.554,{"$f":"IF(ISNUMBER(F4805),E4805*F4805,\"\")","v":4.3662000000000001},null,null,0]
[null,null,null,null,null,null,null,null,null,0]
[null,null,"Obs: considerando rendimento informado na especificação técnica de produto equivalente da Suvinil (Lata de 3,6L rende até 100 m²/demão).",null,null,null,null,null,null,0]
[null,null,null,null,null,"",{"$f":"IF(ISNUMBER(F4808),E4808*F4808,\"\")","v":""},null,null,0]
["SF-01310",{"$f":"INDEX(Orçamentária!A:B,MATCH(Composições!A4809,Orçamentária!A:A,0),2)","v":"Cambota elastomérica de 8”"},null,{"$f":"TRIM(INDEX(Orçamentária!C:C,MATCH(Composições!A4809,Orçamentária!A:A,0),1))","v":"un"},null,"",{"$f":"IF(ISNUMBER(F4809),E4809*F4809,\"\")","v":""},null,null,0]
[null,null,null,null,null,"",{"$f":"IF(ISNUMBER(F4810),E4810*F4810,\"\")","v":""},null,null,0]
[null,null,"AUXILIAR DE ENCANADOR OU BOMBEIRO HIDRÁULICO COM ENCARGOS COMPLEMENTARES","H",0.93,15.019499999999999,{"$f":"IF(ISNUMBER(F4811),E4811*F4811,\"\")","v":13.968135},{"$f":"SUM(G4811:G4813)","v":31.69998},null,0]
[null,null,"ENCANADOR OU BOMBEIRO HIDRÁULICO COM ENCARGOS COMPLEMENTARES","H",0.93,19.066499999999998,{"$f":"IF(ISNUMBER(F4812),E4812*F4812,\"\")","v":17.731845},null,null,0]
[null,null,"Cambota elastomérica de 8\" para suporte de tubulação industrial","UN",1,"",{"$f":"IF(ISNUMBER(F4813),E4813*F4813,\"\")","v":""},null,null,0]
[null,null,null,null,null,"",{"$f":"IF(ISNUMBER(F4814),E4814*F4814,\"\")","v":""},null,null,0]
["SF-01311",{"$f":"INDEX(Orçamentária!A:B,MATCH(Composições!A4815,Orçamentária!A:A,0),2)","v":"Curva raio curto 45° em aço carbono para solda de topo DN 125 (5\" NPS)"},null,{"$f":"TRIM(INDEX(Orçamentária!C:C,MATCH(Composições!A4815,Orçamentária!A:A,0),1))","v":"un"},null,"",{"$f":"IF(ISNUMBER(F4815),E4815*F4815,\"\")","v":""},null,null,0]
[null,null,null,null,null,"",{"$f":"IF(ISNUMBER(F4816),E4816*F4816,\"\")","v":""},null,null,0]
[null,null,"ELETRODO REVESTIDO AWS - E6013, DIAMETRO IGUAL A 2,50 MM","KG",{"$f":"ROUND(0.089*1.3,4)","v":0.1157},16.187999999999999,{"$f":"IF(ISNUMBER(F4817),E4817*F4817,\"\")","v":1.8729515999999997},{"$f":"SUM(G4817:G4821)","v":67.363272599999988},null,0]
[null,null,"Curva raio curto 45° em aço carbono para solda de topo, SCH 40, DN 125 (5\" NPS)","UN",1,"",{"$f":"IF(ISNUMBER(F4818),E4818*F4818,\"\")","v":""},null,null,0]
[null,null,"AUXILIAR DE ENCANADOR OU BOMBEIRO HIDRÁULICO COM ENCARGOS COMPLEMENTARES","H",{"$f":"ROUND(0.93*1.3,4)","v":1.2090000000000001},15.019499999999999,{"$f":"IF(ISNUMBER(F4819),E4819*F4819,\"\")","v":18.158575500000001},null,null,0]
[null,null,"ENCANADOR OU BOMBEIRO HIDRÁULICO COM ENCARGOS COMPLEMENTARES","H",{"$f":"ROUND(0.93*1.3,4)","v":1.2090000000000001},19.066499999999998,{"$f":"IF(ISNUMBER(F4820),E4820*F4820,\"\")","v":23.051398499999998},null,null,0]
[null,null,"SOLDADOR COM ENCARGOS COMPLEMENTARES","H",{"$f":"ROUND(0.93*1.3,4)","v":1.2090000000000001},20.082999999999998,{"$f":"IF(ISNUMBER(F4821),E4821*F4821,\"\")","v":24.280346999999999},null,null,0]
[null,null,null,null,null,"",{"$f":"IF(ISNUMBER(F4822),E4822*F4822,\"\")","v":""},null,null,0]
["SF-01312",{"$f":"INDEX(Orçamentária!A:B,MATCH(Composições!A4823,Orçamentária!A:A,0),2)","v":"Curva raio curto 90° em aço carbono para solda de topo DN 125 (5\" NPS)"},null,{"$f":"TRIM(INDEX(Orçamentária!C:C,MATCH(Composições!A4823,Orçamentária!A:A,0),1))","v":"un"},null,"",{"$f":"IF(ISNUMBER(F4823),E4823*F4823,\"\")","v":""},null,null,0]
[null,null,null,null,null,"",{"$f":"IF(ISNUMBER(F4824),E4824*F4824,\"\")","v":""},null,null,0]
[null,null,"ELETRODO REVESTIDO AWS - E6013, DIAMETRO IGUAL A 2,50 MM","KG",{"$f":"ROUND(0.089*1.3,4)","v":0.1157},16.187999999999999,{"$f":"IF(ISNUMBER(F4825),E4825*F4825,\"\")","v":1.8729515999999997},{"$f":"SUM(G4825:G4829)","v":67.363272599999988},null,0]
[null,null,"Curva raio curto 90° em aço carbono para solda de topo, SCH 40, DN 125 (5\" NPS)","UN",1,"",{"$f":"IF(ISNUMBER(F4826),E4826*F4826,\"\")","v":""},null,null,0]
[null,null,"AUXILIAR DE ENCANADOR OU BOMBEIRO HIDRÁULICO COM ENCARGOS COMPLEMENTARES","H",{"$f":"ROUND(0.93*1.3,4)","v":1.2090000000000001},15.019499999999999,{"$f":"IF(ISNUMBER(F4827),E4827*F4827,\"\")","v":18.158575500000001},null,null,0]
[null,null,"ENCANADOR OU BOMBEIRO HIDRÁULICO COM ENCARGOS COMPLEMENTARES","H",{"$f":"ROUND(0.93*1.3,4)","v":1.2090000000000001},19.066499999999998,{"$f":"IF(ISNUMBER(F4828),E4828*F4828,\"\")","v":23.051398499999998},null,null,0]
[null,null,"SOLDADOR COM ENCARGOS COMPLEMENTARES","H",{"$f":"ROUND(0.93*1.3,4)","v":1.2090000000000001},20.082999999999998,{"$f":"IF(ISNUMBER(F4829),E4829*F4829,\"\")","v":24.280346999999999},null,null,0]
[null,null,null,null,null,"",{"$f":"IF(ISNUMBER(F4830),E4830*F4830,\"\")","v":""},null,null,0]
["SF-01313",{"$f":"INDEX(Orçamentária!A:B,MATCH(Composições!A4831,Orçamentária!A:A,0),2)","v":"Curva raio longo 90° em aço carbono para solda de topo DN 125 (5\" NPS)"},null,{"$f":"TRIM(INDEX(Orçamentária!C:C,MATCH(Composições!A4831,Orçamentária!A:A,0),1))","v":"un"},null,"",{"$f":"IF(ISNUMBER(F4831),E4831*F4831,\"\")","v":""},null,null,0]
[null,null,null,null,null,"",{"$f":"IF(ISNUMBER(F4832),E4832*F4832,\"\")","v":""},null,null,0]
[null,null,"ELETRODO REVESTIDO AWS - E6013, DIAMETRO IGUAL A 2,50 MM","KG",{"$f":"ROUND(0.089*1.3,4)","v":0.1157},16.187999999999999,{"$f":"IF(ISNUMBER(F4833),E4833*F4833,\"\")","v":1.8729515999999997},{"$f":"SUM(G4833:G4837)","v":67.363272599999988},null,0]
[null,null,"Curva raio longo 90° em aço carbono para solda de topo, SCH 40, DN 125 (5\" NPS)","UN",1,"",{"$f":"IF(ISNUMBER(F4834),E4834*F4834,\"\")","v":""},null,null,0]
[null,null,"AUXILIAR DE ENCANADOR OU BOMBEIRO HIDRÁULICO COM ENCARGOS COMPLEMENTARES","H",{"$f":"ROUND(0.93*1.3,4)","v":1.2090000000000001},15.019499999999999,{"$f":"IF(ISNUMBER(F4835),E4835*F4835,\"\")","v":18.158575500000001},null,null,0]
[null,null,"ENCANADOR OU BOMBEIRO HIDRÁULICO COM ENCARGOS COMPLEMENTARES","H",{"$f":"ROUND(0.93*1.3,4)","v":1.2090000000000001},19.066499999999998,{"$f":"IF(ISNUMBER(F4836),E4836*F4836,\"\")","v":23.051398499999998},null,null,0]
[null,null,"SOLDADOR COM ENCARGOS COMPLEMENTARES","H",{"$f":"ROUND(0.93*1.3,4)","v":1.2090000000000001},20.082999999999998,{"$f":"IF(ISNUMBER(F4837),E4837*F4837,\"\")","v":24.280346999999999},null,null,0]
[null,null,null,null,null,"",{"$f":"IF(ISNUMBER(F4838),E4838*F4838,\"\")","v":""},null,null,0]
["SF-01314",{"$f":"INDEX(Orçamentária!A:B,MATCH(Composições!A4839,Orçamentária!A:A,0),2)","v":"Curva raio longo 90° em aço carbono para solda de topo DN 200 (8\" NPS)"},null,{"$f":"TRIM(INDEX(Orçamentária!C:C,MATCH(Composições!A4839,Orçamentária!A:A,0),1))","v":"un"},null,"",{"$f":"IF(ISNUMBER(F4839),E4839*F4839,\"\")","v":""},null,null,0]
[null,null,null,null,null,"",{"$f":"IF(ISNUMBER(F4840),E4840*F4840,\"\")","v":""},null,null,0]
[null,null,"ELETRODO REVESTIDO AWS - E6013, DIAMETRO IGUAL A 2,50 MM","KG",{"$f":"ROUND(0.089*1.5,4)","v":0.13350000000000001},16.187999999999999,{"$f":"IF(ISNUMBER(F4841),E4841*F4841,\"\")","v":2.161098},{"$f":"SUM(G4841:G4845)","v":77.726852999999991},null,0]
[null,null,"Curva raio longo 90° em aço carbono para solda de topo, SCH 40, DN 200 (8\" NPS)","UN",1,"",{"$f":"IF(ISNUMBER(F4842),E4842*F4842,\"\")","v":""},null,null,0]
[null,null,"AUXILIAR DE ENCANADOR OU BOMBEIRO HIDRÁULICO COM ENCARGOS COMPLEMENTARES","H",{"$f":"ROUND(0.93*1.5,4)","v":1.395},15.019499999999999,{"$f":"IF(ISNUMBER(F4843),E4843*F4843,\"\")","v":20.952202499999999},null,null,0]
[null,null,"ENCANADOR OU BOMBEIRO HIDRÁULICO COM ENCARGOS COMPLEMENTARES","H",{"$f":"ROUND(0.93*1.5,4)","v":1.395},19.066499999999998,{"$f":"IF(ISNUMBER(F4844),E4844*F4844,\"\")","v":26.597767499999996},null,null,0]
[null,null,"SOLDADOR COM ENCARGOS COMPLEMENTARES","H",{"$f":"ROUND(0.93*1.5,4)","v":1.395},20.082999999999998,{"$f":"IF(ISNUMBER(F4845),E4845*F4845,\"\")","v":28.015784999999997},null,null,0]
[null,null,null,null,null,"",{"$f":"IF(ISNUMBER(F4846),E4846*F4846,\"\")","v":""},null,null,0]
["SF-01315",{"$f":"INDEX(Orçamentária!A:B,MATCH(Composições!A4847,Orçamentária!A:A,0),2)","v":"Eliminador de ar para líquidos DN 20 (3/4\" NPS)"},null,{"$f":"TRIM(INDEX(Orçamentária!C:C,MATCH(Composições!A4847,Orçamentária!A:A,0),1))","v":"un"},null,"",{"$f":"IF(ISNUMBER(F4847),E4847*F4847,\"\")","v":""},null,null,0]
[null,null,null,null,null,"",{"$f":"IF(ISNUMBER(F4848),E4848*F4848,\"\")","v":""},null,null,0]
[null,null,"Eliminador de ar para líquidos com pressão máxima de operação de 10,5 kgf/cm2 (150 psi), DN 20 (3/4\" NPS), conexão roscada","UN",1,"",{"$f":"IF(ISNUMBER(F4849),E4849*F4849,\"\")","v":""},{"$f":"SUM(G4849:G4851)","v":13.361711999999999},null,0]
[null,null,"AUXILIAR DE ENCANADOR OU BOMBEIRO HIDRÁULICO COM ENCARGOS COMPLEMENTARES","H",0.39200000000000002,15.019499999999999,{"$f":"IF(ISNUMBER(F4850),E4850*F4850,\"\")","v":5.8876439999999999},null,null,0]
[null,null,"ENCANADOR OU BOMBEIRO HIDRÁULICO COM ENCARGOS COMPLEMENTARES","H",0.39200000000000002,19.066499999999998,{"$f":"IF(ISNUMBER(F4851),E4851*F4851,\"\")","v":7.474067999999999},null,null,0]
[null,null,null,null,null,"",{"$f":"IF(ISNUMBER(F4852),E4852*F4852,\"\")","v":""},null,null,0]
["SF-01316",{"$f":"INDEX(Orçamentária!A:B,MATCH(Composições!A4853,Orçamentária!A:A,0),2)","v":"Flange de pescoço, aço carbono, classe 150, DN 125 (5\" NPS)"},null,{"$f":"TRIM(INDEX(Orçamentária!C:C,MATCH(Composições!A4853,Orçamentária!A:A,0),1))","v":"un"},null,"",{"$f":"IF(ISNUMBER(F4853),E4853*F4853,\"\")","v":""},null,null,0]
[null,null,null,null,null,"",{"$f":"IF(ISNUMBER(F4854),E4854*F4854,\"\")","v":""},null,null,0]
[null,null,"ELETRODO REVESTIDO AWS - E6013, DIAMETRO IGUAL A 2,50 MM","KG",{"$f":"ROUND(0.089*1.3,4)","v":0.1157},16.187999999999999,{"$f":"IF(ISNUMBER(F4855),E4855*F4855,\"\")","v":1.8729515999999997},{"$f":"SUM(G4855:G4859)","v":67.363272599999988},null,0]
[null,null,"Flange de pescoço em aço carbono, classe 150, DN 125 (5\" NPS)","UN",1,"",{"$f":"IF(ISNUMBER(F4856),E4856*F4856,\"\")","v":""},null,null,0]
[null,null,"AUXILIAR DE ENCANADOR OU BOMBEIRO HIDRÁULICO COM ENCARGOS COMPLEMENTARES","H",{"$f":"ROUND(0.93*1.3,4)","v":1.2090000000000001},15.019499999999999,{"$f":"IF(ISNUMBER(F4857),E4857*F4857,\"\")","v":18.158575500000001},null,null,0]
[null,null,"ENCANADOR OU BOMBEIRO HIDRÁULICO COM ENCARGOS COMPLEMENTARES","H",{"$f":"ROUND(0.93*1.3,4)","v":1.2090000000000001},19.066499999999998,{"$f":"IF(ISNUMBER(F4858),E4858*F4858,\"\")","v":23.051398499999998},null,null,0]
[null,null,"SOLDADOR COM ENCARGOS COMPLEMENTARES","H",{"$f":"ROUND(0.93*1.3,4)","v":1.2090000000000001},20.082999999999998,{"$f":"IF(ISNUMBER(F4859),E4859*F4859,\"\")","v":24.280346999999999},null,null,0]
[null,null,null,null,null,"",{"$f":"IF(ISNUMBER(F4860),E4860*F4860,\"\")","v":""},null,null,0]
["SF-01317",{"$f":"INDEX(Orçamentária!A:B,MATCH(Composições!A4861,Orçamentária!A:A,0),2)","v":"Isolamento elastomérico para tubulações de ferro de 5”"},null,{"$f":"TRIM(INDEX(Orçamentária!C:C,MATCH(Composições!A4861,Orçamentária!A:A,0),1))","v":"m"},null,"",{"$f":"IF(ISNUMBER(F4861),E4861*F4861,\"\")","v":""},null,null,0]
[null,null,null,null,null,"",{"$f":"IF(ISNUMBER(F4862),E4862*F4862,\"\")","v":""},null,null,0]
[null,null,"isolamento elastomérico em formato de tubo ou coquilha de espessura M, próprio para tubulações de ferro de diâmetro nominal 5”. Ref.: AF/Armaflex M-48, K-Flex ST","m",1.0210999999999999,"",{"$f":"IF(ISNUMBER(F4863),E4863*F4863,\"\")","v":""},{"$f":"SUM(G4863:G4865)","v":3.2722559999999996},null,0]
[null,null,"AUXILIAR DE ENCANADOR OU BOMBEIRO HIDRÁULICO COM ENCARGOS COMPLEMENTARES","H",{"$f":"5*0.064*0.3","v":9.6000000000000002E-2},15.019499999999999,{"$f":"IF(ISNUMBER(F4864),E4864*F4864,\"\")","v":1.4418719999999998},null,null,0]
[null,null,"ENCANADOR OU BOMBEIRO HIDRÁULICO COM ENCARGOS COMPLEMENTARES","H",{"$f":"5*0.064*0.3","v":9.6000000000000002E-2},19.066499999999998,{"$f":"IF(ISNUMBER(F4865),E4865*F4865,\"\")","v":1.8303839999999998},null,null,0]
[null,null,null,null,null,"",{"$f":"IF(ISNUMBER(F4866),E4866*F4866,\"\")","v":""},null,null,0]
["SF-01318",{"$f":"INDEX(Orçamentária!A:B,MATCH(Composições!A4867,Orçamentária!A:A,0),2)","v":"Meia luva em aço carbono DN 15 (1/2\" NPS)"},null,{"$f":"TRIM(INDEX(Orçamentária!C:C,MATCH(Composições!A4867,Orçamentária!A:A,0),1))","v":"un"},null,"",{"$f":"IF(ISNUMBER(F4867),E4867*F4867,\"\")","v":""},null,null,0]
[null,null,null,null,null,"",{"$f":"IF(ISNUMBER(F4868),E4868*F4868,\"\")","v":""},null,null,0]
[null,null,"ELETRODO REVESTIDO AWS - E6013, DIAMETRO IGUAL A 2,50 MM","KG",8.9999999999999993E-3,16.187999999999999,{"$f":"IF(ISNUMBER(F4869),E4869*F4869,\"\")","v":0.14569199999999999},{"$f":"SUM(G4869:G4873)","v":6.3209579999999992},null,0]
[null,null,"Meia luva em aço carbono, classe 3000 lbs, rosca BSP ou NPT, DN 15 (1/2\" NPS)","UN",1,"",{"$f":"IF(ISNUMBER(F4870),E4870*F4870,\"\")","v":""},null,null,0]
[null,null,"AUXILIAR DE ENCANADOR OU BOMBEIRO HIDRÁULICO COM ENCARGOS COMPLEMENTARES","H",0.114,15.019499999999999,{"$f":"IF(ISNUMBER(F4871),E4871*F4871,\"\")","v":1.7122230000000001},null,null,0]
[null,null,"ENCANADOR OU BOMBEIRO HIDRÁULICO COM ENCARGOS COMPLEMENTARES","H",0.114,19.066499999999998,{"$f":"IF(ISNUMBER(F4872),E4872*F4872,\"\")","v":2.173581},null,null,0]
[null,null,"SOLDADOR COM ENCARGOS COMPLEMENTARES","H",0.114,20.082999999999998,{"$f":"IF(ISNUMBER(F4873),E4873*F4873,\"\")","v":2.2894619999999999},null,null,0]
[null,null,null,null,null,"",{"$f":"IF(ISNUMBER(F4874),E4874*F4874,\"\")","v":""},null,null,0]
["SF-01319",{"$f":"INDEX(Orçamentária!A:B,MATCH(Composições!A4875,Orçamentária!A:A,0),2)","v":"Redução concêntrica em aço carbono para solda de topo DN 200 (8\" NPS) × DN 125 (5\" NPS)"},null,{"$f":"TRIM(INDEX(Orçamentária!C:C,MATCH(Composições!A4875,Orçamentária!A:A,0),1))","v":"un"},null,"",{"$f":"IF(ISNUMBER(F4875),E4875*F4875,\"\")","v":""},null,null,0]
[null,null,null,null,null,"",{"$f":"IF(ISNUMBER(F4876),E4876*F4876,\"\")","v":""},null,null,0]
[null,null,"ELETRODO REVESTIDO AWS - E6013, DIAMETRO IGUAL A 2,50 MM","KG",{"$f":"ROUND(0.089*1.3,4)","v":0.1157},16.187999999999999,{"$f":"IF(ISNUMBER(F4877),E4877*F4877,\"\")","v":1.8729515999999997},{"$f":"SUM(G4877:G4881)","v":45.533165599999997},null,0]
[null,null,"Redução concêntrica em aço carbono para solda de topo, SCH 40, diâmetro DN 200 (8\" NPS) × DN 125 (5\" NPS)","UN",1,"",{"$f":"IF(ISNUMBER(F4878),E4878*F4878,\"\")","v":""},null,null,0]
[null,null,"AUXILIAR DE ENCANADOR OU BOMBEIRO HIDRÁULICO COM ENCARGOS COMPLEMENTARES","H",{"$f":"ROUND(0.62*1.3,4)","v":0.80600000000000005},15.019499999999999,{"$f":"IF(ISNUMBER(F4879),E4879*F4879,\"\")","v":12.105717},null,null,0]
[null,null,"ENCANADOR OU BOMBEIRO HIDRÁULICO COM ENCARGOS COMPLEMENTARES","H",{"$f":"ROUND(0.62*1.3,4)","v":0.80600000000000005},19.066499999999998,{"$f":"IF(ISNUMBER(F4880),E4880*F4880,\"\")","v":15.367598999999998},null,null,0]
[null,null,"SOLDADOR COM ENCARGOS COMPLEMENTARES","H",0.80600000000000005,20.082999999999998,{"$f":"IF(ISNUMBER(F4881),E4881*F4881,\"\")","v":16.186897999999999},null,null,0]
[null,null,null,null,null,"",{"$f":"IF(ISNUMBER(F4882),E4882*F4882,\"\")","v":""},null,null,0]
["SF-01325",{"$f":"INDEX(Orçamentária!A:B,MATCH(Composições!A4883,Orçamentária!A:A,0),2)","v":"Tê em aço carbono para solda de topo DN 200 (8\" NPS)"},null,{"$f":"TRIM(INDEX(Orçamentária!C:C,MATCH(Composições!A4883,Orçamentária!A:A,0),1))","v":"un"},null,"",{"$f":"IF(ISNUMBER(F4883),E4883*F4883,\"\")","v":""},null,null,0]
[null,null,null,null,null,"",{"$f":"IF(ISNUMBER(F4884),E4884*F4884,\"\")","v":""},null,null,0]
[null,null,"ELETRODO REVESTIDO AWS - E6013, DIAMETRO IGUAL A 2,50 MM","KG",{"$f":"ROUND(0.133*1.3,4)","v":0.1729},16.187999999999999,{"$f":"IF(ISNUMBER(F4885),E4885*F4885,\"\")","v":2.7989051999999996},{"$f":"SUM(G4885:G4889)","v":70.542656599999987},null,0]
[null,null,"Tê em aço carbono para solda de topo, SCH 40, diâmetro DN 200 (8\" NPS)","UN",1,"",{"$f":"IF(ISNUMBER(F4886),E4886*F4886,\"\")","v":""},null,null,0]
[null,null,"AUXILIAR DE ENCANADOR OU BOMBEIRO HIDRÁULICO COM ENCARGOS COMPLEMENTARES","H",{"$f":"ROUND(0.962*1.3,4)","v":1.2505999999999999},15.019499999999999,{"$f":"IF(ISNUMBER(F4887),E4887*F4887,\"\")","v":18.783386699999998},null,null,0]
[null,null,"ENCANADOR OU BOMBEIRO HIDRÁULICO COM ENCARGOS COMPLEMENTARES","H",{"$f":"ROUND(0.962*1.3,4)","v":1.2505999999999999},19.066499999999998,{"$f":"IF(ISNUMBER(F4888),E4888*F4888,\"\")","v":23.844564899999995},null,null,0]
[null,null,"SOLDADOR COM ENCARGOS COMPLEMENTARES","H",1.2505999999999999,20.082999999999998,{"$f":"IF(ISNUMBER(F4889),E4889*F4889,\"\")","v":25.115799799999998},null,null,0]
[null,null,null,null,null,"",{"$f":"IF(ISNUMBER(F4890),E4890*F4890,\"\")","v":""},null,null,0]
["SF-01326",{"$f":"INDEX(Orçamentária!A:B,MATCH(Composições!A4891,Orçamentária!A:A,0),2)","v":"Tubo de aço-carbono preto DN 125 (5\" NPS)"},null,{"$f":"TRIM(INDEX(Orçamentária!C:C,MATCH(Composições!A4891,Orçamentária!A:A,0),1))","v":"m"},null,"",{"$f":"IF(ISNUMBER(F4891),E4891*F4891,\"\")","v":""},null,null,0]
[null,null,null,null,null,"",{"$f":"IF(ISNUMBER(F4892),E4892*F4892,\"\")","v":""},null,null,0]
[null,null,"ESCAVADEIRA HIDRÁULICA SOBRE ESTEIRAS, CAÇAMBA 0,80 M3, PESO OPERACIONAL 17 T, POTENCIA BRUTA 111 HP - CHP DIURNO. AF_06/2014","CHP",2.1100000000000001E-2,112.85999999999999,{"$f":"IF(ISNUMBER(F4893),E4893*F4893,\"\")","v":2.3813459999999997},{"$f":"SUM(G4893:G4899)","v":269.90256485000003},null,0]
[null,null,"ESCAVADEIRA HIDRÁULICA SOBRE ESTEIRAS, CAÇAMBA 0,80 M3, PESO OPERACIONAL 17 T, POTENCIA BRUTA 111 HP - CHI DIURNO. AF_06/2014","CHI",4.0300000000000002E-2,47.024999999999999,{"$f":"IF(ISNUMBER(F4894),E4894*F4894,\"\")","v":1.8951075000000002},null,null,0]
[null,null,"ELETRODO REVESTIDO AWS - E7018, DIAMETRO IGUAL A 4,00 MM","KG",{"$f":"ROUND(0.1875*0.6,4)","v":0.1125},16.862500000000001,{"$f":"IF(ISNUMBER(F4895),E4895*F4895,\"\")","v":1.8970312500000002},null,null,0]
[null,null,"ASSENTADOR DE TUBOS COM ENCARGOS COMPLEMENTARES","H",6.5600000000000006E-2,15.304499999999999,{"$f":"IF(ISNUMBER(F4896),E4896*F4896,\"\")","v":1.0039752},null,null,0]
[null,null,"SERVENTE COM ENCARGOS COMPLEMENTARES","H",6.5600000000000006E-2,14.554,{"$f":"IF(ISNUMBER(F4897),E4897*F4897,\"\")","v":0.9547424000000001},null,null,0]
[null,null,"SOLDADOR COM ENCARGOS COMPLEMENTARES","H",{"$f":"ROUND(0.4792*0.6,4)","v":0.28749999999999998},20.082999999999998,{"$f":"IF(ISNUMBER(F4898),E4898*F4898,\"\")","v":5.773862499999999},null,null,0]
[null,null,"TUBO ACO CARBONO SEM COSTURA 5\", E= *6,55 MM, SCHEDULE 40, *21,75* KG/M","M",1,255.99650000000003,{"$f":"IF(ISNUMBER(F4899),E4899*F4899,\"\")","v":255.99650000000003},null,null,0]
[null,null,null,null,null,"",{"$f":"IF(ISNUMBER(F4900),E4900*F4900,\"\")","v":""},null,null,0]
["SF-01327",{"$f":"INDEX(Orçamentária!A:B,MATCH(Composições!A4901,Orçamentária!A:A,0),2)","v":"Tubo de aço-carbono preto DN 200 (8\" NPS)"},null,{"$f":"TRIM(INDEX(Orçamentária!C:C,MATCH(Composições!A4901,Orçamentária!A:A,0),1))","v":"m"},null,"",{"$f":"IF(ISNUMBER(F4901),E4901*F4901,\"\")","v":""},null,null,0]
[null,null,null,null,null,"",{"$f":"IF(ISNUMBER(F4902),E4902*F4902,\"\")","v":""},null,null,0]
[null,null,"ESCAVADEIRA HIDRÁULICA SOBRE ESTEIRAS, CAÇAMBA 0,80 M3, PESO OPERACIONAL 17 T, POTENCIA BRUTA 111 HP - CHP DIURNO. AF_06/2014","CHP",2.1100000000000001E-2,112.85999999999999,{"$f":"IF(ISNUMBER(F4903),E4903*F4903,\"\")","v":2.3813459999999997},{"$f":"SUM(G4903:G4909)","v":450.3483683},null,0]
[null,null,"ESCAVADEIRA HIDRÁULICA SOBRE ESTEIRAS, CAÇAMBA 0,80 M3, PESO OPERACIONAL 17 T, POTENCIA BRUTA 111 HP - CHI DIURNO. AF_06/2014","CHI",4.0300000000000002E-2,47.024999999999999,{"$f":"IF(ISNUMBER(F4904),E4904*F4904,\"\")","v":1.8951075000000002},null,null,0]
[null,null,"ELETRODO REVESTIDO AWS - E7018, DIAMETRO IGUAL A 4,00 MM","KG",{"$f":"ROUND(0.1875*0.8,4)","v":0.15},16.862500000000001,{"$f":"IF(ISNUMBER(F4905),E4905*F4905,\"\")","v":2.5293749999999999},null,null,0]
[null,null,"ASSENTADOR DE TUBOS COM ENCARGOS COMPLEMENTARES","H",6.5600000000000006E-2,15.304499999999999,{"$f":"IF(ISNUMBER(F4906),E4906*F4906,\"\")","v":1.0039752},null,null,0]
[null,null,"SERVENTE COM ENCARGOS COMPLEMENTARES","H",6.5600000000000006E-2,14.554,{"$f":"IF(ISNUMBER(F4907),E4907*F4907,\"\")","v":0.9547424000000001},null,null,0]
[null,null,"SOLDADOR COM ENCARGOS COMPLEMENTARES","H",{"$f":"ROUND(0.4792*0.8,4)","v":0.38340000000000002},20.082999999999998,{"$f":"IF(ISNUMBER(F4908),E4908*F4908,\"\")","v":7.6998221999999998},null,null,0]
[null,null,"TUBO ACO CARBONO SEM COSTURA 8\", E= *8,18 MM, SCHEDULE 40, *42,55 KG/M","M",1,433.88400000000001,{"$f":"IF(ISNUMBER(F4909),E4909*F4909,\"\")","v":433.88400000000001},null,null,0]
[null,null,null,null,null,"",{"$f":"IF(ISNUMBER(F4910),E4910*F4910,\"\")","v":""},null,null,0]
["SF-01328",{"$f":"INDEX(Orçamentária!A:B,MATCH(Composições!A4911,Orçamentária!A:A,0),2)","v":"Válvula de esfera em bronze 1/2”"},null,{"$f":"TRIM(INDEX(Orçamentária!C:C,MATCH(Composições!A4911,Orçamentária!A:A,0),1))","v":"un"},null,"",{"$f":"IF(ISNUMBER(F4911),E4911*F4911,\"\")","v":""},null,null,0]
[null,null,null,null,null,"",{"$f":"IF(ISNUMBER(F4912),E4912*F4912,\"\")","v":""},null,null,0]
[null,null,"FITA VEDA ROSCA EM ROLOS DE 18 MM X 50 M (L X C)","UN",9.4999999999999998E-3,11.7325,{"$f":"IF(ISNUMBER(F4913),E4913*F4913,\"\")","v":0.11145875},{"$f":"SUM(G4913:G4916)","v":66.838565749999987},null,0]
[null,null,"VALVULA DE ESFERA BRUTA EM BRONZE, BITOLA 1/2 \" (REF 1552-B)","UN",1,40.327500000000001,{"$f":"IF(ISNUMBER(F4914),E4914*F4914,\"\")","v":40.327500000000001},null,null,0]
[null,null,"AUXILIAR DE ENCANADOR OU BOMBEIRO HIDRÁULICO COM ENCARGOS COMPLEMENTARES","H",0.77449999999999997,15.019499999999999,{"$f":"IF(ISNUMBER(F4915),E4915*F4915,\"\")","v":11.632602749999998},null,null,0]
[null,null,"ENCANADOR OU BOMBEIRO HIDRÁULICO COM ENCARGOS COMPLEMENTARES","H",0.77449999999999997,19.066499999999998,{"$f":"IF(ISNUMBER(F4916),E4916*F4916,\"\")","v":14.767004249999998},null,null,0]
[null,null,null,null,null,"",{"$f":"IF(ISNUMBER(F4917),E4917*F4917,\"\")","v":""},null,null,0]
["SF-01329",{"$f":"INDEX(Orçamentária!A:B,MATCH(Composições!A4918,Orçamentária!A:A,0),2)","v":"Válvula gaveta com flange DN 125 (5\" NPS)"},null,{"$f":"TRIM(INDEX(Orçamentária!C:C,MATCH(Composições!A4918,Orçamentária!A:A,0),1))","v":"un"},null,"",{"$f":"IF(ISNUMBER(F4918),E4918*F4918,\"\")","v":""},null,null,0]
[null,null,null,null,null,"",{"$f":"IF(ISNUMBER(F4919),E4919*F4919,\"\")","v":""},null,null,0]
[null,null,"FITA VEDA ROSCA EM ROLOS DE 18 MM X 50 M (L X C)","UN",5.7000000000000002E-2,11.7325,{"$f":"IF(ISNUMBER(F4920),E4920*F4920,\"\")","v":0.66875249999999997},{"$f":"SUM(G4920:G4923)","v":29.539594499999993},null,0]
[null,null,"Válvula gaveta com flange DN 125 (5\" NPS)","UN",1,"",{"$f":"IF(ISNUMBER(F4921),E4921*F4921,\"\")","v":""},null,null,0]
[null,null,"AUXILIAR DE ENCANADOR OU BOMBEIRO HIDRÁULICO COM ENCARGOS COMPLEMENTARES","H",0.84699999999999998,15.019499999999999,{"$f":"IF(ISNUMBER(F4922),E4922*F4922,\"\")","v":12.721516499999998},null,null,0]
[null,null,"ENCANADOR OU BOMBEIRO HIDRÁULICO COM ENCARGOS COMPLEMENTARES","H",0.84699999999999998,19.066499999999998,{"$f":"IF(ISNUMBER(F4923),E4923*F4923,\"\")","v":16.149325499999996},null,null,0]
[null,null,null,null,null,"",{"$f":"IF(ISNUMBER(F4924),E4924*F4924,\"\")","v":""},null,null,0]
["SF-01331",{"$f":"INDEX(Orçamentária!A:B,MATCH(Composições!A4925,Orçamentária!A:A,0),2)","v":"Cabo de fibra óptica monomodo 12 fibras"},null,{"$f":"TRIM(INDEX(Orçamentária!C:C,MATCH(Composições!A4925,Orçamentária!A:A,0),1))","v":"m"},null,"",{"$f":"IF(ISNUMBER(F4925),E4925*F4925,\"\")","v":""},null,null,0]
[null,null,null,null,null,"",{"$f":"IF(ISNUMBER(F4926),E4926*F4926,\"\")","v":""},null,null,0]
[null,null,"Cabo constituído por 12 fibras ópticas do tipo monomodo (9/125μm)","UN",1.05,"",{"$f":"IF(ISNUMBER(F4927),E4927*F4927,\"\")","v":""},{"$f":"SUM(G4927:G4929)","v":2.4951122999999997},null,0]
[null,null,"AUXILIAR DE ELETRICISTA COM ENCARGOS COMPLEMENTARES","H",7.1099999999999997E-2,15.447000000000001,{"$f":"IF(ISNUMBER(F4928),E4928*F4928,\"\")","v":1.0982817},null,null,0]
[null,null,"ELETRICISTA COM ENCARGOS COMPLEMENTARES","H",7.1099999999999997E-2,19.645999999999997,{"$f":"IF(ISNUMBER(F4929),E4929*F4929,\"\")","v":1.3968305999999997},null,null,0]
[null,null,null,null,null,"",{"$f":"IF(ISNUMBER(F4930),E4930*F4930,\"\")","v":""},null,null,0]
["SF-01332",{"$f":"INDEX(Orçamentária!A:B,MATCH(Composições!A4931,Orçamentária!A:A,0),2)","v":"Cabo de fibra óptica monomodo 144 fibras"},null,{"$f":"TRIM(INDEX(Orçamentária!C:C,MATCH(Composições!A4931,Orçamentária!A:A,0),1))","v":"m"},null,"",{"$f":"IF(ISNUMBER(F4931),E4931*F4931,\"\")","v":""},null,null,0]
[null,null,null,null,null,"",{"$f":"IF(ISNUMBER(F4932),E4932*F4932,\"\")","v":""},null,null,0]
[null,null,"Cabo constituído por 144 fibras ópticas do tipo monomodo (9/125μm)","UN",1.05,"",{"$f":"IF(ISNUMBER(F4933),E4933*F4933,\"\")","v":""},{"$f":"SUM(G4933:G4935)","v":4.8709083999999994},null,0]
[null,null,"AUXILIAR DE ELETRICISTA COM ENCARGOS COMPLEMENTARES","H",0.13880000000000001,15.447000000000001,{"$f":"IF(ISNUMBER(F4934),E4934*F4934,\"\")","v":2.1440436000000003},null,null,0]
[null,null,"ELETRICISTA COM ENCARGOS COMPLEMENTARES","H",0.13880000000000001,19.645999999999997,{"$f":"IF(ISNUMBER(F4935),E4935*F4935,\"\")","v":2.7268647999999995},null,null,0]
[null,null,null,null,null,"",{"$f":"IF(ISNUMBER(F4936),E4936*F4936,\"\")","v":""},null,null,0]
["SF-01333",{"$f":"INDEX(Orçamentária!A:B,MATCH(Composições!A4937,Orçamentária!A:A,0),2)","v":"Caixa de passagem em alumínio 300x300x120mm"},null,{"$f":"TRIM(INDEX(Orçamentária!C:C,MATCH(Composições!A4937,Orçamentária!A:A,0),1))","v":"un"},null,"",{"$f":"IF(ISNUMBER(F4937),E4937*F4937,\"\")","v":""},null,null,0]
[null,null,null,null,null,"",{"$f":"IF(ISNUMBER(F4938),E4938*F4938,\"\")","v":""},null,null,0]
[null,null,"Eletricista com encargos complementares","h",0.34599999999999997,19.645999999999997,{"$f":"IF(ISNUMBER(F4939),E4939*F4939,\"\")","v":6.7975159999999981},{"$f":"SUM(G4939:G4941)","v":48.265699999999995},null,0]
[null,null,"Servente com Encargos Complementares","h",0.34599999999999997,14.554,{"$f":"IF(ISNUMBER(F4940),E4940*F4940,\"\")","v":5.0356839999999998},null,null,0]
[null,null,"CAIXA DE PASSAGEM METALICA DE SOBREPOR COM TAMPA PARAFUSADA, DIMENSOES 30 X 30 X 10 CM","un",1,36.432499999999997,{"$f":"IF(ISNUMBER(F4941),E4941*F4941,\"\")","v":36.432499999999997},null,null,0]
[null,null,null,null,null,"",{"$f":"IF(ISNUMBER(F4942),E4942*F4942,\"\")","v":""},null,null,0]
["SF-01334",{"$f":"INDEX(Orçamentária!A:B,MATCH(Composições!A4943,Orçamentária!A:A,0),2)","v":"Caixa de Passagem Subterrânea 1600x2000mm"},null,{"$f":"TRIM(INDEX(Orçamentária!C:C,MATCH(Composições!A4943,Orçamentária!A:A,0),1))","v":"un"},null,"",{"$f":"IF(ISNUMBER(F4943),E4943*F4943,\"\")","v":""},null,null,0]
[null,null,null,null,null,"",{"$f":"IF(ISNUMBER(F4944),E4944*F4944,\"\")","v":""},null,null,0]
[null,null,"ACO CA-50, 6,3 MM, VERGALHAO","KG",{"$f":"ROUND(22.81*1.3,4)","v":29.652999999999999},5.8425000000000002,{"$f":"IF(ISNUMBER(F4945),E4945*F4945,\"\")","v":173.24765249999999},{"$f":"SUM(G4945:G4956)","v":1467.1015261369957},null,0]
[null,null,"ARAME RECOZIDO 16 BWG, D = 1,65 MM (0,016 KG/M) OU 18 BWG, D = 1,25 MM (0,01 KG/M)","KG",{"$f":"ROUND(0.684*1.3,4)","v":0.88919999999999999},13.281000000000001,{"$f":"IF(ISNUMBER(F4946),E4946*F4946,\"\")","v":11.8094652},null,null,0]
[null,null,"ALVENARIA DE VEDAÇÃO DE BLOCOS VAZADOS DE CONCRETO DE 9X19X39CM (ESPESSURA 9CM) DE PAREDES COM ÁREA LÍQUIDA MENOR QUE 6M² SEM VÃOS E ARGAMASSA DE ASSENTAMENTO COM PREPARO EM BETONEIRA. AF_06/2014","M2",{"$f":"ROUND(7.02*1.3,4)","v":9.1259999999999994},47.815188108959994,{"$f":"IF(ISNUMBER(F4947),E4947*F4947,\"\")","v":436.36140668236885},null,null,0]
[null,null,"EMBOÇO, PARA RECEBIMENTO DE CERÂMICA, EM ARGAMASSA TRAÇO 1:2:8, PREPARO MECÂNICO COM BETONEIRA 400L, APLICADO MANUALMENTE EM FACES INTERNAS DE PAREDES, PARA AMBIENTE COM ÁREA MENOR QUE 5M2, ESPESSURA DE 10MM, COM EXECUÇÃO DE TALISCAS. AF_06/2014","M2",{"$f":"ROUND(6.5*1.3,4)","v":8.4499999999999993},20.675169823959994,{"$f":"IF(ISNUMBER(F4948),E4948*F4948,\"\")","v":174.70518501246192},null,null,0]
[null,null,"CHAPISCO APLICADO EM ALVENARIAS E ESTRUTURAS DE CONCRETO INTERNAS, COM COLHER DE PEDREIRO.  ARGAMASSA TRAÇO 1:3 COM PREPARO EM BETONEIRA 400L. AF_06/2014","M2",{"$f":"ROUND(6.5*1.3,4)","v":8.4499999999999993},3.1508624895300001,{"$f":"IF(ISNUMBER(F4949),E4949*F4949,\"\")","v":26.6247880365285},null,null,0]
[null,null,"ARMADOR COM ENCARGOS COMPLEMENTARES","H",{"$f":"ROUND(0.9*1.3,4)","v":1.17},19.38,{"$f":"IF(ISNUMBER(F4950),E4950*F4950,\"\")","v":22.674599999999998},null,null,0]
[null,null,"PEDREIRO COM ENCARGOS COMPLEMENTARES","H",{"$f":"ROUND(5.62*1.3,4)","v":7.306},19.474999999999998,{"$f":"IF(ISNUMBER(F4951),E4951*F4951,\"\")","v":142.28434999999999},null,null,0]
[null,null,"SERVENTE COM ENCARGOS COMPLEMENTARES","H",{"$f":"ROUND(5.62*1.3,4)","v":7.306},14.554,{"$f":"IF(ISNUMBER(F4952),E4952*F4952,\"\")","v":106.331524},null,null,0]
[null,null,"MONTAGEM E DESMONTAGEM DE FÔRMA DE PILARES RETANGULARES E ESTRUTURAS SIMILARES COM ÁREA MÉDIA DAS SEÇÕES MAIOR QUE 0,25 M², PÉ-DIREITO SIMPLES, EM MADEIRA SERRADA, 2 UTILIZAÇÕES. AF_12/2015","M2",{"$f":"ROUND(0.47*1.3,4)","v":0.61099999999999999},123.86671681500002,{"$f":"IF(ISNUMBER(F4953),E4953*F4953,\"\")","v":75.682563973965003},null,null,0]
[null,null,"CONCRETO MAGRO PARA LASTRO, TRAÇO 1:4,5:4,5 (CIMENTO/ AREIA MÉDIA/ BRITA 1)  - PREPARO MECÂNICO COM BETONEIRA 400 L. AF_07/2016","M3",{"$f":"ROUND(0.218*1.3,4)","v":0.28339999999999999},321.69931005075,{"$f":"IF(ISNUMBER(F4954),E4954*F4954,\"\")","v":91.169584468382538},null,null,0]
[null,null,"CONCRETO FCK = 15MPA, TRAÇO 1:3,4:3,5 (CIMENTO/ AREIA MÉDIA/ BRITA 1)  - PREPARO MECÂNICO COM BETONEIRA 600 L. AF_07/2016","M3",{"$f":"ROUND(0.169*1.3,4)","v":0.21970000000000001},341.51376250034991,{"$f":"IF(ISNUMBER(F4955),E4955*F4955,\"\")","v":75.03057362132688},null,null,0]
[null,null,"CONCRETO FCK = 20MPA, TRAÇO 1:2,7:3 (CIMENTO/ AREIA MÉDIA/ BRITA 1)  - PREPARO MECÂNICO COM BETONEIRA 600 L. AF_07/2016","M3",{"$f":"ROUND(0.2808*1.3,4)","v":0.36499999999999999},359.3968017588,{"$f":"IF(ISNUMBER(F4956),E4956*F4956,\"\")","v":131.17983264196201},null,null,0]
[null,null,null,null,null,"",{"$f":"IF(ISNUMBER(F4957),E4957*F4957,\"\")","v":""},null,null,0]
["SF-01336",{"$f":"INDEX(Orçamentária!A:B,MATCH(Composições!A4958,Orçamentária!A:A,0),2)","v":"Eletroduto PEAD 2”"},null,{"$f":"TRIM(INDEX(Orçamentária!C:C,MATCH(Composições!A4958,Orçamentária!A:A,0),1))","v":"m"},null,"",{"$f":"IF(ISNUMBER(F4958),E4958*F4958,\"\")","v":""},null,null,0]
[null,null,null,null,null,"",{"$f":"IF(ISNUMBER(F4959),E4959*F4959,\"\")","v":""},null,null,0]
[null,null,"ELETRODUTO/DUTO PEAD FLEXIVEL PAREDE SIMPLES, CORRUGACAO HELICOIDAL, COR PRETA, SEM ROSCA, DE 2\",  PARA CABEAMENTO SUBTERRANEO (NBR 15715)","M",1.1000000000000001,4.9685000000000006,{"$f":"IF(ISNUMBER(F4960),E4960*F4960,\"\")","v":5.4653500000000008},{"$f":"SUM(G4960:G4962)","v":9.1501150000000013},null,0]
[null,null,"AUXILIAR DE ELETRICISTA COM ENCARGOS COMPLEMENTARES","H",0.105,15.447000000000001,{"$f":"IF(ISNUMBER(F4961),E4961*F4961,\"\")","v":1.6219350000000001},null,null,0]
[null,null,"ELETRICISTA COM ENCARGOS COMPLEMENTARES","H",0.105,19.645999999999997,{"$f":"IF(ISNUMBER(F4962),E4962*F4962,\"\")","v":2.0628299999999995},null,null,0]
[null,null,null,null,null,"",{"$f":"IF(ISNUMBER(F4963),E4963*F4963,\"\")","v":""},null,null,0]
["SF-01339",{"$f":"INDEX(Orçamentária!A:B,MATCH(Composições!A4964,Orçamentária!A:A,0),2)","v":"Tampa em Ferro Fundido - Circular DN-600 mm Classe 400"},null,{"$f":"TRIM(INDEX(Orçamentária!C:C,MATCH(Composições!A4964,Orçamentária!A:A,0),1))","v":"un"},null,"",{"$f":"IF(ISNUMBER(F4964),E4964*F4964,\"\")","v":""},null,null,0]
[null,null,null,null,null,"",{"$f":"IF(ISNUMBER(F4965),E4965*F4965,\"\")","v":""},null,null,0]
[null,null,"TAMPAO FOFO ARTICULADO, CLASSE D400 CARGA MAX 40 T, REDONDO TAMPA *600 MM, REDE PLUVIAL/ESGOTO","UN",1,476.03549999999996,{"$f":"IF(ISNUMBER(F4966),E4966*F4966,\"\")","v":476.03549999999996},{"$f":"SUM(G4966:G4969)","v":528.7885080182084},null,0]
[null,null,"ARGAMASSA TRAÇO 1:4 (EM VOLUME DE CIMENTO E AREIA GROSSA ÚMIDA) PARA CHAPISCO CONVENCIONAL, PREPARO MECÂNICO COM BETONEIRA 400 L. AF_08/2019","M3",4.4999999999999997E-3,379.89067071299996,{"$f":"IF(ISNUMBER(F4967),E4967*F4967,\"\")","v":1.7095080182084996},null,null,0]
[null,null,"PEDREIRO COM ENCARGOS COMPLEMENTARES","H",1.5,19.474999999999998,{"$f":"IF(ISNUMBER(F4968),E4968*F4968,\"\")","v":29.212499999999999},null,null,0]
[null,null,"SERVENTE COM ENCARGOS COMPLEMENTARES","H",1.5,14.554,{"$f":"IF(ISNUMBER(F4969),E4969*F4969,\"\")","v":21.831},null,null,0]
[null,null,null,null,null,"",{"$f":"IF(ISNUMBER(F4970),E4970*F4970,\"\")","v":""},null,null,0]

{"sheet":"Comp.Aux1","index":1,"n_rows":426,"n_cols":9,"rows_kept":426,"cut":false,"hidden":false,"merged":[[414,0,425,0],[402,0,413,0],[363,0,370,0],[371,0,376,0],[377,0,382,0],[383,0,391,0],[392,0,401,0],[47,0,59,0],[5,0,14,0],[15,0,19,0],[20,0,25,0],[26,0,36,0],[37,0,46,0],[284,0,294,0],[295,0,302,0],[303,0,308,0],[224,0,237,0],[276,0,283,0],[60,0,67,0],[68,0,77,0],[78,0,84,0],[85,0,94,0],[95,0,104,0],[105,0,110,0],[111,0,116,0],[117,0,122,0],[123,0,128,0],[191,0,196,0],[179,0,184,0],[185,0,190,0],[129,0,134,0],[135,0,140,0],[141,0,146,0],[147,0,152,0],[197,0,201,0],[202,0,205,0],[206,0,213,0],[153,0,166,0],[167,0,178,0],[214,0,218,0],[219,0,223,0],[238,0,251,0],[252,0,265,0],[266,0,275,0],[309,0,322,0],[323,0,336,0],[337,0,348,0],[349,0,355,0],[356,0,362,0]]}
[{"$f":"Composições!A1","v":"Manutenção de revestimentos de mármore nas fachadas do Edifício Principal e do Anexo I do SF"}]
["COMPOSIÇÕES DE CUSTO UNITÁRIO AUXILIARES DE 1º NÍVEL"]
[{"$f":"Composições!A3","v":"Data: Outubro de 2020"}]
[]
["DESCRIÇÃO","DISCRIMINAÇÃO DA COMPOSIÇÃO","UNIDADE","COEFICIENTE","CUSTO UNITÁRIO","CUSTO TOTAL","TOTAL",null,"QTD"]
["ARGAMASSA TRAÇO 1:3 (EM VOLUME DE CIMENTO E AREIA MÉDIA ÚMIDA), PREPARO MANUAL. AF_08/2019","","M3",null,"",{"$f":"IF(ISNUMBER(E6),E6*$D6,\"\")","v":""},null,null,0]
[null,"",null,null,"",{"$f":"IF(ISNUMBER(E7),E7*$D7,\"\")","v":""},null,null,0]
[null,"Areia media - posto jazida/fornecedor (retirado na jazida, sem transporte)","M3",1.07,93.8125,{"$f":"IF(ISNUMBER(E8),E8*$D8,\"\")","v":100.37937500000001},{"$f":"SUM(F8:F12)","v":477.87846712049998},null,0]
[null,"Cimento Portland composto CP II-32","KG",482.96,0.44649999999999995,{"$f":"IF(ISNUMBER(E9),E9*$D9,\"\")","v":215.64163999999997},null,null,0]
[null,"Servente com encargos complementares","H",8.57,14.554,{"$f":"IF(ISNUMBER(E10),E10*$D10,\"\")","v":124.72778000000001},null,null,0]
[null,"CARGA, MANOBRA E DESCARGA DE SOLOS E MATERIAIS GRANULARES EM CAMINHÃO BASCULANTE 6 M³ - CARGA COM PÁ CARREGADEIRA (CAÇAMBA DE 1,7 A 2,8 M³ / 128 HP) E DESCARGA LIVRE (UNIDADE: M3). AF_07/2020","M3",{"$f":"ROUND(1*D8,4)","v":1.07},4.6309621500000002,{"$f":"IF(ISNUMBER(E11),E11*$D11,\"\")","v":4.9551295005000009},null,null,0]
[null,"TRANSPORTE COM CAMINHÃO BASCULANTE DE 6 M³, EM VIA URBANA PAVIMENTADA, DMT ATÉ 30 KM (UNIDADE: M3XKM). AF_07/2020","M3xKM",{"$f":"ROUND(D8*20,4)","v":21.4},1.5034832999999999,{"$f":"IF(ISNUMBER(E12),E12*$D12,\"\")","v":32.174542619999997},null,null,0]
[null,null,null,null,"",{"$f":"IF(ISNUMBER(E13),E13*$D13,\"\")","v":""},null,null,0]
[null,"Obs.: Considerando fornecedor de areia a 20 km do Senado Federal.",null,null,"",{"$f":"IF(ISNUMBER(E14),E14*$D14,\"\")","v":""},null,null,0]
[null,"",null,null,"",{"$f":"IF(ISNUMBER(E15),E15*$D15,\"\")","v":""},null,null,0]
["Fixação utilizando parafuso e bucha de nylon, somente mão de obra. af_10/2016","","UN",null,"",{"$f":"IF(ISNUMBER(E16),E16*$D16,\"\")","v":""},null,null,0]
[null,"",null,null,"",{"$f":"IF(ISNUMBER(E17),E17*$D17,\"\")","v":""},null,null,0]
[null,"Auxiliar de encanador ou bombeiro hidráulico com encargos complementares","H",2.2700000000000001E-2,15.019499999999999,{"$f":"IF(ISNUMBER(E18),E18*$D18,\"\")","v":0.34094265000000001},{"$f":"SUM(F18:F19)","v":3.4316222999999995},null,0]
[null,"Encanador ou bombeiro hidráulico com encargos complementares","H",0.16209999999999999,19.066499999999998,{"$f":"IF(ISNUMBER(E19),E19*$D19,\"\")","v":3.0906796499999993},null,null,0]
[null,"",null,null,"",{"$f":"IF(ISNUMBER(E20),E20*$D20,\"\")","v":""},null,null,0]
["Fixação de tubos horizontais de PVC, CPVC ou cobre diâmetros menores ou iguais a 40 mm ou eletrocalhas até 150mm de largura, com abraçadeira metálica rígida tipo d 1/2\u0094, fixada em perfilado em laje. af_05/2015","","M",null,"",{"$f":"IF(ISNUMBER(E21),E21*$D21,\"\")","v":""},null,null,0]
[null,"",null,null,"",{"$f":"IF(ISNUMBER(E22),E22*$D22,\"\")","v":""},null,null,0]
[null,"Abracadeira em aco para amarracao de eletrodutos, tipo D, com 1/2\" e parafuso de fixacao","UN",0.65,1.0355000000000001,{"$f":"IF(ISNUMBER(E23),E23*$D23,\"\")","v":0.67307500000000009},{"$f":"SUM(F23:F25)","v":2.1388585},null,0]
[null,"Auxiliar de encanador ou bombeiro hidráulico com encargos complementares","H",0.01,15.019499999999999,{"$f":"IF(ISNUMBER(E24),E24*$D24,\"\")","v":0.150195},null,null,0]
[null,"Encanador ou bombeiro hidráulico com encargos complementares","H",6.9000000000000006E-2,19.066499999999998,{"$f":"IF(ISNUMBER(E25),E25*$D25,\"\")","v":1.3155885},null,null,0]
[null,"",null,null,"",{"$f":"IF(ISNUMBER(E26),E26*$D26,\"\")","v":""},null,null,0]
["FABRICAÇÃO DE FÔRMA PARA VIGAS, EM CHAPA DE MADEIRA COMPENSADA RESINADA, E = 17 MM. AF_09/2020","","M2",null,"",{"$f":"IF(ISNUMBER(E27),E27*$D27,\"\")","v":""},null,null,0]
[null,"",null,null,"",{"$f":"IF(ISNUMBER(E28),E28*$D28,\"\")","v":""},null,null,0]
[null,"Chapa de madeira compensada resinada para forma de concreto, de *2,2 x 1,1* m, e = 17 mm","M2",1.1459999999999999,28.062999999999999,{"$f":"IF(ISNUMBER(E29),E29*$D29,\"\")","v":32.160197999999994},{"$f":"SUM(F29:F36)","v":69.837881999999979},null,0]
[null,"PONTALETE DE MADEIRA NAO APARELHADA *7,5 X 7,5* CM (3 X 3 \") PINUS, MISTA OU EQUIVALENTE DA REGIAO","M",0.16600000000000001,3.6859999999999999,{"$f":"IF(ISNUMBER(E30),E30*$D30,\"\")","v":0.61187599999999998},null,null,0]
[null,"SARRAFO DE MADEIRA NAO APARELHADA *2,5 X 7,5* CM (1 X 3 \") PINUS, MISTA OU EQUIVALENTE DA REGIAO","M",6.952,1.3204999999999998,{"$f":"IF(ISNUMBER(E31),E31*$D31,\"\")","v":9.1801159999999982},null,null,0]
[null,"Prego de aco polido com cabeca 17 x 21 (2 x 11)","KG",0.159,11.305,{"$f":"IF(ISNUMBER(E32),E32*$D32,\"\")","v":1.7974950000000001},null,null,0]
[null,"Ajudante de carpinteiro com encargos complementares","H",0.20200000000000001,16.416,{"$f":"IF(ISNUMBER(E33),E33*$D33,\"\")","v":3.3160320000000003},null,null,0]
[null,"Carpinteiro de formas com encargos complementares","H",1.012,19.341999999999999,{"$f":"IF(ISNUMBER(E34),E34*$D34,\"\")","v":19.574103999999998},null,null,0]
[null,"Serra circular de bancada com motor elétrico potência de 5HP, com coifa para disco 10\" - CHP diurno. af_08/2015","CHP",0.05,17.204499999999999,{"$f":"IF(ISNUMBER(E35),E35*$D35,\"\")","v":0.86022500000000002},null,null,0]
[null,"Serra circular de bancada com motor elétrico potência de 5HP, com coifa para disco 10\" - CHI diurno. af_08/2015","CHI",0.152,15.3805,{"$f":"IF(ISNUMBER(E36),E36*$D36,\"\")","v":2.3378359999999998},null,null,0]
[null,"",null,null,"",{"$f":"IF(ISNUMBER(E37),E37*$D37,\"\")","v":""},null,null,0]
["FABRICAÇÃO DE ESCORAS DE VIGA DO TIPO GARFO, EM MADEIRA. AF_09/2020","","M",null,"",{"$f":"IF(ISNUMBER(E38),E38*$D38,\"\")","v":""},null,null,0]
[null,"",null,null,"",{"$f":"IF(ISNUMBER(E39),E39*$D39,\"\")","v":""},null,null,0]
[null,"CHAPA DE MADEIRA COMPENSADA PLASTIFICADA PARA FORMA DE CONCRETO, DE 2,20 x 1,10 M, E = 18 MM","M2",0.13600000000000001,35.225999999999999,{"$f":"IF(ISNUMBER(E40),E40*$D40,\"\")","v":4.7907359999999999},{"$f":"SUM(F40:F46)","v":17.730685999999999},null,0]
[null,"PONTALETE DE MADEIRA NAO APARELHADA *7,5 X 7,5* CM (3 X 3 \") PINUS, MISTA OU EQUIVALENTE DA REGIAO","M",2.3420000000000001,3.6859999999999999,{"$f":"IF(ISNUMBER(E41),E41*$D41,\"\")","v":8.632612},null,null,0]
[null,"PREGO DE ACO POLIDO COM CABECA 17 X 21 (2 X 11)","KG",1.2E-2,11.305,{"$f":"IF(ISNUMBER(E42),E42*$D42,\"\")","v":0.13566},null,null,0]
[null,"AJUDANTE DE CARPINTEIRO COM ENCARGOS COMPLEMENTARES","H",3.2000000000000001E-2,16.416,{"$f":"IF(ISNUMBER(E43),E43*$D43,\"\")","v":0.525312},null,null,0]
[null,"CARPINTEIRO DE FORMAS COM ENCARGOS COMPLEMENTARES","H",0.161,19.341999999999999,{"$f":"IF(ISNUMBER(E44),E44*$D44,\"\")","v":3.1140619999999997},null,null,0]
[null,"SERRA CIRCULAR DE BANCADA COM MOTOR ELÉTRICO POTÊNCIA DE 5HP, COM COIFA PARA DISCO 10\" - CHP DIURNO. AF_08/2015","CHP",2.1999999999999999E-2,17.204499999999999,{"$f":"IF(ISNUMBER(E45),E45*$D45,\"\")","v":0.37849899999999997},null,null,0]
[null,"SERRA CIRCULAR DE BANCADA COM MOTOR ELÉTRICO POTÊNCIA DE 5HP, COM COIFA PARA DISCO 10\" - CHI DIURNO. AF_08/2015","CHI",0.01,15.3805,{"$f":"IF(ISNUMBER(E46),E46*$D46,\"\")","v":0.153805},null,null,0]
[null,"",null,null,"",{"$f":"IF(ISNUMBER(E47),E47*$D47,\"\")","v":""},null,null,0]
["ARGAMASSA TRAÇO 1:2:8 (EM VOLUME DE CIMENTO, CAL E AREIA MÉDIA ÚMIDA) PARA EMBOÇO/MASSA ÚNICA/ASSENTAMENTO DE ALVENARIA DE VEDAÇÃO, PREPARO MECÂNICO COM BETONEIRA 400 L. AF_08/2019","","M3",null,"",{"$f":"IF(ISNUMBER(E48),E48*$D48,\"\")","v":""},null,null,0]
[null,"",null,null,"",{"$f":"IF(ISNUMBER(E49),E49*$D49,\"\")","v":""},null,null,0]
[null,"Areia media - posto jazida/fornecedor (retirado na jazida, sem transporte)","M3",1.1599999999999999,93.8125,{"$f":"IF(ISNUMBER(E50),E50*$D50,\"\")","v":108.82249999999999},{"$f":"SUM(F50:F57)","v":436.76961865399994},null,0]
[null,"Cal hidratada CH-I para argamassas","KG",174.1,0.76,{"$f":"IF(ISNUMBER(E51),E51*$D51,\"\")","v":132.316},null,null,0]
[null,"Cimento Portland composto CP II-32","KG",195.86,0.44649999999999995,{"$f":"IF(ISNUMBER(E52),E52*$D52,\"\")","v":87.451489999999993},null,null,0]
[null,"Operador de betoneira estacionária/misturador com encargos complementares","H",4.5,14.658499999999998,{"$f":"IF(ISNUMBER(E53),E53*$D53,\"\")","v":65.963249999999988},null,null,0]
[null,"Betoneira capacidade nominal de 400 L, capacidade de mistura 280 L, motor elétrico trifásico potência de 2 cv, sem carregador - CHP diurno. af_10/2014","CHP",1.05,1.121,{"$f":"IF(ISNUMBER(E54),E54*$D54,\"\")","v":1.1770500000000002},null,null,0]
[null,"Betoneira capacidade nominal de 400 L, capacidade de mistura 280 L, motor elétrico trifásico potência de 2 cv, sem carregador - CHI diurno. af_10/2014","CHI",3.45,0.22799999999999998,{"$f":"IF(ISNUMBER(E55),E55*$D55,\"\")","v":0.78659999999999997},null,null,0]
[null,"CARGA, MANOBRA E DESCARGA DE SOLOS E MATERIAIS GRANULARES EM CAMINHÃO BASCULANTE 6 M³ - CARGA COM PÁ CARREGADEIRA (CAÇAMBA DE 1,7 A 2,8 M³ / 128 HP) E DESCARGA LIVRE (UNIDADE: M3). AF_07/2020","M3",{"$f":"ROUND(1*D50,4)","v":1.1599999999999999},4.6309621500000002,{"$f":"IF(ISNUMBER(E56),E56*$D56,\"\")","v":5.3719160939999995},null,null,0]
[null,"TRANSPORTE COM CAMINHÃO BASCULANTE DE 6 M³, EM VIA URBANA PAVIMENTADA, DMT ATÉ 30 KM (UNIDADE: M3XKM). AF_07/2020","M3xKM",{"$f":"ROUND(D50*20,4)","v":23.2},1.5034832999999999,{"$f":"IF(ISNUMBER(E57),E57*$D57,\"\")","v":34.880812559999995},null,null,0]
[null,null,null,null,"",{"$f":"IF(ISNUMBER(E58),E58*$D58,\"\")","v":""},null,null,0]
[null,"Obs.: Considerando fornecedor de areia a 20 km do Senado Federal.",null,null,"",{"$f":"IF(ISNUMBER(E59),E59*$D59,\"\")","v":""},null,null,0]
[null,"",null,null,"",{"$f":"IF(ISNUMBER(E60),E60*$D60,\"\")","v":""},null,null,0]
["Contrapiso em argamassa traço 1:4 (cimento e areia), preparo mecânico com betoneira 400 l, aplicado em áreas secas sobre laje, aderido, espessura 3cm. AF_06/2014","","M2",null,"",{"$f":"IF(ISNUMBER(E61),E61*$D61,\"\")","v":""},null,null,0]
[null,"",null,null,"",{"$f":"IF(ISNUMBER(E62),E62*$D62,\"\")","v":""},null,null,0]
[null,"Cimento Portland composto CP II-32","KG",0.5,0.44649999999999995,{"$f":"IF(ISNUMBER(E63),E63*$D63,\"\")","v":0.22324999999999998},{"$f":"SUM(F63:F67)","v":33.543277481764996},null,0]
[null,"Aditivo adesivo liquido para argamassas de revestimentos cimenticios","L",0.435,11.390499999999999,{"$f":"IF(ISNUMBER(E64),E64*$D64,\"\")","v":4.9548674999999998},null,null,0]
[null,"ARGAMASSA TRAÇO 1:4 (EM VOLUME DE CIMENTO E AREIA MÉDIA ÚMIDA) PARA CONTRAPISO, PREPARO MECÂNICO COM BETONEIRA 400 L. AF_08/2019","M3",4.3099999999999999E-2,453.29466314999996,{"$f":"IF(ISNUMBER(E65),E65*$D65,\"\")","v":19.536999981765},null,null,0]
[null,"Pedreiro com encargos complementares","H",0.33,19.474999999999998,{"$f":"IF(ISNUMBER(E66),E66*$D66,\"\")","v":6.4267499999999993},null,null,0]
[null,"Servente com encargos complementares","H",0.16500000000000001,14.554,{"$f":"IF(ISNUMBER(E67),E67*$D67,\"\")","v":2.4014100000000003},null,null,0]
[null,"",null,null,"",{"$f":"IF(ISNUMBER(E68),E68*$D68,\"\")","v":""},null,null,0]
["ARGAMASSA TRAÇO 1:3 (EM VOLUME DE CIMENTO E AREIA GROSSA ÚMIDA) PARA CHAPISCO CONVENCIONAL, PREPARO MANUAL. AF_08/2019","","M3",null,"",{"$f":"IF(ISNUMBER(E69),E69*$D69,\"\")","v":""},null,null,0.10043999999999999]
[null,"",null,null,"",{"$f":"IF(ISNUMBER(E70),E70*$D70,\"\")","v":""},null,null,0.10043999999999999]
[null,"Areia grossa - posto jazida/fornecedor (retirado na jazida, sem transporte)","M3",0.94,118.7025,{"$f":"IF(ISNUMBER(E71),E71*$D71,\"\")","v":111.58035},{"$f":"SUM(F71:F75)","v":493.28831546099997},null,0.10043999999999999]
[null,"Cimento Portland composto CP II-32","KG",422.63,0.44649999999999995,{"$f":"IF(ISNUMBER(E72),E72*$D72,\"\")","v":188.70429499999997},null,null,0.10043999999999999]
[null,"Servente com encargos complementares","H",11.02,14.554,{"$f":"IF(ISNUMBER(E73),E73*$D73,\"\")","v":160.38507999999999},null,null,0.10043999999999999]
[null,"CARGA, MANOBRA E DESCARGA DE SOLOS E MATERIAIS GRANULARES EM CAMINHÃO BASCULANTE 6 M³ - CARGA COM PÁ CARREGADEIRA (CAÇAMBA DE 1,7 A 2,8 M³ / 128 HP) E DESCARGA LIVRE (UNIDADE: M3). AF_07/2020","M3",{"$f":"ROUND(1*D71,4)","v":0.94},4.6309621500000002,{"$f":"IF(ISNUMBER(E74),E74*$D74,\"\")","v":4.3531044210000003},null,null,0.10043999999999999]
[null,"TRANSPORTE COM CAMINHÃO BASCULANTE DE 6 M³, EM VIA URBANA PAVIMENTADA, DMT ATÉ 30 KM (UNIDADE: M3XKM). AF_07/2020","M3xKM",{"$f":"ROUND(D71*20,4)","v":18.8},1.5034832999999999,{"$f":"IF(ISNUMBER(E75),E75*$D75,\"\")","v":28.265486039999999},null,null,0.10043999999999999]
[null,null,null,null,"",{"$f":"IF(ISNUMBER(E76),E76*$D76,\"\")","v":""},null,null,0.10043999999999999]
[null,"Obs.: Considerando fornecedor de areia a 20 km do Senado Federal.",null,null,"",{"$f":"IF(ISNUMBER(E77),E77*$D77,\"\")","v":""},null,null,0.10043999999999999]
[null,"",null,null,"",{"$f":"IF(ISNUMBER(E78),E78*$D78,\"\")","v":""},null,null,0.10043999999999999]
["ARGAMASSA INDUSTRIALIZADA PARA CHAPISCO COLANTE, PREPARO COM MISTURADOR DE EIXO HORIZONTAL DE 300 KG. AF_08/2019","","M3",null,"",{"$f":"IF(ISNUMBER(E79),E79*$D79,\"\")","v":""},null,null,0]
[null,"",null,null,"",{"$f":"IF(ISNUMBER(E80),E80*$D80,\"\")","v":""},null,null,0]
[null,"Argamassa industrializada para chapisco colante","KG",1981.23,0.82650000000000001,{"$f":"IF(ISNUMBER(E81),E81*$D81,\"\")","v":1637.4865950000001},{"$f":"SUM(F81:F84)","v":1712.3302550000001},null,0]
[null,"Operador de betoneira estacionária/misturador com encargos complementares","H",4.72,14.658499999999998,{"$f":"IF(ISNUMBER(E82),E82*$D82,\"\")","v":69.188119999999984},null,null,0]
[null,"Misturador de argamassa, eixo horizontal, capacidade de mistura 300 kg, motor elétrico potência 5 cv - CHP diurno. af_06/2014","CHP",1.1000000000000001,3.0779999999999998,{"$f":"IF(ISNUMBER(E83),E83*$D83,\"\")","v":3.3858000000000001},null,null,0]
[null,"Misturador de argamassa, eixo horizontal, capacidade de mistura 300 kg, motor elétrico potência 5 cv - CHI diurno. af_06/2014","CHI",3.62,0.627,{"$f":"IF(ISNUMBER(E84),E84*$D84,\"\")","v":2.2697400000000001},null,null,0]
[null,"",null,null,"",{"$f":"IF(ISNUMBER(E85),E85*$D85,\"\")","v":""},null,null,0]
["ARGAMASSA TRAÇO 1:4 (EM VOLUME DE CIMENTO E AREIA MÉDIA ÚMIDA) PARA CONTRAPISO, PREPARO MANUAL. AF_08/2019","","M3",null,"",{"$f":"IF(ISNUMBER(E86),E86*$D86,\"\")","v":""},null,null,0]
[null,"",null,null,"",{"$f":"IF(ISNUMBER(E87),E87*$D87,\"\")","v":""},null,null,0]
[null,"Areia media - posto jazida/fornecedor (retirado na jazida, sem transporte)","M3",1.35,93.8125,{"$f":"IF(ISNUMBER(E88),E88*$D88,\"\")","v":126.64687500000001},{"$f":"SUM(F88:F92)","v":536.84777300249993},null,0]
[null,"Cimento Portland composto CP II-32","KG",454.58,0.44649999999999995,{"$f":"IF(ISNUMBER(E89),E89*$D89,\"\")","v":202.96996999999996},null,null,0]
[null,"Servente com encargos complementares","H",11.02,14.554,{"$f":"IF(ISNUMBER(E90),E90*$D90,\"\")","v":160.38507999999999},null,null,0]
[null,"CARGA, MANOBRA E DESCARGA DE SOLOS E MATERIAIS GRANULARES EM CAMINHÃO BASCULANTE 6 M³ - CARGA COM PÁ CARREGADEIRA (CAÇAMBA DE 1,7 A 2,8 M³ / 128 HP) E DESCARGA LIVRE (UNIDADE: M3). AF_07/2020","M3",{"$f":"ROUND(1*D88,4)","v":1.35},4.6309621500000002,{"$f":"IF(ISNUMBER(E91),E91*$D91,\"\")","v":6.2517989025000009},null,null,0]
[null,"TRANSPORTE COM CAMINHÃO BASCULANTE DE 6 M³, EM VIA URBANA PAVIMENTADA, DMT ATÉ 30 KM (UNIDADE: M3XKM). AF_07/2020","M3xKM",{"$f":"ROUND(D88*20,4)","v":27},1.5034832999999999,{"$f":"IF(ISNUMBER(E92),E92*$D92,\"\")","v":40.594049099999999},null,null,0]
[null,null,null,null,"",{"$f":"IF(ISNUMBER(E93),E93*$D93,\"\")","v":""},null,null,0]
[null,"Obs.: Considerando fornecedor de areia a 20 km do Senado Federal.",null,null,"",{"$f":"IF(ISNUMBER(E94),E94*$D94,\"\")","v":""},null,null,0]
[null,"",null,null,"",{"$f":"IF(ISNUMBER(E95),E95*$D95,\"\")","v":""},null,null,0]
["ARGAMASSA TRAÇO 1:4 (EM VOLUME DE CIMENTO E AREIA MÉDIA ÚMIDA), PREPARO MANUAL. AF_08/2019","","M3",null,"",{"$f":"IF(ISNUMBER(E96),E96*$D96,\"\")","v":""},null,null,0]
[null,"",null,null,"",{"$f":"IF(ISNUMBER(E97),E97*$D97,\"\")","v":""},null,null,0]
[null,"Areia media - posto jazida/fornecedor (retirado na jazida, sem transporte)","M3",1.1499999999999999,93.8125,{"$f":"IF(ISNUMBER(E98),E98*$D98,\"\")","v":107.88437499999999},{"$f":"SUM(F98:F102)","v":442.37236737249998},null,0]
[null,"Cimento Portland composto CP II-32","KG",389.54,0.44649999999999995,{"$f":"IF(ISNUMBER(E99),E99*$D99,\"\")","v":173.92961},null,null,0]
[null,"Servente com encargos complementares","H",8.2899999999999991,14.554,{"$f":"IF(ISNUMBER(E100),E100*$D100,\"\")","v":120.65265999999998},null,null,0]
[null,"CARGA, MANOBRA E DESCARGA DE SOLOS E MATERIAIS GRANULARES EM CAMINHÃO BASCULANTE 6 M³ - CARGA COM PÁ CARREGADEIRA (CAÇAMBA DE 1,7 A 2,8 M³ / 128 HP) E DESCARGA LIVRE (UNIDADE: M3). AF_07/2020","M3",{"$f":"ROUND(1*D98,4)","v":1.1499999999999999},4.6309621500000002,{"$f":"IF(ISNUMBER(E101),E101*$D101,\"\")","v":5.3256064724999996},null,null,0]
[null,"TRANSPORTE COM CAMINHÃO BASCULANTE DE 6 M³, EM VIA URBANA PAVIMENTADA, DMT ATÉ 30 KM (UNIDADE: M3XKM). AF_07/2020","M3xKM",{"$f":"ROUND(D98*20,4)","v":23},1.5034832999999999,{"$f":"IF(ISNUMBER(E102),E102*$D102,\"\")","v":34.580115899999996},null,null,0]
[null,null,null,null,"",{"$f":"IF(ISNUMBER(E103),E103*$D103,\"\")","v":""},null,null,0]
[null,"Obs.: Considerando fornecedor de areia a 20 km do Senado Federal.",null,null,"",{"$f":"IF(ISNUMBER(E104),E104*$D104,\"\")","v":""},null,null,0]
[null,"",null,null,"",{"$f":"IF(ISNUMBER(E105),E105*$D105,\"\")","v":""},null,null,0]
["Fixação de tubos verticais de PPR diâmetros menores ou iguais a 40 mm com abraçadeira metálica rígida tipo D 1/2\", fixada em perfilado em alvenaria. af_05/2015","","M",null,"",{"$f":"IF(ISNUMBER(E106),E106*$D106,\"\")","v":""},null,null,0]
[null,"",null,null,"",{"$f":"IF(ISNUMBER(E107),E107*$D107,\"\")","v":""},null,null,0]
[null,"Abracadeira em aco para amarracao de eletrodutos, tipo D, com 1/2\" e parafuso de fixacao","UN",0.33300000000000002,1.0355000000000001,{"$f":"IF(ISNUMBER(E108),E108*$D108,\"\")","v":0.34482150000000006},{"$f":"SUM(F108:F110)","v":1.0872465},null,0]
[null,"Auxiliar de encanador ou bombeiro hidráulico com encargos complementares","H",5.0000000000000001E-3,15.019499999999999,{"$f":"IF(ISNUMBER(E109),E109*$D109,\"\")","v":7.5097499999999998E-2},null,null,0]
[null,"Encanador ou bombeiro hidráulico com encargos complementares","H",3.5000000000000003E-2,19.066499999999998,{"$f":"IF(ISNUMBER(E110),E110*$D110,\"\")","v":0.66732749999999996},null,null,0]
[null,"",null,null,"",{"$f":"IF(ISNUMBER(E111),E111*$D111,\"\")","v":""},null,null,0]
["Luva de emenda para eletroduto, aço galvanizado, DN 20 mm (3/4''), aparente, instalada em parede - fornecimento e instalação. af_11/2016_p","","UN",null,"",{"$f":"IF(ISNUMBER(E112),E112*$D112,\"\")","v":""},null,null,0]
[null,"",null,null,"",{"$f":"IF(ISNUMBER(E113),E113*$D113,\"\")","v":""},null,null,0]
[null,"Luva para eletroduto, em aco galvanizado eletrolitico, diametro de 20 mm (3/4\")","UN",1,1.4155,{"$f":"IF(ISNUMBER(E114),E114*$D114,\"\")","v":1.4155},{"$f":"SUM(F114:F116)","v":7.826991099999999},null,0]
[null,"Auxiliar de eletricista com encargos complementares","H",0.1827,15.447000000000001,{"$f":"IF(ISNUMBER(E115),E115*$D115,\"\")","v":2.8221669},null,null,0]
[null,"Eletricista com encargos complementares","H",0.1827,19.645999999999997,{"$f":"IF(ISNUMBER(E116),E116*$D116,\"\")","v":3.5893241999999996},null,null,0]
[null,"",null,null,"",{"$f":"IF(ISNUMBER(E117),E117*$D117,\"\")","v":""},null,null,0]
["Luva de emenda para eletroduto, aço galvanizado, DN 25 mm (1''), aparente, instalada em parede - fornecimento e instalação. af_11/2016_p","","UN",null,"",{"$f":"IF(ISNUMBER(E118),E118*$D118,\"\")","v":""},null,null,0]
[null,"",null,null,"",{"$f":"IF(ISNUMBER(E119),E119*$D119,\"\")","v":""},null,null,0]
[null,"Luva para eletroduto, em aco galvanizado eletrolitico, diametro de 25 mm (1\")","UN",1,1.6435,{"$f":"IF(ISNUMBER(E120),E120*$D120,\"\")","v":1.6435},{"$f":"SUM(F120:F122)","v":8.7779068999999996},null,0]
[null,"Auxiliar de eletricista com encargos complementares","H",0.20330000000000001,15.447000000000001,{"$f":"IF(ISNUMBER(E121),E121*$D121,\"\")","v":3.1403751000000004},null,null,0]
[null,"Eletricista com encargos complementares","H",0.20330000000000001,19.645999999999997,{"$f":"IF(ISNUMBER(E122),E122*$D122,\"\")","v":3.9940317999999997},null,null,0]
[null,"",null,null,"",{"$f":"IF(ISNUMBER(E123),E123*$D123,\"\")","v":""},null,null,0]
["Luva de emenda para eletroduto, aço galvanizado, DN 32 mm (1 1/4''), aparente, instalada em parede - fornecimento e instalação. af_11/2016_p","","UN",null,"",{"$f":"IF(ISNUMBER(E124),E124*$D124,\"\")","v":""},null,null,0]
[null,"",null,null,"",{"$f":"IF(ISNUMBER(E125),E125*$D125,\"\")","v":""},null,null,0]
[null,"Luva para eletroduto, em aco galvanizado eletrolitico, diametro de 32 mm (1 1/4\")","UN",1,2.9164999999999996,{"$f":"IF(ISNUMBER(E126),E126*$D126,\"\")","v":2.9164999999999996},{"$f":"SUM(F126:F128)","v":11.065094599999998},null,0]
[null,"Auxiliar de eletricista com encargos complementares","H",0.23219999999999999,15.447000000000001,{"$f":"IF(ISNUMBER(E127),E127*$D127,\"\")","v":3.5867933999999999},null,null,0]
[null,"Eletricista com encargos complementares","H",0.23219999999999999,19.645999999999997,{"$f":"IF(ISNUMBER(E128),E128*$D128,\"\")","v":4.5618011999999988},null,null,0]
[null,"",null,null,"",{"$f":"IF(ISNUMBER(E129),E129*$D129,\"\")","v":""},null,null,0]
["Luva de emenda para eletroduto, aço galvanizado, DN 40 mm (1 1/2''), aparente, instalada em parede - fornecimento e instalação. af_11/2016_p","","UN",null,"",{"$f":"IF(ISNUMBER(E130),E130*$D130,\"\")","v":""},null,null,0]
[null,"",null,null,"",{"$f":"IF(ISNUMBER(E131),E131*$D131,\"\")","v":""},null,null,0]
[null,"Luva para eletroduto, em aco galvanizado eletrolitico, diametro de 40 mm (1 1/2\")","UN",1,4.2275,{"$f":"IF(ISNUMBER(E132),E132*$D132,\"\")","v":4.2275},{"$f":"SUM(F132:F134)","v":13.530654300000002},null,0]
[null,"Auxiliar de eletricista com encargos complementares","H",0.2651,15.447000000000001,{"$f":"IF(ISNUMBER(E133),E133*$D133,\"\")","v":4.0949997000000007},null,null,0]
[null,"Eletricista com encargos complementares","H",0.2651,19.645999999999997,{"$f":"IF(ISNUMBER(E134),E134*$D134,\"\")","v":5.2081545999999994},null,null,0]
[null,"",null,null,"",{"$f":"IF(ISNUMBER(E135),E135*$D135,\"\")","v":""},null,null,0]
["Luva de emenda para eletroduto, aço galvanizado, DN 50 mm (2''), aparente, instalada em parede - fornecimento e instalação. af_11/2016_p","","UN",null,"",{"$f":"IF(ISNUMBER(E136),E136*$D136,\"\")","v":""},null,null,0]
[null,"",null,null,"",{"$f":"IF(ISNUMBER(E137),E137*$D137,\"\")","v":""},null,null,0]
[null,"Luva para eletroduto, em aco galvanizado eletrolitico, diametro de 50 mm (2\")","UN",1,5.8994999999999997,{"$f":"IF(ISNUMBER(E138),E138*$D138,\"\")","v":5.8994999999999997},{"$f":"SUM(F138:F140)","v":15.202654299999999},null,0]
[null,"Auxiliar de eletricista com encargos complementares","H",0.2651,15.447000000000001,{"$f":"IF(ISNUMBER(E139),E139*$D139,\"\")","v":4.0949997000000007},null,null,0]
[null,"Eletricista com encargos complementares","H",0.2651,19.645999999999997,{"$f":"IF(ISNUMBER(E140),E140*$D140,\"\")","v":5.2081545999999994},null,null,0]
[null,"",null,null,"",{"$f":"IF(ISNUMBER(E141),E141*$D141,\"\")","v":""},null,null,0]
["Fixação de tubos verticais de PPR diâmetros maiores que 40 mm e menores ou iguais a 75 mm com abraçadeira metálica rígida tipo D 1 1/2\", fixada em perfilado em alvenaria. af_05/2015","","M",null,"",{"$f":"IF(ISNUMBER(E142),E142*$D142,\"\")","v":""},null,null,0]
[null,"",null,null,"",{"$f":"IF(ISNUMBER(E143),E143*$D143,\"\")","v":""},null,null,0]
[null,"Abracadeira em aco para amarracao de eletrodutos, tipo D, com 1 1/2\" e parafuso de fixacao","UN",0.33300000000000002,2.1280000000000001,{"$f":"IF(ISNUMBER(E144),E144*$D144,\"\")","v":0.70862400000000003},{"$f":"SUM(F144:F146)","v":2.1212549999999997},null,0]
[null,"Auxiliar de encanador ou bombeiro hidráulico com encargos complementares","H",8.9999999999999993E-3,15.019499999999999,{"$f":"IF(ISNUMBER(E145),E145*$D145,\"\")","v":0.13517549999999998},null,null,0]
[null,"Encanador ou bombeiro hidráulico com encargos complementares","H",6.7000000000000004E-2,19.066499999999998,{"$f":"IF(ISNUMBER(E146),E146*$D146,\"\")","v":1.2774554999999999},null,null,0]
[null,"",null,null,"",{"$f":"IF(ISNUMBER(E147),E147*$D147,\"\")","v":""},null,null,0]
["Fixação de tubos verticais de PPR diâmetros maiores que 40 mm e menores ou iguais a 75 mm com abraçadeira metálica rígida tipo D 2\", fixada em perfilado em alvenaria. af_05/2015","","M",null,"",{"$f":"IF(ISNUMBER(E148),E148*$D148,\"\")","v":""},null,null,0]
[null,"",null,null,"",{"$f":"IF(ISNUMBER(E149),E149*$D149,\"\")","v":""},null,null,0]
[null,"Abracadeira em aco para amarracao de eletrodutos, tipo D, com 2\" e parafuso de fixacao","UN",0.33300000000000002,2.3559999999999999,{"$f":"IF(ISNUMBER(E150),E150*$D150,\"\")","v":0.78454800000000002},{"$f":"SUM(F150:F152)","v":2.1971789999999998},null,0]
[null,"Auxiliar de encanador ou bombeiro hidráulico com encargos complementares","H",8.9999999999999993E-3,15.019499999999999,{"$f":"IF(ISNUMBER(E151),E151*$D151,\"\")","v":0.13517549999999998},null,null,0]
[null,"Encanador ou bombeiro hidráulico com encargos complementares","H",6.7000000000000004E-2,19.066499999999998,{"$f":"IF(ISNUMBER(E152),E152*$D152,\"\")","v":1.2774554999999999},null,null,0]
[null,"",null,null,"",{"$f":"IF(ISNUMBER(E153),E153*$D153,\"\")","v":""},null,null,0]
["ARGAMASSA TRAÇO 1:2:9 (EM VOLUME DE CIMENTO, CAL E AREIA MÉDIA ÚMIDA) PARA EMBOÇO/MASSA ÚNICA/ASSENTAMENTO DE ALVENARIA DE VEDAÇÃO, PREPARO MECÂNICO COM BETONEIRA 600 L. AF_08/2019","","M3",null,"",{"$f":"IF(ISNUMBER(E154),E154*$D154,\"\")","v":""},null,null,0]
[null,"",null,null,"",{"$f":"IF(ISNUMBER(E155),E155*$D155,\"\")","v":""},null,null,0]
[null,"Areia media - posto jazida/fornecedor (retirado na jazida, sem transporte)","M3",1.18,93.8125,{"$f":"IF(ISNUMBER(E156),E156*$D156,\"\")","v":110.69874999999999},{"$f":"SUM(F156:F164)","v":420.76073121699994},null,0]
[null,"Cal hidratada CH-I para argamassas","KG",157.44,0.76,{"$f":"IF(ISNUMBER(E157),E157*$D157,\"\")","v":119.6544},null,null,0]
[null,"Cimento Portland composto CP II-32","KG",177.12,0.44649999999999995,{"$f":"IF(ISNUMBER(E158),E158*$D158,\"\")","v":79.08408},null,null,0]
[null,"Servente com encargos complementares","H",0.79,14.554,{"$f":"IF(ISNUMBER(E159),E159*$D159,\"\")","v":11.497660000000002},null,null,0]
[null,"Operador de betoneira estacionária/misturador com encargos complementares","H",3.65,14.658499999999998,{"$f":"IF(ISNUMBER(E160),E160*$D160,\"\")","v":53.503524999999989},null,null,0]
[null,"Betoneira capacidade nominal de 600 L, capacidade de mistura 360 L, motor elétrico trifásico potência de 4 cv, sem carregador - CHP diurno. af_11/2014","CHP",0.85,3.1635,{"$f":"IF(ISNUMBER(E161),E161*$D161,\"\")","v":2.6889750000000001},null,null,0]
[null,"Betoneira capacidade nominal de 600 L, capacidade de mistura 360 L, motor elétrico trifásico potência de 4 cv, sem carregador - CHI diurno. af_11/2014","CHI",2.8,0.95949999999999991,{"$f":"IF(ISNUMBER(E162),E162*$D162,\"\")","v":2.6865999999999994},null,null,0]
[null,"CARGA, MANOBRA E DESCARGA DE SOLOS E MATERIAIS GRANULARES EM CAMINHÃO BASCULANTE 6 M³ - CARGA COM PÁ CARREGADEIRA (CAÇAMBA DE 1,7 A 2,8 M³ / 128 HP) E DESCARGA LIVRE (UNIDADE: M3). AF_07/2020","M3",{"$f":"ROUND(1*D156,4)","v":1.18},4.6309621500000002,{"$f":"IF(ISNUMBER(E163),E163*$D163,\"\")","v":5.464535337},null,null,0]
[null,"TRANSPORTE COM CAMINHÃO BASCULANTE DE 6 M³, EM VIA URBANA PAVIMENTADA, DMT ATÉ 30 KM (UNIDADE: M3XKM). AF_07/2020","M3xKM",{"$f":"ROUND(D156*20,4)","v":23.6},1.5034832999999999,{"$f":"IF(ISNUMBER(E164),E164*$D164,\"\")","v":35.482205880000002},null,null,0]
[null,null,null,null,"",{"$f":"IF(ISNUMBER(E165),E165*$D165,\"\")","v":""},null,null,0]
[null,"Obs.: Considerando fornecedor de areia a 20 km do Senado Federal.",null,null,"",{"$f":"IF(ISNUMBER(E166),E166*$D166,\"\")","v":""},null,null,0]
[null,null,null,null,"",{"$f":"IF(ISNUMBER(E167),E167*$D167,\"\")","v":""},null,null,0]
["ARGAMASSA TRAÇO 1:4 (EM VOLUME DE CIMENTO E AREIA MÉDIA ÚMIDA) PARA CONTRAPISO, PREPARO MECÂNICO COM BETONEIRA 400 L. AF_08/2019","","M3",null,"",{"$f":"IF(ISNUMBER(E168),E168*$D168,\"\")","v":""},null,null,0]
[null,"",null,null,"",{"$f":"IF(ISNUMBER(E169),E169*$D169,\"\")","v":""},null,null,0]
[null,"Areia media - posto jazida/fornecedor (retirado na jazida, sem transporte)","M3",1.36,93.8125,{"$f":"IF(ISNUMBER(E170),E170*$D170,\"\")","v":127.58500000000001},{"$f":"SUM(F170:F176)","v":453.30949428399998},null,0]
[null,"Cimento Portland composto CP II-32","KG",459.85,0.44649999999999995,{"$f":"IF(ISNUMBER(E171),E171*$D171,\"\")","v":205.323025},null,null,0]
[null,"Operador de betoneira estacionária/misturador com encargos complementares","H",4.8499999999999996,14.658499999999998,{"$f":"IF(ISNUMBER(E172),E172*$D172,\"\")","v":71.093724999999992},null,null,0]
[null,"Betoneira capacidade nominal de 400 L, capacidade de mistura 280 L, motor elétrico trifásico potência de 2 cv, sem carregador - CHP diurno. af_10/2014","CHP",1.1299999999999999,1.121,{"$f":"IF(ISNUMBER(E173),E173*$D173,\"\")","v":1.2667299999999999},null,null,0]
[null,"Betoneira capacidade nominal de 400 L, capacidade de mistura 280 L, motor elétrico trifásico potência de 2 cv, sem carregador - CHI diurno. af_10/2014","CHI",3.72,0.22799999999999998,{"$f":"IF(ISNUMBER(E174),E174*$D174,\"\")","v":0.84816000000000003},null,null,0]
[null,"CARGA, MANOBRA E DESCARGA DE SOLOS E MATERIAIS GRANULARES EM CAMINHÃO BASCULANTE 6 M³ - CARGA COM PÁ CARREGADEIRA (CAÇAMBA DE 1,7 A 2,8 M³ / 128 HP) E DESCARGA LIVRE (UNIDADE: M3). AF_07/2020","M3",{"$f":"ROUND(1*D170,4)","v":1.36},4.6309621500000002,{"$f":"IF(ISNUMBER(E175),E175*$D175,\"\")","v":6.2981085240000008},null,null,0]
[null,"TRANSPORTE COM CAMINHÃO BASCULANTE DE 6 M³, EM VIA URBANA PAVIMENTADA, DMT ATÉ 30 KM (UNIDADE: M3XKM). AF_07/2020","M3xKM",{"$f":"ROUND(D170*20,4)","v":27.2},1.5034832999999999,{"$f":"IF(ISNUMBER(E176),E176*$D176,\"\")","v":40.894745759999992},null,null,0]
[null,null,null,null,"",{"$f":"IF(ISNUMBER(E177),E177*$D177,\"\")","v":""},null,null,0]
[null,"Obs.: Considerando fornecedor de areia a 20 km do Senado Federal.",null,null,"",{"$f":"IF(ISNUMBER(E178),E178*$D178,\"\")","v":""},null,null,0]
[null,null,null,null,"",{"$f":"IF(ISNUMBER(E179),E179*$D179,\"\")","v":""},null,null,0]
["UMIDIFICAÇÃO DE MATERIAL PARA VALAS COM CAMINHÃO PIPA 10000L. AF_11/2016","","M3",null,"",{"$f":"IF(ISNUMBER(E180),E180*$D180,\"\")","v":""},null,null,0]
[null,"",null,null,"",{"$f":"IF(ISNUMBER(E181),E181*$D181,\"\")","v":""},null,null,0]
[null,"CAMINHÃO PIPA 10.000 L TRUCADO, PESO BRUTO TOTAL 23.000 KG, CARGA ÚTIL MÁXIMA 15.935 KG, DISTÂNCIA ENTRE EIXOS 4,8 M, POTÊNCIA 230 CV, INCLUSIVE TANQUE DE AÇO PARA TRANSPORTE DE ÁGUA - CHP DIURNO. AF_06/2014","CHP",6.0000000000000001E-3,157.38649999999998,{"$f":"IF(ISNUMBER(E182),E182*$D182,\"\")","v":0.94431899999999991},{"$f":"SUM(F182:F184)","v":1.1701245},null,0]
[null,"CAMINHÃO PIPA 10.000 L TRUCADO, PESO BRUTO TOTAL 23.000 KG, CARGA ÚTIL MÁXIMA 15.935 KG, DISTÂNCIA ENTRE EIXOS 4,8 M, POTÊNCIA 230 CV, INCLUSIVE TANQUE DE AÇO PARA TRANSPORTE DE ÁGUA - CHI DIURNO. AF_06/2014","CHI",3.0000000000000001E-3,31.6065,{"$f":"IF(ISNUMBER(E183),E183*$D183,\"\")","v":9.4819500000000001E-2},null,null,0]
[null,"SERVENTE COM ENCARGOS COMPLEMENTARES","H",8.9999999999999993E-3,14.554,{"$f":"IF(ISNUMBER(E184),E184*$D184,\"\")","v":0.13098599999999999},null,null,0]
[null,null,null,null,"",{"$f":"IF(ISNUMBER(E185),E185*$D185,\"\")","v":""},null,null,0]
["CORTE E DOBRA DE AÇO CA-50, DIÂMETRO DE 8,0 MM, UTILIZADO EM ESTRUTURAS DIVERSAS, EXCETO LAJES. AF_12/2015","","KG",null,"",{"$f":"IF(ISNUMBER(E186),E186*$D186,\"\")","v":""},null,null,0]
[null,"",null,null,"",{"$f":"IF(ISNUMBER(E187),E187*$D187,\"\")","v":""},null,null,0]
[null,"ACO CA-50, 8,0 MM, VERGALHAO","KG",1.1100000000000001,5.8709999999999996,{"$f":"IF(ISNUMBER(E188),E188*$D188,\"\")","v":6.5168100000000004},{"$f":"SUM(F188:F190)","v":6.9995012000000001},null,0]
[null,"AJUDANTE DE ARMADOR COM ENCARGOS COMPLEMENTARES","H",3.2000000000000002E-3,15.180999999999999,{"$f":"IF(ISNUMBER(E189),E189*$D189,\"\")","v":4.8579200000000003E-2},null,null,0]
[null,"ARMADOR COM ENCARGOS COMPLEMENTARES","H",2.24E-2,19.38,{"$f":"IF(ISNUMBER(E190),E190*$D190,\"\")","v":0.434112},null,null,0]
[null,"",null,null,"",{"$f":"IF(ISNUMBER(E191),E191*$D191,\"\")","v":""},null,null,0]
["CORTE E DOBRA DE AÇO CA-50, DIÂMETRO DE 12,5 MM, UTILIZADO EM ESTRUTURAS DIVERSAS, EXCETO LAJES. AF_12/2015","","KG",null,"",{"$f":"IF(ISNUMBER(E192),E192*$D192,\"\")","v":""},null,null,0]
[null,"",null,null,"",{"$f":"IF(ISNUMBER(E193),E193*$D193,\"\")","v":""},null,null,0]
[null,"ACO CA-50, 12,5 MM OU 16,0 MM, VERGALHAO","KG",1.1100000000000001,4.7974999999999994,{"$f":"IF(ISNUMBER(E194),E194*$D194,\"\")","v":5.3252249999999997},{"$f":"SUM(F194:F196)","v":5.4760659999999994},null,0]
[null,"AJUDANTE DE ARMADOR COM ENCARGOS COMPLEMENTARES","H",1E-3,15.180999999999999,{"$f":"IF(ISNUMBER(E195),E195*$D195,\"\")","v":1.5181E-2},null,null,0]
[null,"ARMADOR COM ENCARGOS COMPLEMENTARES","H",7.0000000000000001E-3,19.38,{"$f":"IF(ISNUMBER(E196),E196*$D196,\"\")","v":0.13566},null,null,0]
[null,"",null,null,"",{"$f":"IF(ISNUMBER(E197),E197*$D197,\"\")","v":""},null,null,0]
["CORTE E DOBRA DE AÇO CA-50, DIÂMETRO DE 20,0 MM, UTILIZADO EM ESTRUTURAS DIVERSAS, EXCETO LAJES. AF_12/2015","","KG",null,"",{"$f":"IF(ISNUMBER(E198),E198*$D198,\"\")","v":""},null,null,0]
[null,"",null,null,"",{"$f":"IF(ISNUMBER(E199),E199*$D199,\"\")","v":""},null,null,0]
[null,"ACO CA-50, 20,0 MM OU 25,0 MM, VERGALHAO","KG",1.1399999999999999,5.5289999999999999,{"$f":"IF(ISNUMBER(E200),E200*$D200,\"\")","v":6.3030599999999994},{"$f":"SUM(F200:F201)","v":6.3418199999999993},null,0]
[null,"ARMADOR COM ENCARGOS COMPLEMENTARES","H",2E-3,19.38,{"$f":"IF(ISNUMBER(E201),E201*$D201,\"\")","v":3.8759999999999996E-2},null,null,0]
[null,"",null,null,"",{"$f":"IF(ISNUMBER(E202),E202*$D202,\"\")","v":""},null,null,0]
["TRANSPORTE HORIZONTAL MANUAL, DE TUBO DE AÇO CARBONO LEVE OU MÉDIO, PRETO OU GALVANIZADO, COM DIÂMETRO MAIOR QUE 32 MM E MENOR OU IGUAL A 65 MM (UNIDADE: MXKM). AF_07/2019","","MXKM",null,"",{"$f":"IF(ISNUMBER(E203),E203*$D203,\"\")","v":""},null,null,168.591556]
[null,"",null,null,"",{"$f":"IF(ISNUMBER(E204),E204*$D204,\"\")","v":""},null,null,168.591556]
[null,"SERVENTE COM ENCARGOS COMPLEMENTARES","H",0.61180000000000001,14.554,{"$f":"IF(ISNUMBER(E205),E205*$D205,\"\")","v":8.904137200000001},{"$f":"SUM(F205:F205)","v":8.904137200000001},null,168.591556]
[null,"",null,null,"",{"$f":"IF(ISNUMBER(E206),E206*$D206,\"\")","v":""},null,null,168.591556]
["LANÇAMENTO COM USO DE BALDES, ADENSAMENTO E ACABAMENTO DE CONCRETO EM ESTRUTURAS. AF_12/2015","","M3",null,"",{"$f":"IF(ISNUMBER(E207),E207*$D207,\"\")","v":""},null,null,0]
[null,"",null,null,"",{"$f":"IF(ISNUMBER(E208),E208*$D208,\"\")","v":""},null,null,0]
[null,"Carpinteiro de formas com encargos complementares","h",1.8460000000000001,19.341999999999999,{"$f":"IF(ISNUMBER(E209),E209*$D209,\"\")","v":35.705331999999999},{"$f":"SUM(F209:F213)","v":153.47174000000001},null,0]
[null,"Pedreiro com Encargos Complementares","h",1.8460000000000001,19.474999999999998,{"$f":"IF(ISNUMBER(E210),E210*$D210,\"\")","v":35.950849999999996},null,null,0]
[null,"Servente com Encargos Complementares","h",{"$f":"5.538","v":5.5380000000000003},14.554,{"$f":"IF(ISNUMBER(E211),E211*$D211,\"\")","v":80.600052000000005},null,null,0]
[null,"Vibrador de imersão, diâmetro de ponteira 45mm, motor elétrico trifásico potência de 2 CV - CHP diurno. AF_06/2015","chp",0.67200000000000004,1.2444999999999999,{"$f":"IF(ISNUMBER(E212),E212*$D212,\"\")","v":0.83630400000000005},null,null,0]
[null,"Vibrador de imersão, diâmetro de ponteira 45mm, motor elétrico trifásico potência de 2 CV - CHI diurno. AF_06/2015","chi",1.1739999999999999,0.32300000000000001,{"$f":"IF(ISNUMBER(E213),E213*$D213,\"\")","v":0.37920199999999998},null,null,0]
[null,null,null,null,"",{"$f":"IF(ISNUMBER(E214),E214*$D214,\"\")","v":""},null,null,0]
["TRANSPORTE COM CAMINHÃO BASCULANTE DE 6 M³, EM VIA URBANA PAVIMENTADA, DMT ATÉ 30 KM (UNIDADE: M3XKM). AF_07/2020","","M3xKM",null,"",{"$f":"IF(ISNUMBER(E215),E215*$D215,\"\")","v":""},null,null,0]
[null,"",null,null,"",{"$f":"IF(ISNUMBER(E216),E216*$D216,\"\")","v":""},null,null,0]
[null,"CAMINHÃO BASCULANTE 6 M3 TOCO, PESO BRUTO TOTAL 16.000 KG, CARGA ÚTIL MÁXIMA 11.130 KG, DISTÂNCIA ENTRE EIXOS 5,36 M, POTÊNCIA 185 CV, INCLUSIVE CAÇAMBA METÁLICA - CHP DIURNO. AF_06/2014","CHP",1.3899999999999999E-2,95.247,{"$f":"IF(ISNUMBER(E217),E217*$D217,\"\")","v":1.3239333},{"$f":"SUM(F217:F218)","v":1.5034833000000001},null,0]
[null,"CAMINHÃO BASCULANTE 6 M3 TOCO, PESO BRUTO TOTAL 16.000 KG, CARGA ÚTIL MÁXIMA 11.130 KG, DISTÂNCIA ENTRE EIXOS 5,36 M, POTÊNCIA 185 CV, INCLUSIVE CAÇAMBA METÁLICA - CHI DIURNO. AF_06/2014","CHI",6.0000000000000001E-3,29.924999999999997,{"$f":"IF(ISNUMBER(E218),E218*$D218,\"\")","v":0.17954999999999999},null,null,0]
[null,"",null,null,"",{"$f":"IF(ISNUMBER(E219),E219*$D219,\"\")","v":""},null,null,0]
["TRANSPORTE COM CAMINHÃO BASCULANTE DE 6 M³, EM VIA URBANA PAVIMENTADA, DMT ATÉ 30 KM (UNIDADE: TXKM). AF_07/2020","","TxKM",null,"",{"$f":"IF(ISNUMBER(E220),E220*$D220,\"\")","v":""},null,null,0]
[null,"",null,null,"",{"$f":"IF(ISNUMBER(E221),E221*$D221,\"\")","v":""},null,null,0]
[null,"CAMINHÃO BASCULANTE 6 M3 TOCO, PESO BRUTO TOTAL 16.000 KG, CARGA ÚTIL MÁXIMA 11.130 KG, DISTÂNCIA ENTRE EIXOS 5,36 M, POTÊNCIA 185 CV, INCLUSIVE CAÇAMBA METÁLICA - CHP DIURNO. AF_06/2014","CHP",9.2999999999999992E-3,95.247,{"$f":"IF(ISNUMBER(E222),E222*$D222,\"\")","v":0.88579709999999989},{"$f":"SUM(F222:F223)","v":1.0054970999999999},null,0]
[null,"CAMINHÃO BASCULANTE 6 M3 TOCO, PESO BRUTO TOTAL 16.000 KG, CARGA ÚTIL MÁXIMA 11.130 KG, DISTÂNCIA ENTRE EIXOS 5,36 M, POTÊNCIA 185 CV, INCLUSIVE CAÇAMBA METÁLICA - CHI DIURNO. AF_06/2014","CHI",4.0000000000000001E-3,29.924999999999997,{"$f":"IF(ISNUMBER(E223),E223*$D223,\"\")","v":0.11969999999999999},null,null,0]
[null,"",null,null,"",{"$f":"IF(ISNUMBER(E224),E224*$D224,\"\")","v":""},null,null,0]
["CONCRETO FCK = 20MPA, TRAÇO 1:2,7:3 (CIMENTO/ AREIA MÉDIA/ BRITA 1)  - PREPARO MECÂNICO COM BETONEIRA 600 L. AF_07/2016","","M3",null,"",{"$f":"IF(ISNUMBER(E225),E225*$D225,\"\")","v":""},null,null,0]
[null,"",null,null,"",{"$f":"IF(ISNUMBER(E226),E226*$D226,\"\")","v":""},null,null,0]
[null,"AREIA MEDIA - POSTO JAZIDA/FORNECEDOR (RETIRADO NA JAZIDA, SEM TRANSPORTE)","M3",0.76100000000000001,93.8125,{"$f":"IF(ISNUMBER(E227),E227*$D227,\"\")","v":71.391312499999998},{"$f":"SUM(F227:F235)","v":359.39680175880005},null,0]
[null,"CIMENTO PORTLAND COMPOSTO CP II-32","KG",325.16000000000003,0.44649999999999995,{"$f":"IF(ISNUMBER(E228),E228*$D228,\"\")","v":145.18394000000001},null,null,0]
[null,"PEDRA BRITADA N. 1 (9,5 a 19 MM) POSTO PEDREIRA/FORNECEDOR, SEM FRETE","M3",0.59099999999999997,76,{"$f":"IF(ISNUMBER(E229),E229*$D229,\"\")","v":44.915999999999997},null,null,0]
[null,"SERVENTE COM ENCARGOS COMPLEMENTARES","H",2.0299999999999998,14.554,{"$f":"IF(ISNUMBER(E230),E230*$D230,\"\")","v":29.544619999999998},null,null,0]
[null,"OPERADOR DE BETONEIRA ESTACIONÁRIA/MISTURADOR COM ENCARGOS COMPLEMENTARES","H",1.28,14.658499999999998,{"$f":"IF(ISNUMBER(E231),E231*$D231,\"\")","v":18.762879999999999},null,null,0]
[null,"BETONEIRA CAPACIDADE NOMINAL DE 600 L, CAPACIDADE DE MISTURA 360 L, MOTOR ELÉTRICO TRIFÁSICO POTÊNCIA DE 4 CV, SEM CARREGADOR - CHP DIURNO. AF_11/2014","CHP",0.66,3.1635,{"$f":"IF(ISNUMBER(E232),E232*$D232,\"\")","v":2.0879099999999999},null,null,0]
[null,"BETONEIRA CAPACIDADE NOMINAL DE 600 L, CAPACIDADE DE MISTURA 360 L, MOTOR ELÉTRICO TRIFÁSICO POTÊNCIA DE 4 CV, SEM CARREGADOR - CHI DIURNO. AF_11/2014","CHI",0.62,0.95949999999999991,{"$f":"IF(ISNUMBER(E233),E233*$D233,\"\")","v":0.59488999999999992},null,null,0]
[null,"CARGA, MANOBRA E DESCARGA DE SOLOS E MATERIAIS GRANULARES EM CAMINHÃO BASCULANTE 6 M³ - CARGA COM PÁ CARREGADEIRA (CAÇAMBA DE 1,7 A 2,8 M³ / 128 HP) E DESCARGA LIVRE (UNIDADE: M3). AF_07/2020","M3",{"$f":"ROUND(1*(D227+D229),4)","v":1.3520000000000001},4.6309621500000002,{"$f":"IF(ISNUMBER(E234),E234*$D234,\"\")","v":6.2610608268000005},null,null,0]
[null,"TRANSPORTE COM CAMINHÃO BASCULANTE DE 6 M³, EM VIA URBANA PAVIMENTADA, DMT ATÉ 30 KM (UNIDADE: M3XKM). AF_07/2020","M3xKM",{"$f":"ROUND((D227+D229)*20,4)","v":27.04},1.5034832999999999,{"$f":"IF(ISNUMBER(E235),E235*$D235,\"\")","v":40.654188431999998},null,null,0]
[null,null,null,null,"",{"$f":"IF(ISNUMBER(E236),E236*$D236,\"\")","v":""},null,null,0]
[null,"Obs.: Considerando fornecedor de areia e brita a 20 km do Senado Federal.",null,null,"",{"$f":"IF(ISNUMBER(E237),E237*$D237,\"\")","v":""},null,null,0]
[null,"",null,null,"",{"$f":"IF(ISNUMBER(E238),E238*$D238,\"\")","v":""},null,null,0]
["CONCRETO MAGRO PARA LASTRO, TRAÇO 1:4,5:4,5 (CIMENTO/ AREIA MÉDIA/ BRITA 1)  - PREPARO MECÂNICO COM BETONEIRA 400 L. AF_07/2016","","M3",null,"",{"$f":"IF(ISNUMBER(E239),E239*$D239,\"\")","v":""},null,null,0]
[null,"",null,null,"",{"$f":"IF(ISNUMBER(E240),E240*$D240,\"\")","v":""},null,null,0]
[null,"AREIA MEDIA - POSTO JAZIDA/FORNECEDOR (RETIRADO NA JAZIDA, SEM TRANSPORTE)","M3",0.82699999999999996,93.8125,{"$f":"IF(ISNUMBER(E241),E241*$D241,\"\")","v":77.5829375},{"$f":"SUM(F241:F249)","v":321.69931005074994},null,0]
[null,"CIMENTO PORTLAND COMPOSTO CP II-32","KG",212.02,0.44649999999999995,{"$f":"IF(ISNUMBER(E242),E242*$D242,\"\")","v":94.666929999999994},null,null,0]
[null,"PEDRA BRITADA N. 1 (9,5 a 19 MM) POSTO PEDREIRA/FORNECEDOR, SEM FRETE","M3",0.57799999999999996,76,{"$f":"IF(ISNUMBER(E243),E243*$D243,\"\")","v":43.927999999999997},null,null,0]
[null,"SERVENTE COM ENCARGOS COMPLEMENTARES","H",2.34,14.554,{"$f":"IF(ISNUMBER(E244),E244*$D244,\"\")","v":34.056359999999998},null,null,0]
[null,"OPERADOR DE BETONEIRA ESTACIONÁRIA/MISTURADOR COM ENCARGOS COMPLEMENTARES","H",1.48,14.658499999999998,{"$f":"IF(ISNUMBER(E245),E245*$D245,\"\")","v":21.694579999999998},null,null,0]
[null,"BETONEIRA CAPACIDADE NOMINAL DE 400 L, CAPACIDADE DE MISTURA 280 L, MOTOR ELÉTRICO TRIFÁSICO POTÊNCIA DE 2 CV, SEM CARREGADOR - CHP DIURNO. AF_10/2014","CHP",0.76,1.121,{"$f":"IF(ISNUMBER(E246),E246*$D246,\"\")","v":0.85196000000000005},null,null,0]
[null,"BETONEIRA CAPACIDADE NOMINAL DE 400 L, CAPACIDADE DE MISTURA 280 L, MOTOR ELÉTRICO TRIFÁSICO POTÊNCIA DE 2 CV, SEM CARREGADOR - CHI DIURNO. AF_10/2014","CHI",0.72,0.22799999999999998,{"$f":"IF(ISNUMBER(E247),E247*$D247,\"\")","v":0.16415999999999997},null,null,0]
[null,"CARGA, MANOBRA E DESCARGA DE SOLOS E MATERIAIS GRANULARES EM CAMINHÃO BASCULANTE 6 M³ - CARGA COM PÁ CARREGADEIRA (CAÇAMBA DE 1,7 A 2,8 M³ / 128 HP) E DESCARGA LIVRE (UNIDADE: M3). AF_07/2020","M3",{"$f":"ROUND(1*(D241+D243),4)","v":1.405},4.6309621500000002,{"$f":"IF(ISNUMBER(E248),E248*$D248,\"\")","v":6.5065018207500005},null,null,0]
[null,"TRANSPORTE COM CAMINHÃO BASCULANTE DE 6 M³, EM VIA URBANA PAVIMENTADA, DMT ATÉ 30 KM (UNIDADE: M3XKM). AF_07/2020","M3xKM",{"$f":"ROUND((D241+D243)*20,4)","v":28.1},1.5034832999999999,{"$f":"IF(ISNUMBER(E249),E249*$D249,\"\")","v":42.247880729999999},null,null,0]
[null,null,null,null,"",{"$f":"IF(ISNUMBER(E250),E250*$D250,\"\")","v":""},null,null,0]
[null,"Obs.: Considerando fornecedor de areia e brita a 20 km do Senado Federal.",null,null,"",{"$f":"IF(ISNUMBER(E251),E251*$D251,\"\")","v":""},null,null,0]
[null,"",null,null,"",{"$f":"IF(ISNUMBER(E252),E252*$D252,\"\")","v":""},null,null,0]
["GRAUTE FGK=25 MPA; TRAÇO 1:0,02:1,2:1,5 (CIMENTO/ CAL/ AREIA GROSSA/ BRITA 0) - PREPARO MECÂNICO COM BETONEIRA 400 L. AF_02/2015","","M3",null,"",{"$f":"IF(ISNUMBER(E253),E253*$D253,\"\")","v":""},null,null,2.5812000000000002E-2]
[null,"",null,null,"",{"$f":"IF(ISNUMBER(E254),E254*$D254,\"\")","v":""},null,null,2.5812000000000002E-2]
[null,"AREIA GROSSA - POSTO JAZIDA/FORNECEDOR (RETIRADO NA JAZIDA, SEM TRANSPORTE)","M3",0.51,118.7025,{"$f":"IF(ISNUMBER(E255),E255*$D255,\"\")","v":60.538274999999999},{"$f":"SUM(F255:F263)","v":397.12149455749994},null,2.5812000000000002E-2]
[null,"CAL HIDRATADA CH-I PARA ARGAMASSAS","KG",10.35,0.76,{"$f":"IF(ISNUMBER(E256),E256*$D256,\"\")","v":7.8659999999999997},null,null,2.5812000000000002E-2]
[null,"CIMENTO PORTLAND COMPOSTO CP II-32","KG",431.3,0.44649999999999995,{"$f":"IF(ISNUMBER(E257),E257*$D257,\"\")","v":192.57544999999999},null,null,2.5812000000000002E-2]
[null,"PEDRA BRITADA N. 0, OU PEDRISCO (4,8 A 9,5 MM) POSTO PEDREIRA/FORNECEDOR, SEM FRETE","M3",0.54,97.042500000000004,{"$f":"IF(ISNUMBER(E258),E258*$D258,\"\")","v":52.402950000000004},null,null,2.5812000000000002E-2]
[null,"OPERADOR DE BETONEIRA ESTACIONÁRIA/MISTURADOR COM ENCARGOS COMPLEMENTARES","H",3.12,14.658499999999998,{"$f":"IF(ISNUMBER(E259),E259*$D259,\"\")","v":45.734519999999996},null,null,2.5812000000000002E-2]
[null,"BETONEIRA CAPACIDADE NOMINAL DE 400 L, CAPACIDADE DE MISTURA 280 L, MOTOR ELÉTRICO TRIFÁSICO POTÊNCIA DE 2 CV, SEM CARREGADOR - CHP DIURNO. AF_10/2014","CHP",0.96,1.121,{"$f":"IF(ISNUMBER(E260),E260*$D260,\"\")","v":1.07616},null,null,2.5812000000000002E-2]
[null,"BETONEIRA CAPACIDADE NOMINAL DE 400 L, CAPACIDADE DE MISTURA 280 L, MOTOR ELÉTRICO TRIFÁSICO POTÊNCIA DE 2 CV, SEM CARREGADOR - CHI DIURNO. AF_10/2014","CHI",2.16,0.22799999999999998,{"$f":"IF(ISNUMBER(E261),E261*$D261,\"\")","v":0.49247999999999997},null,null,2.5812000000000002E-2]
[null,"CARGA, MANOBRA E DESCARGA DE SOLOS E MATERIAIS GRANULARES EM CAMINHÃO BASCULANTE 6 M³ - CARGA COM PÁ CARREGADEIRA (CAÇAMBA DE 1,7 A 2,8 M³ / 128 HP) E DESCARGA LIVRE (UNIDADE: M3). AF_07/2020","M3",{"$f":"ROUND(1*(D255+D258),4)","v":1.05},4.6309621500000002,{"$f":"IF(ISNUMBER(E262),E262*$D262,\"\")","v":4.8625102575000003},null,null,2.5812000000000002E-2]
[null,"TRANSPORTE COM CAMINHÃO BASCULANTE DE 6 M³, EM VIA URBANA PAVIMENTADA, DMT ATÉ 30 KM (UNIDADE: M3XKM). AF_07/2020","M3xKM",{"$f":"ROUND((D255+D258)*20,4)","v":21},1.5034832999999999,{"$f":"IF(ISNUMBER(E263),E263*$D263,\"\")","v":31.573149299999997},null,null,2.5812000000000002E-2]
[null,null,null,null,"",{"$f":"IF(ISNUMBER(E264),E264*$D264,\"\")","v":""},null,null,2.5812000000000002E-2]
[null,"Obs.: Considerando fornecedor de areia e brita a 20 km do Senado Federal.",null,null,"",{"$f":"IF(ISNUMBER(E265),E265*$D265,\"\")","v":""},null,null,2.5812000000000002E-2]
[null,null,null,null,"",{"$f":"IF(ISNUMBER(E266),E266*$D266,\"\")","v":""},null,null,2.5812000000000002E-2]
["ARGAMASSA TRAÇO 1:3 (EM VOLUME DE CIMENTO E AREIA MÉDIA ÚMIDA) PARA CONTRAPISO, PREPARO MANUAL. AF_08/2019","","M3",null,"",{"$f":"IF(ISNUMBER(E267),E267*$D267,\"\")","v":""},null,null,1.0741500000000002]
[null,"",null,null,"",{"$f":"IF(ISNUMBER(E268),E268*$D268,\"\")","v":""},null,null,1.0741500000000002]
[null,"Areia media - posto jazida/fornecedor (retirado na jazida, sem transporte)","M3",1.25,93.8125,{"$f":"IF(ISNUMBER(E269),E269*$D269,\"\")","v":117.265625},{"$f":"SUM(F269:F273)","v":581.83844518749981},null,1.0741500000000002]
[null,"Cimento Portland composto CP II-32","KG",563.59,0.44649999999999995,{"$f":"IF(ISNUMBER(E270),E270*$D270,\"\")","v":251.64293499999999},null,null,1.0741500000000002]
[null,"Servente com encargos complementares","H",11.65,14.554,{"$f":"IF(ISNUMBER(E271),E271*$D271,\"\")","v":169.55410000000001},null,null,1.0741500000000002]
[null,"CARGA, MANOBRA E DESCARGA DE SOLOS E MATERIAIS GRANULARES EM CAMINHÃO BASCULANTE 6 M³ - CARGA COM PÁ CARREGADEIRA (CAÇAMBA DE 1,7 A 2,8 M³ / 128 HP) E DESCARGA LIVRE (UNIDADE: M3). AF_07/2020","M3",{"$f":"ROUND(1*(D269),4)","v":1.25},4.6309621500000002,{"$f":"IF(ISNUMBER(E272),E272*$D272,\"\")","v":5.7887026875000007},null,null,1.0741500000000002]
[null,"TRANSPORTE COM CAMINHÃO BASCULANTE DE 6 M³, EM VIA URBANA PAVIMENTADA, DMT ATÉ 30 KM (UNIDADE: M3XKM). AF_07/2020","M3xKM",{"$f":"ROUND(D269*20,4)","v":25},1.5034832999999999,{"$f":"IF(ISNUMBER(E273),E273*$D273,\"\")","v":37.587082499999994},null,null,1.0741500000000002]
[null,null,null,null,"",{"$f":"IF(ISNUMBER(E274),E274*$D274,\"\")","v":""},null,null,1.0741500000000002]
[null,"Obs.: Considerando fornecedor de areia a 20 km do Senado Federal.",null,null,"",{"$f":"IF(ISNUMBER(E275),E275*$D275,\"\")","v":""},null,null,1.0741500000000002]
[null,"",null,null,"",{"$f":"IF(ISNUMBER(E276),E276*$D276,\"\")","v":""},null,null,1.0741500000000002]
["BATENTE PARA PORTA DE MADEIRA, PADRÃO MÉDIO - FORNECIMENTO E MONTAGEM. AF_12/2019","","un",null,"",{"$f":"IF(ISNUMBER(E277),E277*$D277,\"\")","v":""},null,null,0]
[null,"",null,null,"",{"$f":"IF(ISNUMBER(E278),E278*$D278,\"\")","v":""},null,null,0]
[null,"BATENTE/ PORTAL/ ADUELA/ MARCO MACICO, E= *3 CM, L= *13 CM, *60 CM A 120* CM X *210 CM,  EM CEDRINHO/ ANGELIM COMERCIAL/ EUCALIPTO/ CURUPIXA/ PEROBA/ CUMARU OU EQUIVALENTE DA REGIAO (NAO INCLUI ALIZARES)","JG",1,173.88799999999998,{"$f":"IF(ISNUMBER(E279),E279*$D279,\"\")","v":173.88799999999998},{"$f":"SUM(F279:F283)","v":247.16749449999998},null,0]
[null,"PREGO DE ACO POLIDO COM CABECA 12 X 12","KG",1.0999999999999999E-2,14.895999999999999,{"$f":"IF(ISNUMBER(E280),E280*$D280,\"\")","v":0.16385599999999997},null,null,0]
[null,"PREGO DE ACO POLIDO COM CABECA 18 X 30 (2 3/4 X 10)","KG",2.4E-2,11.305,{"$f":"IF(ISNUMBER(E281),E281*$D281,\"\")","v":0.27132000000000001},null,null,0]
[null,"CARPINTEIRO DE ESQUADRIA COM ENCARGOS COMPLEMENTARES","H",2.7410000000000001,19.3705,{"$f":"IF(ISNUMBER(E282),E282*$D282,\"\")","v":53.094540500000001},null,null,0]
[null,"SERVENTE COM ENCARGOS COMPLEMENTARES","H",1.357,14.554,{"$f":"IF(ISNUMBER(E283),E283*$D283,\"\")","v":19.749777999999999},null,null,0]
[null,null,null,null,"",{"$f":"IF(ISNUMBER(E284),E284*$D284,\"\")","v":""},null,null,0]
["ARGAMASSA TRAÇO 1:0,5:4,5 (EM VOLUME DE CIMENTO, CAL E AREIA MÉDIA ÚMIDA) PARA ASSENTAMENTO DE ALVENARIA, PREPARO MANUAL. AF_08/2019","","M3",null,"",{"$f":"IF(ISNUMBER(E285),E285*$D285,\"\")","v":""},null,null,0]
[null,"",null,null,"",{"$f":"IF(ISNUMBER(E286),E286*$D286,\"\")","v":""},null,null,0]
[null,"Areia media - posto jazida/fornecedor (retirado na jazida, sem transporte)","M3",1.07,93.8125,{"$f":"IF(ISNUMBER(E287),E287*$D287,\"\")","v":100.37937500000001},{"$f":"SUM(F287:F292)","v":535.2356671204999},null,0]
[null,"CAL HIDRATADA CH-I PARA ARGAMASSAS","KG",75.47,0.76,{"$f":"IF(ISNUMBER(E288),E288*$D288,\"\")","v":57.357199999999999},null,null,0]
[null,"Cimento Portland composto CP II-32","KG",482.96,0.44649999999999995,{"$f":"IF(ISNUMBER(E289),E289*$D289,\"\")","v":215.64163999999997},null,null,0]
[null,"Servente com encargos complementares","H",8.57,14.554,{"$f":"IF(ISNUMBER(E290),E290*$D290,\"\")","v":124.72778000000001},null,null,0]
[null,"CARGA, MANOBRA E DESCARGA DE SOLOS E MATERIAIS GRANULARES EM CAMINHÃO BASCULANTE 6 M³ - CARGA COM PÁ CARREGADEIRA (CAÇAMBA DE 1,7 A 2,8 M³ / 128 HP) E DESCARGA LIVRE (UNIDADE: M3). AF_07/2020","M3",{"$f":"ROUND(1*D287,4)","v":1.07},4.6309621500000002,{"$f":"IF(ISNUMBER(E291),E291*$D291,\"\")","v":4.9551295005000009},null,null,0]
[null,"TRANSPORTE COM CAMINHÃO BASCULANTE DE 6 M³, EM VIA URBANA PAVIMENTADA, DMT ATÉ 30 KM (UNIDADE: M3XKM). AF_07/2020","M3xKM",{"$f":"ROUND(D287*20,4)","v":21.4},1.5034832999999999,{"$f":"IF(ISNUMBER(E292),E292*$D292,\"\")","v":32.174542619999997},null,null,0]
[null,null,null,null,"",{"$f":"IF(ISNUMBER(E293),E293*$D293,\"\")","v":""},null,null,0]
[null,"Obs.: Considerando fornecedor de areia a 20 km do Senado Federal.",null,null,"",{"$f":"IF(ISNUMBER(E294),E294*$D294,\"\")","v":""},null,null,0]
[null,"",null,null,"",{"$f":"IF(ISNUMBER(E295),E295*$D295,\"\")","v":""},null,null,0]
["ARMAÇÃO DE LAJE DE UMA ESTRUTURA CONVENCIONAL DE CONCRETO ARMADO EM UMA EDIFICAÇÃO TÉRREA OU SOBRADO UTILIZANDO AÇO CA-60 DE 4,2 MM - MONTAGEM. AF_12/2015","","KG",null,"",{"$f":"IF(ISNUMBER(E296),E296*$D296,\"\")","v":""},null,null,0]
[null,"",null,null,"",{"$f":"IF(ISNUMBER(E297),E297*$D297,\"\")","v":""},null,null,0]
[null,"ESPACADOR / DISTANCIADOR CIRCULAR COM ENTRADA LATERAL, EM PLASTICO, PARA VERGALHAO *4,2 A 12,5* MM, COBRIMENTO 20 MM","UN",2.8159999999999998,0.1235,{"$f":"IF(ISNUMBER(E298),E298*$D298,\"\")","v":0.34777599999999997},{"$f":"SUM(F298:F302)","v":12.432800099999998},null,0]
[null,"ARAME RECOZIDO 16 BWG, D = 1,65 MM (0,016 KG/M) OU 18 BWG, D = 1,25 MM (0,01 KG/M)","KG",2.5000000000000001E-2,13.281000000000001,{"$f":"IF(ISNUMBER(E299),E299*$D299,\"\")","v":0.33202500000000001},null,null,0]
[null,"AJUDANTE DE ARMADOR COM ENCARGOS COMPLEMENTARES","H",3.1E-2,15.180999999999999,{"$f":"IF(ISNUMBER(E300),E300*$D300,\"\")","v":0.47061099999999995},null,null,0]
[null,"ARMADOR COM ENCARGOS COMPLEMENTARES","H",0.18959999999999999,19.38,{"$f":"IF(ISNUMBER(E301),E301*$D301,\"\")","v":3.6744479999999995},null,null,0]
[null,"CORTE E DOBRA DE AÇO CA-60, DIÂMETRO DE 4,2 MM, UTILIZADO EM LAJE. AF_12/2015","KG",1,7.6079400999999987,{"$f":"IF(ISNUMBER(E302),E302*$D302,\"\")","v":7.6079400999999987},null,null,0]
[null,null,null,null,"",{"$f":"IF(ISNUMBER(E303),E303*$D303,\"\")","v":""},null,null,0]
["CORTE E DOBRA DE AÇO CA-60, DIÂMETRO DE 4,2 MM, UTILIZADO EM LAJE. AF_12/2015","","KG",null,"",{"$f":"IF(ISNUMBER(E304),E304*$D304,\"\")","v":""},null,null,0]
[null,"",null,null,"",{"$f":"IF(ISNUMBER(E305),E305*$D305,\"\")","v":""},null,null,0]
[null,"ACO CA-60, 4,2 MM, OU 5,0 MM, OU 6,0 MM, OU 7,0 MM, VERGALHAO","KG",1.07,5.2344999999999997,{"$f":"IF(ISNUMBER(E306),E306*$D306,\"\")","v":5.6009149999999996},{"$f":"SUM(F306:F308)","v":7.6079400999999995},null,0]
[null,"AJUDANTE DE ARMADOR COM ENCARGOS COMPLEMENTARES","H",1.3100000000000001E-2,15.180999999999999,{"$f":"IF(ISNUMBER(E307),E307*$D307,\"\")","v":0.1988711},null,null,0]
[null,"ARMADOR COM ENCARGOS COMPLEMENTARES","H",9.3299999999999994E-2,19.38,{"$f":"IF(ISNUMBER(E308),E308*$D308,\"\")","v":1.8081539999999998},null,null,0]
[null,"",null,null,"",{"$f":"IF(ISNUMBER(E309),E309*$D309,\"\")","v":""},null,null,0]
["CONCRETO FCK = 15MPA, TRAÇO 1:3,4:3,5 (CIMENTO/ AREIA MÉDIA/ BRITA 1)  - PREPARO MECÂNICO COM BETONEIRA 600 L. AF_07/2016","","M3",null,"",{"$f":"IF(ISNUMBER(E310),E310*$D310,\"\")","v":""},null,null,0]
[null,"",null,null,"",{"$f":"IF(ISNUMBER(E311),E311*$D311,\"\")","v":""},null,null,0]
[null,"AREIA MEDIA - POSTO JAZIDA/FORNECEDOR (RETIRADO NA JAZIDA, SEM TRANSPORTE)","M3",0.80800000000000005,93.8125,{"$f":"IF(ISNUMBER(E312),E312*$D312,\"\")","v":75.8005},{"$f":"SUM(F312:F320)","v":341.51376250034997},null,0]
[null,"CIMENTO PORTLAND COMPOSTO CP II-32","KG",274.06,0.44649999999999995,{"$f":"IF(ISNUMBER(E313),E313*$D313,\"\")","v":122.36778999999999},null,null,0]
[null,"PEDRA BRITADA N. 1 (9,5 a 19 MM) POSTO PEDREIRA/FORNECEDOR, SEM FRETE","M3",0.58099999999999996,76,{"$f":"IF(ISNUMBER(E314),E314*$D314,\"\")","v":44.155999999999999},null,null,0]
[null,"SERVENTE COM ENCARGOS COMPLEMENTARES","H",2.0299999999999998,14.554,{"$f":"IF(ISNUMBER(E315),E315*$D315,\"\")","v":29.544619999999998},null,null,0]
[null,"OPERADOR DE BETONEIRA ESTACIONÁRIA/MISTURADOR COM ENCARGOS COMPLEMENTARES","H",1.28,14.658499999999998,{"$f":"IF(ISNUMBER(E316),E316*$D316,\"\")","v":18.762879999999999},null,null,0]
[null,"BETONEIRA CAPACIDADE NOMINAL DE 600 L, CAPACIDADE DE MISTURA 360 L, MOTOR ELÉTRICO TRIFÁSICO POTÊNCIA DE 4 CV, SEM CARREGADOR - CHP DIURNO. AF_11/2014","CHP",0.66,3.1635,{"$f":"IF(ISNUMBER(E317),E317*$D317,\"\")","v":2.0879099999999999},null,null,0]
[null,"BETONEIRA CAPACIDADE NOMINAL DE 600 L, CAPACIDADE DE MISTURA 360 L, MOTOR ELÉTRICO TRIFÁSICO POTÊNCIA DE 4 CV, SEM CARREGADOR - CHI DIURNO. AF_11/2014","CHI",0.62,0.95949999999999991,{"$f":"IF(ISNUMBER(E318),E318*$D318,\"\")","v":0.59488999999999992},null,null,0]
[null,"CARGA, MANOBRA E DESCARGA DE SOLOS E MATERIAIS GRANULARES EM CAMINHÃO BASCULANTE 6 M³ - CARGA COM PÁ CARREGADEIRA (CAÇAMBA DE 1,7 A 2,8 M³ / 128 HP) E DESCARGA LIVRE (UNIDADE: M3). AF_07/2020","M3",{"$f":"ROUND(1*(D312+D314),4)","v":1.389},4.6309621500000002,{"$f":"IF(ISNUMBER(E319),E319*$D319,\"\")","v":6.43240642635},null,null,0]
[null,"TRANSPORTE COM CAMINHÃO BASCULANTE DE 6 M³, EM VIA URBANA PAVIMENTADA, DMT ATÉ 30 KM (UNIDADE: M3XKM). AF_07/2020","M3xKM",{"$f":"ROUND((D312+D314)*20,4)","v":27.78},1.5034832999999999,{"$f":"IF(ISNUMBER(E320),E320*$D320,\"\")","v":41.766766073999996},null,null,0]
[null,null,null,null,"",{"$f":"IF(ISNUMBER(E321),E321*$D321,\"\")","v":""},null,null,0]
[null,"Obs.: Considerando fornecedor de areia e brita a 20 km do Senado Federal.",null,null,"",{"$f":"IF(ISNUMBER(E322),E322*$D322,\"\")","v":""},null,null,0]
[null,"",null,null,"",{"$f":"IF(ISNUMBER(E323),E323*$D323,\"\")","v":""},null,null,0]
["CONCRETO MAGRO PARA LASTRO, TRAÇO 1:4,5:4,5 (CIMENTO/ AREIA MÉDIA/ BRITA 1)  - PREPARO MECÂNICO COM BETONEIRA 600 L. AF_07/2016","","M3",null,"",{"$f":"IF(ISNUMBER(E324),E324*$D324,\"\")","v":""},null,null,0]
[null,"",null,null,"",{"$f":"IF(ISNUMBER(E325),E325*$D325,\"\")","v":""},null,null,0]
[null,"AREIA MEDIA - POSTO JAZIDA/FORNECEDOR (RETIRADO NA JAZIDA, SEM TRANSPORTE)","M3",0.83199999999999996,93.8125,{"$f":"IF(ISNUMBER(E326),E326*$D326,\"\")","v":78.051999999999992},{"$f":"SUM(F326:F334)","v":319.66734820409999},null,0]
[null,"CIMENTO PORTLAND COMPOSTO CP II-32","KG",213.45,0.44649999999999995,{"$f":"IF(ISNUMBER(E327),E327*$D327,\"\")","v":95.305424999999985},null,null,0]
[null,"PEDRA BRITADA N. 1 (9,5 a 19 MM) POSTO PEDREIRA/FORNECEDOR, SEM FRETE","M3",0.58199999999999996,76,{"$f":"IF(ISNUMBER(E328),E328*$D328,\"\")","v":44.231999999999999},null,null,0]
[null,"SERVENTE COM ENCARGOS COMPLEMENTARES","H",2.11,14.554,{"$f":"IF(ISNUMBER(E329),E329*$D329,\"\")","v":30.708939999999998},null,null,0]
[null,"OPERADOR DE BETONEIRA ESTACIONÁRIA/MISTURADOR COM ENCARGOS COMPLEMENTARES","H",1.33,14.658499999999998,{"$f":"IF(ISNUMBER(E330),E330*$D330,\"\")","v":19.495804999999997},null,null,0]
[null,"BETONEIRA CAPACIDADE NOMINAL DE 600 L, CAPACIDADE DE MISTURA 360 L, MOTOR ELÉTRICO TRIFÁSICO POTÊNCIA DE 4 CV, SEM CARREGADOR - CHP DIURNO. AF_11/2014","CHP",0.69,3.1635,{"$f":"IF(ISNUMBER(E331),E331*$D331,\"\")","v":2.1828149999999997},null,null,0]
[null,"BETONEIRA CAPACIDADE NOMINAL DE 600 L, CAPACIDADE DE MISTURA 360 L, MOTOR ELÉTRICO TRIFÁSICO POTÊNCIA DE 4 CV, SEM CARREGADOR - CHI DIURNO. AF_11/2014","CHI",0.65,0.95949999999999991,{"$f":"IF(ISNUMBER(E332),E332*$D332,\"\")","v":0.62367499999999998},null,null,0]
[null,"CARGA, MANOBRA E DESCARGA DE SOLOS E MATERIAIS GRANULARES EM CAMINHÃO BASCULANTE 6 M³ - CARGA COM PÁ CARREGADEIRA (CAÇAMBA DE 1,7 A 2,8 M³ / 128 HP) E DESCARGA LIVRE (UNIDADE: M3). AF_07/2020","M3",{"$f":"ROUND(1*(D326+D328),4)","v":1.4139999999999999},4.6309621500000002,{"$f":"IF(ISNUMBER(E333),E333*$D333,\"\")","v":6.5481804801000001},null,null,0]
[null,"TRANSPORTE COM CAMINHÃO BASCULANTE DE 6 M³, EM VIA URBANA PAVIMENTADA, DMT ATÉ 30 KM (UNIDADE: M3XKM). AF_07/2020","M3xKM",{"$f":"ROUND((D326+D328)*20,4)","v":28.28},1.5034832999999999,{"$f":"IF(ISNUMBER(E334),E334*$D334,\"\")","v":42.518507723999996},null,null,0]
[null,null,null,null,"",{"$f":"IF(ISNUMBER(E335),E335*$D335,\"\")","v":""},null,null,0]
[null,"Obs.: Considerando fornecedor de areia e brita a 20 km do Senado Federal.",null,null,"",{"$f":"IF(ISNUMBER(E336),E336*$D336,\"\")","v":""},null,null,0]
[null,"",null,null,"",{"$f":"IF(ISNUMBER(E337),E337*$D337,\"\")","v":""},null,null,0]
["ARGAMASSA TRAÇO 1:4 (EM VOLUME DE CIMENTO E AREIA GROSSA ÚMIDA) PARA CHAPISCO CONVENCIONAL, PREPARO MECÂNICO COM BETONEIRA 400 L. AF_08/2019","","M3",null,"",{"$f":"IF(ISNUMBER(E338),E338*$D338,\"\")","v":""},null,null,0]
[null,"",null,null,"",{"$f":"IF(ISNUMBER(E339),E339*$D339,\"\")","v":""},null,null,0]
[null,"AREIA GROSSA - POSTO JAZIDA/FORNECEDOR (RETIRADO NA JAZIDA, SEM TRANSPORTE)","M3",1.02,118.7025,{"$f":"IF(ISNUMBER(E340),E340*$D340,\"\")","v":121.07655},{"$f":"SUM(F340:F346)","v":379.89067071300002},null,0]
[null,"CIMENTO PORTLAND COMPOSTO CP II-32","KG",343.52,0.44649999999999995,{"$f":"IF(ISNUMBER(E341),E341*$D341,\"\")","v":153.38167999999999},null,null,0]
[null,"OPERADOR DE BETONEIRA ESTACIONÁRIA/MISTURADOR COM ENCARGOS COMPLEMENTARES","H",4.6399999999999997,14.658499999999998,{"$f":"IF(ISNUMBER(E342),E342*$D342,\"\")","v":68.015439999999984},null,null,0]
[null,"BETONEIRA CAPACIDADE NOMINAL DE 400 L, CAPACIDADE DE MISTURA 280 L, MOTOR ELÉTRICO TRIFÁSICO POTÊNCIA DE 2 CV, SEM CARREGADOR - CHP DIURNO. AF_10/2014","CHP",1.08,1.121,{"$f":"IF(ISNUMBER(E343),E343*$D343,\"\")","v":1.21068},null,null,0]
[null,"BETONEIRA CAPACIDADE NOMINAL DE 400 L, CAPACIDADE DE MISTURA 280 L, MOTOR ELÉTRICO TRIFÁSICO POTÊNCIA DE 2 CV, SEM CARREGADOR - CHI DIURNO. AF_10/2014","CHI",3.56,0.22799999999999998,{"$f":"IF(ISNUMBER(E344),E344*$D344,\"\")","v":0.81167999999999996},null,null,0]
[null,"CARGA, MANOBRA E DESCARGA DE SOLOS E MATERIAIS GRANULARES EM CAMINHÃO BASCULANTE 6 M³ - CARGA COM PÁ CARREGADEIRA (CAÇAMBA DE 1,7 A 2,8 M³ / 128 HP) E DESCARGA LIVRE (UNIDADE: M3). AF_07/2020","M3",{"$f":"ROUND(1*(D340),4)","v":1.02},4.6309621500000002,{"$f":"IF(ISNUMBER(E345),E345*$D345,\"\")","v":4.7235813929999999},null,null,0]
[null,"TRANSPORTE COM CAMINHÃO BASCULANTE DE 6 M³, EM VIA URBANA PAVIMENTADA, DMT ATÉ 30 KM (UNIDADE: M3XKM). AF_07/2020","M3xKM",{"$f":"ROUND(D340*20,4)","v":20.399999999999999},1.5034832999999999,{"$f":"IF(ISNUMBER(E346),E346*$D346,\"\")","v":30.671059319999994},null,null,0]
[null,null,null,null,"",{"$f":"IF(ISNUMBER(E347),E347*$D347,\"\")","v":""},null,null,0]
[null,"Obs.: Considerando fornecedor de areia a 20 km do Senado Federal.",null,null,"",{"$f":"IF(ISNUMBER(E348),E348*$D348,\"\")","v":""},null,null,0]
[null,"",null,null,"",{"$f":"IF(ISNUMBER(E349),E349*$D349,\"\")","v":""},null,null,0]
["CARGA, MANOBRA E DESCARGA DE SOLOS E MATERIAIS GRANULARES EM CAMINHÃO BASCULANTE 6 M³ - CARGA COM PÁ CARREGADEIRA (CAÇAMBA DE 1,7 A 2,8 M³ / 128 HP) E DESCARGA LIVRE (UNIDADE: M3). AF_07/2020","","M3",null,"",{"$f":"IF(ISNUMBER(E350),E350*$D350,\"\")","v":""},null,null,0]
[null,"",null,null,"",{"$f":"IF(ISNUMBER(E351),E351*$D351,\"\")","v":""},null,null,0]
[null,"PÁ CARREGADEIRA SOBRE RODAS, POTÊNCIA LÍQUIDA 128 HP, CAPACIDADE DA CAÇAMBA 1,7 A 2,8 M3, PESO OPERACIONAL 11632 KG - CHP DIURNO. AF_06/2014","CHP",8.3000000000000001E-3,106.2195,{"$f":"IF(ISNUMBER(E352),E352*$D352,\"\")","v":0.88162184999999993},{"$f":"SUM(F352:F355)","v":4.6197654500000001},null,0]
[null,"PÁ CARREGADEIRA SOBRE RODAS, POTÊNCIA LÍQUIDA 128 HP, CAPACIDADE DA CAÇAMBA 1,7 A 2,8 M3, PESO OPERACIONAL 11632 KG - CHI DIURNO. AF_06/2014","CHI",1.5100000000000001E-2,38.911999999999999,{"$f":"IF(ISNUMBER(E353),E353*$D353,\"\")","v":0.58757119999999996},null,null,0]
[null,"CAMINHÃO BASCULANTE 6 M3 TOCO, PESO BRUTO TOTAL 16.000 KG, CARGA ÚTIL MÁXIMA 11.130 KG, DISTÂNCIA ENTRE EIXOS 5,36 M, POTÊNCIA 185 CV, INCLUSIVE CAÇAMBA METÁLICA - CHP DIURNO. AF_06/2014","CHP",2.6700000000000002E-2,95.247,{"$f":"IF(ISNUMBER(E354),E354*$D354,\"\")","v":2.5430949000000003},null,null,0]
[null,"CAMINHÃO BASCULANTE 6 M3 TOCO, PESO BRUTO TOTAL 16.000 KG, CARGA ÚTIL MÁXIMA 11.130 KG, DISTÂNCIA ENTRE EIXOS 5,36 M, POTÊNCIA 185 CV, INCLUSIVE CAÇAMBA METÁLICA - CHI DIURNO. AF_06/2014","CHI",2.0299999999999999E-2,29.924999999999997,{"$f":"IF(ISNUMBER(E355),E355*$D355,\"\")","v":0.60747749999999989},null,null,0]
[null,"",null,null,"",{"$f":"IF(ISNUMBER(E356),E356*$D356,\"\")","v":""},null,null,0]
["CARGA, MANOBRAS E DESCARGA DE AREIA, BRITA, PEDRA DE MAO E SOLOS COM CAMINHAO BASCULANTE 6 M3 (DESCARGA LIVRE)","","T",null,"",{"$f":"IF(ISNUMBER(E357),E357*$D357,\"\")","v":""},null,null,0]
[null,"",null,null,"",{"$f":"IF(ISNUMBER(E358),E358*$D358,\"\")","v":""},null,null,0]
[null,"PÁ CARREGADEIRA SOBRE RODAS, POTÊNCIA LÍQUIDA 128 HP, CAPACIDADE DA CAÇAMBA 1,7 A 2,8 M3, PESO OPERACIONAL 11632 KG - CHP DIURNO. AF_06/2014","CHP",5.5599999999999998E-3,106.2195,{"$f":"IF(ISNUMBER(E359),E359*$D359,\"\")","v":0.59058041999999999},{"$f":"SUM(F359:F362)","v":3.0829757199999999},null,0]
[null,"PÁ CARREGADEIRA SOBRE RODAS, POTÊNCIA LÍQUIDA 128 HP, CAPACIDADE DA CAÇAMBA 1,7 A 2,8 M3, PESO OPERACIONAL 11632 KG - CHI DIURNO. AF_06/2014","CHI",1.01E-2,38.911999999999999,{"$f":"IF(ISNUMBER(E360),E360*$D360,\"\")","v":0.39301119999999995},null,null,0]
[null,"CAMINHÃO BASCULANTE 6 M3 TOCO, PESO BRUTO TOTAL 16.000 KG, CARGA ÚTIL MÁXIMA 11.130 KG, DISTÂNCIA ENTRE EIXOS 5,36 M, POTÊNCIA 185 CV, INCLUSIVE CAÇAMBA METÁLICA - CHP DIURNO. AF_06/2014","CHP",1.78E-2,95.247,{"$f":"IF(ISNUMBER(E361),E361*$D361,\"\")","v":1.6953966},null,null,0]
[null,"CAMINHÃO BASCULANTE 6 M3 TOCO, PESO BRUTO TOTAL 16.000 KG, CARGA ÚTIL MÁXIMA 11.130 KG, DISTÂNCIA ENTRE EIXOS 5,36 M, POTÊNCIA 185 CV, INCLUSIVE CAÇAMBA METÁLICA - CHI DIURNO. AF_06/2014","CHI",1.35E-2,29.924999999999997,{"$f":"IF(ISNUMBER(E362),E362*$D362,\"\")","v":0.40398749999999994},null,null,0]
[null,"",null,null,"",{"$f":"IF(ISNUMBER(E363),E363*$D363,\"\")","v":""},null,null,0]
["MONTAGEM E DESMONTAGEM DE FÔRMA DE PILARES RETANGULARES E ESTRUTURAS SIMILARES COM ÁREA MÉDIA DAS SEÇÕES MAIOR QUE 0,25 M², PÉ-DIREITO SIMPLES, EM MADEIRA SERRADA, 2 UTILIZAÇÕES. AF_12/2015","","M2",null,"",{"$f":"IF(ISNUMBER(E364),E364*$D364,\"\")","v":""},null,null,0]
[null,"",null,null,"",{"$f":"IF(ISNUMBER(E365),E365*$D365,\"\")","v":""},null,null,0]
[null,"DESMOLDANTE PROTETOR PARA FORMAS DE MADEIRA, DE BASE OLEOSA EMULSIONADA EM AGUA","L",1.7000000000000001E-2,4.8925000000000001,{"$f":"IF(ISNUMBER(E366),E366*$D366,\"\")","v":8.317250000000001E-2},{"$f":"SUM(F366:F370)","v":123.866716815},null,0]
[null,"PREGO DE ACO POLIDO COM CABECA DUPLA 17 X 27 (2 1/2 X 11)","KG",2.7E-2,13.955499999999999,{"$f":"IF(ISNUMBER(E367),E367*$D367,\"\")","v":0.37679849999999998},null,null,0]
[null,"AJUDANTE DE CARPINTEIRO COM ENCARGOS COMPLEMENTARES","H",0.48899999999999999,16.416,{"$f":"IF(ISNUMBER(E368),E368*$D368,\"\")","v":8.0274239999999999},null,null,0]
[null,"CARPINTEIRO DE FORMAS COM ENCARGOS COMPLEMENTARES","H",2.6680000000000001,19.341999999999999,{"$f":"IF(ISNUMBER(E369),E369*$D369,\"\")","v":51.604455999999999},null,null,0]
[null,"FABRICAÇÃO DE FÔRMA PARA PILARES E ESTRUTURAS SIMILARES, EM MADEIRA SERRADA, E=25 MM. AF_12/2015","M2",0.53,120.3299355,{"$f":"IF(ISNUMBER(E370),E370*$D370,\"\")","v":63.774865815000005},null,null,0]
[null,"",null,null,"",{"$f":"IF(ISNUMBER(E371),E371*$D371,\"\")","v":""},null,null,0]
["CHAPISCO APLICADO EM ALVENARIAS E ESTRUTURAS DE CONCRETO INTERNAS, COM COLHER DE PEDREIRO.  ARGAMASSA TRAÇO 1:3 COM PREPARO EM BETONEIRA 400L. AF_06/2014","","M2",null,"",{"$f":"IF(ISNUMBER(E372),E372*$D372,\"\")","v":""},null,null,0]
[null,"",null,null,"",{"$f":"IF(ISNUMBER(E373),E373*$D373,\"\")","v":""},null,null,0]
[null,"ARGAMASSA TRAÇO 1:3 (EM VOLUME DE CIMENTO E AREIA GROSSA ÚMIDA) PARA CHAPISCO CONVENCIONAL, PREPARO MECÂNICO COM BETONEIRA 400 L. AF_08/2019","M3",4.1999999999999997E-3,401.36535465000003,{"$f":"IF(ISNUMBER(E374),E374*$D374,\"\")","v":1.6857344895299999},{"$f":"SUM(F374:F376)","v":3.1508624895300001},null,0]
[null,"PEDREIRO COM ENCARGOS COMPLEMENTARES","H",7.0000000000000007E-2,19.474999999999998,{"$f":"IF(ISNUMBER(E375),E375*$D375,\"\")","v":1.3632500000000001},null,null,0]
[null,"SERVENTE COM ENCARGOS COMPLEMENTARES","H",7.0000000000000001E-3,14.554,{"$f":"IF(ISNUMBER(E376),E376*$D376,\"\")","v":0.10187800000000001},null,null,0]
[null,null,null,null,null,null,null,null,0]
["EMBOÇO, PARA RECEBIMENTO DE CERÂMICA, EM ARGAMASSA TRAÇO 1:2:8, PREPARO MECÂNICO COM BETONEIRA 400L, APLICADO MANUALMENTE EM FACES INTERNAS DE PAREDES, PARA AMBIENTE COM ÁREA MENOR QUE 5M2, ESPESSURA DE 10MM, COM EXECUÇÃO DE TALISCAS. AF_06/2014","","M2",null,"",{"$f":"IF(ISNUMBER(E378),E378*$D378,\"\")","v":""},null,null,0]
[null,"",null,null,"",{"$f":"IF(ISNUMBER(E379),E379*$D379,\"\")","v":""},null,null,0]
[null,"ARGAMASSA TRAÇO 1:2:8 (EM VOLUME DE CIMENTO, CAL E AREIA MÉDIA ÚMIDA) PARA EMBOÇO/MASSA ÚNICA/ASSENTAMENTO DE ALVENARIA DE VEDAÇÃO, PREPARO MECÂNICO COM BETONEIRA 400 L. AF_08/2019","M3",2.1299999999999999E-2,435.96956919999991,{"$f":"IF(ISNUMBER(E380),E380*$D380,\"\")","v":9.2861518239599974},{"$f":"SUM(F380:F382)","v":20.675169823959997},null,0]
[null,"PEDREIRO COM ENCARGOS COMPLEMENTARES","H",0.46,19.474999999999998,{"$f":"IF(ISNUMBER(E381),E381*$D381,\"\")","v":8.958499999999999},null,null,0]
[null,"SERVENTE COM ENCARGOS COMPLEMENTARES","H",0.16700000000000001,14.554,{"$f":"IF(ISNUMBER(E382),E382*$D382,\"\")","v":2.4305180000000002},null,null,0]
[null,null,null,null,null,null,null,null,0]
["ALVENARIA DE VEDAÇÃO DE BLOCOS VAZADOS DE CONCRETO DE 9X19X39CM (ESPESSURA 9CM) DE PAREDES COM ÁREA LÍQUIDA MENOR QUE 6M² SEM VÃOS E ARGAMASSA DE ASSENTAMENTO COM PREPARO EM BETONEIRA. AF_06/2014","","M2",null,"",{"$f":"IF(ISNUMBER(E384),E384*$D384,\"\")","v":""},null,null,0]
[null,"",null,null,"",{"$f":"IF(ISNUMBER(E385),E385*$D385,\"\")","v":""},null,null,0]
[null,"BLOCO DE VEDACAO DE CONCRETO, 9 X 19 X 39 CM (CLASSE C - NBR 6136)","UN",13.5,1.71,{"$f":"IF(ISNUMBER(E386),E386*$D386,\"\")","v":23.085000000000001},{"$f":"SUM(F386:F391)","v":47.815188108960001},null,0]
[null,"TELA DE ACO SOLDADA GALVANIZADA/ZINCADA PARA ALVENARIA, FIO D = *1,20 A 1,70* MM, MALHA 15 X 15 MM, (C X L) *50 X 7,5* CM","M",0.78500000000000003,1.6909999999999998,{"$f":"IF(ISNUMBER(E387),E387*$D387,\"\")","v":1.3274349999999999},null,null,0]
[null,"PINO DE ACO COM FURO, HASTE = 27 MM (ACAO DIRETA)","CENTO",9.4000000000000004E-3,32.423500000000004,{"$f":"IF(ISNUMBER(E388),E388*$D388,\"\")","v":0.30478090000000008},null,null,0]
[null,"ARGAMASSA TRAÇO 1:2:8 (EM VOLUME DE CIMENTO, CAL E AREIA MÉDIA ÚMIDA) PARA EMBOÇO/MASSA ÚNICA/ASSENTAMENTO DE ALVENARIA DE VEDAÇÃO, PREPARO MECÂNICO COM BETONEIRA 400 L. AF_08/2019","M3",8.8000000000000005E-3,435.96956919999991,{"$f":"IF(ISNUMBER(E389),E389*$D389,\"\")","v":3.8365322089599996},null,null,0]
[null,"PEDREIRO COM ENCARGOS COMPLEMENTARES","H",0.72,19.474999999999998,{"$f":"IF(ISNUMBER(E390),E390*$D390,\"\")","v":14.021999999999998},null,null,0]
[null,"SERVENTE COM ENCARGOS COMPLEMENTARES","H",0.36,14.554,{"$f":"IF(ISNUMBER(E391),E391*$D391,\"\")","v":5.2394400000000001},null,null,0]
[null,"",null,null,"",{"$f":"IF(ISNUMBER(E392),E392*$D392,\"\")","v":""},null,null,0]
["FABRICAÇÃO DE FÔRMA PARA PILARES E ESTRUTURAS SIMILARES, EM MADEIRA SERRADA, E=25 MM. AF_09/2020","","M2",null,"",{"$f":"IF(ISNUMBER(E393),ROUND(E393*$D393,2),\"\")","v":""},null,null,0]
[null,"",null,null,"","",null,null,0]
[null,"SARRAFO DE MADEIRA NAO APARELHADA *2,5 X 7,5* CM (1 X 3 \") PINUS, MISTA OU EQUIVALENTE DA REGIAO","M",4.4320000000000004,1.3204999999999998,5.85,{"$f":"SUM(F395:F401)","v":120.33},null,0]
[null,"PREGO DE ACO POLIDO COM CABECA 17 X 21 (2 X 11)","KG",8.5999999999999993E-2,11.305,0.97,null,null,0]
[null,"TABUA DE MADEIRA NAO APARELHADA *2,5 X 30* CM, CEDRINHO OU EQUIVALENTE DA REGIAO","M",6.53,14.554,95.04,null,null,0]
[null,"AJUDANTE DE CARPINTEIRO COM ENCARGOS COMPLEMENTARES","H",0.14299999999999999,16.416,2.35,null,null,0]
[null,"CARPINTEIRO DE FORMAS COM ENCARGOS COMPLEMENTARES","H",0.71499999999999997,19.341999999999999,13.83,null,null,0]
[null,"SERRA CIRCULAR DE BANCADA COM MOTOR ELÉTRICO POTÊNCIA DE 5HP, COM COIFA PARA DISCO 10\" - CHP DIURNO. AF_08/2015","CHP",0.05,17.204499999999999,{"$f":"IF(ISNUMBER(E400),ROUND(E400*$D400,2),\"\")","v":0.86},null,null,0]
[null,"SERRA CIRCULAR DE BANCADA COM MOTOR ELÉTRICO POTÊNCIA DE 5HP, COM COIFA PARA DISCO 10\" - CHI DIURNO. AF_08/2015","CHI",9.2999999999999999E-2,15.3805,{"$f":"IF(ISNUMBER(E401),ROUND(E401*$D401,2),\"\")","v":1.43},null,null,0]
[null,null,null,null,"",{"$f":"IF(ISNUMBER(E402),ROUND(E402*$D402,2),\"\")","v":""},null,null,0]
["ARGAMASSA TRAÇO 1:3 (EM VOLUME DE CIMENTO E AREIA GROSSA ÚMIDA) PARA CHAPISCO CONVENCIONAL, PREPARO MECÂNICO COM BETONEIRA 400 L. AF_08/2019","","M3",null,"","",null,null,0]
[null,"",null,null,"","",null,null,0]
[null,"AREIA GROSSA - POSTO JAZIDA/FORNECEDOR (RETIRADO NA JAZIDA, SEM TRANSPORTE)","M3",0.95,118.7025,112.77,{"$f":"SUM(F405:F413)","v":401.36559674249997},null,0]
[null,"CIMENTO PORTLAND COMPOSTO CP II-32","KG",426.49,0.44649999999999995,190.43,null,null,0]
[null,"OPERADOR DE BETONEIRA ESTACIONÁRIA/MISTURADOR COM ENCARGOS COMPLEMENTARES","H",4.32,14.658499999999998,63.32,null,null,0]
[null,"BETONEIRA CAPACIDADE NOMINAL DE 400 L, CAPACIDADE DE MISTURA 280 L, MOTOR ELÉTRICO TRIFÁSICO POTÊNCIA DE 2 CV, SEM CARREGADOR - CHP DIURNO. AF_10/2014","CHP",1.01,1.121,1.1299999999999999,null,null,0]
[null,"BETONEIRA CAPACIDADE NOMINAL DE 400 L, CAPACIDADE DE MISTURA 280 L, MOTOR ELÉTRICO TRIFÁSICO POTÊNCIA DE 2 CV, SEM CARREGADOR - CHI DIURNO. AF_10/2014","CHI",3.31,0.22799999999999998,0.75,null,null,0]
[null,"CARGA, MANOBRA E DESCARGA DE SOLOS E MATERIAIS GRANULARES EM CAMINHÃO BASCULANTE 6 M³ - CARGA COM PÁ CARREGADEIRA (CAÇAMBA DE 1,7 A 2,8 M³ / 128 HP) E DESCARGA LIVRE (UNIDADE: M3). AF_07/2020","M3",{"$f":"ROUND(1*(D405),4)","v":0.95},4.6309621500000002,{"$f":"IF(ISNUMBER(E410),E410*$D410,\"\")","v":4.3994140425000001},null,null,0]
[null,"TRANSPORTE COM CAMINHÃO BASCULANTE DE 6 M³, EM VIA URBANA PAVIMENTADA, DMT ATÉ 30 KM (UNIDADE: M3XKM). AF_07/2020","M3xKM",{"$f":"ROUND(D405*20,4)","v":19},1.5034832999999999,28.566182699999999,null,null,0]
[null,null,null,null,"",{"$f":"IF(ISNUMBER(E412),ROUND(E412*$D412,2),\"\")","v":""},null,null,0]
[null,"Obs.: Considerando fornecedor de areia a 20 km do Senado Federal.",null,null,"","",null,null,0]
[null,null,null,null,"","",null,null,0]
["ARGAMASSA TRAÇO 1:3 (EM VOLUME DE CIMENTO E AREIA MÉDIA ÚMIDA) PARA CONTRAPISO, PREPARO MECÂNICO COM BETONEIRA 400 L. AF_08/2019","","M3",null,"","",null,null,0]
[null,"",null,null,"","",null,null,0]
[null,"AREIA GROSSA - POSTO JAZIDA/FORNECEDOR (RETIRADO NA JAZIDA, SEM TRANSPORTE)","M3",1.27,118.7025,150.75,{"$f":"SUM(F417:F425)","v":517.64979775049994},null,0]
[null,"CIMENTO PORTLAND COMPOSTO CP II-32","KG",573.61,0.44649999999999995,256.12,null,null,0]
[null,"OPERADOR DE BETONEIRA ESTACIONÁRIA/MISTURADOR COM ENCARGOS COMPLEMENTARES","H",4.42,14.658499999999998,64.790000000000006,null,null,0]
[null,"BETONEIRA CAPACIDADE NOMINAL DE 400 L, CAPACIDADE DE MISTURA 280 L, MOTOR ELÉTRICO TRIFÁSICO POTÊNCIA DE 2 CV, SEM CARREGADOR - CHP DIURNO. AF_10/2014","CHP",1.03,1.121,1.1499999999999999,null,null,0]
[null,"BETONEIRA CAPACIDADE NOMINAL DE 400 L, CAPACIDADE DE MISTURA 280 L, MOTOR ELÉTRICO TRIFÁSICO POTÊNCIA DE 2 CV, SEM CARREGADOR - CHI DIURNO. AF_10/2014","CHI",3.39,0.22799999999999998,0.77,null,null,0]
[null,"CARGA, MANOBRA E DESCARGA DE SOLOS E MATERIAIS GRANULARES EM CAMINHÃO BASCULANTE 6 M³ - CARGA COM PÁ CARREGADEIRA (CAÇAMBA DE 1,7 A 2,8 M³ / 128 HP) E DESCARGA LIVRE (UNIDADE: M3). AF_07/2020","M3",{"$f":"ROUND(1*(D417),4)","v":1.27},4.6309621500000002,{"$f":"IF(ISNUMBER(E422),E422*$D422,\"\")","v":5.8813219305000004},null,null,0]
[null,"TRANSPORTE COM CAMINHÃO BASCULANTE DE 6 M³, EM VIA URBANA PAVIMENTADA, DMT ATÉ 30 KM (UNIDADE: M3XKM). AF_07/2020","M3xKM",{"$f":"ROUND(D417*20,4)","v":25.4},1.5034832999999999,38.188475819999994,null,null,0]
[null,null,null,null,"",{"$f":"IF(ISNUMBER(E424),ROUND(E424*$D424,2),\"\")","v":""},null,null,0]
[null,"Obs.: Considerando fornecedor de areia a 20 km do Senado Federal.",null,null,"","",null,null,0]
[null,null,null,null,"","",null,null,0]

{"sheet":"Comp.Aux2","index":2,"n_rows":83,"n_cols":9,"rows_kept":83,"cut":false,"hidden":false,"merged":[[49,0,65,0],[66,0,82,0],[5,0,9,0],[10,0,15,0],[16,0,22,0],[23,0,38,0],[39,0,48,0]]}
[{"$f":"Composições!A1","v":"Manutenção de revestimentos de mármore nas fachadas do Edifício Principal e do Anexo I do SF"}]
["COMPOSIÇÕES DE CUSTO UNITÁRIO AUXILIARES DE 2º NÍVEL"]
[{"$f":"Composições!A3","v":"Data: Outubro de 2020"}]
[]
["DESCRIÇÃO","DISCRIMINAÇÃO DA COMPOSIÇÃO","UNIDADE","COEFICIENTE","CUSTO UNITÁRIO","CUSTO TOTAL","TOTAL",null,"QTD"]
["TRANSPORTE COM CAMINHÃO BASCULANTE DE 6 M³, EM VIA URBANA PAVIMENTADA, DMT ATÉ 30 KM (UNIDADE: M3XKM). AF_07/2020","","M3xKM",null,"",{"$f":"IF(ISNUMBER(E6),ROUND(E6*$D6,2),\"\")","v":""},null,null,29.284074000000004]
[null,"",null,null,"",{"$f":"IF(ISNUMBER(E7),ROUND(E7*$D7,2),\"\")","v":""},null,null,29.284074000000004]
[null,"CAMINHÃO BASCULANTE 6 M3 TOCO, PESO BRUTO TOTAL 16.000 KG, CARGA ÚTIL MÁXIMA 11.130 KG, DISTÂNCIA ENTRE EIXOS 5,36 M, POTÊNCIA 185 CV, INCLUSIVE CAÇAMBA METÁLICA - CHP DIURNO. AF_06/2014","CHP",1.3899999999999999E-2,95.247,{"$f":"IF(ISNUMBER(E8),ROUND(E8*$D8,2),\"\")","v":1.32},{"$f":"SUM(F8:F9)","v":1.5},null,29.284074000000004]
[null,"CAMINHÃO BASCULANTE 6 M3 TOCO, PESO BRUTO TOTAL 16.000 KG, CARGA ÚTIL MÁXIMA 11.130 KG, DISTÂNCIA ENTRE EIXOS 5,36 M, POTÊNCIA 185 CV, INCLUSIVE CAÇAMBA METÁLICA - CHI DIURNO. AF_06/2014","CHI",6.0000000000000001E-3,29.924999999999997,{"$f":"IF(ISNUMBER(E9),ROUND(E9*$D9,2),\"\")","v":0.18},null,null,29.284074000000004]
[null,"",null,null,"",{"$f":"IF(ISNUMBER(E10),ROUND(E10*$D10,2),\"\")","v":""},null,null,29.284074000000004]
["CORTE E DOBRA DE AÇO CA-60, DIÂMETRO DE 4,2 MM, UTILIZADO EM LAJE. AF_12/2015","","KG",null,"",{"$f":"IF(ISNUMBER(E11),ROUND(E11*$D11,2),\"\")","v":""},null,null,0]
[null,"",null,null,"",{"$f":"IF(ISNUMBER(E12),ROUND(E12*$D12,2),\"\")","v":""},null,null,0]
[null,"ACO CA-60, 4,2 MM, OU 5,0 MM, OU 6,0 MM, OU 7,0 MM, VERGALHAO","KG",1.07,5.2344999999999997,{"$f":"IF(ISNUMBER(E13),ROUND(E13*$D13,2),\"\")","v":5.6},{"$f":"SUM(F13:F15)","v":7.6099999999999994},null,0]
[null,"AJUDANTE DE ARMADOR COM ENCARGOS COMPLEMENTARES","H",1.3100000000000001E-2,15.180999999999999,{"$f":"IF(ISNUMBER(E14),ROUND(E14*$D14,2),\"\")","v":0.2},null,null,0]
[null,"ARMADOR COM ENCARGOS COMPLEMENTARES","H",9.3299999999999994E-2,19.38,{"$f":"IF(ISNUMBER(E15),ROUND(E15*$D15,2),\"\")","v":1.81},null,null,0]
[null,"",null,null,"",{"$f":"IF(ISNUMBER(E16),ROUND(E16*$D16,2),\"\")","v":""},null,null,0]
["CARGA, MANOBRA E DESCARGA DE SOLOS E MATERIAIS GRANULARES EM CAMINHÃO BASCULANTE 6 M³ - CARGA COM PÁ CARREGADEIRA (CAÇAMBA DE 1,7 A 2,8 M³ / 128 HP) E DESCARGA LIVRE (UNIDADE: M3). AF_07/2020","","M3",null,"",{"$f":"IF(ISNUMBER(E17),ROUND(E17*$D17,2),\"\")","v":""},null,null,1.4642037000000003]
[null,"",null,null,"",{"$f":"IF(ISNUMBER(E18),ROUND(E18*$D18,2),\"\")","v":""},null,null,1.4642037000000003]
[null,"CAMINHÃO BASCULANTE 6 M3, PESO BRUTO TOTAL 16.000 KG, CARGA ÚTIL MÁXIMA 13.071 KG, DISTÂNCIA ENTRE EIXOS 4,80 M, POTÊNCIA 230 CV INCLUSIVE CAÇAMBA METÁLICA - CHP DIURNO. AF_06/2014","CHP",8.3000000000000001E-3,107.5685,{"$f":"IF(ISNUMBER(E19),ROUND(E19*$D19,2),\"\")","v":0.89},{"$f":"SUM(F19:F22)","v":4.6281435999999996},null,1.4642037000000003]
[null,"PÁ CARREGADEIRA SOBRE RODAS, POTÊNCIA LÍQUIDA 128 HP, CAPACIDADE DA CAÇAMBA 1,7 A 2,8 M3, PESO OPERACIONAL 11632 KG - CHI DIURNO. AF_06/2014","CHI",1.5100000000000001E-2,38.911999999999999,{"$f":"IF(ISNUMBER(E20),E20*$D20,\"\")","v":0.58757119999999996},null,null,1.4642037000000003]
[null,"CAMINHÃO BASCULANTE 6 M3 TOCO, PESO BRUTO TOTAL 16.000 KG, CARGA ÚTIL MÁXIMA 11.130 KG, DISTÂNCIA ENTRE EIXOS 5,36 M, POTÊNCIA 185 CV, INCLUSIVE CAÇAMBA METÁLICA - CHP DIURNO. AF_06/2014","CHP",2.6700000000000002E-2,95.247,{"$f":"IF(ISNUMBER(E21),E21*$D21,\"\")","v":2.5430949000000003},null,null,1.4642037000000003]
[null,"CAMINHÃO BASCULANTE 6 M3 TOCO, PESO BRUTO TOTAL 16.000 KG, CARGA ÚTIL MÁXIMA 11.130 KG, DISTÂNCIA ENTRE EIXOS 5,36 M, POTÊNCIA 185 CV, INCLUSIVE CAÇAMBA METÁLICA - CHI DIURNO. AF_06/2014","CHI",2.0299999999999999E-2,29.924999999999997,{"$f":"IF(ISNUMBER(E22),E22*$D22,\"\")","v":0.60747749999999989},null,null,1.4642037000000003]
[null,"",null,null,"",{"$f":"IF(ISNUMBER(E23),ROUND(E23*$D23,2),\"\")","v":""},null,null,1.4642037000000003]
["ARGAMASSA TRAÇO 1:4 (EM VOLUME DE CIMENTO E AREIA MÉDIA ÚMIDA) PARA CONTRAPISO, PREPARO MECÂNICO COM BETONEIRA 400 L. AF_08/2019","","M3",null,"",{"$f":"IF(ISNUMBER(E24),ROUND(E24*$D24,2),\"\")","v":""},null,null,0]
[null,"",null,null,"",{"$f":"IF(ISNUMBER(E25),ROUND(E25*$D25,2),\"\")","v":""},null,null,0]
[null,"Areia media - posto jazida/fornecedor (retirado na jazida, sem transporte)","M3",1.36,93.8125,{"$f":"IF(ISNUMBER(E26),ROUND(E26*$D26,2),\"\")","v":127.59},{"$f":"SUM(F26:F36)","v":453.29137244999998},null,0]
[null,"Cimento Portland composto CP II-32","KG",459.85,0.44649999999999995,{"$f":"IF(ISNUMBER(E27),ROUND(E27*$D27,2),\"\")","v":205.32},null,null,0]
[null,"Operador de betoneira estacionária/misturador com encargos complementares","H",4.8499999999999996,14.658499999999998,{"$f":"IF(ISNUMBER(E28),ROUND(E28*$D28,2),\"\")","v":71.09},null,null,0]
[null,"Betoneira capacidade nominal de 400 L, capacidade de mistura 280 L, motor elétrico trifásico potência de 2 cv, sem carregador - CHP diurno. af_10/2014","CHP",1.1299999999999999,1.121,{"$f":"IF(ISNUMBER(E29),ROUND(E29*$D29,2),\"\")","v":1.27},null,null,0]
[null,"Betoneira capacidade nominal de 400 L, capacidade de mistura 280 L, motor elétrico trifásico potência de 2 cv, sem carregador - CHI diurno. af_10/2014","CHI",3.72,0.22799999999999998,{"$f":"IF(ISNUMBER(E30),ROUND(E30*$D30,2),\"\")","v":0.85},null,null,0]
[null,"PÁ CARREGADEIRA SOBRE RODAS, POTÊNCIA LÍQUIDA 128 HP, CAPACIDADE DA CAÇAMBA 1,7 A 2,8 M3, PESO OPERACIONAL 11632 KG - CHP DIURNO. AF_06/2014","CHP",{"$f":"ROUND(0.0083*D26,4)","v":1.1299999999999999E-2},106.2195,{"$f":"IF(ISNUMBER(E31),E31*$D31,\"\")","v":1.2002803499999999},null,null,0]
[null,"PÁ CARREGADEIRA SOBRE RODAS, POTÊNCIA LÍQUIDA 128 HP, CAPACIDADE DA CAÇAMBA 1,7 A 2,8 M3, PESO OPERACIONAL 11632 KG - CHI DIURNO. AF_06/2014","CHI",{"$f":"ROUND(0.0151*D26,4)","v":2.0500000000000001E-2},38.911999999999999,{"$f":"IF(ISNUMBER(E32),E32*$D32,\"\")","v":0.79769599999999996},null,null,0]
[null,"CAMINHÃO BASCULANTE 6 M3 TOCO, PESO BRUTO TOTAL 16.000 KG, CARGA ÚTIL MÁXIMA 11.130 KG, DISTÂNCIA ENTRE EIXOS 5,36 M, POTÊNCIA 185 CV, INCLUSIVE CAÇAMBA METÁLICA - CHP DIURNO. AF_06/2014","CHP",{"$f":"ROUND(0.0267*D26,4)","v":3.6299999999999999E-2},95.247,{"$f":"IF(ISNUMBER(E33),E33*$D33,\"\")","v":3.4574661},null,null,0]
[null,"CAMINHÃO BASCULANTE 6 M3 TOCO, PESO BRUTO TOTAL 16.000 KG, CARGA ÚTIL MÁXIMA 11.130 KG, DISTÂNCIA ENTRE EIXOS 5,36 M, POTÊNCIA 185 CV, INCLUSIVE CAÇAMBA METÁLICA - CHI DIURNO. AF_06/2014","CHI",{"$f":"ROUND(0.0203*D26,4)","v":2.76E-2},29.924999999999997,{"$f":"IF(ISNUMBER(E34),E34*$D34,\"\")","v":0.82592999999999994},null,null,0]
[null,"CAMINHÃO BASCULANTE 6 M3 TOCO, PESO BRUTO TOTAL 16.000 KG, CARGA ÚTIL MÁXIMA 11.130 KG, DISTÂNCIA ENTRE EIXOS 5,36 M, POTÊNCIA 185 CV, INCLUSIVE CAÇAMBA METÁLICA - CHP DIURNO. AF_06/2014","CHP",{"$f":"ROUND(0.0139*20*D26,4)","v":0.37809999999999999},95.247,{"$f":"IF(ISNUMBER(E35),ROUND(E35*$D35,2),\"\")","v":36.01},null,null,0]
[null,"CAMINHÃO BASCULANTE 6 M3 TOCO, PESO BRUTO TOTAL 16.000 KG, CARGA ÚTIL MÁXIMA 11.130 KG, DISTÂNCIA ENTRE EIXOS 5,36 M, POTÊNCIA 185 CV, INCLUSIVE CAÇAMBA METÁLICA - CHI DIURNO. AF_06/2014","CHI",{"$f":"ROUND(0.006*20*D26,4)","v":0.16320000000000001},29.924999999999997,{"$f":"IF(ISNUMBER(E36),ROUND(E36*$D36,2),\"\")","v":4.88},null,null,0]
[null,null,null,null,"",{"$f":"IF(ISNUMBER(E37),ROUND(E37*$D37,2),\"\")","v":""},null,null,0]
[null,"Obs.: Considerando fornecedor de areia a 20 km do Senado Federal.",null,null,"",{"$f":"IF(ISNUMBER(E38),ROUND(E38*$D38,2),\"\")","v":""},null,null,0]
[null,"Obs.2: Inclusão de composições (abertas) Sinapi 100973 e 97914.",null,null,"",{"$f":"IF(ISNUMBER(E39),ROUND(E39*$D39,2),\"\")","v":""},null,null,0]
["FABRICAÇÃO DE FÔRMA PARA PILARES E ESTRUTURAS SIMILARES, EM MADEIRA SERRADA, E=25 MM. AF_09/2020","","M2",null,"",{"$f":"IF(ISNUMBER(E40),ROUND(E40*$D40,2),\"\")","v":""},null,null,0]
[null,"",null,null,"",{"$f":"IF(ISNUMBER(E41),ROUND(E41*$D41,2),\"\")","v":""},null,null,0]
[null,"SARRAFO DE MADEIRA NAO APARELHADA *2,5 X 7,5* CM (1 X 3 \") PINUS, MISTA OU EQUIVALENTE DA REGIAO","M",4.4320000000000004,1.3204999999999998,{"$f":"IF(ISNUMBER(E42),ROUND(E42*$D42,2),\"\")","v":5.85},{"$f":"SUM(F42:F48)","v":120.33},null,0]
[null,"PREGO DE ACO POLIDO COM CABECA 17 X 21 (2 X 11)","KG",8.5999999999999993E-2,11.305,{"$f":"IF(ISNUMBER(E43),ROUND(E43*$D43,2),\"\")","v":0.97},null,null,0]
[null,"TABUA DE MADEIRA NAO APARELHADA *2,5 X 30* CM, CEDRINHO OU EQUIVALENTE DA REGIAO","M",6.53,14.554,{"$f":"IF(ISNUMBER(E44),ROUND(E44*$D44,2),\"\")","v":95.04},null,null,0]
[null,"AJUDANTE DE CARPINTEIRO COM ENCARGOS COMPLEMENTARES","H",0.14299999999999999,16.416,{"$f":"IF(ISNUMBER(E45),ROUND(E45*$D45,2),\"\")","v":2.35},null,null,0]
[null,"CARPINTEIRO DE FORMAS COM ENCARGOS COMPLEMENTARES","H",0.71499999999999997,19.341999999999999,{"$f":"IF(ISNUMBER(E46),ROUND(E46*$D46,2),\"\")","v":13.83},null,null,0]
[null,"SERRA CIRCULAR DE BANCADA COM MOTOR ELÉTRICO POTÊNCIA DE 5HP, COM COIFA PARA DISCO 10\" - CHP DIURNO. AF_08/2015","CHP",0.05,17.204499999999999,{"$f":"IF(ISNUMBER(E47),ROUND(E47*$D47,2),\"\")","v":0.86},null,null,0]
[null,"SERRA CIRCULAR DE BANCADA COM MOTOR ELÉTRICO POTÊNCIA DE 5HP, COM COIFA PARA DISCO 10\" - CHI DIURNO. AF_08/2015","CHI",9.2999999999999999E-2,15.3805,{"$f":"IF(ISNUMBER(E48),ROUND(E48*$D48,2),\"\")","v":1.43},null,null,0]
[null,null,null,null,"",{"$f":"IF(ISNUMBER(E49),ROUND(E49*$D49,2),\"\")","v":""},null,null,0]
["ARGAMASSA TRAÇO 1:3 (EM VOLUME DE CIMENTO E AREIA GROSSA ÚMIDA) PARA CHAPISCO CONVENCIONAL, PREPARO MECÂNICO COM BETONEIRA 400 L. AF_08/2019","","M3",null,"",{"$f":"IF(ISNUMBER(E50),ROUND(E50*$D50,2),\"\")","v":""},null,null,0]
[null,"",null,null,"",{"$f":"IF(ISNUMBER(E51),ROUND(E51*$D51,2),\"\")","v":""},null,null,0]
[null,"AREIA GROSSA - POSTO JAZIDA/FORNECEDOR (RETIRADO NA JAZIDA, SEM TRANSPORTE)","M3",0.95,118.7025,{"$f":"IF(ISNUMBER(E52),ROUND(E52*$D52,2),\"\")","v":112.77},{"$f":"SUM(F52:F65)","v":401.35240195},null,0]
[null,"CIMENTO PORTLAND COMPOSTO CP II-32","KG",426.49,0.44649999999999995,{"$f":"IF(ISNUMBER(E53),ROUND(E53*$D53,2),\"\")","v":190.43},null,null,0]
[null,"OPERADOR DE BETONEIRA ESTACIONÁRIA/MISTURADOR COM ENCARGOS COMPLEMENTARES","H",4.32,14.658499999999998,{"$f":"IF(ISNUMBER(E54),ROUND(E54*$D54,2),\"\")","v":63.32},null,null,0]
[null,"BETONEIRA CAPACIDADE NOMINAL DE 400 L, CAPACIDADE DE MISTURA 280 L, MOTOR ELÉTRICO TRIFÁSICO POTÊNCIA DE 2 CV, SEM CARREGADOR - CHP DIURNO. AF_10/2014","CHP",1.01,1.121,{"$f":"IF(ISNUMBER(E55),ROUND(E55*$D55,2),\"\")","v":1.1299999999999999},null,null,0]
[null,"BETONEIRA CAPACIDADE NOMINAL DE 400 L, CAPACIDADE DE MISTURA 280 L, MOTOR ELÉTRICO TRIFÁSICO POTÊNCIA DE 2 CV, SEM CARREGADOR - CHI DIURNO. AF_10/2014","CHI",3.31,0.22799999999999998,{"$f":"IF(ISNUMBER(E56),ROUND(E56*$D56,2),\"\")","v":0.75},null,null,0]
[null,"PÁ CARREGADEIRA SOBRE RODAS, POTÊNCIA LÍQUIDA 128 HP, CAPACIDADE DA CAÇAMBA 1,7 A 2,8 M3, PESO OPERACIONAL 11632 KG - CHP DIURNO. AF_06/2014","CHP",{"$f":"ROUND(0.0083*D52,4)","v":7.9000000000000008E-3},106.2195,{"$f":"IF(ISNUMBER(E57),E57*$D57,\"\")","v":0.83913405000000008},null,null,0]
[null,"PÁ CARREGADEIRA SOBRE RODAS, POTÊNCIA LÍQUIDA 128 HP, CAPACIDADE DA CAÇAMBA 1,7 A 2,8 M3, PESO OPERACIONAL 11632 KG - CHI DIURNO. AF_06/2014","CHI",{"$f":"ROUND(0.0151*D52,4)","v":1.43E-2},38.911999999999999,{"$f":"IF(ISNUMBER(E58),E58*$D58,\"\")","v":0.55644159999999998},null,null,0]
[null,"CAMINHÃO BASCULANTE 6 M3 TOCO, PESO BRUTO TOTAL 16.000 KG, CARGA ÚTIL MÁXIMA 11.130 KG, DISTÂNCIA ENTRE EIXOS 5,36 M, POTÊNCIA 185 CV, INCLUSIVE CAÇAMBA METÁLICA - CHP DIURNO. AF_06/2014","CHP",{"$f":"ROUND(0.0267*D52,4)","v":2.5399999999999999E-2},95.247,{"$f":"IF(ISNUMBER(E59),E59*$D59,\"\")","v":2.4192738},null,null,0]
[null,"CAMINHÃO BASCULANTE 6 M3 TOCO, PESO BRUTO TOTAL 16.000 KG, CARGA ÚTIL MÁXIMA 11.130 KG, DISTÂNCIA ENTRE EIXOS 5,36 M, POTÊNCIA 185 CV, INCLUSIVE CAÇAMBA METÁLICA - CHI DIURNO. AF_06/2014","CHI",{"$f":"ROUND(0.0203*D52,4)","v":1.9300000000000001E-2},29.924999999999997,{"$f":"IF(ISNUMBER(E60),E60*$D60,\"\")","v":0.57755250000000002},null,null,0]
[null,"CAMINHÃO BASCULANTE 6 M3 TOCO, PESO BRUTO TOTAL 16.000 KG, CARGA ÚTIL MÁXIMA 11.130 KG, DISTÂNCIA ENTRE EIXOS 5,36 M, POTÊNCIA 185 CV, INCLUSIVE CAÇAMBA METÁLICA - CHP DIURNO. AF_06/2014","CHP",{"$f":"ROUND(0.0139*20*D52,4)","v":0.2641},95.247,{"$f":"IF(ISNUMBER(E61),ROUND(E61*$D61,2),\"\")","v":25.15},null,null,0]
[null,"CAMINHÃO BASCULANTE 6 M3 TOCO, PESO BRUTO TOTAL 16.000 KG, CARGA ÚTIL MÁXIMA 11.130 KG, DISTÂNCIA ENTRE EIXOS 5,36 M, POTÊNCIA 185 CV, INCLUSIVE CAÇAMBA METÁLICA - CHI DIURNO. AF_06/2014","CHI",{"$f":"ROUND(0.006*20*D52,4)","v":0.114},29.924999999999997,{"$f":"IF(ISNUMBER(E62),ROUND(E62*$D62,2),\"\")","v":3.41},null,null,0]
[null,null,null,null,"",{"$f":"IF(ISNUMBER(E63),ROUND(E63*$D63,2),\"\")","v":""},null,null,0]
[null,"Obs.: Considerando fornecedor de areia a 20 km do Senado Federal.",null,null,"","",null,null,0]
[null,"Obs.2: Inclusão de composições (abertas) Sinapi 100973 e 97914.",null,null,"","",null,null,0]
[null,null,null,null,"",{"$f":"IF(ISNUMBER(E66),ROUND(E66*$D66,2),\"\")","v":""},null,null,0]
["ARGAMASSA TRAÇO 1:3 (EM VOLUME DE CIMENTO E AREIA GROSSA ÚMIDA) PARA CHAPISCO CONVENCIONAL, PREPARO MECÂNICO COM BETONEIRA 400 L. AF_08/2019","","M3",null,"","",null,null,0]
[null,"",null,null,"","",null,null,0]
[null,"AREIA MEDIA - POSTO JAZIDA/FORNECEDOR (RETIRADO NA JAZIDA, SEM TRANSPORTE)","M3",1.1599999999999999,93.8125,108.82,{"$f":"SUM(F69:F82)","v":435.97656169999999},null,0]
[null,"CAL HIDRATADA CH-I PARA ARGAMASSAS","KG",174.1,0.76,132.32,null,null,0]
[null,"CIMENTO PORTLAND COMPOSTO CP II-32","KG",195.86,0.44649999999999995,87.45,null,null,0]
[null,"OPERADOR DE BETONEIRA ESTACIONÁRIA/MISTURADOR COM ENCARGOS COMPLEMENTARES","H",4.5,14.658499999999998,65.959999999999994,null,null,0]
[null,"BETONEIRA CAPACIDADE NOMINAL DE 400 L, CAPACIDADE DE MISTURA 280 L, MOTOR ELÉTRICO TRIFÁSICO POTÊNCIA DE 2 CV, SEM CARREGADOR - CHP DIURNO. AF_10/2014","CHP",1.05,1.121,1.18,null,null,0]
[null,"PÁ CARREGADEIRA SOBRE RODAS, POTÊNCIA LÍQUIDA 128 HP, CAPACIDADE DA CAÇAMBA 1,7 A 2,8 M3, PESO OPERACIONAL 11632 KG - CHP DIURNO. AF_06/2014","CHP",{"$f":"ROUND(0.0083*D69,4)","v":9.5999999999999992E-3},106.2195,{"$f":"IF(ISNUMBER(E74),E74*$D74,\"\")","v":1.0197071999999998},null,null,0]
[null,"PÁ CARREGADEIRA SOBRE RODAS, POTÊNCIA LÍQUIDA 128 HP, CAPACIDADE DA CAÇAMBA 1,7 A 2,8 M3, PESO OPERACIONAL 11632 KG - CHI DIURNO. AF_06/2014","CHI",{"$f":"ROUND(0.0151*D69,4)","v":1.7500000000000002E-2},38.911999999999999,{"$f":"IF(ISNUMBER(E75),E75*$D75,\"\")","v":0.68096000000000001},null,null,0]
[null,"CAMINHÃO BASCULANTE 6 M3 TOCO, PESO BRUTO TOTAL 16.000 KG, CARGA ÚTIL MÁXIMA 11.130 KG, DISTÂNCIA ENTRE EIXOS 5,36 M, POTÊNCIA 185 CV, INCLUSIVE CAÇAMBA METÁLICA - CHP DIURNO. AF_06/2014","CHP",{"$f":"ROUND(0.0267*D69,4)","v":3.1E-2},95.247,{"$f":"IF(ISNUMBER(E76),E76*$D76,\"\")","v":2.9526569999999999},null,null,0]
[null,"CAMINHÃO BASCULANTE 6 M3 TOCO, PESO BRUTO TOTAL 16.000 KG, CARGA ÚTIL MÁXIMA 11.130 KG, DISTÂNCIA ENTRE EIXOS 5,36 M, POTÊNCIA 185 CV, INCLUSIVE CAÇAMBA METÁLICA - CHI DIURNO. AF_06/2014","CHI",{"$f":"ROUND(0.0203*D69,4)","v":2.35E-2},29.924999999999997,{"$f":"IF(ISNUMBER(E77),E77*$D77,\"\")","v":0.70323749999999996},null,null,0]
[null,"CAMINHÃO BASCULANTE 6 M3 TOCO, PESO BRUTO TOTAL 16.000 KG, CARGA ÚTIL MÁXIMA 11.130 KG, DISTÂNCIA ENTRE EIXOS 5,36 M, POTÊNCIA 185 CV, INCLUSIVE CAÇAMBA METÁLICA - CHP DIURNO. AF_06/2014","CHP",{"$f":"ROUND(0.0139*20*D69,4)","v":0.32250000000000001},95.247,{"$f":"IF(ISNUMBER(E78),ROUND(E78*$D78,2),\"\")","v":30.72},null,null,0]
[null,"CAMINHÃO BASCULANTE 6 M3 TOCO, PESO BRUTO TOTAL 16.000 KG, CARGA ÚTIL MÁXIMA 11.130 KG, DISTÂNCIA ENTRE EIXOS 5,36 M, POTÊNCIA 185 CV, INCLUSIVE CAÇAMBA METÁLICA - CHI DIURNO. AF_06/2014","CHI",{"$f":"ROUND(0.006*20*D69,4)","v":0.13919999999999999},29.924999999999997,{"$f":"IF(ISNUMBER(E79),ROUND(E79*$D79,2),\"\")","v":4.17},null,null,0]
[null,null,null,null,"",{"$f":"IF(ISNUMBER(E80),ROUND(E80*$D80,2),\"\")","v":""},null,null,0]
[null,"Obs.: Considerando fornecedor de areia a 20 km do Senado Federal.",null,null,"","",null,null,0]
[null,"Obs.2: Inclusão de composições (abertas) Sinapi 100973 e 97914.",null,null,"","",null,null,0]
[null,null,null,null,"","",null,null,0]

{"sheet":"Orçamentária","index":3,"n_rows":1347,"n_cols":9,"rows_kept":1347,"cut":false,"hidden":false,"merged":[]}
["Manutenção de revestimentos de mármore nas fachadas do Edifício Principal e do Anexo I do SF"]
["PLANILHA ORÇAMENTÁRIA"]
["Data: Outubro de 2020"]
[]
["ITEM","DESCRIÇÃO","UNIDADE","QUANTIDADE","CUSTO UNITÁRIO","CUSTO DIRETO","BDI (%)","PREÇO UNITÁRIO COM BDI","CUSTO TOTAL"]
["SF-00001","Engenheiro(a) /Arquiteto(a) júnior","hh",0,{"$f":"OFFSET(INDEX(Composições!A:J,MATCH(Orçamentária!A6,Composições!A:A,0),8),2,0)","v":71.591999999999999},{"$f":"IF(ISNUMBER(E6),D6*E6,\"\")","v":0},{"$f":"IF(A6<>\"\",IF(AND(#REF!=\"Padrão\",$H$4=#REF!),BDI!$B$17,IF(AND(#REF!=\"Padrão\",$H$4=#REF!),BDI!$C$17,IF(AND(#REF!=\"Diferenciado\",$H$4=#REF!),BDI!$G$17,IF(AND(#REF!=\"Diferenciado\",$H$4=#REF!),BDI!$H$17,IF(#REF!=\"ZERO\",0))))),\"\")","v":{"$error":"#REF!"}},{"$f":"IF(ISNUMBER(E6),ROUND(E6*(1+G6),2),\"\")","v":{"$error":"#REF!"}},{"$f":"IF(ISNUMBER(E6),ROUND(H6*D6,2),\"\")","v":{"$error":"#REF!"}}]
["SF-00002","Mestre de obras","hh",0,{"$f":"OFFSET(INDEX(Composições!A:J,MATCH(Orçamentária!A7,Composições!A:A,0),8),2,0)","v":22.5625},{"$f":"IF(ISNUMBER(E7),D7*E7,\"\")","v":0},{"$f":"IF(A7<>\"\",IF(AND(#REF!=\"Padrão\",$H$4=#REF!),BDI!$B$17,IF(AND(#REF!=\"Padrão\",$H$4=#REF!),BDI!$C$17,IF(AND(#REF!=\"Diferenciado\",$H$4=#REF!),BDI!$G$17,IF(AND(#REF!=\"Diferenciado\",$H$4=#REF!),BDI!$H$17,IF(#REF!=\"ZERO\",0))))),\"\")","v":{"$error":"#REF!"}},{"$f":"IF(ISNUMBER(E7),ROUND(E7*(1+G7),2),\"\")","v":{"$error":"#REF!"}},{"$f":"IF(ISNUMBER(E7),ROUND(H7*D7,2),\"\")","v":{"$error":"#REF!"}}]
["SF-00003","Planejamento físico-financeiro","un",1,{"$f":"OFFSET(INDEX(Composições!A:J,MATCH(Orçamentária!A8,Composições!A:A,0),8),2,0)","v":1301.424},1301.424,{"$f":"BDI!$C$17","v":0.25},1626.78,1626.78]
["SF-00004","Projetos de segurança do trabalho","un",1,{"$f":"OFFSET(INDEX(Composições!A:J,MATCH(Orçamentária!A9,Composições!A:A,0),8),2,0)","v":1866.23},1866.23,{"$f":"BDI!$C$17","v":0.25},2332.79,2332.79]
["SF-00005","Demolição de alvenarias","m3",0,{"$f":"OFFSET(INDEX(Composições!A:J,MATCH(Orçamentária!A10,Composições!A:A,0),8),2,0)","v":38.217014200000001},0,{"$f":"IF(A10<>\"\",IF(AND(#REF!=\"Padrão\",$H$4=#REF!),BDI!$B$17,IF(AND(#REF!=\"Padrão\",$H$4=#REF!),BDI!$C$17,IF(AND(#REF!=\"Diferenciado\",$H$4=#REF!),BDI!$G$17,IF(AND(#REF!=\"Diferenciado\",$H$4=#REF!),BDI!$H$17,IF(#REF!=\"ZERO\",0))))),\"\")","v":{"$error":"#REF!"}},{"$error":"#REF!"},{"$error":"#REF!"}]
["SF-00006","Demolição de concreto simples","m3",0,{"$f":"OFFSET(INDEX(Composições!A:J,MATCH(Orçamentária!A11,Composições!A:A,0),8),2,0)","v":214.51949999999999},0,{"$f":"IF(A11<>\"\",IF(AND(#REF!=\"Padrão\",$H$4=#REF!),BDI!$B$17,IF(AND(#REF!=\"Padrão\",$H$4=#REF!),BDI!$C$17,IF(AND(#REF!=\"Diferenciado\",$H$4=#REF!),BDI!$G$17,IF(AND(#REF!=\"Diferenciado\",$H$4=#REF!),BDI!$H$17,IF(#REF!=\"ZERO\",0))))),\"\")","v":{"$error":"#REF!"}},{"$error":"#REF!"},{"$error":"#REF!"}]
["SF-00007","Demolição de contrapiso","m2",0,{"$f":"OFFSET(INDEX(Composições!A:J,MATCH(Orçamentária!A12,Composições!A:A,0),8),2,0)","v":10.187799999999999},0,{"$f":"IF(A12<>\"\",IF(AND(#REF!=\"Padrão\",$H$4=#REF!),BDI!$B$17,IF(AND(#REF!=\"Padrão\",$H$4=#REF!),BDI!$C$17,IF(AND(#REF!=\"Diferenciado\",$H$4=#REF!),BDI!$G$17,IF(AND(#REF!=\"Diferenciado\",$H$4=#REF!),BDI!$H$17,IF(#REF!=\"ZERO\",0))))),\"\")","v":{"$error":"#REF!"}},{"$error":"#REF!"},{"$error":"#REF!"}]
["SF-00008","Demolição de fechamento ou parede em gesso acartonado","m2",0,{"$f":"OFFSET(INDEX(Composições!A:J,MATCH(Orçamentária!A13,Composições!A:A,0),8),2,0)","v":5.1641791000000001},0,{"$f":"IF(A13<>\"\",IF(AND(#REF!=\"Padrão\",$H$4=#REF!),BDI!$B$17,IF(AND(#REF!=\"Padrão\",$H$4=#REF!),BDI!$C$17,IF(AND(#REF!=\"Diferenciado\",$H$4=#REF!),BDI!$G$17,IF(AND(#REF!=\"Diferenciado\",$H$4=#REF!),BDI!$H$17,IF(#REF!=\"ZERO\",0))))),\"\")","v":{"$error":"#REF!"}},{"$error":"#REF!"},{"$error":"#REF!"}]
["SF-00009","Demolição de forro de gesso","m2",0,{"$f":"OFFSET(INDEX(Composições!A:J,MATCH(Orçamentária!A14,Composições!A:A,0),8),2,0)","v":1.1239203},0,{"$f":"IF(A14<>\"\",IF(AND(#REF!=\"Padrão\",$H$4=#REF!),BDI!$B$17,IF(AND(#REF!=\"Padrão\",$H$4=#REF!),BDI!$C$17,IF(AND(#REF!=\"Diferenciado\",$H$4=#REF!),BDI!$G$17,IF(AND(#REF!=\"Diferenciado\",$H$4=#REF!),BDI!$H$17,IF(#REF!=\"ZERO\",0))))),\"\")","v":{"$error":"#REF!"}},{"$error":"#REF!"},{"$error":"#REF!"}]
["SF-00010","Demolição de infraestrutura elétrica (eletrodutos, eletrocalhas, cabos)","m",0,{"$f":"OFFSET(INDEX(Composições!A:J,MATCH(Orçamentária!A15,Composições!A:A,0),8),2,0)","v":2.3110840000000001},0,{"$f":"IF(A15<>\"\",IF(AND(#REF!=\"Padrão\",$H$4=#REF!),BDI!$B$17,IF(AND(#REF!=\"Padrão\",$H$4=#REF!),BDI!$C$17,IF(AND(#REF!=\"Diferenciado\",$H$4=#REF!),BDI!$G$17,IF(AND(#REF!=\"Diferenciado\",$H$4=#REF!),BDI!$H$17,IF(#REF!=\"ZERO\",0))))),\"\")","v":{"$error":"#REF!"}},{"$error":"#REF!"},{"$error":"#REF!"}]
["SF-00011","Demolição de revestimento cerâmico, granito, mármore ou granitina","m2",0,{"$f":"OFFSET(INDEX(Composições!A:J,MATCH(Orçamentária!A16,Composições!A:A,0),8),2,0)","v":8.4415603499999996},0,{"$f":"IF(A16<>\"\",IF(AND(#REF!=\"Padrão\",$H$4=#REF!),BDI!$B$17,IF(AND(#REF!=\"Padrão\",$H$4=#REF!),BDI!$C$17,IF(AND(#REF!=\"Diferenciado\",$H$4=#REF!),BDI!$G$17,IF(AND(#REF!=\"Diferenciado\",$H$4=#REF!),BDI!$H$17,IF(#REF!=\"ZERO\",0))))),\"\")","v":{"$error":"#REF!"}},{"$error":"#REF!"},{"$error":"#REF!"}]
["SF-00012","Demolição de revestimento em argamassa","m2",231.21,{"$f":"OFFSET(INDEX(Composições!A:J,MATCH(Orçamentária!A17,Composições!A:A,0),8),2,0)","v":2.2609012000000002},522.74296645200002,{"$f":"BDI!$C$17","v":0.25},2.83,654.32000000000005]
["SF-00013","Demolição de tubulação hidrossanitária embutida com conexões e acessórios","m",0,{"$f":"OFFSET(INDEX(Composições!A:J,MATCH(Orçamentária!A18,Composições!A:A,0),8),2,0)","v":0.33912815000000002},0,{"$f":"IF(A18<>\"\",IF(AND(#REF!=\"Padrão\",$H$4=#REF!),BDI!$B$17,IF(AND(#REF!=\"Padrão\",$H$4=#REF!),BDI!$C$17,IF(AND(#REF!=\"Diferenciado\",$H$4=#REF!),BDI!$G$17,IF(AND(#REF!=\"Diferenciado\",$H$4=#REF!),BDI!$H$17,IF(#REF!=\"ZERO\",0))))),\"\")","v":{"$error":"#REF!"}},{"$error":"#REF!"},{"$error":"#REF!"}]
["SF-00014","Demolição em concreto armado","m3",0,{"$f":"OFFSET(INDEX(Composições!A:J,MATCH(Orçamentária!A19,Composições!A:A,0),8),2,0)","v":194.05879329999999},0,{"$f":"IF(A19<>\"\",IF(AND(#REF!=\"Padrão\",$H$4=#REF!),BDI!$B$17,IF(AND(#REF!=\"Padrão\",$H$4=#REF!),BDI!$C$17,IF(AND(#REF!=\"Diferenciado\",$H$4=#REF!),BDI!$G$17,IF(AND(#REF!=\"Diferenciado\",$H$4=#REF!),BDI!$H$17,IF(#REF!=\"ZERO\",0))))),\"\")","v":{"$error":"#REF!"}},{"$error":"#REF!"},{"$error":"#REF!"}]
["SF-00015","Locação de caçambas","un",15,300,4500,{"$f":"BDI!$H$17","v":0.1671},350.13,5251.95]
["SF-00016","Remoção de armários","m2",0,{"$f":"OFFSET(INDEX(Composições!A:J,MATCH(Orçamentária!A21,Composições!A:A,0),8),2,0)","v":11.873574999999999},0,{"$f":"IF(A21<>\"\",IF(AND(#REF!=\"Padrão\",$H$4=#REF!),BDI!$B$17,IF(AND(#REF!=\"Padrão\",$H$4=#REF!),BDI!$C$17,IF(AND(#REF!=\"Diferenciado\",$H$4=#REF!),BDI!$G$17,IF(AND(#REF!=\"Diferenciado\",$H$4=#REF!),BDI!$H$17,IF(#REF!=\"ZERO\",0))))),\"\")","v":{"$error":"#REF!"}},{"$error":"#REF!"},{"$error":"#REF!"}]
["SF-00017","Remoção de bancadas","m2",0,{"$f":"OFFSET(INDEX(Composições!A:J,MATCH(Orçamentária!A22,Composições!A:A,0),8),2,0)","v":17.475249999999999},0,{"$f":"IF(A22<>\"\",IF(AND(#REF!=\"Padrão\",$H$4=#REF!),BDI!$B$17,IF(AND(#REF!=\"Padrão\",$H$4=#REF!),BDI!$C$17,IF(AND(#REF!=\"Diferenciado\",$H$4=#REF!),BDI!$G$17,IF(AND(#REF!=\"Diferenciado\",$H$4=#REF!),BDI!$H$17,IF(#REF!=\"ZERO\",0))))),\"\")","v":{"$error":"#REF!"}},{"$error":"#REF!"},{"$error":"#REF!"}]
["SF-00018","Remoção de batentes de madeira","un",0,{"$f":"OFFSET(INDEX(Composições!A:J,MATCH(Orçamentária!A23,Composições!A:A,0),8),2,0)","v":6.6006},0,{"$f":"IF(A23<>\"\",IF(AND(#REF!=\"Padrão\",$H$4=#REF!),BDI!$B$17,IF(AND(#REF!=\"Padrão\",$H$4=#REF!),BDI!$C$17,IF(AND(#REF!=\"Diferenciado\",$H$4=#REF!),BDI!$G$17,IF(AND(#REF!=\"Diferenciado\",$H$4=#REF!),BDI!$H$17,IF(#REF!=\"ZERO\",0))))),\"\")","v":{"$error":"#REF!"}},{"$error":"#REF!"},{"$error":"#REF!"}]
["SF-00019","Remoção de canaleta em alumínio","m",0,{"$f":"OFFSET(INDEX(Composições!A:J,MATCH(Orçamentária!A24,Composições!A:A,0),8),2,0)","v":3.6565500000000002},0,{"$f":"IF(A24<>\"\",IF(AND(#REF!=\"Padrão\",$H$4=#REF!),BDI!$B$17,IF(AND(#REF!=\"Padrão\",$H$4=#REF!),BDI!$C$17,IF(AND(#REF!=\"Diferenciado\",$H$4=#REF!),BDI!$G$17,IF(AND(#REF!=\"Diferenciado\",$H$4=#REF!),BDI!$H$17,IF(#REF!=\"ZERO\",0))))),\"\")","v":{"$error":"#REF!"}},{"$error":"#REF!"},{"$error":"#REF!"}]
["SF-00020","Remoção de carpete","m2",0,{"$f":"OFFSET(INDEX(Composições!A:J,MATCH(Orçamentária!A25,Composições!A:A,0),8),2,0)","v":1.65015},0,{"$f":"IF(A25<>\"\",IF(AND(#REF!=\"Padrão\",$H$4=#REF!),BDI!$B$17,IF(AND(#REF!=\"Padrão\",$H$4=#REF!),BDI!$C$17,IF(AND(#REF!=\"Diferenciado\",$H$4=#REF!),BDI!$G$17,IF(AND(#REF!=\"Diferenciado\",$H$4=#REF!),BDI!$H$17,IF(#REF!=\"ZERO\",0))))),\"\")","v":{"$error":"#REF!"}},{"$error":"#REF!"},{"$error":"#REF!"}]
["SF-00021","Remoção de cortinas","m",0,{"$f":"OFFSET(INDEX(Composições!A:J,MATCH(Orçamentária!A26,Composições!A:A,0),8),2,0)","v":2.8648228499999995},0,{"$f":"IF(A26<>\"\",IF(AND(#REF!=\"Padrão\",$H$4=#REF!),BDI!$B$17,IF(AND(#REF!=\"Padrão\",$H$4=#REF!),BDI!$C$17,IF(AND(#REF!=\"Diferenciado\",$H$4=#REF!),BDI!$G$17,IF(AND(#REF!=\"Diferenciado\",$H$4=#REF!),BDI!$H$17,IF(#REF!=\"ZERO\",0))))),\"\")","v":{"$error":"#REF!"}},{"$error":"#REF!"},{"$error":"#REF!"}]
["SF-00022","Remoção de difusores, grelhas e acessórios de climatização","un",0,{"$f":"OFFSET(INDEX(Composições!A:J,MATCH(Orçamentária!A27,Composições!A:A,0),8),2,0)","v":18.046199999999999},0,{"$f":"IF(A27<>\"\",IF(AND(#REF!=\"Padrão\",$H$4=#REF!),BDI!$B$17,IF(AND(#REF!=\"Padrão\",$H$4=#REF!),BDI!$C$17,IF(AND(#REF!=\"Diferenciado\",$H$4=#REF!),BDI!$G$17,IF(AND(#REF!=\"Diferenciado\",$H$4=#REF!),BDI!$H$17,IF(#REF!=\"ZERO\",0))))),\"\")","v":{"$error":"#REF!"}},{"$error":"#REF!"},{"$error":"#REF!"}]
["SF-00023","Remoção de divisória de mármore ou granito","m2",0,{"$f":"OFFSET(INDEX(Composições!A:J,MATCH(Orçamentária!A28,Composições!A:A,0),8),2,0)","v":27.263100000000001},0,{"$f":"IF(A28<>\"\",IF(AND(#REF!=\"Padrão\",$H$4=#REF!),BDI!$B$17,IF(AND(#REF!=\"Padrão\",$H$4=#REF!),BDI!$C$17,IF(AND(#REF!=\"Diferenciado\",$H$4=#REF!),BDI!$G$17,IF(AND(#REF!=\"Diferenciado\",$H$4=#REF!),BDI!$H$17,IF(#REF!=\"ZERO\",0))))),\"\")","v":{"$error":"#REF!"}},{"$error":"#REF!"},{"$error":"#REF!"}]
["SF-00024","Remoção de divisórias de MDF e gesso acartonado","m2",0,{"$f":"OFFSET(INDEX(Composições!A:J,MATCH(Orçamentária!A29,Composições!A:A,0),8),2,0)","v":23.244599999999998},0,{"$f":"IF(A29<>\"\",IF(AND(#REF!=\"Padrão\",$H$4=#REF!),BDI!$B$17,IF(AND(#REF!=\"Padrão\",$H$4=#REF!),BDI!$C$17,IF(AND(#REF!=\"Diferenciado\",$H$4=#REF!),BDI!$G$17,IF(AND(#REF!=\"Diferenciado\",$H$4=#REF!),BDI!$H$17,IF(#REF!=\"ZERO\",0))))),\"\")","v":{"$error":"#REF!"}},{"$error":"#REF!"},{"$error":"#REF!"}]
["SF-00025","Remoção de dutos/tubulações","m",0,{"$f":"OFFSET(INDEX(Composições!A:J,MATCH(Orçamentária!A30,Composições!A:A,0),8),2,0)","v":7.7028374999999993},0,{"$f":"IF(A30<>\"\",IF(AND(#REF!=\"Padrão\",$H$4=#REF!),BDI!$B$17,IF(AND(#REF!=\"Padrão\",$H$4=#REF!),BDI!$C$17,IF(AND(#REF!=\"Diferenciado\",$H$4=#REF!),BDI!$G$17,IF(AND(#REF!=\"Diferenciado\",$H$4=#REF!),BDI!$H$17,IF(#REF!=\"ZERO\",0))))),\"\")","v":{"$error":"#REF!"}},{"$error":"#REF!"},{"$error":"#REF!"}]
["SF-00026","Remoção de esquadrias metálicas","m2",0,{"$f":"OFFSET(INDEX(Composições!A:J,MATCH(Orçamentária!A31,Composições!A:A,0),8),2,0)","v":8.25075},0,{"$f":"IF(A31<>\"\",IF(AND(#REF!=\"Padrão\",$H$4=#REF!),BDI!$B$17,IF(AND(#REF!=\"Padrão\",$H$4=#REF!),BDI!$C$17,IF(AND(#REF!=\"Diferenciado\",$H$4=#REF!),BDI!$G$17,IF(AND(#REF!=\"Diferenciado\",$H$4=#REF!),BDI!$H$17,IF(#REF!=\"ZERO\",0))))),\"\")","v":{"$error":"#REF!"}},{"$error":"#REF!"},{"$error":"#REF!"}]
["SF-00027","Remoção de exaustor","un",0,{"$f":"OFFSET(INDEX(Composições!A:J,MATCH(Orçamentária!A32,Composições!A:A,0),8),2,0)","v":5.8937999999999988},0,{"$f":"IF(A32<>\"\",IF(AND(#REF!=\"Padrão\",$H$4=#REF!),BDI!$B$17,IF(AND(#REF!=\"Padrão\",$H$4=#REF!),BDI!$C$17,IF(AND(#REF!=\"Diferenciado\",$H$4=#REF!),BDI!$G$17,IF(AND(#REF!=\"Diferenciado\",$H$4=#REF!),BDI!$H$17,IF(#REF!=\"ZERO\",0))))),\"\")","v":{"$error":"#REF!"}},{"$error":"#REF!"},{"$error":"#REF!"}]
["SF-00028","Remoção de fechadura/puxador de porta","un",0,{"$f":"OFFSET(INDEX(Composições!A:J,MATCH(Orçamentária!A33,Composições!A:A,0),8),2,0)","v":4.842625},0,{"$f":"IF(A33<>\"\",IF(AND(#REF!=\"Padrão\",$H$4=#REF!),BDI!$B$17,IF(AND(#REF!=\"Padrão\",$H$4=#REF!),BDI!$C$17,IF(AND(#REF!=\"Diferenciado\",$H$4=#REF!),BDI!$G$17,IF(AND(#REF!=\"Diferenciado\",$H$4=#REF!),BDI!$H$17,IF(#REF!=\"ZERO\",0))))),\"\")","v":{"$error":"#REF!"}},{"$error":"#REF!"},{"$error":"#REF!"}]
["SF-00029","Remoção de folha de porta e dobradiças","un",0,{"$f":"OFFSET(INDEX(Composições!A:J,MATCH(Orçamentária!A34,Composições!A:A,0),8),2,0)","v":6.3188052999999993},0,{"$f":"IF(A34<>\"\",IF(AND(#REF!=\"Padrão\",$H$4=#REF!),BDI!$B$17,IF(AND(#REF!=\"Padrão\",$H$4=#REF!),BDI!$C$17,IF(AND(#REF!=\"Diferenciado\",$H$4=#REF!),BDI!$G$17,IF(AND(#REF!=\"Diferenciado\",$H$4=#REF!),BDI!$H$17,IF(#REF!=\"ZERO\",0))))),\"\")","v":{"$error":"#REF!"}},{"$error":"#REF!"},{"$error":"#REF!"}]
["SF-00030","Remoção de laminado melamínico (LDAP), em PVC ou vinílico","m2",0,{"$f":"OFFSET(INDEX(Composições!A:J,MATCH(Orçamentária!A35,Composições!A:A,0),8),2,0)","v":14.85135},0,{"$f":"IF(A35<>\"\",IF(AND(#REF!=\"Padrão\",$H$4=#REF!),BDI!$B$17,IF(AND(#REF!=\"Padrão\",$H$4=#REF!),BDI!$C$17,IF(AND(#REF!=\"Diferenciado\",$H$4=#REF!),BDI!$G$17,IF(AND(#REF!=\"Diferenciado\",$H$4=#REF!),BDI!$H$17,IF(#REF!=\"ZERO\",0))))),\"\")","v":{"$error":"#REF!"}},{"$error":"#REF!"},{"$error":"#REF!"}]
["SF-00031","Remoção de louças","un",0,{"$f":"OFFSET(INDEX(Composições!A:J,MATCH(Orçamentária!A36,Composições!A:A,0),8),2,0)","v":8.3643899499999996},0,{"$f":"IF(A36<>\"\",IF(AND(#REF!=\"Padrão\",$H$4=#REF!),BDI!$B$17,IF(AND(#REF!=\"Padrão\",$H$4=#REF!),BDI!$C$17,IF(AND(#REF!=\"Diferenciado\",$H$4=#REF!),BDI!$G$17,IF(AND(#REF!=\"Diferenciado\",$H$4=#REF!),BDI!$H$17,IF(#REF!=\"ZERO\",0))))),\"\")","v":{"$error":"#REF!"}},{"$error":"#REF!"},{"$error":"#REF!"}]
["SF-00032","Remoção de luminária","un",0,{"$f":"OFFSET(INDEX(Composições!A:J,MATCH(Orçamentária!A37,Composições!A:A,0),8),2,0)","v":4.4100519999999994},0,{"$f":"IF(A37<>\"\",IF(AND(#REF!=\"Padrão\",$H$4=#REF!),BDI!$B$17,IF(AND(#REF!=\"Padrão\",$H$4=#REF!),BDI!$C$17,IF(AND(#REF!=\"Diferenciado\",$H$4=#REF!),BDI!$G$17,IF(AND(#REF!=\"Diferenciado\",$H$4=#REF!),BDI!$H$17,IF(#REF!=\"ZERO\",0))))),\"\")","v":{"$error":"#REF!"}},{"$error":"#REF!"},{"$error":"#REF!"}]
["SF-00033","Remoção de metais e acessórios","un",0,{"$f":"OFFSET(INDEX(Composições!A:J,MATCH(Orçamentária!A38,Composições!A:A,0),8),2,0)","v":6.0993876},0,{"$f":"IF(A38<>\"\",IF(AND(#REF!=\"Padrão\",$H$4=#REF!),BDI!$B$17,IF(AND(#REF!=\"Padrão\",$H$4=#REF!),BDI!$C$17,IF(AND(#REF!=\"Diferenciado\",$H$4=#REF!),BDI!$G$17,IF(AND(#REF!=\"Diferenciado\",$H$4=#REF!),BDI!$H$17,IF(#REF!=\"ZERO\",0))))),\"\")","v":{"$error":"#REF!"}},{"$error":"#REF!"},{"$error":"#REF!"}]
["SF-00034","Remoção de painéis de vidro temperado","m2",0,{"$f":"OFFSET(INDEX(Composições!A:J,MATCH(Orçamentária!A39,Composições!A:A,0),8),2,0)","v":11.910149999999998},0,{"$f":"IF(A39<>\"\",IF(AND(#REF!=\"Padrão\",$H$4=#REF!),BDI!$B$17,IF(AND(#REF!=\"Padrão\",$H$4=#REF!),BDI!$C$17,IF(AND(#REF!=\"Diferenciado\",$H$4=#REF!),BDI!$G$17,IF(AND(#REF!=\"Diferenciado\",$H$4=#REF!),BDI!$H$17,IF(#REF!=\"ZERO\",0))))),\"\")","v":{"$error":"#REF!"}},{"$error":"#REF!"},{"$error":"#REF!"}]
["SF-00035","Remoção de película","m2",0,{"$f":"OFFSET(INDEX(Composições!A:J,MATCH(Orçamentária!A40,Composições!A:A,0),8),2,0)","v":7.258},0,{"$f":"IF(A40<>\"\",IF(AND(#REF!=\"Padrão\",$H$4=#REF!),BDI!$B$17,IF(AND(#REF!=\"Padrão\",$H$4=#REF!),BDI!$C$17,IF(AND(#REF!=\"Diferenciado\",$H$4=#REF!),BDI!$G$17,IF(AND(#REF!=\"Diferenciado\",$H$4=#REF!),BDI!$H$17,IF(#REF!=\"ZERO\",0))))),\"\")","v":{"$error":"#REF!"}},{"$error":"#REF!"},{"$error":"#REF!"}]
["SF-00036","Remoção de persianas","m",0,{"$f":"OFFSET(INDEX(Composições!A:J,MATCH(Orçamentária!A41,Composições!A:A,0),8),2,0)","v":2.8648228499999995},0,{"$f":"IF(A41<>\"\",IF(AND(#REF!=\"Padrão\",$H$4=#REF!),BDI!$B$17,IF(AND(#REF!=\"Padrão\",$H$4=#REF!),BDI!$C$17,IF(AND(#REF!=\"Diferenciado\",$H$4=#REF!),BDI!$G$17,IF(AND(#REF!=\"Diferenciado\",$H$4=#REF!),BDI!$H$17,IF(#REF!=\"ZERO\",0))))),\"\")","v":{"$error":"#REF!"}},{"$error":"#REF!"},{"$error":"#REF!"}]
["SF-00037","Remoção de pintura ou textura","m2",0,{"$f":"OFFSET(INDEX(Composições!A:J,MATCH(Orçamentária!A42,Composições!A:A,0),8),2,0)","v":5.8216000000000001},0,{"$f":"IF(A42<>\"\",IF(AND(#REF!=\"Padrão\",$H$4=#REF!),BDI!$B$17,IF(AND(#REF!=\"Padrão\",$H$4=#REF!),BDI!$C$17,IF(AND(#REF!=\"Diferenciado\",$H$4=#REF!),BDI!$G$17,IF(AND(#REF!=\"Diferenciado\",$H$4=#REF!),BDI!$H$17,IF(#REF!=\"ZERO\",0))))),\"\")","v":{"$error":"#REF!"}},{"$error":"#REF!"},{"$error":"#REF!"}]
["SF-00038","Remoção de placas de forro","m2",0,{"$f":"OFFSET(INDEX(Composições!A:J,MATCH(Orçamentária!A43,Composições!A:A,0),8),2,0)","v":3.3717608999999999},0,{"$f":"IF(A43<>\"\",IF(AND(#REF!=\"Padrão\",$H$4=#REF!),BDI!$B$17,IF(AND(#REF!=\"Padrão\",$H$4=#REF!),BDI!$C$17,IF(AND(#REF!=\"Diferenciado\",$H$4=#REF!),BDI!$G$17,IF(AND(#REF!=\"Diferenciado\",$H$4=#REF!),BDI!$H$17,IF(#REF!=\"ZERO\",0))))),\"\")","v":{"$error":"#REF!"}},{"$error":"#REF!"},{"$error":"#REF!"}]
["SF-00039","Remoção de quadros de elétricos ou de telecomunicações","un",0,{"$f":"OFFSET(INDEX(Composições!A:J,MATCH(Orçamentária!A44,Composições!A:A,0),8),2,0)","v":51.575499999999998},0,{"$f":"IF(A44<>\"\",IF(AND(#REF!=\"Padrão\",$H$4=#REF!),BDI!$B$17,IF(AND(#REF!=\"Padrão\",$H$4=#REF!),BDI!$C$17,IF(AND(#REF!=\"Diferenciado\",$H$4=#REF!),BDI!$G$17,IF(AND(#REF!=\"Diferenciado\",$H$4=#REF!),BDI!$H$17,IF(#REF!=\"ZERO\",0))))),\"\")","v":{"$error":"#REF!"}},{"$error":"#REF!"},{"$error":"#REF!"}]
["SF-00040","Remoção de revestimento acústico","m2",0,{"$f":"OFFSET(INDEX(Composições!A:J,MATCH(Orçamentária!A45,Composições!A:A,0),8),2,0)","v":2.9108000000000001},0,{"$f":"IF(A45<>\"\",IF(AND(#REF!=\"Padrão\",$H$4=#REF!),BDI!$B$17,IF(AND(#REF!=\"Padrão\",$H$4=#REF!),BDI!$C$17,IF(AND(#REF!=\"Diferenciado\",$H$4=#REF!),BDI!$G$17,IF(AND(#REF!=\"Diferenciado\",$H$4=#REF!),BDI!$H$17,IF(#REF!=\"ZERO\",0))))),\"\")","v":{"$error":"#REF!"}},{"$error":"#REF!"},{"$error":"#REF!"}]
["SF-00041","Remoção de rodapé/rodabanca de mármore ou granito","m",0,{"$f":"OFFSET(INDEX(Composições!A:J,MATCH(Orçamentária!A46,Composições!A:A,0),8),2,0)","v":1.2720196000000001},0,{"$f":"IF(A46<>\"\",IF(AND(#REF!=\"Padrão\",$H$4=#REF!),BDI!$B$17,IF(AND(#REF!=\"Padrão\",$H$4=#REF!),BDI!$C$17,IF(AND(#REF!=\"Diferenciado\",$H$4=#REF!),BDI!$G$17,IF(AND(#REF!=\"Diferenciado\",$H$4=#REF!),BDI!$H$17,IF(#REF!=\"ZERO\",0))))),\"\")","v":{"$error":"#REF!"}},{"$error":"#REF!"},{"$error":"#REF!"}]
["SF-00042","Remoção de rodapés de madeira","m2",0,{"$f":"OFFSET(INDEX(Composições!A:J,MATCH(Orçamentária!A47,Composições!A:A,0),8),2,0)","v":5.1993499999999999},0,{"$f":"IF(A47<>\"\",IF(AND(#REF!=\"Padrão\",$H$4=#REF!),BDI!$B$17,IF(AND(#REF!=\"Padrão\",$H$4=#REF!),BDI!$C$17,IF(AND(#REF!=\"Diferenciado\",$H$4=#REF!),BDI!$G$17,IF(AND(#REF!=\"Diferenciado\",$H$4=#REF!),BDI!$H$17,IF(#REF!=\"ZERO\",0))))),\"\")","v":{"$error":"#REF!"}},{"$error":"#REF!"},{"$error":"#REF!"}]
["SF-00043","Remoção de soleira de mármore ou granito","m",0,{"$f":"OFFSET(INDEX(Composições!A:J,MATCH(Orçamentária!A48,Composições!A:A,0),8),2,0)","v":8.0047000000000015},0,{"$f":"IF(A48<>\"\",IF(AND(#REF!=\"Padrão\",$H$4=#REF!),BDI!$B$17,IF(AND(#REF!=\"Padrão\",$H$4=#REF!),BDI!$C$17,IF(AND(#REF!=\"Diferenciado\",$H$4=#REF!),BDI!$G$17,IF(AND(#REF!=\"Diferenciado\",$H$4=#REF!),BDI!$H$17,IF(#REF!=\"ZERO\",0))))),\"\")","v":{"$error":"#REF!"}},{"$error":"#REF!"},{"$error":"#REF!"}]
["SF-00044","Remoção de split/fancolete/ACJ (equipamento unitário)","un",0,{"$f":"OFFSET(INDEX(Composições!A:J,MATCH(Orçamentária!A49,Composições!A:A,0),8),2,0)","v":35.852999999999994},0,{"$f":"IF(A49<>\"\",IF(AND(#REF!=\"Padrão\",$H$4=#REF!),BDI!$B$17,IF(AND(#REF!=\"Padrão\",$H$4=#REF!),BDI!$C$17,IF(AND(#REF!=\"Diferenciado\",$H$4=#REF!),BDI!$G$17,IF(AND(#REF!=\"Diferenciado\",$H$4=#REF!),BDI!$H$17,IF(#REF!=\"ZERO\",0))))),\"\")","v":{"$error":"#REF!"}},{"$error":"#REF!"},{"$error":"#REF!"}]
["SF-00045","Remoção de vidro comum / espelho","m2",0,{"$f":"OFFSET(INDEX(Composições!A:J,MATCH(Orçamentária!A50,Composições!A:A,0),8),2,0)","v":11.9833},0,{"$f":"IF(A50<>\"\",IF(AND(#REF!=\"Padrão\",$H$4=#REF!),BDI!$B$17,IF(AND(#REF!=\"Padrão\",$H$4=#REF!),BDI!$C$17,IF(AND(#REF!=\"Diferenciado\",$H$4=#REF!),BDI!$G$17,IF(AND(#REF!=\"Diferenciado\",$H$4=#REF!),BDI!$H$17,IF(#REF!=\"ZERO\",0))))),\"\")","v":{"$error":"#REF!"}},{"$error":"#REF!"},{"$error":"#REF!"}]
["SF-00046","Retirada de entulhos","m3",0,{"$f":"OFFSET(INDEX(Composições!A:J,MATCH(Orçamentária!A51,Composições!A:A,0),8),2,0)","v":14.554},0,{"$f":"IF(A51<>\"\",IF(AND(#REF!=\"Padrão\",$H$4=#REF!),BDI!$B$17,IF(AND(#REF!=\"Padrão\",$H$4=#REF!),BDI!$C$17,IF(AND(#REF!=\"Diferenciado\",$H$4=#REF!),BDI!$G$17,IF(AND(#REF!=\"Diferenciado\",$H$4=#REF!),BDI!$H$17,IF(#REF!=\"ZERO\",0))))),\"\")","v":{"$error":"#REF!"}},{"$error":"#REF!"},{"$error":"#REF!"}]
["SF-00047","Absorvedor de energia para linha de vida","un",0,"","",{"$f":"IF(A52<>\"\",IF(AND(#REF!=\"Padrão\",$H$4=#REF!),BDI!$B$17,IF(AND(#REF!=\"Padrão\",$H$4=#REF!),BDI!$C$17,IF(AND(#REF!=\"Diferenciado\",$H$4=#REF!),BDI!$G$17,IF(AND(#REF!=\"Diferenciado\",$H$4=#REF!),BDI!$H$17,IF(#REF!=\"ZERO\",0))))),\"\")","v":{"$error":"#REF!"}},"",""]
["SF-00048","Andaime fachadeiro","m2 x mês",809.75,{"$f":"OFFSET(INDEX(Composições!A:J,MATCH(Orçamentária!A53,Composições!A:A,0),8),2,0)","v":3.7905000000000002},3069.357375,{"$f":"BDI!$C$17","v":0.25},4.74,3838.22]
["SF-00049","Andaime tubular (aluguel/mês)","m x mês",0,{"$f":"OFFSET(INDEX(Composições!A:J,MATCH(Orçamentária!A54,Composições!A:A,0),8),2,0)","v":11.399999999999999},0,{"$f":"IF(A54<>\"\",IF(AND(#REF!=\"Padrão\",$H$4=#REF!),BDI!$B$17,IF(AND(#REF!=\"Padrão\",$H$4=#REF!),BDI!$C$17,IF(AND(#REF!=\"Diferenciado\",$H$4=#REF!),BDI!$G$17,IF(AND(#REF!=\"Diferenciado\",$H$4=#REF!),BDI!$H$17,IF(#REF!=\"ZERO\",0))))),\"\")","v":{"$error":"#REF!"}},{"$error":"#REF!"},{"$error":"#REF!"}]
["SF-00050","Cabo de aço com 8 mm de diâmetro galvanizado para linha de vida","m",200,21,4200,{"$f":"BDI!$C$17","v":0.25},26.25,5250]
["SF-00051","Corda de poliamida 12 mm tipo bombeiro, para trabalho em altura","m",440,{"$f":"OFFSET(INDEX(Composições!A:J,MATCH(Orçamentária!A56,Composições!A:A,0),8),2,0)","v":4.4197800000000003},1944.7032000000002,{"$f":"BDI!$C$17","v":0.25},5.52,2428.8000000000002]
["SF-00052","Ensaio de ponto de ancoragem existente","un",28,264.64,7409.92,{"$f":"BDI!$H$17","v":0.1671},308.86,8648.08]
["SF-00053","Escadas de acesso para andaime tubular","m x mês",0,"","",{"$f":"IF(A58<>\"\",IF(AND(#REF!=\"Padrão\",$H$4=#REF!),BDI!$B$17,IF(AND(#REF!=\"Padrão\",$H$4=#REF!),BDI!$C$17,IF(AND(#REF!=\"Diferenciado\",$H$4=#REF!),BDI!$G$17,IF(AND(#REF!=\"Diferenciado\",$H$4=#REF!),BDI!$H$17,IF(#REF!=\"ZERO\",0))))),\"\")","v":{"$error":"#REF!"}},"",""]
["SF-00054","Esticador de cabo de aço","un",0,"","",{"$f":"IF(A59<>\"\",IF(AND(#REF!=\"Padrão\",$H$4=#REF!),BDI!$B$17,IF(AND(#REF!=\"Padrão\",$H$4=#REF!),BDI!$C$17,IF(AND(#REF!=\"Diferenciado\",$H$4=#REF!),BDI!$G$17,IF(AND(#REF!=\"Diferenciado\",$H$4=#REF!),BDI!$H$17,IF(#REF!=\"ZERO\",0))))),\"\")","v":{"$error":"#REF!"}},"",""]
["SF-00055","Guarda-corpo com rodapé para andaime tubular","m x mês",0,"","",{"$f":"IF(A60<>\"\",IF(AND(#REF!=\"Padrão\",$H$4=#REF!),BDI!$B$17,IF(AND(#REF!=\"Padrão\",$H$4=#REF!),BDI!$C$17,IF(AND(#REF!=\"Diferenciado\",$H$4=#REF!),BDI!$G$17,IF(AND(#REF!=\"Diferenciado\",$H$4=#REF!),BDI!$H$17,IF(#REF!=\"ZERO\",0))))),\"\")","v":{"$error":"#REF!"}},"",""]
["SF-00056","Indicador de tensão","un",0,"","",{"$f":"IF(A61<>\"\",IF(AND(#REF!=\"Padrão\",$H$4=#REF!),BDI!$B$17,IF(AND(#REF!=\"Padrão\",$H$4=#REF!),BDI!$C$17,IF(AND(#REF!=\"Diferenciado\",$H$4=#REF!),BDI!$G$17,IF(AND(#REF!=\"Diferenciado\",$H$4=#REF!),BDI!$H$17,IF(#REF!=\"ZERO\",0))))),\"\")","v":{"$error":"#REF!"}},"",""]
["SF-00057","Isolamento de obra com tela plástica com malha de 5mm e estrutura de madeira pontaleteada","m2",150,{"$f":"OFFSET(INDEX(Composições!A:J,MATCH(Orçamentária!A62,Composições!A:A,0),8),2,0)","v":16.712874999999997},2506.9312499999996,{"$f":"BDI!$C$17","v":0.25},20.89,3133.5]
["SF-00058","Suporte intermediário curvo para linha de vida","un",0,"","",{"$f":"IF(A63<>\"\",IF(AND(#REF!=\"Padrão\",$H$4=#REF!),BDI!$B$17,IF(AND(#REF!=\"Padrão\",$H$4=#REF!),BDI!$C$17,IF(AND(#REF!=\"Diferenciado\",$H$4=#REF!),BDI!$G$17,IF(AND(#REF!=\"Diferenciado\",$H$4=#REF!),BDI!$H$17,IF(#REF!=\"ZERO\",0))))),\"\")","v":{"$error":"#REF!"}},"",""]
["SF-00059","Kit de linha de vida para escada de marinheiro","un",0,"","",{"$f":"IF(A64<>\"\",IF(AND(#REF!=\"Padrão\",$H$4=#REF!),BDI!$B$17,IF(AND(#REF!=\"Padrão\",$H$4=#REF!),BDI!$C$17,IF(AND(#REF!=\"Diferenciado\",$H$4=#REF!),BDI!$G$17,IF(AND(#REF!=\"Diferenciado\",$H$4=#REF!),BDI!$H$17,IF(#REF!=\"ZERO\",0))))),\"\")","v":{"$error":"#REF!"}},"",""]
["SF-00060","Kit para montagem de dois olhais","un",6,250.53,1503.18,{"$f":"BDI!$C$17","v":0.25},313.16000000000003,1878.96]
["SF-00061","Manilha com travamento por porca e cupilha","un",0,"","",{"$f":"IF(A66<>\"\",IF(AND(#REF!=\"Padrão\",$H$4=#REF!),BDI!$B$17,IF(AND(#REF!=\"Padrão\",$H$4=#REF!),BDI!$C$17,IF(AND(#REF!=\"Diferenciado\",$H$4=#REF!),BDI!$G$17,IF(AND(#REF!=\"Diferenciado\",$H$4=#REF!),BDI!$H$17,IF(#REF!=\"ZERO\",0))))),\"\")","v":{"$error":"#REF!"}},"",""]
["SF-00062","Pilar de ancoragem para linha de vida","un",0,"","",{"$f":"IF(A67<>\"\",IF(AND(#REF!=\"Padrão\",$H$4=#REF!),BDI!$B$17,IF(AND(#REF!=\"Padrão\",$H$4=#REF!),BDI!$C$17,IF(AND(#REF!=\"Diferenciado\",$H$4=#REF!),BDI!$G$17,IF(AND(#REF!=\"Diferenciado\",$H$4=#REF!),BDI!$H$17,IF(#REF!=\"ZERO\",0))))),\"\")","v":{"$error":"#REF!"}},"",""]
["SF-00063","Piso metálico para andaime tubular","m2 x mês",0,"","",{"$f":"IF(A68<>\"\",IF(AND(#REF!=\"Padrão\",$H$4=#REF!),BDI!$B$17,IF(AND(#REF!=\"Padrão\",$H$4=#REF!),BDI!$C$17,IF(AND(#REF!=\"Diferenciado\",$H$4=#REF!),BDI!$G$17,IF(AND(#REF!=\"Diferenciado\",$H$4=#REF!),BDI!$H$17,IF(#REF!=\"ZERO\",0))))),\"\")","v":{"$error":"#REF!"}},"",""]
["SF-00064","Placa de ancoragem para extremidade","un",0,"","",{"$f":"IF(A69<>\"\",IF(AND(#REF!=\"Padrão\",$H$4=#REF!),BDI!$B$17,IF(AND(#REF!=\"Padrão\",$H$4=#REF!),BDI!$C$17,IF(AND(#REF!=\"Diferenciado\",$H$4=#REF!),BDI!$G$17,IF(AND(#REF!=\"Diferenciado\",$H$4=#REF!),BDI!$H$17,IF(#REF!=\"ZERO\",0))))),\"\")","v":{"$error":"#REF!"}},"",""]
["SF-00065","Placa de ancoragem para montagem no pilar","un",0,"","",{"$f":"IF(A70<>\"\",IF(AND(#REF!=\"Padrão\",$H$4=#REF!),BDI!$B$17,IF(AND(#REF!=\"Padrão\",$H$4=#REF!),BDI!$C$17,IF(AND(#REF!=\"Diferenciado\",$H$4=#REF!),BDI!$G$17,IF(AND(#REF!=\"Diferenciado\",$H$4=#REF!),BDI!$H$17,IF(#REF!=\"ZERO\",0))))),\"\")","v":{"$error":"#REF!"}},"",""]
["SF-00066","Ponto de ancoragem","un",15,378.79,{"$f":"IF(ISNUMBER(E71),D71*E71,\"\")","v":5681.85},{"$f":"BDI!$H$17","v":0.1671},{"$f":"IF(ISNUMBER(E71),ROUND(E71*(1+G71),2),\"\")","v":442.09},{"$f":"IF(ISNUMBER(E71),ROUND(H71*D71,2),\"\")","v":6631.35}]
["SF-00067","Sapatas e rodízios para andaime tubular","conj x mês",0,"","",{"$f":"IF(A72<>\"\",IF(AND(#REF!=\"Padrão\",$H$4=#REF!),BDI!$B$17,IF(AND(#REF!=\"Padrão\",$H$4=#REF!),BDI!$C$17,IF(AND(#REF!=\"Diferenciado\",$H$4=#REF!),BDI!$G$17,IF(AND(#REF!=\"Diferenciado\",$H$4=#REF!),BDI!$H$17,IF(#REF!=\"ZERO\",0))))),\"\")","v":{"$error":"#REF!"}},"",""]
["SF-00068","Sistema Guarda-corpo-Rodapé (GcR) metálico","m x mês",140.66,11,1547.26,{"$f":"BDI!$C$17","v":0.25},13.75,1934.08]
["SF-00069","Suporte intermediário para linha de vida","un",0,"","",{"$f":"IF(A74<>\"\",IF(AND(#REF!=\"Padrão\",$H$4=#REF!),BDI!$B$17,IF(AND(#REF!=\"Padrão\",$H$4=#REF!),BDI!$C$17,IF(AND(#REF!=\"Diferenciado\",$H$4=#REF!),BDI!$G$17,IF(AND(#REF!=\"Diferenciado\",$H$4=#REF!),BDI!$H$17,IF(#REF!=\"ZERO\",0))))),\"\")","v":{"$error":"#REF!"}},"",""]
["SF-00070","Tapume","m2",0,{"$f":"OFFSET(INDEX(Composições!A:J,MATCH(Orçamentária!A75,Composições!A:A,0),8),2,0)","v":52.048998999999988},0,{"$f":"IF(A75<>\"\",IF(AND(#REF!=\"Padrão\",$H$4=#REF!),BDI!$B$17,IF(AND(#REF!=\"Padrão\",$H$4=#REF!),BDI!$C$17,IF(AND(#REF!=\"Diferenciado\",$H$4=#REF!),BDI!$G$17,IF(AND(#REF!=\"Diferenciado\",$H$4=#REF!),BDI!$H$17,IF(#REF!=\"ZERO\",0))))),\"\")","v":{"$error":"#REF!"}},{"$error":"#REF!"},{"$error":"#REF!"}]
["SF-00071","Trole para linha de vida horizontal","un",0,"","",{"$f":"IF(A76<>\"\",IF(AND(#REF!=\"Padrão\",$H$4=#REF!),BDI!$B$17,IF(AND(#REF!=\"Padrão\",$H$4=#REF!),BDI!$C$17,IF(AND(#REF!=\"Diferenciado\",$H$4=#REF!),BDI!$G$17,IF(AND(#REF!=\"Diferenciado\",$H$4=#REF!),BDI!$H$17,IF(#REF!=\"ZERO\",0))))),\"\")","v":{"$error":"#REF!"}},"",""]
["SF-00072","Trole para travaqueda retrátil","un",0,"","",{"$f":"IF(A77<>\"\",IF(AND(#REF!=\"Padrão\",$H$4=#REF!),BDI!$B$17,IF(AND(#REF!=\"Padrão\",$H$4=#REF!),BDI!$C$17,IF(AND(#REF!=\"Diferenciado\",$H$4=#REF!),BDI!$G$17,IF(AND(#REF!=\"Diferenciado\",$H$4=#REF!),BDI!$H$17,IF(#REF!=\"ZERO\",0))))),\"\")","v":{"$error":"#REF!"}},"",""]
["SF-00073","Limpeza final de obra","m2",0,{"$f":"OFFSET(INDEX(Composições!A:J,MATCH(Orçamentária!A78,Composições!A:A,0),8),2,0)","v":1.7755880000000002},0,{"$f":"IF(A78<>\"\",IF(AND(#REF!=\"Padrão\",$H$4=#REF!),BDI!$B$17,IF(AND(#REF!=\"Padrão\",$H$4=#REF!),BDI!$C$17,IF(AND(#REF!=\"Diferenciado\",$H$4=#REF!),BDI!$G$17,IF(AND(#REF!=\"Diferenciado\",$H$4=#REF!),BDI!$H$17,IF(#REF!=\"ZERO\",0))))),\"\")","v":{"$error":"#REF!"}},{"$error":"#REF!"},{"$error":"#REF!"}]
["SF-00074","Abertura/fechamento rasgo em alvenaria","m",0,{"$f":"OFFSET(INDEX(Composições!A:J,MATCH(Orçamentária!A79,Composições!A:A,0),8),2,0)","v":14.4834434013615},0,{"$f":"IF(A79<>\"\",IF(AND(#REF!=\"Padrão\",$H$4=#REF!),BDI!$B$17,IF(AND(#REF!=\"Padrão\",$H$4=#REF!),BDI!$C$17,IF(AND(#REF!=\"Diferenciado\",$H$4=#REF!),BDI!$G$17,IF(AND(#REF!=\"Diferenciado\",$H$4=#REF!),BDI!$H$17,IF(#REF!=\"ZERO\",0))))),\"\")","v":{"$error":"#REF!"}},{"$error":"#REF!"},{"$error":"#REF!"}]
["SF-00075","Furo em concreto de até 75mm de diâmetro","un",0,{"$f":"OFFSET(INDEX(Composições!A:J,MATCH(Orçamentária!A80,Composições!A:A,0),8),2,0)","v":72.377194000000003},0,{"$f":"IF(A80<>\"\",IF(AND(#REF!=\"Padrão\",$H$4=#REF!),BDI!$B$17,IF(AND(#REF!=\"Padrão\",$H$4=#REF!),BDI!$C$17,IF(AND(#REF!=\"Diferenciado\",$H$4=#REF!),BDI!$G$17,IF(AND(#REF!=\"Diferenciado\",$H$4=#REF!),BDI!$H$17,IF(#REF!=\"ZERO\",0))))),\"\")","v":{"$error":"#REF!"}},{"$error":"#REF!"},{"$error":"#REF!"}]
["SF-00076","Furo em concreto para diâmetros maiores que 75mm","un",0,{"$f":"OFFSET(INDEX(Composições!A:J,MATCH(Orçamentária!A81,Composições!A:A,0),8),2,0)","v":92.441345999999982},0,{"$f":"IF(A81<>\"\",IF(AND(#REF!=\"Padrão\",$H$4=#REF!),BDI!$B$17,IF(AND(#REF!=\"Padrão\",$H$4=#REF!),BDI!$C$17,IF(AND(#REF!=\"Diferenciado\",$H$4=#REF!),BDI!$G$17,IF(AND(#REF!=\"Diferenciado\",$H$4=#REF!),BDI!$H$17,IF(#REF!=\"ZERO\",0))))),\"\")","v":{"$error":"#REF!"}},{"$error":"#REF!"},{"$error":"#REF!"}]
["SF-00077","Concreto virado em betoneira, fck = 15 MPa","m3",0,{"$f":"OFFSET(INDEX(Composições!A:J,MATCH(Orçamentária!A82,Composições!A:A,0),8),2,0)","v":499.39892062680008},0,{"$f":"IF(A82<>\"\",IF(AND(#REF!=\"Padrão\",$H$4=#REF!),BDI!$B$17,IF(AND(#REF!=\"Padrão\",$H$4=#REF!),BDI!$C$17,IF(AND(#REF!=\"Diferenciado\",$H$4=#REF!),BDI!$G$17,IF(AND(#REF!=\"Diferenciado\",$H$4=#REF!),BDI!$H$17,IF(#REF!=\"ZERO\",0))))),\"\")","v":{"$error":"#REF!"}},{"$error":"#REF!"},{"$error":"#REF!"}]
["SF-00078","Concreto virado em betoneira, fck = 25MPa","m3",0,{"$f":"OFFSET(INDEX(Composições!A:J,MATCH(Orçamentária!A83,Composições!A:A,0),8),2,0)","v":529.96893928819998},0,{"$f":"IF(A83<>\"\",IF(AND(#REF!=\"Padrão\",$H$4=#REF!),BDI!$B$17,IF(AND(#REF!=\"Padrão\",$H$4=#REF!),BDI!$C$17,IF(AND(#REF!=\"Diferenciado\",$H$4=#REF!),BDI!$G$17,IF(AND(#REF!=\"Diferenciado\",$H$4=#REF!),BDI!$H$17,IF(#REF!=\"ZERO\",0))))),\"\")","v":{"$error":"#REF!"}},{"$error":"#REF!"},{"$error":"#REF!"}]
["SF-00079","Escoramento metálico","m2 x mês",0,{"$f":"OFFSET(INDEX(Composições!A:J,MATCH(Orçamentária!A84,Composições!A:A,0),8),2,0)","v":11.770975},0,{"$f":"IF(A84<>\"\",IF(AND(#REF!=\"Padrão\",$H$4=#REF!),BDI!$B$17,IF(AND(#REF!=\"Padrão\",$H$4=#REF!),BDI!$C$17,IF(AND(#REF!=\"Diferenciado\",$H$4=#REF!),BDI!$G$17,IF(AND(#REF!=\"Diferenciado\",$H$4=#REF!),BDI!$H$17,IF(#REF!=\"ZERO\",0))))),\"\")","v":{"$error":"#REF!"}},{"$error":"#REF!"},{"$error":"#REF!"}]
["SF-00080","Estrutura metálica em aço","kg",0,{"$f":"OFFSET(INDEX(Composições!A:J,MATCH(Orçamentária!A85,Composições!A:A,0),8),2,0)","v":10.052377499999999},0,{"$f":"IF(A85<>\"\",IF(AND(#REF!=\"Padrão\",$H$4=#REF!),BDI!$B$17,IF(AND(#REF!=\"Padrão\",$H$4=#REF!),BDI!$C$17,IF(AND(#REF!=\"Diferenciado\",$H$4=#REF!),BDI!$G$17,IF(AND(#REF!=\"Diferenciado\",$H$4=#REF!),BDI!$H$17,IF(#REF!=\"ZERO\",0))))),\"\")","v":{"$error":"#REF!"}},{"$error":"#REF!"},{"$error":"#REF!"}]
["SF-00081","Forma para estruturas de concreto","m2",0,{"$f":"OFFSET(INDEX(Composições!A:J,MATCH(Orçamentária!A86,Composições!A:A,0),8),2,0)","v":106.048458998},0,{"$f":"IF(A86<>\"\",IF(AND(#REF!=\"Padrão\",$H$4=#REF!),BDI!$B$17,IF(AND(#REF!=\"Padrão\",$H$4=#REF!),BDI!$C$17,IF(AND(#REF!=\"Diferenciado\",$H$4=#REF!),BDI!$G$17,IF(AND(#REF!=\"Diferenciado\",$H$4=#REF!),BDI!$H$17,IF(#REF!=\"ZERO\",0))))),\"\")","v":{"$error":"#REF!"}},{"$error":"#REF!"},{"$error":"#REF!"}]
["SF-00082","Verga/contraverga/cinta em bloco de concreto canaleta 11,5 x 19 x 39 cm","m",0,{"$f":"OFFSET(INDEX(Composições!A:J,MATCH(Orçamentária!A87,Composições!A:A,0),8),2,0)","v":17.722728628999999},0,{"$f":"IF(A87<>\"\",IF(AND(#REF!=\"Padrão\",$H$4=#REF!),BDI!$B$17,IF(AND(#REF!=\"Padrão\",$H$4=#REF!),BDI!$C$17,IF(AND(#REF!=\"Diferenciado\",$H$4=#REF!),BDI!$G$17,IF(AND(#REF!=\"Diferenciado\",$H$4=#REF!),BDI!$H$17,IF(#REF!=\"ZERO\",0))))),\"\")","v":{"$error":"#REF!"}},{"$error":"#REF!"},{"$error":"#REF!"}]
["SF-00083","Impermeabilização de superfície com revestimento bicomponente semi flexível","m2",0,{"$f":"OFFSET(INDEX(Composições!A:J,MATCH(Orçamentária!A88,Composições!A:A,0),8),2,0)","v":19.664733999999999},0,{"$f":"IF(A88<>\"\",IF(AND(#REF!=\"Padrão\",$H$4=#REF!),BDI!$B$17,IF(AND(#REF!=\"Padrão\",$H$4=#REF!),BDI!$C$17,IF(AND(#REF!=\"Diferenciado\",$H$4=#REF!),BDI!$G$17,IF(AND(#REF!=\"Diferenciado\",$H$4=#REF!),BDI!$H$17,IF(#REF!=\"ZERO\",0))))),\"\")","v":{"$error":"#REF!"}},{"$error":"#REF!"},{"$error":"#REF!"}]
["SF-00084","Alvenaria de vedação","m2",0,{"$f":"OFFSET(INDEX(Composições!A:J,MATCH(Orçamentária!A89,Composições!A:A,0),8),2,0)","v":61.080801412809201},0,{"$f":"IF(A89<>\"\",IF(AND(#REF!=\"Padrão\",$H$4=#REF!),BDI!$B$17,IF(AND(#REF!=\"Padrão\",$H$4=#REF!),BDI!$C$17,IF(AND(#REF!=\"Diferenciado\",$H$4=#REF!),BDI!$G$17,IF(AND(#REF!=\"Diferenciado\",$H$4=#REF!),BDI!$H$17,IF(#REF!=\"ZERO\",0))))),\"\")","v":{"$error":"#REF!"}},{"$error":"#REF!"},{"$error":"#REF!"}]
["SF-00085","Fechamento ou shaft em gesso acartonado tipo drywall","m2",0,{"$f":"OFFSET(INDEX(Composições!A:J,MATCH(Orçamentária!A90,Composições!A:A,0),8),2,0)","v":47.034074399999994},0,{"$f":"IF(A90<>\"\",IF(AND(#REF!=\"Padrão\",$H$4=#REF!),BDI!$B$17,IF(AND(#REF!=\"Padrão\",$H$4=#REF!),BDI!$C$17,IF(AND(#REF!=\"Diferenciado\",$H$4=#REF!),BDI!$G$17,IF(AND(#REF!=\"Diferenciado\",$H$4=#REF!),BDI!$H$17,IF(#REF!=\"ZERO\",0))))),\"\")","v":{"$error":"#REF!"}},{"$error":"#REF!"},{"$error":"#REF!"}]
["SF-00086","Fixação (encunhamento) de Alvenaria de Vedação","m",0,{"$f":"OFFSET(INDEX(Composições!A:J,MATCH(Orçamentária!A91,Composições!A:A,0),8),2,0)","v":20.629754802328399},0,{"$f":"IF(A91<>\"\",IF(AND(#REF!=\"Padrão\",$H$4=#REF!),BDI!$B$17,IF(AND(#REF!=\"Padrão\",$H$4=#REF!),BDI!$C$17,IF(AND(#REF!=\"Diferenciado\",$H$4=#REF!),BDI!$G$17,IF(AND(#REF!=\"Diferenciado\",$H$4=#REF!),BDI!$H$17,IF(#REF!=\"ZERO\",0))))),\"\")","v":{"$error":"#REF!"}},{"$error":"#REF!"},{"$error":"#REF!"}]
["SF-00087","Parede em gesso acartonado (drywall)","m2",0,{"$f":"OFFSET(INDEX(Composições!A:J,MATCH(Orçamentária!A92,Composições!A:A,0),8),2,0)","v":74.768960550000003},0,{"$f":"IF(A92<>\"\",IF(AND(#REF!=\"Padrão\",$H$4=#REF!),BDI!$B$17,IF(AND(#REF!=\"Padrão\",$H$4=#REF!),BDI!$C$17,IF(AND(#REF!=\"Diferenciado\",$H$4=#REF!),BDI!$G$17,IF(AND(#REF!=\"Diferenciado\",$H$4=#REF!),BDI!$H$17,IF(#REF!=\"ZERO\",0))))),\"\")","v":{"$error":"#REF!"}},{"$error":"#REF!"},{"$error":"#REF!"}]
["SF-00088","Reparos superficiais em painéis de gesso acartonado","m2",0,{"$f":"OFFSET(INDEX(Composições!A:J,MATCH(Orçamentária!A93,Composições!A:A,0),8),2,0)","v":5.0946333999999993},0,{"$f":"IF(A93<>\"\",IF(AND(#REF!=\"Padrão\",$H$4=#REF!),BDI!$B$17,IF(AND(#REF!=\"Padrão\",$H$4=#REF!),BDI!$C$17,IF(AND(#REF!=\"Diferenciado\",$H$4=#REF!),BDI!$G$17,IF(AND(#REF!=\"Diferenciado\",$H$4=#REF!),BDI!$H$17,IF(#REF!=\"ZERO\",0))))),\"\")","v":{"$error":"#REF!"}},{"$error":"#REF!"},{"$error":"#REF!"}]
["SF-00089","Sóculo h=10 cm","m2",0,{"$f":"OFFSET(INDEX(Composições!A:J,MATCH(Orçamentária!A94,Composições!A:A,0),8),2,0)","v":66.493610811331791},0,{"$f":"IF(A94<>\"\",IF(AND(#REF!=\"Padrão\",$H$4=#REF!),BDI!$B$17,IF(AND(#REF!=\"Padrão\",$H$4=#REF!),BDI!$C$17,IF(AND(#REF!=\"Diferenciado\",$H$4=#REF!),BDI!$G$17,IF(AND(#REF!=\"Diferenciado\",$H$4=#REF!),BDI!$H$17,IF(#REF!=\"ZERO\",0))))),\"\")","v":{"$error":"#REF!"}},{"$error":"#REF!"},{"$error":"#REF!"}]
["SF-00090","Chapisco colante industrializado em vigas e pilares","m2",0,{"$f":"OFFSET(INDEX(Composições!A:J,MATCH(Orçamentária!A95,Composições!A:A,0),8),2,0)","v":8.430643216},0,{"$f":"IF(A95<>\"\",IF(AND(#REF!=\"Padrão\",$H$4=#REF!),BDI!$B$17,IF(AND(#REF!=\"Padrão\",$H$4=#REF!),BDI!$C$17,IF(AND(#REF!=\"Diferenciado\",$H$4=#REF!),BDI!$G$17,IF(AND(#REF!=\"Diferenciado\",$H$4=#REF!),BDI!$H$17,IF(#REF!=\"ZERO\",0))))),\"\")","v":{"$error":"#REF!"}},{"$error":"#REF!"},{"$error":"#REF!"}]
["SF-00091","Chapisco com argamassa traço 1:3","m2",0,{"$f":"OFFSET(INDEX(Composições!A:J,MATCH(Orçamentária!A96,Composições!A:A,0),8),2,0)","v":3.5369389249361998},0,{"$f":"IF(A96<>\"\",IF(AND(#REF!=\"Padrão\",$H$4=#REF!),BDI!$B$17,IF(AND(#REF!=\"Padrão\",$H$4=#REF!),BDI!$C$17,IF(AND(#REF!=\"Diferenciado\",$H$4=#REF!),BDI!$G$17,IF(AND(#REF!=\"Diferenciado\",$H$4=#REF!),BDI!$H$17,IF(#REF!=\"ZERO\",0))))),\"\")","v":{"$error":"#REF!"}},{"$error":"#REF!"},{"$error":"#REF!"}]
["SF-00092","Gesso cola","m2",0,{"$f":"OFFSET(INDEX(Composições!A:J,MATCH(Orçamentária!A97,Composições!A:A,0),8),2,0)","v":8.9163199999999989},0,{"$f":"IF(A97<>\"\",IF(AND(#REF!=\"Padrão\",$H$4=#REF!),BDI!$B$17,IF(AND(#REF!=\"Padrão\",$H$4=#REF!),BDI!$C$17,IF(AND(#REF!=\"Diferenciado\",$H$4=#REF!),BDI!$G$17,IF(AND(#REF!=\"Diferenciado\",$H$4=#REF!),BDI!$H$17,IF(#REF!=\"ZERO\",0))))),\"\")","v":{"$error":"#REF!"}},{"$error":"#REF!"},{"$error":"#REF!"}]
["SF-00093","Reboco com argamassa industrializada e=2,0 cm","m2",165.34,{"$f":"OFFSET(INDEX(Composições!A:J,MATCH(Orçamentária!A98,Composições!A:A,0),8),2,0)","v":31.216179199999999},5161.2830689279999,{"$f":"BDI!$C$17","v":0.25},39.020000000000003,6451.57]
["SF-00094","Regularização com argamassa industrializada e=0,5 cm","m2",0,{"$f":"OFFSET(INDEX(Composições!A:J,MATCH(Orçamentária!A99,Composições!A:A,0),8),2,0)","v":10.6657127},0,{"$f":"IF(A99<>\"\",IF(AND(#REF!=\"Padrão\",$H$4=#REF!),BDI!$B$17,IF(AND(#REF!=\"Padrão\",$H$4=#REF!),BDI!$C$17,IF(AND(#REF!=\"Diferenciado\",$H$4=#REF!),BDI!$G$17,IF(AND(#REF!=\"Diferenciado\",$H$4=#REF!),BDI!$H$17,IF(#REF!=\"ZERO\",0))))),\"\")","v":{"$error":"#REF!"}},{"$error":"#REF!"},{"$error":"#REF!"}]
["SF-00095","Tratamento de trincas superficiais","m",0,{"$f":"OFFSET(INDEX(Composições!A:J,MATCH(Orçamentária!A100,Composições!A:A,0),8),2,0)","v":17.873349400000002},0,{"$f":"IF(A100<>\"\",IF(AND(#REF!=\"Padrão\",$H$4=#REF!),BDI!$B$17,IF(AND(#REF!=\"Padrão\",$H$4=#REF!),BDI!$C$17,IF(AND(#REF!=\"Diferenciado\",$H$4=#REF!),BDI!$G$17,IF(AND(#REF!=\"Diferenciado\",$H$4=#REF!),BDI!$H$17,IF(#REF!=\"ZERO\",0))))),\"\")","v":{"$error":"#REF!"}},{"$error":"#REF!"},{"$error":"#REF!"}]
["SF-00096","Aplicação de fundo selador base água","m2",0,{"$f":"OFFSET(INDEX(Composições!A:J,MATCH(Orçamentária!A101,Composições!A:A,0),8),2,0)","v":2.5680779999999999},0,{"$f":"IF(A101<>\"\",IF(AND(#REF!=\"Padrão\",$H$4=#REF!),BDI!$B$17,IF(AND(#REF!=\"Padrão\",$H$4=#REF!),BDI!$C$17,IF(AND(#REF!=\"Diferenciado\",$H$4=#REF!),BDI!$G$17,IF(AND(#REF!=\"Diferenciado\",$H$4=#REF!),BDI!$H$17,IF(#REF!=\"ZERO\",0))))),\"\")","v":{"$error":"#REF!"}},{"$error":"#REF!"},{"$error":"#REF!"}]
["SF-00097","Fundo anticorrosivo e de aderência (base água)","m2",0,{"$f":"OFFSET(INDEX(Composições!A:J,MATCH(Orçamentária!A102,Composições!A:A,0),8),2,0)","v":8.8194960000000009},0,{"$f":"IF(A102<>\"\",IF(AND(#REF!=\"Padrão\",$H$4=#REF!),BDI!$B$17,IF(AND(#REF!=\"Padrão\",$H$4=#REF!),BDI!$C$17,IF(AND(#REF!=\"Diferenciado\",$H$4=#REF!),BDI!$G$17,IF(AND(#REF!=\"Diferenciado\",$H$4=#REF!),BDI!$H$17,IF(#REF!=\"ZERO\",0))))),\"\")","v":{"$error":"#REF!"}},{"$error":"#REF!"},{"$error":"#REF!"}]
["SF-00098","Massa acrílica","m2",0,{"$f":"OFFSET(INDEX(Composições!A:J,MATCH(Orçamentária!A103,Composições!A:A,0),8),2,0)","v":15.4071},0,{"$f":"IF(A103<>\"\",IF(AND(#REF!=\"Padrão\",$H$4=#REF!),BDI!$B$17,IF(AND(#REF!=\"Padrão\",$H$4=#REF!),BDI!$C$17,IF(AND(#REF!=\"Diferenciado\",$H$4=#REF!),BDI!$G$17,IF(AND(#REF!=\"Diferenciado\",$H$4=#REF!),BDI!$H$17,IF(#REF!=\"ZERO\",0))))),\"\")","v":{"$error":"#REF!"}},{"$error":"#REF!"},{"$error":"#REF!"}]
["SF-00099","Massa corrida","m2",0,{"$f":"OFFSET(INDEX(Composições!A:J,MATCH(Orçamentária!A104,Composições!A:A,0),8),2,0)","v":11.768068},0,{"$f":"IF(A104<>\"\",IF(AND(#REF!=\"Padrão\",$H$4=#REF!),BDI!$B$17,IF(AND(#REF!=\"Padrão\",$H$4=#REF!),BDI!$C$17,IF(AND(#REF!=\"Diferenciado\",$H$4=#REF!),BDI!$G$17,IF(AND(#REF!=\"Diferenciado\",$H$4=#REF!),BDI!$H$17,IF(#REF!=\"ZERO\",0))))),\"\")","v":{"$error":"#REF!"}},{"$error":"#REF!"},{"$error":"#REF!"}]
["SF-00100","Pintura com tinta látex acrílica Premium (paredes)","m2",0,{"$f":"OFFSET(INDEX(Composições!A:J,MATCH(Orçamentária!A105,Composições!A:A,0),8),2,0)","v":11.387346000000001},0,{"$f":"IF(A105<>\"\",IF(AND(#REF!=\"Padrão\",$H$4=#REF!),BDI!$B$17,IF(AND(#REF!=\"Padrão\",$H$4=#REF!),BDI!$C$17,IF(AND(#REF!=\"Diferenciado\",$H$4=#REF!),BDI!$G$17,IF(AND(#REF!=\"Diferenciado\",$H$4=#REF!),BDI!$H$17,IF(#REF!=\"ZERO\",0))))),\"\")","v":{"$error":"#REF!"}},{"$error":"#REF!"},{"$error":"#REF!"}]
["SF-00101","Pintura em verniz sintético","m2",0,{"$f":"OFFSET(INDEX(Composições!A:J,MATCH(Orçamentária!A106,Composições!A:A,0),8),2,0)","v":13.220200000000002},0,{"$f":"IF(A106<>\"\",IF(AND(#REF!=\"Padrão\",$H$4=#REF!),BDI!$B$17,IF(AND(#REF!=\"Padrão\",$H$4=#REF!),BDI!$C$17,IF(AND(#REF!=\"Diferenciado\",$H$4=#REF!),BDI!$G$17,IF(AND(#REF!=\"Diferenciado\",$H$4=#REF!),BDI!$H$17,IF(#REF!=\"ZERO\",0))))),\"\")","v":{"$error":"#REF!"}},{"$error":"#REF!"},{"$error":"#REF!"}]
["SF-00102","Pintura esmalte acetinado (metais e madeiras)","m2",3.24,{"$f":"OFFSET(INDEX(Composições!A:J,MATCH(Orçamentária!A107,Composições!A:A,0),8),2,0)","v":14.93544},48.390825599999999,{"$f":"BDI!$C$17","v":0.25},18.670000000000002,60.49]
["SF-00103","Pintura tinta látex acrílica standard (tetos)","m2",0,{"$f":"OFFSET(INDEX(Composições!A:J,MATCH(Orçamentária!A108,Composições!A:A,0),8),2,0)","v":12.848065999999999},0,{"$f":"IF(A108<>\"\",IF(AND(#REF!=\"Padrão\",$H$4=#REF!),BDI!$B$17,IF(AND(#REF!=\"Padrão\",$H$4=#REF!),BDI!$C$17,IF(AND(#REF!=\"Diferenciado\",$H$4=#REF!),BDI!$G$17,IF(AND(#REF!=\"Diferenciado\",$H$4=#REF!),BDI!$H$17,IF(#REF!=\"ZERO\",0))))),\"\")","v":{"$error":"#REF!"}},{"$error":"#REF!"},{"$error":"#REF!"}]
["SF-00104","Cerâmica para revestimento de superfícies internas ou externas – Linha Administrativa","m2",0,{"$f":"OFFSET(INDEX(Composições!A:J,MATCH(Orçamentária!A109,Composições!A:A,0),8),2,0)","v":61.029710000000001},0,{"$f":"IF(A109<>\"\",IF(AND(#REF!=\"Padrão\",$H$4=#REF!),BDI!$B$17,IF(AND(#REF!=\"Padrão\",$H$4=#REF!),BDI!$C$17,IF(AND(#REF!=\"Diferenciado\",$H$4=#REF!),BDI!$G$17,IF(AND(#REF!=\"Diferenciado\",$H$4=#REF!),BDI!$H$17,IF(#REF!=\"ZERO\",0))))),\"\")","v":{"$error":"#REF!"}},{"$error":"#REF!"},{"$error":"#REF!"}]
["SF-00105","Contrapiso em argamassa","m2",0,{"$f":"OFFSET(INDEX(Composições!A:J,MATCH(Orçamentária!A110,Composições!A:A,0),8),2,0)","v":43.261769469132503},0,{"$f":"IF(A110<>\"\",IF(AND(#REF!=\"Padrão\",$H$4=#REF!),BDI!$B$17,IF(AND(#REF!=\"Padrão\",$H$4=#REF!),BDI!$C$17,IF(AND(#REF!=\"Diferenciado\",$H$4=#REF!),BDI!$G$17,IF(AND(#REF!=\"Diferenciado\",$H$4=#REF!),BDI!$H$17,IF(#REF!=\"ZERO\",0))))),\"\")","v":{"$error":"#REF!"}},{"$error":"#REF!"},{"$error":"#REF!"}]
["SF-00106","Contrapiso em argamassa (e=2cm) ou Regularização de contrapiso existente","m2",0,{"$f":"OFFSET(INDEX(Composições!A:J,MATCH(Orçamentária!A111,Composições!A:A,0),8),2,0)","v":29.578478463077499},0,{"$f":"IF(A111<>\"\",IF(AND(#REF!=\"Padrão\",$H$4=#REF!),BDI!$B$17,IF(AND(#REF!=\"Padrão\",$H$4=#REF!),BDI!$C$17,IF(AND(#REF!=\"Diferenciado\",$H$4=#REF!),BDI!$G$17,IF(AND(#REF!=\"Diferenciado\",$H$4=#REF!),BDI!$H$17,IF(#REF!=\"ZERO\",0))))),\"\")","v":{"$error":"#REF!"}},{"$error":"#REF!"},{"$error":"#REF!"}]
["SF-00107","Granito cinza andorinha para piso","m2",0,{"$f":"OFFSET(INDEX(Composições!A:J,MATCH(Orçamentária!A112,Composições!A:A,0),8),2,0)","v":39.190349999999995},0,{"$f":"IF(A112<>\"\",IF(AND(#REF!=\"Padrão\",$H$4=#REF!),BDI!$B$17,IF(AND(#REF!=\"Padrão\",$H$4=#REF!),BDI!$C$17,IF(AND(#REF!=\"Diferenciado\",$H$4=#REF!),BDI!$G$17,IF(AND(#REF!=\"Diferenciado\",$H$4=#REF!),BDI!$H$17,IF(#REF!=\"ZERO\",0))))),\"\")","v":{"$error":"#REF!"}},{"$error":"#REF!"},{"$error":"#REF!"}]
["SF-00108","Granito Cinza Andorinha para rodapé","m2",0,{"$f":"OFFSET(INDEX(Composições!A:J,MATCH(Orçamentária!A113,Composições!A:A,0),8),2,0)","v":84.333950999999999},0,{"$f":"IF(A113<>\"\",IF(AND(#REF!=\"Padrão\",$H$4=#REF!),BDI!$B$17,IF(AND(#REF!=\"Padrão\",$H$4=#REF!),BDI!$C$17,IF(AND(#REF!=\"Diferenciado\",$H$4=#REF!),BDI!$G$17,IF(AND(#REF!=\"Diferenciado\",$H$4=#REF!),BDI!$H$17,IF(#REF!=\"ZERO\",0))))),\"\")","v":{"$error":"#REF!"}},{"$error":"#REF!"},{"$error":"#REF!"}]
["SF-00109","Granito Cinza Andorinha para soleira e peitoril","m2",0,{"$f":"OFFSET(INDEX(Composições!A:J,MATCH(Orçamentária!A114,Composições!A:A,0),8),2,0)","v":96.825114350000007},0,{"$f":"IF(A114<>\"\",IF(AND(#REF!=\"Padrão\",$H$4=#REF!),BDI!$B$17,IF(AND(#REF!=\"Padrão\",$H$4=#REF!),BDI!$C$17,IF(AND(#REF!=\"Diferenciado\",$H$4=#REF!),BDI!$G$17,IF(AND(#REF!=\"Diferenciado\",$H$4=#REF!),BDI!$H$17,IF(#REF!=\"ZERO\",0))))),\"\")","v":{"$error":"#REF!"}},{"$error":"#REF!"},{"$error":"#REF!"}]
["SF-00110","Granito Preto São Gabriel para piso","m2",0,{"$f":"OFFSET(INDEX(Composições!A:J,MATCH(Orçamentária!A115,Composições!A:A,0),8),2,0)","v":39.190349999999995},0,{"$f":"IF(A115<>\"\",IF(AND(#REF!=\"Padrão\",$H$4=#REF!),BDI!$B$17,IF(AND(#REF!=\"Padrão\",$H$4=#REF!),BDI!$C$17,IF(AND(#REF!=\"Diferenciado\",$H$4=#REF!),BDI!$G$17,IF(AND(#REF!=\"Diferenciado\",$H$4=#REF!),BDI!$H$17,IF(#REF!=\"ZERO\",0))))),\"\")","v":{"$error":"#REF!"}},{"$error":"#REF!"},{"$error":"#REF!"}]
["SF-00111","Granito Preto São Gabriel para rodapé","m2",0,{"$f":"OFFSET(INDEX(Composições!A:J,MATCH(Orçamentária!A116,Composições!A:A,0),8),2,0)","v":84.333950999999999},0,{"$f":"IF(A116<>\"\",IF(AND(#REF!=\"Padrão\",$H$4=#REF!),BDI!$B$17,IF(AND(#REF!=\"Padrão\",$H$4=#REF!),BDI!$C$17,IF(AND(#REF!=\"Diferenciado\",$H$4=#REF!),BDI!$G$17,IF(AND(#REF!=\"Diferenciado\",$H$4=#REF!),BDI!$H$17,IF(#REF!=\"ZERO\",0))))),\"\")","v":{"$error":"#REF!"}},{"$error":"#REF!"},{"$error":"#REF!"}]
["SF-00112","Granito Preto São Gabriel para soleira e peitoril","m2",0,{"$f":"OFFSET(INDEX(Composições!A:J,MATCH(Orçamentária!A117,Composições!A:A,0),8),2,0)","v":96.825114350000007},0,{"$f":"IF(A117<>\"\",IF(AND(#REF!=\"Padrão\",$H$4=#REF!),BDI!$B$17,IF(AND(#REF!=\"Padrão\",$H$4=#REF!),BDI!$C$17,IF(AND(#REF!=\"Diferenciado\",$H$4=#REF!),BDI!$G$17,IF(AND(#REF!=\"Diferenciado\",$H$4=#REF!),BDI!$H$17,IF(#REF!=\"ZERO\",0))))),\"\")","v":{"$error":"#REF!"}},{"$error":"#REF!"},{"$error":"#REF!"}]
["SF-00113","Instalação de rodapé de madeira reaproveitado","m",0,{"$f":"OFFSET(INDEX(Composições!A:J,MATCH(Orçamentária!A118,Composições!A:A,0),8),2,0)","v":11.0392736},0,{"$f":"IF(A118<>\"\",IF(AND(#REF!=\"Padrão\",$H$4=#REF!),BDI!$B$17,IF(AND(#REF!=\"Padrão\",$H$4=#REF!),BDI!$C$17,IF(AND(#REF!=\"Diferenciado\",$H$4=#REF!),BDI!$G$17,IF(AND(#REF!=\"Diferenciado\",$H$4=#REF!),BDI!$H$17,IF(#REF!=\"ZERO\",0))))),\"\")","v":{"$error":"#REF!"}},{"$error":"#REF!"},{"$error":"#REF!"}]
["SF-00114","Mármore Bege Bahia para piso e parede","m2",0,{"$f":"OFFSET(INDEX(Composições!A:J,MATCH(Orçamentária!A119,Composições!A:A,0),8),2,0)","v":39.190349999999995},0,{"$f":"IF(A119<>\"\",IF(AND(#REF!=\"Padrão\",$H$4=#REF!),BDI!$B$17,IF(AND(#REF!=\"Padrão\",$H$4=#REF!),BDI!$C$17,IF(AND(#REF!=\"Diferenciado\",$H$4=#REF!),BDI!$G$17,IF(AND(#REF!=\"Diferenciado\",$H$4=#REF!),BDI!$H$17,IF(#REF!=\"ZERO\",0))))),\"\")","v":{"$error":"#REF!"}},{"$error":"#REF!"},{"$error":"#REF!"}]
["SF-00115","Mármore Branco Especial para piso e parede","m2",0,{"$f":"OFFSET(INDEX(Composições!A:J,MATCH(Orçamentária!A120,Composições!A:A,0),8),2,0)","v":39.190349999999995},0,{"$f":"IF(A120<>\"\",IF(AND(#REF!=\"Padrão\",$H$4=#REF!),BDI!$B$17,IF(AND(#REF!=\"Padrão\",$H$4=#REF!),BDI!$C$17,IF(AND(#REF!=\"Diferenciado\",$H$4=#REF!),BDI!$G$17,IF(AND(#REF!=\"Diferenciado\",$H$4=#REF!),BDI!$H$17,IF(#REF!=\"ZERO\",0))))),\"\")","v":{"$error":"#REF!"}},{"$error":"#REF!"},{"$error":"#REF!"}]
["SF-00116","Rodapé de madeira","m",0,{"$f":"OFFSET(INDEX(Composições!A:J,MATCH(Orçamentária!A121,Composições!A:A,0),8),2,0)","v":20.999596099999998},0,{"$f":"IF(A121<>\"\",IF(AND(#REF!=\"Padrão\",$H$4=#REF!),BDI!$B$17,IF(AND(#REF!=\"Padrão\",$H$4=#REF!),BDI!$C$17,IF(AND(#REF!=\"Diferenciado\",$H$4=#REF!),BDI!$G$17,IF(AND(#REF!=\"Diferenciado\",$H$4=#REF!),BDI!$H$17,IF(#REF!=\"ZERO\",0))))),\"\")","v":{"$error":"#REF!"}},{"$error":"#REF!"},{"$error":"#REF!"}]
["SF-00117","Acabamento abaulado em placas de granito ou mármore reaproveitadas","m",0,{"$f":"OFFSET(INDEX(Composições!A:J,MATCH(Orçamentária!A122,Composições!A:A,0),8),2,0)","v":32.661000000000001},0,{"$f":"IF(A122<>\"\",IF(AND(#REF!=\"Padrão\",$H$4=#REF!),BDI!$B$17,IF(AND(#REF!=\"Padrão\",$H$4=#REF!),BDI!$C$17,IF(AND(#REF!=\"Diferenciado\",$H$4=#REF!),BDI!$G$17,IF(AND(#REF!=\"Diferenciado\",$H$4=#REF!),BDI!$H$17,IF(#REF!=\"ZERO\",0))))),\"\")","v":{"$error":"#REF!"}},{"$error":"#REF!"},{"$error":"#REF!"}]
["SF-00118","Acabamento em meia esquadria em placas de granito ou mármore reaproveitadas","m",0,{"$f":"OFFSET(INDEX(Composições!A:J,MATCH(Orçamentária!A123,Composições!A:A,0),8),2,0)","v":28.578375000000001},0,{"$f":"IF(A123<>\"\",IF(AND(#REF!=\"Padrão\",$H$4=#REF!),BDI!$B$17,IF(AND(#REF!=\"Padrão\",$H$4=#REF!),BDI!$C$17,IF(AND(#REF!=\"Diferenciado\",$H$4=#REF!),BDI!$G$17,IF(AND(#REF!=\"Diferenciado\",$H$4=#REF!),BDI!$H$17,IF(#REF!=\"ZERO\",0))))),\"\")","v":{"$error":"#REF!"}},{"$error":"#REF!"},{"$error":"#REF!"}]
["SF-00119","Acabamento reto em placas de granito ou mármore reaproveitadas","m",0,{"$f":"OFFSET(INDEX(Composições!A:J,MATCH(Orçamentária!A124,Composições!A:A,0),8),2,0)","v":16.330500000000001},0,{"$f":"IF(A124<>\"\",IF(AND(#REF!=\"Padrão\",$H$4=#REF!),BDI!$B$17,IF(AND(#REF!=\"Padrão\",$H$4=#REF!),BDI!$C$17,IF(AND(#REF!=\"Diferenciado\",$H$4=#REF!),BDI!$G$17,IF(AND(#REF!=\"Diferenciado\",$H$4=#REF!),BDI!$H$17,IF(#REF!=\"ZERO\",0))))),\"\")","v":{"$error":"#REF!"}},{"$error":"#REF!"},{"$error":"#REF!"}]
["SF-00120","Corte de peça de granito ou mármore reaproveitada","m",0,{"$f":"OFFSET(INDEX(Composições!A:J,MATCH(Orçamentária!A125,Composições!A:A,0),8),2,0)","v":20.413125000000001},0,{"$f":"IF(A125<>\"\",IF(AND(#REF!=\"Padrão\",$H$4=#REF!),BDI!$B$17,IF(AND(#REF!=\"Padrão\",$H$4=#REF!),BDI!$C$17,IF(AND(#REF!=\"Diferenciado\",$H$4=#REF!),BDI!$G$17,IF(AND(#REF!=\"Diferenciado\",$H$4=#REF!),BDI!$H$17,IF(#REF!=\"ZERO\",0))))),\"\")","v":{"$error":"#REF!"}},{"$error":"#REF!"},{"$error":"#REF!"}]
["SF-00121","Corte em placas de granito ou mármore reaproveitadas, para instalação de cubas","un",0,{"$f":"OFFSET(INDEX(Composições!A:J,MATCH(Orçamentária!A126,Composições!A:A,0),8),2,0)","v":69.597000000000008},0,{"$f":"IF(A126<>\"\",IF(AND(#REF!=\"Padrão\",$H$4=#REF!),BDI!$B$17,IF(AND(#REF!=\"Padrão\",$H$4=#REF!),BDI!$C$17,IF(AND(#REF!=\"Diferenciado\",$H$4=#REF!),BDI!$G$17,IF(AND(#REF!=\"Diferenciado\",$H$4=#REF!),BDI!$H$17,IF(#REF!=\"ZERO\",0))))),\"\")","v":{"$error":"#REF!"}},{"$error":"#REF!"},{"$error":"#REF!"}]
["SF-00122","Furo em placas de granito ou mármore reaproveitadas, para instalação de torneira ou misturador","un",0,{"$f":"OFFSET(INDEX(Composições!A:J,MATCH(Orçamentária!A127,Composições!A:A,0),8),2,0)","v":10.430999999999999},0,{"$f":"IF(A127<>\"\",IF(AND(#REF!=\"Padrão\",$H$4=#REF!),BDI!$B$17,IF(AND(#REF!=\"Padrão\",$H$4=#REF!),BDI!$C$17,IF(AND(#REF!=\"Diferenciado\",$H$4=#REF!),BDI!$G$17,IF(AND(#REF!=\"Diferenciado\",$H$4=#REF!),BDI!$H$17,IF(#REF!=\"ZERO\",0))))),\"\")","v":{"$error":"#REF!"}},{"$error":"#REF!"},{"$error":"#REF!"}]
["SF-00123","Granito Cinza Andorinha 20mm para rodabancada","m2",0,{"$f":"OFFSET(INDEX(Composições!A:J,MATCH(Orçamentária!A128,Composições!A:A,0),8),2,0)","v":56.222131449999999},0,{"$f":"IF(A128<>\"\",IF(AND(#REF!=\"Padrão\",$H$4=#REF!),BDI!$B$17,IF(AND(#REF!=\"Padrão\",$H$4=#REF!),BDI!$C$17,IF(AND(#REF!=\"Diferenciado\",$H$4=#REF!),BDI!$G$17,IF(AND(#REF!=\"Diferenciado\",$H$4=#REF!),BDI!$H$17,IF(#REF!=\"ZERO\",0))))),\"\")","v":{"$error":"#REF!"}},{"$error":"#REF!"},{"$error":"#REF!"}]
["SF-00124","Granito Cinza Andorinha 20mm para bancadas","m2",0,{"$f":"OFFSET(INDEX(Composições!A:J,MATCH(Orçamentária!A129,Composições!A:A,0),8),2,0)","v":91.958832449999989},0,{"$f":"IF(A129<>\"\",IF(AND(#REF!=\"Padrão\",$H$4=#REF!),BDI!$B$17,IF(AND(#REF!=\"Padrão\",$H$4=#REF!),BDI!$C$17,IF(AND(#REF!=\"Diferenciado\",$H$4=#REF!),BDI!$G$17,IF(AND(#REF!=\"Diferenciado\",$H$4=#REF!),BDI!$H$17,IF(#REF!=\"ZERO\",0))))),\"\")","v":{"$error":"#REF!"}},{"$error":"#REF!"},{"$error":"#REF!"}]
["SF-00125","Granito Cinza Andorinha 20mm para divisória","m2",0,{"$f":"OFFSET(INDEX(Composições!A:J,MATCH(Orçamentária!A130,Composições!A:A,0),8),2,0)","v":115.18242881232923},0,{"$f":"IF(A130<>\"\",IF(AND(#REF!=\"Padrão\",$H$4=#REF!),BDI!$B$17,IF(AND(#REF!=\"Padrão\",$H$4=#REF!),BDI!$C$17,IF(AND(#REF!=\"Diferenciado\",$H$4=#REF!),BDI!$G$17,IF(AND(#REF!=\"Diferenciado\",$H$4=#REF!),BDI!$H$17,IF(#REF!=\"ZERO\",0))))),\"\")","v":{"$error":"#REF!"}},{"$error":"#REF!"},{"$error":"#REF!"}]
["SF-00126","Granito Preto São Gabriel 20mm para rodabancada","m2",0,{"$f":"OFFSET(INDEX(Composições!A:J,MATCH(Orçamentária!A131,Composições!A:A,0),8),2,0)","v":56.222131449999999},0,{"$f":"IF(A131<>\"\",IF(AND(#REF!=\"Padrão\",$H$4=#REF!),BDI!$B$17,IF(AND(#REF!=\"Padrão\",$H$4=#REF!),BDI!$C$17,IF(AND(#REF!=\"Diferenciado\",$H$4=#REF!),BDI!$G$17,IF(AND(#REF!=\"Diferenciado\",$H$4=#REF!),BDI!$H$17,IF(#REF!=\"ZERO\",0))))),\"\")","v":{"$error":"#REF!"}},{"$error":"#REF!"},{"$error":"#REF!"}]
["SF-00127","Granito Preto São Gabriel 20mm para bancadas","m2",0,{"$f":"OFFSET(INDEX(Composições!A:J,MATCH(Orçamentária!A132,Composições!A:A,0),8),2,0)","v":91.958832449999989},0,{"$f":"IF(A132<>\"\",IF(AND(#REF!=\"Padrão\",$H$4=#REF!),BDI!$B$17,IF(AND(#REF!=\"Padrão\",$H$4=#REF!),BDI!$C$17,IF(AND(#REF!=\"Diferenciado\",$H$4=#REF!),BDI!$G$17,IF(AND(#REF!=\"Diferenciado\",$H$4=#REF!),BDI!$H$17,IF(#REF!=\"ZERO\",0))))),\"\")","v":{"$error":"#REF!"}},{"$error":"#REF!"},{"$error":"#REF!"}]
["SF-00128","Instalação de bancada de granito ou mármore reaproveitada","m2",0,{"$f":"OFFSET(INDEX(Composições!A:J,MATCH(Orçamentária!A133,Composições!A:A,0),8),2,0)","v":91.958832449999989},0,{"$f":"IF(A133<>\"\",IF(AND(#REF!=\"Padrão\",$H$4=#REF!),BDI!$B$17,IF(AND(#REF!=\"Padrão\",$H$4=#REF!),BDI!$C$17,IF(AND(#REF!=\"Diferenciado\",$H$4=#REF!),BDI!$G$17,IF(AND(#REF!=\"Diferenciado\",$H$4=#REF!),BDI!$H$17,IF(#REF!=\"ZERO\",0))))),\"\")","v":{"$error":"#REF!"}},{"$error":"#REF!"},{"$error":"#REF!"}]
["SF-00129","Instalação de rodapé reaproveitado, de mármore ou granito","m2",0,{"$f":"OFFSET(INDEX(Composições!A:J,MATCH(Orçamentária!A134,Composições!A:A,0),8),2,0)","v":8.4333950999999985},0,{"$f":"IF(A134<>\"\",IF(AND(#REF!=\"Padrão\",$H$4=#REF!),BDI!$B$17,IF(AND(#REF!=\"Padrão\",$H$4=#REF!),BDI!$C$17,IF(AND(#REF!=\"Diferenciado\",$H$4=#REF!),BDI!$G$17,IF(AND(#REF!=\"Diferenciado\",$H$4=#REF!),BDI!$H$17,IF(#REF!=\"ZERO\",0))))),\"\")","v":{"$error":"#REF!"}},{"$error":"#REF!"},{"$error":"#REF!"}]
["SF-00130","Instalação de soleira ou peitoril, de mármore ou granito, reaproveitados","m2",0,{"$f":"OFFSET(INDEX(Composições!A:J,MATCH(Orçamentária!A135,Composições!A:A,0),8),2,0)","v":38.85519},{"$f":"IF(ISNUMBER(E135),D135*E135,\"\")","v":0},{"$f":"IF(A135<>\"\",IF(AND(#REF!=\"Padrão\",$H$4=#REF!),BDI!$B$17,IF(AND(#REF!=\"Padrão\",$H$4=#REF!),BDI!$C$17,IF(AND(#REF!=\"Diferenciado\",$H$4=#REF!),BDI!$G$17,IF(AND(#REF!=\"Diferenciado\",$H$4=#REF!),BDI!$H$17,IF(#REF!=\"ZERO\",0))))),\"\")","v":{"$error":"#REF!"}},{"$f":"IF(ISNUMBER(E135),ROUND(E135*(1+G135),2),\"\")","v":{"$error":"#REF!"}},{"$f":"IF(ISNUMBER(E135),ROUND(H135*D135,2),\"\")","v":{"$error":"#REF!"}}]
["SF-00131","Mármore Branco Especial 20mm para rodabancada","m2",0,{"$f":"OFFSET(INDEX(Composições!A:J,MATCH(Orçamentária!A136,Composições!A:A,0),8),2,0)","v":39.190349999999995},0,{"$f":"IF(A136<>\"\",IF(AND(#REF!=\"Padrão\",$H$4=#REF!),BDI!$B$17,IF(AND(#REF!=\"Padrão\",$H$4=#REF!),BDI!$C$17,IF(AND(#REF!=\"Diferenciado\",$H$4=#REF!),BDI!$G$17,IF(AND(#REF!=\"Diferenciado\",$H$4=#REF!),BDI!$H$17,IF(#REF!=\"ZERO\",0))))),\"\")","v":{"$error":"#REF!"}},{"$error":"#REF!"},{"$error":"#REF!"}]
["SF-00132","Divisória em gesso acartonado revestido - Painel liso cego - Ed. Anexo I","m2",0,"","",{"$f":"IF(A137<>\"\",IF(AND(#REF!=\"Padrão\",$H$4=#REF!),BDI!$B$17,IF(AND(#REF!=\"Padrão\",$H$4=#REF!),BDI!$C$17,IF(AND(#REF!=\"Diferenciado\",$H$4=#REF!),BDI!$G$17,IF(AND(#REF!=\"Diferenciado\",$H$4=#REF!),BDI!$H$17,IF(#REF!=\"ZERO\",0))))),\"\")","v":{"$error":"#REF!"}},"",""]
["SF-00133","Divisória em gesso acartonado revestido - Painel liso, painel de vidro e bandeira – ed. Anexo I","m2",0,"","",{"$f":"IF(A138<>\"\",IF(AND(#REF!=\"Padrão\",$H$4=#REF!),BDI!$B$17,IF(AND(#REF!=\"Padrão\",$H$4=#REF!),BDI!$C$17,IF(AND(#REF!=\"Diferenciado\",$H$4=#REF!),BDI!$G$17,IF(AND(#REF!=\"Diferenciado\",$H$4=#REF!),BDI!$H$17,IF(#REF!=\"ZERO\",0))))),\"\")","v":{"$error":"#REF!"}},"",""]
["SF-00134","Divisória MDF com painel liso cego e bandeira","m2",0,"","",{"$f":"IF(A139<>\"\",IF(AND(#REF!=\"Padrão\",$H$4=#REF!),BDI!$B$17,IF(AND(#REF!=\"Padrão\",$H$4=#REF!),BDI!$C$17,IF(AND(#REF!=\"Diferenciado\",$H$4=#REF!),BDI!$G$17,IF(AND(#REF!=\"Diferenciado\",$H$4=#REF!),BDI!$H$17,IF(#REF!=\"ZERO\",0))))),\"\")","v":{"$error":"#REF!"}},"",""]
["SF-00135","Divisória MDF com painel liso, painel de vidro e bandeira","m2",0,"","",{"$f":"IF(A140<>\"\",IF(AND(#REF!=\"Padrão\",$H$4=#REF!),BDI!$B$17,IF(AND(#REF!=\"Padrão\",$H$4=#REF!),BDI!$C$17,IF(AND(#REF!=\"Diferenciado\",$H$4=#REF!),BDI!$G$17,IF(AND(#REF!=\"Diferenciado\",$H$4=#REF!),BDI!$H$17,IF(#REF!=\"ZERO\",0))))),\"\")","v":{"$error":"#REF!"}},"",""]
["SF-00136","Divisória MDF com painel paginado cego e bandeira - Interlegis","m2",0,"","",{"$f":"IF(A141<>\"\",IF(AND(#REF!=\"Padrão\",$H$4=#REF!),BDI!$B$17,IF(AND(#REF!=\"Padrão\",$H$4=#REF!),BDI!$C$17,IF(AND(#REF!=\"Diferenciado\",$H$4=#REF!),BDI!$G$17,IF(AND(#REF!=\"Diferenciado\",$H$4=#REF!),BDI!$H$17,IF(#REF!=\"ZERO\",0))))),\"\")","v":{"$error":"#REF!"}},"",""]
["SF-00137","Divisória MDF com painel paginado, painel de vidro e bandeira - Interlegis","m2",0,"","",{"$f":"IF(A142<>\"\",IF(AND(#REF!=\"Padrão\",$H$4=#REF!),BDI!$B$17,IF(AND(#REF!=\"Padrão\",$H$4=#REF!),BDI!$C$17,IF(AND(#REF!=\"Diferenciado\",$H$4=#REF!),BDI!$G$17,IF(AND(#REF!=\"Diferenciado\",$H$4=#REF!),BDI!$H$17,IF(#REF!=\"ZERO\",0))))),\"\")","v":{"$error":"#REF!"}},"",""]
["SF-00138","Instalação de divisória e porta de divisória com dobradiça reaproveitadas","m2",0,{"$f":"OFFSET(INDEX(Composições!A:J,MATCH(Orçamentária!A143,Composições!A:A,0),8),2,0)","v":0.95},0,{"$f":"IF(A143<>\"\",IF(AND(#REF!=\"Padrão\",$H$4=#REF!),BDI!$B$17,IF(AND(#REF!=\"Padrão\",$H$4=#REF!),BDI!$C$17,IF(AND(#REF!=\"Diferenciado\",$H$4=#REF!),BDI!$G$17,IF(AND(#REF!=\"Diferenciado\",$H$4=#REF!),BDI!$H$17,IF(#REF!=\"ZERO\",0))))),\"\")","v":{"$error":"#REF!"}},{"$error":"#REF!"},{"$error":"#REF!"}]
["SF-00139","Alçapão em forro de gesso acartonado","m2",0,{"$f":"OFFSET(INDEX(Composições!A:J,MATCH(Orçamentária!A144,Composições!A:A,0),8),2,0)","v":45.148560000000003},0,{"$f":"IF(A144<>\"\",IF(AND(#REF!=\"Padrão\",$H$4=#REF!),BDI!$B$17,IF(AND(#REF!=\"Padrão\",$H$4=#REF!),BDI!$C$17,IF(AND(#REF!=\"Diferenciado\",$H$4=#REF!),BDI!$G$17,IF(AND(#REF!=\"Diferenciado\",$H$4=#REF!),BDI!$H$17,IF(#REF!=\"ZERO\",0))))),\"\")","v":{"$error":"#REF!"}},{"$error":"#REF!"},{"$error":"#REF!"}]
["SF-00140","Forro de PVC em réguas de 100 x 6000mm","m2",0,{"$f":"OFFSET(INDEX(Composições!A:J,MATCH(Orçamentária!A145,Composições!A:A,0),8),2,0)","v":39.520158649999999},0,{"$f":"IF(A145<>\"\",IF(AND(#REF!=\"Padrão\",$H$4=#REF!),BDI!$B$17,IF(AND(#REF!=\"Padrão\",$H$4=#REF!),BDI!$C$17,IF(AND(#REF!=\"Diferenciado\",$H$4=#REF!),BDI!$G$17,IF(AND(#REF!=\"Diferenciado\",$H$4=#REF!),BDI!$H$17,IF(#REF!=\"ZERO\",0))))),\"\")","v":{"$error":"#REF!"}},{"$error":"#REF!"},{"$error":"#REF!"}]
["SF-00141","Forro de PVC em réguas de 100 x 6000mm, sem estrutura","m2",0,{"$f":"OFFSET(INDEX(Composições!A:J,MATCH(Orçamentária!A146,Composições!A:A,0),8),2,0)","v":18.769604099999999},0,{"$f":"IF(A146<>\"\",IF(AND(#REF!=\"Padrão\",$H$4=#REF!),BDI!$B$17,IF(AND(#REF!=\"Padrão\",$H$4=#REF!),BDI!$C$17,IF(AND(#REF!=\"Diferenciado\",$H$4=#REF!),BDI!$G$17,IF(AND(#REF!=\"Diferenciado\",$H$4=#REF!),BDI!$H$17,IF(#REF!=\"ZERO\",0))))),\"\")","v":{"$error":"#REF!"}},{"$error":"#REF!"},{"$error":"#REF!"}]
["SF-00142","Forro de PVC modular em placas","m2",0,{"$f":"OFFSET(INDEX(Composições!A:J,MATCH(Orçamentária!A147,Composições!A:A,0),8),2,0)","v":23.38744865},0,{"$f":"IF(A147<>\"\",IF(AND(#REF!=\"Padrão\",$H$4=#REF!),BDI!$B$17,IF(AND(#REF!=\"Padrão\",$H$4=#REF!),BDI!$C$17,IF(AND(#REF!=\"Diferenciado\",$H$4=#REF!),BDI!$G$17,IF(AND(#REF!=\"Diferenciado\",$H$4=#REF!),BDI!$H$17,IF(#REF!=\"ZERO\",0))))),\"\")","v":{"$error":"#REF!"}},{"$error":"#REF!"},{"$error":"#REF!"}]
["SF-00143","Forro em chapas metálicas","m2",0,{"$f":"OFFSET(INDEX(Composições!A:J,MATCH(Orçamentária!A148,Composições!A:A,0),8),2,0)","v":15.242749999999999},0,{"$f":"IF(A148<>\"\",IF(AND(#REF!=\"Padrão\",$H$4=#REF!),BDI!$B$17,IF(AND(#REF!=\"Padrão\",$H$4=#REF!),BDI!$C$17,IF(AND(#REF!=\"Diferenciado\",$H$4=#REF!),BDI!$G$17,IF(AND(#REF!=\"Diferenciado\",$H$4=#REF!),BDI!$H$17,IF(#REF!=\"ZERO\",0))))),\"\")","v":{"$error":"#REF!"}},{"$error":"#REF!"},{"$error":"#REF!"}]
["SF-00144","Forro em gesso acartonado monolítico","m2",0,{"$f":"OFFSET(INDEX(Composições!A:J,MATCH(Orçamentária!A149,Composições!A:A,0),8),2,0)","v":54.54185979999999},0,{"$f":"IF(A149<>\"\",IF(AND(#REF!=\"Padrão\",$H$4=#REF!),BDI!$B$17,IF(AND(#REF!=\"Padrão\",$H$4=#REF!),BDI!$C$17,IF(AND(#REF!=\"Diferenciado\",$H$4=#REF!),BDI!$G$17,IF(AND(#REF!=\"Diferenciado\",$H$4=#REF!),BDI!$H$17,IF(#REF!=\"ZERO\",0))))),\"\")","v":{"$error":"#REF!"}},{"$error":"#REF!"},{"$error":"#REF!"}]
["SF-00145","Forro em gesso acartonado monolítico, sem estrutura","m2",0,{"$f":"OFFSET(INDEX(Composições!A:J,MATCH(Orçamentária!A150,Composições!A:A,0),8),2,0)","v":40.216826899999994},0,{"$f":"IF(A150<>\"\",IF(AND(#REF!=\"Padrão\",$H$4=#REF!),BDI!$B$17,IF(AND(#REF!=\"Padrão\",$H$4=#REF!),BDI!$C$17,IF(AND(#REF!=\"Diferenciado\",$H$4=#REF!),BDI!$G$17,IF(AND(#REF!=\"Diferenciado\",$H$4=#REF!),BDI!$H$17,IF(#REF!=\"ZERO\",0))))),\"\")","v":{"$error":"#REF!"}},{"$error":"#REF!"},{"$error":"#REF!"}]
["SF-00146","Forro mineral modulado","m2",0,{"$f":"OFFSET(INDEX(Composições!A:J,MATCH(Orçamentária!A151,Composições!A:A,0),8),2,0)","v":89.214499999999987},0,{"$f":"IF(A151<>\"\",IF(AND(#REF!=\"Padrão\",$H$4=#REF!),BDI!$B$17,IF(AND(#REF!=\"Padrão\",$H$4=#REF!),BDI!$C$17,IF(AND(#REF!=\"Diferenciado\",$H$4=#REF!),BDI!$G$17,IF(AND(#REF!=\"Diferenciado\",$H$4=#REF!),BDI!$H$17,IF(#REF!=\"ZERO\",0))))),\"\")","v":{"$error":"#REF!"}},{"$error":"#REF!"},{"$error":"#REF!"}]
["SF-00147","Forro mineral modulado, sem estrutura","m2",0,{"$f":"OFFSET(INDEX(Composições!A:J,MATCH(Orçamentária!A152,Composições!A:A,0),8),2,0)","v":25.02965},0,{"$f":"IF(A152<>\"\",IF(AND(#REF!=\"Padrão\",$H$4=#REF!),BDI!$B$17,IF(AND(#REF!=\"Padrão\",$H$4=#REF!),BDI!$C$17,IF(AND(#REF!=\"Diferenciado\",$H$4=#REF!),BDI!$G$17,IF(AND(#REF!=\"Diferenciado\",$H$4=#REF!),BDI!$H$17,IF(#REF!=\"ZERO\",0))))),\"\")","v":{"$error":"#REF!"}},{"$error":"#REF!"},{"$error":"#REF!"}]
["SF-00148","Instalação de forro de PVC reaproveitado","m2",0,{"$f":"OFFSET(INDEX(Composições!A:J,MATCH(Orçamentária!A153,Composições!A:A,0),8),2,0)","v":2.2413824999999998},0,{"$f":"IF(A153<>\"\",IF(AND(#REF!=\"Padrão\",$H$4=#REF!),BDI!$B$17,IF(AND(#REF!=\"Padrão\",$H$4=#REF!),BDI!$C$17,IF(AND(#REF!=\"Diferenciado\",$H$4=#REF!),BDI!$G$17,IF(AND(#REF!=\"Diferenciado\",$H$4=#REF!),BDI!$H$17,IF(#REF!=\"ZERO\",0))))),\"\")","v":{"$error":"#REF!"}},{"$error":"#REF!"},{"$error":"#REF!"}]
["SF-00149","Instalação de forro mineral reaproveitado","m2",0,{"$f":"OFFSET(INDEX(Composições!A:J,MATCH(Orçamentária!A154,Composições!A:A,0),8),2,0)","v":38.57759999999999},0,{"$f":"IF(A154<>\"\",IF(AND(#REF!=\"Padrão\",$H$4=#REF!),BDI!$B$17,IF(AND(#REF!=\"Padrão\",$H$4=#REF!),BDI!$C$17,IF(AND(#REF!=\"Diferenciado\",$H$4=#REF!),BDI!$G$17,IF(AND(#REF!=\"Diferenciado\",$H$4=#REF!),BDI!$H$17,IF(#REF!=\"ZERO\",0))))),\"\")","v":{"$error":"#REF!"}},{"$error":"#REF!"},{"$error":"#REF!"}]
["SF-00150","Tabica metálica em forro de gesso acartonado","m",0,{"$f":"OFFSET(INDEX(Composições!A:J,MATCH(Orçamentária!A155,Composições!A:A,0),8),2,0)","v":8.4304500999999998},0,{"$f":"IF(A155<>\"\",IF(AND(#REF!=\"Padrão\",$H$4=#REF!),BDI!$B$17,IF(AND(#REF!=\"Padrão\",$H$4=#REF!),BDI!$C$17,IF(AND(#REF!=\"Diferenciado\",$H$4=#REF!),BDI!$G$17,IF(AND(#REF!=\"Diferenciado\",$H$4=#REF!),BDI!$H$17,IF(#REF!=\"ZERO\",0))))),\"\")","v":{"$error":"#REF!"}},{"$error":"#REF!"},{"$error":"#REF!"}]
["SF-00151","Instalação de revestimento de piso têxtil (carpete) reaproveitado","m2",0,{"$f":"OFFSET(INDEX(Composições!A:J,MATCH(Orçamentária!A156,Composições!A:A,0),8),2,0)","v":5.7826500000000003},0,{"$f":"IF(A156<>\"\",IF(AND(#REF!=\"Padrão\",$H$4=#REF!),BDI!$B$17,IF(AND(#REF!=\"Padrão\",$H$4=#REF!),BDI!$C$17,IF(AND(#REF!=\"Diferenciado\",$H$4=#REF!),BDI!$G$17,IF(AND(#REF!=\"Diferenciado\",$H$4=#REF!),BDI!$H$17,IF(#REF!=\"ZERO\",0))))),\"\")","v":{"$error":"#REF!"}},{"$error":"#REF!"},{"$error":"#REF!"}]
["SF-00152","Baguetes metálicos","m",0,{"$f":"OFFSET(INDEX(Composições!A:J,MATCH(Orçamentária!A157,Composições!A:A,0),8),2,0)","v":4.5362499999999999},0,{"$f":"IF(A157<>\"\",IF(AND(#REF!=\"Padrão\",$H$4=#REF!),BDI!$B$17,IF(AND(#REF!=\"Padrão\",$H$4=#REF!),BDI!$C$17,IF(AND(#REF!=\"Diferenciado\",$H$4=#REF!),BDI!$G$17,IF(AND(#REF!=\"Diferenciado\",$H$4=#REF!),BDI!$H$17,IF(#REF!=\"ZERO\",0))))),\"\")","v":{"$error":"#REF!"}},{"$error":"#REF!"},{"$error":"#REF!"}]
["SF-00153","Cordão de massa de vidraceiro","m",0,{"$f":"OFFSET(INDEX(Composições!A:J,MATCH(Orçamentária!A158,Composições!A:A,0),8),2,0)","v":16.604099999999999},0,{"$f":"IF(A158<>\"\",IF(AND(#REF!=\"Padrão\",$H$4=#REF!),BDI!$B$17,IF(AND(#REF!=\"Padrão\",$H$4=#REF!),BDI!$C$17,IF(AND(#REF!=\"Diferenciado\",$H$4=#REF!),BDI!$G$17,IF(AND(#REF!=\"Diferenciado\",$H$4=#REF!),BDI!$H$17,IF(#REF!=\"ZERO\",0))))),\"\")","v":{"$error":"#REF!"}},{"$error":"#REF!"},{"$error":"#REF!"}]
["SF-00154","Espelho cristal, e=5 mm","m2",0,{"$f":"OFFSET(INDEX(Composições!A:J,MATCH(Orçamentária!A159,Composições!A:A,0),8),2,0)","v":56.133600000000001},0,{"$f":"IF(A159<>\"\",IF(AND(#REF!=\"Padrão\",$H$4=#REF!),BDI!$B$17,IF(AND(#REF!=\"Padrão\",$H$4=#REF!),BDI!$C$17,IF(AND(#REF!=\"Diferenciado\",$H$4=#REF!),BDI!$G$17,IF(AND(#REF!=\"Diferenciado\",$H$4=#REF!),BDI!$H$17,IF(#REF!=\"ZERO\",0))))),\"\")","v":{"$error":"#REF!"}},{"$error":"#REF!"},{"$error":"#REF!"}]
["SF-00155","Instalação de vidro reaproveitado","m2",0,{"$f":"OFFSET(INDEX(Composições!A:J,MATCH(Orçamentária!A160,Composições!A:A,0),8),2,0)","v":25.096150000000002},0,{"$f":"IF(A160<>\"\",IF(AND(#REF!=\"Padrão\",$H$4=#REF!),BDI!$B$17,IF(AND(#REF!=\"Padrão\",$H$4=#REF!),BDI!$C$17,IF(AND(#REF!=\"Diferenciado\",$H$4=#REF!),BDI!$G$17,IF(AND(#REF!=\"Diferenciado\",$H$4=#REF!),BDI!$H$17,IF(#REF!=\"ZERO\",0))))),\"\")","v":{"$error":"#REF!"}},{"$error":"#REF!"},{"$error":"#REF!"}]
["SF-00156","Substituição da calafetação com selante","m",0,{"$f":"OFFSET(INDEX(Composições!A:J,MATCH(Orçamentária!A161,Composições!A:A,0),8),2,0)","v":18.087462299999999},0,{"$f":"IF(A161<>\"\",IF(AND(#REF!=\"Padrão\",$H$4=#REF!),BDI!$B$17,IF(AND(#REF!=\"Padrão\",$H$4=#REF!),BDI!$C$17,IF(AND(#REF!=\"Diferenciado\",$H$4=#REF!),BDI!$G$17,IF(AND(#REF!=\"Diferenciado\",$H$4=#REF!),BDI!$H$17,IF(#REF!=\"ZERO\",0))))),\"\")","v":{"$error":"#REF!"}},{"$error":"#REF!"},{"$error":"#REF!"}]
["SF-00157","Vidro liso comum transparente 4mm","m2",0,{"$f":"OFFSET(INDEX(Composições!A:J,MATCH(Orçamentária!A162,Composições!A:A,0),8),2,0)","v":127.23065000000001},0,{"$f":"IF(A162<>\"\",IF(AND(#REF!=\"Padrão\",$H$4=#REF!),BDI!$B$17,IF(AND(#REF!=\"Padrão\",$H$4=#REF!),BDI!$C$17,IF(AND(#REF!=\"Diferenciado\",$H$4=#REF!),BDI!$G$17,IF(AND(#REF!=\"Diferenciado\",$H$4=#REF!),BDI!$H$17,IF(#REF!=\"ZERO\",0))))),\"\")","v":{"$error":"#REF!"}},{"$error":"#REF!"},{"$error":"#REF!"}]
["SF-00158","Vidro liso comum transparente 6mm","m2",0,{"$f":"OFFSET(INDEX(Composições!A:J,MATCH(Orçamentária!A163,Composições!A:A,0),8),2,0)","v":178.73679999999999},0,{"$f":"IF(A163<>\"\",IF(AND(#REF!=\"Padrão\",$H$4=#REF!),BDI!$B$17,IF(AND(#REF!=\"Padrão\",$H$4=#REF!),BDI!$C$17,IF(AND(#REF!=\"Diferenciado\",$H$4=#REF!),BDI!$G$17,IF(AND(#REF!=\"Diferenciado\",$H$4=#REF!),BDI!$H$17,IF(#REF!=\"ZERO\",0))))),\"\")","v":{"$error":"#REF!"}},{"$error":"#REF!"},{"$error":"#REF!"}]
["SF-00159","Instalação de painéis de vidro temperado reaproveitados","m2",0,{"$f":"OFFSET(INDEX(Composições!A:J,MATCH(Orçamentária!A164,Composições!A:A,0),8),2,0)","v":35.968900000000005},0,{"$f":"IF(A164<>\"\",IF(AND(#REF!=\"Padrão\",$H$4=#REF!),BDI!$B$17,IF(AND(#REF!=\"Padrão\",$H$4=#REF!),BDI!$C$17,IF(AND(#REF!=\"Diferenciado\",$H$4=#REF!),BDI!$G$17,IF(AND(#REF!=\"Diferenciado\",$H$4=#REF!),BDI!$H$17,IF(#REF!=\"ZERO\",0))))),\"\")","v":{"$error":"#REF!"}},{"$error":"#REF!"},{"$error":"#REF!"}]
["SF-00160","Mola hidráulica de piso","un",0,{"$f":"OFFSET(INDEX(Composições!A:J,MATCH(Orçamentária!A165,Composições!A:A,0),8),2,0)","v":17.97495},0,{"$f":"IF(A165<>\"\",IF(AND(#REF!=\"Padrão\",$H$4=#REF!),BDI!$B$17,IF(AND(#REF!=\"Padrão\",$H$4=#REF!),BDI!$C$17,IF(AND(#REF!=\"Diferenciado\",$H$4=#REF!),BDI!$G$17,IF(AND(#REF!=\"Diferenciado\",$H$4=#REF!),BDI!$H$17,IF(#REF!=\"ZERO\",0))))),\"\")","v":{"$error":"#REF!"}},{"$error":"#REF!"},{"$error":"#REF!"}]
["SF-00161","Instalação de persianas reaproveitadas","m",0,{"$f":"OFFSET(INDEX(Composições!A:J,MATCH(Orçamentária!A166,Composições!A:A,0),8),2,0)","v":5.7279271499999993},0,{"$f":"IF(A166<>\"\",IF(AND(#REF!=\"Padrão\",$H$4=#REF!),BDI!$B$17,IF(AND(#REF!=\"Padrão\",$H$4=#REF!),BDI!$C$17,IF(AND(#REF!=\"Diferenciado\",$H$4=#REF!),BDI!$G$17,IF(AND(#REF!=\"Diferenciado\",$H$4=#REF!),BDI!$H$17,IF(#REF!=\"ZERO\",0))))),\"\")","v":{"$error":"#REF!"}},{"$error":"#REF!"},{"$error":"#REF!"}]
["SF-00162","Persiana vertical em alumínio 90 mm, cor verde claro","m2",0,"","",{"$f":"IF(A167<>\"\",IF(AND(#REF!=\"Padrão\",$H$4=#REF!),BDI!$B$17,IF(AND(#REF!=\"Padrão\",$H$4=#REF!),BDI!$C$17,IF(AND(#REF!=\"Diferenciado\",$H$4=#REF!),BDI!$G$17,IF(AND(#REF!=\"Diferenciado\",$H$4=#REF!),BDI!$H$17,IF(#REF!=\"ZERO\",0))))),\"\")","v":{"$error":"#REF!"}},"",""]
["SF-00163","Persiana vertical em tecido Juta Resinado sem blecaute de 90mm, cor bege","m2",0,"","",{"$f":"IF(A168<>\"\",IF(AND(#REF!=\"Padrão\",$H$4=#REF!),BDI!$B$17,IF(AND(#REF!=\"Padrão\",$H$4=#REF!),BDI!$C$17,IF(AND(#REF!=\"Diferenciado\",$H$4=#REF!),BDI!$G$17,IF(AND(#REF!=\"Diferenciado\",$H$4=#REF!),BDI!$H$17,IF(#REF!=\"ZERO\",0))))),\"\")","v":{"$error":"#REF!"}},"",""]
["SF-00164","Persiana vertical em tecido sintético sem blecaute de 90mm, cores verde escuro ou branca","m2",0,"","",{"$f":"IF(A169<>\"\",IF(AND(#REF!=\"Padrão\",$H$4=#REF!),BDI!$B$17,IF(AND(#REF!=\"Padrão\",$H$4=#REF!),BDI!$C$17,IF(AND(#REF!=\"Diferenciado\",$H$4=#REF!),BDI!$G$17,IF(AND(#REF!=\"Diferenciado\",$H$4=#REF!),BDI!$H$17,IF(#REF!=\"ZERO\",0))))),\"\")","v":{"$error":"#REF!"}},"",""]
["SF-00165","Película jateada","m2",0,"","",{"$f":"IF(A170<>\"\",IF(AND(#REF!=\"Padrão\",$H$4=#REF!),BDI!$B$17,IF(AND(#REF!=\"Padrão\",$H$4=#REF!),BDI!$C$17,IF(AND(#REF!=\"Diferenciado\",$H$4=#REF!),BDI!$G$17,IF(AND(#REF!=\"Diferenciado\",$H$4=#REF!),BDI!$H$17,IF(#REF!=\"ZERO\",0))))),\"\")","v":{"$error":"#REF!"}},"",""]
["SF-00166","Tubo de ligação para bacia sanitária","un",0,{"$f":"OFFSET(INDEX(Composições!A:J,MATCH(Orçamentária!A171,Composições!A:A,0),8),2,0)","v":5.5898000000000003},0,{"$f":"IF(A171<>\"\",IF(AND(#REF!=\"Padrão\",$H$4=#REF!),BDI!$B$17,IF(AND(#REF!=\"Padrão\",$H$4=#REF!),BDI!$C$17,IF(AND(#REF!=\"Diferenciado\",$H$4=#REF!),BDI!$G$17,IF(AND(#REF!=\"Diferenciado\",$H$4=#REF!),BDI!$H$17,IF(#REF!=\"ZERO\",0))))),\"\")","v":{"$error":"#REF!"}},{"$error":"#REF!"},{"$error":"#REF!"}]
["SF-00167","Tubo PVC esgoto ou aguas pluviais predial DN 100mm","m",0,{"$f":"OFFSET(INDEX(Composições!A:J,MATCH(Orçamentária!A172,Composições!A:A,0),8),2,0)","v":44.344911299999993},0,{"$f":"IF(A172<>\"\",IF(AND(#REF!=\"Padrão\",$H$4=#REF!),BDI!$B$17,IF(AND(#REF!=\"Padrão\",$H$4=#REF!),BDI!$C$17,IF(AND(#REF!=\"Diferenciado\",$H$4=#REF!),BDI!$G$17,IF(AND(#REF!=\"Diferenciado\",$H$4=#REF!),BDI!$H$17,IF(#REF!=\"ZERO\",0))))),\"\")","v":{"$error":"#REF!"}},{"$error":"#REF!"},{"$error":"#REF!"}]
["SF-00168","Tubo PVC esgoto ou aguas pluviais predial DN 40mm","m",0,{"$f":"OFFSET(INDEX(Composições!A:J,MATCH(Orçamentária!A173,Composições!A:A,0),8),2,0)","v":13.825416499999998},0,{"$f":"IF(A173<>\"\",IF(AND(#REF!=\"Padrão\",$H$4=#REF!),BDI!$B$17,IF(AND(#REF!=\"Padrão\",$H$4=#REF!),BDI!$C$17,IF(AND(#REF!=\"Diferenciado\",$H$4=#REF!),BDI!$G$17,IF(AND(#REF!=\"Diferenciado\",$H$4=#REF!),BDI!$H$17,IF(#REF!=\"ZERO\",0))))),\"\")","v":{"$error":"#REF!"}},{"$error":"#REF!"},{"$error":"#REF!"}]
["SF-00169","Tubo PVC esgoto ou aguas pluviais predial DN 50mm","m",0,{"$f":"OFFSET(INDEX(Composições!A:J,MATCH(Orçamentária!A174,Composições!A:A,0),8),2,0)","v":18.968190199999995},0,{"$f":"IF(A174<>\"\",IF(AND(#REF!=\"Padrão\",$H$4=#REF!),BDI!$B$17,IF(AND(#REF!=\"Padrão\",$H$4=#REF!),BDI!$C$17,IF(AND(#REF!=\"Diferenciado\",$H$4=#REF!),BDI!$G$17,IF(AND(#REF!=\"Diferenciado\",$H$4=#REF!),BDI!$H$17,IF(#REF!=\"ZERO\",0))))),\"\")","v":{"$error":"#REF!"}},{"$error":"#REF!"},{"$error":"#REF!"}]
["SF-00170","Tubo PVC esgoto ou aguas pluviais predial DN 75mm","m",0,{"$f":"OFFSET(INDEX(Composições!A:J,MATCH(Orçamentária!A175,Composições!A:A,0),8),2,0)","v":28.294763900000003},0,{"$f":"IF(A175<>\"\",IF(AND(#REF!=\"Padrão\",$H$4=#REF!),BDI!$B$17,IF(AND(#REF!=\"Padrão\",$H$4=#REF!),BDI!$C$17,IF(AND(#REF!=\"Diferenciado\",$H$4=#REF!),BDI!$G$17,IF(AND(#REF!=\"Diferenciado\",$H$4=#REF!),BDI!$H$17,IF(#REF!=\"ZERO\",0))))),\"\")","v":{"$error":"#REF!"}},{"$error":"#REF!"},{"$error":"#REF!"}]
["SF-00171","Tubo PVC soldável agua fria DN 25mm","m",0,{"$f":"OFFSET(INDEX(Composições!A:J,MATCH(Orçamentária!A176,Composições!A:A,0),8),2,0)","v":3.3575564999999994},0,{"$f":"IF(A176<>\"\",IF(AND(#REF!=\"Padrão\",$H$4=#REF!),BDI!$B$17,IF(AND(#REF!=\"Padrão\",$H$4=#REF!),BDI!$C$17,IF(AND(#REF!=\"Diferenciado\",$H$4=#REF!),BDI!$G$17,IF(AND(#REF!=\"Diferenciado\",$H$4=#REF!),BDI!$H$17,IF(#REF!=\"ZERO\",0))))),\"\")","v":{"$error":"#REF!"}},{"$error":"#REF!"},{"$error":"#REF!"}]
["SF-00172","Tubo PVC soldável agua fria DN 32mm","m",0,{"$f":"OFFSET(INDEX(Composições!A:J,MATCH(Orçamentária!A177,Composições!A:A,0),8),2,0)","v":6.9914869999999993},0,{"$f":"IF(A177<>\"\",IF(AND(#REF!=\"Padrão\",$H$4=#REF!),BDI!$B$17,IF(AND(#REF!=\"Padrão\",$H$4=#REF!),BDI!$C$17,IF(AND(#REF!=\"Diferenciado\",$H$4=#REF!),BDI!$G$17,IF(AND(#REF!=\"Diferenciado\",$H$4=#REF!),BDI!$H$17,IF(#REF!=\"ZERO\",0))))),\"\")","v":{"$error":"#REF!"}},{"$error":"#REF!"},{"$error":"#REF!"}]
["SF-00173","Tubo PVC soldável agua fria DN 40mm","m",0,{"$f":"OFFSET(INDEX(Composições!A:J,MATCH(Orçamentária!A178,Composições!A:A,0),8),2,0)","v":10.023563999999999},0,{"$f":"IF(A178<>\"\",IF(AND(#REF!=\"Padrão\",$H$4=#REF!),BDI!$B$17,IF(AND(#REF!=\"Padrão\",$H$4=#REF!),BDI!$C$17,IF(AND(#REF!=\"Diferenciado\",$H$4=#REF!),BDI!$G$17,IF(AND(#REF!=\"Diferenciado\",$H$4=#REF!),BDI!$H$17,IF(#REF!=\"ZERO\",0))))),\"\")","v":{"$error":"#REF!"}},{"$error":"#REF!"},{"$error":"#REF!"}]
["SF-00174","Tubo PVC soldável agua fria DN 50mm","m",0,{"$f":"OFFSET(INDEX(Composições!A:J,MATCH(Orçamentária!A179,Composições!A:A,0),8),2,0)","v":11.537816499999996},0,{"$f":"IF(A179<>\"\",IF(AND(#REF!=\"Padrão\",$H$4=#REF!),BDI!$B$17,IF(AND(#REF!=\"Padrão\",$H$4=#REF!),BDI!$C$17,IF(AND(#REF!=\"Diferenciado\",$H$4=#REF!),BDI!$G$17,IF(AND(#REF!=\"Diferenciado\",$H$4=#REF!),BDI!$H$17,IF(#REF!=\"ZERO\",0))))),\"\")","v":{"$error":"#REF!"}},{"$error":"#REF!"},{"$error":"#REF!"}]
["SF-00175","Base registro gaveta 3/4\"","un",0,{"$f":"OFFSET(INDEX(Composições!A:J,MATCH(Orçamentária!A180,Composições!A:A,0),8),2,0)","v":9.3269574999999989},0,{"$f":"IF(A180<>\"\",IF(AND(#REF!=\"Padrão\",$H$4=#REF!),BDI!$B$17,IF(AND(#REF!=\"Padrão\",$H$4=#REF!),BDI!$C$17,IF(AND(#REF!=\"Diferenciado\",$H$4=#REF!),BDI!$G$17,IF(AND(#REF!=\"Diferenciado\",$H$4=#REF!),BDI!$H$17,IF(#REF!=\"ZERO\",0))))),\"\")","v":{"$error":"#REF!"}},{"$error":"#REF!"},{"$error":"#REF!"}]
["SF-00176","Caixa sifonada de PVC DN 150mm","un",0,{"$f":"OFFSET(INDEX(Composições!A:J,MATCH(Orçamentária!A181,Composições!A:A,0),8),2,0)","v":52.619884400000004},0,{"$f":"IF(A181<>\"\",IF(AND(#REF!=\"Padrão\",$H$4=#REF!),BDI!$B$17,IF(AND(#REF!=\"Padrão\",$H$4=#REF!),BDI!$C$17,IF(AND(#REF!=\"Diferenciado\",$H$4=#REF!),BDI!$G$17,IF(AND(#REF!=\"Diferenciado\",$H$4=#REF!),BDI!$H$17,IF(#REF!=\"ZERO\",0))))),\"\")","v":{"$error":"#REF!"}},{"$error":"#REF!"},{"$error":"#REF!"}]
["SF-00177","Caixa sifonada de PVC DN 250mm","un",0,{"$f":"OFFSET(INDEX(Composições!A:J,MATCH(Orçamentária!A182,Composições!A:A,0),8),2,0)","v":90.553384399999999},0,{"$f":"IF(A182<>\"\",IF(AND(#REF!=\"Padrão\",$H$4=#REF!),BDI!$B$17,IF(AND(#REF!=\"Padrão\",$H$4=#REF!),BDI!$C$17,IF(AND(#REF!=\"Diferenciado\",$H$4=#REF!),BDI!$G$17,IF(AND(#REF!=\"Diferenciado\",$H$4=#REF!),BDI!$H$17,IF(#REF!=\"ZERO\",0))))),\"\")","v":{"$error":"#REF!"}},{"$error":"#REF!"},{"$error":"#REF!"}]
["SF-00178","Grelha quadrada para ralo 10x10cm","un",0,{"$f":"OFFSET(INDEX(Composições!A:J,MATCH(Orçamentária!A183,Composições!A:A,0),8),2,0)","v":2.1831},0,{"$f":"IF(A183<>\"\",IF(AND(#REF!=\"Padrão\",$H$4=#REF!),BDI!$B$17,IF(AND(#REF!=\"Padrão\",$H$4=#REF!),BDI!$C$17,IF(AND(#REF!=\"Diferenciado\",$H$4=#REF!),BDI!$G$17,IF(AND(#REF!=\"Diferenciado\",$H$4=#REF!),BDI!$H$17,IF(#REF!=\"ZERO\",0))))),\"\")","v":{"$error":"#REF!"}},{"$error":"#REF!"},{"$error":"#REF!"}]
["SF-00179","Grelha quadrada para ralo 15x15cm","un",0,{"$f":"OFFSET(INDEX(Composições!A:J,MATCH(Orçamentária!A184,Composições!A:A,0),8),2,0)","v":2.1831},0,{"$f":"IF(A184<>\"\",IF(AND(#REF!=\"Padrão\",$H$4=#REF!),BDI!$B$17,IF(AND(#REF!=\"Padrão\",$H$4=#REF!),BDI!$C$17,IF(AND(#REF!=\"Diferenciado\",$H$4=#REF!),BDI!$G$17,IF(AND(#REF!=\"Diferenciado\",$H$4=#REF!),BDI!$H$17,IF(#REF!=\"ZERO\",0))))),\"\")","v":{"$error":"#REF!"}},{"$error":"#REF!"},{"$error":"#REF!"}]
["SF-00180","Ralo seco PVC DN 100x40mm","un",0,{"$f":"OFFSET(INDEX(Composições!A:J,MATCH(Orçamentária!A185,Composições!A:A,0),8),2,0)","v":8.6661479500000009},0,{"$f":"IF(A185<>\"\",IF(AND(#REF!=\"Padrão\",$H$4=#REF!),BDI!$B$17,IF(AND(#REF!=\"Padrão\",$H$4=#REF!),BDI!$C$17,IF(AND(#REF!=\"Diferenciado\",$H$4=#REF!),BDI!$G$17,IF(AND(#REF!=\"Diferenciado\",$H$4=#REF!),BDI!$H$17,IF(#REF!=\"ZERO\",0))))),\"\")","v":{"$error":"#REF!"}},{"$error":"#REF!"},{"$error":"#REF!"}]
["SF-00181","Assento para bacia convencional – Linha Administrativa","un",0,{"$f":"OFFSET(INDEX(Composições!A:J,MATCH(Orçamentária!A186,Composições!A:A,0),8),2,0)","v":1.4554},0,{"$f":"IF(A186<>\"\",IF(AND(#REF!=\"Padrão\",$H$4=#REF!),BDI!$B$17,IF(AND(#REF!=\"Padrão\",$H$4=#REF!),BDI!$C$17,IF(AND(#REF!=\"Diferenciado\",$H$4=#REF!),BDI!$G$17,IF(AND(#REF!=\"Diferenciado\",$H$4=#REF!),BDI!$H$17,IF(#REF!=\"ZERO\",0))))),\"\")","v":{"$error":"#REF!"}},{"$error":"#REF!"},{"$error":"#REF!"}]
["SF-00182","Bacia convencional – Linha Administrativa","un",0,{"$f":"OFFSET(INDEX(Composições!A:J,MATCH(Orçamentária!A187,Composições!A:A,0),8),2,0)","v":165.51424305},0,{"$f":"IF(A187<>\"\",IF(AND(#REF!=\"Padrão\",$H$4=#REF!),BDI!$B$17,IF(AND(#REF!=\"Padrão\",$H$4=#REF!),BDI!$C$17,IF(AND(#REF!=\"Diferenciado\",$H$4=#REF!),BDI!$G$17,IF(AND(#REF!=\"Diferenciado\",$H$4=#REF!),BDI!$H$17,IF(#REF!=\"ZERO\",0))))),\"\")","v":{"$error":"#REF!"}},{"$error":"#REF!"},{"$error":"#REF!"}]
["SF-00183","Bacia convencional com saída horizontal","un",0,{"$f":"OFFSET(INDEX(Composições!A:J,MATCH(Orçamentária!A188,Composições!A:A,0),8),2,0)","v":55.361743049999987},0,{"$f":"IF(A188<>\"\",IF(AND(#REF!=\"Padrão\",$H$4=#REF!),BDI!$B$17,IF(AND(#REF!=\"Padrão\",$H$4=#REF!),BDI!$C$17,IF(AND(#REF!=\"Diferenciado\",$H$4=#REF!),BDI!$G$17,IF(AND(#REF!=\"Diferenciado\",$H$4=#REF!),BDI!$H$17,IF(#REF!=\"ZERO\",0))))),\"\")","v":{"$error":"#REF!"}},{"$error":"#REF!"},{"$error":"#REF!"}]
["SF-00184","Cuba oval de embutir","un",0,{"$f":"OFFSET(INDEX(Composições!A:J,MATCH(Orçamentária!A189,Composições!A:A,0),8),2,0)","v":31.085906649999998},0,{"$f":"IF(A189<>\"\",IF(AND(#REF!=\"Padrão\",$H$4=#REF!),BDI!$B$17,IF(AND(#REF!=\"Padrão\",$H$4=#REF!),BDI!$C$17,IF(AND(#REF!=\"Diferenciado\",$H$4=#REF!),BDI!$G$17,IF(AND(#REF!=\"Diferenciado\",$H$4=#REF!),BDI!$H$17,IF(#REF!=\"ZERO\",0))))),\"\")","v":{"$error":"#REF!"}},{"$error":"#REF!"},{"$error":"#REF!"}]
["SF-00185","Cuba retangular em aço inox – Linha Administrativa","un",0,{"$f":"OFFSET(INDEX(Composições!A:J,MATCH(Orçamentária!A190,Composições!A:A,0),8),2,0)","v":17.542779799999998},0,{"$f":"IF(A190<>\"\",IF(AND(#REF!=\"Padrão\",$H$4=#REF!),BDI!$B$17,IF(AND(#REF!=\"Padrão\",$H$4=#REF!),BDI!$C$17,IF(AND(#REF!=\"Diferenciado\",$H$4=#REF!),BDI!$G$17,IF(AND(#REF!=\"Diferenciado\",$H$4=#REF!),BDI!$H$17,IF(#REF!=\"ZERO\",0))))),\"\")","v":{"$error":"#REF!"}},{"$error":"#REF!"},{"$error":"#REF!"}]
["SF-00186","Cuba semiencaixe quadrada com mesa","un",0,{"$f":"OFFSET(INDEX(Composições!A:J,MATCH(Orçamentária!A191,Composições!A:A,0),8),2,0)","v":31.085906649999998},0,{"$f":"IF(A191<>\"\",IF(AND(#REF!=\"Padrão\",$H$4=#REF!),BDI!$B$17,IF(AND(#REF!=\"Padrão\",$H$4=#REF!),BDI!$C$17,IF(AND(#REF!=\"Diferenciado\",$H$4=#REF!),BDI!$G$17,IF(AND(#REF!=\"Diferenciado\",$H$4=#REF!),BDI!$H$17,IF(#REF!=\"ZERO\",0))))),\"\")","v":{"$error":"#REF!"}},{"$error":"#REF!"},{"$error":"#REF!"}]
["SF-00187","Instalação de lavatório reaproveitado","un",0,{"$f":"OFFSET(INDEX(Composições!A:J,MATCH(Orçamentária!A192,Composições!A:A,0),8),2,0)","v":37.271169499999999},0,{"$f":"IF(A192<>\"\",IF(AND(#REF!=\"Padrão\",$H$4=#REF!),BDI!$B$17,IF(AND(#REF!=\"Padrão\",$H$4=#REF!),BDI!$C$17,IF(AND(#REF!=\"Diferenciado\",$H$4=#REF!),BDI!$G$17,IF(AND(#REF!=\"Diferenciado\",$H$4=#REF!),BDI!$H$17,IF(#REF!=\"ZERO\",0))))),\"\")","v":{"$error":"#REF!"}},{"$error":"#REF!"},{"$error":"#REF!"}]
["SF-00188","Instalação de mictório reaproveitado","un",0,{"$f":"OFFSET(INDEX(Composições!A:J,MATCH(Orçamentária!A193,Composições!A:A,0),8),2,0)","v":37.661296499999999},0,{"$f":"IF(A193<>\"\",IF(AND(#REF!=\"Padrão\",$H$4=#REF!),BDI!$B$17,IF(AND(#REF!=\"Padrão\",$H$4=#REF!),BDI!$C$17,IF(AND(#REF!=\"Diferenciado\",$H$4=#REF!),BDI!$G$17,IF(AND(#REF!=\"Diferenciado\",$H$4=#REF!),BDI!$H$17,IF(#REF!=\"ZERO\",0))))),\"\")","v":{"$error":"#REF!"}},{"$error":"#REF!"},{"$error":"#REF!"}]
["SF-00189","Instalação de vaso sanitário reaproveitado","un",0,{"$f":"OFFSET(INDEX(Composições!A:J,MATCH(Orçamentária!A194,Composições!A:A,0),8),2,0)","v":55.327423349999989},0,{"$f":"IF(A194<>\"\",IF(AND(#REF!=\"Padrão\",$H$4=#REF!),BDI!$B$17,IF(AND(#REF!=\"Padrão\",$H$4=#REF!),BDI!$C$17,IF(AND(#REF!=\"Diferenciado\",$H$4=#REF!),BDI!$G$17,IF(AND(#REF!=\"Diferenciado\",$H$4=#REF!),BDI!$H$17,IF(#REF!=\"ZERO\",0))))),\"\")","v":{"$error":"#REF!"}},{"$error":"#REF!"},{"$error":"#REF!"}]
["SF-00190","Lavatório suspenso","un",0,{"$f":"OFFSET(INDEX(Composições!A:J,MATCH(Orçamentária!A195,Composições!A:A,0),8),2,0)","v":109.1576695},0,{"$f":"IF(A195<>\"\",IF(AND(#REF!=\"Padrão\",$H$4=#REF!),BDI!$B$17,IF(AND(#REF!=\"Padrão\",$H$4=#REF!),BDI!$C$17,IF(AND(#REF!=\"Diferenciado\",$H$4=#REF!),BDI!$G$17,IF(AND(#REF!=\"Diferenciado\",$H$4=#REF!),BDI!$H$17,IF(#REF!=\"ZERO\",0))))),\"\")","v":{"$error":"#REF!"}},{"$error":"#REF!"},{"$error":"#REF!"}]
["SF-00191","Mictório – Linha Administrativa","un",0,{"$f":"OFFSET(INDEX(Composições!A:J,MATCH(Orçamentária!A196,Composições!A:A,0),8),2,0)","v":288.109939},0,{"$f":"IF(A196<>\"\",IF(AND(#REF!=\"Padrão\",$H$4=#REF!),BDI!$B$17,IF(AND(#REF!=\"Padrão\",$H$4=#REF!),BDI!$C$17,IF(AND(#REF!=\"Diferenciado\",$H$4=#REF!),BDI!$G$17,IF(AND(#REF!=\"Diferenciado\",$H$4=#REF!),BDI!$H$17,IF(#REF!=\"ZERO\",0))))),\"\")","v":{"$error":"#REF!"}},{"$error":"#REF!"},{"$error":"#REF!"}]
["SF-00192","Tanque 38 litros – Linha Administrativa","un",0,{"$f":"OFFSET(INDEX(Composições!A:J,MATCH(Orçamentária!A197,Composições!A:A,0),8),2,0)","v":73.893359799999985},0,{"$f":"IF(A197<>\"\",IF(AND(#REF!=\"Padrão\",$H$4=#REF!),BDI!$B$17,IF(AND(#REF!=\"Padrão\",$H$4=#REF!),BDI!$C$17,IF(AND(#REF!=\"Diferenciado\",$H$4=#REF!),BDI!$G$17,IF(AND(#REF!=\"Diferenciado\",$H$4=#REF!),BDI!$H$17,IF(#REF!=\"ZERO\",0))))),\"\")","v":{"$error":"#REF!"}},{"$error":"#REF!"},{"$error":"#REF!"}]
["SF-00193","Acabamento para registro GD – Linha Administrativa","un",0,{"$f":"OFFSET(INDEX(Composições!A:J,MATCH(Orçamentária!A198,Composições!A:A,0),8),2,0)","v":1.5253199999999998},0,{"$f":"IF(A198<>\"\",IF(AND(#REF!=\"Padrão\",$H$4=#REF!),BDI!$B$17,IF(AND(#REF!=\"Padrão\",$H$4=#REF!),BDI!$C$17,IF(AND(#REF!=\"Diferenciado\",$H$4=#REF!),BDI!$G$17,IF(AND(#REF!=\"Diferenciado\",$H$4=#REF!),BDI!$H$17,IF(#REF!=\"ZERO\",0))))),\"\")","v":{"$error":"#REF!"}},{"$error":"#REF!"},{"$error":"#REF!"}]
["SF-00194","Acabamento para registro PQ – Linha Administrativa","un",0,{"$f":"OFFSET(INDEX(Composições!A:J,MATCH(Orçamentária!A199,Composições!A:A,0),8),2,0)","v":1.5253199999999998},{"$f":"IF(ISNUMBER(E199),D199*E199,\"\")","v":0},{"$f":"IF(A199<>\"\",IF(AND(#REF!=\"Padrão\",$H$4=#REF!),BDI!$B$17,IF(AND(#REF!=\"Padrão\",$H$4=#REF!),BDI!$C$17,IF(AND(#REF!=\"Diferenciado\",$H$4=#REF!),BDI!$G$17,IF(AND(#REF!=\"Diferenciado\",$H$4=#REF!),BDI!$H$17,IF(#REF!=\"ZERO\",0))))),\"\")","v":{"$error":"#REF!"}},{"$f":"IF(ISNUMBER(E199),ROUND(E199*(1+G199),2),\"\")","v":{"$error":"#REF!"}},{"$f":"IF(ISNUMBER(E199),ROUND(H199*D199,2),\"\")","v":{"$error":"#REF!"}}]
["SF-00195","Ducha higiênica – Linha Administrativa","un",0,{"$f":"OFFSET(INDEX(Composições!A:J,MATCH(Orçamentária!A200,Composições!A:A,0),8),2,0)","v":17.042999999999999},0,{"$f":"IF(A200<>\"\",IF(AND(#REF!=\"Padrão\",$H$4=#REF!),BDI!$B$17,IF(AND(#REF!=\"Padrão\",$H$4=#REF!),BDI!$C$17,IF(AND(#REF!=\"Diferenciado\",$H$4=#REF!),BDI!$G$17,IF(AND(#REF!=\"Diferenciado\",$H$4=#REF!),BDI!$H$17,IF(#REF!=\"ZERO\",0))))),\"\")","v":{"$error":"#REF!"}},{"$error":"#REF!"},{"$error":"#REF!"}]
["SF-00196","Instalação de metais e acessórios reaproveitados","un",0,{"$f":"OFFSET(INDEX(Composições!A:J,MATCH(Orçamentária!A201,Composições!A:A,0),8),2,0)","v":3.4316222999999995},0,{"$f":"IF(A201<>\"\",IF(AND(#REF!=\"Padrão\",$H$4=#REF!),BDI!$B$17,IF(AND(#REF!=\"Padrão\",$H$4=#REF!),BDI!$C$17,IF(AND(#REF!=\"Diferenciado\",$H$4=#REF!),BDI!$G$17,IF(AND(#REF!=\"Diferenciado\",$H$4=#REF!),BDI!$H$17,IF(#REF!=\"ZERO\",0))))),\"\")","v":{"$error":"#REF!"}},{"$error":"#REF!"},{"$error":"#REF!"}]
["SF-00197","Ligação flexível 1/2” x 40 cm – Linha Administrativa","un",0,{"$f":"OFFSET(INDEX(Composições!A:J,MATCH(Orçamentária!A202,Composições!A:A,0),8),2,0)","v":31.174368749999996},0,{"$f":"IF(A202<>\"\",IF(AND(#REF!=\"Padrão\",$H$4=#REF!),BDI!$B$17,IF(AND(#REF!=\"Padrão\",$H$4=#REF!),BDI!$C$17,IF(AND(#REF!=\"Diferenciado\",$H$4=#REF!),BDI!$G$17,IF(AND(#REF!=\"Diferenciado\",$H$4=#REF!),BDI!$H$17,IF(#REF!=\"ZERO\",0))))),\"\")","v":{"$error":"#REF!"}},{"$error":"#REF!"},{"$error":"#REF!"}]
["SF-00198","Sifão articulado para cozinha – Linha Administrativa","un",0,{"$f":"OFFSET(INDEX(Composições!A:J,MATCH(Orçamentária!A203,Composições!A:A,0),8),2,0)","v":6.5729948999999994},0,{"$f":"IF(A203<>\"\",IF(AND(#REF!=\"Padrão\",$H$4=#REF!),BDI!$B$17,IF(AND(#REF!=\"Padrão\",$H$4=#REF!),BDI!$C$17,IF(AND(#REF!=\"Diferenciado\",$H$4=#REF!),BDI!$G$17,IF(AND(#REF!=\"Diferenciado\",$H$4=#REF!),BDI!$H$17,IF(#REF!=\"ZERO\",0))))),\"\")","v":{"$error":"#REF!"}},{"$error":"#REF!"},{"$error":"#REF!"}]
["SF-00199","Sifão para lavatório 1 1/2\"","un",0,{"$f":"OFFSET(INDEX(Composições!A:J,MATCH(Orçamentária!A204,Composições!A:A,0),8),2,0)","v":116.29443999999999},0,{"$f":"IF(A204<>\"\",IF(AND(#REF!=\"Padrão\",$H$4=#REF!),BDI!$B$17,IF(AND(#REF!=\"Padrão\",$H$4=#REF!),BDI!$C$17,IF(AND(#REF!=\"Diferenciado\",$H$4=#REF!),BDI!$G$17,IF(AND(#REF!=\"Diferenciado\",$H$4=#REF!),BDI!$H$17,IF(#REF!=\"ZERO\",0))))),\"\")","v":{"$error":"#REF!"}},{"$error":"#REF!"},{"$error":"#REF!"}]
["SF-00200","Sifão para tanque – Linha Administrativa","un",0,{"$f":"OFFSET(INDEX(Composições!A:J,MATCH(Orçamentária!A205,Composições!A:A,0),8),2,0)","v":122.72949489999999},0,{"$f":"IF(A205<>\"\",IF(AND(#REF!=\"Padrão\",$H$4=#REF!),BDI!$B$17,IF(AND(#REF!=\"Padrão\",$H$4=#REF!),BDI!$C$17,IF(AND(#REF!=\"Diferenciado\",$H$4=#REF!),BDI!$G$17,IF(AND(#REF!=\"Diferenciado\",$H$4=#REF!),BDI!$H$17,IF(#REF!=\"ZERO\",0))))),\"\")","v":{"$error":"#REF!"}},{"$error":"#REF!"},{"$error":"#REF!"}]
["SF-00201","Torneira de mesa para cozinha bica móvel – Linha Administrativa","un",0,{"$f":"OFFSET(INDEX(Composições!A:J,MATCH(Orçamentária!A206,Composições!A:A,0),8),2,0)","v":4.0093030499999989},0,{"$f":"IF(A206<>\"\",IF(AND(#REF!=\"Padrão\",$H$4=#REF!),BDI!$B$17,IF(AND(#REF!=\"Padrão\",$H$4=#REF!),BDI!$C$17,IF(AND(#REF!=\"Diferenciado\",$H$4=#REF!),BDI!$G$17,IF(AND(#REF!=\"Diferenciado\",$H$4=#REF!),BDI!$H$17,IF(#REF!=\"ZERO\",0))))),\"\")","v":{"$error":"#REF!"}},{"$error":"#REF!"},{"$error":"#REF!"}]
["SF-00202","Torneira de mesa para cozinha bica móvel com arejador – Linha Administrativa","un",0,{"$f":"OFFSET(INDEX(Composições!A:J,MATCH(Orçamentária!A207,Composições!A:A,0),8),2,0)","v":4.0093030499999989},0,{"$f":"IF(A207<>\"\",IF(AND(#REF!=\"Padrão\",$H$4=#REF!),BDI!$B$17,IF(AND(#REF!=\"Padrão\",$H$4=#REF!),BDI!$C$17,IF(AND(#REF!=\"Diferenciado\",$H$4=#REF!),BDI!$G$17,IF(AND(#REF!=\"Diferenciado\",$H$4=#REF!),BDI!$H$17,IF(#REF!=\"ZERO\",0))))),\"\")","v":{"$error":"#REF!"}},{"$error":"#REF!"},{"$error":"#REF!"}]
["SF-00203","Torneira de mesa para lavatório – Linha Acessibilidade","un",0,{"$f":"OFFSET(INDEX(Composições!A:J,MATCH(Orçamentária!A208,Composições!A:A,0),8),2,0)","v":2.3382027000000001},0,{"$f":"IF(A208<>\"\",IF(AND(#REF!=\"Padrão\",$H$4=#REF!),BDI!$B$17,IF(AND(#REF!=\"Padrão\",$H$4=#REF!),BDI!$C$17,IF(AND(#REF!=\"Diferenciado\",$H$4=#REF!),BDI!$G$17,IF(AND(#REF!=\"Diferenciado\",$H$4=#REF!),BDI!$H$17,IF(#REF!=\"ZERO\",0))))),\"\")","v":{"$error":"#REF!"}},{"$error":"#REF!"},{"$error":"#REF!"}]
["SF-00204","Torneira de mesa para lavatório bica alta – Linha Administrativa","un",0,{"$f":"OFFSET(INDEX(Composições!A:J,MATCH(Orçamentária!A209,Composições!A:A,0),8),2,0)","v":2.3382027000000001},0,{"$f":"IF(A209<>\"\",IF(AND(#REF!=\"Padrão\",$H$4=#REF!),BDI!$B$17,IF(AND(#REF!=\"Padrão\",$H$4=#REF!),BDI!$C$17,IF(AND(#REF!=\"Diferenciado\",$H$4=#REF!),BDI!$G$17,IF(AND(#REF!=\"Diferenciado\",$H$4=#REF!),BDI!$H$17,IF(#REF!=\"ZERO\",0))))),\"\")","v":{"$error":"#REF!"}},{"$error":"#REF!"},{"$error":"#REF!"}]
["SF-00205","Torneira de mesa para lavatório bica baixa – Linha Administrativa","un",0,{"$f":"OFFSET(INDEX(Composições!A:J,MATCH(Orçamentária!A210,Composições!A:A,0),8),2,0)","v":2.3382027000000001},0,{"$f":"IF(A210<>\"\",IF(AND(#REF!=\"Padrão\",$H$4=#REF!),BDI!$B$17,IF(AND(#REF!=\"Padrão\",$H$4=#REF!),BDI!$C$17,IF(AND(#REF!=\"Diferenciado\",$H$4=#REF!),BDI!$G$17,IF(AND(#REF!=\"Diferenciado\",$H$4=#REF!),BDI!$H$17,IF(#REF!=\"ZERO\",0))))),\"\")","v":{"$error":"#REF!"}},{"$error":"#REF!"},{"$error":"#REF!"}]
["SF-00206","Torneira de mesa para lavatório com fechamento automático – Linha Administrativa","un",0,{"$f":"OFFSET(INDEX(Composições!A:J,MATCH(Orçamentária!A211,Composições!A:A,0),8),2,0)","v":151.6117027},0,{"$f":"IF(A211<>\"\",IF(AND(#REF!=\"Padrão\",$H$4=#REF!),BDI!$B$17,IF(AND(#REF!=\"Padrão\",$H$4=#REF!),BDI!$C$17,IF(AND(#REF!=\"Diferenciado\",$H$4=#REF!),BDI!$G$17,IF(AND(#REF!=\"Diferenciado\",$H$4=#REF!),BDI!$H$17,IF(#REF!=\"ZERO\",0))))),\"\")","v":{"$error":"#REF!"}},{"$error":"#REF!"},{"$error":"#REF!"}]
["SF-00207","Torneira de parede para cozinha bica móvel – Linha Administrativa","un",0,{"$f":"OFFSET(INDEX(Composições!A:J,MATCH(Orçamentária!A212,Composições!A:A,0),8),2,0)","v":2.8203048999999996},0,{"$f":"IF(A212<>\"\",IF(AND(#REF!=\"Padrão\",$H$4=#REF!),BDI!$B$17,IF(AND(#REF!=\"Padrão\",$H$4=#REF!),BDI!$C$17,IF(AND(#REF!=\"Diferenciado\",$H$4=#REF!),BDI!$G$17,IF(AND(#REF!=\"Diferenciado\",$H$4=#REF!),BDI!$H$17,IF(#REF!=\"ZERO\",0))))),\"\")","v":{"$error":"#REF!"}},{"$error":"#REF!"},{"$error":"#REF!"}]
["SF-00208","Torneira de parede para tanque – Linha Administrativa","un",0,{"$f":"OFFSET(INDEX(Composições!A:J,MATCH(Orçamentária!A213,Composições!A:A,0),8),2,0)","v":56.789021149999989},0,{"$f":"IF(A213<>\"\",IF(AND(#REF!=\"Padrão\",$H$4=#REF!),BDI!$B$17,IF(AND(#REF!=\"Padrão\",$H$4=#REF!),BDI!$C$17,IF(AND(#REF!=\"Diferenciado\",$H$4=#REF!),BDI!$G$17,IF(AND(#REF!=\"Diferenciado\",$H$4=#REF!),BDI!$H$17,IF(#REF!=\"ZERO\",0))))),\"\")","v":{"$error":"#REF!"}},{"$error":"#REF!"},{"$error":"#REF!"}]
["SF-00209","Válvula de descarga 1 1/2\" – Linha Acessibilidade","un",0,{"$f":"OFFSET(INDEX(Composições!A:J,MATCH(Orçamentária!A214,Composições!A:A,0),8),2,0)","v":27.116771499999999},0,{"$f":"IF(A214<>\"\",IF(AND(#REF!=\"Padrão\",$H$4=#REF!),BDI!$B$17,IF(AND(#REF!=\"Padrão\",$H$4=#REF!),BDI!$C$17,IF(AND(#REF!=\"Diferenciado\",$H$4=#REF!),BDI!$G$17,IF(AND(#REF!=\"Diferenciado\",$H$4=#REF!),BDI!$H$17,IF(#REF!=\"ZERO\",0))))),\"\")","v":{"$error":"#REF!"}},{"$error":"#REF!"},{"$error":"#REF!"}]
["SF-00210","Válvula de descarga 1 1/2\" – Linha Administrativa","un",0,{"$f":"OFFSET(INDEX(Composições!A:J,MATCH(Orçamentária!A215,Composições!A:A,0),8),2,0)","v":206.10627149999996},0,{"$f":"IF(A215<>\"\",IF(AND(#REF!=\"Padrão\",$H$4=#REF!),BDI!$B$17,IF(AND(#REF!=\"Padrão\",$H$4=#REF!),BDI!$C$17,IF(AND(#REF!=\"Diferenciado\",$H$4=#REF!),BDI!$G$17,IF(AND(#REF!=\"Diferenciado\",$H$4=#REF!),BDI!$H$17,IF(#REF!=\"ZERO\",0))))),\"\")","v":{"$error":"#REF!"}},{"$error":"#REF!"},{"$error":"#REF!"}]
["SF-00211","Válvula de descarga 1 1/4\" – Linha Acessibilidade","un",0,{"$f":"OFFSET(INDEX(Composições!A:J,MATCH(Orçamentária!A216,Composições!A:A,0),8),2,0)","v":27.116771499999999},0,{"$f":"IF(A216<>\"\",IF(AND(#REF!=\"Padrão\",$H$4=#REF!),BDI!$B$17,IF(AND(#REF!=\"Padrão\",$H$4=#REF!),BDI!$C$17,IF(AND(#REF!=\"Diferenciado\",$H$4=#REF!),BDI!$G$17,IF(AND(#REF!=\"Diferenciado\",$H$4=#REF!),BDI!$H$17,IF(#REF!=\"ZERO\",0))))),\"\")","v":{"$error":"#REF!"}},{"$error":"#REF!"},{"$error":"#REF!"}]
["SF-00212","Válvula de descarga 1 1/4\" – Linha Administrativa","un",0,{"$f":"OFFSET(INDEX(Composições!A:J,MATCH(Orçamentária!A217,Composições!A:A,0),8),2,0)","v":172.11527149999995},0,{"$f":"IF(A217<>\"\",IF(AND(#REF!=\"Padrão\",$H$4=#REF!),BDI!$B$17,IF(AND(#REF!=\"Padrão\",$H$4=#REF!),BDI!$C$17,IF(AND(#REF!=\"Diferenciado\",$H$4=#REF!),BDI!$G$17,IF(AND(#REF!=\"Diferenciado\",$H$4=#REF!),BDI!$H$17,IF(#REF!=\"ZERO\",0))))),\"\")","v":{"$error":"#REF!"}},{"$error":"#REF!"},{"$error":"#REF!"}]
["SF-00213","Válvula de escoamento para lavatório – Linha Administrativa","un",0,{"$f":"OFFSET(INDEX(Composições!A:J,MATCH(Orçamentária!A218,Composições!A:A,0),8),2,0)","v":31.684890199999998},0,{"$f":"IF(A218<>\"\",IF(AND(#REF!=\"Padrão\",$H$4=#REF!),BDI!$B$17,IF(AND(#REF!=\"Padrão\",$H$4=#REF!),BDI!$C$17,IF(AND(#REF!=\"Diferenciado\",$H$4=#REF!),BDI!$G$17,IF(AND(#REF!=\"Diferenciado\",$H$4=#REF!),BDI!$H$17,IF(#REF!=\"ZERO\",0))))),\"\")","v":{"$error":"#REF!"}},{"$error":"#REF!"},{"$error":"#REF!"}]
["SF-00214","Válvula de escoamento para tanque – Linha Administrativa","un",0,{"$f":"OFFSET(INDEX(Composições!A:J,MATCH(Orçamentária!A219,Composições!A:A,0),8),2,0)","v":23.216346999999999},0,{"$f":"IF(A219<>\"\",IF(AND(#REF!=\"Padrão\",$H$4=#REF!),BDI!$B$17,IF(AND(#REF!=\"Padrão\",$H$4=#REF!),BDI!$C$17,IF(AND(#REF!=\"Diferenciado\",$H$4=#REF!),BDI!$G$17,IF(AND(#REF!=\"Diferenciado\",$H$4=#REF!),BDI!$H$17,IF(#REF!=\"ZERO\",0))))),\"\")","v":{"$error":"#REF!"}},{"$error":"#REF!"},{"$error":"#REF!"}]
["SF-00215","Válvula descarga para mictório – Linha Administrativa","un",0,{"$f":"OFFSET(INDEX(Composições!A:J,MATCH(Orçamentária!A220,Composições!A:A,0),8),2,0)","v":181.18777149999997},0,{"$f":"IF(A220<>\"\",IF(AND(#REF!=\"Padrão\",$H$4=#REF!),BDI!$B$17,IF(AND(#REF!=\"Padrão\",$H$4=#REF!),BDI!$C$17,IF(AND(#REF!=\"Diferenciado\",$H$4=#REF!),BDI!$G$17,IF(AND(#REF!=\"Diferenciado\",$H$4=#REF!),BDI!$H$17,IF(#REF!=\"ZERO\",0))))),\"\")","v":{"$error":"#REF!"}},{"$error":"#REF!"},{"$error":"#REF!"}]
["SF-00216","Alarme de emergência para sanitários PNE","un",0,{"$f":"OFFSET(INDEX(Composições!A:J,MATCH(Orçamentária!A221,Composições!A:A,0),8),2,0)","v":10.176969999999999},0,{"$f":"IF(A221<>\"\",IF(AND(#REF!=\"Padrão\",$H$4=#REF!),BDI!$B$17,IF(AND(#REF!=\"Padrão\",$H$4=#REF!),BDI!$C$17,IF(AND(#REF!=\"Diferenciado\",$H$4=#REF!),BDI!$G$17,IF(AND(#REF!=\"Diferenciado\",$H$4=#REF!),BDI!$H$17,IF(#REF!=\"ZERO\",0))))),\"\")","v":{"$error":"#REF!"}},{"$error":"#REF!"},{"$error":"#REF!"}]
["SF-00217","Barra de apoio 40cm – Linha Acessibilidade","un",0,{"$f":"OFFSET(INDEX(Composições!A:J,MATCH(Orçamentária!A222,Composições!A:A,0),8),2,0)","v":36.936},0,{"$f":"IF(A222<>\"\",IF(AND(#REF!=\"Padrão\",$H$4=#REF!),BDI!$B$17,IF(AND(#REF!=\"Padrão\",$H$4=#REF!),BDI!$C$17,IF(AND(#REF!=\"Diferenciado\",$H$4=#REF!),BDI!$G$17,IF(AND(#REF!=\"Diferenciado\",$H$4=#REF!),BDI!$H$17,IF(#REF!=\"ZERO\",0))))),\"\")","v":{"$error":"#REF!"}},{"$error":"#REF!"},{"$error":"#REF!"}]
["SF-00218","Barra de apoio 70cm – Linha Acessibilidade","un",0,{"$f":"OFFSET(INDEX(Composições!A:J,MATCH(Orçamentária!A223,Composições!A:A,0),8),2,0)","v":36.936},0,{"$f":"IF(A223<>\"\",IF(AND(#REF!=\"Padrão\",$H$4=#REF!),BDI!$B$17,IF(AND(#REF!=\"Padrão\",$H$4=#REF!),BDI!$C$17,IF(AND(#REF!=\"Diferenciado\",$H$4=#REF!),BDI!$G$17,IF(AND(#REF!=\"Diferenciado\",$H$4=#REF!),BDI!$H$17,IF(#REF!=\"ZERO\",0))))),\"\")","v":{"$error":"#REF!"}},{"$error":"#REF!"},{"$error":"#REF!"}]
["SF-00219","Barra de apoio 80cm – Linha Acessibilidade","un",0,{"$f":"OFFSET(INDEX(Composições!A:J,MATCH(Orçamentária!A224,Composições!A:A,0),8),2,0)","v":36.936},0,{"$f":"IF(A224<>\"\",IF(AND(#REF!=\"Padrão\",$H$4=#REF!),BDI!$B$17,IF(AND(#REF!=\"Padrão\",$H$4=#REF!),BDI!$C$17,IF(AND(#REF!=\"Diferenciado\",$H$4=#REF!),BDI!$G$17,IF(AND(#REF!=\"Diferenciado\",$H$4=#REF!),BDI!$H$17,IF(#REF!=\"ZERO\",0))))),\"\")","v":{"$error":"#REF!"}},{"$error":"#REF!"},{"$error":"#REF!"}]
["SF-00220","Barra de apoio lateral fixa 30cm – Linha Acessibilidade","un",0,{"$f":"OFFSET(INDEX(Composições!A:J,MATCH(Orçamentária!A225,Composições!A:A,0),8),2,0)","v":36.935999999999993},0,{"$f":"IF(A225<>\"\",IF(AND(#REF!=\"Padrão\",$H$4=#REF!),BDI!$B$17,IF(AND(#REF!=\"Padrão\",$H$4=#REF!),BDI!$C$17,IF(AND(#REF!=\"Diferenciado\",$H$4=#REF!),BDI!$G$17,IF(AND(#REF!=\"Diferenciado\",$H$4=#REF!),BDI!$H$17,IF(#REF!=\"ZERO\",0))))),\"\")","v":{"$error":"#REF!"}},{"$error":"#REF!"},{"$error":"#REF!"}]
["SF-00221","Lavatório suspenso – Linha Acessibilidade","un",0,{"$f":"OFFSET(INDEX(Composições!A:J,MATCH(Orçamentária!A226,Composições!A:A,0),8),2,0)","v":37.271169499999999},0,{"$f":"IF(A226<>\"\",IF(AND(#REF!=\"Padrão\",$H$4=#REF!),BDI!$B$17,IF(AND(#REF!=\"Padrão\",$H$4=#REF!),BDI!$C$17,IF(AND(#REF!=\"Diferenciado\",$H$4=#REF!),BDI!$G$17,IF(AND(#REF!=\"Diferenciado\",$H$4=#REF!),BDI!$H$17,IF(#REF!=\"ZERO\",0))))),\"\")","v":{"$error":"#REF!"}},{"$error":"#REF!"},{"$error":"#REF!"}]
["SF-00222","Lavatório suspenso com Coluna – Linha Acessibilidade","un",0,{"$f":"OFFSET(INDEX(Composições!A:J,MATCH(Orçamentária!A227,Composições!A:A,0),8),2,0)","v":118.65997324999998},0,{"$f":"IF(A227<>\"\",IF(AND(#REF!=\"Padrão\",$H$4=#REF!),BDI!$B$17,IF(AND(#REF!=\"Padrão\",$H$4=#REF!),BDI!$C$17,IF(AND(#REF!=\"Diferenciado\",$H$4=#REF!),BDI!$G$17,IF(AND(#REF!=\"Diferenciado\",$H$4=#REF!),BDI!$H$17,IF(#REF!=\"ZERO\",0))))),\"\")","v":{"$error":"#REF!"}},{"$error":"#REF!"},{"$error":"#REF!"}]
["SF-00223","Cabide – Linha Administrativa","un",0,{"$f":"OFFSET(INDEX(Composições!A:J,MATCH(Orçamentária!A228,Composições!A:A,0),8),2,0)","v":3.4316222999999999},0,{"$f":"IF(A228<>\"\",IF(AND(#REF!=\"Padrão\",$H$4=#REF!),BDI!$B$17,IF(AND(#REF!=\"Padrão\",$H$4=#REF!),BDI!$C$17,IF(AND(#REF!=\"Diferenciado\",$H$4=#REF!),BDI!$G$17,IF(AND(#REF!=\"Diferenciado\",$H$4=#REF!),BDI!$H$17,IF(#REF!=\"ZERO\",0))))),\"\")","v":{"$error":"#REF!"}},{"$error":"#REF!"},{"$error":"#REF!"}]
["SF-00224","Papeleira – Linha Administrativa","un",0,{"$f":"OFFSET(INDEX(Composições!A:J,MATCH(Orçamentária!A229,Composições!A:A,0),8),2,0)","v":7.4784056999999988},0,{"$f":"IF(A229<>\"\",IF(AND(#REF!=\"Padrão\",$H$4=#REF!),BDI!$B$17,IF(AND(#REF!=\"Padrão\",$H$4=#REF!),BDI!$C$17,IF(AND(#REF!=\"Diferenciado\",$H$4=#REF!),BDI!$G$17,IF(AND(#REF!=\"Diferenciado\",$H$4=#REF!),BDI!$H$17,IF(#REF!=\"ZERO\",0))))),\"\")","v":{"$error":"#REF!"}},{"$error":"#REF!"},{"$error":"#REF!"}]
["SF-00225","Porta toalha argola – Linha Administrativa","un",0,{"$f":"OFFSET(INDEX(Composições!A:J,MATCH(Orçamentária!A230,Composições!A:A,0),8),2,0)","v":7.4784056999999988},0,{"$f":"IF(A230<>\"\",IF(AND(#REF!=\"Padrão\",$H$4=#REF!),BDI!$B$17,IF(AND(#REF!=\"Padrão\",$H$4=#REF!),BDI!$C$17,IF(AND(#REF!=\"Diferenciado\",$H$4=#REF!),BDI!$G$17,IF(AND(#REF!=\"Diferenciado\",$H$4=#REF!),BDI!$H$17,IF(#REF!=\"ZERO\",0))))),\"\")","v":{"$error":"#REF!"}},{"$error":"#REF!"},{"$error":"#REF!"}]
["SF-00226","Porta toalha barra – Linha Administrativa","un",0,{"$f":"OFFSET(INDEX(Composições!A:J,MATCH(Orçamentária!A231,Composições!A:A,0),8),2,0)","v":14.954904749999999},0,{"$f":"IF(A231<>\"\",IF(AND(#REF!=\"Padrão\",$H$4=#REF!),BDI!$B$17,IF(AND(#REF!=\"Padrão\",$H$4=#REF!),BDI!$C$17,IF(AND(#REF!=\"Diferenciado\",$H$4=#REF!),BDI!$G$17,IF(AND(#REF!=\"Diferenciado\",$H$4=#REF!),BDI!$H$17,IF(#REF!=\"ZERO\",0))))),\"\")","v":{"$error":"#REF!"}},{"$error":"#REF!"},{"$error":"#REF!"}]
["SF-00227","Caixa 4x2 de embutir para alvenaria","un",0,{"$f":"OFFSET(INDEX(Composições!A:J,MATCH(Orçamentária!A232,Composições!A:A,0),8),2,0)","v":7.0480756204084489},0,{"$f":"IF(A232<>\"\",IF(AND(#REF!=\"Padrão\",$H$4=#REF!),BDI!$B$17,IF(AND(#REF!=\"Padrão\",$H$4=#REF!),BDI!$C$17,IF(AND(#REF!=\"Diferenciado\",$H$4=#REF!),BDI!$G$17,IF(AND(#REF!=\"Diferenciado\",$H$4=#REF!),BDI!$H$17,IF(#REF!=\"ZERO\",0))))),\"\")","v":{"$error":"#REF!"}},{"$error":"#REF!"},{"$error":"#REF!"}]
["SF-00228","Caixa 4x2 para drywall","un",0,{"$f":"OFFSET(INDEX(Composições!A:J,MATCH(Orçamentária!A233,Composições!A:A,0),8),2,0)","v":5.0884849999999995},0,{"$f":"IF(A233<>\"\",IF(AND(#REF!=\"Padrão\",$H$4=#REF!),BDI!$B$17,IF(AND(#REF!=\"Padrão\",$H$4=#REF!),BDI!$C$17,IF(AND(#REF!=\"Diferenciado\",$H$4=#REF!),BDI!$G$17,IF(AND(#REF!=\"Diferenciado\",$H$4=#REF!),BDI!$H$17,IF(#REF!=\"ZERO\",0))))),\"\")","v":{"$error":"#REF!"}},{"$error":"#REF!"},{"$error":"#REF!"}]
["SF-00229","Caixa 4x4 de embutir para alvenaria","un",0,{"$f":"OFFSET(INDEX(Composições!A:J,MATCH(Orçamentária!A234,Composições!A:A,0),8),2,0)","v":9.4293921605445998},0,{"$f":"IF(A234<>\"\",IF(AND(#REF!=\"Padrão\",$H$4=#REF!),BDI!$B$17,IF(AND(#REF!=\"Padrão\",$H$4=#REF!),BDI!$C$17,IF(AND(#REF!=\"Diferenciado\",$H$4=#REF!),BDI!$G$17,IF(AND(#REF!=\"Diferenciado\",$H$4=#REF!),BDI!$H$17,IF(#REF!=\"ZERO\",0))))),\"\")","v":{"$error":"#REF!"}},{"$error":"#REF!"},{"$error":"#REF!"}]
["SF-00230","Caixa 4x4 para drywall","un",0,{"$f":"OFFSET(INDEX(Composições!A:J,MATCH(Orçamentária!A235,Composições!A:A,0),8),2,0)","v":5.8254380000000001},0,{"$f":"IF(A235<>\"\",IF(AND(#REF!=\"Padrão\",$H$4=#REF!),BDI!$B$17,IF(AND(#REF!=\"Padrão\",$H$4=#REF!),BDI!$C$17,IF(AND(#REF!=\"Diferenciado\",$H$4=#REF!),BDI!$G$17,IF(AND(#REF!=\"Diferenciado\",$H$4=#REF!),BDI!$H$17,IF(#REF!=\"ZERO\",0))))),\"\")","v":{"$error":"#REF!"}},{"$error":"#REF!"},{"$error":"#REF!"}]
["SF-00231","Caixa de passagem em alumínio 100x100x50mm","un",0,{"$f":"OFFSET(INDEX(Composições!A:J,MATCH(Orçamentária!A236,Composições!A:A,0),8),2,0)","v":12.142177999999998},0,{"$f":"IF(A236<>\"\",IF(AND(#REF!=\"Padrão\",$H$4=#REF!),BDI!$B$17,IF(AND(#REF!=\"Padrão\",$H$4=#REF!),BDI!$C$17,IF(AND(#REF!=\"Diferenciado\",$H$4=#REF!),BDI!$G$17,IF(AND(#REF!=\"Diferenciado\",$H$4=#REF!),BDI!$H$17,IF(#REF!=\"ZERO\",0))))),\"\")","v":{"$error":"#REF!"}},{"$error":"#REF!"},{"$error":"#REF!"}]
["SF-00232","Caixa de passagem em alumínio 200x200x100mm","un",0,{"$f":"OFFSET(INDEX(Composições!A:J,MATCH(Orçamentária!A237,Composições!A:A,0),8),2,0)","v":12.142177999999998},0,{"$f":"IF(A237<>\"\",IF(AND(#REF!=\"Padrão\",$H$4=#REF!),BDI!$B$17,IF(AND(#REF!=\"Padrão\",$H$4=#REF!),BDI!$C$17,IF(AND(#REF!=\"Diferenciado\",$H$4=#REF!),BDI!$G$17,IF(AND(#REF!=\"Diferenciado\",$H$4=#REF!),BDI!$H$17,IF(#REF!=\"ZERO\",0))))),\"\")","v":{"$error":"#REF!"}},{"$error":"#REF!"},{"$error":"#REF!"}]
["SF-00233","Caixa de passagem em PVC 150x150x75mm","un",0,{"$f":"OFFSET(INDEX(Composições!A:J,MATCH(Orçamentária!A238,Composições!A:A,0),8),2,0)","v":43.762699999999995},0,{"$f":"IF(A238<>\"\",IF(AND(#REF!=\"Padrão\",$H$4=#REF!),BDI!$B$17,IF(AND(#REF!=\"Padrão\",$H$4=#REF!),BDI!$C$17,IF(AND(#REF!=\"Diferenciado\",$H$4=#REF!),BDI!$G$17,IF(AND(#REF!=\"Diferenciado\",$H$4=#REF!),BDI!$H$17,IF(#REF!=\"ZERO\",0))))),\"\")","v":{"$error":"#REF!"}},{"$error":"#REF!"},{"$error":"#REF!"}]
["SF-00234","Caixa para piso elevado","un",0,{"$f":"OFFSET(INDEX(Composições!A:J,MATCH(Orçamentária!A239,Composições!A:A,0),8),2,0)","v":12.142177999999998},0,{"$f":"IF(A239<>\"\",IF(AND(#REF!=\"Padrão\",$H$4=#REF!),BDI!$B$17,IF(AND(#REF!=\"Padrão\",$H$4=#REF!),BDI!$C$17,IF(AND(#REF!=\"Diferenciado\",$H$4=#REF!),BDI!$G$17,IF(AND(#REF!=\"Diferenciado\",$H$4=#REF!),BDI!$H$17,IF(#REF!=\"ZERO\",0))))),\"\")","v":{"$error":"#REF!"}},{"$error":"#REF!"},{"$error":"#REF!"}]
["SF-00235","Canaleta em alumínio aparente 73mmx25mm","m",0,{"$f":"OFFSET(INDEX(Composições!A:J,MATCH(Orçamentária!A240,Composições!A:A,0),8),2,0)","v":6.3167399999999994},0,{"$f":"IF(A240<>\"\",IF(AND(#REF!=\"Padrão\",$H$4=#REF!),BDI!$B$17,IF(AND(#REF!=\"Padrão\",$H$4=#REF!),BDI!$C$17,IF(AND(#REF!=\"Diferenciado\",$H$4=#REF!),BDI!$G$17,IF(AND(#REF!=\"Diferenciado\",$H$4=#REF!),BDI!$H$17,IF(#REF!=\"ZERO\",0))))),\"\")","v":{"$error":"#REF!"}},{"$error":"#REF!"},{"$error":"#REF!"}]
["SF-00236","Condulete de alumínio de 1’’","un",0,{"$f":"OFFSET(INDEX(Composições!A:J,MATCH(Orçamentária!A241,Composições!A:A,0),8),2,0)","v":31.285580499999995},0,{"$f":"IF(A241<>\"\",IF(AND(#REF!=\"Padrão\",$H$4=#REF!),BDI!$B$17,IF(AND(#REF!=\"Padrão\",$H$4=#REF!),BDI!$C$17,IF(AND(#REF!=\"Diferenciado\",$H$4=#REF!),BDI!$G$17,IF(AND(#REF!=\"Diferenciado\",$H$4=#REF!),BDI!$H$17,IF(#REF!=\"ZERO\",0))))),\"\")","v":{"$error":"#REF!"}},{"$error":"#REF!"},{"$error":"#REF!"}]
["SF-00237","Eletrocalha 100x50 mm","m",0,{"$f":"OFFSET(INDEX(Composições!A:J,MATCH(Orçamentária!A242,Composições!A:A,0),8),2,0)","v":16.704602399999999},0,{"$f":"IF(A242<>\"\",IF(AND(#REF!=\"Padrão\",$H$4=#REF!),BDI!$B$17,IF(AND(#REF!=\"Padrão\",$H$4=#REF!),BDI!$C$17,IF(AND(#REF!=\"Diferenciado\",$H$4=#REF!),BDI!$G$17,IF(AND(#REF!=\"Diferenciado\",$H$4=#REF!),BDI!$H$17,IF(#REF!=\"ZERO\",0))))),\"\")","v":{"$error":"#REF!"}},{"$error":"#REF!"},{"$error":"#REF!"}]
["SF-00238","Eletrocalha 200x100 mm","m",0,{"$f":"OFFSET(INDEX(Composições!A:J,MATCH(Orçamentária!A243,Composições!A:A,0),8),2,0)","v":22.272567599999999},0,{"$f":"IF(A243<>\"\",IF(AND(#REF!=\"Padrão\",$H$4=#REF!),BDI!$B$17,IF(AND(#REF!=\"Padrão\",$H$4=#REF!),BDI!$C$17,IF(AND(#REF!=\"Diferenciado\",$H$4=#REF!),BDI!$G$17,IF(AND(#REF!=\"Diferenciado\",$H$4=#REF!),BDI!$H$17,IF(#REF!=\"ZERO\",0))))),\"\")","v":{"$error":"#REF!"}},{"$error":"#REF!"},{"$error":"#REF!"}]
["SF-00239","Eletrocalha 200x50 mm","m",0,{"$f":"OFFSET(INDEX(Composições!A:J,MATCH(Orçamentária!A244,Composições!A:A,0),8),2,0)","v":18.763267599999999},0,{"$f":"IF(A244<>\"\",IF(AND(#REF!=\"Padrão\",$H$4=#REF!),BDI!$B$17,IF(AND(#REF!=\"Padrão\",$H$4=#REF!),BDI!$C$17,IF(AND(#REF!=\"Diferenciado\",$H$4=#REF!),BDI!$G$17,IF(AND(#REF!=\"Diferenciado\",$H$4=#REF!),BDI!$H$17,IF(#REF!=\"ZERO\",0))))),\"\")","v":{"$error":"#REF!"}},{"$error":"#REF!"},{"$error":"#REF!"}]
["SF-00240","Eletrocalha 300x100 mm","m",0,{"$f":"OFFSET(INDEX(Composições!A:J,MATCH(Orçamentária!A245,Composições!A:A,0),8),2,0)","v":24.0272176},0,{"$f":"IF(A245<>\"\",IF(AND(#REF!=\"Padrão\",$H$4=#REF!),BDI!$B$17,IF(AND(#REF!=\"Padrão\",$H$4=#REF!),BDI!$C$17,IF(AND(#REF!=\"Diferenciado\",$H$4=#REF!),BDI!$G$17,IF(AND(#REF!=\"Diferenciado\",$H$4=#REF!),BDI!$H$17,IF(#REF!=\"ZERO\",0))))),\"\")","v":{"$error":"#REF!"}},{"$error":"#REF!"},{"$error":"#REF!"}]
["SF-00241","Eletrocalha 300x50 mm","m",0,{"$f":"OFFSET(INDEX(Composições!A:J,MATCH(Orçamentária!A246,Composições!A:A,0),8),2,0)","v":20.517917600000001},0,{"$f":"IF(A246<>\"\",IF(AND(#REF!=\"Padrão\",$H$4=#REF!),BDI!$B$17,IF(AND(#REF!=\"Padrão\",$H$4=#REF!),BDI!$C$17,IF(AND(#REF!=\"Diferenciado\",$H$4=#REF!),BDI!$G$17,IF(AND(#REF!=\"Diferenciado\",$H$4=#REF!),BDI!$H$17,IF(#REF!=\"ZERO\",0))))),\"\")","v":{"$error":"#REF!"}},{"$error":"#REF!"},{"$error":"#REF!"}]
["SF-00242","Eletrocalha 400x50 mm","m",0,{"$f":"OFFSET(INDEX(Composições!A:J,MATCH(Orçamentária!A247,Composições!A:A,0),8),2,0)","v":20.517917600000001},0,{"$f":"IF(A247<>\"\",IF(AND(#REF!=\"Padrão\",$H$4=#REF!),BDI!$B$17,IF(AND(#REF!=\"Padrão\",$H$4=#REF!),BDI!$C$17,IF(AND(#REF!=\"Diferenciado\",$H$4=#REF!),BDI!$G$17,IF(AND(#REF!=\"Diferenciado\",$H$4=#REF!),BDI!$H$17,IF(#REF!=\"ZERO\",0))))),\"\")","v":{"$error":"#REF!"}},{"$error":"#REF!"},{"$error":"#REF!"}]
["SF-00243","Eletrocalha 50x50 mm","m",0,{"$f":"OFFSET(INDEX(Composições!A:J,MATCH(Orçamentária!A248,Composições!A:A,0),8),2,0)","v":17.3411024},0,{"$f":"IF(A248<>\"\",IF(AND(#REF!=\"Padrão\",$H$4=#REF!),BDI!$B$17,IF(AND(#REF!=\"Padrão\",$H$4=#REF!),BDI!$C$17,IF(AND(#REF!=\"Diferenciado\",$H$4=#REF!),BDI!$G$17,IF(AND(#REF!=\"Diferenciado\",$H$4=#REF!),BDI!$H$17,IF(#REF!=\"ZERO\",0))))),\"\")","v":{"$error":"#REF!"}},{"$error":"#REF!"},{"$error":"#REF!"}]
["SF-00244","Eletroduto de aço galvanizado de 1 1/2\"","m",0,{"$f":"OFFSET(INDEX(Composições!A:J,MATCH(Orçamentária!A249,Composições!A:A,0),8),2,0)","v":16.58399537819},0,{"$f":"IF(A249<>\"\",IF(AND(#REF!=\"Padrão\",$H$4=#REF!),BDI!$B$17,IF(AND(#REF!=\"Padrão\",$H$4=#REF!),BDI!$C$17,IF(AND(#REF!=\"Diferenciado\",$H$4=#REF!),BDI!$G$17,IF(AND(#REF!=\"Diferenciado\",$H$4=#REF!),BDI!$H$17,IF(#REF!=\"ZERO\",0))))),\"\")","v":{"$error":"#REF!"}},{"$error":"#REF!"},{"$error":"#REF!"}]
["SF-00245","Eletroduto de aço galvanizado de 1 1/4\"","m",0,{"$f":"OFFSET(INDEX(Composições!A:J,MATCH(Orçamentária!A250,Composições!A:A,0),8),2,0)","v":14.530460030179999},0,{"$f":"IF(A250<>\"\",IF(AND(#REF!=\"Padrão\",$H$4=#REF!),BDI!$B$17,IF(AND(#REF!=\"Padrão\",$H$4=#REF!),BDI!$C$17,IF(AND(#REF!=\"Diferenciado\",$H$4=#REF!),BDI!$G$17,IF(AND(#REF!=\"Diferenciado\",$H$4=#REF!),BDI!$H$17,IF(#REF!=\"ZERO\",0))))),\"\")","v":{"$error":"#REF!"}},{"$error":"#REF!"},{"$error":"#REF!"}]
["SF-00246","Eletroduto de aço galvanizado de 1\"","m",0,{"$f":"OFFSET(INDEX(Composições!A:J,MATCH(Orçamentária!A251,Composições!A:A,0),8),2,0)","v":12.69078526977},0,{"$f":"IF(A251<>\"\",IF(AND(#REF!=\"Padrão\",$H$4=#REF!),BDI!$B$17,IF(AND(#REF!=\"Padrão\",$H$4=#REF!),BDI!$C$17,IF(AND(#REF!=\"Diferenciado\",$H$4=#REF!),BDI!$G$17,IF(AND(#REF!=\"Diferenciado\",$H$4=#REF!),BDI!$H$17,IF(#REF!=\"ZERO\",0))))),\"\")","v":{"$error":"#REF!"}},{"$error":"#REF!"},{"$error":"#REF!"}]
["SF-00247","Eletroduto de aço galvanizado de 2\"","m",0,{"$f":"OFFSET(INDEX(Composições!A:J,MATCH(Orçamentária!A252,Composições!A:A,0),8),2,0)","v":19.361137978190001},0,{"$f":"IF(A252<>\"\",IF(AND(#REF!=\"Padrão\",$H$4=#REF!),BDI!$B$17,IF(AND(#REF!=\"Padrão\",$H$4=#REF!),BDI!$C$17,IF(AND(#REF!=\"Diferenciado\",$H$4=#REF!),BDI!$G$17,IF(AND(#REF!=\"Diferenciado\",$H$4=#REF!),BDI!$H$17,IF(#REF!=\"ZERO\",0))))),\"\")","v":{"$error":"#REF!"}},{"$error":"#REF!"},{"$error":"#REF!"}]
["SF-00248","Eletroduto de aço galvanizado de 3/4\"","m",0,{"$f":"OFFSET(INDEX(Composições!A:J,MATCH(Orçamentária!A253,Composições!A:A,0),8),2,0)","v":11.605308333629999},0,{"$f":"IF(A253<>\"\",IF(AND(#REF!=\"Padrão\",$H$4=#REF!),BDI!$B$17,IF(AND(#REF!=\"Padrão\",$H$4=#REF!),BDI!$C$17,IF(AND(#REF!=\"Diferenciado\",$H$4=#REF!),BDI!$G$17,IF(AND(#REF!=\"Diferenciado\",$H$4=#REF!),BDI!$H$17,IF(#REF!=\"ZERO\",0))))),\"\")","v":{"$error":"#REF!"}},{"$error":"#REF!"},{"$error":"#REF!"}]
["SF-00249","Eletroduto de PVC Corrugado Reforçado 1'' (DE 32mm)","m",0,{"$f":"OFFSET(INDEX(Composições!A:J,MATCH(Orçamentária!A254,Composições!A:A,0),8),2,0)","v":10.313228500000001},0,{"$f":"IF(A254<>\"\",IF(AND(#REF!=\"Padrão\",$H$4=#REF!),BDI!$B$17,IF(AND(#REF!=\"Padrão\",$H$4=#REF!),BDI!$C$17,IF(AND(#REF!=\"Diferenciado\",$H$4=#REF!),BDI!$G$17,IF(AND(#REF!=\"Diferenciado\",$H$4=#REF!),BDI!$H$17,IF(#REF!=\"ZERO\",0))))),\"\")","v":{"$error":"#REF!"}},{"$error":"#REF!"},{"$error":"#REF!"}]
["SF-00250","Eletroduto de PVC Corrugado Reforçado 3/4'' (DE 25mm)","m",0,{"$f":"OFFSET(INDEX(Composições!A:J,MATCH(Orçamentária!A255,Composições!A:A,0),8),2,0)","v":7.1974185000000004},0,{"$f":"IF(A255<>\"\",IF(AND(#REF!=\"Padrão\",$H$4=#REF!),BDI!$B$17,IF(AND(#REF!=\"Padrão\",$H$4=#REF!),BDI!$C$17,IF(AND(#REF!=\"Diferenciado\",$H$4=#REF!),BDI!$G$17,IF(AND(#REF!=\"Diferenciado\",$H$4=#REF!),BDI!$H$17,IF(#REF!=\"ZERO\",0))))),\"\")","v":{"$error":"#REF!"}},{"$error":"#REF!"},{"$error":"#REF!"}]
["SF-00251","Eletroduto flexível metálico com capa de PVC 1’’","m",0,{"$f":"OFFSET(INDEX(Composições!A:J,MATCH(Orçamentária!A256,Composições!A:A,0),8),2,0)","v":16.091613000000002},0,{"$f":"IF(A256<>\"\",IF(AND(#REF!=\"Padrão\",$H$4=#REF!),BDI!$B$17,IF(AND(#REF!=\"Padrão\",$H$4=#REF!),BDI!$C$17,IF(AND(#REF!=\"Diferenciado\",$H$4=#REF!),BDI!$G$17,IF(AND(#REF!=\"Diferenciado\",$H$4=#REF!),BDI!$H$17,IF(#REF!=\"ZERO\",0))))),\"\")","v":{"$error":"#REF!"}},{"$error":"#REF!"},{"$error":"#REF!"}]
["SF-00252","Eletroduto flexível metálico com capa de PVC 3/4\"","m",0,{"$f":"OFFSET(INDEX(Composições!A:J,MATCH(Orçamentária!A257,Composições!A:A,0),8),2,0)","v":12.4715468},0,{"$f":"IF(A257<>\"\",IF(AND(#REF!=\"Padrão\",$H$4=#REF!),BDI!$B$17,IF(AND(#REF!=\"Padrão\",$H$4=#REF!),BDI!$C$17,IF(AND(#REF!=\"Diferenciado\",$H$4=#REF!),BDI!$G$17,IF(AND(#REF!=\"Diferenciado\",$H$4=#REF!),BDI!$H$17,IF(#REF!=\"ZERO\",0))))),\"\")","v":{"$error":"#REF!"}},{"$error":"#REF!"},{"$error":"#REF!"}]
["SF-00253","Perfilado 38x38mm","m",0,{"$f":"OFFSET(INDEX(Composições!A:J,MATCH(Orçamentária!A258,Composições!A:A,0),8),2,0)","v":17.352217400000001},0,{"$f":"IF(A258<>\"\",IF(AND(#REF!=\"Padrão\",$H$4=#REF!),BDI!$B$17,IF(AND(#REF!=\"Padrão\",$H$4=#REF!),BDI!$C$17,IF(AND(#REF!=\"Diferenciado\",$H$4=#REF!),BDI!$G$17,IF(AND(#REF!=\"Diferenciado\",$H$4=#REF!),BDI!$H$17,IF(#REF!=\"ZERO\",0))))),\"\")","v":{"$error":"#REF!"}},{"$error":"#REF!"},{"$error":"#REF!"}]
["SF-00254","Espelho 4x2","un",0,{"$f":"OFFSET(INDEX(Composições!A:J,MATCH(Orçamentária!A259,Composições!A:A,0),8),2,0)","v":5.6143479999999997},0,{"$f":"IF(A259<>\"\",IF(AND(#REF!=\"Padrão\",$H$4=#REF!),BDI!$B$17,IF(AND(#REF!=\"Padrão\",$H$4=#REF!),BDI!$C$17,IF(AND(#REF!=\"Diferenciado\",$H$4=#REF!),BDI!$G$17,IF(AND(#REF!=\"Diferenciado\",$H$4=#REF!),BDI!$H$17,IF(#REF!=\"ZERO\",0))))),\"\")","v":{"$error":"#REF!"}},{"$error":"#REF!"},{"$error":"#REF!"}]
["SF-00255","Espelho 4x4","un",0,{"$f":"OFFSET(INDEX(Composições!A:J,MATCH(Orçamentária!A260,Composições!A:A,0),8),2,0)","v":9.415184},0,{"$f":"IF(A260<>\"\",IF(AND(#REF!=\"Padrão\",$H$4=#REF!),BDI!$B$17,IF(AND(#REF!=\"Padrão\",$H$4=#REF!),BDI!$C$17,IF(AND(#REF!=\"Diferenciado\",$H$4=#REF!),BDI!$G$17,IF(AND(#REF!=\"Diferenciado\",$H$4=#REF!),BDI!$H$17,IF(#REF!=\"ZERO\",0))))),\"\")","v":{"$error":"#REF!"}},{"$error":"#REF!"},{"$error":"#REF!"}]
["SF-00256","Espelho cego redondo","un",0,{"$f":"OFFSET(INDEX(Composições!A:J,MATCH(Orçamentária!A261,Composições!A:A,0),8),2,0)","v":4.2186839999999997},0,{"$f":"IF(A261<>\"\",IF(AND(#REF!=\"Padrão\",$H$4=#REF!),BDI!$B$17,IF(AND(#REF!=\"Padrão\",$H$4=#REF!),BDI!$C$17,IF(AND(#REF!=\"Diferenciado\",$H$4=#REF!),BDI!$G$17,IF(AND(#REF!=\"Diferenciado\",$H$4=#REF!),BDI!$H$17,IF(#REF!=\"ZERO\",0))))),\"\")","v":{"$error":"#REF!"}},{"$error":"#REF!"},{"$error":"#REF!"}]
["SF-00257","Interruptor para condulete","un",0,{"$f":"OFFSET(INDEX(Composições!A:J,MATCH(Orçamentária!A262,Composições!A:A,0),8),2,0)","v":5.2639499999999995},0,{"$f":"IF(A262<>\"\",IF(AND(#REF!=\"Padrão\",$H$4=#REF!),BDI!$B$17,IF(AND(#REF!=\"Padrão\",$H$4=#REF!),BDI!$C$17,IF(AND(#REF!=\"Diferenciado\",$H$4=#REF!),BDI!$G$17,IF(AND(#REF!=\"Diferenciado\",$H$4=#REF!),BDI!$H$17,IF(#REF!=\"ZERO\",0))))),\"\")","v":{"$error":"#REF!"}},{"$error":"#REF!"},{"$error":"#REF!"}]
["SF-00258","Módulo cego","un",0,{"$f":"OFFSET(INDEX(Composições!A:J,MATCH(Orçamentária!A263,Composições!A:A,0),8),2,0)","v":1.9645999999999999},{"$f":"IF(ISNUMBER(E263),D263*E263,\"\")","v":0},{"$f":"IF(A263<>\"\",IF(AND(#REF!=\"Padrão\",$H$4=#REF!),BDI!$B$17,IF(AND(#REF!=\"Padrão\",$H$4=#REF!),BDI!$C$17,IF(AND(#REF!=\"Diferenciado\",$H$4=#REF!),BDI!$G$17,IF(AND(#REF!=\"Diferenciado\",$H$4=#REF!),BDI!$H$17,IF(#REF!=\"ZERO\",0))))),\"\")","v":{"$error":"#REF!"}},{"$f":"IF(ISNUMBER(E263),ROUND(E263*(1+G263),2),\"\")","v":{"$error":"#REF!"}},{"$f":"IF(ISNUMBER(E263),ROUND(H263*D263,2),\"\")","v":{"$error":"#REF!"}}]
["SF-00259","Módulo interruptor paralelo","un",0,{"$f":"OFFSET(INDEX(Composições!A:J,MATCH(Orçamentária!A264,Composições!A:A,0),8),2,0)","v":18.674644000000001},0,{"$f":"IF(A264<>\"\",IF(AND(#REF!=\"Padrão\",$H$4=#REF!),BDI!$B$17,IF(AND(#REF!=\"Padrão\",$H$4=#REF!),BDI!$C$17,IF(AND(#REF!=\"Diferenciado\",$H$4=#REF!),BDI!$G$17,IF(AND(#REF!=\"Diferenciado\",$H$4=#REF!),BDI!$H$17,IF(#REF!=\"ZERO\",0))))),\"\")","v":{"$error":"#REF!"}},{"$error":"#REF!"},{"$error":"#REF!"}]
["SF-00260","Módulo interruptor simples","un",0,{"$f":"OFFSET(INDEX(Composições!A:J,MATCH(Orçamentária!A265,Composições!A:A,0),8),2,0)","v":13.928424999999999},0,{"$f":"IF(A265<>\"\",IF(AND(#REF!=\"Padrão\",$H$4=#REF!),BDI!$B$17,IF(AND(#REF!=\"Padrão\",$H$4=#REF!),BDI!$C$17,IF(AND(#REF!=\"Diferenciado\",$H$4=#REF!),BDI!$G$17,IF(AND(#REF!=\"Diferenciado\",$H$4=#REF!),BDI!$H$17,IF(#REF!=\"ZERO\",0))))),\"\")","v":{"$error":"#REF!"}},{"$error":"#REF!"},{"$error":"#REF!"}]
["SF-00261","Módulo para saída de fio","un",0,{"$f":"OFFSET(INDEX(Composições!A:J,MATCH(Orçamentária!A266,Composições!A:A,0),8),2,0)","v":1.9645999999999999},0,{"$f":"IF(A266<>\"\",IF(AND(#REF!=\"Padrão\",$H$4=#REF!),BDI!$B$17,IF(AND(#REF!=\"Padrão\",$H$4=#REF!),BDI!$C$17,IF(AND(#REF!=\"Diferenciado\",$H$4=#REF!),BDI!$G$17,IF(AND(#REF!=\"Diferenciado\",$H$4=#REF!),BDI!$H$17,IF(#REF!=\"ZERO\",0))))),\"\")","v":{"$error":"#REF!"}},{"$error":"#REF!"},{"$error":"#REF!"}]
["SF-00262","Módulo sensor de presença","un",0,{"$f":"OFFSET(INDEX(Composições!A:J,MATCH(Orçamentária!A267,Composições!A:A,0),8),2,0)","v":10.808643999999999},0,{"$f":"IF(A267<>\"\",IF(AND(#REF!=\"Padrão\",$H$4=#REF!),BDI!$B$17,IF(AND(#REF!=\"Padrão\",$H$4=#REF!),BDI!$C$17,IF(AND(#REF!=\"Diferenciado\",$H$4=#REF!),BDI!$G$17,IF(AND(#REF!=\"Diferenciado\",$H$4=#REF!),BDI!$H$17,IF(#REF!=\"ZERO\",0))))),\"\")","v":{"$error":"#REF!"}},{"$error":"#REF!"},{"$error":"#REF!"}]
["SF-00263","Módulo tomada 10 A","un",0,{"$f":"OFFSET(INDEX(Composições!A:J,MATCH(Orçamentária!A268,Composições!A:A,0),8),2,0)","v":15.115354999999999},0,{"$f":"IF(A268<>\"\",IF(AND(#REF!=\"Padrão\",$H$4=#REF!),BDI!$B$17,IF(AND(#REF!=\"Padrão\",$H$4=#REF!),BDI!$C$17,IF(AND(#REF!=\"Diferenciado\",$H$4=#REF!),BDI!$G$17,IF(AND(#REF!=\"Diferenciado\",$H$4=#REF!),BDI!$H$17,IF(#REF!=\"ZERO\",0))))),\"\")","v":{"$error":"#REF!"}},{"$error":"#REF!"},{"$error":"#REF!"}]
["SF-00264","Módulo tomada 20 A","un",0,{"$f":"OFFSET(INDEX(Composições!A:J,MATCH(Orçamentária!A269,Composições!A:A,0),8),2,0)","v":17.034354999999998},0,{"$f":"IF(A269<>\"\",IF(AND(#REF!=\"Padrão\",$H$4=#REF!),BDI!$B$17,IF(AND(#REF!=\"Padrão\",$H$4=#REF!),BDI!$C$17,IF(AND(#REF!=\"Diferenciado\",$H$4=#REF!),BDI!$G$17,IF(AND(#REF!=\"Diferenciado\",$H$4=#REF!),BDI!$H$17,IF(#REF!=\"ZERO\",0))))),\"\")","v":{"$error":"#REF!"}},{"$error":"#REF!"},{"$error":"#REF!"}]
["SF-00265","Porta equipamentos para canaleta de alumínio aparente","un",0,{"$f":"OFFSET(INDEX(Composições!A:J,MATCH(Orçamentária!A270,Composições!A:A,0),8),2,0)","v":6.1412749999999994},0,{"$f":"IF(A270<>\"\",IF(AND(#REF!=\"Padrão\",$H$4=#REF!),BDI!$B$17,IF(AND(#REF!=\"Padrão\",$H$4=#REF!),BDI!$C$17,IF(AND(#REF!=\"Diferenciado\",$H$4=#REF!),BDI!$G$17,IF(AND(#REF!=\"Diferenciado\",$H$4=#REF!),BDI!$H$17,IF(#REF!=\"ZERO\",0))))),\"\")","v":{"$error":"#REF!"}},{"$error":"#REF!"},{"$error":"#REF!"}]
["SF-00266","Tampa cega metálica para caixas de piso 4x2","un",0,{"$f":"OFFSET(INDEX(Composições!A:J,MATCH(Orçamentária!A271,Composições!A:A,0),8),2,0)","v":1.5447000000000002},0,{"$f":"IF(A271<>\"\",IF(AND(#REF!=\"Padrão\",$H$4=#REF!),BDI!$B$17,IF(AND(#REF!=\"Padrão\",$H$4=#REF!),BDI!$C$17,IF(AND(#REF!=\"Diferenciado\",$H$4=#REF!),BDI!$G$17,IF(AND(#REF!=\"Diferenciado\",$H$4=#REF!),BDI!$H$17,IF(#REF!=\"ZERO\",0))))),\"\")","v":{"$error":"#REF!"}},{"$error":"#REF!"},{"$error":"#REF!"}]
["SF-00267","Tampa cega metálica para caixas de piso 4x4","un",0,{"$f":"OFFSET(INDEX(Composições!A:J,MATCH(Orçamentária!A272,Composições!A:A,0),8),2,0)","v":1.5447000000000002},0,{"$f":"IF(A272<>\"\",IF(AND(#REF!=\"Padrão\",$H$4=#REF!),BDI!$B$17,IF(AND(#REF!=\"Padrão\",$H$4=#REF!),BDI!$C$17,IF(AND(#REF!=\"Diferenciado\",$H$4=#REF!),BDI!$G$17,IF(AND(#REF!=\"Diferenciado\",$H$4=#REF!),BDI!$H$17,IF(#REF!=\"ZERO\",0))))),\"\")","v":{"$error":"#REF!"}},{"$error":"#REF!"},{"$error":"#REF!"}]
["SF-00268","Tampa cega para condulete","un",0,{"$f":"OFFSET(INDEX(Composições!A:J,MATCH(Orçamentária!A273,Composições!A:A,0),8),2,0)","v":2.3170500000000001},0,{"$f":"IF(A273<>\"\",IF(AND(#REF!=\"Padrão\",$H$4=#REF!),BDI!$B$17,IF(AND(#REF!=\"Padrão\",$H$4=#REF!),BDI!$C$17,IF(AND(#REF!=\"Diferenciado\",$H$4=#REF!),BDI!$G$17,IF(AND(#REF!=\"Diferenciado\",$H$4=#REF!),BDI!$H$17,IF(#REF!=\"ZERO\",0))))),\"\")","v":{"$error":"#REF!"}},{"$error":"#REF!"},{"$error":"#REF!"}]
["SF-00269","Tampa RJ45 dupla para condulete","un",0,{"$f":"OFFSET(INDEX(Composições!A:J,MATCH(Orçamentária!A274,Composições!A:A,0),8),2,0)","v":5.2639499999999995},0,{"$f":"IF(A274<>\"\",IF(AND(#REF!=\"Padrão\",$H$4=#REF!),BDI!$B$17,IF(AND(#REF!=\"Padrão\",$H$4=#REF!),BDI!$C$17,IF(AND(#REF!=\"Diferenciado\",$H$4=#REF!),BDI!$G$17,IF(AND(#REF!=\"Diferenciado\",$H$4=#REF!),BDI!$H$17,IF(#REF!=\"ZERO\",0))))),\"\")","v":{"$error":"#REF!"}},{"$error":"#REF!"},{"$error":"#REF!"}]
["SF-00270","Tomada para condulete","un",0,{"$f":"OFFSET(INDEX(Composições!A:J,MATCH(Orçamentária!A275,Composições!A:A,0),8),2,0)","v":10.808643999999999},0,{"$f":"IF(A275<>\"\",IF(AND(#REF!=\"Padrão\",$H$4=#REF!),BDI!$B$17,IF(AND(#REF!=\"Padrão\",$H$4=#REF!),BDI!$C$17,IF(AND(#REF!=\"Diferenciado\",$H$4=#REF!),BDI!$G$17,IF(AND(#REF!=\"Diferenciado\",$H$4=#REF!),BDI!$H$17,IF(#REF!=\"ZERO\",0))))),\"\")","v":{"$error":"#REF!"}},{"$error":"#REF!"},{"$error":"#REF!"}]
["SF-00271","Tomada para perfilado e eletrocalha","un",0,{"$f":"OFFSET(INDEX(Composições!A:J,MATCH(Orçamentária!A276,Composições!A:A,0),8),2,0)","v":22.810449999999999},0,{"$f":"IF(A276<>\"\",IF(AND(#REF!=\"Padrão\",$H$4=#REF!),BDI!$B$17,IF(AND(#REF!=\"Padrão\",$H$4=#REF!),BDI!$C$17,IF(AND(#REF!=\"Diferenciado\",$H$4=#REF!),BDI!$G$17,IF(AND(#REF!=\"Diferenciado\",$H$4=#REF!),BDI!$H$17,IF(#REF!=\"ZERO\",0))))),\"\")","v":{"$error":"#REF!"}},{"$error":"#REF!"},{"$error":"#REF!"}]
["SF-00272","Bloco autônomo de emergência","un",0,{"$f":"OFFSET(INDEX(Composições!A:J,MATCH(Orçamentária!A277,Composições!A:A,0),8),2,0)","v":4.6818925999999994},0,{"$f":"IF(A277<>\"\",IF(AND(#REF!=\"Padrão\",$H$4=#REF!),BDI!$B$17,IF(AND(#REF!=\"Padrão\",$H$4=#REF!),BDI!$C$17,IF(AND(#REF!=\"Diferenciado\",$H$4=#REF!),BDI!$G$17,IF(AND(#REF!=\"Diferenciado\",$H$4=#REF!),BDI!$H$17,IF(#REF!=\"ZERO\",0))))),\"\")","v":{"$error":"#REF!"}},{"$error":"#REF!"},{"$error":"#REF!"}]
["SF-00273","Instalação de luminária reaproveitada","un",0,{"$f":"OFFSET(INDEX(Composições!A:J,MATCH(Orçamentária!A278,Composições!A:A,0),8),2,0)","v":9.2624505999999993},0,{"$f":"IF(A278<>\"\",IF(AND(#REF!=\"Padrão\",$H$4=#REF!),BDI!$B$17,IF(AND(#REF!=\"Padrão\",$H$4=#REF!),BDI!$C$17,IF(AND(#REF!=\"Diferenciado\",$H$4=#REF!),BDI!$G$17,IF(AND(#REF!=\"Diferenciado\",$H$4=#REF!),BDI!$H$17,IF(#REF!=\"ZERO\",0))))),\"\")","v":{"$error":"#REF!"}},{"$error":"#REF!"},{"$error":"#REF!"}]
["SF-00274","Luminária 2x14 W de embutir","un",0,{"$f":"OFFSET(INDEX(Composições!A:J,MATCH(Orçamentária!A279,Composições!A:A,0),8),2,0)","v":9.2624505999999993},0,{"$f":"IF(A279<>\"\",IF(AND(#REF!=\"Padrão\",$H$4=#REF!),BDI!$B$17,IF(AND(#REF!=\"Padrão\",$H$4=#REF!),BDI!$C$17,IF(AND(#REF!=\"Diferenciado\",$H$4=#REF!),BDI!$G$17,IF(AND(#REF!=\"Diferenciado\",$H$4=#REF!),BDI!$H$17,IF(#REF!=\"ZERO\",0))))),\"\")","v":{"$error":"#REF!"}},{"$error":"#REF!"},{"$error":"#REF!"}]
["SF-00275","Luminária 2x14 W de sobrepor","un",0,{"$f":"OFFSET(INDEX(Composições!A:J,MATCH(Orçamentária!A280,Composições!A:A,0),8),2,0)","v":10.8089993},0,{"$f":"IF(A280<>\"\",IF(AND(#REF!=\"Padrão\",$H$4=#REF!),BDI!$B$17,IF(AND(#REF!=\"Padrão\",$H$4=#REF!),BDI!$C$17,IF(AND(#REF!=\"Diferenciado\",$H$4=#REF!),BDI!$G$17,IF(AND(#REF!=\"Diferenciado\",$H$4=#REF!),BDI!$H$17,IF(#REF!=\"ZERO\",0))))),\"\")","v":{"$error":"#REF!"}},{"$error":"#REF!"},{"$error":"#REF!"}]
["SF-00276","Luminária 2x28 W de embutir","un",0,{"$f":"OFFSET(INDEX(Composições!A:J,MATCH(Orçamentária!A281,Composições!A:A,0),8),2,0)","v":9.2624505999999993},0,{"$f":"IF(A281<>\"\",IF(AND(#REF!=\"Padrão\",$H$4=#REF!),BDI!$B$17,IF(AND(#REF!=\"Padrão\",$H$4=#REF!),BDI!$C$17,IF(AND(#REF!=\"Diferenciado\",$H$4=#REF!),BDI!$G$17,IF(AND(#REF!=\"Diferenciado\",$H$4=#REF!),BDI!$H$17,IF(#REF!=\"ZERO\",0))))),\"\")","v":{"$error":"#REF!"}},{"$error":"#REF!"},{"$error":"#REF!"}]
["SF-00277","Luminária 2x28 W de sobrepor","un",0,{"$f":"OFFSET(INDEX(Composições!A:J,MATCH(Orçamentária!A282,Composições!A:A,0),8),2,0)","v":10.8089993},0,{"$f":"IF(A282<>\"\",IF(AND(#REF!=\"Padrão\",$H$4=#REF!),BDI!$B$17,IF(AND(#REF!=\"Padrão\",$H$4=#REF!),BDI!$C$17,IF(AND(#REF!=\"Diferenciado\",$H$4=#REF!),BDI!$G$17,IF(AND(#REF!=\"Diferenciado\",$H$4=#REF!),BDI!$H$17,IF(#REF!=\"ZERO\",0))))),\"\")","v":{"$error":"#REF!"}},{"$error":"#REF!"},{"$error":"#REF!"}]
["SF-00278","Condutor 10mm²","m",0,{"$f":"OFFSET(INDEX(Composições!A:J,MATCH(Orçamentária!A283,Composições!A:A,0),8),2,0)","v":1.3244519999999997},0,{"$f":"IF(A283<>\"\",IF(AND(#REF!=\"Padrão\",$H$4=#REF!),BDI!$B$17,IF(AND(#REF!=\"Padrão\",$H$4=#REF!),BDI!$C$17,IF(AND(#REF!=\"Diferenciado\",$H$4=#REF!),BDI!$G$17,IF(AND(#REF!=\"Diferenciado\",$H$4=#REF!),BDI!$H$17,IF(#REF!=\"ZERO\",0))))),\"\")","v":{"$error":"#REF!"}},{"$error":"#REF!"},{"$error":"#REF!"}]
["SF-00279","Condutor 16mm²","m",0,{"$f":"OFFSET(INDEX(Composições!A:J,MATCH(Orçamentária!A284,Composições!A:A,0),8),2,0)","v":1.4648239999999997},0,{"$f":"IF(A284<>\"\",IF(AND(#REF!=\"Padrão\",$H$4=#REF!),BDI!$B$17,IF(AND(#REF!=\"Padrão\",$H$4=#REF!),BDI!$C$17,IF(AND(#REF!=\"Diferenciado\",$H$4=#REF!),BDI!$G$17,IF(AND(#REF!=\"Diferenciado\",$H$4=#REF!),BDI!$H$17,IF(#REF!=\"ZERO\",0))))),\"\")","v":{"$error":"#REF!"}},{"$error":"#REF!"},{"$error":"#REF!"}]
["SF-00280","Condutor 2,5 mm²","m",0,{"$f":"OFFSET(INDEX(Composições!A:J,MATCH(Orçamentária!A285,Composições!A:A,0),8),2,0)","v":1.0824585},0,{"$f":"IF(A285<>\"\",IF(AND(#REF!=\"Padrão\",$H$4=#REF!),BDI!$B$17,IF(AND(#REF!=\"Padrão\",$H$4=#REF!),BDI!$C$17,IF(AND(#REF!=\"Diferenciado\",$H$4=#REF!),BDI!$G$17,IF(AND(#REF!=\"Diferenciado\",$H$4=#REF!),BDI!$H$17,IF(#REF!=\"ZERO\",0))))),\"\")","v":{"$error":"#REF!"}},{"$error":"#REF!"},{"$error":"#REF!"}]
["SF-00281","Condutor 3x2,5 mm²","m",0,{"$f":"OFFSET(INDEX(Composições!A:J,MATCH(Orçamentária!A286,Composições!A:A,0),8),2,0)","v":1.8545045},0,{"$f":"IF(A286<>\"\",IF(AND(#REF!=\"Padrão\",$H$4=#REF!),BDI!$B$17,IF(AND(#REF!=\"Padrão\",$H$4=#REF!),BDI!$C$17,IF(AND(#REF!=\"Diferenciado\",$H$4=#REF!),BDI!$G$17,IF(AND(#REF!=\"Diferenciado\",$H$4=#REF!),BDI!$H$17,IF(#REF!=\"ZERO\",0))))),\"\")","v":{"$error":"#REF!"}},{"$error":"#REF!"},{"$error":"#REF!"}]
["SF-00282","Condutor 4 mm²","m",0,{"$f":"OFFSET(INDEX(Composições!A:J,MATCH(Orçamentária!A287,Composições!A:A,0),8),2,0)","v":1.4333885},0,{"$f":"IF(A287<>\"\",IF(AND(#REF!=\"Padrão\",$H$4=#REF!),BDI!$B$17,IF(AND(#REF!=\"Padrão\",$H$4=#REF!),BDI!$C$17,IF(AND(#REF!=\"Diferenciado\",$H$4=#REF!),BDI!$G$17,IF(AND(#REF!=\"Diferenciado\",$H$4=#REF!),BDI!$H$17,IF(#REF!=\"ZERO\",0))))),\"\")","v":{"$error":"#REF!"}},{"$error":"#REF!"},{"$error":"#REF!"}]
["SF-00283","Condutor 4x2,5 mm²","m",0,{"$f":"OFFSET(INDEX(Composições!A:J,MATCH(Orçamentária!A288,Composições!A:A,0),8),2,0)","v":0.348802},0,{"$f":"IF(A288<>\"\",IF(AND(#REF!=\"Padrão\",$H$4=#REF!),BDI!$B$17,IF(AND(#REF!=\"Padrão\",$H$4=#REF!),BDI!$C$17,IF(AND(#REF!=\"Diferenciado\",$H$4=#REF!),BDI!$G$17,IF(AND(#REF!=\"Diferenciado\",$H$4=#REF!),BDI!$H$17,IF(#REF!=\"ZERO\",0))))),\"\")","v":{"$error":"#REF!"}},{"$error":"#REF!"},{"$error":"#REF!"}]
["SF-00284","Condutor 6 mm²","m",0,{"$f":"OFFSET(INDEX(Composições!A:J,MATCH(Orçamentária!A289,Composições!A:A,0),8),2,0)","v":1.8545045},0,{"$f":"IF(A289<>\"\",IF(AND(#REF!=\"Padrão\",$H$4=#REF!),BDI!$B$17,IF(AND(#REF!=\"Padrão\",$H$4=#REF!),BDI!$C$17,IF(AND(#REF!=\"Diferenciado\",$H$4=#REF!),BDI!$G$17,IF(AND(#REF!=\"Diferenciado\",$H$4=#REF!),BDI!$H$17,IF(#REF!=\"ZERO\",0))))),\"\")","v":{"$error":"#REF!"}},{"$error":"#REF!"},{"$error":"#REF!"}]
["SF-00285","Quadro elétrico TTA","un",0,{"$f":"OFFSET(INDEX(Composições!A:J,MATCH(Orçamentária!A290,Composições!A:A,0),8),2,0)","v":122.82550000000001},0,{"$f":"IF(A290<>\"\",IF(AND(#REF!=\"Padrão\",$H$4=#REF!),BDI!$B$17,IF(AND(#REF!=\"Padrão\",$H$4=#REF!),BDI!$C$17,IF(AND(#REF!=\"Diferenciado\",$H$4=#REF!),BDI!$G$17,IF(AND(#REF!=\"Diferenciado\",$H$4=#REF!),BDI!$H$17,IF(#REF!=\"ZERO\",0))))),\"\")","v":{"$error":"#REF!"}},{"$error":"#REF!"},{"$error":"#REF!"}]
["SF-00286","Ar-condicionado do tipo split piso-teto inverter 54.000BTU/h","un",0,"","",{"$f":"IF(A291<>\"\",IF(AND(#REF!=\"Padrão\",$H$4=#REF!),BDI!$B$17,IF(AND(#REF!=\"Padrão\",$H$4=#REF!),BDI!$C$17,IF(AND(#REF!=\"Diferenciado\",$H$4=#REF!),BDI!$G$17,IF(AND(#REF!=\"Diferenciado\",$H$4=#REF!),BDI!$H$17,IF(#REF!=\"ZERO\",0))))),\"\")","v":{"$error":"#REF!"}},"",""]
["SF-00287","Ar-condicionado fancolete hidrônico dutado 2,5 TR","un",0,"","",{"$f":"IF(A292<>\"\",IF(AND(#REF!=\"Padrão\",$H$4=#REF!),BDI!$B$17,IF(AND(#REF!=\"Padrão\",$H$4=#REF!),BDI!$C$17,IF(AND(#REF!=\"Diferenciado\",$H$4=#REF!),BDI!$G$17,IF(AND(#REF!=\"Diferenciado\",$H$4=#REF!),BDI!$H$17,IF(#REF!=\"ZERO\",0))))),\"\")","v":{"$error":"#REF!"}},"",""]
["SF-00288","Ar-condicionado fancolete hidrônico dutado 4,5 TR","un",0,"","",{"$f":"IF(A293<>\"\",IF(AND(#REF!=\"Padrão\",$H$4=#REF!),BDI!$B$17,IF(AND(#REF!=\"Padrão\",$H$4=#REF!),BDI!$C$17,IF(AND(#REF!=\"Diferenciado\",$H$4=#REF!),BDI!$G$17,IF(AND(#REF!=\"Diferenciado\",$H$4=#REF!),BDI!$H$17,IF(#REF!=\"ZERO\",0))))),\"\")","v":{"$error":"#REF!"}},"",""]
["SF-00289","Ar-condicionado fancolete hidrônico hi-wall 1,4 TR","un",0,"","",{"$f":"IF(A294<>\"\",IF(AND(#REF!=\"Padrão\",$H$4=#REF!),BDI!$B$17,IF(AND(#REF!=\"Padrão\",$H$4=#REF!),BDI!$C$17,IF(AND(#REF!=\"Diferenciado\",$H$4=#REF!),BDI!$G$17,IF(AND(#REF!=\"Diferenciado\",$H$4=#REF!),BDI!$H$17,IF(#REF!=\"ZERO\",0))))),\"\")","v":{"$error":"#REF!"}},"",""]
["SF-00290","Ar-condicionado split dutado inverter 30.000 BTU/h","un",0,"","",{"$f":"IF(A295<>\"\",IF(AND(#REF!=\"Padrão\",$H$4=#REF!),BDI!$B$17,IF(AND(#REF!=\"Padrão\",$H$4=#REF!),BDI!$C$17,IF(AND(#REF!=\"Diferenciado\",$H$4=#REF!),BDI!$G$17,IF(AND(#REF!=\"Diferenciado\",$H$4=#REF!),BDI!$H$17,IF(#REF!=\"ZERO\",0))))),\"\")","v":{"$error":"#REF!"}},"",""]
["SF-00291","Ar-condicionado split hi-wall inverter 12.000 BTU/h","un",0,"","",{"$f":"IF(A296<>\"\",IF(AND(#REF!=\"Padrão\",$H$4=#REF!),BDI!$B$17,IF(AND(#REF!=\"Padrão\",$H$4=#REF!),BDI!$C$17,IF(AND(#REF!=\"Diferenciado\",$H$4=#REF!),BDI!$G$17,IF(AND(#REF!=\"Diferenciado\",$H$4=#REF!),BDI!$H$17,IF(#REF!=\"ZERO\",0))))),\"\")","v":{"$error":"#REF!"}},"",""]
["SF-00292","Ar-condicionado split hi-wall inverter 22.000 BTU/h","un",0,"","",{"$f":"IF(A297<>\"\",IF(AND(#REF!=\"Padrão\",$H$4=#REF!),BDI!$B$17,IF(AND(#REF!=\"Padrão\",$H$4=#REF!),BDI!$C$17,IF(AND(#REF!=\"Diferenciado\",$H$4=#REF!),BDI!$G$17,IF(AND(#REF!=\"Diferenciado\",$H$4=#REF!),BDI!$H$17,IF(#REF!=\"ZERO\",0))))),\"\")","v":{"$error":"#REF!"}},"",""]
["SF-00293","Instalação de fancolete reaproveitado","un",0,{"$f":"OFFSET(INDEX(Composições!A:J,MATCH(Orçamentária!A298,Composições!A:A,0),8),2,0)","v":71.705999999999989},0,{"$f":"IF(A298<>\"\",IF(AND(#REF!=\"Padrão\",$H$4=#REF!),BDI!$B$17,IF(AND(#REF!=\"Padrão\",$H$4=#REF!),BDI!$C$17,IF(AND(#REF!=\"Diferenciado\",$H$4=#REF!),BDI!$G$17,IF(AND(#REF!=\"Diferenciado\",$H$4=#REF!),BDI!$H$17,IF(#REF!=\"ZERO\",0))))),\"\")","v":{"$error":"#REF!"}},{"$error":"#REF!"},{"$error":"#REF!"}]
["SF-00294","Instalação de split reaproveitado","un",0,{"$f":"OFFSET(INDEX(Composições!A:J,MATCH(Orçamentária!A299,Composições!A:A,0),8),2,0)","v":107.559},0,{"$f":"IF(A299<>\"\",IF(AND(#REF!=\"Padrão\",$H$4=#REF!),BDI!$B$17,IF(AND(#REF!=\"Padrão\",$H$4=#REF!),BDI!$C$17,IF(AND(#REF!=\"Diferenciado\",$H$4=#REF!),BDI!$G$17,IF(AND(#REF!=\"Diferenciado\",$H$4=#REF!),BDI!$H$17,IF(#REF!=\"ZERO\",0))))),\"\")","v":{"$error":"#REF!"}},{"$error":"#REF!"},{"$error":"#REF!"}]
["SF-00295","Exaustor axial 340 m3/h","un",0,{"$f":"OFFSET(INDEX(Composições!A:J,MATCH(Orçamentária!A300,Composições!A:A,0),8),2,0)","v":35.092999999999996},0,{"$f":"IF(A300<>\"\",IF(AND(#REF!=\"Padrão\",$H$4=#REF!),BDI!$B$17,IF(AND(#REF!=\"Padrão\",$H$4=#REF!),BDI!$C$17,IF(AND(#REF!=\"Diferenciado\",$H$4=#REF!),BDI!$G$17,IF(AND(#REF!=\"Diferenciado\",$H$4=#REF!),BDI!$H$17,IF(#REF!=\"ZERO\",0))))),\"\")","v":{"$error":"#REF!"}},{"$error":"#REF!"},{"$error":"#REF!"}]
["SF-00296","Exaustor axial 865 m3/h","un",0,{"$f":"OFFSET(INDEX(Composições!A:J,MATCH(Orçamentária!A301,Composições!A:A,0),8),2,0)","v":35.092999999999996},0,{"$f":"IF(A301<>\"\",IF(AND(#REF!=\"Padrão\",$H$4=#REF!),BDI!$B$17,IF(AND(#REF!=\"Padrão\",$H$4=#REF!),BDI!$C$17,IF(AND(#REF!=\"Diferenciado\",$H$4=#REF!),BDI!$G$17,IF(AND(#REF!=\"Diferenciado\",$H$4=#REF!),BDI!$H$17,IF(#REF!=\"ZERO\",0))))),\"\")","v":{"$error":"#REF!"}},{"$error":"#REF!"},{"$error":"#REF!"}]
["SF-00297","Duto chapa galvanizada # 22","m2",0,{"$f":"OFFSET(INDEX(Composições!A:J,MATCH(Orçamentária!A302,Composições!A:A,0),8),2,0)","v":181.31532799999999},0,{"$f":"IF(A302<>\"\",IF(AND(#REF!=\"Padrão\",$H$4=#REF!),BDI!$B$17,IF(AND(#REF!=\"Padrão\",$H$4=#REF!),BDI!$C$17,IF(AND(#REF!=\"Diferenciado\",$H$4=#REF!),BDI!$G$17,IF(AND(#REF!=\"Diferenciado\",$H$4=#REF!),BDI!$H$17,IF(#REF!=\"ZERO\",0))))),\"\")","v":{"$error":"#REF!"}},{"$error":"#REF!"},{"$error":"#REF!"}]
["SF-00298","Duto flexível 6”","m",0,{"$f":"OFFSET(INDEX(Composições!A:J,MATCH(Orçamentária!A303,Composições!A:A,0),8),2,0)","v":13.9536},0,{"$f":"IF(A303<>\"\",IF(AND(#REF!=\"Padrão\",$H$4=#REF!),BDI!$B$17,IF(AND(#REF!=\"Padrão\",$H$4=#REF!),BDI!$C$17,IF(AND(#REF!=\"Diferenciado\",$H$4=#REF!),BDI!$G$17,IF(AND(#REF!=\"Diferenciado\",$H$4=#REF!),BDI!$H$17,IF(#REF!=\"ZERO\",0))))),\"\")","v":{"$error":"#REF!"}},{"$error":"#REF!"},{"$error":"#REF!"}]
["SF-00299","Duto flexível 8”","m",0,{"$f":"OFFSET(INDEX(Composições!A:J,MATCH(Orçamentária!A304,Composições!A:A,0),8),2,0)","v":13.9536},0,{"$f":"IF(A304<>\"\",IF(AND(#REF!=\"Padrão\",$H$4=#REF!),BDI!$B$17,IF(AND(#REF!=\"Padrão\",$H$4=#REF!),BDI!$C$17,IF(AND(#REF!=\"Diferenciado\",$H$4=#REF!),BDI!$G$17,IF(AND(#REF!=\"Diferenciado\",$H$4=#REF!),BDI!$H$17,IF(#REF!=\"ZERO\",0))))),\"\")","v":{"$error":"#REF!"}},{"$error":"#REF!"},{"$error":"#REF!"}]
["SF-00300","Difusor de ar quadrado 360x360 mm","un",0,{"$f":"OFFSET(INDEX(Composições!A:J,MATCH(Orçamentária!A305,Composições!A:A,0),8),2,0)","v":89.632499999999993},0,{"$f":"IF(A305<>\"\",IF(AND(#REF!=\"Padrão\",$H$4=#REF!),BDI!$B$17,IF(AND(#REF!=\"Padrão\",$H$4=#REF!),BDI!$C$17,IF(AND(#REF!=\"Diferenciado\",$H$4=#REF!),BDI!$G$17,IF(AND(#REF!=\"Diferenciado\",$H$4=#REF!),BDI!$H$17,IF(#REF!=\"ZERO\",0))))),\"\")","v":{"$error":"#REF!"}},{"$error":"#REF!"},{"$error":"#REF!"}]
["SF-00301","Difusor de ar quadrado com caixa plenum AK6 360x360 mm","un",0,{"$f":"OFFSET(INDEX(Composições!A:J,MATCH(Orçamentária!A306,Composições!A:A,0),8),2,0)","v":89.632499999999993},0,{"$f":"IF(A306<>\"\",IF(AND(#REF!=\"Padrão\",$H$4=#REF!),BDI!$B$17,IF(AND(#REF!=\"Padrão\",$H$4=#REF!),BDI!$C$17,IF(AND(#REF!=\"Diferenciado\",$H$4=#REF!),BDI!$G$17,IF(AND(#REF!=\"Diferenciado\",$H$4=#REF!),BDI!$H$17,IF(#REF!=\"ZERO\",0))))),\"\")","v":{"$error":"#REF!"}},{"$error":"#REF!"},{"$error":"#REF!"}]
["SF-00302","Difusor de ar quadrado para insuflamento em duas direções perpendiculares 376x376 mm","un",0,{"$f":"OFFSET(INDEX(Composições!A:J,MATCH(Orçamentária!A307,Composições!A:A,0),8),2,0)","v":89.632499999999993},0,{"$f":"IF(A307<>\"\",IF(AND(#REF!=\"Padrão\",$H$4=#REF!),BDI!$B$17,IF(AND(#REF!=\"Padrão\",$H$4=#REF!),BDI!$C$17,IF(AND(#REF!=\"Diferenciado\",$H$4=#REF!),BDI!$G$17,IF(AND(#REF!=\"Diferenciado\",$H$4=#REF!),BDI!$H$17,IF(#REF!=\"ZERO\",0))))),\"\")","v":{"$error":"#REF!"}},{"$error":"#REF!"},{"$error":"#REF!"}]
["SF-00303","Difusor de ar retangular para insuflamento em duas direções 371x208 mm","un",0,{"$f":"OFFSET(INDEX(Composições!A:J,MATCH(Orçamentária!A308,Composições!A:A,0),8),2,0)","v":89.632499999999993},0,{"$f":"IF(A308<>\"\",IF(AND(#REF!=\"Padrão\",$H$4=#REF!),BDI!$B$17,IF(AND(#REF!=\"Padrão\",$H$4=#REF!),BDI!$C$17,IF(AND(#REF!=\"Diferenciado\",$H$4=#REF!),BDI!$G$17,IF(AND(#REF!=\"Diferenciado\",$H$4=#REF!),BDI!$H$17,IF(#REF!=\"ZERO\",0))))),\"\")","v":{"$error":"#REF!"}},{"$error":"#REF!"},{"$error":"#REF!"}]
["SF-00304","Difusor de ar retangular para insuflamento em três direções 264x432 mm","un",0,{"$f":"OFFSET(INDEX(Composições!A:J,MATCH(Orçamentária!A309,Composições!A:A,0),8),2,0)","v":89.632499999999993},0,{"$f":"IF(A309<>\"\",IF(AND(#REF!=\"Padrão\",$H$4=#REF!),BDI!$B$17,IF(AND(#REF!=\"Padrão\",$H$4=#REF!),BDI!$C$17,IF(AND(#REF!=\"Diferenciado\",$H$4=#REF!),BDI!$G$17,IF(AND(#REF!=\"Diferenciado\",$H$4=#REF!),BDI!$H$17,IF(#REF!=\"ZERO\",0))))),\"\")","v":{"$error":"#REF!"}},{"$error":"#REF!"},{"$error":"#REF!"}]
["SF-00305","Difusor de ar retangular para insuflamento em três direções 320x562 mm","un",0,{"$f":"OFFSET(INDEX(Composições!A:J,MATCH(Orçamentária!A310,Composições!A:A,0),8),2,0)","v":89.632499999999993},0,{"$f":"IF(A310<>\"\",IF(AND(#REF!=\"Padrão\",$H$4=#REF!),BDI!$B$17,IF(AND(#REF!=\"Padrão\",$H$4=#REF!),BDI!$C$17,IF(AND(#REF!=\"Diferenciado\",$H$4=#REF!),BDI!$G$17,IF(AND(#REF!=\"Diferenciado\",$H$4=#REF!),BDI!$H$17,IF(#REF!=\"ZERO\",0))))),\"\")","v":{"$error":"#REF!"}},{"$error":"#REF!"},{"$error":"#REF!"}]
["SF-00306","Difusor de ar retangular para insuflamento em três direções 371x208 mm","un",0,{"$f":"OFFSET(INDEX(Composições!A:J,MATCH(Orçamentária!A311,Composições!A:A,0),8),2,0)","v":89.632499999999993},0,{"$f":"IF(A311<>\"\",IF(AND(#REF!=\"Padrão\",$H$4=#REF!),BDI!$B$17,IF(AND(#REF!=\"Padrão\",$H$4=#REF!),BDI!$C$17,IF(AND(#REF!=\"Diferenciado\",$H$4=#REF!),BDI!$G$17,IF(AND(#REF!=\"Diferenciado\",$H$4=#REF!),BDI!$H$17,IF(#REF!=\"ZERO\",0))))),\"\")","v":{"$error":"#REF!"}},{"$error":"#REF!"},{"$error":"#REF!"}]
["SF-00307","Difusor de ar retangular para insuflamento em uma direção 371x208 mm","un",0,{"$f":"OFFSET(INDEX(Composições!A:J,MATCH(Orçamentária!A312,Composições!A:A,0),8),2,0)","v":89.632499999999993},0,{"$f":"IF(A312<>\"\",IF(AND(#REF!=\"Padrão\",$H$4=#REF!),BDI!$B$17,IF(AND(#REF!=\"Padrão\",$H$4=#REF!),BDI!$C$17,IF(AND(#REF!=\"Diferenciado\",$H$4=#REF!),BDI!$G$17,IF(AND(#REF!=\"Diferenciado\",$H$4=#REF!),BDI!$H$17,IF(#REF!=\"ZERO\",0))))),\"\")","v":{"$error":"#REF!"}},{"$error":"#REF!"},{"$error":"#REF!"}]
["SF-00308","Grelha para retorno retangular 425x225 mm","un",0,{"$f":"OFFSET(INDEX(Composições!A:J,MATCH(Orçamentária!A313,Composições!A:A,0),8),2,0)","v":125.4855},0,{"$f":"IF(A313<>\"\",IF(AND(#REF!=\"Padrão\",$H$4=#REF!),BDI!$B$17,IF(AND(#REF!=\"Padrão\",$H$4=#REF!),BDI!$C$17,IF(AND(#REF!=\"Diferenciado\",$H$4=#REF!),BDI!$G$17,IF(AND(#REF!=\"Diferenciado\",$H$4=#REF!),BDI!$H$17,IF(#REF!=\"ZERO\",0))))),\"\")","v":{"$error":"#REF!"}},{"$error":"#REF!"},{"$error":"#REF!"}]
["SF-00309","Grelha para retorno retangular 525x325 mm","un",0,{"$f":"OFFSET(INDEX(Composições!A:J,MATCH(Orçamentária!A314,Composições!A:A,0),8),2,0)","v":125.4855},0,{"$f":"IF(A314<>\"\",IF(AND(#REF!=\"Padrão\",$H$4=#REF!),BDI!$B$17,IF(AND(#REF!=\"Padrão\",$H$4=#REF!),BDI!$C$17,IF(AND(#REF!=\"Diferenciado\",$H$4=#REF!),BDI!$G$17,IF(AND(#REF!=\"Diferenciado\",$H$4=#REF!),BDI!$H$17,IF(#REF!=\"ZERO\",0))))),\"\")","v":{"$error":"#REF!"}},{"$error":"#REF!"},{"$error":"#REF!"}]
["SF-00310","Instalação de difusores, grelhas e acessórios de climatização reaproveitados","un",0,{"$f":"OFFSET(INDEX(Composições!A:J,MATCH(Orçamentária!A315,Composições!A:A,0),8),2,0)","v":89.632499999999993},0,{"$f":"IF(A315<>\"\",IF(AND(#REF!=\"Padrão\",$H$4=#REF!),BDI!$B$17,IF(AND(#REF!=\"Padrão\",$H$4=#REF!),BDI!$C$17,IF(AND(#REF!=\"Diferenciado\",$H$4=#REF!),BDI!$G$17,IF(AND(#REF!=\"Diferenciado\",$H$4=#REF!),BDI!$H$17,IF(#REF!=\"ZERO\",0))))),\"\")","v":{"$error":"#REF!"}},{"$error":"#REF!"},{"$error":"#REF!"}]
["SF-00311","Instalação de exaustor reaproveitado","un",0,{"$f":"OFFSET(INDEX(Composições!A:J,MATCH(Orçamentária!A316,Composições!A:A,0),8),2,0)","v":35.092999999999996},0,{"$f":"IF(A316<>\"\",IF(AND(#REF!=\"Padrão\",$H$4=#REF!),BDI!$B$17,IF(AND(#REF!=\"Padrão\",$H$4=#REF!),BDI!$C$17,IF(AND(#REF!=\"Diferenciado\",$H$4=#REF!),BDI!$G$17,IF(AND(#REF!=\"Diferenciado\",$H$4=#REF!),BDI!$H$17,IF(#REF!=\"ZERO\",0))))),\"\")","v":{"$error":"#REF!"}},{"$error":"#REF!"},{"$error":"#REF!"}]
["SF-00312","Preparação para instalação de difusores/grelhas de ar em portas","un",0,{"$f":"OFFSET(INDEX(Composições!A:J,MATCH(Orçamentária!A317,Composições!A:A,0),8),2,0)","v":27.074999999999999},0,{"$f":"IF(A317<>\"\",IF(AND(#REF!=\"Padrão\",$H$4=#REF!),BDI!$B$17,IF(AND(#REF!=\"Padrão\",$H$4=#REF!),BDI!$C$17,IF(AND(#REF!=\"Diferenciado\",$H$4=#REF!),BDI!$G$17,IF(AND(#REF!=\"Diferenciado\",$H$4=#REF!),BDI!$H$17,IF(#REF!=\"ZERO\",0))))),\"\")","v":{"$error":"#REF!"}},{"$error":"#REF!"},{"$error":"#REF!"}]
["SF-00313","Bomba para condensado de ar-condicionado para instalação oculta","un",0,{"$f":"OFFSET(INDEX(Composições!A:J,MATCH(Orçamentária!A318,Composições!A:A,0),8),2,0)","v":35.092999999999996},0,{"$f":"IF(A318<>\"\",IF(AND(#REF!=\"Padrão\",$H$4=#REF!),BDI!$B$17,IF(AND(#REF!=\"Padrão\",$H$4=#REF!),BDI!$C$17,IF(AND(#REF!=\"Diferenciado\",$H$4=#REF!),BDI!$G$17,IF(AND(#REF!=\"Diferenciado\",$H$4=#REF!),BDI!$H$17,IF(#REF!=\"ZERO\",0))))),\"\")","v":{"$error":"#REF!"}},{"$error":"#REF!"},{"$error":"#REF!"}]
["SF-00314","Fita aluminizada para refrigeração 48 mm","m",0,{"$f":"OFFSET(INDEX(Composições!A:J,MATCH(Orçamentária!A319,Composições!A:A,0),8),2,0)","v":0.77615000000000001},0,{"$f":"IF(A319<>\"\",IF(AND(#REF!=\"Padrão\",$H$4=#REF!),BDI!$B$17,IF(AND(#REF!=\"Padrão\",$H$4=#REF!),BDI!$C$17,IF(AND(#REF!=\"Diferenciado\",$H$4=#REF!),BDI!$G$17,IF(AND(#REF!=\"Diferenciado\",$H$4=#REF!),BDI!$H$17,IF(#REF!=\"ZERO\",0))))),\"\")","v":{"$error":"#REF!"}},{"$error":"#REF!"},{"$error":"#REF!"}]
["SF-00315","Fita PVC 100 mm para acabamento em refrigeração","m",0,{"$f":"OFFSET(INDEX(Composições!A:J,MATCH(Orçamentária!A320,Composições!A:A,0),8),2,0)","v":0.77615000000000001},0,{"$f":"IF(A320<>\"\",IF(AND(#REF!=\"Padrão\",$H$4=#REF!),BDI!$B$17,IF(AND(#REF!=\"Padrão\",$H$4=#REF!),BDI!$C$17,IF(AND(#REF!=\"Diferenciado\",$H$4=#REF!),BDI!$G$17,IF(AND(#REF!=\"Diferenciado\",$H$4=#REF!),BDI!$H$17,IF(#REF!=\"ZERO\",0))))),\"\")","v":{"$error":"#REF!"}},{"$error":"#REF!"},{"$error":"#REF!"}]
["SF-00316","Mangueira emborrachada 3/4\" para água gelada","m",0,{"$f":"OFFSET(INDEX(Composições!A:J,MATCH(Orçamentária!A321,Composições!A:A,0),8),2,0)","v":0.77615000000000001},0,{"$f":"IF(A321<>\"\",IF(AND(#REF!=\"Padrão\",$H$4=#REF!),BDI!$B$17,IF(AND(#REF!=\"Padrão\",$H$4=#REF!),BDI!$C$17,IF(AND(#REF!=\"Diferenciado\",$H$4=#REF!),BDI!$G$17,IF(AND(#REF!=\"Diferenciado\",$H$4=#REF!),BDI!$H$17,IF(#REF!=\"ZERO\",0))))),\"\")","v":{"$error":"#REF!"}},{"$error":"#REF!"},{"$error":"#REF!"}]
["SF-00317","Suporte para unidade condensadora de aparelho split","un",0,{"$f":"OFFSET(INDEX(Composições!A:J,MATCH(Orçamentária!A322,Composições!A:A,0),8),2,0)","v":30.009663999999994},0,{"$f":"IF(A322<>\"\",IF(AND(#REF!=\"Padrão\",$H$4=#REF!),BDI!$B$17,IF(AND(#REF!=\"Padrão\",$H$4=#REF!),BDI!$C$17,IF(AND(#REF!=\"Diferenciado\",$H$4=#REF!),BDI!$G$17,IF(AND(#REF!=\"Diferenciado\",$H$4=#REF!),BDI!$H$17,IF(#REF!=\"ZERO\",0))))),\"\")","v":{"$error":"#REF!"}},{"$error":"#REF!"},{"$error":"#REF!"}]
["SF-00318","Suporte para unidade evaporadora de aparelho split ou fancolete","un",0,{"$f":"OFFSET(INDEX(Composições!A:J,MATCH(Orçamentária!A323,Composições!A:A,0),8),2,0)","v":30.009663999999994},0,{"$f":"IF(A323<>\"\",IF(AND(#REF!=\"Padrão\",$H$4=#REF!),BDI!$B$17,IF(AND(#REF!=\"Padrão\",$H$4=#REF!),BDI!$C$17,IF(AND(#REF!=\"Diferenciado\",$H$4=#REF!),BDI!$G$17,IF(AND(#REF!=\"Diferenciado\",$H$4=#REF!),BDI!$H$17,IF(#REF!=\"ZERO\",0))))),\"\")","v":{"$error":"#REF!"}},{"$error":"#REF!"},{"$error":"#REF!"}]
["SF-00319","Filtro em Y 1\"","un",0,{"$f":"OFFSET(INDEX(Composições!A:J,MATCH(Orçamentária!A324,Composições!A:A,0),8),2,0)","v":26.511065749999997},0,{"$f":"IF(A324<>\"\",IF(AND(#REF!=\"Padrão\",$H$4=#REF!),BDI!$B$17,IF(AND(#REF!=\"Padrão\",$H$4=#REF!),BDI!$C$17,IF(AND(#REF!=\"Diferenciado\",$H$4=#REF!),BDI!$G$17,IF(AND(#REF!=\"Diferenciado\",$H$4=#REF!),BDI!$H$17,IF(#REF!=\"ZERO\",0))))),\"\")","v":{"$error":"#REF!"}},{"$error":"#REF!"},{"$error":"#REF!"}]
["SF-00320","Filtro em Y 3/4\"","un",0,{"$f":"OFFSET(INDEX(Composições!A:J,MATCH(Orçamentária!A325,Composições!A:A,0),8),2,0)","v":26.511065749999997},0,{"$f":"IF(A325<>\"\",IF(AND(#REF!=\"Padrão\",$H$4=#REF!),BDI!$B$17,IF(AND(#REF!=\"Padrão\",$H$4=#REF!),BDI!$C$17,IF(AND(#REF!=\"Diferenciado\",$H$4=#REF!),BDI!$G$17,IF(AND(#REF!=\"Diferenciado\",$H$4=#REF!),BDI!$H$17,IF(#REF!=\"ZERO\",0))))),\"\")","v":{"$error":"#REF!"}},{"$error":"#REF!"},{"$error":"#REF!"}]
["SF-00321","Válvula de balanceamento e controle independente da pressão (PIBCV) 2 vias 1\"","un",0,{"$f":"OFFSET(INDEX(Composições!A:J,MATCH(Orçamentária!A326,Composições!A:A,0),8),2,0)","v":26.511065749999997},0,{"$f":"IF(A326<>\"\",IF(AND(#REF!=\"Padrão\",$H$4=#REF!),BDI!$B$17,IF(AND(#REF!=\"Padrão\",$H$4=#REF!),BDI!$C$17,IF(AND(#REF!=\"Diferenciado\",$H$4=#REF!),BDI!$G$17,IF(AND(#REF!=\"Diferenciado\",$H$4=#REF!),BDI!$H$17,IF(#REF!=\"ZERO\",0))))),\"\")","v":{"$error":"#REF!"}},{"$error":"#REF!"},{"$error":"#REF!"}]
["SF-00322","Válvula de balanceamento e controle independente da pressão (PIBCV) 2 vias 3/4\"","un",0,{"$f":"OFFSET(INDEX(Composições!A:J,MATCH(Orçamentária!A327,Composições!A:A,0),8),2,0)","v":26.511065749999997},{"$f":"IF(ISNUMBER(E327),D327*E327,\"\")","v":0},{"$f":"IF(A327<>\"\",IF(AND(#REF!=\"Padrão\",$H$4=#REF!),BDI!$B$17,IF(AND(#REF!=\"Padrão\",$H$4=#REF!),BDI!$C$17,IF(AND(#REF!=\"Diferenciado\",$H$4=#REF!),BDI!$G$17,IF(AND(#REF!=\"Diferenciado\",$H$4=#REF!),BDI!$H$17,IF(#REF!=\"ZERO\",0))))),\"\")","v":{"$error":"#REF!"}},{"$f":"IF(ISNUMBER(E327),ROUND(E327*(1+G327),2),\"\")","v":{"$error":"#REF!"}},{"$f":"IF(ISNUMBER(E327),ROUND(H327*D327,2),\"\")","v":{"$error":"#REF!"}}]
["SF-00323","Válvula de esfera em bronze 1 1/2\"","un",0,{"$f":"OFFSET(INDEX(Composições!A:J,MATCH(Orçamentária!A328,Composições!A:A,0),8),2,0)","v":139.97677149999998},0,{"$f":"IF(A328<>\"\",IF(AND(#REF!=\"Padrão\",$H$4=#REF!),BDI!$B$17,IF(AND(#REF!=\"Padrão\",$H$4=#REF!),BDI!$C$17,IF(AND(#REF!=\"Diferenciado\",$H$4=#REF!),BDI!$G$17,IF(AND(#REF!=\"Diferenciado\",$H$4=#REF!),BDI!$H$17,IF(#REF!=\"ZERO\",0))))),\"\")","v":{"$error":"#REF!"}},{"$error":"#REF!"},{"$error":"#REF!"}]
["SF-00324","Válvula de esfera em bronze 1 1/4\"","un",0,{"$f":"OFFSET(INDEX(Composições!A:J,MATCH(Orçamentária!A329,Composições!A:A,0),8),2,0)","v":120.7772715},0,{"$f":"IF(A329<>\"\",IF(AND(#REF!=\"Padrão\",$H$4=#REF!),BDI!$B$17,IF(AND(#REF!=\"Padrão\",$H$4=#REF!),BDI!$C$17,IF(AND(#REF!=\"Diferenciado\",$H$4=#REF!),BDI!$G$17,IF(AND(#REF!=\"Diferenciado\",$H$4=#REF!),BDI!$H$17,IF(#REF!=\"ZERO\",0))))),\"\")","v":{"$error":"#REF!"}},{"$error":"#REF!"},{"$error":"#REF!"}]
["SF-00325","Válvula de esfera em bronze 1\"","un",0,{"$f":"OFFSET(INDEX(Composições!A:J,MATCH(Orçamentária!A330,Composições!A:A,0),8),2,0)","v":89.353565750000001},0,{"$f":"IF(A330<>\"\",IF(AND(#REF!=\"Padrão\",$H$4=#REF!),BDI!$B$17,IF(AND(#REF!=\"Padrão\",$H$4=#REF!),BDI!$C$17,IF(AND(#REF!=\"Diferenciado\",$H$4=#REF!),BDI!$G$17,IF(AND(#REF!=\"Diferenciado\",$H$4=#REF!),BDI!$H$17,IF(#REF!=\"ZERO\",0))))),\"\")","v":{"$error":"#REF!"}},{"$error":"#REF!"},{"$error":"#REF!"}]
["SF-00326","Válvula de esfera em bronze 3/4\"","un",0,{"$f":"OFFSET(INDEX(Composições!A:J,MATCH(Orçamentária!A331,Composições!A:A,0),8),2,0)","v":73.061065749999983},0,{"$f":"IF(A331<>\"\",IF(AND(#REF!=\"Padrão\",$H$4=#REF!),BDI!$B$17,IF(AND(#REF!=\"Padrão\",$H$4=#REF!),BDI!$C$17,IF(AND(#REF!=\"Diferenciado\",$H$4=#REF!),BDI!$G$17,IF(AND(#REF!=\"Diferenciado\",$H$4=#REF!),BDI!$H$17,IF(#REF!=\"ZERO\",0))))),\"\")","v":{"$error":"#REF!"}},{"$error":"#REF!"},{"$error":"#REF!"}]
["SF-00327","Isolamento elastomérico em formato de prancha autoadesiva","m2",0,{"$f":"OFFSET(INDEX(Composições!A:J,MATCH(Orçamentária!A332,Composições!A:A,0),8),2,0)","v":3.4085999999999999},0,{"$f":"IF(A332<>\"\",IF(AND(#REF!=\"Padrão\",$H$4=#REF!),BDI!$B$17,IF(AND(#REF!=\"Padrão\",$H$4=#REF!),BDI!$C$17,IF(AND(#REF!=\"Diferenciado\",$H$4=#REF!),BDI!$G$17,IF(AND(#REF!=\"Diferenciado\",$H$4=#REF!),BDI!$H$17,IF(#REF!=\"ZERO\",0))))),\"\")","v":{"$error":"#REF!"}},{"$error":"#REF!"},{"$error":"#REF!"}]
["SF-00328","Isolamento elastomérico para tubulações de cobre de 1 1/8\" / tubulações de ferro de 3/4\"","m",0,{"$f":"OFFSET(INDEX(Composições!A:J,MATCH(Orçamentária!A333,Composições!A:A,0),8),2,0)","v":0.6544511999999999},0,{"$f":"IF(A333<>\"\",IF(AND(#REF!=\"Padrão\",$H$4=#REF!),BDI!$B$17,IF(AND(#REF!=\"Padrão\",$H$4=#REF!),BDI!$C$17,IF(AND(#REF!=\"Diferenciado\",$H$4=#REF!),BDI!$G$17,IF(AND(#REF!=\"Diferenciado\",$H$4=#REF!),BDI!$H$17,IF(#REF!=\"ZERO\",0))))),\"\")","v":{"$error":"#REF!"}},{"$error":"#REF!"},{"$error":"#REF!"}]
["SF-00329","Isolamento elastomérico para tubulações de cobre de 1/2\"","m",0,{"$f":"OFFSET(INDEX(Composições!A:J,MATCH(Orçamentária!A334,Composições!A:A,0),8),2,0)","v":0.62377379999999993},0,{"$f":"IF(A334<>\"\",IF(AND(#REF!=\"Padrão\",$H$4=#REF!),BDI!$B$17,IF(AND(#REF!=\"Padrão\",$H$4=#REF!),BDI!$C$17,IF(AND(#REF!=\"Diferenciado\",$H$4=#REF!),BDI!$G$17,IF(AND(#REF!=\"Diferenciado\",$H$4=#REF!),BDI!$H$17,IF(#REF!=\"ZERO\",0))))),\"\")","v":{"$error":"#REF!"}},{"$error":"#REF!"},{"$error":"#REF!"}]
["SF-00330","Isolamento elastomérico para tubulações de cobre de 1/4\"","m",0,{"$f":"OFFSET(INDEX(Composições!A:J,MATCH(Orçamentária!A335,Composições!A:A,0),8),2,0)","v":0.53174159999999993},0,{"$f":"IF(A335<>\"\",IF(AND(#REF!=\"Padrão\",$H$4=#REF!),BDI!$B$17,IF(AND(#REF!=\"Padrão\",$H$4=#REF!),BDI!$C$17,IF(AND(#REF!=\"Diferenciado\",$H$4=#REF!),BDI!$G$17,IF(AND(#REF!=\"Diferenciado\",$H$4=#REF!),BDI!$H$17,IF(#REF!=\"ZERO\",0))))),\"\")","v":{"$error":"#REF!"}},{"$error":"#REF!"},{"$error":"#REF!"}]
["SF-00331","Isolamento elastomérico para tubulações de cobre de 3/4\"","m",0,{"$f":"OFFSET(INDEX(Composições!A:J,MATCH(Orçamentária!A336,Composições!A:A,0),8),2,0)","v":0.6544511999999999},0,{"$f":"IF(A336<>\"\",IF(AND(#REF!=\"Padrão\",$H$4=#REF!),BDI!$B$17,IF(AND(#REF!=\"Padrão\",$H$4=#REF!),BDI!$C$17,IF(AND(#REF!=\"Diferenciado\",$H$4=#REF!),BDI!$G$17,IF(AND(#REF!=\"Diferenciado\",$H$4=#REF!),BDI!$H$17,IF(#REF!=\"ZERO\",0))))),\"\")","v":{"$error":"#REF!"}},{"$error":"#REF!"},{"$error":"#REF!"}]
["SF-00332","Isolamento elastomérico para tubulações de cobre de 3/8\"","m",0,{"$f":"OFFSET(INDEX(Composições!A:J,MATCH(Orçamentária!A337,Composições!A:A,0),8),2,0)","v":0.58287060000000002},0,{"$f":"IF(A337<>\"\",IF(AND(#REF!=\"Padrão\",$H$4=#REF!),BDI!$B$17,IF(AND(#REF!=\"Padrão\",$H$4=#REF!),BDI!$C$17,IF(AND(#REF!=\"Diferenciado\",$H$4=#REF!),BDI!$G$17,IF(AND(#REF!=\"Diferenciado\",$H$4=#REF!),BDI!$H$17,IF(#REF!=\"ZERO\",0))))),\"\")","v":{"$error":"#REF!"}},{"$error":"#REF!"},{"$error":"#REF!"}]
["SF-00333","Isolamento elastomérico para tubulações de cobre de 5/8\"","m",0,{"$f":"OFFSET(INDEX(Composições!A:J,MATCH(Orçamentária!A338,Composições!A:A,0),8),2,0)","v":0.6544511999999999},0,{"$f":"IF(A338<>\"\",IF(AND(#REF!=\"Padrão\",$H$4=#REF!),BDI!$B$17,IF(AND(#REF!=\"Padrão\",$H$4=#REF!),BDI!$C$17,IF(AND(#REF!=\"Diferenciado\",$H$4=#REF!),BDI!$G$17,IF(AND(#REF!=\"Diferenciado\",$H$4=#REF!),BDI!$H$17,IF(#REF!=\"ZERO\",0))))),\"\")","v":{"$error":"#REF!"}},{"$error":"#REF!"},{"$error":"#REF!"}]
["SF-00334","Isolamento elastomérico para tubulações de cobre de 7/8\" / tubulações de ferro de 1/2\"","m",0,{"$f":"OFFSET(INDEX(Composições!A:J,MATCH(Orçamentária!A339,Composições!A:A,0),8),2,0)","v":0.6544511999999999},0,{"$f":"IF(A339<>\"\",IF(AND(#REF!=\"Padrão\",$H$4=#REF!),BDI!$B$17,IF(AND(#REF!=\"Padrão\",$H$4=#REF!),BDI!$C$17,IF(AND(#REF!=\"Diferenciado\",$H$4=#REF!),BDI!$G$17,IF(AND(#REF!=\"Diferenciado\",$H$4=#REF!),BDI!$H$17,IF(#REF!=\"ZERO\",0))))),\"\")","v":{"$error":"#REF!"}},{"$error":"#REF!"},{"$error":"#REF!"}]
["SF-00335","Isolamento elastomérico para tubulações de cobre de 1\"","m",0,{"$f":"OFFSET(INDEX(Composições!A:J,MATCH(Orçamentária!A340,Composições!A:A,0),8),2,0)","v":0.6544511999999999},0,{"$f":"IF(A340<>\"\",IF(AND(#REF!=\"Padrão\",$H$4=#REF!),BDI!$B$17,IF(AND(#REF!=\"Padrão\",$H$4=#REF!),BDI!$C$17,IF(AND(#REF!=\"Diferenciado\",$H$4=#REF!),BDI!$G$17,IF(AND(#REF!=\"Diferenciado\",$H$4=#REF!),BDI!$H$17,IF(#REF!=\"ZERO\",0))))),\"\")","v":{"$error":"#REF!"}},{"$error":"#REF!"},{"$error":"#REF!"}]
["SF-00336","Isolamento elastomérico para tubulações de ferro de 1 1/2\"","m",0,{"$f":"OFFSET(INDEX(Composições!A:J,MATCH(Orçamentária!A341,Composições!A:A,0),8),2,0)","v":0.6544511999999999},0,{"$f":"IF(A341<>\"\",IF(AND(#REF!=\"Padrão\",$H$4=#REF!),BDI!$B$17,IF(AND(#REF!=\"Padrão\",$H$4=#REF!),BDI!$C$17,IF(AND(#REF!=\"Diferenciado\",$H$4=#REF!),BDI!$G$17,IF(AND(#REF!=\"Diferenciado\",$H$4=#REF!),BDI!$H$17,IF(#REF!=\"ZERO\",0))))),\"\")","v":{"$error":"#REF!"}},{"$error":"#REF!"},{"$error":"#REF!"}]
["SF-00337","Isolamento elastomérico para tubulações de ferro de 1 1/4\"","m",0,{"$f":"OFFSET(INDEX(Composições!A:J,MATCH(Orçamentária!A342,Composições!A:A,0),8),2,0)","v":0.6544511999999999},0,{"$f":"IF(A342<>\"\",IF(AND(#REF!=\"Padrão\",$H$4=#REF!),BDI!$B$17,IF(AND(#REF!=\"Padrão\",$H$4=#REF!),BDI!$C$17,IF(AND(#REF!=\"Diferenciado\",$H$4=#REF!),BDI!$G$17,IF(AND(#REF!=\"Diferenciado\",$H$4=#REF!),BDI!$H$17,IF(#REF!=\"ZERO\",0))))),\"\")","v":{"$error":"#REF!"}},{"$error":"#REF!"},{"$error":"#REF!"}]
["SF-00338","Isolamento elastomérico para tubulações de ferro de 1\"","m",0,{"$f":"OFFSET(INDEX(Composições!A:J,MATCH(Orçamentária!A343,Composições!A:A,0),8),2,0)","v":0.6544511999999999},0,{"$f":"IF(A343<>\"\",IF(AND(#REF!=\"Padrão\",$H$4=#REF!),BDI!$B$17,IF(AND(#REF!=\"Padrão\",$H$4=#REF!),BDI!$C$17,IF(AND(#REF!=\"Diferenciado\",$H$4=#REF!),BDI!$G$17,IF(AND(#REF!=\"Diferenciado\",$H$4=#REF!),BDI!$H$17,IF(#REF!=\"ZERO\",0))))),\"\")","v":{"$error":"#REF!"}},{"$error":"#REF!"},{"$error":"#REF!"}]
["SF-00339","Proteção mecânica em alumínio","m2",0,{"$f":"OFFSET(INDEX(Composições!A:J,MATCH(Orçamentária!A344,Composições!A:A,0),8),2,0)","v":6.8171999999999997},0,{"$f":"IF(A344<>\"\",IF(AND(#REF!=\"Padrão\",$H$4=#REF!),BDI!$B$17,IF(AND(#REF!=\"Padrão\",$H$4=#REF!),BDI!$C$17,IF(AND(#REF!=\"Diferenciado\",$H$4=#REF!),BDI!$G$17,IF(AND(#REF!=\"Diferenciado\",$H$4=#REF!),BDI!$H$17,IF(#REF!=\"ZERO\",0))))),\"\")","v":{"$error":"#REF!"}},{"$error":"#REF!"},{"$error":"#REF!"}]
["SF-00340","Tubo de aço-carbono galvanizado 1 1/2\"","m",0,{"$f":"OFFSET(INDEX(Composições!A:J,MATCH(Orçamentária!A345,Composições!A:A,0),8),2,0)","v":56.502389999999984},0,{"$f":"IF(A345<>\"\",IF(AND(#REF!=\"Padrão\",$H$4=#REF!),BDI!$B$17,IF(AND(#REF!=\"Padrão\",$H$4=#REF!),BDI!$C$17,IF(AND(#REF!=\"Diferenciado\",$H$4=#REF!),BDI!$G$17,IF(AND(#REF!=\"Diferenciado\",$H$4=#REF!),BDI!$H$17,IF(#REF!=\"ZERO\",0))))),\"\")","v":{"$error":"#REF!"}},{"$error":"#REF!"},{"$error":"#REF!"}]
["SF-00341","Tubo de aço-carbono galvanizado 1 1/4\"","m",0,{"$f":"OFFSET(INDEX(Composições!A:J,MATCH(Orçamentária!A346,Composições!A:A,0),8),2,0)","v":52.093174000000005},0,{"$f":"IF(A346<>\"\",IF(AND(#REF!=\"Padrão\",$H$4=#REF!),BDI!$B$17,IF(AND(#REF!=\"Padrão\",$H$4=#REF!),BDI!$C$17,IF(AND(#REF!=\"Diferenciado\",$H$4=#REF!),BDI!$G$17,IF(AND(#REF!=\"Diferenciado\",$H$4=#REF!),BDI!$H$17,IF(#REF!=\"ZERO\",0))))),\"\")","v":{"$error":"#REF!"}},{"$error":"#REF!"},{"$error":"#REF!"}]
["SF-00342","Tubo de aço-carbono galvanizado 1\"","m",0,{"$f":"OFFSET(INDEX(Composições!A:J,MATCH(Orçamentária!A347,Composições!A:A,0),8),2,0)","v":42.005256999999986},0,{"$f":"IF(A347<>\"\",IF(AND(#REF!=\"Padrão\",$H$4=#REF!),BDI!$B$17,IF(AND(#REF!=\"Padrão\",$H$4=#REF!),BDI!$C$17,IF(AND(#REF!=\"Diferenciado\",$H$4=#REF!),BDI!$G$17,IF(AND(#REF!=\"Diferenciado\",$H$4=#REF!),BDI!$H$17,IF(#REF!=\"ZERO\",0))))),\"\")","v":{"$error":"#REF!"}},{"$error":"#REF!"},{"$error":"#REF!"}]
["SF-00343","Tubo de aço-carbono galvanizado 3/4\"","m",0,{"$f":"OFFSET(INDEX(Composições!A:J,MATCH(Orçamentária!A348,Composições!A:A,0),8),2,0)","v":38.451876999999996},0,{"$f":"IF(A348<>\"\",IF(AND(#REF!=\"Padrão\",$H$4=#REF!),BDI!$B$17,IF(AND(#REF!=\"Padrão\",$H$4=#REF!),BDI!$C$17,IF(AND(#REF!=\"Diferenciado\",$H$4=#REF!),BDI!$G$17,IF(AND(#REF!=\"Diferenciado\",$H$4=#REF!),BDI!$H$17,IF(#REF!=\"ZERO\",0))))),\"\")","v":{"$error":"#REF!"}},{"$error":"#REF!"},{"$error":"#REF!"}]
["SF-00344","Tubo de cobre de 1/2\"","m",0,{"$f":"OFFSET(INDEX(Composições!A:J,MATCH(Orçamentária!A349,Composições!A:A,0),8),2,0)","v":28.946547499999994},0,{"$f":"IF(A349<>\"\",IF(AND(#REF!=\"Padrão\",$H$4=#REF!),BDI!$B$17,IF(AND(#REF!=\"Padrão\",$H$4=#REF!),BDI!$C$17,IF(AND(#REF!=\"Diferenciado\",$H$4=#REF!),BDI!$G$17,IF(AND(#REF!=\"Diferenciado\",$H$4=#REF!),BDI!$H$17,IF(#REF!=\"ZERO\",0))))),\"\")","v":{"$error":"#REF!"}},{"$error":"#REF!"},{"$error":"#REF!"}]
["SF-00345","Tubo de cobre de 1/4\"","m",0,{"$f":"OFFSET(INDEX(Composições!A:J,MATCH(Orçamentária!A350,Composições!A:A,0),8),2,0)","v":14.413941499999998},0,{"$f":"IF(A350<>\"\",IF(AND(#REF!=\"Padrão\",$H$4=#REF!),BDI!$B$17,IF(AND(#REF!=\"Padrão\",$H$4=#REF!),BDI!$C$17,IF(AND(#REF!=\"Diferenciado\",$H$4=#REF!),BDI!$G$17,IF(AND(#REF!=\"Diferenciado\",$H$4=#REF!),BDI!$H$17,IF(#REF!=\"ZERO\",0))))),\"\")","v":{"$error":"#REF!"}},{"$error":"#REF!"},{"$error":"#REF!"}]
["SF-00346","Tubo de cobre de 3/4\"","m",0,{"$f":"OFFSET(INDEX(Composições!A:J,MATCH(Orçamentária!A351,Composições!A:A,0),8),2,0)","v":42.880071149999999},0,{"$f":"IF(A351<>\"\",IF(AND(#REF!=\"Padrão\",$H$4=#REF!),BDI!$B$17,IF(AND(#REF!=\"Padrão\",$H$4=#REF!),BDI!$C$17,IF(AND(#REF!=\"Diferenciado\",$H$4=#REF!),BDI!$G$17,IF(AND(#REF!=\"Diferenciado\",$H$4=#REF!),BDI!$H$17,IF(#REF!=\"ZERO\",0))))),\"\")","v":{"$error":"#REF!"}},{"$error":"#REF!"},{"$error":"#REF!"}]
["SF-00347","Tubo de cobre de 3/8\"","m",0,{"$f":"OFFSET(INDEX(Composições!A:J,MATCH(Orçamentária!A352,Composições!A:A,0),8),2,0)","v":21.624271449999995},0,{"$f":"IF(A352<>\"\",IF(AND(#REF!=\"Padrão\",$H$4=#REF!),BDI!$B$17,IF(AND(#REF!=\"Padrão\",$H$4=#REF!),BDI!$C$17,IF(AND(#REF!=\"Diferenciado\",$H$4=#REF!),BDI!$G$17,IF(AND(#REF!=\"Diferenciado\",$H$4=#REF!),BDI!$H$17,IF(#REF!=\"ZERO\",0))))),\"\")","v":{"$error":"#REF!"}},{"$error":"#REF!"},{"$error":"#REF!"}]
["SF-00348","Tubo de cobre de 5/8\"","m",0,{"$f":"OFFSET(INDEX(Composições!A:J,MATCH(Orçamentária!A353,Composições!A:A,0),8),2,0)","v":35.721139049999991},0,{"$f":"IF(A353<>\"\",IF(AND(#REF!=\"Padrão\",$H$4=#REF!),BDI!$B$17,IF(AND(#REF!=\"Padrão\",$H$4=#REF!),BDI!$C$17,IF(AND(#REF!=\"Diferenciado\",$H$4=#REF!),BDI!$G$17,IF(AND(#REF!=\"Diferenciado\",$H$4=#REF!),BDI!$H$17,IF(#REF!=\"ZERO\",0))))),\"\")","v":{"$error":"#REF!"}},{"$error":"#REF!"},{"$error":"#REF!"}]
["SF-00349","Tubo de cobre de 7/8\"","m",0,{"$f":"OFFSET(INDEX(Composições!A:J,MATCH(Orçamentária!A354,Composições!A:A,0),8),2,0)","v":2.4970977999999997},0,{"$f":"IF(A354<>\"\",IF(AND(#REF!=\"Padrão\",$H$4=#REF!),BDI!$B$17,IF(AND(#REF!=\"Padrão\",$H$4=#REF!),BDI!$C$17,IF(AND(#REF!=\"Diferenciado\",$H$4=#REF!),BDI!$G$17,IF(AND(#REF!=\"Diferenciado\",$H$4=#REF!),BDI!$H$17,IF(#REF!=\"ZERO\",0))))),\"\")","v":{"$error":"#REF!"}},{"$error":"#REF!"},{"$error":"#REF!"}]
["SF-00350","Tubo de cobre de 1\"","m",0,{"$f":"OFFSET(INDEX(Composições!A:J,MATCH(Orçamentária!A355,Composições!A:A,0),8),2,0)","v":2.4970977999999997},0,{"$f":"IF(A355<>\"\",IF(AND(#REF!=\"Padrão\",$H$4=#REF!),BDI!$B$17,IF(AND(#REF!=\"Padrão\",$H$4=#REF!),BDI!$C$17,IF(AND(#REF!=\"Diferenciado\",$H$4=#REF!),BDI!$G$17,IF(AND(#REF!=\"Diferenciado\",$H$4=#REF!),BDI!$H$17,IF(#REF!=\"ZERO\",0))))),\"\")","v":{"$error":"#REF!"}},{"$error":"#REF!"},{"$error":"#REF!"}]
["SF-00351","Tubo de cobre de 1 1/8\"","m",0,{"$f":"OFFSET(INDEX(Composições!A:J,MATCH(Orçamentária!A356,Composições!A:A,0),8),2,0)","v":2.4970977999999997},0,{"$f":"IF(A356<>\"\",IF(AND(#REF!=\"Padrão\",$H$4=#REF!),BDI!$B$17,IF(AND(#REF!=\"Padrão\",$H$4=#REF!),BDI!$C$17,IF(AND(#REF!=\"Diferenciado\",$H$4=#REF!),BDI!$G$17,IF(AND(#REF!=\"Diferenciado\",$H$4=#REF!),BDI!$H$17,IF(#REF!=\"ZERO\",0))))),\"\")","v":{"$error":"#REF!"}},{"$error":"#REF!"},{"$error":"#REF!"}]
["SF-00352","Armário em MDF laminado com porta e prateleiras","m2",0,"","",{"$f":"IF(A357<>\"\",IF(AND(#REF!=\"Padrão\",$H$4=#REF!),BDI!$B$17,IF(AND(#REF!=\"Padrão\",$H$4=#REF!),BDI!$C$17,IF(AND(#REF!=\"Diferenciado\",$H$4=#REF!),BDI!$G$17,IF(AND(#REF!=\"Diferenciado\",$H$4=#REF!),BDI!$H$17,IF(#REF!=\"ZERO\",0))))),\"\")","v":{"$error":"#REF!"}},"",""]
["SF-00353","Armários em MDF laminado com porta e gavetas","m2",0,"","",{"$f":"IF(A358<>\"\",IF(AND(#REF!=\"Padrão\",$H$4=#REF!),BDI!$B$17,IF(AND(#REF!=\"Padrão\",$H$4=#REF!),BDI!$C$17,IF(AND(#REF!=\"Diferenciado\",$H$4=#REF!),BDI!$G$17,IF(AND(#REF!=\"Diferenciado\",$H$4=#REF!),BDI!$H$17,IF(#REF!=\"ZERO\",0))))),\"\")","v":{"$error":"#REF!"}},"",""]
["SF-00354","Instalação de armários reaproveitados","m2",0,{"$f":"OFFSET(INDEX(Composições!A:J,MATCH(Orçamentária!A359,Composições!A:A,0),8),2,0)","v":87.141599999999997},0,{"$f":"IF(A359<>\"\",IF(AND(#REF!=\"Padrão\",$H$4=#REF!),BDI!$B$17,IF(AND(#REF!=\"Padrão\",$H$4=#REF!),BDI!$C$17,IF(AND(#REF!=\"Diferenciado\",$H$4=#REF!),BDI!$G$17,IF(AND(#REF!=\"Diferenciado\",$H$4=#REF!),BDI!$H$17,IF(#REF!=\"ZERO\",0))))),\"\")","v":{"$error":"#REF!"}},{"$error":"#REF!"},{"$error":"#REF!"}]
["SF-00355","Mesa/tampo de MDF, fixada em parede com mão-francesa","m2",0,{"$f":"OFFSET(INDEX(Composições!A:J,MATCH(Orçamentária!A360,Composições!A:A,0),8),2,0)","v":143.44239999999999},0,{"$f":"IF(A360<>\"\",IF(AND(#REF!=\"Padrão\",$H$4=#REF!),BDI!$B$17,IF(AND(#REF!=\"Padrão\",$H$4=#REF!),BDI!$C$17,IF(AND(#REF!=\"Diferenciado\",$H$4=#REF!),BDI!$G$17,IF(AND(#REF!=\"Diferenciado\",$H$4=#REF!),BDI!$H$17,IF(#REF!=\"ZERO\",0))))),\"\")","v":{"$error":"#REF!"}},{"$error":"#REF!"},{"$error":"#REF!"}]
["SF-00356","Painel para TV de 120 x 180 cm","un",0,{"$f":"OFFSET(INDEX(Composições!A:J,MATCH(Orçamentária!A361,Composições!A:A,0),8),2,0)","v":36.099999999999994},0,{"$f":"IF(A361<>\"\",IF(AND(#REF!=\"Padrão\",$H$4=#REF!),BDI!$B$17,IF(AND(#REF!=\"Padrão\",$H$4=#REF!),BDI!$C$17,IF(AND(#REF!=\"Diferenciado\",$H$4=#REF!),BDI!$G$17,IF(AND(#REF!=\"Diferenciado\",$H$4=#REF!),BDI!$H$17,IF(#REF!=\"ZERO\",0))))),\"\")","v":{"$error":"#REF!"}},{"$error":"#REF!"},{"$error":"#REF!"}]
["SF-00357","Painel para TV de 160 x 160 cm","un",0,{"$f":"OFFSET(INDEX(Composições!A:J,MATCH(Orçamentária!A362,Composições!A:A,0),8),2,0)","v":36.099999999999994},0,{"$f":"IF(A362<>\"\",IF(AND(#REF!=\"Padrão\",$H$4=#REF!),BDI!$B$17,IF(AND(#REF!=\"Padrão\",$H$4=#REF!),BDI!$C$17,IF(AND(#REF!=\"Diferenciado\",$H$4=#REF!),BDI!$G$17,IF(AND(#REF!=\"Diferenciado\",$H$4=#REF!),BDI!$H$17,IF(#REF!=\"ZERO\",0))))),\"\")","v":{"$error":"#REF!"}},{"$error":"#REF!"},{"$error":"#REF!"}]
["SF-00358","Painel para TV de 90 x 120 cm","un",0,{"$f":"OFFSET(INDEX(Composições!A:J,MATCH(Orçamentária!A363,Composições!A:A,0),8),2,0)","v":36.099999999999994},0,{"$f":"IF(A363<>\"\",IF(AND(#REF!=\"Padrão\",$H$4=#REF!),BDI!$B$17,IF(AND(#REF!=\"Padrão\",$H$4=#REF!),BDI!$C$17,IF(AND(#REF!=\"Diferenciado\",$H$4=#REF!),BDI!$G$17,IF(AND(#REF!=\"Diferenciado\",$H$4=#REF!),BDI!$H$17,IF(#REF!=\"ZERO\",0))))),\"\")","v":{"$error":"#REF!"}},{"$error":"#REF!"},{"$error":"#REF!"}]
["SF-00359","Batentes e guarnições em madeira, com verniz ou esmalte","un",0,{"$f":"OFFSET(INDEX(Composições!A:J,MATCH(Orçamentária!A364,Composições!A:A,0),8),2,0)","v":230.8802575},0,{"$f":"IF(A364<>\"\",IF(AND(#REF!=\"Padrão\",$H$4=#REF!),BDI!$B$17,IF(AND(#REF!=\"Padrão\",$H$4=#REF!),BDI!$C$17,IF(AND(#REF!=\"Diferenciado\",$H$4=#REF!),BDI!$G$17,IF(AND(#REF!=\"Diferenciado\",$H$4=#REF!),BDI!$H$17,IF(#REF!=\"ZERO\",0))))),\"\")","v":{"$error":"#REF!"}},{"$error":"#REF!"},{"$error":"#REF!"}]
["SF-00360","Chapa de proteção para porta – Linha Acessibilidade","m2",0,{"$f":"OFFSET(INDEX(Composições!A:J,MATCH(Orçamentária!A365,Composições!A:A,0),8),2,0)","v":10.2714},0,{"$f":"IF(A365<>\"\",IF(AND(#REF!=\"Padrão\",$H$4=#REF!),BDI!$B$17,IF(AND(#REF!=\"Padrão\",$H$4=#REF!),BDI!$C$17,IF(AND(#REF!=\"Diferenciado\",$H$4=#REF!),BDI!$G$17,IF(AND(#REF!=\"Diferenciado\",$H$4=#REF!),BDI!$H$17,IF(#REF!=\"ZERO\",0))))),\"\")","v":{"$error":"#REF!"}},{"$error":"#REF!"},{"$error":"#REF!"}]
["SF-00361","Folha de porta em madeira 2,10x0,60m, pintada","un",0,{"$f":"OFFSET(INDEX(Composições!A:J,MATCH(Orçamentária!A366,Composições!A:A,0),8),2,0)","v":249.90357999999995},0,{"$f":"IF(A366<>\"\",IF(AND(#REF!=\"Padrão\",$H$4=#REF!),BDI!$B$17,IF(AND(#REF!=\"Padrão\",$H$4=#REF!),BDI!$C$17,IF(AND(#REF!=\"Diferenciado\",$H$4=#REF!),BDI!$G$17,IF(AND(#REF!=\"Diferenciado\",$H$4=#REF!),BDI!$H$17,IF(#REF!=\"ZERO\",0))))),\"\")","v":{"$error":"#REF!"}},{"$error":"#REF!"},{"$error":"#REF!"}]
["SF-00362","Folha de porta em madeira 2,10x0,70m, pintada","un",0,{"$f":"OFFSET(INDEX(Composições!A:J,MATCH(Orçamentária!A367,Composições!A:A,0),8),2,0)","v":199.39853999999997},0,{"$f":"IF(A367<>\"\",IF(AND(#REF!=\"Padrão\",$H$4=#REF!),BDI!$B$17,IF(AND(#REF!=\"Padrão\",$H$4=#REF!),BDI!$C$17,IF(AND(#REF!=\"Diferenciado\",$H$4=#REF!),BDI!$G$17,IF(AND(#REF!=\"Diferenciado\",$H$4=#REF!),BDI!$H$17,IF(#REF!=\"ZERO\",0))))),\"\")","v":{"$error":"#REF!"}},{"$error":"#REF!"},{"$error":"#REF!"}]
["SF-00363","Folha de porta em madeira 2,10x0,80m, pintada","un",0,{"$f":"OFFSET(INDEX(Composições!A:J,MATCH(Orçamentária!A368,Composições!A:A,0),8),2,0)","v":299.43050000000005},0,{"$f":"IF(A368<>\"\",IF(AND(#REF!=\"Padrão\",$H$4=#REF!),BDI!$B$17,IF(AND(#REF!=\"Padrão\",$H$4=#REF!),BDI!$C$17,IF(AND(#REF!=\"Diferenciado\",$H$4=#REF!),BDI!$G$17,IF(AND(#REF!=\"Diferenciado\",$H$4=#REF!),BDI!$H$17,IF(#REF!=\"ZERO\",0))))),\"\")","v":{"$error":"#REF!"}},{"$error":"#REF!"},{"$error":"#REF!"}]
["SF-00364","Folha de porta em madeira 2,10x0,90m, pintada","un",0,{"$f":"OFFSET(INDEX(Composições!A:J,MATCH(Orçamentária!A369,Composições!A:A,0),8),2,0)","v":289.74695999999994},0,{"$f":"IF(A369<>\"\",IF(AND(#REF!=\"Padrão\",$H$4=#REF!),BDI!$B$17,IF(AND(#REF!=\"Padrão\",$H$4=#REF!),BDI!$C$17,IF(AND(#REF!=\"Diferenciado\",$H$4=#REF!),BDI!$G$17,IF(AND(#REF!=\"Diferenciado\",$H$4=#REF!),BDI!$H$17,IF(#REF!=\"ZERO\",0))))),\"\")","v":{"$error":"#REF!"}},{"$error":"#REF!"},{"$error":"#REF!"}]
["SF-00365","Folha de porta em madeira 2,10x1,0m, pintada","un",0,{"$f":"OFFSET(INDEX(Composições!A:J,MATCH(Orçamentária!A370,Composições!A:A,0),8),2,0)","v":315.05944399999987},0,{"$f":"IF(A370<>\"\",IF(AND(#REF!=\"Padrão\",$H$4=#REF!),BDI!$B$17,IF(AND(#REF!=\"Padrão\",$H$4=#REF!),BDI!$C$17,IF(AND(#REF!=\"Diferenciado\",$H$4=#REF!),BDI!$G$17,IF(AND(#REF!=\"Diferenciado\",$H$4=#REF!),BDI!$H$17,IF(#REF!=\"ZERO\",0))))),\"\")","v":{"$error":"#REF!"}},{"$error":"#REF!"},{"$error":"#REF!"}]
["SF-00366","Instalação de batentes de madeira reaproveitados","un",0,{"$f":"OFFSET(INDEX(Composições!A:J,MATCH(Orçamentária!A371,Composições!A:A,0),8),2,0)","v":73.279494499999998},0,{"$f":"IF(A371<>\"\",IF(AND(#REF!=\"Padrão\",$H$4=#REF!),BDI!$B$17,IF(AND(#REF!=\"Padrão\",$H$4=#REF!),BDI!$C$17,IF(AND(#REF!=\"Diferenciado\",$H$4=#REF!),BDI!$G$17,IF(AND(#REF!=\"Diferenciado\",$H$4=#REF!),BDI!$H$17,IF(#REF!=\"ZERO\",0))))),\"\")","v":{"$error":"#REF!"}},{"$error":"#REF!"},{"$error":"#REF!"}]
["SF-00367","Instalação de folhas de portas e dobradiças reaproveitadas","un",0,{"$f":"OFFSET(INDEX(Composições!A:J,MATCH(Orçamentária!A372,Composições!A:A,0),8),2,0)","v":52.569846000000005},0,{"$f":"IF(A372<>\"\",IF(AND(#REF!=\"Padrão\",$H$4=#REF!),BDI!$B$17,IF(AND(#REF!=\"Padrão\",$H$4=#REF!),BDI!$C$17,IF(AND(#REF!=\"Diferenciado\",$H$4=#REF!),BDI!$G$17,IF(AND(#REF!=\"Diferenciado\",$H$4=#REF!),BDI!$H$17,IF(#REF!=\"ZERO\",0))))),\"\")","v":{"$error":"#REF!"}},{"$error":"#REF!"},{"$error":"#REF!"}]
["SF-00368","Dobradiça para porta","un",0,{"$f":"OFFSET(INDEX(Composições!A:J,MATCH(Orçamentária!A373,Composições!A:A,0),8),2,0)","v":43.456609999999998},0,{"$f":"IF(A373<>\"\",IF(AND(#REF!=\"Padrão\",$H$4=#REF!),BDI!$B$17,IF(AND(#REF!=\"Padrão\",$H$4=#REF!),BDI!$C$17,IF(AND(#REF!=\"Diferenciado\",$H$4=#REF!),BDI!$G$17,IF(AND(#REF!=\"Diferenciado\",$H$4=#REF!),BDI!$H$17,IF(#REF!=\"ZERO\",0))))),\"\")","v":{"$error":"#REF!"}},{"$error":"#REF!"},{"$error":"#REF!"}]
["SF-00369","Fechadura para banheiro maçaneta em barra","un",0,{"$f":"OFFSET(INDEX(Composições!A:J,MATCH(Orçamentária!A374,Composições!A:A,0),8),2,0)","v":20.445909499999999},0,{"$f":"IF(A374<>\"\",IF(AND(#REF!=\"Padrão\",$H$4=#REF!),BDI!$B$17,IF(AND(#REF!=\"Padrão\",$H$4=#REF!),BDI!$C$17,IF(AND(#REF!=\"Diferenciado\",$H$4=#REF!),BDI!$G$17,IF(AND(#REF!=\"Diferenciado\",$H$4=#REF!),BDI!$H$17,IF(#REF!=\"ZERO\",0))))),\"\")","v":{"$error":"#REF!"}},{"$error":"#REF!"},{"$error":"#REF!"}]
["SF-00370","Fechadura para porta externa maçaneta em barra","un",0,{"$f":"OFFSET(INDEX(Composições!A:J,MATCH(Orçamentária!A375,Composições!A:A,0),8),2,0)","v":26.700795000000003},0,{"$f":"IF(A375<>\"\",IF(AND(#REF!=\"Padrão\",$H$4=#REF!),BDI!$B$17,IF(AND(#REF!=\"Padrão\",$H$4=#REF!),BDI!$C$17,IF(AND(#REF!=\"Diferenciado\",$H$4=#REF!),BDI!$G$17,IF(AND(#REF!=\"Diferenciado\",$H$4=#REF!),BDI!$H$17,IF(#REF!=\"ZERO\",0))))),\"\")","v":{"$error":"#REF!"}},{"$error":"#REF!"},{"$error":"#REF!"}]
["SF-00371","Fechadura para porta interna maçaneta tubular","un",0,{"$f":"OFFSET(INDEX(Composições!A:J,MATCH(Orçamentária!A376,Composições!A:A,0),8),2,0)","v":26.700795000000003},0,{"$f":"IF(A376<>\"\",IF(AND(#REF!=\"Padrão\",$H$4=#REF!),BDI!$B$17,IF(AND(#REF!=\"Padrão\",$H$4=#REF!),BDI!$C$17,IF(AND(#REF!=\"Diferenciado\",$H$4=#REF!),BDI!$G$17,IF(AND(#REF!=\"Diferenciado\",$H$4=#REF!),BDI!$H$17,IF(#REF!=\"ZERO\",0))))),\"\")","v":{"$error":"#REF!"}},{"$error":"#REF!"},{"$error":"#REF!"}]
["SF-00372","Instalação de fechadura/puxador de porta reaproveitados","un",0,{"$f":"OFFSET(INDEX(Composições!A:J,MATCH(Orçamentária!A377,Composições!A:A,0),8),2,0)","v":26.700795000000003},0,{"$f":"IF(A377<>\"\",IF(AND(#REF!=\"Padrão\",$H$4=#REF!),BDI!$B$17,IF(AND(#REF!=\"Padrão\",$H$4=#REF!),BDI!$C$17,IF(AND(#REF!=\"Diferenciado\",$H$4=#REF!),BDI!$G$17,IF(AND(#REF!=\"Diferenciado\",$H$4=#REF!),BDI!$H$17,IF(#REF!=\"ZERO\",0))))),\"\")","v":{"$error":"#REF!"}},{"$error":"#REF!"},{"$error":"#REF!"}]
["SF-00373","Mola hidráulica aérea","un",0,{"$f":"OFFSET(INDEX(Composições!A:J,MATCH(Orçamentária!A378,Composições!A:A,0),8),2,0)","v":19.683999999999997},0,{"$f":"IF(A378<>\"\",IF(AND(#REF!=\"Padrão\",$H$4=#REF!),BDI!$B$17,IF(AND(#REF!=\"Padrão\",$H$4=#REF!),BDI!$C$17,IF(AND(#REF!=\"Diferenciado\",$H$4=#REF!),BDI!$G$17,IF(AND(#REF!=\"Diferenciado\",$H$4=#REF!),BDI!$H$17,IF(#REF!=\"ZERO\",0))))),\"\")","v":{"$error":"#REF!"}},{"$error":"#REF!"},{"$error":"#REF!"}]
["SF-00374","Pivô em latão com acabamento cromado para portas pivotantes","un",0,{"$f":"OFFSET(INDEX(Composições!A:J,MATCH(Orçamentária!A379,Composições!A:A,0),8),2,0)","v":9.8419999999999987},0,{"$f":"IF(A379<>\"\",IF(AND(#REF!=\"Padrão\",$H$4=#REF!),BDI!$B$17,IF(AND(#REF!=\"Padrão\",$H$4=#REF!),BDI!$C$17,IF(AND(#REF!=\"Diferenciado\",$H$4=#REF!),BDI!$G$17,IF(AND(#REF!=\"Diferenciado\",$H$4=#REF!),BDI!$H$17,IF(#REF!=\"ZERO\",0))))),\"\")","v":{"$error":"#REF!"}},{"$error":"#REF!"},{"$error":"#REF!"}]
["SF-00375","Cabo de dados tipo UTP, tipo LSZH, categoria 6","m",0,{"$f":"OFFSET(INDEX(Composições!A:J,MATCH(Orçamentária!A380,Composições!A:A,0),8),2,0)","v":9.8260399999999998E-2},0,{"$f":"IF(A380<>\"\",IF(AND(#REF!=\"Padrão\",$H$4=#REF!),BDI!$B$17,IF(AND(#REF!=\"Padrão\",$H$4=#REF!),BDI!$C$17,IF(AND(#REF!=\"Diferenciado\",$H$4=#REF!),BDI!$G$17,IF(AND(#REF!=\"Diferenciado\",$H$4=#REF!),BDI!$H$17,IF(#REF!=\"ZERO\",0))))),\"\")","v":{"$error":"#REF!"}},{"$error":"#REF!"},{"$error":"#REF!"}]
["SF-00376","Módulo (tomada) de rede RJ45, categoria 6, com conectorização e certificação","un",0,{"$f":"OFFSET(INDEX(Composições!A:J,MATCH(Orçamentária!A381,Composições!A:A,0),8),2,0)","v":14.472353200000001},0,{"$f":"IF(A381<>\"\",IF(AND(#REF!=\"Padrão\",$H$4=#REF!),BDI!$B$17,IF(AND(#REF!=\"Padrão\",$H$4=#REF!),BDI!$C$17,IF(AND(#REF!=\"Diferenciado\",$H$4=#REF!),BDI!$G$17,IF(AND(#REF!=\"Diferenciado\",$H$4=#REF!),BDI!$H$17,IF(#REF!=\"ZERO\",0))))),\"\")","v":{"$error":"#REF!"}},{"$error":"#REF!"},{"$error":"#REF!"}]
["SF-00377","Painel de distribuição (patch panel) de 24 portas, categoria 6","un",0,{"$f":"OFFSET(INDEX(Composições!A:J,MATCH(Orçamentária!A382,Composições!A:A,0),8),2,0)","v":217.6011651},0,{"$f":"IF(A382<>\"\",IF(AND(#REF!=\"Padrão\",$H$4=#REF!),BDI!$B$17,IF(AND(#REF!=\"Padrão\",$H$4=#REF!),BDI!$C$17,IF(AND(#REF!=\"Diferenciado\",$H$4=#REF!),BDI!$G$17,IF(AND(#REF!=\"Diferenciado\",$H$4=#REF!),BDI!$H$17,IF(#REF!=\"ZERO\",0))))),\"\")","v":{"$error":"#REF!"}},{"$error":"#REF!"},{"$error":"#REF!"}]
["SF-00378","Cabo de telefonia tipo CCI 50x2","m",0,{"$f":"OFFSET(INDEX(Composições!A:J,MATCH(Orçamentária!A383,Composições!A:A,0),8),2,0)","v":3.2868613},0,{"$f":"IF(A383<>\"\",IF(AND(#REF!=\"Padrão\",$H$4=#REF!),BDI!$B$17,IF(AND(#REF!=\"Padrão\",$H$4=#REF!),BDI!$C$17,IF(AND(#REF!=\"Diferenciado\",$H$4=#REF!),BDI!$G$17,IF(AND(#REF!=\"Diferenciado\",$H$4=#REF!),BDI!$H$17,IF(#REF!=\"ZERO\",0))))),\"\")","v":{"$error":"#REF!"}},{"$error":"#REF!"},{"$error":"#REF!"}]
["SF-00379","Módulo (tomada) de rede RJ45, para telefonia","un",0,{"$f":"OFFSET(INDEX(Composições!A:J,MATCH(Orçamentária!A384,Composições!A:A,0),8),2,0)","v":35.527176600000004},0,{"$f":"IF(A384<>\"\",IF(AND(#REF!=\"Padrão\",$H$4=#REF!),BDI!$B$17,IF(AND(#REF!=\"Padrão\",$H$4=#REF!),BDI!$C$17,IF(AND(#REF!=\"Diferenciado\",$H$4=#REF!),BDI!$G$17,IF(AND(#REF!=\"Diferenciado\",$H$4=#REF!),BDI!$H$17,IF(#REF!=\"ZERO\",0))))),\"\")","v":{"$error":"#REF!"}},{"$error":"#REF!"},{"$error":"#REF!"}]
["SF-00380","Grelha para retorno para portas, divisórias e paredes 525x325 mm","un",0,{"$f":"OFFSET(INDEX(Composições!A:J,MATCH(Orçamentária!A385,Composições!A:A,0),8),2,0)","v":125.4855},0,{"$f":"IF(A385<>\"\",IF(AND(#REF!=\"Padrão\",$H$4=#REF!),BDI!$B$17,IF(AND(#REF!=\"Padrão\",$H$4=#REF!),BDI!$C$17,IF(AND(#REF!=\"Diferenciado\",$H$4=#REF!),BDI!$G$17,IF(AND(#REF!=\"Diferenciado\",$H$4=#REF!),BDI!$H$17,IF(#REF!=\"ZERO\",0))))),\"\")","v":{"$error":"#REF!"}},{"$error":"#REF!"},{"$error":"#REF!"}]
["SF-00381","Anilina","kg",0,"","",{"$f":"IF(A386<>\"\",IF(AND(#REF!=\"Padrão\",$H$4=#REF!),BDI!$B$17,IF(AND(#REF!=\"Padrão\",$H$4=#REF!),BDI!$C$17,IF(AND(#REF!=\"Diferenciado\",$H$4=#REF!),BDI!$G$17,IF(AND(#REF!=\"Diferenciado\",$H$4=#REF!),BDI!$H$17,IF(#REF!=\"ZERO\",0))))),\"\")","v":{"$error":"#REF!"}},"",""]
["SF-00382","Seladora incolor","Litro",0,"","",{"$f":"IF(A387<>\"\",IF(AND(#REF!=\"Padrão\",$H$4=#REF!),BDI!$B$17,IF(AND(#REF!=\"Padrão\",$H$4=#REF!),BDI!$C$17,IF(AND(#REF!=\"Diferenciado\",$H$4=#REF!),BDI!$G$17,IF(AND(#REF!=\"Diferenciado\",$H$4=#REF!),BDI!$H$17,IF(#REF!=\"ZERO\",0))))),\"\")","v":{"$error":"#REF!"}},"",""]
["SF-00383","Veladura","900 ml",0,"","",{"$f":"IF(A388<>\"\",IF(AND(#REF!=\"Padrão\",$H$4=#REF!),BDI!$B$17,IF(AND(#REF!=\"Padrão\",$H$4=#REF!),BDI!$C$17,IF(AND(#REF!=\"Diferenciado\",$H$4=#REF!),BDI!$G$17,IF(AND(#REF!=\"Diferenciado\",$H$4=#REF!),BDI!$H$17,IF(#REF!=\"ZERO\",0))))),\"\")","v":{"$error":"#REF!"}},"",""]
["SF-00384","Massa para calafetar madeira","kg",0,"","",{"$f":"IF(A389<>\"\",IF(AND(#REF!=\"Padrão\",$H$4=#REF!),BDI!$B$17,IF(AND(#REF!=\"Padrão\",$H$4=#REF!),BDI!$C$17,IF(AND(#REF!=\"Diferenciado\",$H$4=#REF!),BDI!$G$17,IF(AND(#REF!=\"Diferenciado\",$H$4=#REF!),BDI!$H$17,IF(#REF!=\"ZERO\",0))))),\"\")","v":{"$error":"#REF!"}},"",""]
["SF-00385","Removedor pastoso","kg",0,"","",{"$f":"IF(A390<>\"\",IF(AND(#REF!=\"Padrão\",$H$4=#REF!),BDI!$B$17,IF(AND(#REF!=\"Padrão\",$H$4=#REF!),BDI!$C$17,IF(AND(#REF!=\"Diferenciado\",$H$4=#REF!),BDI!$G$17,IF(AND(#REF!=\"Diferenciado\",$H$4=#REF!),BDI!$H$17,IF(#REF!=\"ZERO\",0))))),\"\")","v":{"$error":"#REF!"}},"",""]
["SF-00386","Tingidor para madeira","150 ml",0,"",{"$f":"IF(ISNUMBER(E391),D391*E391,\"\")","v":""},{"$f":"IF(A391<>\"\",IF(AND(#REF!=\"Padrão\",$H$4=#REF!),BDI!$B$17,IF(AND(#REF!=\"Padrão\",$H$4=#REF!),BDI!$C$17,IF(AND(#REF!=\"Diferenciado\",$H$4=#REF!),BDI!$G$17,IF(AND(#REF!=\"Diferenciado\",$H$4=#REF!),BDI!$H$17,IF(#REF!=\"ZERO\",0))))),\"\")","v":{"$error":"#REF!"}},{"$f":"IF(ISNUMBER(E391),ROUND(E391*(1+G391),2),\"\")","v":""},{"$f":"IF(ISNUMBER(E391),ROUND(H391*D391,2),\"\")","v":""}]
["SF-00387","Thinner","Litro",0,"","",{"$f":"IF(A392<>\"\",IF(AND(#REF!=\"Padrão\",$H$4=#REF!),BDI!$B$17,IF(AND(#REF!=\"Padrão\",$H$4=#REF!),BDI!$C$17,IF(AND(#REF!=\"Diferenciado\",$H$4=#REF!),BDI!$G$17,IF(AND(#REF!=\"Diferenciado\",$H$4=#REF!),BDI!$H$17,IF(#REF!=\"ZERO\",0))))),\"\")","v":{"$error":"#REF!"}},"",""]
["SF-00388","Goma Laca Indiana","Kg",0,"","",{"$f":"IF(A393<>\"\",IF(AND(#REF!=\"Padrão\",$H$4=#REF!),BDI!$B$17,IF(AND(#REF!=\"Padrão\",$H$4=#REF!),BDI!$C$17,IF(AND(#REF!=\"Diferenciado\",$H$4=#REF!),BDI!$G$17,IF(AND(#REF!=\"Diferenciado\",$H$4=#REF!),BDI!$H$17,IF(#REF!=\"ZERO\",0))))),\"\")","v":{"$error":"#REF!"}},"",""]
["SF-00389","Cera em pasta para madeira","kg",0,"","",{"$f":"IF(A394<>\"\",IF(AND(#REF!=\"Padrão\",$H$4=#REF!),BDI!$B$17,IF(AND(#REF!=\"Padrão\",$H$4=#REF!),BDI!$C$17,IF(AND(#REF!=\"Diferenciado\",$H$4=#REF!),BDI!$G$17,IF(AND(#REF!=\"Diferenciado\",$H$4=#REF!),BDI!$H$17,IF(#REF!=\"ZERO\",0))))),\"\")","v":{"$error":"#REF!"}},"",""]
["SF-00390","Fita de borda de 22 mm para encabeçamento","m",0,"","",{"$f":"IF(A395<>\"\",IF(AND(#REF!=\"Padrão\",$H$4=#REF!),BDI!$B$17,IF(AND(#REF!=\"Padrão\",$H$4=#REF!),BDI!$C$17,IF(AND(#REF!=\"Diferenciado\",$H$4=#REF!),BDI!$G$17,IF(AND(#REF!=\"Diferenciado\",$H$4=#REF!),BDI!$H$17,IF(#REF!=\"ZERO\",0))))),\"\")","v":{"$error":"#REF!"}},"",""]
["SF-00391","Fita de borda de 35 mm para encabeçamento","m",0,"","",{"$f":"IF(A396<>\"\",IF(AND(#REF!=\"Padrão\",$H$4=#REF!),BDI!$B$17,IF(AND(#REF!=\"Padrão\",$H$4=#REF!),BDI!$C$17,IF(AND(#REF!=\"Diferenciado\",$H$4=#REF!),BDI!$G$17,IF(AND(#REF!=\"Diferenciado\",$H$4=#REF!),BDI!$H$17,IF(#REF!=\"ZERO\",0))))),\"\")","v":{"$error":"#REF!"}},"",""]
["SF-00392","Fita de borda de 64 mm para encabeçamento","m",0,"","",{"$f":"IF(A397<>\"\",IF(AND(#REF!=\"Padrão\",$H$4=#REF!),BDI!$B$17,IF(AND(#REF!=\"Padrão\",$H$4=#REF!),BDI!$C$17,IF(AND(#REF!=\"Diferenciado\",$H$4=#REF!),BDI!$G$17,IF(AND(#REF!=\"Diferenciado\",$H$4=#REF!),BDI!$H$17,IF(#REF!=\"ZERO\",0))))),\"\")","v":{"$error":"#REF!"}},"",""]
["SF-00393","Fita de borda de 45 mm para encabeçamento","m",0,"","",{"$f":"IF(A398<>\"\",IF(AND(#REF!=\"Padrão\",$H$4=#REF!),BDI!$B$17,IF(AND(#REF!=\"Padrão\",$H$4=#REF!),BDI!$C$17,IF(AND(#REF!=\"Diferenciado\",$H$4=#REF!),BDI!$G$17,IF(AND(#REF!=\"Diferenciado\",$H$4=#REF!),BDI!$H$17,IF(#REF!=\"ZERO\",0))))),\"\")","v":{"$error":"#REF!"}},"",""]
["SF-00394","Suporte para prateleira redondo - 10mm x 15mm","un",0,"","",{"$f":"IF(A399<>\"\",IF(AND(#REF!=\"Padrão\",$H$4=#REF!),BDI!$B$17,IF(AND(#REF!=\"Padrão\",$H$4=#REF!),BDI!$C$17,IF(AND(#REF!=\"Diferenciado\",$H$4=#REF!),BDI!$G$17,IF(AND(#REF!=\"Diferenciado\",$H$4=#REF!),BDI!$H$17,IF(#REF!=\"ZERO\",0))))),\"\")","v":{"$error":"#REF!"}},"",""]
["SF-00395","Rodízio Giratório com Freio - 2 Polegadas","un",0,"","",{"$f":"IF(A400<>\"\",IF(AND(#REF!=\"Padrão\",$H$4=#REF!),BDI!$B$17,IF(AND(#REF!=\"Padrão\",$H$4=#REF!),BDI!$C$17,IF(AND(#REF!=\"Diferenciado\",$H$4=#REF!),BDI!$G$17,IF(AND(#REF!=\"Diferenciado\",$H$4=#REF!),BDI!$H$17,IF(#REF!=\"ZERO\",0))))),\"\")","v":{"$error":"#REF!"}},"",""]
["SF-00396","Rodízio fixo de 4 Polegadas","un",0,"","",{"$f":"IF(A401<>\"\",IF(AND(#REF!=\"Padrão\",$H$4=#REF!),BDI!$B$17,IF(AND(#REF!=\"Padrão\",$H$4=#REF!),BDI!$C$17,IF(AND(#REF!=\"Diferenciado\",$H$4=#REF!),BDI!$G$17,IF(AND(#REF!=\"Diferenciado\",$H$4=#REF!),BDI!$H$17,IF(#REF!=\"ZERO\",0))))),\"\")","v":{"$error":"#REF!"}},"",""]
["SF-00397","Rodízio Giratório  Ref. 1500HC – Base de Pino com Bucha","un",0,"","",{"$f":"IF(A402<>\"\",IF(AND(#REF!=\"Padrão\",$H$4=#REF!),BDI!$B$17,IF(AND(#REF!=\"Padrão\",$H$4=#REF!),BDI!$C$17,IF(AND(#REF!=\"Diferenciado\",$H$4=#REF!),BDI!$G$17,IF(AND(#REF!=\"Diferenciado\",$H$4=#REF!),BDI!$H$17,IF(#REF!=\"ZERO\",0))))),\"\")","v":{"$error":"#REF!"}},"",""]
["SF-00398","Cordão para Persiana Horizontal (metro)","m",0,"","",{"$f":"IF(A403<>\"\",IF(AND(#REF!=\"Padrão\",$H$4=#REF!),BDI!$B$17,IF(AND(#REF!=\"Padrão\",$H$4=#REF!),BDI!$C$17,IF(AND(#REF!=\"Diferenciado\",$H$4=#REF!),BDI!$G$17,IF(AND(#REF!=\"Diferenciado\",$H$4=#REF!),BDI!$H$17,IF(#REF!=\"ZERO\",0))))),\"\")","v":{"$error":"#REF!"}},"",""]
["SF-00399","Cordão para Persiana Vertical (metro)","m",0,"","",{"$f":"IF(A404<>\"\",IF(AND(#REF!=\"Padrão\",$H$4=#REF!),BDI!$B$17,IF(AND(#REF!=\"Padrão\",$H$4=#REF!),BDI!$C$17,IF(AND(#REF!=\"Diferenciado\",$H$4=#REF!),BDI!$G$17,IF(AND(#REF!=\"Diferenciado\",$H$4=#REF!),BDI!$H$17,IF(#REF!=\"ZERO\",0))))),\"\")","v":{"$error":"#REF!"}},"",""]
["SF-00400","Freio de Cordão de Persiana (travador de cordão) e acionador","un",0,"","",{"$f":"IF(A405<>\"\",IF(AND(#REF!=\"Padrão\",$H$4=#REF!),BDI!$B$17,IF(AND(#REF!=\"Padrão\",$H$4=#REF!),BDI!$C$17,IF(AND(#REF!=\"Diferenciado\",$H$4=#REF!),BDI!$G$17,IF(AND(#REF!=\"Diferenciado\",$H$4=#REF!),BDI!$H$17,IF(#REF!=\"ZERO\",0))))),\"\")","v":{"$error":"#REF!"}},"",""]
["SF-00401","Corrente para persiana (com clip)","m",0,"","",{"$f":"IF(A406<>\"\",IF(AND(#REF!=\"Padrão\",$H$4=#REF!),BDI!$B$17,IF(AND(#REF!=\"Padrão\",$H$4=#REF!),BDI!$C$17,IF(AND(#REF!=\"Diferenciado\",$H$4=#REF!),BDI!$G$17,IF(AND(#REF!=\"Diferenciado\",$H$4=#REF!),BDI!$H$17,IF(#REF!=\"ZERO\",0))))),\"\")","v":{"$error":"#REF!"}},"",""]
["SF-00402","Peso envelope para persiana","un",0,"","",{"$f":"IF(A407<>\"\",IF(AND(#REF!=\"Padrão\",$H$4=#REF!),BDI!$B$17,IF(AND(#REF!=\"Padrão\",$H$4=#REF!),BDI!$C$17,IF(AND(#REF!=\"Diferenciado\",$H$4=#REF!),BDI!$G$17,IF(AND(#REF!=\"Diferenciado\",$H$4=#REF!),BDI!$H$17,IF(#REF!=\"ZERO\",0))))),\"\")","v":{"$error":"#REF!"}},"",""]
["SF-00403","Rodízio de Cortina Comum","un",0,"","",{"$f":"IF(A408<>\"\",IF(AND(#REF!=\"Padrão\",$H$4=#REF!),BDI!$B$17,IF(AND(#REF!=\"Padrão\",$H$4=#REF!),BDI!$C$17,IF(AND(#REF!=\"Diferenciado\",$H$4=#REF!),BDI!$G$17,IF(AND(#REF!=\"Diferenciado\",$H$4=#REF!),BDI!$H$17,IF(#REF!=\"ZERO\",0))))),\"\")","v":{"$error":"#REF!"}},"",""]
["SF-00404","Cantoneira 2 furos - Cioba","un",0,"","",{"$f":"IF(A409<>\"\",IF(AND(#REF!=\"Padrão\",$H$4=#REF!),BDI!$B$17,IF(AND(#REF!=\"Padrão\",$H$4=#REF!),BDI!$C$17,IF(AND(#REF!=\"Diferenciado\",$H$4=#REF!),BDI!$G$17,IF(AND(#REF!=\"Diferenciado\",$H$4=#REF!),BDI!$H$17,IF(#REF!=\"ZERO\",0))))),\"\")","v":{"$error":"#REF!"}},"",""]
["SF-00405","Dobradiça para porta com anel","un",0,"","",{"$f":"IF(A410<>\"\",IF(AND(#REF!=\"Padrão\",$H$4=#REF!),BDI!$B$17,IF(AND(#REF!=\"Padrão\",$H$4=#REF!),BDI!$C$17,IF(AND(#REF!=\"Diferenciado\",$H$4=#REF!),BDI!$G$17,IF(AND(#REF!=\"Diferenciado\",$H$4=#REF!),BDI!$H$17,IF(#REF!=\"ZERO\",0))))),\"\")","v":{"$error":"#REF!"}},"",""]
["SF-00406","Dobradiça curva para porta de armário (com parafuso de fixação)","un",0,"","",{"$f":"IF(A411<>\"\",IF(AND(#REF!=\"Padrão\",$H$4=#REF!),BDI!$B$17,IF(AND(#REF!=\"Padrão\",$H$4=#REF!),BDI!$C$17,IF(AND(#REF!=\"Diferenciado\",$H$4=#REF!),BDI!$G$17,IF(AND(#REF!=\"Diferenciado\",$H$4=#REF!),BDI!$H$17,IF(#REF!=\"ZERO\",0))))),\"\")","v":{"$error":"#REF!"}},"",""]
["SF-00407","Fechadura para porta externa maçaneta em barra (fornecimento)","un",0,"","",{"$f":"IF(A412<>\"\",IF(AND(#REF!=\"Padrão\",$H$4=#REF!),BDI!$B$17,IF(AND(#REF!=\"Padrão\",$H$4=#REF!),BDI!$C$17,IF(AND(#REF!=\"Diferenciado\",$H$4=#REF!),BDI!$G$17,IF(AND(#REF!=\"Diferenciado\",$H$4=#REF!),BDI!$H$17,IF(#REF!=\"ZERO\",0))))),\"\")","v":{"$error":"#REF!"}},"",""]
["SF-00408","Fechadura para Porta Externa com Espelho - Millenio","un",0,{"$f":"OFFSET(INDEX(Composições!A:J,MATCH(Orçamentária!A413,Composições!A:A,0),8),2,0)","v":47.404999999999994},0,{"$f":"IF(A413<>\"\",IF(AND(#REF!=\"Padrão\",$H$4=#REF!),BDI!$B$17,IF(AND(#REF!=\"Padrão\",$H$4=#REF!),BDI!$C$17,IF(AND(#REF!=\"Diferenciado\",$H$4=#REF!),BDI!$G$17,IF(AND(#REF!=\"Diferenciado\",$H$4=#REF!),BDI!$H$17,IF(#REF!=\"ZERO\",0))))),\"\")","v":{"$error":"#REF!"}},{"$error":"#REF!"},{"$error":"#REF!"}]
["SF-00409","Fechadura para Porta de Banheiro com Espelho - Millenio","un",0,"","",{"$f":"IF(A414<>\"\",IF(AND(#REF!=\"Padrão\",$H$4=#REF!),BDI!$B$17,IF(AND(#REF!=\"Padrão\",$H$4=#REF!),BDI!$C$17,IF(AND(#REF!=\"Diferenciado\",$H$4=#REF!),BDI!$G$17,IF(AND(#REF!=\"Diferenciado\",$H$4=#REF!),BDI!$H$17,IF(#REF!=\"ZERO\",0))))),\"\")","v":{"$error":"#REF!"}},"",""]
["SF-00410","Fechadura para porta de divisória - Soprano","un",0,"","",{"$f":"IF(A415<>\"\",IF(AND(#REF!=\"Padrão\",$H$4=#REF!),BDI!$B$17,IF(AND(#REF!=\"Padrão\",$H$4=#REF!),BDI!$C$17,IF(AND(#REF!=\"Diferenciado\",$H$4=#REF!),BDI!$G$17,IF(AND(#REF!=\"Diferenciado\",$H$4=#REF!),BDI!$H$17,IF(#REF!=\"ZERO\",0))))),\"\")","v":{"$error":"#REF!"}},"",""]
["SF-00411","Tarjeta Livre / Ocupado para portas de banheiro","un",0,"","",{"$f":"IF(A416<>\"\",IF(AND(#REF!=\"Padrão\",$H$4=#REF!),BDI!$B$17,IF(AND(#REF!=\"Padrão\",$H$4=#REF!),BDI!$C$17,IF(AND(#REF!=\"Diferenciado\",$H$4=#REF!),BDI!$G$17,IF(AND(#REF!=\"Diferenciado\",$H$4=#REF!),BDI!$H$17,IF(#REF!=\"ZERO\",0))))),\"\")","v":{"$error":"#REF!"}},"",""]
["SF-00412","Fechadura tubular cilíndrica para porta de divisória","un",0,"","",{"$f":"IF(A417<>\"\",IF(AND(#REF!=\"Padrão\",$H$4=#REF!),BDI!$B$17,IF(AND(#REF!=\"Padrão\",$H$4=#REF!),BDI!$C$17,IF(AND(#REF!=\"Diferenciado\",$H$4=#REF!),BDI!$G$17,IF(AND(#REF!=\"Diferenciado\",$H$4=#REF!),BDI!$H$17,IF(#REF!=\"ZERO\",0))))),\"\")","v":{"$error":"#REF!"}},"",""]
["SF-00413","Fechadura Cilíndrica para Armário","un",0,"","",{"$f":"IF(A418<>\"\",IF(AND(#REF!=\"Padrão\",$H$4=#REF!),BDI!$B$17,IF(AND(#REF!=\"Padrão\",$H$4=#REF!),BDI!$C$17,IF(AND(#REF!=\"Diferenciado\",$H$4=#REF!),BDI!$G$17,IF(AND(#REF!=\"Diferenciado\",$H$4=#REF!),BDI!$H$17,IF(#REF!=\"ZERO\",0))))),\"\")","v":{"$error":"#REF!"}},"",""]
["SF-00414","Fechadura de embutir para armário e gaveta","un",0,"","",{"$f":"IF(A419<>\"\",IF(AND(#REF!=\"Padrão\",$H$4=#REF!),BDI!$B$17,IF(AND(#REF!=\"Padrão\",$H$4=#REF!),BDI!$C$17,IF(AND(#REF!=\"Diferenciado\",$H$4=#REF!),BDI!$G$17,IF(AND(#REF!=\"Diferenciado\",$H$4=#REF!),BDI!$H$17,IF(#REF!=\"ZERO\",0))))),\"\")","v":{"$error":"#REF!"}},"",""]
["SF-00415","Fechadura de embutir para móveis – Fechamento Superior - Referência 861","un",0,"","",{"$f":"IF(A420<>\"\",IF(AND(#REF!=\"Padrão\",$H$4=#REF!),BDI!$B$17,IF(AND(#REF!=\"Padrão\",$H$4=#REF!),BDI!$C$17,IF(AND(#REF!=\"Diferenciado\",$H$4=#REF!),BDI!$G$17,IF(AND(#REF!=\"Diferenciado\",$H$4=#REF!),BDI!$H$17,IF(#REF!=\"ZERO\",0))))),\"\")","v":{"$error":"#REF!"}},"",""]
["SF-00416","Fechadura de embutir para móveis – Fechamento lateral - Referência 871","un",0,"","",{"$f":"IF(A421<>\"\",IF(AND(#REF!=\"Padrão\",$H$4=#REF!),BDI!$B$17,IF(AND(#REF!=\"Padrão\",$H$4=#REF!),BDI!$C$17,IF(AND(#REF!=\"Diferenciado\",$H$4=#REF!),BDI!$G$17,IF(AND(#REF!=\"Diferenciado\",$H$4=#REF!),BDI!$H$17,IF(#REF!=\"ZERO\",0))))),\"\")","v":{"$error":"#REF!"}},"",""]
["SF-00417","Fechadura para porta de correr (Bico de Papagaio)","un",0,"","",{"$f":"IF(A422<>\"\",IF(AND(#REF!=\"Padrão\",$H$4=#REF!),BDI!$B$17,IF(AND(#REF!=\"Padrão\",$H$4=#REF!),BDI!$C$17,IF(AND(#REF!=\"Diferenciado\",$H$4=#REF!),BDI!$G$17,IF(AND(#REF!=\"Diferenciado\",$H$4=#REF!),BDI!$H$17,IF(#REF!=\"ZERO\",0))))),\"\")","v":{"$error":"#REF!"}},"",""]
["SF-00418","Fechadura para Gaveteiro","un",0,"","",{"$f":"IF(A423<>\"\",IF(AND(#REF!=\"Padrão\",$H$4=#REF!),BDI!$B$17,IF(AND(#REF!=\"Padrão\",$H$4=#REF!),BDI!$C$17,IF(AND(#REF!=\"Diferenciado\",$H$4=#REF!),BDI!$G$17,IF(AND(#REF!=\"Diferenciado\",$H$4=#REF!),BDI!$H$17,IF(#REF!=\"ZERO\",0))))),\"\")","v":{"$error":"#REF!"}},"",""]
["SF-00419","Fechadura para porta de divisória – LaFonte","un",0,"","",{"$f":"IF(A424<>\"\",IF(AND(#REF!=\"Padrão\",$H$4=#REF!),BDI!$B$17,IF(AND(#REF!=\"Padrão\",$H$4=#REF!),BDI!$C$17,IF(AND(#REF!=\"Diferenciado\",$H$4=#REF!),BDI!$G$17,IF(AND(#REF!=\"Diferenciado\",$H$4=#REF!),BDI!$H$17,IF(#REF!=\"ZERO\",0))))),\"\")","v":{"$error":"#REF!"}},"",""]
["SF-00420","Fechadura para Porta de divisória - Lockwell","un",0,"","",{"$f":"IF(A425<>\"\",IF(AND(#REF!=\"Padrão\",$H$4=#REF!),BDI!$B$17,IF(AND(#REF!=\"Padrão\",$H$4=#REF!),BDI!$C$17,IF(AND(#REF!=\"Diferenciado\",$H$4=#REF!),BDI!$G$17,IF(AND(#REF!=\"Diferenciado\",$H$4=#REF!),BDI!$H$17,IF(#REF!=\"ZERO\",0))))),\"\")","v":{"$error":"#REF!"}},"",""]
["SF-00421","Fechadura para Vitrine de 140 mm","un",0,"","",{"$f":"IF(A426<>\"\",IF(AND(#REF!=\"Padrão\",$H$4=#REF!),BDI!$B$17,IF(AND(#REF!=\"Padrão\",$H$4=#REF!),BDI!$C$17,IF(AND(#REF!=\"Diferenciado\",$H$4=#REF!),BDI!$G$17,IF(AND(#REF!=\"Diferenciado\",$H$4=#REF!),BDI!$H$17,IF(#REF!=\"ZERO\",0))))),\"\")","v":{"$error":"#REF!"}},"",""]
["SF-00422","Fecho para porta de armário – Tipo Gangorra – 75 mm","un",0,"","",{"$f":"IF(A427<>\"\",IF(AND(#REF!=\"Padrão\",$H$4=#REF!),BDI!$B$17,IF(AND(#REF!=\"Padrão\",$H$4=#REF!),BDI!$C$17,IF(AND(#REF!=\"Diferenciado\",$H$4=#REF!),BDI!$G$17,IF(AND(#REF!=\"Diferenciado\",$H$4=#REF!),BDI!$H$17,IF(#REF!=\"ZERO\",0))))),\"\")","v":{"$error":"#REF!"}},"",""]
["SF-00423","Fecho para porta de armário – Tipo Gangorra – 130 mm","un",0,"","",{"$f":"IF(A428<>\"\",IF(AND(#REF!=\"Padrão\",$H$4=#REF!),BDI!$B$17,IF(AND(#REF!=\"Padrão\",$H$4=#REF!),BDI!$C$17,IF(AND(#REF!=\"Diferenciado\",$H$4=#REF!),BDI!$G$17,IF(AND(#REF!=\"Diferenciado\",$H$4=#REF!),BDI!$H$17,IF(#REF!=\"ZERO\",0))))),\"\")","v":{"$error":"#REF!"}},"",""]
["SF-00424","Fecho de Pressão Tipo Roller","un",0,"","",{"$f":"IF(A429<>\"\",IF(AND(#REF!=\"Padrão\",$H$4=#REF!),BDI!$B$17,IF(AND(#REF!=\"Padrão\",$H$4=#REF!),BDI!$C$17,IF(AND(#REF!=\"Diferenciado\",$H$4=#REF!),BDI!$G$17,IF(AND(#REF!=\"Diferenciado\",$H$4=#REF!),BDI!$H$17,IF(#REF!=\"ZERO\",0))))),\"\")","v":{"$error":"#REF!"}},"",""]
["SF-00425","Fecho Eletromagnético","un",0,"","",{"$f":"IF(A430<>\"\",IF(AND(#REF!=\"Padrão\",$H$4=#REF!),BDI!$B$17,IF(AND(#REF!=\"Padrão\",$H$4=#REF!),BDI!$C$17,IF(AND(#REF!=\"Diferenciado\",$H$4=#REF!),BDI!$G$17,IF(AND(#REF!=\"Diferenciado\",$H$4=#REF!),BDI!$H$17,IF(#REF!=\"ZERO\",0))))),\"\")","v":{"$error":"#REF!"}},"",""]
["SF-00426","Acionador de Fechadura Elétrica","un",0,"","",{"$f":"IF(A431<>\"\",IF(AND(#REF!=\"Padrão\",$H$4=#REF!),BDI!$B$17,IF(AND(#REF!=\"Padrão\",$H$4=#REF!),BDI!$C$17,IF(AND(#REF!=\"Diferenciado\",$H$4=#REF!),BDI!$G$17,IF(AND(#REF!=\"Diferenciado\",$H$4=#REF!),BDI!$H$17,IF(#REF!=\"ZERO\",0))))),\"\")","v":{"$error":"#REF!"}},"",""]
["SF-00427","Puxador em Botão côncavo de 25mm de diâmetro","un",0,"","",{"$f":"IF(A432<>\"\",IF(AND(#REF!=\"Padrão\",$H$4=#REF!),BDI!$B$17,IF(AND(#REF!=\"Padrão\",$H$4=#REF!),BDI!$C$17,IF(AND(#REF!=\"Diferenciado\",$H$4=#REF!),BDI!$G$17,IF(AND(#REF!=\"Diferenciado\",$H$4=#REF!),BDI!$H$17,IF(#REF!=\"ZERO\",0))))),\"\")","v":{"$error":"#REF!"}},"",""]
["SF-00428","Puxador em botão convexo de 25mm de diâmetro","un",0,"","",{"$f":"IF(A433<>\"\",IF(AND(#REF!=\"Padrão\",$H$4=#REF!),BDI!$B$17,IF(AND(#REF!=\"Padrão\",$H$4=#REF!),BDI!$C$17,IF(AND(#REF!=\"Diferenciado\",$H$4=#REF!),BDI!$G$17,IF(AND(#REF!=\"Diferenciado\",$H$4=#REF!),BDI!$H$17,IF(#REF!=\"ZERO\",0))))),\"\")","v":{"$error":"#REF!"}},"",""]
["SF-00429","Corrediça Simples de Roldanas - 250 mm a 300 mm","par",0,"","",{"$f":"IF(A434<>\"\",IF(AND(#REF!=\"Padrão\",$H$4=#REF!),BDI!$B$17,IF(AND(#REF!=\"Padrão\",$H$4=#REF!),BDI!$C$17,IF(AND(#REF!=\"Diferenciado\",$H$4=#REF!),BDI!$G$17,IF(AND(#REF!=\"Diferenciado\",$H$4=#REF!),BDI!$H$17,IF(#REF!=\"ZERO\",0))))),\"\")","v":{"$error":"#REF!"}},"",""]
["SF-00430","Corrediça Simples de Roldanas - 350 mm a 400 mm","par",0,"","",{"$f":"IF(A435<>\"\",IF(AND(#REF!=\"Padrão\",$H$4=#REF!),BDI!$B$17,IF(AND(#REF!=\"Padrão\",$H$4=#REF!),BDI!$C$17,IF(AND(#REF!=\"Diferenciado\",$H$4=#REF!),BDI!$G$17,IF(AND(#REF!=\"Diferenciado\",$H$4=#REF!),BDI!$H$17,IF(#REF!=\"ZERO\",0))))),\"\")","v":{"$error":"#REF!"}},"",""]
["SF-00431","Corrediça Simples de Roldanas - 450 mm a 500 mm","par",0,"","",{"$f":"IF(A436<>\"\",IF(AND(#REF!=\"Padrão\",$H$4=#REF!),BDI!$B$17,IF(AND(#REF!=\"Padrão\",$H$4=#REF!),BDI!$C$17,IF(AND(#REF!=\"Diferenciado\",$H$4=#REF!),BDI!$G$17,IF(AND(#REF!=\"Diferenciado\",$H$4=#REF!),BDI!$H$17,IF(#REF!=\"ZERO\",0))))),\"\")","v":{"$error":"#REF!"}},"",""]
["SF-00432","Corrediça Simples de Roldanas - 550 mm","par",0,"","",{"$f":"IF(A437<>\"\",IF(AND(#REF!=\"Padrão\",$H$4=#REF!),BDI!$B$17,IF(AND(#REF!=\"Padrão\",$H$4=#REF!),BDI!$C$17,IF(AND(#REF!=\"Diferenciado\",$H$4=#REF!),BDI!$G$17,IF(AND(#REF!=\"Diferenciado\",$H$4=#REF!),BDI!$H$17,IF(#REF!=\"ZERO\",0))))),\"\")","v":{"$error":"#REF!"}},"",""]
["SF-00433","Corrediça Telescópica - 300 mm","par",0,"","",{"$f":"IF(A438<>\"\",IF(AND(#REF!=\"Padrão\",$H$4=#REF!),BDI!$B$17,IF(AND(#REF!=\"Padrão\",$H$4=#REF!),BDI!$C$17,IF(AND(#REF!=\"Diferenciado\",$H$4=#REF!),BDI!$G$17,IF(AND(#REF!=\"Diferenciado\",$H$4=#REF!),BDI!$H$17,IF(#REF!=\"ZERO\",0))))),\"\")","v":{"$error":"#REF!"}},"",""]
["SF-00434","Corrediça Telescópica - 400 mm; 450 mm; 500 mm","par",0,"","",{"$f":"IF(A439<>\"\",IF(AND(#REF!=\"Padrão\",$H$4=#REF!),BDI!$B$17,IF(AND(#REF!=\"Padrão\",$H$4=#REF!),BDI!$C$17,IF(AND(#REF!=\"Diferenciado\",$H$4=#REF!),BDI!$G$17,IF(AND(#REF!=\"Diferenciado\",$H$4=#REF!),BDI!$H$17,IF(#REF!=\"ZERO\",0))))),\"\")","v":{"$error":"#REF!"}},"",""]
["SF-00435","Gancho de ferro com rosca – 17 x 50","un",0,"","",{"$f":"IF(A440<>\"\",IF(AND(#REF!=\"Padrão\",$H$4=#REF!),BDI!$B$17,IF(AND(#REF!=\"Padrão\",$H$4=#REF!),BDI!$C$17,IF(AND(#REF!=\"Diferenciado\",$H$4=#REF!),BDI!$G$17,IF(AND(#REF!=\"Diferenciado\",$H$4=#REF!),BDI!$H$17,IF(#REF!=\"ZERO\",0))))),\"\")","v":{"$error":"#REF!"}},"",""]
["SF-00436","Gancho de ferro tipo \"pitão\" com rosca – 21 x 80","un",0,"","",{"$f":"IF(A441<>\"\",IF(AND(#REF!=\"Padrão\",$H$4=#REF!),BDI!$B$17,IF(AND(#REF!=\"Padrão\",$H$4=#REF!),BDI!$C$17,IF(AND(#REF!=\"Diferenciado\",$H$4=#REF!),BDI!$G$17,IF(AND(#REF!=\"Diferenciado\",$H$4=#REF!),BDI!$H$17,IF(#REF!=\"ZERO\",0))))),\"\")","v":{"$error":"#REF!"}},"",""]
["SF-00437","Suporte triangular para quadro - nº 2","un",0,"","",{"$f":"IF(A442<>\"\",IF(AND(#REF!=\"Padrão\",$H$4=#REF!),BDI!$B$17,IF(AND(#REF!=\"Padrão\",$H$4=#REF!),BDI!$C$17,IF(AND(#REF!=\"Diferenciado\",$H$4=#REF!),BDI!$G$17,IF(AND(#REF!=\"Diferenciado\",$H$4=#REF!),BDI!$H$17,IF(#REF!=\"ZERO\",0))))),\"\")","v":{"$error":"#REF!"}},"",""]
["SF-00438","Suporte triangular para quadro - nº 3","un",0,"","",{"$f":"IF(A443<>\"\",IF(AND(#REF!=\"Padrão\",$H$4=#REF!),BDI!$B$17,IF(AND(#REF!=\"Padrão\",$H$4=#REF!),BDI!$C$17,IF(AND(#REF!=\"Diferenciado\",$H$4=#REF!),BDI!$G$17,IF(AND(#REF!=\"Diferenciado\",$H$4=#REF!),BDI!$H$17,IF(#REF!=\"ZERO\",0))))),\"\")","v":{"$error":"#REF!"}},"",""]
["SF-00439","Sapata niveladora para móveis com rosca 3/8\"","un",0,"","",{"$f":"IF(A444<>\"\",IF(AND(#REF!=\"Padrão\",$H$4=#REF!),BDI!$B$17,IF(AND(#REF!=\"Padrão\",$H$4=#REF!),BDI!$C$17,IF(AND(#REF!=\"Diferenciado\",$H$4=#REF!),BDI!$G$17,IF(AND(#REF!=\"Diferenciado\",$H$4=#REF!),BDI!$H$17,IF(#REF!=\"ZERO\",0))))),\"\")","v":{"$error":"#REF!"}},"",""]
["SF-00440","Sapata niveladora para móveis com base de 40 mm","un",0,"","",{"$f":"IF(A445<>\"\",IF(AND(#REF!=\"Padrão\",$H$4=#REF!),BDI!$B$17,IF(AND(#REF!=\"Padrão\",$H$4=#REF!),BDI!$C$17,IF(AND(#REF!=\"Diferenciado\",$H$4=#REF!),BDI!$G$17,IF(AND(#REF!=\"Diferenciado\",$H$4=#REF!),BDI!$H$17,IF(#REF!=\"ZERO\",0))))),\"\")","v":{"$error":"#REF!"}},"",""]
["SF-00441","Sapata niveladora para móveis com base de 60 mm","un",0,"","",{"$f":"IF(A446<>\"\",IF(AND(#REF!=\"Padrão\",$H$4=#REF!),BDI!$B$17,IF(AND(#REF!=\"Padrão\",$H$4=#REF!),BDI!$C$17,IF(AND(#REF!=\"Diferenciado\",$H$4=#REF!),BDI!$G$17,IF(AND(#REF!=\"Diferenciado\",$H$4=#REF!),BDI!$H$17,IF(#REF!=\"ZERO\",0))))),\"\")","v":{"$error":"#REF!"}},"",""]
["SF-00442","Cabide duplo com gancho grande para banheiro","un",0,"","",{"$f":"IF(A447<>\"\",IF(AND(#REF!=\"Padrão\",$H$4=#REF!),BDI!$B$17,IF(AND(#REF!=\"Padrão\",$H$4=#REF!),BDI!$C$17,IF(AND(#REF!=\"Diferenciado\",$H$4=#REF!),BDI!$G$17,IF(AND(#REF!=\"Diferenciado\",$H$4=#REF!),BDI!$H$17,IF(#REF!=\"ZERO\",0))))),\"\")","v":{"$error":"#REF!"}},"",""]
["SF-00443","Puxador alça 102mm","un",0,"","",{"$f":"IF(A448<>\"\",IF(AND(#REF!=\"Padrão\",$H$4=#REF!),BDI!$B$17,IF(AND(#REF!=\"Padrão\",$H$4=#REF!),BDI!$C$17,IF(AND(#REF!=\"Diferenciado\",$H$4=#REF!),BDI!$G$17,IF(AND(#REF!=\"Diferenciado\",$H$4=#REF!),BDI!$H$17,IF(#REF!=\"ZERO\",0))))),\"\")","v":{"$error":"#REF!"}},"",""]
["SF-00444","Puxador tipo “C” em arco - 128mm","un",0,"","",{"$f":"IF(A449<>\"\",IF(AND(#REF!=\"Padrão\",$H$4=#REF!),BDI!$B$17,IF(AND(#REF!=\"Padrão\",$H$4=#REF!),BDI!$C$17,IF(AND(#REF!=\"Diferenciado\",$H$4=#REF!),BDI!$G$17,IF(AND(#REF!=\"Diferenciado\",$H$4=#REF!),BDI!$H$17,IF(#REF!=\"ZERO\",0))))),\"\")","v":{"$error":"#REF!"}},"",""]
["SF-00445","Puxador tipo “C” em arco - 96mm","un",0,"","",{"$f":"IF(A450<>\"\",IF(AND(#REF!=\"Padrão\",$H$4=#REF!),BDI!$B$17,IF(AND(#REF!=\"Padrão\",$H$4=#REF!),BDI!$C$17,IF(AND(#REF!=\"Diferenciado\",$H$4=#REF!),BDI!$G$17,IF(AND(#REF!=\"Diferenciado\",$H$4=#REF!),BDI!$H$17,IF(#REF!=\"ZERO\",0))))),\"\")","v":{"$error":"#REF!"}},"",""]
["SF-00446","Bucha para Gesso K 54","un",0,"","",{"$f":"IF(A451<>\"\",IF(AND(#REF!=\"Padrão\",$H$4=#REF!),BDI!$B$17,IF(AND(#REF!=\"Padrão\",$H$4=#REF!),BDI!$C$17,IF(AND(#REF!=\"Diferenciado\",$H$4=#REF!),BDI!$G$17,IF(AND(#REF!=\"Diferenciado\",$H$4=#REF!),BDI!$H$17,IF(#REF!=\"ZERO\",0))))),\"\")","v":{"$error":"#REF!"}},"",""]
["SF-00447","Alavanca curva com argola para basculante com cavalete – Direita ou Esquerda","un",0,"","",{"$f":"IF(A452<>\"\",IF(AND(#REF!=\"Padrão\",$H$4=#REF!),BDI!$B$17,IF(AND(#REF!=\"Padrão\",$H$4=#REF!),BDI!$C$17,IF(AND(#REF!=\"Diferenciado\",$H$4=#REF!),BDI!$G$17,IF(AND(#REF!=\"Diferenciado\",$H$4=#REF!),BDI!$H$17,IF(#REF!=\"ZERO\",0))))),\"\")","v":{"$error":"#REF!"}},"",""]
["SF-00448","Alavanca reta (chata) com argola para basculante com cavalete","un",0,"","",{"$f":"IF(A453<>\"\",IF(AND(#REF!=\"Padrão\",$H$4=#REF!),BDI!$B$17,IF(AND(#REF!=\"Padrão\",$H$4=#REF!),BDI!$C$17,IF(AND(#REF!=\"Diferenciado\",$H$4=#REF!),BDI!$G$17,IF(AND(#REF!=\"Diferenciado\",$H$4=#REF!),BDI!$H$17,IF(#REF!=\"ZERO\",0))))),\"\")","v":{"$error":"#REF!"}},"",""]
["SF-00449","Fecho maximar alavanca 100mm cromado","un",0,"","",{"$f":"IF(A454<>\"\",IF(AND(#REF!=\"Padrão\",$H$4=#REF!),BDI!$B$17,IF(AND(#REF!=\"Padrão\",$H$4=#REF!),BDI!$C$17,IF(AND(#REF!=\"Diferenciado\",$H$4=#REF!),BDI!$G$17,IF(AND(#REF!=\"Diferenciado\",$H$4=#REF!),BDI!$H$17,IF(#REF!=\"ZERO\",0))))),\"\")","v":{"$error":"#REF!"}},"",""]
["SF-00450","Gonzo com aba 1”","un",0,"",{"$f":"IF(ISNUMBER(E455),D455*E455,\"\")","v":""},{"$f":"IF(A455<>\"\",IF(AND(#REF!=\"Padrão\",$H$4=#REF!),BDI!$B$17,IF(AND(#REF!=\"Padrão\",$H$4=#REF!),BDI!$C$17,IF(AND(#REF!=\"Diferenciado\",$H$4=#REF!),BDI!$G$17,IF(AND(#REF!=\"Diferenciado\",$H$4=#REF!),BDI!$H$17,IF(#REF!=\"ZERO\",0))))),\"\")","v":{"$error":"#REF!"}},{"$f":"IF(ISNUMBER(E455),ROUND(E455*(1+G455),2),\"\")","v":""},{"$f":"IF(ISNUMBER(E455),ROUND(H455*D455,2),\"\")","v":""}]
["SF-00451","Gonzo com aba 3/4\"","un",0,"","",{"$f":"IF(A456<>\"\",IF(AND(#REF!=\"Padrão\",$H$4=#REF!),BDI!$B$17,IF(AND(#REF!=\"Padrão\",$H$4=#REF!),BDI!$C$17,IF(AND(#REF!=\"Diferenciado\",$H$4=#REF!),BDI!$G$17,IF(AND(#REF!=\"Diferenciado\",$H$4=#REF!),BDI!$H$17,IF(#REF!=\"ZERO\",0))))),\"\")","v":{"$error":"#REF!"}},"",""]
["SF-00452","Gonzo com aba 7/8\"","un",0,"","",{"$f":"IF(A457<>\"\",IF(AND(#REF!=\"Padrão\",$H$4=#REF!),BDI!$B$17,IF(AND(#REF!=\"Padrão\",$H$4=#REF!),BDI!$C$17,IF(AND(#REF!=\"Diferenciado\",$H$4=#REF!),BDI!$G$17,IF(AND(#REF!=\"Diferenciado\",$H$4=#REF!),BDI!$H$17,IF(#REF!=\"ZERO\",0))))),\"\")","v":{"$error":"#REF!"}},"",""]
["SF-00453","Gonzo sem aba 1\"","un",0,"","",{"$f":"IF(A458<>\"\",IF(AND(#REF!=\"Padrão\",$H$4=#REF!),BDI!$B$17,IF(AND(#REF!=\"Padrão\",$H$4=#REF!),BDI!$C$17,IF(AND(#REF!=\"Diferenciado\",$H$4=#REF!),BDI!$G$17,IF(AND(#REF!=\"Diferenciado\",$H$4=#REF!),BDI!$H$17,IF(#REF!=\"ZERO\",0))))),\"\")","v":{"$error":"#REF!"}},"",""]
["SF-00454","Gonzo sem aba 3/4\"","un",0,"","",{"$f":"IF(A459<>\"\",IF(AND(#REF!=\"Padrão\",$H$4=#REF!),BDI!$B$17,IF(AND(#REF!=\"Padrão\",$H$4=#REF!),BDI!$C$17,IF(AND(#REF!=\"Diferenciado\",$H$4=#REF!),BDI!$G$17,IF(AND(#REF!=\"Diferenciado\",$H$4=#REF!),BDI!$H$17,IF(#REF!=\"ZERO\",0))))),\"\")","v":{"$error":"#REF!"}},"",""]
["SF-00455","Gonzo sem aba 7/8\"","un",0,"","",{"$f":"IF(A460<>\"\",IF(AND(#REF!=\"Padrão\",$H$4=#REF!),BDI!$B$17,IF(AND(#REF!=\"Padrão\",$H$4=#REF!),BDI!$C$17,IF(AND(#REF!=\"Diferenciado\",$H$4=#REF!),BDI!$G$17,IF(AND(#REF!=\"Diferenciado\",$H$4=#REF!),BDI!$H$17,IF(#REF!=\"ZERO\",0))))),\"\")","v":{"$error":"#REF!"}},"",""]
["SF-00456","Roldana em aço tipo Canal em (V) com eixo furado e 2 rolamentos (medidas: 2 1/2\" x 50mm ou 2 1/2\" x 70mm)","un",0,"","",{"$f":"IF(A461<>\"\",IF(AND(#REF!=\"Padrão\",$H$4=#REF!),BDI!$B$17,IF(AND(#REF!=\"Padrão\",$H$4=#REF!),BDI!$C$17,IF(AND(#REF!=\"Diferenciado\",$H$4=#REF!),BDI!$G$17,IF(AND(#REF!=\"Diferenciado\",$H$4=#REF!),BDI!$H$17,IF(#REF!=\"ZERO\",0))))),\"\")","v":{"$error":"#REF!"}},"",""]
["SF-00457","Roldana em aço tipo Canal em (V) com eixo furado e 2 rolamentos  (medidas: 3” x 50mm ou 3 1/2\" x 50mm ou 3 1/2\" x 70mm)","un",0,"","",{"$f":"IF(A462<>\"\",IF(AND(#REF!=\"Padrão\",$H$4=#REF!),BDI!$B$17,IF(AND(#REF!=\"Padrão\",$H$4=#REF!),BDI!$C$17,IF(AND(#REF!=\"Diferenciado\",$H$4=#REF!),BDI!$G$17,IF(AND(#REF!=\"Diferenciado\",$H$4=#REF!),BDI!$H$17,IF(#REF!=\"ZERO\",0))))),\"\")","v":{"$error":"#REF!"}},"",""]
["SF-00458","Mancal Pedestal","un",0,"","",{"$f":"IF(A463<>\"\",IF(AND(#REF!=\"Padrão\",$H$4=#REF!),BDI!$B$17,IF(AND(#REF!=\"Padrão\",$H$4=#REF!),BDI!$C$17,IF(AND(#REF!=\"Diferenciado\",$H$4=#REF!),BDI!$G$17,IF(AND(#REF!=\"Diferenciado\",$H$4=#REF!),BDI!$H$17,IF(#REF!=\"ZERO\",0))))),\"\")","v":{"$error":"#REF!"}},"",""]
["SF-00459","Rolamento rígido de esfera","un",0,"","",{"$f":"IF(A464<>\"\",IF(AND(#REF!=\"Padrão\",$H$4=#REF!),BDI!$B$17,IF(AND(#REF!=\"Padrão\",$H$4=#REF!),BDI!$C$17,IF(AND(#REF!=\"Diferenciado\",$H$4=#REF!),BDI!$G$17,IF(AND(#REF!=\"Diferenciado\",$H$4=#REF!),BDI!$H$17,IF(#REF!=\"ZERO\",0))))),\"\")","v":{"$error":"#REF!"}},"",""]
["SF-00460","Fixador trava porta de piso niquelado","un",0,"","",{"$f":"IF(A465<>\"\",IF(AND(#REF!=\"Padrão\",$H$4=#REF!),BDI!$B$17,IF(AND(#REF!=\"Padrão\",$H$4=#REF!),BDI!$C$17,IF(AND(#REF!=\"Diferenciado\",$H$4=#REF!),BDI!$G$17,IF(AND(#REF!=\"Diferenciado\",$H$4=#REF!),BDI!$H$17,IF(#REF!=\"ZERO\",0))))),\"\")","v":{"$error":"#REF!"}},"",""]
["SF-00461","Batedor de porta cilíndrico de 25mmx25mm","un",0,"","",{"$f":"IF(A466<>\"\",IF(AND(#REF!=\"Padrão\",$H$4=#REF!),BDI!$B$17,IF(AND(#REF!=\"Padrão\",$H$4=#REF!),BDI!$C$17,IF(AND(#REF!=\"Diferenciado\",$H$4=#REF!),BDI!$G$17,IF(AND(#REF!=\"Diferenciado\",$H$4=#REF!),BDI!$H$17,IF(#REF!=\"ZERO\",0))))),\"\")","v":{"$error":"#REF!"}},"",""]
["SF-00462","Porta cadeado de 4 1/2\"","un",0,"","",{"$f":"IF(A467<>\"\",IF(AND(#REF!=\"Padrão\",$H$4=#REF!),BDI!$B$17,IF(AND(#REF!=\"Padrão\",$H$4=#REF!),BDI!$C$17,IF(AND(#REF!=\"Diferenciado\",$H$4=#REF!),BDI!$G$17,IF(AND(#REF!=\"Diferenciado\",$H$4=#REF!),BDI!$H$17,IF(#REF!=\"ZERO\",0))))),\"\")","v":{"$error":"#REF!"}},"",""]
["SF-00463","Porta Cadeado de 4”","un",0,"","",{"$f":"IF(A468<>\"\",IF(AND(#REF!=\"Padrão\",$H$4=#REF!),BDI!$B$17,IF(AND(#REF!=\"Padrão\",$H$4=#REF!),BDI!$C$17,IF(AND(#REF!=\"Diferenciado\",$H$4=#REF!),BDI!$G$17,IF(AND(#REF!=\"Diferenciado\",$H$4=#REF!),BDI!$H$17,IF(#REF!=\"ZERO\",0))))),\"\")","v":{"$error":"#REF!"}},"",""]
["SF-00464","Suporte para mesa dobrável","un",0,"","",{"$f":"IF(A469<>\"\",IF(AND(#REF!=\"Padrão\",$H$4=#REF!),BDI!$B$17,IF(AND(#REF!=\"Padrão\",$H$4=#REF!),BDI!$C$17,IF(AND(#REF!=\"Diferenciado\",$H$4=#REF!),BDI!$G$17,IF(AND(#REF!=\"Diferenciado\",$H$4=#REF!),BDI!$H$17,IF(#REF!=\"ZERO\",0))))),\"\")","v":{"$error":"#REF!"}},"",""]
["SF-00465","Suporte universal fixo de parede para TV","un",0,"","",{"$f":"IF(A470<>\"\",IF(AND(#REF!=\"Padrão\",$H$4=#REF!),BDI!$B$17,IF(AND(#REF!=\"Padrão\",$H$4=#REF!),BDI!$C$17,IF(AND(#REF!=\"Diferenciado\",$H$4=#REF!),BDI!$G$17,IF(AND(#REF!=\"Diferenciado\",$H$4=#REF!),BDI!$H$17,IF(#REF!=\"ZERO\",0))))),\"\")","v":{"$error":"#REF!"}},"",""]
["SF-00466","Mola aérea hidráulica automática para portas","un",0,"","",{"$f":"IF(A471<>\"\",IF(AND(#REF!=\"Padrão\",$H$4=#REF!),BDI!$B$17,IF(AND(#REF!=\"Padrão\",$H$4=#REF!),BDI!$C$17,IF(AND(#REF!=\"Diferenciado\",$H$4=#REF!),BDI!$G$17,IF(AND(#REF!=\"Diferenciado\",$H$4=#REF!),BDI!$H$17,IF(#REF!=\"ZERO\",0))))),\"\")","v":{"$error":"#REF!"}},"",""]
["SF-00467","Espuma Expansiva à base de poliuretano","500 ml",0,{"$f":"OFFSET(INDEX(Composições!A:J,MATCH(Orçamentária!A472,Composições!A:A,0),8),2,0)","v":19.9025},0,{"$f":"IF(A472<>\"\",IF(AND(#REF!=\"Padrão\",$H$4=#REF!),BDI!$B$17,IF(AND(#REF!=\"Padrão\",$H$4=#REF!),BDI!$C$17,IF(AND(#REF!=\"Diferenciado\",$H$4=#REF!),BDI!$G$17,IF(AND(#REF!=\"Diferenciado\",$H$4=#REF!),BDI!$H$17,IF(#REF!=\"ZERO\",0))))),\"\")","v":{"$error":"#REF!"}},{"$error":"#REF!"},{"$error":"#REF!"}]
["SF-00468","Adesivo de Contato à Base d’água","kg",0,"","",{"$f":"IF(A473<>\"\",IF(AND(#REF!=\"Padrão\",$H$4=#REF!),BDI!$B$17,IF(AND(#REF!=\"Padrão\",$H$4=#REF!),BDI!$C$17,IF(AND(#REF!=\"Diferenciado\",$H$4=#REF!),BDI!$G$17,IF(AND(#REF!=\"Diferenciado\",$H$4=#REF!),BDI!$H$17,IF(#REF!=\"ZERO\",0))))),\"\")","v":{"$error":"#REF!"}},"",""]
["SF-00469","Adesivo de Contato de Alto Desempenho sem Toluol","kg",0,"","",{"$f":"IF(A474<>\"\",IF(AND(#REF!=\"Padrão\",$H$4=#REF!),BDI!$B$17,IF(AND(#REF!=\"Padrão\",$H$4=#REF!),BDI!$C$17,IF(AND(#REF!=\"Diferenciado\",$H$4=#REF!),BDI!$G$17,IF(AND(#REF!=\"Diferenciado\",$H$4=#REF!),BDI!$H$17,IF(#REF!=\"ZERO\",0))))),\"\")","v":{"$error":"#REF!"}},"",""]
["SF-00470","Laminado fenólico melamínico texturizado - Azul Noturno","m2",0,"","",{"$f":"IF(A475<>\"\",IF(AND(#REF!=\"Padrão\",$H$4=#REF!),BDI!$B$17,IF(AND(#REF!=\"Padrão\",$H$4=#REF!),BDI!$C$17,IF(AND(#REF!=\"Diferenciado\",$H$4=#REF!),BDI!$G$17,IF(AND(#REF!=\"Diferenciado\",$H$4=#REF!),BDI!$H$17,IF(#REF!=\"ZERO\",0))))),\"\")","v":{"$error":"#REF!"}},"",""]
["SF-00471","Laminado fenólico melamínico texturizado - Branco","m2",0,"","",{"$f":"IF(A476<>\"\",IF(AND(#REF!=\"Padrão\",$H$4=#REF!),BDI!$B$17,IF(AND(#REF!=\"Padrão\",$H$4=#REF!),BDI!$C$17,IF(AND(#REF!=\"Diferenciado\",$H$4=#REF!),BDI!$G$17,IF(AND(#REF!=\"Diferenciado\",$H$4=#REF!),BDI!$H$17,IF(#REF!=\"ZERO\",0))))),\"\")","v":{"$error":"#REF!"}},"",""]
["SF-00472","Laminado fenólico melamínico texturizado - Ovo","m2",0,"","",{"$f":"IF(A477<>\"\",IF(AND(#REF!=\"Padrão\",$H$4=#REF!),BDI!$B$17,IF(AND(#REF!=\"Padrão\",$H$4=#REF!),BDI!$C$17,IF(AND(#REF!=\"Diferenciado\",$H$4=#REF!),BDI!$G$17,IF(AND(#REF!=\"Diferenciado\",$H$4=#REF!),BDI!$H$17,IF(#REF!=\"ZERO\",0))))),\"\")","v":{"$error":"#REF!"}},"",""]
["SF-00473","Lâmina de Madeira - Mogno","m2",0,"","",{"$f":"IF(A478<>\"\",IF(AND(#REF!=\"Padrão\",$H$4=#REF!),BDI!$B$17,IF(AND(#REF!=\"Padrão\",$H$4=#REF!),BDI!$C$17,IF(AND(#REF!=\"Diferenciado\",$H$4=#REF!),BDI!$G$17,IF(AND(#REF!=\"Diferenciado\",$H$4=#REF!),BDI!$H$17,IF(#REF!=\"ZERO\",0))))),\"\")","v":{"$error":"#REF!"}},"",""]
["SF-00474","Lâmina de Madeira - Marfim","m2",0,"","",{"$f":"IF(A479<>\"\",IF(AND(#REF!=\"Padrão\",$H$4=#REF!),BDI!$B$17,IF(AND(#REF!=\"Padrão\",$H$4=#REF!),BDI!$C$17,IF(AND(#REF!=\"Diferenciado\",$H$4=#REF!),BDI!$G$17,IF(AND(#REF!=\"Diferenciado\",$H$4=#REF!),BDI!$H$17,IF(#REF!=\"ZERO\",0))))),\"\")","v":{"$error":"#REF!"}},"",""]
["SF-00475","Lâmina de Madeira - Cerejeira","m2",0,"","",{"$f":"IF(A480<>\"\",IF(AND(#REF!=\"Padrão\",$H$4=#REF!),BDI!$B$17,IF(AND(#REF!=\"Padrão\",$H$4=#REF!),BDI!$C$17,IF(AND(#REF!=\"Diferenciado\",$H$4=#REF!),BDI!$G$17,IF(AND(#REF!=\"Diferenciado\",$H$4=#REF!),BDI!$H$17,IF(#REF!=\"ZERO\",0))))),\"\")","v":{"$error":"#REF!"}},"",""]
["SF-00476","Compensado laminado comum - 04 mm","m2",0,"","",{"$f":"IF(A481<>\"\",IF(AND(#REF!=\"Padrão\",$H$4=#REF!),BDI!$B$17,IF(AND(#REF!=\"Padrão\",$H$4=#REF!),BDI!$C$17,IF(AND(#REF!=\"Diferenciado\",$H$4=#REF!),BDI!$G$17,IF(AND(#REF!=\"Diferenciado\",$H$4=#REF!),BDI!$H$17,IF(#REF!=\"ZERO\",0))))),\"\")","v":{"$error":"#REF!"}},"",""]
["SF-00477","Compensado laminado comum - 06 mm","m2",0,"","",{"$f":"IF(A482<>\"\",IF(AND(#REF!=\"Padrão\",$H$4=#REF!),BDI!$B$17,IF(AND(#REF!=\"Padrão\",$H$4=#REF!),BDI!$C$17,IF(AND(#REF!=\"Diferenciado\",$H$4=#REF!),BDI!$G$17,IF(AND(#REF!=\"Diferenciado\",$H$4=#REF!),BDI!$H$17,IF(#REF!=\"ZERO\",0))))),\"\")","v":{"$error":"#REF!"}},"",""]
["SF-00478","Compensado laminado comum - 10 mm","m2",0,"","",{"$f":"IF(A483<>\"\",IF(AND(#REF!=\"Padrão\",$H$4=#REF!),BDI!$B$17,IF(AND(#REF!=\"Padrão\",$H$4=#REF!),BDI!$C$17,IF(AND(#REF!=\"Diferenciado\",$H$4=#REF!),BDI!$G$17,IF(AND(#REF!=\"Diferenciado\",$H$4=#REF!),BDI!$H$17,IF(#REF!=\"ZERO\",0))))),\"\")","v":{"$error":"#REF!"}},"",""]
["SF-00479","Compensado laminado comum - 15 mm","m2",0,"","",{"$f":"IF(A484<>\"\",IF(AND(#REF!=\"Padrão\",$H$4=#REF!),BDI!$B$17,IF(AND(#REF!=\"Padrão\",$H$4=#REF!),BDI!$C$17,IF(AND(#REF!=\"Diferenciado\",$H$4=#REF!),BDI!$G$17,IF(AND(#REF!=\"Diferenciado\",$H$4=#REF!),BDI!$H$17,IF(#REF!=\"ZERO\",0))))),\"\")","v":{"$error":"#REF!"}},"",""]
["SF-00480","Compensado laminado comum - 20 mm","m2",0,"","",{"$f":"IF(A485<>\"\",IF(AND(#REF!=\"Padrão\",$H$4=#REF!),BDI!$B$17,IF(AND(#REF!=\"Padrão\",$H$4=#REF!),BDI!$C$17,IF(AND(#REF!=\"Diferenciado\",$H$4=#REF!),BDI!$G$17,IF(AND(#REF!=\"Diferenciado\",$H$4=#REF!),BDI!$H$17,IF(#REF!=\"ZERO\",0))))),\"\")","v":{"$error":"#REF!"}},"",""]
["SF-00481","Compensado Laminado de cerejeira em duas faces - 04 mm","m2",0,"","",{"$f":"IF(A486<>\"\",IF(AND(#REF!=\"Padrão\",$H$4=#REF!),BDI!$B$17,IF(AND(#REF!=\"Padrão\",$H$4=#REF!),BDI!$C$17,IF(AND(#REF!=\"Diferenciado\",$H$4=#REF!),BDI!$G$17,IF(AND(#REF!=\"Diferenciado\",$H$4=#REF!),BDI!$H$17,IF(#REF!=\"ZERO\",0))))),\"\")","v":{"$error":"#REF!"}},"",""]
["SF-00482","Compensado Laminado de cerejeira em duas faces - 10 mm","m2",0,"","",{"$f":"IF(A487<>\"\",IF(AND(#REF!=\"Padrão\",$H$4=#REF!),BDI!$B$17,IF(AND(#REF!=\"Padrão\",$H$4=#REF!),BDI!$C$17,IF(AND(#REF!=\"Diferenciado\",$H$4=#REF!),BDI!$G$17,IF(AND(#REF!=\"Diferenciado\",$H$4=#REF!),BDI!$H$17,IF(#REF!=\"ZERO\",0))))),\"\")","v":{"$error":"#REF!"}},"",""]
["SF-00483","Compensado Laminado de cerejeira em duas faces - 15 mm","m2",0,"","",{"$f":"IF(A488<>\"\",IF(AND(#REF!=\"Padrão\",$H$4=#REF!),BDI!$B$17,IF(AND(#REF!=\"Padrão\",$H$4=#REF!),BDI!$C$17,IF(AND(#REF!=\"Diferenciado\",$H$4=#REF!),BDI!$G$17,IF(AND(#REF!=\"Diferenciado\",$H$4=#REF!),BDI!$H$17,IF(#REF!=\"ZERO\",0))))),\"\")","v":{"$error":"#REF!"}},"",""]
["SF-00484","Compensado Laminado de cerejeira em duas faces - 20 mm","m2",0,"","",{"$f":"IF(A489<>\"\",IF(AND(#REF!=\"Padrão\",$H$4=#REF!),BDI!$B$17,IF(AND(#REF!=\"Padrão\",$H$4=#REF!),BDI!$C$17,IF(AND(#REF!=\"Diferenciado\",$H$4=#REF!),BDI!$G$17,IF(AND(#REF!=\"Diferenciado\",$H$4=#REF!),BDI!$H$17,IF(#REF!=\"ZERO\",0))))),\"\")","v":{"$error":"#REF!"}},"",""]
["SF-00485","Compensado Resinado – 10 mm","m2",0,"","",{"$f":"IF(A490<>\"\",IF(AND(#REF!=\"Padrão\",$H$4=#REF!),BDI!$B$17,IF(AND(#REF!=\"Padrão\",$H$4=#REF!),BDI!$C$17,IF(AND(#REF!=\"Diferenciado\",$H$4=#REF!),BDI!$G$17,IF(AND(#REF!=\"Diferenciado\",$H$4=#REF!),BDI!$H$17,IF(#REF!=\"ZERO\",0))))),\"\")","v":{"$error":"#REF!"}},"",""]
["SF-00486","Tábua de madeira bruta certificada e aparelhada - Cedrinho","m3",0,"","",{"$f":"IF(A491<>\"\",IF(AND(#REF!=\"Padrão\",$H$4=#REF!),BDI!$B$17,IF(AND(#REF!=\"Padrão\",$H$4=#REF!),BDI!$C$17,IF(AND(#REF!=\"Diferenciado\",$H$4=#REF!),BDI!$G$17,IF(AND(#REF!=\"Diferenciado\",$H$4=#REF!),BDI!$H$17,IF(#REF!=\"ZERO\",0))))),\"\")","v":{"$error":"#REF!"}},"",""]
["SF-00487","Tábua de madeira bruta certificada e aparelhada - Freijó","m3",0,"","",{"$f":"IF(A492<>\"\",IF(AND(#REF!=\"Padrão\",$H$4=#REF!),BDI!$B$17,IF(AND(#REF!=\"Padrão\",$H$4=#REF!),BDI!$C$17,IF(AND(#REF!=\"Diferenciado\",$H$4=#REF!),BDI!$G$17,IF(AND(#REF!=\"Diferenciado\",$H$4=#REF!),BDI!$H$17,IF(#REF!=\"ZERO\",0))))),\"\")","v":{"$error":"#REF!"}},"",""]
["SF-00488","Tábua de madeira bruta certificada e aparelhada - Cedro","m3",0,"","",{"$f":"IF(A493<>\"\",IF(AND(#REF!=\"Padrão\",$H$4=#REF!),BDI!$B$17,IF(AND(#REF!=\"Padrão\",$H$4=#REF!),BDI!$C$17,IF(AND(#REF!=\"Diferenciado\",$H$4=#REF!),BDI!$G$17,IF(AND(#REF!=\"Diferenciado\",$H$4=#REF!),BDI!$H$17,IF(#REF!=\"ZERO\",0))))),\"\")","v":{"$error":"#REF!"}},"",""]
["SF-00489","Tábua de Madeira bruta aparelhada - Pinus","m3",0,"","",{"$f":"IF(A494<>\"\",IF(AND(#REF!=\"Padrão\",$H$4=#REF!),BDI!$B$17,IF(AND(#REF!=\"Padrão\",$H$4=#REF!),BDI!$C$17,IF(AND(#REF!=\"Diferenciado\",$H$4=#REF!),BDI!$G$17,IF(AND(#REF!=\"Diferenciado\",$H$4=#REF!),BDI!$H$17,IF(#REF!=\"ZERO\",0))))),\"\")","v":{"$error":"#REF!"}},"",""]
["SF-00490","Sarrafo De Madeira","m",0,"","",{"$f":"IF(A495<>\"\",IF(AND(#REF!=\"Padrão\",$H$4=#REF!),BDI!$B$17,IF(AND(#REF!=\"Padrão\",$H$4=#REF!),BDI!$C$17,IF(AND(#REF!=\"Diferenciado\",$H$4=#REF!),BDI!$G$17,IF(AND(#REF!=\"Diferenciado\",$H$4=#REF!),BDI!$H$17,IF(#REF!=\"ZERO\",0))))),\"\")","v":{"$error":"#REF!"}},"",""]
["SF-00491","Caibro De Madeira","m",0,"","",{"$f":"IF(A496<>\"\",IF(AND(#REF!=\"Padrão\",$H$4=#REF!),BDI!$B$17,IF(AND(#REF!=\"Padrão\",$H$4=#REF!),BDI!$C$17,IF(AND(#REF!=\"Diferenciado\",$H$4=#REF!),BDI!$G$17,IF(AND(#REF!=\"Diferenciado\",$H$4=#REF!),BDI!$H$17,IF(#REF!=\"ZERO\",0))))),\"\")","v":{"$error":"#REF!"}},"",""]
["SF-00492","Pontalete De Madeira","m",0,"","",{"$f":"IF(A497<>\"\",IF(AND(#REF!=\"Padrão\",$H$4=#REF!),BDI!$B$17,IF(AND(#REF!=\"Padrão\",$H$4=#REF!),BDI!$C$17,IF(AND(#REF!=\"Diferenciado\",$H$4=#REF!),BDI!$G$17,IF(AND(#REF!=\"Diferenciado\",$H$4=#REF!),BDI!$H$17,IF(#REF!=\"ZERO\",0))))),\"\")","v":{"$error":"#REF!"}},"",""]
["SF-00493","Ripa De Madeira","m",0,"","",{"$f":"IF(A498<>\"\",IF(AND(#REF!=\"Padrão\",$H$4=#REF!),BDI!$B$17,IF(AND(#REF!=\"Padrão\",$H$4=#REF!),BDI!$C$17,IF(AND(#REF!=\"Diferenciado\",$H$4=#REF!),BDI!$G$17,IF(AND(#REF!=\"Diferenciado\",$H$4=#REF!),BDI!$H$17,IF(#REF!=\"ZERO\",0))))),\"\")","v":{"$error":"#REF!"}},"",""]
["SF-00494","Painel de MDF Laminado – Branco - 06mm","m2",0,"","",{"$f":"IF(A499<>\"\",IF(AND(#REF!=\"Padrão\",$H$4=#REF!),BDI!$B$17,IF(AND(#REF!=\"Padrão\",$H$4=#REF!),BDI!$C$17,IF(AND(#REF!=\"Diferenciado\",$H$4=#REF!),BDI!$G$17,IF(AND(#REF!=\"Diferenciado\",$H$4=#REF!),BDI!$H$17,IF(#REF!=\"ZERO\",0))))),\"\")","v":{"$error":"#REF!"}},"",""]
["SF-00495","Painel de MDF Laminado – Ovo - 06mm","m2",0,"","",{"$f":"IF(A500<>\"\",IF(AND(#REF!=\"Padrão\",$H$4=#REF!),BDI!$B$17,IF(AND(#REF!=\"Padrão\",$H$4=#REF!),BDI!$C$17,IF(AND(#REF!=\"Diferenciado\",$H$4=#REF!),BDI!$G$17,IF(AND(#REF!=\"Diferenciado\",$H$4=#REF!),BDI!$H$17,IF(#REF!=\"ZERO\",0))))),\"\")","v":{"$error":"#REF!"}},"",""]
["SF-00496","Painel de MDF Laminado - Branco - 15mm","m2",0,"","",{"$f":"IF(A501<>\"\",IF(AND(#REF!=\"Padrão\",$H$4=#REF!),BDI!$B$17,IF(AND(#REF!=\"Padrão\",$H$4=#REF!),BDI!$C$17,IF(AND(#REF!=\"Diferenciado\",$H$4=#REF!),BDI!$G$17,IF(AND(#REF!=\"Diferenciado\",$H$4=#REF!),BDI!$H$17,IF(#REF!=\"ZERO\",0))))),\"\")","v":{"$error":"#REF!"}},"",""]
["SF-00497","Painel de MDF Laminado – Ovo - 15mm","m2",0,"","",{"$f":"IF(A502<>\"\",IF(AND(#REF!=\"Padrão\",$H$4=#REF!),BDI!$B$17,IF(AND(#REF!=\"Padrão\",$H$4=#REF!),BDI!$C$17,IF(AND(#REF!=\"Diferenciado\",$H$4=#REF!),BDI!$G$17,IF(AND(#REF!=\"Diferenciado\",$H$4=#REF!),BDI!$H$17,IF(#REF!=\"ZERO\",0))))),\"\")","v":{"$error":"#REF!"}},"",""]
["SF-00498","Painel de MDF Laminado – Branco - 18mm","m2",0,"","",{"$f":"IF(A503<>\"\",IF(AND(#REF!=\"Padrão\",$H$4=#REF!),BDI!$B$17,IF(AND(#REF!=\"Padrão\",$H$4=#REF!),BDI!$C$17,IF(AND(#REF!=\"Diferenciado\",$H$4=#REF!),BDI!$G$17,IF(AND(#REF!=\"Diferenciado\",$H$4=#REF!),BDI!$H$17,IF(#REF!=\"ZERO\",0))))),\"\")","v":{"$error":"#REF!"}},"",""]
["SF-00499","Painel de MDF Laminado – Ovo - 18mm","m2",0,"","",{"$f":"IF(A504<>\"\",IF(AND(#REF!=\"Padrão\",$H$4=#REF!),BDI!$B$17,IF(AND(#REF!=\"Padrão\",$H$4=#REF!),BDI!$C$17,IF(AND(#REF!=\"Diferenciado\",$H$4=#REF!),BDI!$G$17,IF(AND(#REF!=\"Diferenciado\",$H$4=#REF!),BDI!$H$17,IF(#REF!=\"ZERO\",0))))),\"\")","v":{"$error":"#REF!"}},"",""]
["SF-00500","Cantoneira laminada em aço abas iguais 1\" x 3/16\"","m",0,"","",{"$f":"IF(A505<>\"\",IF(AND(#REF!=\"Padrão\",$H$4=#REF!),BDI!$B$17,IF(AND(#REF!=\"Padrão\",$H$4=#REF!),BDI!$C$17,IF(AND(#REF!=\"Diferenciado\",$H$4=#REF!),BDI!$G$17,IF(AND(#REF!=\"Diferenciado\",$H$4=#REF!),BDI!$H$17,IF(#REF!=\"ZERO\",0))))),\"\")","v":{"$error":"#REF!"}},"",""]
["SF-00501","Cantoneira laminada em aço abas iguais 1\"1/4 x 3/16\"","m",0,"","",{"$f":"IF(A506<>\"\",IF(AND(#REF!=\"Padrão\",$H$4=#REF!),BDI!$B$17,IF(AND(#REF!=\"Padrão\",$H$4=#REF!),BDI!$C$17,IF(AND(#REF!=\"Diferenciado\",$H$4=#REF!),BDI!$G$17,IF(AND(#REF!=\"Diferenciado\",$H$4=#REF!),BDI!$H$17,IF(#REF!=\"ZERO\",0))))),\"\")","v":{"$error":"#REF!"}},"",""]
["SF-00502","Cantoneira laminada em aço abas iguais 2” x 1/8”","m",0,"","",{"$f":"IF(A507<>\"\",IF(AND(#REF!=\"Padrão\",$H$4=#REF!),BDI!$B$17,IF(AND(#REF!=\"Padrão\",$H$4=#REF!),BDI!$C$17,IF(AND(#REF!=\"Diferenciado\",$H$4=#REF!),BDI!$G$17,IF(AND(#REF!=\"Diferenciado\",$H$4=#REF!),BDI!$H$17,IF(#REF!=\"ZERO\",0))))),\"\")","v":{"$error":"#REF!"}},"",""]
["SF-00503","Cantoneira laminada em aço abas Iguais 2” x 3/16”","m",0,"","",{"$f":"IF(A508<>\"\",IF(AND(#REF!=\"Padrão\",$H$4=#REF!),BDI!$B$17,IF(AND(#REF!=\"Padrão\",$H$4=#REF!),BDI!$C$17,IF(AND(#REF!=\"Diferenciado\",$H$4=#REF!),BDI!$G$17,IF(AND(#REF!=\"Diferenciado\",$H$4=#REF!),BDI!$H$17,IF(#REF!=\"ZERO\",0))))),\"\")","v":{"$error":"#REF!"}},"",""]
["SF-00504","Cantoneira laminada em aço abas Iguais 5/8” x 1/8”","m",0,"","",{"$f":"IF(A509<>\"\",IF(AND(#REF!=\"Padrão\",$H$4=#REF!),BDI!$B$17,IF(AND(#REF!=\"Padrão\",$H$4=#REF!),BDI!$C$17,IF(AND(#REF!=\"Diferenciado\",$H$4=#REF!),BDI!$G$17,IF(AND(#REF!=\"Diferenciado\",$H$4=#REF!),BDI!$H$17,IF(#REF!=\"ZERO\",0))))),\"\")","v":{"$error":"#REF!"}},"",""]
["SF-00505","Chapa aço galvanizado # 16 (kg)","kg",0,"","",{"$f":"IF(A510<>\"\",IF(AND(#REF!=\"Padrão\",$H$4=#REF!),BDI!$B$17,IF(AND(#REF!=\"Padrão\",$H$4=#REF!),BDI!$C$17,IF(AND(#REF!=\"Diferenciado\",$H$4=#REF!),BDI!$G$17,IF(AND(#REF!=\"Diferenciado\",$H$4=#REF!),BDI!$H$17,IF(#REF!=\"ZERO\",0))))),\"\")","v":{"$error":"#REF!"}},"",""]
["SF-00506","Ferro chato 1\"x1/8\"","m",0,"","",{"$f":"IF(A511<>\"\",IF(AND(#REF!=\"Padrão\",$H$4=#REF!),BDI!$B$17,IF(AND(#REF!=\"Padrão\",$H$4=#REF!),BDI!$C$17,IF(AND(#REF!=\"Diferenciado\",$H$4=#REF!),BDI!$G$17,IF(AND(#REF!=\"Diferenciado\",$H$4=#REF!),BDI!$H$17,IF(#REF!=\"ZERO\",0))))),\"\")","v":{"$error":"#REF!"}},"",""]
["SF-00507","Ferro chato 1\"x3/16\"","m",0,"","",{"$f":"IF(A512<>\"\",IF(AND(#REF!=\"Padrão\",$H$4=#REF!),BDI!$B$17,IF(AND(#REF!=\"Padrão\",$H$4=#REF!),BDI!$C$17,IF(AND(#REF!=\"Diferenciado\",$H$4=#REF!),BDI!$G$17,IF(AND(#REF!=\"Diferenciado\",$H$4=#REF!),BDI!$H$17,IF(#REF!=\"ZERO\",0))))),\"\")","v":{"$error":"#REF!"}},"",""]
["SF-00508","Ferro chato  3/4\"x1/4\" ou 7/8\"x1/4\" ou 1” x 1/4”","m",0,"","",{"$f":"IF(A513<>\"\",IF(AND(#REF!=\"Padrão\",$H$4=#REF!),BDI!$B$17,IF(AND(#REF!=\"Padrão\",$H$4=#REF!),BDI!$C$17,IF(AND(#REF!=\"Diferenciado\",$H$4=#REF!),BDI!$G$17,IF(AND(#REF!=\"Diferenciado\",$H$4=#REF!),BDI!$H$17,IF(#REF!=\"ZERO\",0))))),\"\")","v":{"$error":"#REF!"}},"",""]
["SF-00509","Ferro chato 3/4\"x1/8\"","m",0,"","",{"$f":"IF(A514<>\"\",IF(AND(#REF!=\"Padrão\",$H$4=#REF!),BDI!$B$17,IF(AND(#REF!=\"Padrão\",$H$4=#REF!),BDI!$C$17,IF(AND(#REF!=\"Diferenciado\",$H$4=#REF!),BDI!$G$17,IF(AND(#REF!=\"Diferenciado\",$H$4=#REF!),BDI!$H$17,IF(#REF!=\"ZERO\",0))))),\"\")","v":{"$error":"#REF!"}},"",""]
["SF-00510","Ferro chato 3/4\"x3/16\"","m",0,"","",{"$f":"IF(A515<>\"\",IF(AND(#REF!=\"Padrão\",$H$4=#REF!),BDI!$B$17,IF(AND(#REF!=\"Padrão\",$H$4=#REF!),BDI!$C$17,IF(AND(#REF!=\"Diferenciado\",$H$4=#REF!),BDI!$G$17,IF(AND(#REF!=\"Diferenciado\",$H$4=#REF!),BDI!$H$17,IF(#REF!=\"ZERO\",0))))),\"\")","v":{"$error":"#REF!"}},"",""]
["SF-00511","Ferro chato 5/8\"x1/8\"","m",0,"","",{"$f":"IF(A516<>\"\",IF(AND(#REF!=\"Padrão\",$H$4=#REF!),BDI!$B$17,IF(AND(#REF!=\"Padrão\",$H$4=#REF!),BDI!$C$17,IF(AND(#REF!=\"Diferenciado\",$H$4=#REF!),BDI!$G$17,IF(AND(#REF!=\"Diferenciado\",$H$4=#REF!),BDI!$H$17,IF(#REF!=\"ZERO\",0))))),\"\")","v":{"$error":"#REF!"}},"",""]
["SF-00512","Ferro chato 5/8\"x3/16\"","m",0,"","",{"$f":"IF(A517<>\"\",IF(AND(#REF!=\"Padrão\",$H$4=#REF!),BDI!$B$17,IF(AND(#REF!=\"Padrão\",$H$4=#REF!),BDI!$C$17,IF(AND(#REF!=\"Diferenciado\",$H$4=#REF!),BDI!$G$17,IF(AND(#REF!=\"Diferenciado\",$H$4=#REF!),BDI!$H$17,IF(#REF!=\"ZERO\",0))))),\"\")","v":{"$error":"#REF!"}},"",""]
["SF-00513","Ferro chato 7/8\"x1/8\"","m",0,"","",{"$f":"IF(A518<>\"\",IF(AND(#REF!=\"Padrão\",$H$4=#REF!),BDI!$B$17,IF(AND(#REF!=\"Padrão\",$H$4=#REF!),BDI!$C$17,IF(AND(#REF!=\"Diferenciado\",$H$4=#REF!),BDI!$G$17,IF(AND(#REF!=\"Diferenciado\",$H$4=#REF!),BDI!$H$17,IF(#REF!=\"ZERO\",0))))),\"\")","v":{"$error":"#REF!"}},"",""]
["SF-00514","Ferro chato 7/8\"x3/16\"","m",0,"",{"$f":"IF(ISNUMBER(E519),D519*E519,\"\")","v":""},{"$f":"IF(A519<>\"\",IF(AND(#REF!=\"Padrão\",$H$4=#REF!),BDI!$B$17,IF(AND(#REF!=\"Padrão\",$H$4=#REF!),BDI!$C$17,IF(AND(#REF!=\"Diferenciado\",$H$4=#REF!),BDI!$G$17,IF(AND(#REF!=\"Diferenciado\",$H$4=#REF!),BDI!$H$17,IF(#REF!=\"ZERO\",0))))),\"\")","v":{"$error":"#REF!"}},{"$f":"IF(ISNUMBER(E519),ROUND(E519*(1+G519),2),\"\")","v":""},{"$f":"IF(ISNUMBER(E519),ROUND(H519*D519,2),\"\")","v":""}]
["SF-00515","Perfil trilho Stanley 60mm x 55mm, # 16","m",0,"","",{"$f":"IF(A520<>\"\",IF(AND(#REF!=\"Padrão\",$H$4=#REF!),BDI!$B$17,IF(AND(#REF!=\"Padrão\",$H$4=#REF!),BDI!$C$17,IF(AND(#REF!=\"Diferenciado\",$H$4=#REF!),BDI!$G$17,IF(AND(#REF!=\"Diferenciado\",$H$4=#REF!),BDI!$H$17,IF(#REF!=\"ZERO\",0))))),\"\")","v":{"$error":"#REF!"}},"",""]
["SF-00516","Perfil U Enrijecido 100mm x 50mm x 17mm","m",0,"","",{"$f":"IF(A521<>\"\",IF(AND(#REF!=\"Padrão\",$H$4=#REF!),BDI!$B$17,IF(AND(#REF!=\"Padrão\",$H$4=#REF!),BDI!$C$17,IF(AND(#REF!=\"Diferenciado\",$H$4=#REF!),BDI!$G$17,IF(AND(#REF!=\"Diferenciado\",$H$4=#REF!),BDI!$H$17,IF(#REF!=\"ZERO\",0))))),\"\")","v":{"$error":"#REF!"}},"",""]
["SF-00517","Perfil Cadeirinha Fechada - 85 x 30 mm a 100 x 30 mm","m",0,"","",{"$f":"IF(A522<>\"\",IF(AND(#REF!=\"Padrão\",$H$4=#REF!),BDI!$B$17,IF(AND(#REF!=\"Padrão\",$H$4=#REF!),BDI!$C$17,IF(AND(#REF!=\"Diferenciado\",$H$4=#REF!),BDI!$G$17,IF(AND(#REF!=\"Diferenciado\",$H$4=#REF!),BDI!$H$17,IF(#REF!=\"ZERO\",0))))),\"\")","v":{"$error":"#REF!"}},"",""]
["SF-00518","Perfil Cadeirinha Fechada – 40 x 30 mm a 55 x 30 mm","m",0,"","",{"$f":"IF(A523<>\"\",IF(AND(#REF!=\"Padrão\",$H$4=#REF!),BDI!$B$17,IF(AND(#REF!=\"Padrão\",$H$4=#REF!),BDI!$C$17,IF(AND(#REF!=\"Diferenciado\",$H$4=#REF!),BDI!$G$17,IF(AND(#REF!=\"Diferenciado\",$H$4=#REF!),BDI!$H$17,IF(#REF!=\"ZERO\",0))))),\"\")","v":{"$error":"#REF!"}},"",""]
["SF-00519","Perfil Cadeirinha Aberta – 65 x 30 mm","m",0,"","",{"$f":"IF(A524<>\"\",IF(AND(#REF!=\"Padrão\",$H$4=#REF!),BDI!$B$17,IF(AND(#REF!=\"Padrão\",$H$4=#REF!),BDI!$C$17,IF(AND(#REF!=\"Diferenciado\",$H$4=#REF!),BDI!$G$17,IF(AND(#REF!=\"Diferenciado\",$H$4=#REF!),BDI!$H$17,IF(#REF!=\"ZERO\",0))))),\"\")","v":{"$error":"#REF!"}},"",""]
["SF-00520","Perfil Cadeirinha Aberta – 40 x 30 mm a 55 x 30 mm","m",0,"","",{"$f":"IF(A525<>\"\",IF(AND(#REF!=\"Padrão\",$H$4=#REF!),BDI!$B$17,IF(AND(#REF!=\"Padrão\",$H$4=#REF!),BDI!$C$17,IF(AND(#REF!=\"Diferenciado\",$H$4=#REF!),BDI!$G$17,IF(AND(#REF!=\"Diferenciado\",$H$4=#REF!),BDI!$H$17,IF(#REF!=\"ZERO\",0))))),\"\")","v":{"$error":"#REF!"}},"",""]
["SF-00521","Perfil Cadeirinha Fêmea – 40 x 30 mm","m",0,"","",{"$f":"IF(A526<>\"\",IF(AND(#REF!=\"Padrão\",$H$4=#REF!),BDI!$B$17,IF(AND(#REF!=\"Padrão\",$H$4=#REF!),BDI!$C$17,IF(AND(#REF!=\"Diferenciado\",$H$4=#REF!),BDI!$G$17,IF(AND(#REF!=\"Diferenciado\",$H$4=#REF!),BDI!$H$17,IF(#REF!=\"ZERO\",0))))),\"\")","v":{"$error":"#REF!"}},"",""]
["SF-00522","Perfil Cadeirinha Fechada Máximo Ar – 30 x 30 mm","m",0,"","",{"$f":"IF(A527<>\"\",IF(AND(#REF!=\"Padrão\",$H$4=#REF!),BDI!$B$17,IF(AND(#REF!=\"Padrão\",$H$4=#REF!),BDI!$C$17,IF(AND(#REF!=\"Diferenciado\",$H$4=#REF!),BDI!$G$17,IF(AND(#REF!=\"Diferenciado\",$H$4=#REF!),BDI!$H$17,IF(#REF!=\"ZERO\",0))))),\"\")","v":{"$error":"#REF!"}},"",""]
["SF-00523","Perfil Cadeirinha Engate – Direito ou Esquerdo","m",0,"","",{"$f":"IF(A528<>\"\",IF(AND(#REF!=\"Padrão\",$H$4=#REF!),BDI!$B$17,IF(AND(#REF!=\"Padrão\",$H$4=#REF!),BDI!$C$17,IF(AND(#REF!=\"Diferenciado\",$H$4=#REF!),BDI!$G$17,IF(AND(#REF!=\"Diferenciado\",$H$4=#REF!),BDI!$H$17,IF(#REF!=\"ZERO\",0))))),\"\")","v":{"$error":"#REF!"}},"",""]
["SF-00524","Perfil Cadeirinha Direito – 30 x 30 x 18 mm","m",0,"","",{"$f":"IF(A529<>\"\",IF(AND(#REF!=\"Padrão\",$H$4=#REF!),BDI!$B$17,IF(AND(#REF!=\"Padrão\",$H$4=#REF!),BDI!$C$17,IF(AND(#REF!=\"Diferenciado\",$H$4=#REF!),BDI!$G$17,IF(AND(#REF!=\"Diferenciado\",$H$4=#REF!),BDI!$H$17,IF(#REF!=\"ZERO\",0))))),\"\")","v":{"$error":"#REF!"}},"",""]
["SF-00525","Perfil Cadeirinha Direito – 60 x 25 mm a 60 x 30 mm","m",0,"","",{"$f":"IF(A530<>\"\",IF(AND(#REF!=\"Padrão\",$H$4=#REF!),BDI!$B$17,IF(AND(#REF!=\"Padrão\",$H$4=#REF!),BDI!$C$17,IF(AND(#REF!=\"Diferenciado\",$H$4=#REF!),BDI!$G$17,IF(AND(#REF!=\"Diferenciado\",$H$4=#REF!),BDI!$H$17,IF(#REF!=\"ZERO\",0))))),\"\")","v":{"$error":"#REF!"}},"",""]
["SF-00526","Perfil “T” dobrado Máximo Ar Abas Iguais – 50 x 30 mm a 60 x 30 mm","m",0,"","",{"$f":"IF(A531<>\"\",IF(AND(#REF!=\"Padrão\",$H$4=#REF!),BDI!$B$17,IF(AND(#REF!=\"Padrão\",$H$4=#REF!),BDI!$C$17,IF(AND(#REF!=\"Diferenciado\",$H$4=#REF!),BDI!$G$17,IF(AND(#REF!=\"Diferenciado\",$H$4=#REF!),BDI!$H$17,IF(#REF!=\"ZERO\",0))))),\"\")","v":{"$error":"#REF!"}},"",""]
["SF-00527","Perfil “T” dobrado Máximo Ar Abas Desiguais – 50 x 25 mm a 50 x 30 mm","m",0,"","",{"$f":"IF(A532<>\"\",IF(AND(#REF!=\"Padrão\",$H$4=#REF!),BDI!$B$17,IF(AND(#REF!=\"Padrão\",$H$4=#REF!),BDI!$C$17,IF(AND(#REF!=\"Diferenciado\",$H$4=#REF!),BDI!$G$17,IF(AND(#REF!=\"Diferenciado\",$H$4=#REF!),BDI!$H$17,IF(#REF!=\"ZERO\",0))))),\"\")","v":{"$error":"#REF!"}},"",""]
["SF-00528","Perfil Superior Máximo Ar – 48 x 30 mm","m",0,"","",{"$f":"IF(A533<>\"\",IF(AND(#REF!=\"Padrão\",$H$4=#REF!),BDI!$B$17,IF(AND(#REF!=\"Padrão\",$H$4=#REF!),BDI!$C$17,IF(AND(#REF!=\"Diferenciado\",$H$4=#REF!),BDI!$G$17,IF(AND(#REF!=\"Diferenciado\",$H$4=#REF!),BDI!$H$17,IF(#REF!=\"ZERO\",0))))),\"\")","v":{"$error":"#REF!"}},"",""]
["SF-00529","Perfil “T” Abas Iguais – 25 x 25 mm","m",0,"","",{"$f":"IF(A534<>\"\",IF(AND(#REF!=\"Padrão\",$H$4=#REF!),BDI!$B$17,IF(AND(#REF!=\"Padrão\",$H$4=#REF!),BDI!$C$17,IF(AND(#REF!=\"Diferenciado\",$H$4=#REF!),BDI!$G$17,IF(AND(#REF!=\"Diferenciado\",$H$4=#REF!),BDI!$H$17,IF(#REF!=\"ZERO\",0))))),\"\")","v":{"$error":"#REF!"}},"",""]
["SF-00530","Perfil “T” Dobrado – 75 x 30 mm","m",0,"","",{"$f":"IF(A535<>\"\",IF(AND(#REF!=\"Padrão\",$H$4=#REF!),BDI!$B$17,IF(AND(#REF!=\"Padrão\",$H$4=#REF!),BDI!$C$17,IF(AND(#REF!=\"Diferenciado\",$H$4=#REF!),BDI!$G$17,IF(AND(#REF!=\"Diferenciado\",$H$4=#REF!),BDI!$H$17,IF(#REF!=\"ZERO\",0))))),\"\")","v":{"$error":"#REF!"}},"",""]
["SF-00531","Perfil “T” Dobrado – 39 x 30 mm; 55 x 30 mm; 65 x 30 mm; ou 60 x 25 mm","m",0,"","",{"$f":"IF(A536<>\"\",IF(AND(#REF!=\"Padrão\",$H$4=#REF!),BDI!$B$17,IF(AND(#REF!=\"Padrão\",$H$4=#REF!),BDI!$C$17,IF(AND(#REF!=\"Diferenciado\",$H$4=#REF!),BDI!$G$17,IF(AND(#REF!=\"Diferenciado\",$H$4=#REF!),BDI!$H$17,IF(#REF!=\"ZERO\",0))))),\"\")","v":{"$error":"#REF!"}},"",""]
["SF-00532","Perfil “T” Dobrado – 39 x 25 mm","m",0,"","",{"$f":"IF(A537<>\"\",IF(AND(#REF!=\"Padrão\",$H$4=#REF!),BDI!$B$17,IF(AND(#REF!=\"Padrão\",$H$4=#REF!),BDI!$C$17,IF(AND(#REF!=\"Diferenciado\",$H$4=#REF!),BDI!$G$17,IF(AND(#REF!=\"Diferenciado\",$H$4=#REF!),BDI!$H$17,IF(#REF!=\"ZERO\",0))))),\"\")","v":{"$error":"#REF!"}},"",""]
["SF-00533","Perfil “T” Dobrado – 1/8” x 7/8” x 6000 mm a  1/8’’ x 1’’ x 6000 mm","m",0,"","",{"$f":"IF(A538<>\"\",IF(AND(#REF!=\"Padrão\",$H$4=#REF!),BDI!$B$17,IF(AND(#REF!=\"Padrão\",$H$4=#REF!),BDI!$C$17,IF(AND(#REF!=\"Diferenciado\",$H$4=#REF!),BDI!$G$17,IF(AND(#REF!=\"Diferenciado\",$H$4=#REF!),BDI!$H$17,IF(#REF!=\"ZERO\",0))))),\"\")","v":{"$error":"#REF!"}},"",""]
["SF-00534","Perfil Marco Vincado – 140 x 32 mm","m",0,"","",{"$f":"IF(A539<>\"\",IF(AND(#REF!=\"Padrão\",$H$4=#REF!),BDI!$B$17,IF(AND(#REF!=\"Padrão\",$H$4=#REF!),BDI!$C$17,IF(AND(#REF!=\"Diferenciado\",$H$4=#REF!),BDI!$G$17,IF(AND(#REF!=\"Diferenciado\",$H$4=#REF!),BDI!$H$17,IF(#REF!=\"ZERO\",0))))),\"\")","v":{"$error":"#REF!"}},"",""]
["SF-00535","Perfil Acabamento - 140 x 15 mm","m",0,"","",{"$f":"IF(A540<>\"\",IF(AND(#REF!=\"Padrão\",$H$4=#REF!),BDI!$B$17,IF(AND(#REF!=\"Padrão\",$H$4=#REF!),BDI!$C$17,IF(AND(#REF!=\"Diferenciado\",$H$4=#REF!),BDI!$G$17,IF(AND(#REF!=\"Diferenciado\",$H$4=#REF!),BDI!$H$17,IF(#REF!=\"ZERO\",0))))),\"\")","v":{"$error":"#REF!"}},"",""]
["SF-00536","Perfil Trilho Superior Tipo “G” - 45 x 30 mm","m",0,"","",{"$f":"IF(A541<>\"\",IF(AND(#REF!=\"Padrão\",$H$4=#REF!),BDI!$B$17,IF(AND(#REF!=\"Padrão\",$H$4=#REF!),BDI!$C$17,IF(AND(#REF!=\"Diferenciado\",$H$4=#REF!),BDI!$G$17,IF(AND(#REF!=\"Diferenciado\",$H$4=#REF!),BDI!$H$17,IF(#REF!=\"ZERO\",0))))),\"\")","v":{"$error":"#REF!"}},"",""]
["SF-00537","Perfil Tampa Trilho “G”","m",0,"","",{"$f":"IF(A542<>\"\",IF(AND(#REF!=\"Padrão\",$H$4=#REF!),BDI!$B$17,IF(AND(#REF!=\"Padrão\",$H$4=#REF!),BDI!$C$17,IF(AND(#REF!=\"Diferenciado\",$H$4=#REF!),BDI!$G$17,IF(AND(#REF!=\"Diferenciado\",$H$4=#REF!),BDI!$H$17,IF(#REF!=\"ZERO\",0))))),\"\")","v":{"$error":"#REF!"}},"",""]
["SF-00538","Chapa Perfurada de Aço Carbono - 3000 x 1200 x 3 mm","un",0,"","",{"$f":"IF(A543<>\"\",IF(AND(#REF!=\"Padrão\",$H$4=#REF!),BDI!$B$17,IF(AND(#REF!=\"Padrão\",$H$4=#REF!),BDI!$C$17,IF(AND(#REF!=\"Diferenciado\",$H$4=#REF!),BDI!$G$17,IF(AND(#REF!=\"Diferenciado\",$H$4=#REF!),BDI!$H$17,IF(#REF!=\"ZERO\",0))))),\"\")","v":{"$error":"#REF!"}},"",""]
["SF-00539","Chapa de Aço Xadrez – 3000 x 1200 x 3 mm","un",0,"","",{"$f":"IF(A544<>\"\",IF(AND(#REF!=\"Padrão\",$H$4=#REF!),BDI!$B$17,IF(AND(#REF!=\"Padrão\",$H$4=#REF!),BDI!$C$17,IF(AND(#REF!=\"Diferenciado\",$H$4=#REF!),BDI!$G$17,IF(AND(#REF!=\"Diferenciado\",$H$4=#REF!),BDI!$H$17,IF(#REF!=\"ZERO\",0))))),\"\")","v":{"$error":"#REF!"}},"",""]
["SF-00540","Ferro Redondo – 1/2”","m",0,"","",{"$f":"IF(A545<>\"\",IF(AND(#REF!=\"Padrão\",$H$4=#REF!),BDI!$B$17,IF(AND(#REF!=\"Padrão\",$H$4=#REF!),BDI!$C$17,IF(AND(#REF!=\"Diferenciado\",$H$4=#REF!),BDI!$G$17,IF(AND(#REF!=\"Diferenciado\",$H$4=#REF!),BDI!$H$17,IF(#REF!=\"ZERO\",0))))),\"\")","v":{"$error":"#REF!"}},"",""]
["SF-00541","Ferro Redondo – 1/4\"","m",0,"","",{"$f":"IF(A546<>\"\",IF(AND(#REF!=\"Padrão\",$H$4=#REF!),BDI!$B$17,IF(AND(#REF!=\"Padrão\",$H$4=#REF!),BDI!$C$17,IF(AND(#REF!=\"Diferenciado\",$H$4=#REF!),BDI!$G$17,IF(AND(#REF!=\"Diferenciado\",$H$4=#REF!),BDI!$H$17,IF(#REF!=\"ZERO\",0))))),\"\")","v":{"$error":"#REF!"}},"",""]
["SF-00542","Ferro Redondo – 3/8”","m",0,"","",{"$f":"IF(A547<>\"\",IF(AND(#REF!=\"Padrão\",$H$4=#REF!),BDI!$B$17,IF(AND(#REF!=\"Padrão\",$H$4=#REF!),BDI!$C$17,IF(AND(#REF!=\"Diferenciado\",$H$4=#REF!),BDI!$G$17,IF(AND(#REF!=\"Diferenciado\",$H$4=#REF!),BDI!$H$17,IF(#REF!=\"ZERO\",0))))),\"\")","v":{"$error":"#REF!"}},"",""]
["SF-00543","Ferro Quadrado – 1/2”","m",0,"","",{"$f":"IF(A548<>\"\",IF(AND(#REF!=\"Padrão\",$H$4=#REF!),BDI!$B$17,IF(AND(#REF!=\"Padrão\",$H$4=#REF!),BDI!$C$17,IF(AND(#REF!=\"Diferenciado\",$H$4=#REF!),BDI!$G$17,IF(AND(#REF!=\"Diferenciado\",$H$4=#REF!),BDI!$H$17,IF(#REF!=\"ZERO\",0))))),\"\")","v":{"$error":"#REF!"}},"",""]
["SF-00544","Ferro Quadrado – 1/4”","m",0,"","",{"$f":"IF(A549<>\"\",IF(AND(#REF!=\"Padrão\",$H$4=#REF!),BDI!$B$17,IF(AND(#REF!=\"Padrão\",$H$4=#REF!),BDI!$C$17,IF(AND(#REF!=\"Diferenciado\",$H$4=#REF!),BDI!$G$17,IF(AND(#REF!=\"Diferenciado\",$H$4=#REF!),BDI!$H$17,IF(#REF!=\"ZERO\",0))))),\"\")","v":{"$error":"#REF!"}},"",""]
["SF-00545","Ferro Quadrado – 3/8”","m",0,"","",{"$f":"IF(A550<>\"\",IF(AND(#REF!=\"Padrão\",$H$4=#REF!),BDI!$B$17,IF(AND(#REF!=\"Padrão\",$H$4=#REF!),BDI!$C$17,IF(AND(#REF!=\"Diferenciado\",$H$4=#REF!),BDI!$G$17,IF(AND(#REF!=\"Diferenciado\",$H$4=#REF!),BDI!$H$17,IF(#REF!=\"ZERO\",0))))),\"\")","v":{"$error":"#REF!"}},"",""]
["SF-00546","Ferro maciço 1 1/2”","m",0,"","",{"$f":"IF(A551<>\"\",IF(AND(#REF!=\"Padrão\",$H$4=#REF!),BDI!$B$17,IF(AND(#REF!=\"Padrão\",$H$4=#REF!),BDI!$C$17,IF(AND(#REF!=\"Diferenciado\",$H$4=#REF!),BDI!$G$17,IF(AND(#REF!=\"Diferenciado\",$H$4=#REF!),BDI!$H$17,IF(#REF!=\"ZERO\",0))))),\"\")","v":{"$error":"#REF!"}},"",""]
["SF-00547","Tubo Industrial Redondo – 1”","m",0,"","",{"$f":"IF(A552<>\"\",IF(AND(#REF!=\"Padrão\",$H$4=#REF!),BDI!$B$17,IF(AND(#REF!=\"Padrão\",$H$4=#REF!),BDI!$C$17,IF(AND(#REF!=\"Diferenciado\",$H$4=#REF!),BDI!$G$17,IF(AND(#REF!=\"Diferenciado\",$H$4=#REF!),BDI!$H$17,IF(#REF!=\"ZERO\",0))))),\"\")","v":{"$error":"#REF!"}},"",""]
["SF-00548","Tubo Industrial Redondo – 1 1/2”","m",0,"","",{"$f":"IF(A553<>\"\",IF(AND(#REF!=\"Padrão\",$H$4=#REF!),BDI!$B$17,IF(AND(#REF!=\"Padrão\",$H$4=#REF!),BDI!$C$17,IF(AND(#REF!=\"Diferenciado\",$H$4=#REF!),BDI!$G$17,IF(AND(#REF!=\"Diferenciado\",$H$4=#REF!),BDI!$H$17,IF(#REF!=\"ZERO\",0))))),\"\")","v":{"$error":"#REF!"}},"",""]
["SF-00549","Tubo Industrial Redondo - 1 1/4”","m",0,"","",{"$f":"IF(A554<>\"\",IF(AND(#REF!=\"Padrão\",$H$4=#REF!),BDI!$B$17,IF(AND(#REF!=\"Padrão\",$H$4=#REF!),BDI!$C$17,IF(AND(#REF!=\"Diferenciado\",$H$4=#REF!),BDI!$G$17,IF(AND(#REF!=\"Diferenciado\",$H$4=#REF!),BDI!$H$17,IF(#REF!=\"ZERO\",0))))),\"\")","v":{"$error":"#REF!"}},"",""]
["SF-00550","Tubo Industrial Redondo – 2”","m",0,"","",{"$f":"IF(A555<>\"\",IF(AND(#REF!=\"Padrão\",$H$4=#REF!),BDI!$B$17,IF(AND(#REF!=\"Padrão\",$H$4=#REF!),BDI!$C$17,IF(AND(#REF!=\"Diferenciado\",$H$4=#REF!),BDI!$G$17,IF(AND(#REF!=\"Diferenciado\",$H$4=#REF!),BDI!$H$17,IF(#REF!=\"ZERO\",0))))),\"\")","v":{"$error":"#REF!"}},"",""]
["SF-00551","Tubo quadrado em metalon - 16x16 a 20x20 - chapa 18","m",0,"","",{"$f":"IF(A556<>\"\",IF(AND(#REF!=\"Padrão\",$H$4=#REF!),BDI!$B$17,IF(AND(#REF!=\"Padrão\",$H$4=#REF!),BDI!$C$17,IF(AND(#REF!=\"Diferenciado\",$H$4=#REF!),BDI!$G$17,IF(AND(#REF!=\"Diferenciado\",$H$4=#REF!),BDI!$H$17,IF(#REF!=\"ZERO\",0))))),\"\")","v":{"$error":"#REF!"}},"",""]
["SF-00552","Tubo quadrado em metalon - 25x25 a 40x40 - chapa 18","m",0,"","",{"$f":"IF(A557<>\"\",IF(AND(#REF!=\"Padrão\",$H$4=#REF!),BDI!$B$17,IF(AND(#REF!=\"Padrão\",$H$4=#REF!),BDI!$C$17,IF(AND(#REF!=\"Diferenciado\",$H$4=#REF!),BDI!$G$17,IF(AND(#REF!=\"Diferenciado\",$H$4=#REF!),BDI!$H$17,IF(#REF!=\"ZERO\",0))))),\"\")","v":{"$error":"#REF!"}},"",""]
["SF-00553","Tubo quadrado em metalon - 50x50 - chapa 18","m",0,"","",{"$f":"IF(A558<>\"\",IF(AND(#REF!=\"Padrão\",$H$4=#REF!),BDI!$B$17,IF(AND(#REF!=\"Padrão\",$H$4=#REF!),BDI!$C$17,IF(AND(#REF!=\"Diferenciado\",$H$4=#REF!),BDI!$G$17,IF(AND(#REF!=\"Diferenciado\",$H$4=#REF!),BDI!$H$17,IF(#REF!=\"ZERO\",0))))),\"\")","v":{"$error":"#REF!"}},"",""]
["SF-00554","Tubo retangular em metalon - 30x20 - chapa 18","m",0,"","",{"$f":"IF(A559<>\"\",IF(AND(#REF!=\"Padrão\",$H$4=#REF!),BDI!$B$17,IF(AND(#REF!=\"Padrão\",$H$4=#REF!),BDI!$C$17,IF(AND(#REF!=\"Diferenciado\",$H$4=#REF!),BDI!$G$17,IF(AND(#REF!=\"Diferenciado\",$H$4=#REF!),BDI!$H$17,IF(#REF!=\"ZERO\",0))))),\"\")","v":{"$error":"#REF!"}},"",""]
["SF-00555","Tubo retangular em metalon - 40x20 a 50x30 - chapa 18","m",0,"","",{"$f":"IF(A560<>\"\",IF(AND(#REF!=\"Padrão\",$H$4=#REF!),BDI!$B$17,IF(AND(#REF!=\"Padrão\",$H$4=#REF!),BDI!$C$17,IF(AND(#REF!=\"Diferenciado\",$H$4=#REF!),BDI!$G$17,IF(AND(#REF!=\"Diferenciado\",$H$4=#REF!),BDI!$H$17,IF(#REF!=\"ZERO\",0))))),\"\")","v":{"$error":"#REF!"}},"",""]
["SF-00556","Concertina simples em aço galvanizado, lâminas de 22 x 15mm, diâmetro 45 cm (rolo com 40 espiras)","Rolo",0,"","",{"$f":"IF(A561<>\"\",IF(AND(#REF!=\"Padrão\",$H$4=#REF!),BDI!$B$17,IF(AND(#REF!=\"Padrão\",$H$4=#REF!),BDI!$C$17,IF(AND(#REF!=\"Diferenciado\",$H$4=#REF!),BDI!$G$17,IF(AND(#REF!=\"Diferenciado\",$H$4=#REF!),BDI!$H$17,IF(#REF!=\"ZERO\",0))))),\"\")","v":{"$error":"#REF!"}},"",""]
["SF-00557","Tela de estuque","m2",0,"","",{"$f":"IF(A562<>\"\",IF(AND(#REF!=\"Padrão\",$H$4=#REF!),BDI!$B$17,IF(AND(#REF!=\"Padrão\",$H$4=#REF!),BDI!$C$17,IF(AND(#REF!=\"Diferenciado\",$H$4=#REF!),BDI!$G$17,IF(AND(#REF!=\"Diferenciado\",$H$4=#REF!),BDI!$H$17,IF(#REF!=\"ZERO\",0))))),\"\")","v":{"$error":"#REF!"}},"",""]
["SF-00558","Tela tipo galinheiro (hexagonal) galvanizada 2\" BWG 22","m2",0,"","",{"$f":"IF(A563<>\"\",IF(AND(#REF!=\"Padrão\",$H$4=#REF!),BDI!$B$17,IF(AND(#REF!=\"Padrão\",$H$4=#REF!),BDI!$C$17,IF(AND(#REF!=\"Diferenciado\",$H$4=#REF!),BDI!$G$17,IF(AND(#REF!=\"Diferenciado\",$H$4=#REF!),BDI!$H$17,IF(#REF!=\"ZERO\",0))))),\"\")","v":{"$error":"#REF!"}},"",""]
["SF-00559","Arame galvanizado, bitola 16 BWG (1,65mm)","kg",0,"","",{"$f":"IF(A564<>\"\",IF(AND(#REF!=\"Padrão\",$H$4=#REF!),BDI!$B$17,IF(AND(#REF!=\"Padrão\",$H$4=#REF!),BDI!$C$17,IF(AND(#REF!=\"Diferenciado\",$H$4=#REF!),BDI!$G$17,IF(AND(#REF!=\"Diferenciado\",$H$4=#REF!),BDI!$H$17,IF(#REF!=\"ZERO\",0))))),\"\")","v":{"$error":"#REF!"}},"",""]
["SF-00560","Arame galvanizado nº 20","kg",0,"","",{"$f":"IF(A565<>\"\",IF(AND(#REF!=\"Padrão\",$H$4=#REF!),BDI!$B$17,IF(AND(#REF!=\"Padrão\",$H$4=#REF!),BDI!$C$17,IF(AND(#REF!=\"Diferenciado\",$H$4=#REF!),BDI!$G$17,IF(AND(#REF!=\"Diferenciado\",$H$4=#REF!),BDI!$H$17,IF(#REF!=\"ZERO\",0))))),\"\")","v":{"$error":"#REF!"}},"",""]
["SF-00561","Tela em aço galvanizado, tipo alambrado, malha 2, fio 12","m",0,"","",{"$f":"IF(A566<>\"\",IF(AND(#REF!=\"Padrão\",$H$4=#REF!),BDI!$B$17,IF(AND(#REF!=\"Padrão\",$H$4=#REF!),BDI!$C$17,IF(AND(#REF!=\"Diferenciado\",$H$4=#REF!),BDI!$G$17,IF(AND(#REF!=\"Diferenciado\",$H$4=#REF!),BDI!$H$17,IF(#REF!=\"ZERO\",0))))),\"\")","v":{"$error":"#REF!"}},"",""]
["SF-00562","Massa Adesiva Plástica","un",0,"","",{"$f":"IF(A567<>\"\",IF(AND(#REF!=\"Padrão\",$H$4=#REF!),BDI!$B$17,IF(AND(#REF!=\"Padrão\",$H$4=#REF!),BDI!$C$17,IF(AND(#REF!=\"Diferenciado\",$H$4=#REF!),BDI!$G$17,IF(AND(#REF!=\"Diferenciado\",$H$4=#REF!),BDI!$H$17,IF(#REF!=\"ZERO\",0))))),\"\")","v":{"$error":"#REF!"}},"",""]
["SF-00563","Argamassa Para Contrapiso","40 kg",0,{"$f":"OFFSET(INDEX(Composições!A:J,MATCH(Orçamentária!A568,Composições!A:A,0),8),2,0)","v":16.72},0,{"$f":"IF(A568<>\"\",IF(AND(#REF!=\"Padrão\",$H$4=#REF!),BDI!$B$17,IF(AND(#REF!=\"Padrão\",$H$4=#REF!),BDI!$C$17,IF(AND(#REF!=\"Diferenciado\",$H$4=#REF!),BDI!$G$17,IF(AND(#REF!=\"Diferenciado\",$H$4=#REF!),BDI!$H$17,IF(#REF!=\"ZERO\",0))))),\"\")","v":{"$error":"#REF!"}},{"$error":"#REF!"},{"$error":"#REF!"}]
["SF-00564","Argamassa Múltiplo Uso","40 kg",0,{"$f":"OFFSET(INDEX(Composições!A:J,MATCH(Orçamentária!A569,Composições!A:A,0),8),2,0)","v":17.86},0,{"$f":"IF(A569<>\"\",IF(AND(#REF!=\"Padrão\",$H$4=#REF!),BDI!$B$17,IF(AND(#REF!=\"Padrão\",$H$4=#REF!),BDI!$C$17,IF(AND(#REF!=\"Diferenciado\",$H$4=#REF!),BDI!$G$17,IF(AND(#REF!=\"Diferenciado\",$H$4=#REF!),BDI!$H$17,IF(#REF!=\"ZERO\",0))))),\"\")","v":{"$error":"#REF!"}},{"$error":"#REF!"},{"$error":"#REF!"}]
["SF-00565","Cimento Portland CP II E 32","50 kg",0,{"$f":"OFFSET(INDEX(Composições!A:J,MATCH(Orçamentária!A570,Composições!A:A,0),8),2,0)","v":22.324999999999999},0,{"$f":"IF(A570<>\"\",IF(AND(#REF!=\"Padrão\",$H$4=#REF!),BDI!$B$17,IF(AND(#REF!=\"Padrão\",$H$4=#REF!),BDI!$C$17,IF(AND(#REF!=\"Diferenciado\",$H$4=#REF!),BDI!$G$17,IF(AND(#REF!=\"Diferenciado\",$H$4=#REF!),BDI!$H$17,IF(#REF!=\"ZERO\",0))))),\"\")","v":{"$error":"#REF!"}},{"$error":"#REF!"},{"$error":"#REF!"}]
["SF-00566","Argamassa Colante tipo AC III","20 kg",0,{"$f":"OFFSET(INDEX(Composições!A:J,MATCH(Orçamentária!A571,Composições!A:A,0),8),2,0)","v":25.08},0,{"$f":"IF(A571<>\"\",IF(AND(#REF!=\"Padrão\",$H$4=#REF!),BDI!$B$17,IF(AND(#REF!=\"Padrão\",$H$4=#REF!),BDI!$C$17,IF(AND(#REF!=\"Diferenciado\",$H$4=#REF!),BDI!$G$17,IF(AND(#REF!=\"Diferenciado\",$H$4=#REF!),BDI!$H$17,IF(#REF!=\"ZERO\",0))))),\"\")","v":{"$error":"#REF!"}},{"$error":"#REF!"},{"$error":"#REF!"}]
["SF-00567","Gesso Para Uso Geral","40 kg",0,{"$f":"OFFSET(INDEX(Composições!A:J,MATCH(Orçamentária!A572,Composições!A:A,0),8),2,0)","v":23.18},0,{"$f":"IF(A572<>\"\",IF(AND(#REF!=\"Padrão\",$H$4=#REF!),BDI!$B$17,IF(AND(#REF!=\"Padrão\",$H$4=#REF!),BDI!$C$17,IF(AND(#REF!=\"Diferenciado\",$H$4=#REF!),BDI!$G$17,IF(AND(#REF!=\"Diferenciado\",$H$4=#REF!),BDI!$H$17,IF(#REF!=\"ZERO\",0))))),\"\")","v":{"$error":"#REF!"}},{"$error":"#REF!"},{"$error":"#REF!"}]
["SF-00568","Areia Média","m3",0,{"$f":"OFFSET(INDEX(Composições!A:J,MATCH(Orçamentária!A573,Composições!A:A,0),8),2,0)","v":118.54220745000001},0,{"$f":"IF(A573<>\"\",IF(AND(#REF!=\"Padrão\",$H$4=#REF!),BDI!$B$17,IF(AND(#REF!=\"Padrão\",$H$4=#REF!),BDI!$C$17,IF(AND(#REF!=\"Diferenciado\",$H$4=#REF!),BDI!$G$17,IF(AND(#REF!=\"Diferenciado\",$H$4=#REF!),BDI!$H$17,IF(#REF!=\"ZERO\",0))))),\"\")","v":{"$error":"#REF!"}},{"$error":"#REF!"},{"$error":"#REF!"}]
["SF-00569","Brita Nº 0","m3",0,{"$f":"OFFSET(INDEX(Composições!A:J,MATCH(Orçamentária!A574,Composições!A:A,0),8),2,0)","v":121.77220745},0,{"$f":"IF(A574<>\"\",IF(AND(#REF!=\"Padrão\",$H$4=#REF!),BDI!$B$17,IF(AND(#REF!=\"Padrão\",$H$4=#REF!),BDI!$C$17,IF(AND(#REF!=\"Diferenciado\",$H$4=#REF!),BDI!$G$17,IF(AND(#REF!=\"Diferenciado\",$H$4=#REF!),BDI!$H$17,IF(#REF!=\"ZERO\",0))))),\"\")","v":{"$error":"#REF!"}},{"$error":"#REF!"},{"$error":"#REF!"}]
["SF-00570","Brita Nº 1","m3",0,{"$f":"OFFSET(INDEX(Composições!A:J,MATCH(Orçamentária!A575,Composições!A:A,0),8),2,0)","v":100.72970745000001},0,{"$f":"IF(A575<>\"\",IF(AND(#REF!=\"Padrão\",$H$4=#REF!),BDI!$B$17,IF(AND(#REF!=\"Padrão\",$H$4=#REF!),BDI!$C$17,IF(AND(#REF!=\"Diferenciado\",$H$4=#REF!),BDI!$G$17,IF(AND(#REF!=\"Diferenciado\",$H$4=#REF!),BDI!$H$17,IF(#REF!=\"ZERO\",0))))),\"\")","v":{"$error":"#REF!"}},{"$error":"#REF!"},{"$error":"#REF!"}]
["SF-00571","Bloco Cerâmico De 08 Furos","un",0,{"$f":"OFFSET(INDEX(Composições!A:J,MATCH(Orçamentária!A576,Composições!A:A,0),8),2,0)","v":0.69096349999999995},0,{"$f":"IF(A576<>\"\",IF(AND(#REF!=\"Padrão\",$H$4=#REF!),BDI!$B$17,IF(AND(#REF!=\"Padrão\",$H$4=#REF!),BDI!$C$17,IF(AND(#REF!=\"Diferenciado\",$H$4=#REF!),BDI!$G$17,IF(AND(#REF!=\"Diferenciado\",$H$4=#REF!),BDI!$H$17,IF(#REF!=\"ZERO\",0))))),\"\")","v":{"$error":"#REF!"}},{"$error":"#REF!"},{"$error":"#REF!"}]
["SF-00572","Tijolo Maciço","un",0,{"$f":"OFFSET(INDEX(Composições!A:J,MATCH(Orçamentária!A577,Composições!A:A,0),8),2,0)","v":0.58899999999999997},0,{"$f":"IF(A577<>\"\",IF(AND(#REF!=\"Padrão\",$H$4=#REF!),BDI!$B$17,IF(AND(#REF!=\"Padrão\",$H$4=#REF!),BDI!$C$17,IF(AND(#REF!=\"Diferenciado\",$H$4=#REF!),BDI!$G$17,IF(AND(#REF!=\"Diferenciado\",$H$4=#REF!),BDI!$H$17,IF(#REF!=\"ZERO\",0))))),\"\")","v":{"$error":"#REF!"}},{"$error":"#REF!"},{"$error":"#REF!"}]
["SF-00573","Bloco De Concreto Com 02 Furos","un",0,{"$f":"OFFSET(INDEX(Composições!A:J,MATCH(Orçamentária!A578,Composições!A:A,0),8),2,0)","v":1.6909999999999998},0,{"$f":"IF(A578<>\"\",IF(AND(#REF!=\"Padrão\",$H$4=#REF!),BDI!$B$17,IF(AND(#REF!=\"Padrão\",$H$4=#REF!),BDI!$C$17,IF(AND(#REF!=\"Diferenciado\",$H$4=#REF!),BDI!$G$17,IF(AND(#REF!=\"Diferenciado\",$H$4=#REF!),BDI!$H$17,IF(#REF!=\"ZERO\",0))))),\"\")","v":{"$error":"#REF!"}},{"$error":"#REF!"},{"$error":"#REF!"}]
["SF-00574","Bloco De Concreto Tipo Canaleta","un",0,{"$f":"OFFSET(INDEX(Composições!A:J,MATCH(Orçamentária!A579,Composições!A:A,0),8),2,0)","v":0},0,{"$f":"IF(A579<>\"\",IF(AND(#REF!=\"Padrão\",$H$4=#REF!),BDI!$B$17,IF(AND(#REF!=\"Padrão\",$H$4=#REF!),BDI!$C$17,IF(AND(#REF!=\"Diferenciado\",$H$4=#REF!),BDI!$G$17,IF(AND(#REF!=\"Diferenciado\",$H$4=#REF!),BDI!$H$17,IF(#REF!=\"ZERO\",0))))),\"\")","v":{"$error":"#REF!"}},{"$error":"#REF!"},{"$error":"#REF!"}]
["SF-00575","Vergalhão Ca-60 Diâmetro 5,0 Mm","m",0,{"$f":"OFFSET(INDEX(Composições!A:J,MATCH(Orçamentária!A580,Composições!A:A,0),8),2,0)","v":0.58899999999999997},0,{"$f":"IF(A580<>\"\",IF(AND(#REF!=\"Padrão\",$H$4=#REF!),BDI!$B$17,IF(AND(#REF!=\"Padrão\",$H$4=#REF!),BDI!$C$17,IF(AND(#REF!=\"Diferenciado\",$H$4=#REF!),BDI!$G$17,IF(AND(#REF!=\"Diferenciado\",$H$4=#REF!),BDI!$H$17,IF(#REF!=\"ZERO\",0))))),\"\")","v":{"$error":"#REF!"}},{"$error":"#REF!"},{"$error":"#REF!"}]
["SF-00576","Vergalhão Ca-50 Diâmetro 6,3 Mm","m",0,{"$f":"OFFSET(INDEX(Composições!A:J,MATCH(Orçamentária!A581,Composições!A:A,0),8),2,0)","v":1.4314125},0,{"$f":"IF(A581<>\"\",IF(AND(#REF!=\"Padrão\",$H$4=#REF!),BDI!$B$17,IF(AND(#REF!=\"Padrão\",$H$4=#REF!),BDI!$C$17,IF(AND(#REF!=\"Diferenciado\",$H$4=#REF!),BDI!$G$17,IF(AND(#REF!=\"Diferenciado\",$H$4=#REF!),BDI!$H$17,IF(#REF!=\"ZERO\",0))))),\"\")","v":{"$error":"#REF!"}},{"$error":"#REF!"},{"$error":"#REF!"}]
["SF-00577","Vergalhão Ca-50 Diâmetro 8,0 Mm","m",0,{"$f":"OFFSET(INDEX(Composições!A:J,MATCH(Orçamentária!A582,Composições!A:A,0),8),2,0)","v":2.319045},0,{"$f":"IF(A582<>\"\",IF(AND(#REF!=\"Padrão\",$H$4=#REF!),BDI!$B$17,IF(AND(#REF!=\"Padrão\",$H$4=#REF!),BDI!$C$17,IF(AND(#REF!=\"Diferenciado\",$H$4=#REF!),BDI!$G$17,IF(AND(#REF!=\"Diferenciado\",$H$4=#REF!),BDI!$H$17,IF(#REF!=\"ZERO\",0))))),\"\")","v":{"$error":"#REF!"}},{"$error":"#REF!"},{"$error":"#REF!"}]
["SF-00578","Vergalhão Ca-50 Diâmetro 10,0 Mm","m",0,{"$f":"OFFSET(INDEX(Composições!A:J,MATCH(Orçamentária!A583,Composições!A:A,0),8),2,0)","v":3.4172544999999999},{"$f":"IF(ISNUMBER(E583),D583*E583,\"\")","v":0},{"$f":"IF(A583<>\"\",IF(AND(#REF!=\"Padrão\",$H$4=#REF!),BDI!$B$17,IF(AND(#REF!=\"Padrão\",$H$4=#REF!),BDI!$C$17,IF(AND(#REF!=\"Diferenciado\",$H$4=#REF!),BDI!$G$17,IF(AND(#REF!=\"Diferenciado\",$H$4=#REF!),BDI!$H$17,IF(#REF!=\"ZERO\",0))))),\"\")","v":{"$error":"#REF!"}},{"$f":"IF(ISNUMBER(E583),ROUND(E583*(1+G583),2),\"\")","v":{"$error":"#REF!"}},{"$f":"IF(ISNUMBER(E583),ROUND(H583*D583,2),\"\")","v":{"$error":"#REF!"}}]
["SF-00579","Vergalhão Ca-50 Diâmetro 12,5 Mm","m",0,{"$f":"OFFSET(INDEX(Composições!A:J,MATCH(Orçamentária!A584,Composições!A:A,0),8),2,0)","v":4.6199924999999995},0,{"$f":"IF(A584<>\"\",IF(AND(#REF!=\"Padrão\",$H$4=#REF!),BDI!$B$17,IF(AND(#REF!=\"Padrão\",$H$4=#REF!),BDI!$C$17,IF(AND(#REF!=\"Diferenciado\",$H$4=#REF!),BDI!$G$17,IF(AND(#REF!=\"Diferenciado\",$H$4=#REF!),BDI!$H$17,IF(#REF!=\"ZERO\",0))))),\"\")","v":{"$error":"#REF!"}},{"$error":"#REF!"},{"$error":"#REF!"}]
["SF-00580","Arame Recozido Nº 18","kg",0,{"$f":"OFFSET(INDEX(Composições!A:J,MATCH(Orçamentária!A585,Composições!A:A,0),8),2,0)","v":13.281000000000001},0,{"$f":"IF(A585<>\"\",IF(AND(#REF!=\"Padrão\",$H$4=#REF!),BDI!$B$17,IF(AND(#REF!=\"Padrão\",$H$4=#REF!),BDI!$C$17,IF(AND(#REF!=\"Diferenciado\",$H$4=#REF!),BDI!$G$17,IF(AND(#REF!=\"Diferenciado\",$H$4=#REF!),BDI!$H$17,IF(#REF!=\"ZERO\",0))))),\"\")","v":{"$error":"#REF!"}},{"$error":"#REF!"},{"$error":"#REF!"}]
["SF-00581","Adesivo Estrutural Epóxi Bicomponente","kg",0,{"$f":"OFFSET(INDEX(Composições!A:J,MATCH(Orçamentária!A586,Composições!A:A,0),8),2,0)","v":32.271499999999996},0,{"$f":"IF(A586<>\"\",IF(AND(#REF!=\"Padrão\",$H$4=#REF!),BDI!$B$17,IF(AND(#REF!=\"Padrão\",$H$4=#REF!),BDI!$C$17,IF(AND(#REF!=\"Diferenciado\",$H$4=#REF!),BDI!$G$17,IF(AND(#REF!=\"Diferenciado\",$H$4=#REF!),BDI!$H$17,IF(#REF!=\"ZERO\",0))))),\"\")","v":{"$error":"#REF!"}},{"$error":"#REF!"},{"$error":"#REF!"}]
["SF-00582","Adesivo Selante Poliuretano","un",0,"","",{"$f":"IF(A587<>\"\",IF(AND(#REF!=\"Padrão\",$H$4=#REF!),BDI!$B$17,IF(AND(#REF!=\"Padrão\",$H$4=#REF!),BDI!$C$17,IF(AND(#REF!=\"Diferenciado\",$H$4=#REF!),BDI!$G$17,IF(AND(#REF!=\"Diferenciado\",$H$4=#REF!),BDI!$H$17,IF(#REF!=\"ZERO\",0))))),\"\")","v":{"$error":"#REF!"}},"",""]
["SF-00583","Selante de Silicone","un",0,"","",{"$f":"IF(A588<>\"\",IF(AND(#REF!=\"Padrão\",$H$4=#REF!),BDI!$B$17,IF(AND(#REF!=\"Padrão\",$H$4=#REF!),BDI!$C$17,IF(AND(#REF!=\"Diferenciado\",$H$4=#REF!),BDI!$G$17,IF(AND(#REF!=\"Diferenciado\",$H$4=#REF!),BDI!$H$17,IF(#REF!=\"ZERO\",0))))),\"\")","v":{"$error":"#REF!"}},"",""]
["SF-00584","Fita Asfáltica Autoadesiva (30 cm)","m",0,"","",{"$f":"IF(A589<>\"\",IF(AND(#REF!=\"Padrão\",$H$4=#REF!),BDI!$B$17,IF(AND(#REF!=\"Padrão\",$H$4=#REF!),BDI!$C$17,IF(AND(#REF!=\"Diferenciado\",$H$4=#REF!),BDI!$G$17,IF(AND(#REF!=\"Diferenciado\",$H$4=#REF!),BDI!$H$17,IF(#REF!=\"ZERO\",0))))),\"\")","v":{"$error":"#REF!"}},"",""]
["SF-00585","Fita Asfáltica Autoadesiva (45 cm)","m",0,"","",{"$f":"IF(A590<>\"\",IF(AND(#REF!=\"Padrão\",$H$4=#REF!),BDI!$B$17,IF(AND(#REF!=\"Padrão\",$H$4=#REF!),BDI!$C$17,IF(AND(#REF!=\"Diferenciado\",$H$4=#REF!),BDI!$G$17,IF(AND(#REF!=\"Diferenciado\",$H$4=#REF!),BDI!$H$17,IF(#REF!=\"ZERO\",0))))),\"\")","v":{"$error":"#REF!"}},"",""]
["SF-00586","Membrana Impermeabilizante De Alto Desempenho","kg",0,"","",{"$f":"IF(A591<>\"\",IF(AND(#REF!=\"Padrão\",$H$4=#REF!),BDI!$B$17,IF(AND(#REF!=\"Padrão\",$H$4=#REF!),BDI!$C$17,IF(AND(#REF!=\"Diferenciado\",$H$4=#REF!),BDI!$G$17,IF(AND(#REF!=\"Diferenciado\",$H$4=#REF!),BDI!$H$17,IF(#REF!=\"ZERO\",0))))),\"\")","v":{"$error":"#REF!"}},"",""]
["SF-00587","Aditivo de Pega Ultrarrápida","L",0,"","",{"$f":"IF(A592<>\"\",IF(AND(#REF!=\"Padrão\",$H$4=#REF!),BDI!$B$17,IF(AND(#REF!=\"Padrão\",$H$4=#REF!),BDI!$C$17,IF(AND(#REF!=\"Diferenciado\",$H$4=#REF!),BDI!$G$17,IF(AND(#REF!=\"Diferenciado\",$H$4=#REF!),BDI!$H$17,IF(#REF!=\"ZERO\",0))))),\"\")","v":{"$error":"#REF!"}},"",""]
["SF-00588","Aditivo Impermeabilizante","L",0,{"$f":"OFFSET(INDEX(Composições!A:J,MATCH(Orçamentária!A593,Composições!A:A,0),8),2,0)","v":5.0919999999999996},0,{"$f":"IF(A593<>\"\",IF(AND(#REF!=\"Padrão\",$H$4=#REF!),BDI!$B$17,IF(AND(#REF!=\"Padrão\",$H$4=#REF!),BDI!$C$17,IF(AND(#REF!=\"Diferenciado\",$H$4=#REF!),BDI!$G$17,IF(AND(#REF!=\"Diferenciado\",$H$4=#REF!),BDI!$H$17,IF(#REF!=\"ZERO\",0))))),\"\")","v":{"$error":"#REF!"}},{"$error":"#REF!"},{"$error":"#REF!"}]
["SF-00589","Aditivo Plastificante Para Argamassa","L",0,"","",{"$f":"IF(A594<>\"\",IF(AND(#REF!=\"Padrão\",$H$4=#REF!),BDI!$B$17,IF(AND(#REF!=\"Padrão\",$H$4=#REF!),BDI!$C$17,IF(AND(#REF!=\"Diferenciado\",$H$4=#REF!),BDI!$G$17,IF(AND(#REF!=\"Diferenciado\",$H$4=#REF!),BDI!$H$17,IF(#REF!=\"ZERO\",0))))),\"\")","v":{"$error":"#REF!"}},"",""]
["SF-00590","Fita adesiva antiderrapante na cor preta","m",0,"","",{"$f":"IF(A595<>\"\",IF(AND(#REF!=\"Padrão\",$H$4=#REF!),BDI!$B$17,IF(AND(#REF!=\"Padrão\",$H$4=#REF!),BDI!$C$17,IF(AND(#REF!=\"Diferenciado\",$H$4=#REF!),BDI!$G$17,IF(AND(#REF!=\"Diferenciado\",$H$4=#REF!),BDI!$H$17,IF(#REF!=\"ZERO\",0))))),\"\")","v":{"$error":"#REF!"}},"",""]
["SF-00591","Fita adesiva antiderrapante na cor preta com faixa fosforescente na cor branca","m",0,"","",{"$f":"IF(A596<>\"\",IF(AND(#REF!=\"Padrão\",$H$4=#REF!),BDI!$B$17,IF(AND(#REF!=\"Padrão\",$H$4=#REF!),BDI!$C$17,IF(AND(#REF!=\"Diferenciado\",$H$4=#REF!),BDI!$G$17,IF(AND(#REF!=\"Diferenciado\",$H$4=#REF!),BDI!$H$17,IF(#REF!=\"ZERO\",0))))),\"\")","v":{"$error":"#REF!"}},"",""]
["SF-00592","Lona Plástica","m2",0,"","",{"$f":"IF(A597<>\"\",IF(AND(#REF!=\"Padrão\",$H$4=#REF!),BDI!$B$17,IF(AND(#REF!=\"Padrão\",$H$4=#REF!),BDI!$C$17,IF(AND(#REF!=\"Diferenciado\",$H$4=#REF!),BDI!$G$17,IF(AND(#REF!=\"Diferenciado\",$H$4=#REF!),BDI!$H$17,IF(#REF!=\"ZERO\",0))))),\"\")","v":{"$error":"#REF!"}},"",""]
["SF-00593","Tapa Furo Plástico","un",0,"","",{"$f":"IF(A598<>\"\",IF(AND(#REF!=\"Padrão\",$H$4=#REF!),BDI!$B$17,IF(AND(#REF!=\"Padrão\",$H$4=#REF!),BDI!$C$17,IF(AND(#REF!=\"Diferenciado\",$H$4=#REF!),BDI!$G$17,IF(AND(#REF!=\"Diferenciado\",$H$4=#REF!),BDI!$H$17,IF(#REF!=\"ZERO\",0))))),\"\")","v":{"$error":"#REF!"}},"",""]
["SF-00594","Arremate de Plástico - (Tampa para cabeça de parafuso)","un",0,"","",{"$f":"IF(A599<>\"\",IF(AND(#REF!=\"Padrão\",$H$4=#REF!),BDI!$B$17,IF(AND(#REF!=\"Padrão\",$H$4=#REF!),BDI!$C$17,IF(AND(#REF!=\"Diferenciado\",$H$4=#REF!),BDI!$G$17,IF(AND(#REF!=\"Diferenciado\",$H$4=#REF!),BDI!$H$17,IF(#REF!=\"ZERO\",0))))),\"\")","v":{"$error":"#REF!"}},"",""]
["SF-00595","Rebite de Aço Maciço – 1/4” x 1/2\"","un",0,"","",{"$f":"IF(A600<>\"\",IF(AND(#REF!=\"Padrão\",$H$4=#REF!),BDI!$B$17,IF(AND(#REF!=\"Padrão\",$H$4=#REF!),BDI!$C$17,IF(AND(#REF!=\"Diferenciado\",$H$4=#REF!),BDI!$G$17,IF(AND(#REF!=\"Diferenciado\",$H$4=#REF!),BDI!$H$17,IF(#REF!=\"ZERO\",0))))),\"\")","v":{"$error":"#REF!"}},"",""]
["SF-00596","Rebite de Aço Maciço – 3/16” x 1”","un",0,"","",{"$f":"IF(A601<>\"\",IF(AND(#REF!=\"Padrão\",$H$4=#REF!),BDI!$B$17,IF(AND(#REF!=\"Padrão\",$H$4=#REF!),BDI!$C$17,IF(AND(#REF!=\"Diferenciado\",$H$4=#REF!),BDI!$G$17,IF(AND(#REF!=\"Diferenciado\",$H$4=#REF!),BDI!$H$17,IF(#REF!=\"ZERO\",0))))),\"\")","v":{"$error":"#REF!"}},"",""]
["SF-00597","Rebite de Aço Maciço – 3/16” x 1/2\"","un",0,"","",{"$f":"IF(A602<>\"\",IF(AND(#REF!=\"Padrão\",$H$4=#REF!),BDI!$B$17,IF(AND(#REF!=\"Padrão\",$H$4=#REF!),BDI!$C$17,IF(AND(#REF!=\"Diferenciado\",$H$4=#REF!),BDI!$G$17,IF(AND(#REF!=\"Diferenciado\",$H$4=#REF!),BDI!$H$17,IF(#REF!=\"ZERO\",0))))),\"\")","v":{"$error":"#REF!"}},"",""]
["SF-00598","Arruela Lisa de  1/2”","un",0,"","",{"$f":"IF(A603<>\"\",IF(AND(#REF!=\"Padrão\",$H$4=#REF!),BDI!$B$17,IF(AND(#REF!=\"Padrão\",$H$4=#REF!),BDI!$C$17,IF(AND(#REF!=\"Diferenciado\",$H$4=#REF!),BDI!$G$17,IF(AND(#REF!=\"Diferenciado\",$H$4=#REF!),BDI!$H$17,IF(#REF!=\"ZERO\",0))))),\"\")","v":{"$error":"#REF!"}},"",""]
["SF-00599","Arruela Lisa de  3/4”","un",0,"","",{"$f":"IF(A604<>\"\",IF(AND(#REF!=\"Padrão\",$H$4=#REF!),BDI!$B$17,IF(AND(#REF!=\"Padrão\",$H$4=#REF!),BDI!$C$17,IF(AND(#REF!=\"Diferenciado\",$H$4=#REF!),BDI!$G$17,IF(AND(#REF!=\"Diferenciado\",$H$4=#REF!),BDI!$H$17,IF(#REF!=\"ZERO\",0))))),\"\")","v":{"$error":"#REF!"}},"",""]
["SF-00600","Arruela Lisa de  5/16”","un",0,"","",{"$f":"IF(A605<>\"\",IF(AND(#REF!=\"Padrão\",$H$4=#REF!),BDI!$B$17,IF(AND(#REF!=\"Padrão\",$H$4=#REF!),BDI!$C$17,IF(AND(#REF!=\"Diferenciado\",$H$4=#REF!),BDI!$G$17,IF(AND(#REF!=\"Diferenciado\",$H$4=#REF!),BDI!$H$17,IF(#REF!=\"ZERO\",0))))),\"\")","v":{"$error":"#REF!"}},"",""]
["SF-00601","Arruela Lisa de  1/4”","un",0,"","",{"$f":"IF(A606<>\"\",IF(AND(#REF!=\"Padrão\",$H$4=#REF!),BDI!$B$17,IF(AND(#REF!=\"Padrão\",$H$4=#REF!),BDI!$C$17,IF(AND(#REF!=\"Diferenciado\",$H$4=#REF!),BDI!$G$17,IF(AND(#REF!=\"Diferenciado\",$H$4=#REF!),BDI!$H$17,IF(#REF!=\"ZERO\",0))))),\"\")","v":{"$error":"#REF!"}},"",""]
["SF-00602","Bucha Plástica S5","un",0,"","",{"$f":"IF(A607<>\"\",IF(AND(#REF!=\"Padrão\",$H$4=#REF!),BDI!$B$17,IF(AND(#REF!=\"Padrão\",$H$4=#REF!),BDI!$C$17,IF(AND(#REF!=\"Diferenciado\",$H$4=#REF!),BDI!$G$17,IF(AND(#REF!=\"Diferenciado\",$H$4=#REF!),BDI!$H$17,IF(#REF!=\"ZERO\",0))))),\"\")","v":{"$error":"#REF!"}},"",""]
["SF-00603","Bucha Plástica S6","un",0,"","",{"$f":"IF(A608<>\"\",IF(AND(#REF!=\"Padrão\",$H$4=#REF!),BDI!$B$17,IF(AND(#REF!=\"Padrão\",$H$4=#REF!),BDI!$C$17,IF(AND(#REF!=\"Diferenciado\",$H$4=#REF!),BDI!$G$17,IF(AND(#REF!=\"Diferenciado\",$H$4=#REF!),BDI!$H$17,IF(#REF!=\"ZERO\",0))))),\"\")","v":{"$error":"#REF!"}},"",""]
["SF-00604","Bucha Plástica S8","un",0,"","",{"$f":"IF(A609<>\"\",IF(AND(#REF!=\"Padrão\",$H$4=#REF!),BDI!$B$17,IF(AND(#REF!=\"Padrão\",$H$4=#REF!),BDI!$C$17,IF(AND(#REF!=\"Diferenciado\",$H$4=#REF!),BDI!$G$17,IF(AND(#REF!=\"Diferenciado\",$H$4=#REF!),BDI!$H$17,IF(#REF!=\"ZERO\",0))))),\"\")","v":{"$error":"#REF!"}},"",""]
["SF-00605","Bucha Plástica S10","un",0,"","",{"$f":"IF(A610<>\"\",IF(AND(#REF!=\"Padrão\",$H$4=#REF!),BDI!$B$17,IF(AND(#REF!=\"Padrão\",$H$4=#REF!),BDI!$C$17,IF(AND(#REF!=\"Diferenciado\",$H$4=#REF!),BDI!$G$17,IF(AND(#REF!=\"Diferenciado\",$H$4=#REF!),BDI!$H$17,IF(#REF!=\"ZERO\",0))))),\"\")","v":{"$error":"#REF!"}},"",""]
["SF-00606","Bucha Plástica S12","un",0,"","",{"$f":"IF(A611<>\"\",IF(AND(#REF!=\"Padrão\",$H$4=#REF!),BDI!$B$17,IF(AND(#REF!=\"Padrão\",$H$4=#REF!),BDI!$C$17,IF(AND(#REF!=\"Diferenciado\",$H$4=#REF!),BDI!$G$17,IF(AND(#REF!=\"Diferenciado\",$H$4=#REF!),BDI!$H$17,IF(#REF!=\"ZERO\",0))))),\"\")","v":{"$error":"#REF!"}},"",""]
["SF-00607","Rebite de Repuxo de 32 x 10","un",0,"","",{"$f":"IF(A612<>\"\",IF(AND(#REF!=\"Padrão\",$H$4=#REF!),BDI!$B$17,IF(AND(#REF!=\"Padrão\",$H$4=#REF!),BDI!$C$17,IF(AND(#REF!=\"Diferenciado\",$H$4=#REF!),BDI!$G$17,IF(AND(#REF!=\"Diferenciado\",$H$4=#REF!),BDI!$H$17,IF(#REF!=\"ZERO\",0))))),\"\")","v":{"$error":"#REF!"}},"",""]
["SF-00608","Rebite de Repuxo de 40 x 12","un",0,"","",{"$f":"IF(A613<>\"\",IF(AND(#REF!=\"Padrão\",$H$4=#REF!),BDI!$B$17,IF(AND(#REF!=\"Padrão\",$H$4=#REF!),BDI!$C$17,IF(AND(#REF!=\"Diferenciado\",$H$4=#REF!),BDI!$G$17,IF(AND(#REF!=\"Diferenciado\",$H$4=#REF!),BDI!$H$17,IF(#REF!=\"ZERO\",0))))),\"\")","v":{"$error":"#REF!"}},"",""]
["SF-00609","Rebite de repuxo de 62 x 30 mm","un",0,"","",{"$f":"IF(A614<>\"\",IF(AND(#REF!=\"Padrão\",$H$4=#REF!),BDI!$B$17,IF(AND(#REF!=\"Padrão\",$H$4=#REF!),BDI!$C$17,IF(AND(#REF!=\"Diferenciado\",$H$4=#REF!),BDI!$G$17,IF(AND(#REF!=\"Diferenciado\",$H$4=#REF!),BDI!$H$17,IF(#REF!=\"ZERO\",0))))),\"\")","v":{"$error":"#REF!"}},"",""]
["SF-00610","Rebite de Repuxo de  3/16” x 30 mm","un",0,"","",{"$f":"IF(A615<>\"\",IF(AND(#REF!=\"Padrão\",$H$4=#REF!),BDI!$B$17,IF(AND(#REF!=\"Padrão\",$H$4=#REF!),BDI!$C$17,IF(AND(#REF!=\"Diferenciado\",$H$4=#REF!),BDI!$G$17,IF(AND(#REF!=\"Diferenciado\",$H$4=#REF!),BDI!$H$17,IF(#REF!=\"ZERO\",0))))),\"\")","v":{"$error":"#REF!"}},"",""]
["SF-00611","Rebite de Repuxo de  4.8 x 12 mm","un",0,"","",{"$f":"IF(A616<>\"\",IF(AND(#REF!=\"Padrão\",$H$4=#REF!),BDI!$B$17,IF(AND(#REF!=\"Padrão\",$H$4=#REF!),BDI!$C$17,IF(AND(#REF!=\"Diferenciado\",$H$4=#REF!),BDI!$G$17,IF(AND(#REF!=\"Diferenciado\",$H$4=#REF!),BDI!$H$17,IF(#REF!=\"ZERO\",0))))),\"\")","v":{"$error":"#REF!"}},"",""]
["SF-00612","Rebite de Repuxo de  4.8 x 25 mm","un",0,"","",{"$f":"IF(A617<>\"\",IF(AND(#REF!=\"Padrão\",$H$4=#REF!),BDI!$B$17,IF(AND(#REF!=\"Padrão\",$H$4=#REF!),BDI!$C$17,IF(AND(#REF!=\"Diferenciado\",$H$4=#REF!),BDI!$G$17,IF(AND(#REF!=\"Diferenciado\",$H$4=#REF!),BDI!$H$17,IF(#REF!=\"ZERO\",0))))),\"\")","v":{"$error":"#REF!"}},"",""]
["SF-00613","Rebite de Repuxo de  6.2 x 22 mm","un",0,"","",{"$f":"IF(A618<>\"\",IF(AND(#REF!=\"Padrão\",$H$4=#REF!),BDI!$B$17,IF(AND(#REF!=\"Padrão\",$H$4=#REF!),BDI!$C$17,IF(AND(#REF!=\"Diferenciado\",$H$4=#REF!),BDI!$G$17,IF(AND(#REF!=\"Diferenciado\",$H$4=#REF!),BDI!$H$17,IF(#REF!=\"ZERO\",0))))),\"\")","v":{"$error":"#REF!"}},"",""]
["SF-00614","Parafuso Phillips Cabeça Chata - 3.0 x 10 mm","un",0,"","",{"$f":"IF(A619<>\"\",IF(AND(#REF!=\"Padrão\",$H$4=#REF!),BDI!$B$17,IF(AND(#REF!=\"Padrão\",$H$4=#REF!),BDI!$C$17,IF(AND(#REF!=\"Diferenciado\",$H$4=#REF!),BDI!$G$17,IF(AND(#REF!=\"Diferenciado\",$H$4=#REF!),BDI!$H$17,IF(#REF!=\"ZERO\",0))))),\"\")","v":{"$error":"#REF!"}},"",""]
["SF-00615","Parafuso Phillips Cabeça Chata - 3.0 x 12 mm","un",0,"","",{"$f":"IF(A620<>\"\",IF(AND(#REF!=\"Padrão\",$H$4=#REF!),BDI!$B$17,IF(AND(#REF!=\"Padrão\",$H$4=#REF!),BDI!$C$17,IF(AND(#REF!=\"Diferenciado\",$H$4=#REF!),BDI!$G$17,IF(AND(#REF!=\"Diferenciado\",$H$4=#REF!),BDI!$H$17,IF(#REF!=\"ZERO\",0))))),\"\")","v":{"$error":"#REF!"}},"",""]
["SF-00616","Parafuso Philips Cabeça Chata - 3.0 x 16","un",0,"","",{"$f":"IF(A621<>\"\",IF(AND(#REF!=\"Padrão\",$H$4=#REF!),BDI!$B$17,IF(AND(#REF!=\"Padrão\",$H$4=#REF!),BDI!$C$17,IF(AND(#REF!=\"Diferenciado\",$H$4=#REF!),BDI!$G$17,IF(AND(#REF!=\"Diferenciado\",$H$4=#REF!),BDI!$H$17,IF(#REF!=\"ZERO\",0))))),\"\")","v":{"$error":"#REF!"}},"",""]
["SF-00617","Parafuso Philips Cabeça Chata - 3.0 x 22","un",0,"","",{"$f":"IF(A622<>\"\",IF(AND(#REF!=\"Padrão\",$H$4=#REF!),BDI!$B$17,IF(AND(#REF!=\"Padrão\",$H$4=#REF!),BDI!$C$17,IF(AND(#REF!=\"Diferenciado\",$H$4=#REF!),BDI!$G$17,IF(AND(#REF!=\"Diferenciado\",$H$4=#REF!),BDI!$H$17,IF(#REF!=\"ZERO\",0))))),\"\")","v":{"$error":"#REF!"}},"",""]
["SF-00618","Parafuso Philips Cabeça Chata - 3.0 x 25","un",0,"","",{"$f":"IF(A623<>\"\",IF(AND(#REF!=\"Padrão\",$H$4=#REF!),BDI!$B$17,IF(AND(#REF!=\"Padrão\",$H$4=#REF!),BDI!$C$17,IF(AND(#REF!=\"Diferenciado\",$H$4=#REF!),BDI!$G$17,IF(AND(#REF!=\"Diferenciado\",$H$4=#REF!),BDI!$H$17,IF(#REF!=\"ZERO\",0))))),\"\")","v":{"$error":"#REF!"}},"",""]
["SF-00619","Parafuso Philips Cabeça Chata - 3.0 x 30","un",0,"","",{"$f":"IF(A624<>\"\",IF(AND(#REF!=\"Padrão\",$H$4=#REF!),BDI!$B$17,IF(AND(#REF!=\"Padrão\",$H$4=#REF!),BDI!$C$17,IF(AND(#REF!=\"Diferenciado\",$H$4=#REF!),BDI!$G$17,IF(AND(#REF!=\"Diferenciado\",$H$4=#REF!),BDI!$H$17,IF(#REF!=\"ZERO\",0))))),\"\")","v":{"$error":"#REF!"}},"",""]
["SF-00620","Parafuso Philips Cabeça Chata - 3.5 x 14","un",0,"","",{"$f":"IF(A625<>\"\",IF(AND(#REF!=\"Padrão\",$H$4=#REF!),BDI!$B$17,IF(AND(#REF!=\"Padrão\",$H$4=#REF!),BDI!$C$17,IF(AND(#REF!=\"Diferenciado\",$H$4=#REF!),BDI!$G$17,IF(AND(#REF!=\"Diferenciado\",$H$4=#REF!),BDI!$H$17,IF(#REF!=\"ZERO\",0))))),\"\")","v":{"$error":"#REF!"}},"",""]
["SF-00621","Parafuso Philips Cabeça Chata - 3.5 x 16","un",0,"","",{"$f":"IF(A626<>\"\",IF(AND(#REF!=\"Padrão\",$H$4=#REF!),BDI!$B$17,IF(AND(#REF!=\"Padrão\",$H$4=#REF!),BDI!$C$17,IF(AND(#REF!=\"Diferenciado\",$H$4=#REF!),BDI!$G$17,IF(AND(#REF!=\"Diferenciado\",$H$4=#REF!),BDI!$H$17,IF(#REF!=\"ZERO\",0))))),\"\")","v":{"$error":"#REF!"}},"",""]
["SF-00622","Parafuso Philips Cabeça Chata - 3.5 x 20","un",0,"","",{"$f":"IF(A627<>\"\",IF(AND(#REF!=\"Padrão\",$H$4=#REF!),BDI!$B$17,IF(AND(#REF!=\"Padrão\",$H$4=#REF!),BDI!$C$17,IF(AND(#REF!=\"Diferenciado\",$H$4=#REF!),BDI!$G$17,IF(AND(#REF!=\"Diferenciado\",$H$4=#REF!),BDI!$H$17,IF(#REF!=\"ZERO\",0))))),\"\")","v":{"$error":"#REF!"}},"",""]
["SF-00623","Parafuso Philips Cabeça Chata - 3.5 x 22  mm","un",0,"","",{"$f":"IF(A628<>\"\",IF(AND(#REF!=\"Padrão\",$H$4=#REF!),BDI!$B$17,IF(AND(#REF!=\"Padrão\",$H$4=#REF!),BDI!$C$17,IF(AND(#REF!=\"Diferenciado\",$H$4=#REF!),BDI!$G$17,IF(AND(#REF!=\"Diferenciado\",$H$4=#REF!),BDI!$H$17,IF(#REF!=\"ZERO\",0))))),\"\")","v":{"$error":"#REF!"}},"",""]
["SF-00624","Parafuso Philips Cabeça Chata - 3.5 x 25 mm","un",0,"","",{"$f":"IF(A629<>\"\",IF(AND(#REF!=\"Padrão\",$H$4=#REF!),BDI!$B$17,IF(AND(#REF!=\"Padrão\",$H$4=#REF!),BDI!$C$17,IF(AND(#REF!=\"Diferenciado\",$H$4=#REF!),BDI!$G$17,IF(AND(#REF!=\"Diferenciado\",$H$4=#REF!),BDI!$H$17,IF(#REF!=\"ZERO\",0))))),\"\")","v":{"$error":"#REF!"}},"",""]
["SF-00625","Parafuso Philips Cabeça Chata - 3.5 x 30","un",0,"","",{"$f":"IF(A630<>\"\",IF(AND(#REF!=\"Padrão\",$H$4=#REF!),BDI!$B$17,IF(AND(#REF!=\"Padrão\",$H$4=#REF!),BDI!$C$17,IF(AND(#REF!=\"Diferenciado\",$H$4=#REF!),BDI!$G$17,IF(AND(#REF!=\"Diferenciado\",$H$4=#REF!),BDI!$H$17,IF(#REF!=\"ZERO\",0))))),\"\")","v":{"$error":"#REF!"}},"",""]
["SF-00626","Parafuso Philips Cabeça Chata - 3.5 x 35","un",0,"","",{"$f":"IF(A631<>\"\",IF(AND(#REF!=\"Padrão\",$H$4=#REF!),BDI!$B$17,IF(AND(#REF!=\"Padrão\",$H$4=#REF!),BDI!$C$17,IF(AND(#REF!=\"Diferenciado\",$H$4=#REF!),BDI!$G$17,IF(AND(#REF!=\"Diferenciado\",$H$4=#REF!),BDI!$H$17,IF(#REF!=\"ZERO\",0))))),\"\")","v":{"$error":"#REF!"}},"",""]
["SF-00627","Parafuso Philips Cabeça Chata - 3.5 x 40","un",0,"","",{"$f":"IF(A632<>\"\",IF(AND(#REF!=\"Padrão\",$H$4=#REF!),BDI!$B$17,IF(AND(#REF!=\"Padrão\",$H$4=#REF!),BDI!$C$17,IF(AND(#REF!=\"Diferenciado\",$H$4=#REF!),BDI!$G$17,IF(AND(#REF!=\"Diferenciado\",$H$4=#REF!),BDI!$H$17,IF(#REF!=\"ZERO\",0))))),\"\")","v":{"$error":"#REF!"}},"",""]
["SF-00628","Parafuso Phillips Cabeça Chata - 40x40mm","un",0,"","",{"$f":"IF(A633<>\"\",IF(AND(#REF!=\"Padrão\",$H$4=#REF!),BDI!$B$17,IF(AND(#REF!=\"Padrão\",$H$4=#REF!),BDI!$C$17,IF(AND(#REF!=\"Diferenciado\",$H$4=#REF!),BDI!$G$17,IF(AND(#REF!=\"Diferenciado\",$H$4=#REF!),BDI!$H$17,IF(#REF!=\"ZERO\",0))))),\"\")","v":{"$error":"#REF!"}},"",""]
["SF-00629","Parafuso Phillips Cabeça Chata - 4.0x45mm","un",0,"","",{"$f":"IF(A634<>\"\",IF(AND(#REF!=\"Padrão\",$H$4=#REF!),BDI!$B$17,IF(AND(#REF!=\"Padrão\",$H$4=#REF!),BDI!$C$17,IF(AND(#REF!=\"Diferenciado\",$H$4=#REF!),BDI!$G$17,IF(AND(#REF!=\"Diferenciado\",$H$4=#REF!),BDI!$H$17,IF(#REF!=\"ZERO\",0))))),\"\")","v":{"$error":"#REF!"}},"",""]
["SF-00630","Parafuso Phillips Cabeça Chata - 4.0x50mm","un",0,"","",{"$f":"IF(A635<>\"\",IF(AND(#REF!=\"Padrão\",$H$4=#REF!),BDI!$B$17,IF(AND(#REF!=\"Padrão\",$H$4=#REF!),BDI!$C$17,IF(AND(#REF!=\"Diferenciado\",$H$4=#REF!),BDI!$G$17,IF(AND(#REF!=\"Diferenciado\",$H$4=#REF!),BDI!$H$17,IF(#REF!=\"ZERO\",0))))),\"\")","v":{"$error":"#REF!"}},"",""]
["SF-00631","Parafuso Phillips cabeça chata - 4.0x60mm","un",0,"","",{"$f":"IF(A636<>\"\",IF(AND(#REF!=\"Padrão\",$H$4=#REF!),BDI!$B$17,IF(AND(#REF!=\"Padrão\",$H$4=#REF!),BDI!$C$17,IF(AND(#REF!=\"Diferenciado\",$H$4=#REF!),BDI!$G$17,IF(AND(#REF!=\"Diferenciado\",$H$4=#REF!),BDI!$H$17,IF(#REF!=\"ZERO\",0))))),\"\")","v":{"$error":"#REF!"}},"",""]
["SF-00632","Parafuso Philips Cabeça Chata - 4.0 x 30","un",0,"","",{"$f":"IF(A637<>\"\",IF(AND(#REF!=\"Padrão\",$H$4=#REF!),BDI!$B$17,IF(AND(#REF!=\"Padrão\",$H$4=#REF!),BDI!$C$17,IF(AND(#REF!=\"Diferenciado\",$H$4=#REF!),BDI!$G$17,IF(AND(#REF!=\"Diferenciado\",$H$4=#REF!),BDI!$H$17,IF(#REF!=\"ZERO\",0))))),\"\")","v":{"$error":"#REF!"}},"",""]
["SF-00633","Parafuso Philips Cabeça Chata - 4.0 x 35","un",0,"","",{"$f":"IF(A638<>\"\",IF(AND(#REF!=\"Padrão\",$H$4=#REF!),BDI!$B$17,IF(AND(#REF!=\"Padrão\",$H$4=#REF!),BDI!$C$17,IF(AND(#REF!=\"Diferenciado\",$H$4=#REF!),BDI!$G$17,IF(AND(#REF!=\"Diferenciado\",$H$4=#REF!),BDI!$H$17,IF(#REF!=\"ZERO\",0))))),\"\")","v":{"$error":"#REF!"}},"",""]
["SF-00634","Parafuso Philips Cabeça Chata - 5.0 x 60","un",0,"","",{"$f":"IF(A639<>\"\",IF(AND(#REF!=\"Padrão\",$H$4=#REF!),BDI!$B$17,IF(AND(#REF!=\"Padrão\",$H$4=#REF!),BDI!$C$17,IF(AND(#REF!=\"Diferenciado\",$H$4=#REF!),BDI!$G$17,IF(AND(#REF!=\"Diferenciado\",$H$4=#REF!),BDI!$H$17,IF(#REF!=\"ZERO\",0))))),\"\")","v":{"$error":"#REF!"}},"",""]
["SF-00635","Parafuso Philips Cabeça Chata - 6.0 x 60","un",0,"","",{"$f":"IF(A640<>\"\",IF(AND(#REF!=\"Padrão\",$H$4=#REF!),BDI!$B$17,IF(AND(#REF!=\"Padrão\",$H$4=#REF!),BDI!$C$17,IF(AND(#REF!=\"Diferenciado\",$H$4=#REF!),BDI!$G$17,IF(AND(#REF!=\"Diferenciado\",$H$4=#REF!),BDI!$H$17,IF(#REF!=\"ZERO\",0))))),\"\")","v":{"$error":"#REF!"}},"",""]
["SF-00636","Parafuso Philips Cabeça Chata - 6.0 x 65","un",0,"","",{"$f":"IF(A641<>\"\",IF(AND(#REF!=\"Padrão\",$H$4=#REF!),BDI!$B$17,IF(AND(#REF!=\"Padrão\",$H$4=#REF!),BDI!$C$17,IF(AND(#REF!=\"Diferenciado\",$H$4=#REF!),BDI!$G$17,IF(AND(#REF!=\"Diferenciado\",$H$4=#REF!),BDI!$H$17,IF(#REF!=\"ZERO\",0))))),\"\")","v":{"$error":"#REF!"}},"",""]
["SF-00637","Porca Tipo Borboleta – 1/4”","un",0,"","",{"$f":"IF(A642<>\"\",IF(AND(#REF!=\"Padrão\",$H$4=#REF!),BDI!$B$17,IF(AND(#REF!=\"Padrão\",$H$4=#REF!),BDI!$C$17,IF(AND(#REF!=\"Diferenciado\",$H$4=#REF!),BDI!$G$17,IF(AND(#REF!=\"Diferenciado\",$H$4=#REF!),BDI!$H$17,IF(#REF!=\"ZERO\",0))))),\"\")","v":{"$error":"#REF!"}},"",""]
["SF-00638","Parafuso Philips Cabeça Oval - 4.0 x 16","un",0,"","",{"$f":"IF(A643<>\"\",IF(AND(#REF!=\"Padrão\",$H$4=#REF!),BDI!$B$17,IF(AND(#REF!=\"Padrão\",$H$4=#REF!),BDI!$C$17,IF(AND(#REF!=\"Diferenciado\",$H$4=#REF!),BDI!$G$17,IF(AND(#REF!=\"Diferenciado\",$H$4=#REF!),BDI!$H$17,IF(#REF!=\"ZERO\",0))))),\"\")","v":{"$error":"#REF!"}},"",""]
["SF-00639","Parafuso Tipo Board","un",0,"","",{"$f":"IF(A644<>\"\",IF(AND(#REF!=\"Padrão\",$H$4=#REF!),BDI!$B$17,IF(AND(#REF!=\"Padrão\",$H$4=#REF!),BDI!$C$17,IF(AND(#REF!=\"Diferenciado\",$H$4=#REF!),BDI!$G$17,IF(AND(#REF!=\"Diferenciado\",$H$4=#REF!),BDI!$H$17,IF(#REF!=\"ZERO\",0))))),\"\")","v":{"$error":"#REF!"}},"",""]
["SF-00640","Cavilha de Madeira – 6 x 30 mm","un",0,"","",{"$f":"IF(A645<>\"\",IF(AND(#REF!=\"Padrão\",$H$4=#REF!),BDI!$B$17,IF(AND(#REF!=\"Padrão\",$H$4=#REF!),BDI!$C$17,IF(AND(#REF!=\"Diferenciado\",$H$4=#REF!),BDI!$G$17,IF(AND(#REF!=\"Diferenciado\",$H$4=#REF!),BDI!$H$17,IF(#REF!=\"ZERO\",0))))),\"\")","v":{"$error":"#REF!"}},"",""]
["SF-00641","Cavilha de Madeira – 8 x 40 mm","un",0,"","",{"$f":"IF(A646<>\"\",IF(AND(#REF!=\"Padrão\",$H$4=#REF!),BDI!$B$17,IF(AND(#REF!=\"Padrão\",$H$4=#REF!),BDI!$C$17,IF(AND(#REF!=\"Diferenciado\",$H$4=#REF!),BDI!$G$17,IF(AND(#REF!=\"Diferenciado\",$H$4=#REF!),BDI!$H$17,IF(#REF!=\"ZERO\",0))))),\"\")","v":{"$error":"#REF!"}},"",""]
["SF-00642","Cavilha de Madeira – 10 x 50 mm","un",0,"",{"$f":"IF(ISNUMBER(E647),D647*E647,\"\")","v":""},{"$f":"IF(A647<>\"\",IF(AND(#REF!=\"Padrão\",$H$4=#REF!),BDI!$B$17,IF(AND(#REF!=\"Padrão\",$H$4=#REF!),BDI!$C$17,IF(AND(#REF!=\"Diferenciado\",$H$4=#REF!),BDI!$G$17,IF(AND(#REF!=\"Diferenciado\",$H$4=#REF!),BDI!$H$17,IF(#REF!=\"ZERO\",0))))),\"\")","v":{"$error":"#REF!"}},{"$f":"IF(ISNUMBER(E647),ROUND(E647*(1+G647),2),\"\")","v":""},{"$f":"IF(ISNUMBER(E647),ROUND(H647*D647,2),\"\")","v":""}]
["SF-00643","Orelhinha para suporte de Vitrô","un",0,"","",{"$f":"IF(A648<>\"\",IF(AND(#REF!=\"Padrão\",$H$4=#REF!),BDI!$B$17,IF(AND(#REF!=\"Padrão\",$H$4=#REF!),BDI!$C$17,IF(AND(#REF!=\"Diferenciado\",$H$4=#REF!),BDI!$G$17,IF(AND(#REF!=\"Diferenciado\",$H$4=#REF!),BDI!$H$17,IF(#REF!=\"ZERO\",0))))),\"\")","v":{"$error":"#REF!"}},"",""]
["SF-00644","Prego 18X27","kg",0,"","",{"$f":"IF(A649<>\"\",IF(AND(#REF!=\"Padrão\",$H$4=#REF!),BDI!$B$17,IF(AND(#REF!=\"Padrão\",$H$4=#REF!),BDI!$C$17,IF(AND(#REF!=\"Diferenciado\",$H$4=#REF!),BDI!$G$17,IF(AND(#REF!=\"Diferenciado\",$H$4=#REF!),BDI!$H$17,IF(#REF!=\"ZERO\",0))))),\"\")","v":{"$error":"#REF!"}},"",""]
["SF-00645","Ácidos","Litro",0,"","",{"$f":"IF(A650<>\"\",IF(AND(#REF!=\"Padrão\",$H$4=#REF!),BDI!$B$17,IF(AND(#REF!=\"Padrão\",$H$4=#REF!),BDI!$C$17,IF(AND(#REF!=\"Diferenciado\",$H$4=#REF!),BDI!$G$17,IF(AND(#REF!=\"Diferenciado\",$H$4=#REF!),BDI!$H$17,IF(#REF!=\"ZERO\",0))))),\"\")","v":{"$error":"#REF!"}},"",""]
["SF-00646","Aditivos químicos","Litro",0,"","",{"$f":"IF(A651<>\"\",IF(AND(#REF!=\"Padrão\",$H$4=#REF!),BDI!$B$17,IF(AND(#REF!=\"Padrão\",$H$4=#REF!),BDI!$C$17,IF(AND(#REF!=\"Diferenciado\",$H$4=#REF!),BDI!$G$17,IF(AND(#REF!=\"Diferenciado\",$H$4=#REF!),BDI!$H$17,IF(#REF!=\"ZERO\",0))))),\"\")","v":{"$error":"#REF!"}},"",""]
["SF-00647","Água destilada","Litro",0,"","",{"$f":"IF(A652<>\"\",IF(AND(#REF!=\"Padrão\",$H$4=#REF!),BDI!$B$17,IF(AND(#REF!=\"Padrão\",$H$4=#REF!),BDI!$C$17,IF(AND(#REF!=\"Diferenciado\",$H$4=#REF!),BDI!$G$17,IF(AND(#REF!=\"Diferenciado\",$H$4=#REF!),BDI!$H$17,IF(#REF!=\"ZERO\",0))))),\"\")","v":{"$error":"#REF!"}},"",""]
["SF-00648","Água sanitária","Litro",0,"","",{"$f":"IF(A653<>\"\",IF(AND(#REF!=\"Padrão\",$H$4=#REF!),BDI!$B$17,IF(AND(#REF!=\"Padrão\",$H$4=#REF!),BDI!$C$17,IF(AND(#REF!=\"Diferenciado\",$H$4=#REF!),BDI!$G$17,IF(AND(#REF!=\"Diferenciado\",$H$4=#REF!),BDI!$H$17,IF(#REF!=\"ZERO\",0))))),\"\")","v":{"$error":"#REF!"}},"",""]
["SF-00649","Álcoois","Litro",0,"","",{"$f":"IF(A654<>\"\",IF(AND(#REF!=\"Padrão\",$H$4=#REF!),BDI!$B$17,IF(AND(#REF!=\"Padrão\",$H$4=#REF!),BDI!$C$17,IF(AND(#REF!=\"Diferenciado\",$H$4=#REF!),BDI!$G$17,IF(AND(#REF!=\"Diferenciado\",$H$4=#REF!),BDI!$H$17,IF(#REF!=\"ZERO\",0))))),\"\")","v":{"$error":"#REF!"}},"",""]
["SF-00650","Botijões de gás inclusive p-13","un",0,"","",{"$f":"IF(A655<>\"\",IF(AND(#REF!=\"Padrão\",$H$4=#REF!),BDI!$B$17,IF(AND(#REF!=\"Padrão\",$H$4=#REF!),BDI!$C$17,IF(AND(#REF!=\"Diferenciado\",$H$4=#REF!),BDI!$G$17,IF(AND(#REF!=\"Diferenciado\",$H$4=#REF!),BDI!$H$17,IF(#REF!=\"ZERO\",0))))),\"\")","v":{"$error":"#REF!"}},"",""]
["SF-00651","Cola branca","kg",0,"","",{"$f":"IF(A656<>\"\",IF(AND(#REF!=\"Padrão\",$H$4=#REF!),BDI!$B$17,IF(AND(#REF!=\"Padrão\",$H$4=#REF!),BDI!$C$17,IF(AND(#REF!=\"Diferenciado\",$H$4=#REF!),BDI!$G$17,IF(AND(#REF!=\"Diferenciado\",$H$4=#REF!),BDI!$H$17,IF(#REF!=\"ZERO\",0))))),\"\")","v":{"$error":"#REF!"}},"",""]
["SF-00652","Desengraxantes","un",0,"","",{"$f":"IF(A657<>\"\",IF(AND(#REF!=\"Padrão\",$H$4=#REF!),BDI!$B$17,IF(AND(#REF!=\"Padrão\",$H$4=#REF!),BDI!$C$17,IF(AND(#REF!=\"Diferenciado\",$H$4=#REF!),BDI!$G$17,IF(AND(#REF!=\"Diferenciado\",$H$4=#REF!),BDI!$H$17,IF(#REF!=\"ZERO\",0))))),\"\")","v":{"$error":"#REF!"}},"",""]
["SF-00653","Desengripante","un",0,"","",{"$f":"IF(A658<>\"\",IF(AND(#REF!=\"Padrão\",$H$4=#REF!),BDI!$B$17,IF(AND(#REF!=\"Padrão\",$H$4=#REF!),BDI!$C$17,IF(AND(#REF!=\"Diferenciado\",$H$4=#REF!),BDI!$G$17,IF(AND(#REF!=\"Diferenciado\",$H$4=#REF!),BDI!$H$17,IF(#REF!=\"ZERO\",0))))),\"\")","v":{"$error":"#REF!"}},"",""]
["SF-00654","Detergentes","un",0,"","",{"$f":"IF(A659<>\"\",IF(AND(#REF!=\"Padrão\",$H$4=#REF!),BDI!$B$17,IF(AND(#REF!=\"Padrão\",$H$4=#REF!),BDI!$C$17,IF(AND(#REF!=\"Diferenciado\",$H$4=#REF!),BDI!$G$17,IF(AND(#REF!=\"Diferenciado\",$H$4=#REF!),BDI!$H$17,IF(#REF!=\"ZERO\",0))))),\"\")","v":{"$error":"#REF!"}},"",""]
["SF-00655","Eletrodos para solda","un",0,"","",{"$f":"IF(A660<>\"\",IF(AND(#REF!=\"Padrão\",$H$4=#REF!),BDI!$B$17,IF(AND(#REF!=\"Padrão\",$H$4=#REF!),BDI!$C$17,IF(AND(#REF!=\"Diferenciado\",$H$4=#REF!),BDI!$G$17,IF(AND(#REF!=\"Diferenciado\",$H$4=#REF!),BDI!$H$17,IF(#REF!=\"ZERO\",0))))),\"\")","v":{"$error":"#REF!"}},"",""]
["SF-00656","Espuma","un",0,"","",{"$f":"IF(A661<>\"\",IF(AND(#REF!=\"Padrão\",$H$4=#REF!),BDI!$B$17,IF(AND(#REF!=\"Padrão\",$H$4=#REF!),BDI!$C$17,IF(AND(#REF!=\"Diferenciado\",$H$4=#REF!),BDI!$G$17,IF(AND(#REF!=\"Diferenciado\",$H$4=#REF!),BDI!$H$17,IF(#REF!=\"ZERO\",0))))),\"\")","v":{"$error":"#REF!"}},"",""]
["SF-00657","Escovas para limpeza","un",0,"","",{"$f":"IF(A662<>\"\",IF(AND(#REF!=\"Padrão\",$H$4=#REF!),BDI!$B$17,IF(AND(#REF!=\"Padrão\",$H$4=#REF!),BDI!$C$17,IF(AND(#REF!=\"Diferenciado\",$H$4=#REF!),BDI!$G$17,IF(AND(#REF!=\"Diferenciado\",$H$4=#REF!),BDI!$H$17,IF(#REF!=\"ZERO\",0))))),\"\")","v":{"$error":"#REF!"}},"",""]
["SF-00658","Estopa","un",0,"","",{"$f":"IF(A663<>\"\",IF(AND(#REF!=\"Padrão\",$H$4=#REF!),BDI!$B$17,IF(AND(#REF!=\"Padrão\",$H$4=#REF!),BDI!$C$17,IF(AND(#REF!=\"Diferenciado\",$H$4=#REF!),BDI!$G$17,IF(AND(#REF!=\"Diferenciado\",$H$4=#REF!),BDI!$H$17,IF(#REF!=\"ZERO\",0))))),\"\")","v":{"$error":"#REF!"}},"",""]
["SF-00659","Fita de arquear","un",0,"","",{"$f":"IF(A664<>\"\",IF(AND(#REF!=\"Padrão\",$H$4=#REF!),BDI!$B$17,IF(AND(#REF!=\"Padrão\",$H$4=#REF!),BDI!$C$17,IF(AND(#REF!=\"Diferenciado\",$H$4=#REF!),BDI!$G$17,IF(AND(#REF!=\"Diferenciado\",$H$4=#REF!),BDI!$H$17,IF(#REF!=\"ZERO\",0))))),\"\")","v":{"$error":"#REF!"}},"",""]
["SF-00660","Fita teflon veda-rosca","un",0,"","",{"$f":"IF(A665<>\"\",IF(AND(#REF!=\"Padrão\",$H$4=#REF!),BDI!$B$17,IF(AND(#REF!=\"Padrão\",$H$4=#REF!),BDI!$C$17,IF(AND(#REF!=\"Diferenciado\",$H$4=#REF!),BDI!$G$17,IF(AND(#REF!=\"Diferenciado\",$H$4=#REF!),BDI!$H$17,IF(#REF!=\"ZERO\",0))))),\"\")","v":{"$error":"#REF!"}},"",""]
["SF-00661","Fita vinílica de proteção","un",0,"","",{"$f":"IF(A666<>\"\",IF(AND(#REF!=\"Padrão\",$H$4=#REF!),BDI!$B$17,IF(AND(#REF!=\"Padrão\",$H$4=#REF!),BDI!$C$17,IF(AND(#REF!=\"Diferenciado\",$H$4=#REF!),BDI!$G$17,IF(AND(#REF!=\"Diferenciado\",$H$4=#REF!),BDI!$H$17,IF(#REF!=\"ZERO\",0))))),\"\")","v":{"$error":"#REF!"}},"",""]
["SF-00662","Fitas adesivas","un",0,"","",{"$f":"IF(A667<>\"\",IF(AND(#REF!=\"Padrão\",$H$4=#REF!),BDI!$B$17,IF(AND(#REF!=\"Padrão\",$H$4=#REF!),BDI!$C$17,IF(AND(#REF!=\"Diferenciado\",$H$4=#REF!),BDI!$G$17,IF(AND(#REF!=\"Diferenciado\",$H$4=#REF!),BDI!$H$17,IF(#REF!=\"ZERO\",0))))),\"\")","v":{"$error":"#REF!"}},"",""]
["SF-00663","Fitas isolantes","un",0,"","",{"$f":"IF(A668<>\"\",IF(AND(#REF!=\"Padrão\",$H$4=#REF!),BDI!$B$17,IF(AND(#REF!=\"Padrão\",$H$4=#REF!),BDI!$C$17,IF(AND(#REF!=\"Diferenciado\",$H$4=#REF!),BDI!$G$17,IF(AND(#REF!=\"Diferenciado\",$H$4=#REF!),BDI!$H$17,IF(#REF!=\"ZERO\",0))))),\"\")","v":{"$error":"#REF!"}},"",""]
["SF-00664","Fluxo de solda","un",0,"","",{"$f":"IF(A669<>\"\",IF(AND(#REF!=\"Padrão\",$H$4=#REF!),BDI!$B$17,IF(AND(#REF!=\"Padrão\",$H$4=#REF!),BDI!$C$17,IF(AND(#REF!=\"Diferenciado\",$H$4=#REF!),BDI!$G$17,IF(AND(#REF!=\"Diferenciado\",$H$4=#REF!),BDI!$H$17,IF(#REF!=\"ZERO\",0))))),\"\")","v":{"$error":"#REF!"}},"",""]
["SF-00665","Fundo anticorrosivo","un",0,"","",{"$f":"IF(A670<>\"\",IF(AND(#REF!=\"Padrão\",$H$4=#REF!),BDI!$B$17,IF(AND(#REF!=\"Padrão\",$H$4=#REF!),BDI!$C$17,IF(AND(#REF!=\"Diferenciado\",$H$4=#REF!),BDI!$G$17,IF(AND(#REF!=\"Diferenciado\",$H$4=#REF!),BDI!$H$17,IF(#REF!=\"ZERO\",0))))),\"\")","v":{"$error":"#REF!"}},"",""]
["SF-00666","Gasolina","Litro",0,"","",{"$f":"IF(A671<>\"\",IF(AND(#REF!=\"Padrão\",$H$4=#REF!),BDI!$B$17,IF(AND(#REF!=\"Padrão\",$H$4=#REF!),BDI!$C$17,IF(AND(#REF!=\"Diferenciado\",$H$4=#REF!),BDI!$G$17,IF(AND(#REF!=\"Diferenciado\",$H$4=#REF!),BDI!$H$17,IF(#REF!=\"ZERO\",0))))),\"\")","v":{"$error":"#REF!"}},"",""]
["SF-00667","Graxas","un",0,"","",{"$f":"IF(A672<>\"\",IF(AND(#REF!=\"Padrão\",$H$4=#REF!),BDI!$B$17,IF(AND(#REF!=\"Padrão\",$H$4=#REF!),BDI!$C$17,IF(AND(#REF!=\"Diferenciado\",$H$4=#REF!),BDI!$G$17,IF(AND(#REF!=\"Diferenciado\",$H$4=#REF!),BDI!$H$17,IF(#REF!=\"ZERO\",0))))),\"\")","v":{"$error":"#REF!"}},"",""]
["SF-00668","Impermeabilizantes","un",0,"","",{"$f":"IF(A673<>\"\",IF(AND(#REF!=\"Padrão\",$H$4=#REF!),BDI!$B$17,IF(AND(#REF!=\"Padrão\",$H$4=#REF!),BDI!$C$17,IF(AND(#REF!=\"Diferenciado\",$H$4=#REF!),BDI!$G$17,IF(AND(#REF!=\"Diferenciado\",$H$4=#REF!),BDI!$H$17,IF(#REF!=\"ZERO\",0))))),\"\")","v":{"$error":"#REF!"}},"",""]
["SF-00669","Jogo de brocas para concreto","un",0,"","",{"$f":"IF(A674<>\"\",IF(AND(#REF!=\"Padrão\",$H$4=#REF!),BDI!$B$17,IF(AND(#REF!=\"Padrão\",$H$4=#REF!),BDI!$C$17,IF(AND(#REF!=\"Diferenciado\",$H$4=#REF!),BDI!$G$17,IF(AND(#REF!=\"Diferenciado\",$H$4=#REF!),BDI!$H$17,IF(#REF!=\"ZERO\",0))))),\"\")","v":{"$error":"#REF!"}},"",""]
["SF-00670","Jogo de brocas para madeira","un",0,"","",{"$f":"IF(A675<>\"\",IF(AND(#REF!=\"Padrão\",$H$4=#REF!),BDI!$B$17,IF(AND(#REF!=\"Padrão\",$H$4=#REF!),BDI!$C$17,IF(AND(#REF!=\"Diferenciado\",$H$4=#REF!),BDI!$G$17,IF(AND(#REF!=\"Diferenciado\",$H$4=#REF!),BDI!$H$17,IF(#REF!=\"ZERO\",0))))),\"\")","v":{"$error":"#REF!"}},"",""]
["SF-00671","Jogo de discos para polir e para lixar","un",0,"","",{"$f":"IF(A676<>\"\",IF(AND(#REF!=\"Padrão\",$H$4=#REF!),BDI!$B$17,IF(AND(#REF!=\"Padrão\",$H$4=#REF!),BDI!$C$17,IF(AND(#REF!=\"Diferenciado\",$H$4=#REF!),BDI!$G$17,IF(AND(#REF!=\"Diferenciado\",$H$4=#REF!),BDI!$H$17,IF(#REF!=\"ZERO\",0))))),\"\")","v":{"$error":"#REF!"}},"",""]
["SF-00672","Jogo de pontas e brocas para metal","un",0,"","",{"$f":"IF(A677<>\"\",IF(AND(#REF!=\"Padrão\",$H$4=#REF!),BDI!$B$17,IF(AND(#REF!=\"Padrão\",$H$4=#REF!),BDI!$C$17,IF(AND(#REF!=\"Diferenciado\",$H$4=#REF!),BDI!$G$17,IF(AND(#REF!=\"Diferenciado\",$H$4=#REF!),BDI!$H$17,IF(#REF!=\"ZERO\",0))))),\"\")","v":{"$error":"#REF!"}},"",""]
["SF-00673","Jogo de pontas para parafusadeira","un",0,"","",{"$f":"IF(A678<>\"\",IF(AND(#REF!=\"Padrão\",$H$4=#REF!),BDI!$B$17,IF(AND(#REF!=\"Padrão\",$H$4=#REF!),BDI!$C$17,IF(AND(#REF!=\"Diferenciado\",$H$4=#REF!),BDI!$G$17,IF(AND(#REF!=\"Diferenciado\",$H$4=#REF!),BDI!$H$17,IF(#REF!=\"ZERO\",0))))),\"\")","v":{"$error":"#REF!"}},"",""]
["SF-00674","Kit de brocas serra copos inclusive para metal","un",0,"","",{"$f":"IF(A679<>\"\",IF(AND(#REF!=\"Padrão\",$H$4=#REF!),BDI!$B$17,IF(AND(#REF!=\"Padrão\",$H$4=#REF!),BDI!$C$17,IF(AND(#REF!=\"Diferenciado\",$H$4=#REF!),BDI!$G$17,IF(AND(#REF!=\"Diferenciado\",$H$4=#REF!),BDI!$H$17,IF(#REF!=\"ZERO\",0))))),\"\")","v":{"$error":"#REF!"}},"",""]
["SF-00675","Lâminas de serra de arco","un",0,"","",{"$f":"IF(A680<>\"\",IF(AND(#REF!=\"Padrão\",$H$4=#REF!),BDI!$B$17,IF(AND(#REF!=\"Padrão\",$H$4=#REF!),BDI!$C$17,IF(AND(#REF!=\"Diferenciado\",$H$4=#REF!),BDI!$G$17,IF(AND(#REF!=\"Diferenciado\",$H$4=#REF!),BDI!$H$17,IF(#REF!=\"ZERO\",0))))),\"\")","v":{"$error":"#REF!"}},"",""]
["SF-00676","Lâminas de serra e de segueta","un",0,"","",{"$f":"IF(A681<>\"\",IF(AND(#REF!=\"Padrão\",$H$4=#REF!),BDI!$B$17,IF(AND(#REF!=\"Padrão\",$H$4=#REF!),BDI!$C$17,IF(AND(#REF!=\"Diferenciado\",$H$4=#REF!),BDI!$G$17,IF(AND(#REF!=\"Diferenciado\",$H$4=#REF!),BDI!$H$17,IF(#REF!=\"ZERO\",0))))),\"\")","v":{"$error":"#REF!"}},"",""]
["SF-00677","Lâminas de serra tico-tico","un",0,"","",{"$f":"IF(A682<>\"\",IF(AND(#REF!=\"Padrão\",$H$4=#REF!),BDI!$B$17,IF(AND(#REF!=\"Padrão\",$H$4=#REF!),BDI!$C$17,IF(AND(#REF!=\"Diferenciado\",$H$4=#REF!),BDI!$G$17,IF(AND(#REF!=\"Diferenciado\",$H$4=#REF!),BDI!$H$17,IF(#REF!=\"ZERO\",0))))),\"\")","v":{"$error":"#REF!"}},"",""]
["SF-00678","Limas chatas","un",0,"","",{"$f":"IF(A683<>\"\",IF(AND(#REF!=\"Padrão\",$H$4=#REF!),BDI!$B$17,IF(AND(#REF!=\"Padrão\",$H$4=#REF!),BDI!$C$17,IF(AND(#REF!=\"Diferenciado\",$H$4=#REF!),BDI!$G$17,IF(AND(#REF!=\"Diferenciado\",$H$4=#REF!),BDI!$H$17,IF(#REF!=\"ZERO\",0))))),\"\")","v":{"$error":"#REF!"}},"",""]
["SF-00679","Limas triangulares","un",0,"","",{"$f":"IF(A684<>\"\",IF(AND(#REF!=\"Padrão\",$H$4=#REF!),BDI!$B$17,IF(AND(#REF!=\"Padrão\",$H$4=#REF!),BDI!$C$17,IF(AND(#REF!=\"Diferenciado\",$H$4=#REF!),BDI!$G$17,IF(AND(#REF!=\"Diferenciado\",$H$4=#REF!),BDI!$H$17,IF(#REF!=\"ZERO\",0))))),\"\")","v":{"$error":"#REF!"}},"",""]
["SF-00680","Lixas","un",0,"","",{"$f":"IF(A685<>\"\",IF(AND(#REF!=\"Padrão\",$H$4=#REF!),BDI!$B$17,IF(AND(#REF!=\"Padrão\",$H$4=#REF!),BDI!$C$17,IF(AND(#REF!=\"Diferenciado\",$H$4=#REF!),BDI!$G$17,IF(AND(#REF!=\"Diferenciado\",$H$4=#REF!),BDI!$H$17,IF(#REF!=\"ZERO\",0))))),\"\")","v":{"$error":"#REF!"}},"",""]
["SF-00681","Lonas","un",0,"","",{"$f":"IF(A686<>\"\",IF(AND(#REF!=\"Padrão\",$H$4=#REF!),BDI!$B$17,IF(AND(#REF!=\"Padrão\",$H$4=#REF!),BDI!$C$17,IF(AND(#REF!=\"Diferenciado\",$H$4=#REF!),BDI!$G$17,IF(AND(#REF!=\"Diferenciado\",$H$4=#REF!),BDI!$H$17,IF(#REF!=\"ZERO\",0))))),\"\")","v":{"$error":"#REF!"}},"",""]
["SF-00682","Lubrificantes","un",0,"","",{"$f":"IF(A687<>\"\",IF(AND(#REF!=\"Padrão\",$H$4=#REF!),BDI!$B$17,IF(AND(#REF!=\"Padrão\",$H$4=#REF!),BDI!$C$17,IF(AND(#REF!=\"Diferenciado\",$H$4=#REF!),BDI!$G$17,IF(AND(#REF!=\"Diferenciado\",$H$4=#REF!),BDI!$H$17,IF(#REF!=\"ZERO\",0))))),\"\")","v":{"$error":"#REF!"}},"",""]
["SF-00683","Materiais de escritório","un",0,"","",{"$f":"IF(A688<>\"\",IF(AND(#REF!=\"Padrão\",$H$4=#REF!),BDI!$B$17,IF(AND(#REF!=\"Padrão\",$H$4=#REF!),BDI!$C$17,IF(AND(#REF!=\"Diferenciado\",$H$4=#REF!),BDI!$G$17,IF(AND(#REF!=\"Diferenciado\",$H$4=#REF!),BDI!$H$17,IF(#REF!=\"ZERO\",0))))),\"\")","v":{"$error":"#REF!"}},"",""]
["SF-00684","Óleos","un",0,"","",{"$f":"IF(A689<>\"\",IF(AND(#REF!=\"Padrão\",$H$4=#REF!),BDI!$B$17,IF(AND(#REF!=\"Padrão\",$H$4=#REF!),BDI!$C$17,IF(AND(#REF!=\"Diferenciado\",$H$4=#REF!),BDI!$G$17,IF(AND(#REF!=\"Diferenciado\",$H$4=#REF!),BDI!$H$17,IF(#REF!=\"ZERO\",0))))),\"\")","v":{"$error":"#REF!"}},"",""]
["SF-00685","Palha de aço","un",0,"","",{"$f":"IF(A690<>\"\",IF(AND(#REF!=\"Padrão\",$H$4=#REF!),BDI!$B$17,IF(AND(#REF!=\"Padrão\",$H$4=#REF!),BDI!$C$17,IF(AND(#REF!=\"Diferenciado\",$H$4=#REF!),BDI!$G$17,IF(AND(#REF!=\"Diferenciado\",$H$4=#REF!),BDI!$H$17,IF(#REF!=\"ZERO\",0))))),\"\")","v":{"$error":"#REF!"}},"",""]
["SF-00686","Panos","un",0,"","",{"$f":"IF(A691<>\"\",IF(AND(#REF!=\"Padrão\",$H$4=#REF!),BDI!$B$17,IF(AND(#REF!=\"Padrão\",$H$4=#REF!),BDI!$C$17,IF(AND(#REF!=\"Diferenciado\",$H$4=#REF!),BDI!$G$17,IF(AND(#REF!=\"Diferenciado\",$H$4=#REF!),BDI!$H$17,IF(#REF!=\"ZERO\",0))))),\"\")","v":{"$error":"#REF!"}},"",""]
["SF-00687","Parafina","un",0,"","",{"$f":"IF(A692<>\"\",IF(AND(#REF!=\"Padrão\",$H$4=#REF!),BDI!$B$17,IF(AND(#REF!=\"Padrão\",$H$4=#REF!),BDI!$C$17,IF(AND(#REF!=\"Diferenciado\",$H$4=#REF!),BDI!$G$17,IF(AND(#REF!=\"Diferenciado\",$H$4=#REF!),BDI!$H$17,IF(#REF!=\"ZERO\",0))))),\"\")","v":{"$error":"#REF!"}},"",""]
["SF-00688","Pasta para solda","un",0,"","",{"$f":"IF(A693<>\"\",IF(AND(#REF!=\"Padrão\",$H$4=#REF!),BDI!$B$17,IF(AND(#REF!=\"Padrão\",$H$4=#REF!),BDI!$C$17,IF(AND(#REF!=\"Diferenciado\",$H$4=#REF!),BDI!$G$17,IF(AND(#REF!=\"Diferenciado\",$H$4=#REF!),BDI!$H$17,IF(#REF!=\"ZERO\",0))))),\"\")","v":{"$error":"#REF!"}},"",""]
["SF-00689","Pilhas e baterias","un",0,"","",{"$f":"IF(A694<>\"\",IF(AND(#REF!=\"Padrão\",$H$4=#REF!),BDI!$B$17,IF(AND(#REF!=\"Padrão\",$H$4=#REF!),BDI!$C$17,IF(AND(#REF!=\"Diferenciado\",$H$4=#REF!),BDI!$G$17,IF(AND(#REF!=\"Diferenciado\",$H$4=#REF!),BDI!$H$17,IF(#REF!=\"ZERO\",0))))),\"\")","v":{"$error":"#REF!"}},"",""]
["SF-00690","Pincéis","un",0,"","",{"$f":"IF(A695<>\"\",IF(AND(#REF!=\"Padrão\",$H$4=#REF!),BDI!$B$17,IF(AND(#REF!=\"Padrão\",$H$4=#REF!),BDI!$C$17,IF(AND(#REF!=\"Diferenciado\",$H$4=#REF!),BDI!$G$17,IF(AND(#REF!=\"Diferenciado\",$H$4=#REF!),BDI!$H$17,IF(#REF!=\"ZERO\",0))))),\"\")","v":{"$error":"#REF!"}},"",""]
["SF-00691","Pregos em tamanhos variados","un",0,"","",{"$f":"IF(A696<>\"\",IF(AND(#REF!=\"Padrão\",$H$4=#REF!),BDI!$B$17,IF(AND(#REF!=\"Padrão\",$H$4=#REF!),BDI!$C$17,IF(AND(#REF!=\"Diferenciado\",$H$4=#REF!),BDI!$G$17,IF(AND(#REF!=\"Diferenciado\",$H$4=#REF!),BDI!$H$17,IF(#REF!=\"ZERO\",0))))),\"\")","v":{"$error":"#REF!"}},"",""]
["SF-00692","Produtos antiferrugem","un",0,"","",{"$f":"IF(A697<>\"\",IF(AND(#REF!=\"Padrão\",$H$4=#REF!),BDI!$B$17,IF(AND(#REF!=\"Padrão\",$H$4=#REF!),BDI!$C$17,IF(AND(#REF!=\"Diferenciado\",$H$4=#REF!),BDI!$G$17,IF(AND(#REF!=\"Diferenciado\",$H$4=#REF!),BDI!$H$17,IF(#REF!=\"ZERO\",0))))),\"\")","v":{"$error":"#REF!"}},"",""]
["SF-00693","Querosene","un",0,"","",{"$f":"IF(A698<>\"\",IF(AND(#REF!=\"Padrão\",$H$4=#REF!),BDI!$B$17,IF(AND(#REF!=\"Padrão\",$H$4=#REF!),BDI!$C$17,IF(AND(#REF!=\"Diferenciado\",$H$4=#REF!),BDI!$G$17,IF(AND(#REF!=\"Diferenciado\",$H$4=#REF!),BDI!$H$17,IF(#REF!=\"ZERO\",0))))),\"\")","v":{"$error":"#REF!"}},"",""]
["SF-00694","Rebolos","un",0,"","",{"$f":"IF(A699<>\"\",IF(AND(#REF!=\"Padrão\",$H$4=#REF!),BDI!$B$17,IF(AND(#REF!=\"Padrão\",$H$4=#REF!),BDI!$C$17,IF(AND(#REF!=\"Diferenciado\",$H$4=#REF!),BDI!$G$17,IF(AND(#REF!=\"Diferenciado\",$H$4=#REF!),BDI!$H$17,IF(#REF!=\"ZERO\",0))))),\"\")","v":{"$error":"#REF!"}},"",""]
["SF-00695","Rebolos de esmeril retangular","un",0,"","",{"$f":"IF(A700<>\"\",IF(AND(#REF!=\"Padrão\",$H$4=#REF!),BDI!$B$17,IF(AND(#REF!=\"Padrão\",$H$4=#REF!),BDI!$C$17,IF(AND(#REF!=\"Diferenciado\",$H$4=#REF!),BDI!$G$17,IF(AND(#REF!=\"Diferenciado\",$H$4=#REF!),BDI!$H$17,IF(#REF!=\"ZERO\",0))))),\"\")","v":{"$error":"#REF!"}},"",""]
["SF-00696","Resinas","un",0,"","",{"$f":"IF(A701<>\"\",IF(AND(#REF!=\"Padrão\",$H$4=#REF!),BDI!$B$17,IF(AND(#REF!=\"Padrão\",$H$4=#REF!),BDI!$C$17,IF(AND(#REF!=\"Diferenciado\",$H$4=#REF!),BDI!$G$17,IF(AND(#REF!=\"Diferenciado\",$H$4=#REF!),BDI!$H$17,IF(#REF!=\"ZERO\",0))))),\"\")","v":{"$error":"#REF!"}},"",""]
["SF-00697","Sabão","un",0,"","",{"$f":"IF(A702<>\"\",IF(AND(#REF!=\"Padrão\",$H$4=#REF!),BDI!$B$17,IF(AND(#REF!=\"Padrão\",$H$4=#REF!),BDI!$C$17,IF(AND(#REF!=\"Diferenciado\",$H$4=#REF!),BDI!$G$17,IF(AND(#REF!=\"Diferenciado\",$H$4=#REF!),BDI!$H$17,IF(#REF!=\"ZERO\",0))))),\"\")","v":{"$error":"#REF!"}},"",""]
["SF-00698","Serra copo","un",0,"","",{"$f":"IF(A703<>\"\",IF(AND(#REF!=\"Padrão\",$H$4=#REF!),BDI!$B$17,IF(AND(#REF!=\"Padrão\",$H$4=#REF!),BDI!$C$17,IF(AND(#REF!=\"Diferenciado\",$H$4=#REF!),BDI!$G$17,IF(AND(#REF!=\"Diferenciado\",$H$4=#REF!),BDI!$H$17,IF(#REF!=\"ZERO\",0))))),\"\")","v":{"$error":"#REF!"}},"",""]
["SF-00699","Silicone","un",0,"","",{"$f":"IF(A704<>\"\",IF(AND(#REF!=\"Padrão\",$H$4=#REF!),BDI!$B$17,IF(AND(#REF!=\"Padrão\",$H$4=#REF!),BDI!$C$17,IF(AND(#REF!=\"Diferenciado\",$H$4=#REF!),BDI!$G$17,IF(AND(#REF!=\"Diferenciado\",$H$4=#REF!),BDI!$H$17,IF(#REF!=\"ZERO\",0))))),\"\")","v":{"$error":"#REF!"}},"",""]
["SF-00700","Soldas","un",0,"","",{"$f":"IF(A705<>\"\",IF(AND(#REF!=\"Padrão\",$H$4=#REF!),BDI!$B$17,IF(AND(#REF!=\"Padrão\",$H$4=#REF!),BDI!$C$17,IF(AND(#REF!=\"Diferenciado\",$H$4=#REF!),BDI!$G$17,IF(AND(#REF!=\"Diferenciado\",$H$4=#REF!),BDI!$H$17,IF(#REF!=\"ZERO\",0))))),\"\")","v":{"$error":"#REF!"}},"",""]
["SF-00701","Solventes","un",0,"","",{"$f":"IF(A706<>\"\",IF(AND(#REF!=\"Padrão\",$H$4=#REF!),BDI!$B$17,IF(AND(#REF!=\"Padrão\",$H$4=#REF!),BDI!$C$17,IF(AND(#REF!=\"Diferenciado\",$H$4=#REF!),BDI!$G$17,IF(AND(#REF!=\"Diferenciado\",$H$4=#REF!),BDI!$H$17,IF(#REF!=\"ZERO\",0))))),\"\")","v":{"$error":"#REF!"}},"",""]
["SF-00702","Utensílios e produtos para limpeza","un",0,"","",{"$f":"IF(A707<>\"\",IF(AND(#REF!=\"Padrão\",$H$4=#REF!),BDI!$B$17,IF(AND(#REF!=\"Padrão\",$H$4=#REF!),BDI!$C$17,IF(AND(#REF!=\"Diferenciado\",$H$4=#REF!),BDI!$G$17,IF(AND(#REF!=\"Diferenciado\",$H$4=#REF!),BDI!$H$17,IF(#REF!=\"ZERO\",0))))),\"\")","v":{"$error":"#REF!"}},"",""]
["SF-00703","Varetas soldadoras","un",0,"","",{"$f":"IF(A708<>\"\",IF(AND(#REF!=\"Padrão\",$H$4=#REF!),BDI!$B$17,IF(AND(#REF!=\"Padrão\",$H$4=#REF!),BDI!$C$17,IF(AND(#REF!=\"Diferenciado\",$H$4=#REF!),BDI!$G$17,IF(AND(#REF!=\"Diferenciado\",$H$4=#REF!),BDI!$H$17,IF(#REF!=\"ZERO\",0))))),\"\")","v":{"$error":"#REF!"}},"",""]
["SF-00704","Vaselina","un",0,"","",{"$f":"IF(A709<>\"\",IF(AND(#REF!=\"Padrão\",$H$4=#REF!),BDI!$B$17,IF(AND(#REF!=\"Padrão\",$H$4=#REF!),BDI!$C$17,IF(AND(#REF!=\"Diferenciado\",$H$4=#REF!),BDI!$G$17,IF(AND(#REF!=\"Diferenciado\",$H$4=#REF!),BDI!$H$17,IF(#REF!=\"ZERO\",0))))),\"\")","v":{"$error":"#REF!"}},"",""]
["SF-00705","Vedante em gel","un",0,"","",{"$f":"IF(A710<>\"\",IF(AND(#REF!=\"Padrão\",$H$4=#REF!),BDI!$B$17,IF(AND(#REF!=\"Padrão\",$H$4=#REF!),BDI!$C$17,IF(AND(#REF!=\"Diferenciado\",$H$4=#REF!),BDI!$G$17,IF(AND(#REF!=\"Diferenciado\",$H$4=#REF!),BDI!$H$17,IF(#REF!=\"ZERO\",0))))),\"\")","v":{"$error":"#REF!"}},"",""]
["SF-00706","Massa epóxi","un",0,"",{"$f":"IF(ISNUMBER(E711),D711*E711,\"\")","v":""},{"$f":"IF(A711<>\"\",IF(AND(#REF!=\"Padrão\",$H$4=#REF!),BDI!$B$17,IF(AND(#REF!=\"Padrão\",$H$4=#REF!),BDI!$C$17,IF(AND(#REF!=\"Diferenciado\",$H$4=#REF!),BDI!$G$17,IF(AND(#REF!=\"Diferenciado\",$H$4=#REF!),BDI!$H$17,IF(#REF!=\"ZERO\",0))))),\"\")","v":{"$error":"#REF!"}},{"$f":"IF(ISNUMBER(E711),ROUND(E711*(1+G711),2),\"\")","v":""},{"$f":"IF(ISNUMBER(E711),ROUND(H711*D711,2),\"\")","v":""}]
["SF-00707","Algodão","un",0,"","",{"$f":"IF(A712<>\"\",IF(AND(#REF!=\"Padrão\",$H$4=#REF!),BDI!$B$17,IF(AND(#REF!=\"Padrão\",$H$4=#REF!),BDI!$C$17,IF(AND(#REF!=\"Diferenciado\",$H$4=#REF!),BDI!$G$17,IF(AND(#REF!=\"Diferenciado\",$H$4=#REF!),BDI!$H$17,IF(#REF!=\"ZERO\",0))))),\"\")","v":{"$error":"#REF!"}},"",""]
["SF-00708","Supervisor(a)-Geral","Profissional",0,{"$f":"OFFSET(INDEX(Composições!A:J,MATCH(Orçamentária!A713,Composições!A:A,0),8),2,0)","v":8407.1339688000007},0,{"$f":"IF(A713<>\"\",IF(AND(#REF!=\"Padrão\",$H$4=#REF!),BDI!$B$17,IF(AND(#REF!=\"Padrão\",$H$4=#REF!),BDI!$C$17,IF(AND(#REF!=\"Diferenciado\",$H$4=#REF!),BDI!$G$17,IF(AND(#REF!=\"Diferenciado\",$H$4=#REF!),BDI!$H$17,IF(#REF!=\"ZERO\",0))))),\"\")","v":{"$error":"#REF!"}},{"$error":"#REF!"},{"$error":"#REF!"}]
["SF-00709","Apoio Técnico Administrativo – Controle de Almoxarifado","Profissional",0,{"$f":"OFFSET(INDEX(Composições!A:J,MATCH(Orçamentária!A714,Composições!A:A,0),8),2,0)","v":2270.1814687999999},0,{"$f":"IF(A714<>\"\",IF(AND(#REF!=\"Padrão\",$H$4=#REF!),BDI!$B$17,IF(AND(#REF!=\"Padrão\",$H$4=#REF!),BDI!$C$17,IF(AND(#REF!=\"Diferenciado\",$H$4=#REF!),BDI!$G$17,IF(AND(#REF!=\"Diferenciado\",$H$4=#REF!),BDI!$H$17,IF(#REF!=\"ZERO\",0))))),\"\")","v":{"$error":"#REF!"}},{"$error":"#REF!"},{"$error":"#REF!"}]
["SF-00710","Ajudante de Serviços Gerais","Profissional",0,{"$f":"OFFSET(INDEX(Composições!A:J,MATCH(Orçamentária!A715,Composições!A:A,0),8),2,0)","v":1504.2897968},0,{"$f":"IF(A715<>\"\",IF(AND(#REF!=\"Padrão\",$H$4=#REF!),BDI!$B$17,IF(AND(#REF!=\"Padrão\",$H$4=#REF!),BDI!$C$17,IF(AND(#REF!=\"Diferenciado\",$H$4=#REF!),BDI!$G$17,IF(AND(#REF!=\"Diferenciado\",$H$4=#REF!),BDI!$H$17,IF(#REF!=\"ZERO\",0))))),\"\")","v":{"$error":"#REF!"}},{"$error":"#REF!"},{"$error":"#REF!"}]
["SF-00711","Ajudante de Marceneiro(a)","Profissional",0,{"$f":"OFFSET(INDEX(Composições!A:J,MATCH(Orçamentária!A716,Composições!A:A,0),8),2,0)","v":1696.7446272},0,{"$f":"IF(A716<>\"\",IF(AND(#REF!=\"Padrão\",$H$4=#REF!),BDI!$B$17,IF(AND(#REF!=\"Padrão\",$H$4=#REF!),BDI!$C$17,IF(AND(#REF!=\"Diferenciado\",$H$4=#REF!),BDI!$G$17,IF(AND(#REF!=\"Diferenciado\",$H$4=#REF!),BDI!$H$17,IF(#REF!=\"ZERO\",0))))),\"\")","v":{"$error":"#REF!"}},{"$error":"#REF!"},{"$error":"#REF!"}]
["SF-00712","Ajudante de Serralheiro(a)","Profissional",0,{"$f":"OFFSET(INDEX(Composições!A:J,MATCH(Orçamentária!A717,Composições!A:A,0),8),2,0)","v":1641.7575327999998},0,{"$f":"IF(A717<>\"\",IF(AND(#REF!=\"Padrão\",$H$4=#REF!),BDI!$B$17,IF(AND(#REF!=\"Padrão\",$H$4=#REF!),BDI!$C$17,IF(AND(#REF!=\"Diferenciado\",$H$4=#REF!),BDI!$G$17,IF(AND(#REF!=\"Diferenciado\",$H$4=#REF!),BDI!$H$17,IF(#REF!=\"ZERO\",0))))),\"\")","v":{"$error":"#REF!"}},{"$error":"#REF!"},{"$error":"#REF!"}]
["SF-00713","Lustrador(a) de Móveis","Profissional",0,{"$f":"OFFSET(INDEX(Composições!A:J,MATCH(Orçamentária!A718,Composições!A:A,0),8),2,0)","v":2034.5224927999998},0,{"$f":"IF(A718<>\"\",IF(AND(#REF!=\"Padrão\",$H$4=#REF!),BDI!$B$17,IF(AND(#REF!=\"Padrão\",$H$4=#REF!),BDI!$C$17,IF(AND(#REF!=\"Diferenciado\",$H$4=#REF!),BDI!$G$17,IF(AND(#REF!=\"Diferenciado\",$H$4=#REF!),BDI!$H$17,IF(#REF!=\"ZERO\",0))))),\"\")","v":{"$error":"#REF!"}},{"$error":"#REF!"},{"$error":"#REF!"}]
["SF-00714","Marceneiro(a)","Profissional",0,{"$f":"OFFSET(INDEX(Composições!A:J,MATCH(Orçamentária!A719,Composições!A:A,0),8),2,0)","v":2034.5224927999998},0,{"$f":"IF(A719<>\"\",IF(AND(#REF!=\"Padrão\",$H$4=#REF!),BDI!$B$17,IF(AND(#REF!=\"Padrão\",$H$4=#REF!),BDI!$C$17,IF(AND(#REF!=\"Diferenciado\",$H$4=#REF!),BDI!$G$17,IF(AND(#REF!=\"Diferenciado\",$H$4=#REF!),BDI!$H$17,IF(#REF!=\"ZERO\",0))))),\"\")","v":{"$error":"#REF!"}},{"$error":"#REF!"},{"$error":"#REF!"}]
["SF-00715","Serralheiro(a)","Profissional",0,{"$f":"OFFSET(INDEX(Composições!A:J,MATCH(Orçamentária!A720,Composições!A:A,0),8),2,0)","v":2003.1012959999998},0,{"$f":"IF(A720<>\"\",IF(AND(#REF!=\"Padrão\",$H$4=#REF!),BDI!$B$17,IF(AND(#REF!=\"Padrão\",$H$4=#REF!),BDI!$C$17,IF(AND(#REF!=\"Diferenciado\",$H$4=#REF!),BDI!$G$17,IF(AND(#REF!=\"Diferenciado\",$H$4=#REF!),BDI!$H$17,IF(#REF!=\"ZERO\",0))))),\"\")","v":{"$error":"#REF!"}},{"$error":"#REF!"},{"$error":"#REF!"}]
["SF-00716","Mestre de Obras (Posto de Trabalho)","Profissional",0,{"$f":"OFFSET(INDEX(Composições!A:J,MATCH(Orçamentária!A721,Composições!A:A,0),8),2,0)","v":2332.0419499999998},0,{"$f":"IF(A721<>\"\",IF(AND(#REF!=\"Padrão\",$H$4=#REF!),BDI!$B$17,IF(AND(#REF!=\"Padrão\",$H$4=#REF!),BDI!$C$17,IF(AND(#REF!=\"Diferenciado\",$H$4=#REF!),BDI!$G$17,IF(AND(#REF!=\"Diferenciado\",$H$4=#REF!),BDI!$H$17,IF(#REF!=\"ZERO\",0))))),\"\")","v":{"$error":"#REF!"}},{"$error":"#REF!"},{"$error":"#REF!"}]
["SF-00717","Oficial de Serviços Gerais","Profissional",0,{"$f":"OFFSET(INDEX(Composições!A:J,MATCH(Orçamentária!A722,Composições!A:A,0),8),2,0)","v":2012.9204199999997},0,{"$f":"IF(A722<>\"\",IF(AND(#REF!=\"Padrão\",$H$4=#REF!),BDI!$B$17,IF(AND(#REF!=\"Padrão\",$H$4=#REF!),BDI!$C$17,IF(AND(#REF!=\"Diferenciado\",$H$4=#REF!),BDI!$G$17,IF(AND(#REF!=\"Diferenciado\",$H$4=#REF!),BDI!$H$17,IF(#REF!=\"ZERO\",0))))),\"\")","v":{"$error":"#REF!"}},{"$error":"#REF!"},{"$error":"#REF!"}]
["SF-00718","Alicate  de corte diagonal 6''","un",0,"","",{"$f":"IF(A723<>\"\",IF(AND(#REF!=\"Padrão\",$H$4=#REF!),BDI!$B$17,IF(AND(#REF!=\"Padrão\",$H$4=#REF!),BDI!$C$17,IF(AND(#REF!=\"Diferenciado\",$H$4=#REF!),BDI!$G$17,IF(AND(#REF!=\"Diferenciado\",$H$4=#REF!),BDI!$H$17,IF(#REF!=\"ZERO\",0))))),\"\")","v":{"$error":"#REF!"}},"",""]
["SF-00719","Alicate de pressão de 10\"","un",0,"","",{"$f":"IF(A724<>\"\",IF(AND(#REF!=\"Padrão\",$H$4=#REF!),BDI!$B$17,IF(AND(#REF!=\"Padrão\",$H$4=#REF!),BDI!$C$17,IF(AND(#REF!=\"Diferenciado\",$H$4=#REF!),BDI!$G$17,IF(AND(#REF!=\"Diferenciado\",$H$4=#REF!),BDI!$H$17,IF(#REF!=\"ZERO\",0))))),\"\")","v":{"$error":"#REF!"}},"",""]
["SF-00720","Alicate meia cana 6''","un",0,"","",{"$f":"IF(A725<>\"\",IF(AND(#REF!=\"Padrão\",$H$4=#REF!),BDI!$B$17,IF(AND(#REF!=\"Padrão\",$H$4=#REF!),BDI!$C$17,IF(AND(#REF!=\"Diferenciado\",$H$4=#REF!),BDI!$G$17,IF(AND(#REF!=\"Diferenciado\",$H$4=#REF!),BDI!$H$17,IF(#REF!=\"ZERO\",0))))),\"\")","v":{"$error":"#REF!"}},"",""]
["SF-00721","Alicate torquês de 8\"","un",0,"","",{"$f":"IF(A726<>\"\",IF(AND(#REF!=\"Padrão\",$H$4=#REF!),BDI!$B$17,IF(AND(#REF!=\"Padrão\",$H$4=#REF!),BDI!$C$17,IF(AND(#REF!=\"Diferenciado\",$H$4=#REF!),BDI!$G$17,IF(AND(#REF!=\"Diferenciado\",$H$4=#REF!),BDI!$H$17,IF(#REF!=\"ZERO\",0))))),\"\")","v":{"$error":"#REF!"}},"",""]
["SF-00722","Alicate universal de 8\"","un",0,"","",{"$f":"IF(A727<>\"\",IF(AND(#REF!=\"Padrão\",$H$4=#REF!),BDI!$B$17,IF(AND(#REF!=\"Padrão\",$H$4=#REF!),BDI!$C$17,IF(AND(#REF!=\"Diferenciado\",$H$4=#REF!),BDI!$G$17,IF(AND(#REF!=\"Diferenciado\",$H$4=#REF!),BDI!$H$17,IF(#REF!=\"ZERO\",0))))),\"\")","v":{"$error":"#REF!"}},"",""]
["SF-00723","Arco de serra","un",0,"","",{"$f":"IF(A728<>\"\",IF(AND(#REF!=\"Padrão\",$H$4=#REF!),BDI!$B$17,IF(AND(#REF!=\"Padrão\",$H$4=#REF!),BDI!$C$17,IF(AND(#REF!=\"Diferenciado\",$H$4=#REF!),BDI!$G$17,IF(AND(#REF!=\"Diferenciado\",$H$4=#REF!),BDI!$H$17,IF(#REF!=\"ZERO\",0))))),\"\")","v":{"$error":"#REF!"}},"",""]
["SF-00724","Aspirador de pó industrial","un",0,"","",{"$f":"IF(A729<>\"\",IF(AND(#REF!=\"Padrão\",$H$4=#REF!),BDI!$B$17,IF(AND(#REF!=\"Padrão\",$H$4=#REF!),BDI!$C$17,IF(AND(#REF!=\"Diferenciado\",$H$4=#REF!),BDI!$G$17,IF(AND(#REF!=\"Diferenciado\",$H$4=#REF!),BDI!$H$17,IF(#REF!=\"ZERO\",0))))),\"\")","v":{"$error":"#REF!"}},"",""]
["SF-00725","Balde metálico para concreto 10 L","un",0,"","",{"$f":"IF(A730<>\"\",IF(AND(#REF!=\"Padrão\",$H$4=#REF!),BDI!$B$17,IF(AND(#REF!=\"Padrão\",$H$4=#REF!),BDI!$C$17,IF(AND(#REF!=\"Diferenciado\",$H$4=#REF!),BDI!$G$17,IF(AND(#REF!=\"Diferenciado\",$H$4=#REF!),BDI!$H$17,IF(#REF!=\"ZERO\",0))))),\"\")","v":{"$error":"#REF!"}},"",""]
["SF-00726","Caixa para ferramenta sanfonada metálica com cadeado","un",0,"","",{"$f":"IF(A731<>\"\",IF(AND(#REF!=\"Padrão\",$H$4=#REF!),BDI!$B$17,IF(AND(#REF!=\"Padrão\",$H$4=#REF!),BDI!$C$17,IF(AND(#REF!=\"Diferenciado\",$H$4=#REF!),BDI!$G$17,IF(AND(#REF!=\"Diferenciado\",$H$4=#REF!),BDI!$H$17,IF(#REF!=\"ZERO\",0))))),\"\")","v":{"$error":"#REF!"}},"",""]
["SF-00727","Carretel com linha em caixa de pó para marcação","un",0,"","",{"$f":"IF(A732<>\"\",IF(AND(#REF!=\"Padrão\",$H$4=#REF!),BDI!$B$17,IF(AND(#REF!=\"Padrão\",$H$4=#REF!),BDI!$C$17,IF(AND(#REF!=\"Diferenciado\",$H$4=#REF!),BDI!$G$17,IF(AND(#REF!=\"Diferenciado\",$H$4=#REF!),BDI!$H$17,IF(#REF!=\"ZERO\",0))))),\"\")","v":{"$error":"#REF!"}},"",""]
["SF-00728","Carrinho de mão reforçado","un",0,"","",{"$f":"IF(A733<>\"\",IF(AND(#REF!=\"Padrão\",$H$4=#REF!),BDI!$B$17,IF(AND(#REF!=\"Padrão\",$H$4=#REF!),BDI!$C$17,IF(AND(#REF!=\"Diferenciado\",$H$4=#REF!),BDI!$G$17,IF(AND(#REF!=\"Diferenciado\",$H$4=#REF!),BDI!$H$17,IF(#REF!=\"ZERO\",0))))),\"\")","v":{"$error":"#REF!"}},"",""]
["SF-00729","Cavadeira articulada","un",0,"","",{"$f":"IF(A734<>\"\",IF(AND(#REF!=\"Padrão\",$H$4=#REF!),BDI!$B$17,IF(AND(#REF!=\"Padrão\",$H$4=#REF!),BDI!$C$17,IF(AND(#REF!=\"Diferenciado\",$H$4=#REF!),BDI!$G$17,IF(AND(#REF!=\"Diferenciado\",$H$4=#REF!),BDI!$H$17,IF(#REF!=\"ZERO\",0))))),\"\")","v":{"$error":"#REF!"}},"",""]
["SF-00730","Chave de fenda de 1/2\" x 10\"","un",0,"","",{"$f":"IF(A735<>\"\",IF(AND(#REF!=\"Padrão\",$H$4=#REF!),BDI!$B$17,IF(AND(#REF!=\"Padrão\",$H$4=#REF!),BDI!$C$17,IF(AND(#REF!=\"Diferenciado\",$H$4=#REF!),BDI!$G$17,IF(AND(#REF!=\"Diferenciado\",$H$4=#REF!),BDI!$H$17,IF(#REF!=\"ZERO\",0))))),\"\")","v":{"$error":"#REF!"}},"",""]
["SF-00731","Chave de fenda de 1/4\" x 6\"","un",0,"","",{"$f":"IF(A736<>\"\",IF(AND(#REF!=\"Padrão\",$H$4=#REF!),BDI!$B$17,IF(AND(#REF!=\"Padrão\",$H$4=#REF!),BDI!$C$17,IF(AND(#REF!=\"Diferenciado\",$H$4=#REF!),BDI!$G$17,IF(AND(#REF!=\"Diferenciado\",$H$4=#REF!),BDI!$H$17,IF(#REF!=\"ZERO\",0))))),\"\")","v":{"$error":"#REF!"}},"",""]
["SF-00732","Chave de fenda de 3/16\" x 5\"","un",0,"","",{"$f":"IF(A737<>\"\",IF(AND(#REF!=\"Padrão\",$H$4=#REF!),BDI!$B$17,IF(AND(#REF!=\"Padrão\",$H$4=#REF!),BDI!$C$17,IF(AND(#REF!=\"Diferenciado\",$H$4=#REF!),BDI!$G$17,IF(AND(#REF!=\"Diferenciado\",$H$4=#REF!),BDI!$H$17,IF(#REF!=\"ZERO\",0))))),\"\")","v":{"$error":"#REF!"}},"",""]
["SF-00733","Chave Philips PH2 1/4\" x 6\"","un",0,"","",{"$f":"IF(A738<>\"\",IF(AND(#REF!=\"Padrão\",$H$4=#REF!),BDI!$B$17,IF(AND(#REF!=\"Padrão\",$H$4=#REF!),BDI!$C$17,IF(AND(#REF!=\"Diferenciado\",$H$4=#REF!),BDI!$G$17,IF(AND(#REF!=\"Diferenciado\",$H$4=#REF!),BDI!$H$17,IF(#REF!=\"ZERO\",0))))),\"\")","v":{"$error":"#REF!"}},"",""]
["SF-00734","Chave Philips PH3 5/16\" x 8\"","un",0,"","",{"$f":"IF(A739<>\"\",IF(AND(#REF!=\"Padrão\",$H$4=#REF!),BDI!$B$17,IF(AND(#REF!=\"Padrão\",$H$4=#REF!),BDI!$C$17,IF(AND(#REF!=\"Diferenciado\",$H$4=#REF!),BDI!$G$17,IF(AND(#REF!=\"Diferenciado\",$H$4=#REF!),BDI!$H$17,IF(#REF!=\"ZERO\",0))))),\"\")","v":{"$error":"#REF!"}},"",""]
["SF-00735","Compressor de Ar 50 L","un",0,"","",{"$f":"IF(A740<>\"\",IF(AND(#REF!=\"Padrão\",$H$4=#REF!),BDI!$B$17,IF(AND(#REF!=\"Padrão\",$H$4=#REF!),BDI!$C$17,IF(AND(#REF!=\"Diferenciado\",$H$4=#REF!),BDI!$G$17,IF(AND(#REF!=\"Diferenciado\",$H$4=#REF!),BDI!$H$17,IF(#REF!=\"ZERO\",0))))),\"\")","v":{"$error":"#REF!"}},"",""]
["SF-00736","Enxadão com cabo","un",0,"","",{"$f":"IF(A741<>\"\",IF(AND(#REF!=\"Padrão\",$H$4=#REF!),BDI!$B$17,IF(AND(#REF!=\"Padrão\",$H$4=#REF!),BDI!$C$17,IF(AND(#REF!=\"Diferenciado\",$H$4=#REF!),BDI!$G$17,IF(AND(#REF!=\"Diferenciado\",$H$4=#REF!),BDI!$H$17,IF(#REF!=\"ZERO\",0))))),\"\")","v":{"$error":"#REF!"}},"",""]
["SF-00737","Enxadão estreito com cabo","un",0,"","",{"$f":"IF(A742<>\"\",IF(AND(#REF!=\"Padrão\",$H$4=#REF!),BDI!$B$17,IF(AND(#REF!=\"Padrão\",$H$4=#REF!),BDI!$C$17,IF(AND(#REF!=\"Diferenciado\",$H$4=#REF!),BDI!$G$17,IF(AND(#REF!=\"Diferenciado\",$H$4=#REF!),BDI!$H$17,IF(#REF!=\"ZERO\",0))))),\"\")","v":{"$error":"#REF!"}},"",""]
["SF-00738","Escada tipo tesoura duplo acesso de fibra com 2m","un",0,"","",{"$f":"IF(A743<>\"\",IF(AND(#REF!=\"Padrão\",$H$4=#REF!),BDI!$B$17,IF(AND(#REF!=\"Padrão\",$H$4=#REF!),BDI!$C$17,IF(AND(#REF!=\"Diferenciado\",$H$4=#REF!),BDI!$G$17,IF(AND(#REF!=\"Diferenciado\",$H$4=#REF!),BDI!$H$17,IF(#REF!=\"ZERO\",0))))),\"\")","v":{"$error":"#REF!"}},"",""]
["SF-00739","Escada tipo tesoura e singela de fibra com 2 m","un",0,"","",{"$f":"IF(A744<>\"\",IF(AND(#REF!=\"Padrão\",$H$4=#REF!),BDI!$B$17,IF(AND(#REF!=\"Padrão\",$H$4=#REF!),BDI!$C$17,IF(AND(#REF!=\"Diferenciado\",$H$4=#REF!),BDI!$G$17,IF(AND(#REF!=\"Diferenciado\",$H$4=#REF!),BDI!$H$17,IF(#REF!=\"ZERO\",0))))),\"\")","v":{"$error":"#REF!"}},"",""]
["SF-00740","Escala métrica de madeira 2m","un",0,"","",{"$f":"IF(A745<>\"\",IF(AND(#REF!=\"Padrão\",$H$4=#REF!),BDI!$B$17,IF(AND(#REF!=\"Padrão\",$H$4=#REF!),BDI!$C$17,IF(AND(#REF!=\"Diferenciado\",$H$4=#REF!),BDI!$G$17,IF(AND(#REF!=\"Diferenciado\",$H$4=#REF!),BDI!$H$17,IF(#REF!=\"ZERO\",0))))),\"\")","v":{"$error":"#REF!"}},"",""]
["SF-00741","Esmerilhadeira Angular 4,5’’","un",0,"","",{"$f":"IF(A746<>\"\",IF(AND(#REF!=\"Padrão\",$H$4=#REF!),BDI!$B$17,IF(AND(#REF!=\"Padrão\",$H$4=#REF!),BDI!$C$17,IF(AND(#REF!=\"Diferenciado\",$H$4=#REF!),BDI!$G$17,IF(AND(#REF!=\"Diferenciado\",$H$4=#REF!),BDI!$H$17,IF(#REF!=\"ZERO\",0))))),\"\")","v":{"$error":"#REF!"}},"",""]
["SF-00742","Esmerilhadeira Angular 7’’","un",0,"","",{"$f":"IF(A747<>\"\",IF(AND(#REF!=\"Padrão\",$H$4=#REF!),BDI!$B$17,IF(AND(#REF!=\"Padrão\",$H$4=#REF!),BDI!$C$17,IF(AND(#REF!=\"Diferenciado\",$H$4=#REF!),BDI!$G$17,IF(AND(#REF!=\"Diferenciado\",$H$4=#REF!),BDI!$H$17,IF(#REF!=\"ZERO\",0))))),\"\")","v":{"$error":"#REF!"}},"",""]
["SF-00743","Espátula forjada de 12 cm","un",0,"","",{"$f":"IF(A748<>\"\",IF(AND(#REF!=\"Padrão\",$H$4=#REF!),BDI!$B$17,IF(AND(#REF!=\"Padrão\",$H$4=#REF!),BDI!$C$17,IF(AND(#REF!=\"Diferenciado\",$H$4=#REF!),BDI!$G$17,IF(AND(#REF!=\"Diferenciado\",$H$4=#REF!),BDI!$H$17,IF(#REF!=\"ZERO\",0))))),\"\")","v":{"$error":"#REF!"}},"",""]
["SF-00744","Espátula forjada de 4 cm","un",0,"","",{"$f":"IF(A749<>\"\",IF(AND(#REF!=\"Padrão\",$H$4=#REF!),BDI!$B$17,IF(AND(#REF!=\"Padrão\",$H$4=#REF!),BDI!$C$17,IF(AND(#REF!=\"Diferenciado\",$H$4=#REF!),BDI!$G$17,IF(AND(#REF!=\"Diferenciado\",$H$4=#REF!),BDI!$H$17,IF(#REF!=\"ZERO\",0))))),\"\")","v":{"$error":"#REF!"}},"",""]
["SF-00745","Espátula forjada de 8 cm","un",0,"","",{"$f":"IF(A750<>\"\",IF(AND(#REF!=\"Padrão\",$H$4=#REF!),BDI!$B$17,IF(AND(#REF!=\"Padrão\",$H$4=#REF!),BDI!$C$17,IF(AND(#REF!=\"Diferenciado\",$H$4=#REF!),BDI!$G$17,IF(AND(#REF!=\"Diferenciado\",$H$4=#REF!),BDI!$H$17,IF(#REF!=\"ZERO\",0))))),\"\")","v":{"$error":"#REF!"}},"",""]
["SF-00746","Esquadro de metal de 300 mm","un",0,"","",{"$f":"IF(A751<>\"\",IF(AND(#REF!=\"Padrão\",$H$4=#REF!),BDI!$B$17,IF(AND(#REF!=\"Padrão\",$H$4=#REF!),BDI!$C$17,IF(AND(#REF!=\"Diferenciado\",$H$4=#REF!),BDI!$G$17,IF(AND(#REF!=\"Diferenciado\",$H$4=#REF!),BDI!$H$17,IF(#REF!=\"ZERO\",0))))),\"\")","v":{"$error":"#REF!"}},"",""]
["SF-00747","Estilete emborrachado de 18 mm","un",0,"","",{"$f":"IF(A752<>\"\",IF(AND(#REF!=\"Padrão\",$H$4=#REF!),BDI!$B$17,IF(AND(#REF!=\"Padrão\",$H$4=#REF!),BDI!$C$17,IF(AND(#REF!=\"Diferenciado\",$H$4=#REF!),BDI!$G$17,IF(AND(#REF!=\"Diferenciado\",$H$4=#REF!),BDI!$H$17,IF(#REF!=\"ZERO\",0))))),\"\")","v":{"$error":"#REF!"}},"",""]
["SF-00748","Estilete emborrachado de 25 mm","un",0,"","",{"$f":"IF(A753<>\"\",IF(AND(#REF!=\"Padrão\",$H$4=#REF!),BDI!$B$17,IF(AND(#REF!=\"Padrão\",$H$4=#REF!),BDI!$C$17,IF(AND(#REF!=\"Diferenciado\",$H$4=#REF!),BDI!$G$17,IF(AND(#REF!=\"Diferenciado\",$H$4=#REF!),BDI!$H$17,IF(#REF!=\"ZERO\",0))))),\"\")","v":{"$error":"#REF!"}},"",""]
["SF-00749","Faca de 8\"","un",0,"","",{"$f":"IF(A754<>\"\",IF(AND(#REF!=\"Padrão\",$H$4=#REF!),BDI!$B$17,IF(AND(#REF!=\"Padrão\",$H$4=#REF!),BDI!$C$17,IF(AND(#REF!=\"Diferenciado\",$H$4=#REF!),BDI!$G$17,IF(AND(#REF!=\"Diferenciado\",$H$4=#REF!),BDI!$H$17,IF(#REF!=\"ZERO\",0))))),\"\")","v":{"$error":"#REF!"}},"",""]
["SF-00750","Furadeira Industrial","un",0,"","",{"$f":"IF(A755<>\"\",IF(AND(#REF!=\"Padrão\",$H$4=#REF!),BDI!$B$17,IF(AND(#REF!=\"Padrão\",$H$4=#REF!),BDI!$C$17,IF(AND(#REF!=\"Diferenciado\",$H$4=#REF!),BDI!$G$17,IF(AND(#REF!=\"Diferenciado\",$H$4=#REF!),BDI!$H$17,IF(#REF!=\"ZERO\",0))))),\"\")","v":{"$error":"#REF!"}},"",""]
["SF-00751","Jogo de chave combinada de 8 mm a 24 mm, com 14 peças","un",0,"","",{"$f":"IF(A756<>\"\",IF(AND(#REF!=\"Padrão\",$H$4=#REF!),BDI!$B$17,IF(AND(#REF!=\"Padrão\",$H$4=#REF!),BDI!$C$17,IF(AND(#REF!=\"Diferenciado\",$H$4=#REF!),BDI!$G$17,IF(AND(#REF!=\"Diferenciado\",$H$4=#REF!),BDI!$H$17,IF(#REF!=\"ZERO\",0))))),\"\")","v":{"$error":"#REF!"}},"",""]
["SF-00752","Jogo de soquetes de 1/2’’, 10-32 mm","un",0,"","",{"$f":"IF(A757<>\"\",IF(AND(#REF!=\"Padrão\",$H$4=#REF!),BDI!$B$17,IF(AND(#REF!=\"Padrão\",$H$4=#REF!),BDI!$C$17,IF(AND(#REF!=\"Diferenciado\",$H$4=#REF!),BDI!$G$17,IF(AND(#REF!=\"Diferenciado\",$H$4=#REF!),BDI!$H$17,IF(#REF!=\"ZERO\",0))))),\"\")","v":{"$error":"#REF!"}},"",""]
["SF-00753","Jogo de soquetes de 1/4’’, 4-13 mm","un",0,"","",{"$f":"IF(A758<>\"\",IF(AND(#REF!=\"Padrão\",$H$4=#REF!),BDI!$B$17,IF(AND(#REF!=\"Padrão\",$H$4=#REF!),BDI!$C$17,IF(AND(#REF!=\"Diferenciado\",$H$4=#REF!),BDI!$G$17,IF(AND(#REF!=\"Diferenciado\",$H$4=#REF!),BDI!$H$17,IF(#REF!=\"ZERO\",0))))),\"\")","v":{"$error":"#REF!"}},"",""]
["SF-00754","Kit Parafusadeira de Impacto à Bateria","un",0,"","",{"$f":"IF(A759<>\"\",IF(AND(#REF!=\"Padrão\",$H$4=#REF!),BDI!$B$17,IF(AND(#REF!=\"Padrão\",$H$4=#REF!),BDI!$C$17,IF(AND(#REF!=\"Diferenciado\",$H$4=#REF!),BDI!$G$17,IF(AND(#REF!=\"Diferenciado\",$H$4=#REF!),BDI!$H$17,IF(#REF!=\"ZERO\",0))))),\"\")","v":{"$error":"#REF!"}},"",""]
["SF-00755","Linha de pedreiro de 100m","un",0,"","",{"$f":"IF(A760<>\"\",IF(AND(#REF!=\"Padrão\",$H$4=#REF!),BDI!$B$17,IF(AND(#REF!=\"Padrão\",$H$4=#REF!),BDI!$C$17,IF(AND(#REF!=\"Diferenciado\",$H$4=#REF!),BDI!$G$17,IF(AND(#REF!=\"Diferenciado\",$H$4=#REF!),BDI!$H$17,IF(#REF!=\"ZERO\",0))))),\"\")","v":{"$error":"#REF!"}},"",""]
["SF-00756","Marreta de 1 kg","un",0,"","",{"$f":"IF(A761<>\"\",IF(AND(#REF!=\"Padrão\",$H$4=#REF!),BDI!$B$17,IF(AND(#REF!=\"Padrão\",$H$4=#REF!),BDI!$C$17,IF(AND(#REF!=\"Diferenciado\",$H$4=#REF!),BDI!$G$17,IF(AND(#REF!=\"Diferenciado\",$H$4=#REF!),BDI!$H$17,IF(#REF!=\"ZERO\",0))))),\"\")","v":{"$error":"#REF!"}},"",""]
["SF-00757","Marreta de borracha de 600g","un",0,"","",{"$f":"IF(A762<>\"\",IF(AND(#REF!=\"Padrão\",$H$4=#REF!),BDI!$B$17,IF(AND(#REF!=\"Padrão\",$H$4=#REF!),BDI!$C$17,IF(AND(#REF!=\"Diferenciado\",$H$4=#REF!),BDI!$G$17,IF(AND(#REF!=\"Diferenciado\",$H$4=#REF!),BDI!$H$17,IF(#REF!=\"ZERO\",0))))),\"\")","v":{"$error":"#REF!"}},"",""]
["SF-00758","Martelo de bola, 500 gramas","un",0,"","",{"$f":"IF(A763<>\"\",IF(AND(#REF!=\"Padrão\",$H$4=#REF!),BDI!$B$17,IF(AND(#REF!=\"Padrão\",$H$4=#REF!),BDI!$C$17,IF(AND(#REF!=\"Diferenciado\",$H$4=#REF!),BDI!$G$17,IF(AND(#REF!=\"Diferenciado\",$H$4=#REF!),BDI!$H$17,IF(#REF!=\"ZERO\",0))))),\"\")","v":{"$error":"#REF!"}},"",""]
["SF-00759","Martelo de pena, 300 gramas","un",0,"","",{"$f":"IF(A764<>\"\",IF(AND(#REF!=\"Padrão\",$H$4=#REF!),BDI!$B$17,IF(AND(#REF!=\"Padrão\",$H$4=#REF!),BDI!$C$17,IF(AND(#REF!=\"Diferenciado\",$H$4=#REF!),BDI!$G$17,IF(AND(#REF!=\"Diferenciado\",$H$4=#REF!),BDI!$H$17,IF(#REF!=\"ZERO\",0))))),\"\")","v":{"$error":"#REF!"}},"",""]
["SF-00760","Martelo de unha","un",0,"","",{"$f":"IF(A765<>\"\",IF(AND(#REF!=\"Padrão\",$H$4=#REF!),BDI!$B$17,IF(AND(#REF!=\"Padrão\",$H$4=#REF!),BDI!$C$17,IF(AND(#REF!=\"Diferenciado\",$H$4=#REF!),BDI!$G$17,IF(AND(#REF!=\"Diferenciado\",$H$4=#REF!),BDI!$H$17,IF(#REF!=\"ZERO\",0))))),\"\")","v":{"$error":"#REF!"}},"",""]
["SF-00761","Nível manual de alumínio com base magnética 350 mm","un",0,"","",{"$f":"IF(A766<>\"\",IF(AND(#REF!=\"Padrão\",$H$4=#REF!),BDI!$B$17,IF(AND(#REF!=\"Padrão\",$H$4=#REF!),BDI!$C$17,IF(AND(#REF!=\"Diferenciado\",$H$4=#REF!),BDI!$G$17,IF(AND(#REF!=\"Diferenciado\",$H$4=#REF!),BDI!$H$17,IF(#REF!=\"ZERO\",0))))),\"\")","v":{"$error":"#REF!"}},"",""]
["SF-00762","Nível manual de alumínio com base magnética 220 mm","un",0,"","",{"$f":"IF(A767<>\"\",IF(AND(#REF!=\"Padrão\",$H$4=#REF!),BDI!$B$17,IF(AND(#REF!=\"Padrão\",$H$4=#REF!),BDI!$C$17,IF(AND(#REF!=\"Diferenciado\",$H$4=#REF!),BDI!$G$17,IF(AND(#REF!=\"Diferenciado\",$H$4=#REF!),BDI!$H$17,IF(#REF!=\"ZERO\",0))))),\"\")","v":{"$error":"#REF!"}},"",""]
["SF-00763","Pá quadrada com 120 cm","un",0,"","",{"$f":"IF(A768<>\"\",IF(AND(#REF!=\"Padrão\",$H$4=#REF!),BDI!$B$17,IF(AND(#REF!=\"Padrão\",$H$4=#REF!),BDI!$C$17,IF(AND(#REF!=\"Diferenciado\",$H$4=#REF!),BDI!$G$17,IF(AND(#REF!=\"Diferenciado\",$H$4=#REF!),BDI!$H$17,IF(#REF!=\"ZERO\",0))))),\"\")","v":{"$error":"#REF!"}},"",""]
["SF-00764","Pedra de afiar dupla face","un",0,"","",{"$f":"IF(A769<>\"\",IF(AND(#REF!=\"Padrão\",$H$4=#REF!),BDI!$B$17,IF(AND(#REF!=\"Padrão\",$H$4=#REF!),BDI!$C$17,IF(AND(#REF!=\"Diferenciado\",$H$4=#REF!),BDI!$G$17,IF(AND(#REF!=\"Diferenciado\",$H$4=#REF!),BDI!$H$17,IF(#REF!=\"ZERO\",0))))),\"\")","v":{"$error":"#REF!"}},"",""]
["SF-00765","Peneira fina","un",0,"","",{"$f":"IF(A770<>\"\",IF(AND(#REF!=\"Padrão\",$H$4=#REF!),BDI!$B$17,IF(AND(#REF!=\"Padrão\",$H$4=#REF!),BDI!$C$17,IF(AND(#REF!=\"Diferenciado\",$H$4=#REF!),BDI!$G$17,IF(AND(#REF!=\"Diferenciado\",$H$4=#REF!),BDI!$H$17,IF(#REF!=\"ZERO\",0))))),\"\")","v":{"$error":"#REF!"}},"",""]
["SF-00766","Peneira grossa","un",0,"","",{"$f":"IF(A771<>\"\",IF(AND(#REF!=\"Padrão\",$H$4=#REF!),BDI!$B$17,IF(AND(#REF!=\"Padrão\",$H$4=#REF!),BDI!$C$17,IF(AND(#REF!=\"Diferenciado\",$H$4=#REF!),BDI!$G$17,IF(AND(#REF!=\"Diferenciado\",$H$4=#REF!),BDI!$H$17,IF(#REF!=\"ZERO\",0))))),\"\")","v":{"$error":"#REF!"}},"",""]
["SF-00767","Peneira média","un",0,"","",{"$f":"IF(A772<>\"\",IF(AND(#REF!=\"Padrão\",$H$4=#REF!),BDI!$B$17,IF(AND(#REF!=\"Padrão\",$H$4=#REF!),BDI!$C$17,IF(AND(#REF!=\"Diferenciado\",$H$4=#REF!),BDI!$G$17,IF(AND(#REF!=\"Diferenciado\",$H$4=#REF!),BDI!$H$17,IF(#REF!=\"ZERO\",0))))),\"\")","v":{"$error":"#REF!"}},"",""]
["SF-00768","Picareta","un",0,"","",{"$f":"IF(A773<>\"\",IF(AND(#REF!=\"Padrão\",$H$4=#REF!),BDI!$B$17,IF(AND(#REF!=\"Padrão\",$H$4=#REF!),BDI!$C$17,IF(AND(#REF!=\"Diferenciado\",$H$4=#REF!),BDI!$G$17,IF(AND(#REF!=\"Diferenciado\",$H$4=#REF!),BDI!$H$17,IF(#REF!=\"ZERO\",0))))),\"\")","v":{"$error":"#REF!"}},"",""]
["SF-00769","Prumo de centro","un",0,"","",{"$f":"IF(A774<>\"\",IF(AND(#REF!=\"Padrão\",$H$4=#REF!),BDI!$B$17,IF(AND(#REF!=\"Padrão\",$H$4=#REF!),BDI!$C$17,IF(AND(#REF!=\"Diferenciado\",$H$4=#REF!),BDI!$G$17,IF(AND(#REF!=\"Diferenciado\",$H$4=#REF!),BDI!$H$17,IF(#REF!=\"ZERO\",0))))),\"\")","v":{"$error":"#REF!"}},"",""]
["SF-00770","Prumo de parede","un",0,"",{"$f":"IF(ISNUMBER(E775),D775*E775,\"\")","v":""},{"$f":"IF(A775<>\"\",IF(AND(#REF!=\"Padrão\",$H$4=#REF!),BDI!$B$17,IF(AND(#REF!=\"Padrão\",$H$4=#REF!),BDI!$C$17,IF(AND(#REF!=\"Diferenciado\",$H$4=#REF!),BDI!$G$17,IF(AND(#REF!=\"Diferenciado\",$H$4=#REF!),BDI!$H$17,IF(#REF!=\"ZERO\",0))))),\"\")","v":{"$error":"#REF!"}},{"$f":"IF(ISNUMBER(E775),ROUND(E775*(1+G775),2),\"\")","v":""},{"$f":"IF(ISNUMBER(E775),ROUND(H775*D775,2),\"\")","v":""}]
["SF-00771","Rebitador manual","un",0,"","",{"$f":"IF(A776<>\"\",IF(AND(#REF!=\"Padrão\",$H$4=#REF!),BDI!$B$17,IF(AND(#REF!=\"Padrão\",$H$4=#REF!),BDI!$C$17,IF(AND(#REF!=\"Diferenciado\",$H$4=#REF!),BDI!$G$17,IF(AND(#REF!=\"Diferenciado\",$H$4=#REF!),BDI!$H$17,IF(#REF!=\"ZERO\",0))))),\"\")","v":{"$error":"#REF!"}},"",""]
["SF-00772","Régua de alumínio para pedreiro com 2m","un",0,"","",{"$f":"IF(A777<>\"\",IF(AND(#REF!=\"Padrão\",$H$4=#REF!),BDI!$B$17,IF(AND(#REF!=\"Padrão\",$H$4=#REF!),BDI!$C$17,IF(AND(#REF!=\"Diferenciado\",$H$4=#REF!),BDI!$G$17,IF(AND(#REF!=\"Diferenciado\",$H$4=#REF!),BDI!$H$17,IF(#REF!=\"ZERO\",0))))),\"\")","v":{"$error":"#REF!"}},"",""]
["SF-00773","Serrote comum","un",0,"","",{"$f":"IF(A778<>\"\",IF(AND(#REF!=\"Padrão\",$H$4=#REF!),BDI!$B$17,IF(AND(#REF!=\"Padrão\",$H$4=#REF!),BDI!$C$17,IF(AND(#REF!=\"Diferenciado\",$H$4=#REF!),BDI!$G$17,IF(AND(#REF!=\"Diferenciado\",$H$4=#REF!),BDI!$H$17,IF(#REF!=\"ZERO\",0))))),\"\")","v":{"$error":"#REF!"}},"",""]
["SF-00774","Serrote de costa","un",0,"","",{"$f":"IF(A779<>\"\",IF(AND(#REF!=\"Padrão\",$H$4=#REF!),BDI!$B$17,IF(AND(#REF!=\"Padrão\",$H$4=#REF!),BDI!$C$17,IF(AND(#REF!=\"Diferenciado\",$H$4=#REF!),BDI!$G$17,IF(AND(#REF!=\"Diferenciado\",$H$4=#REF!),BDI!$H$17,IF(#REF!=\"ZERO\",0))))),\"\")","v":{"$error":"#REF!"}},"",""]
["SF-00775","Tesoura de 25 cm","un",0,"","",{"$f":"IF(A780<>\"\",IF(AND(#REF!=\"Padrão\",$H$4=#REF!),BDI!$B$17,IF(AND(#REF!=\"Padrão\",$H$4=#REF!),BDI!$C$17,IF(AND(#REF!=\"Diferenciado\",$H$4=#REF!),BDI!$G$17,IF(AND(#REF!=\"Diferenciado\",$H$4=#REF!),BDI!$H$17,IF(#REF!=\"ZERO\",0))))),\"\")","v":{"$error":"#REF!"}},"",""]
["SF-00776","Tesoura de chapas tipo aviação","un",0,"","",{"$f":"IF(A781<>\"\",IF(AND(#REF!=\"Padrão\",$H$4=#REF!),BDI!$B$17,IF(AND(#REF!=\"Padrão\",$H$4=#REF!),BDI!$C$17,IF(AND(#REF!=\"Diferenciado\",$H$4=#REF!),BDI!$G$17,IF(AND(#REF!=\"Diferenciado\",$H$4=#REF!),BDI!$H$17,IF(#REF!=\"ZERO\",0))))),\"\")","v":{"$error":"#REF!"}},"",""]
["SF-00777","Trena de 5m","un",0,"","",{"$f":"IF(A782<>\"\",IF(AND(#REF!=\"Padrão\",$H$4=#REF!),BDI!$B$17,IF(AND(#REF!=\"Padrão\",$H$4=#REF!),BDI!$C$17,IF(AND(#REF!=\"Diferenciado\",$H$4=#REF!),BDI!$G$17,IF(AND(#REF!=\"Diferenciado\",$H$4=#REF!),BDI!$H$17,IF(#REF!=\"ZERO\",0))))),\"\")","v":{"$error":"#REF!"}},"",""]
["SF-00778","Desempenadeira 1800 x 200 mm","un",0,"","",{"$f":"IF(A783<>\"\",IF(AND(#REF!=\"Padrão\",$H$4=#REF!),BDI!$B$17,IF(AND(#REF!=\"Padrão\",$H$4=#REF!),BDI!$C$17,IF(AND(#REF!=\"Diferenciado\",$H$4=#REF!),BDI!$G$17,IF(AND(#REF!=\"Diferenciado\",$H$4=#REF!),BDI!$H$17,IF(#REF!=\"ZERO\",0))))),\"\")","v":{"$error":"#REF!"}},"",""]
["SF-00779","Formão de 1/2\"","un",0,"","",{"$f":"IF(A784<>\"\",IF(AND(#REF!=\"Padrão\",$H$4=#REF!),BDI!$B$17,IF(AND(#REF!=\"Padrão\",$H$4=#REF!),BDI!$C$17,IF(AND(#REF!=\"Diferenciado\",$H$4=#REF!),BDI!$G$17,IF(AND(#REF!=\"Diferenciado\",$H$4=#REF!),BDI!$H$17,IF(#REF!=\"ZERO\",0))))),\"\")","v":{"$error":"#REF!"}},"",""]
["SF-00780","Formão de 1/4\"","un",0,"","",{"$f":"IF(A785<>\"\",IF(AND(#REF!=\"Padrão\",$H$4=#REF!),BDI!$B$17,IF(AND(#REF!=\"Padrão\",$H$4=#REF!),BDI!$C$17,IF(AND(#REF!=\"Diferenciado\",$H$4=#REF!),BDI!$G$17,IF(AND(#REF!=\"Diferenciado\",$H$4=#REF!),BDI!$H$17,IF(#REF!=\"ZERO\",0))))),\"\")","v":{"$error":"#REF!"}},"",""]
["SF-00781","Formão de 3/4\"","un",0,"","",{"$f":"IF(A786<>\"\",IF(AND(#REF!=\"Padrão\",$H$4=#REF!),BDI!$B$17,IF(AND(#REF!=\"Padrão\",$H$4=#REF!),BDI!$C$17,IF(AND(#REF!=\"Diferenciado\",$H$4=#REF!),BDI!$G$17,IF(AND(#REF!=\"Diferenciado\",$H$4=#REF!),BDI!$H$17,IF(#REF!=\"ZERO\",0))))),\"\")","v":{"$error":"#REF!"}},"",""]
["SF-00782","Grampeador para Molduras","un",0,"","",{"$f":"IF(A787<>\"\",IF(AND(#REF!=\"Padrão\",$H$4=#REF!),BDI!$B$17,IF(AND(#REF!=\"Padrão\",$H$4=#REF!),BDI!$C$17,IF(AND(#REF!=\"Diferenciado\",$H$4=#REF!),BDI!$G$17,IF(AND(#REF!=\"Diferenciado\",$H$4=#REF!),BDI!$H$17,IF(#REF!=\"ZERO\",0))))),\"\")","v":{"$error":"#REF!"}},"",""]
["SF-00783","Grampeador Uso Leve","un",0,"","",{"$f":"IF(A788<>\"\",IF(AND(#REF!=\"Padrão\",$H$4=#REF!),BDI!$B$17,IF(AND(#REF!=\"Padrão\",$H$4=#REF!),BDI!$C$17,IF(AND(#REF!=\"Diferenciado\",$H$4=#REF!),BDI!$G$17,IF(AND(#REF!=\"Diferenciado\",$H$4=#REF!),BDI!$H$17,IF(#REF!=\"ZERO\",0))))),\"\")","v":{"$error":"#REF!"}},"",""]
["SF-00784","Lixadeira de cinta","un",0,"","",{"$f":"IF(A789<>\"\",IF(AND(#REF!=\"Padrão\",$H$4=#REF!),BDI!$B$17,IF(AND(#REF!=\"Padrão\",$H$4=#REF!),BDI!$C$17,IF(AND(#REF!=\"Diferenciado\",$H$4=#REF!),BDI!$G$17,IF(AND(#REF!=\"Diferenciado\",$H$4=#REF!),BDI!$H$17,IF(#REF!=\"ZERO\",0))))),\"\")","v":{"$error":"#REF!"}},"",""]
["SF-00785","Lixadeira e politriz angular 7’’/9’’","un",0,"","",{"$f":"IF(A790<>\"\",IF(AND(#REF!=\"Padrão\",$H$4=#REF!),BDI!$B$17,IF(AND(#REF!=\"Padrão\",$H$4=#REF!),BDI!$C$17,IF(AND(#REF!=\"Diferenciado\",$H$4=#REF!),BDI!$G$17,IF(AND(#REF!=\"Diferenciado\",$H$4=#REF!),BDI!$H$17,IF(#REF!=\"ZERO\",0))))),\"\")","v":{"$error":"#REF!"}},"",""]
["SF-00786","Lixadeira Excêntrica","un",0,"","",{"$f":"IF(A791<>\"\",IF(AND(#REF!=\"Padrão\",$H$4=#REF!),BDI!$B$17,IF(AND(#REF!=\"Padrão\",$H$4=#REF!),BDI!$C$17,IF(AND(#REF!=\"Diferenciado\",$H$4=#REF!),BDI!$G$17,IF(AND(#REF!=\"Diferenciado\",$H$4=#REF!),BDI!$H$17,IF(#REF!=\"ZERO\",0))))),\"\")","v":{"$error":"#REF!"}},"",""]
["SF-00787","Lixadeira Fita","un",0,"","",{"$f":"IF(A792<>\"\",IF(AND(#REF!=\"Padrão\",$H$4=#REF!),BDI!$B$17,IF(AND(#REF!=\"Padrão\",$H$4=#REF!),BDI!$C$17,IF(AND(#REF!=\"Diferenciado\",$H$4=#REF!),BDI!$G$17,IF(AND(#REF!=\"Diferenciado\",$H$4=#REF!),BDI!$H$17,IF(#REF!=\"ZERO\",0))))),\"\")","v":{"$error":"#REF!"}},"",""]
["SF-00788","Lixadeira orbital","un",0,"","",{"$f":"IF(A793<>\"\",IF(AND(#REF!=\"Padrão\",$H$4=#REF!),BDI!$B$17,IF(AND(#REF!=\"Padrão\",$H$4=#REF!),BDI!$C$17,IF(AND(#REF!=\"Diferenciado\",$H$4=#REF!),BDI!$G$17,IF(AND(#REF!=\"Diferenciado\",$H$4=#REF!),BDI!$H$17,IF(#REF!=\"ZERO\",0))))),\"\")","v":{"$error":"#REF!"}},"",""]
["SF-00789","Pinador e Grampeador Pneumático","un",0,"","",{"$f":"IF(A794<>\"\",IF(AND(#REF!=\"Padrão\",$H$4=#REF!),BDI!$B$17,IF(AND(#REF!=\"Padrão\",$H$4=#REF!),BDI!$C$17,IF(AND(#REF!=\"Diferenciado\",$H$4=#REF!),BDI!$G$17,IF(AND(#REF!=\"Diferenciado\",$H$4=#REF!),BDI!$H$17,IF(#REF!=\"ZERO\",0))))),\"\")","v":{"$error":"#REF!"}},"",""]
["SF-00790","Plaina desempenadeira","un",0,"","",{"$f":"IF(A795<>\"\",IF(AND(#REF!=\"Padrão\",$H$4=#REF!),BDI!$B$17,IF(AND(#REF!=\"Padrão\",$H$4=#REF!),BDI!$C$17,IF(AND(#REF!=\"Diferenciado\",$H$4=#REF!),BDI!$G$17,IF(AND(#REF!=\"Diferenciado\",$H$4=#REF!),BDI!$H$17,IF(#REF!=\"ZERO\",0))))),\"\")","v":{"$error":"#REF!"}},"",""]
["SF-00791","Plaina desengrossadeira","un",0,"","",{"$f":"IF(A796<>\"\",IF(AND(#REF!=\"Padrão\",$H$4=#REF!),BDI!$B$17,IF(AND(#REF!=\"Padrão\",$H$4=#REF!),BDI!$C$17,IF(AND(#REF!=\"Diferenciado\",$H$4=#REF!),BDI!$G$17,IF(AND(#REF!=\"Diferenciado\",$H$4=#REF!),BDI!$H$17,IF(#REF!=\"ZERO\",0))))),\"\")","v":{"$error":"#REF!"}},"",""]
["SF-00792","Plaina elétrica","un",0,"","",{"$f":"IF(A797<>\"\",IF(AND(#REF!=\"Padrão\",$H$4=#REF!),BDI!$B$17,IF(AND(#REF!=\"Padrão\",$H$4=#REF!),BDI!$C$17,IF(AND(#REF!=\"Diferenciado\",$H$4=#REF!),BDI!$G$17,IF(AND(#REF!=\"Diferenciado\",$H$4=#REF!),BDI!$H$17,IF(#REF!=\"ZERO\",0))))),\"\")","v":{"$error":"#REF!"}},"",""]
["SF-00793","Plaina manual No. 5","un",0,"","",{"$f":"IF(A798<>\"\",IF(AND(#REF!=\"Padrão\",$H$4=#REF!),BDI!$B$17,IF(AND(#REF!=\"Padrão\",$H$4=#REF!),BDI!$C$17,IF(AND(#REF!=\"Diferenciado\",$H$4=#REF!),BDI!$G$17,IF(AND(#REF!=\"Diferenciado\",$H$4=#REF!),BDI!$H$17,IF(#REF!=\"ZERO\",0))))),\"\")","v":{"$error":"#REF!"}},"",""]
["SF-00794","Policorte 14’’ 2000 W","un",0,"","",{"$f":"IF(A799<>\"\",IF(AND(#REF!=\"Padrão\",$H$4=#REF!),BDI!$B$17,IF(AND(#REF!=\"Padrão\",$H$4=#REF!),BDI!$C$17,IF(AND(#REF!=\"Diferenciado\",$H$4=#REF!),BDI!$G$17,IF(AND(#REF!=\"Diferenciado\",$H$4=#REF!),BDI!$H$17,IF(#REF!=\"ZERO\",0))))),\"\")","v":{"$error":"#REF!"}},"",""]
["SF-00795","Raspador manual para madeira","un",0,"","",{"$f":"IF(A800<>\"\",IF(AND(#REF!=\"Padrão\",$H$4=#REF!),BDI!$B$17,IF(AND(#REF!=\"Padrão\",$H$4=#REF!),BDI!$C$17,IF(AND(#REF!=\"Diferenciado\",$H$4=#REF!),BDI!$G$17,IF(AND(#REF!=\"Diferenciado\",$H$4=#REF!),BDI!$H$17,IF(#REF!=\"ZERO\",0))))),\"\")","v":{"$error":"#REF!"}},"",""]
["SF-00796","Serra meia esquadria","un",0,"","",{"$f":"IF(A801<>\"\",IF(AND(#REF!=\"Padrão\",$H$4=#REF!),BDI!$B$17,IF(AND(#REF!=\"Padrão\",$H$4=#REF!),BDI!$C$17,IF(AND(#REF!=\"Diferenciado\",$H$4=#REF!),BDI!$G$17,IF(AND(#REF!=\"Diferenciado\",$H$4=#REF!),BDI!$H$17,IF(#REF!=\"ZERO\",0))))),\"\")","v":{"$error":"#REF!"}},"",""]
["SF-00797","Serra Meia Esquadria Radial","un",0,"","",{"$f":"IF(A802<>\"\",IF(AND(#REF!=\"Padrão\",$H$4=#REF!),BDI!$B$17,IF(AND(#REF!=\"Padrão\",$H$4=#REF!),BDI!$C$17,IF(AND(#REF!=\"Diferenciado\",$H$4=#REF!),BDI!$G$17,IF(AND(#REF!=\"Diferenciado\",$H$4=#REF!),BDI!$H$17,IF(#REF!=\"ZERO\",0))))),\"\")","v":{"$error":"#REF!"}},"",""]
["SF-00798","Serra tico-tico com controle de velocidade","un",0,"","",{"$f":"IF(A803<>\"\",IF(AND(#REF!=\"Padrão\",$H$4=#REF!),BDI!$B$17,IF(AND(#REF!=\"Padrão\",$H$4=#REF!),BDI!$C$17,IF(AND(#REF!=\"Diferenciado\",$H$4=#REF!),BDI!$G$17,IF(AND(#REF!=\"Diferenciado\",$H$4=#REF!),BDI!$H$17,IF(#REF!=\"ZERO\",0))))),\"\")","v":{"$error":"#REF!"}},"",""]
["SF-00799","Torno para Madeira com Copiador","un",0,"","",{"$f":"IF(A804<>\"\",IF(AND(#REF!=\"Padrão\",$H$4=#REF!),BDI!$B$17,IF(AND(#REF!=\"Padrão\",$H$4=#REF!),BDI!$C$17,IF(AND(#REF!=\"Diferenciado\",$H$4=#REF!),BDI!$G$17,IF(AND(#REF!=\"Diferenciado\",$H$4=#REF!),BDI!$H$17,IF(#REF!=\"ZERO\",0))))),\"\")","v":{"$error":"#REF!"}},"",""]
["SF-00800","Tupia de Coluna","un",0,"","",{"$f":"IF(A805<>\"\",IF(AND(#REF!=\"Padrão\",$H$4=#REF!),BDI!$B$17,IF(AND(#REF!=\"Padrão\",$H$4=#REF!),BDI!$C$17,IF(AND(#REF!=\"Diferenciado\",$H$4=#REF!),BDI!$G$17,IF(AND(#REF!=\"Diferenciado\",$H$4=#REF!),BDI!$H$17,IF(#REF!=\"ZERO\",0))))),\"\")","v":{"$error":"#REF!"}},"",""]
["SF-00801","Tupia de Laminação","un",0,"","",{"$f":"IF(A806<>\"\",IF(AND(#REF!=\"Padrão\",$H$4=#REF!),BDI!$B$17,IF(AND(#REF!=\"Padrão\",$H$4=#REF!),BDI!$C$17,IF(AND(#REF!=\"Diferenciado\",$H$4=#REF!),BDI!$G$17,IF(AND(#REF!=\"Diferenciado\",$H$4=#REF!),BDI!$H$17,IF(#REF!=\"ZERO\",0))))),\"\")","v":{"$error":"#REF!"}},"",""]
["SF-00802","Tupia Estacionária Refiladora de Borda Pinça","un",0,"","",{"$f":"IF(A807<>\"\",IF(AND(#REF!=\"Padrão\",$H$4=#REF!),BDI!$B$17,IF(AND(#REF!=\"Padrão\",$H$4=#REF!),BDI!$C$17,IF(AND(#REF!=\"Diferenciado\",$H$4=#REF!),BDI!$G$17,IF(AND(#REF!=\"Diferenciado\",$H$4=#REF!),BDI!$H$17,IF(#REF!=\"ZERO\",0))))),\"\")","v":{"$error":"#REF!"}},"",""]
["SF-00803","Calandra de chapas motorizada","un",0,"","",{"$f":"IF(A808<>\"\",IF(AND(#REF!=\"Padrão\",$H$4=#REF!),BDI!$B$17,IF(AND(#REF!=\"Padrão\",$H$4=#REF!),BDI!$C$17,IF(AND(#REF!=\"Diferenciado\",$H$4=#REF!),BDI!$G$17,IF(AND(#REF!=\"Diferenciado\",$H$4=#REF!),BDI!$H$17,IF(#REF!=\"ZERO\",0))))),\"\")","v":{"$error":"#REF!"}},"",""]
["SF-00804","Calandra de tubos e perfis motorizada","un",0,"","",{"$f":"IF(A809<>\"\",IF(AND(#REF!=\"Padrão\",$H$4=#REF!),BDI!$B$17,IF(AND(#REF!=\"Padrão\",$H$4=#REF!),BDI!$C$17,IF(AND(#REF!=\"Diferenciado\",$H$4=#REF!),BDI!$G$17,IF(AND(#REF!=\"Diferenciado\",$H$4=#REF!),BDI!$H$17,IF(#REF!=\"ZERO\",0))))),\"\")","v":{"$error":"#REF!"}},"",""]
["SF-00805","Conjunto de Solda Mig 250A","un",0,"","",{"$f":"IF(A810<>\"\",IF(AND(#REF!=\"Padrão\",$H$4=#REF!),BDI!$B$17,IF(AND(#REF!=\"Padrão\",$H$4=#REF!),BDI!$C$17,IF(AND(#REF!=\"Diferenciado\",$H$4=#REF!),BDI!$G$17,IF(AND(#REF!=\"Diferenciado\",$H$4=#REF!),BDI!$H$17,IF(#REF!=\"ZERO\",0))))),\"\")","v":{"$error":"#REF!"}},"",""]
["SF-00806","Maçarico para gás GLP","un",0,"","",{"$f":"IF(A811<>\"\",IF(AND(#REF!=\"Padrão\",$H$4=#REF!),BDI!$B$17,IF(AND(#REF!=\"Padrão\",$H$4=#REF!),BDI!$C$17,IF(AND(#REF!=\"Diferenciado\",$H$4=#REF!),BDI!$G$17,IF(AND(#REF!=\"Diferenciado\",$H$4=#REF!),BDI!$H$17,IF(#REF!=\"ZERO\",0))))),\"\")","v":{"$error":"#REF!"}},"",""]
["SF-00807","Máquina de solda inversora AC/DC 180 A 220 Volts","un",0,"","",{"$f":"IF(A812<>\"\",IF(AND(#REF!=\"Padrão\",$H$4=#REF!),BDI!$B$17,IF(AND(#REF!=\"Padrão\",$H$4=#REF!),BDI!$C$17,IF(AND(#REF!=\"Diferenciado\",$H$4=#REF!),BDI!$G$17,IF(AND(#REF!=\"Diferenciado\",$H$4=#REF!),BDI!$H$17,IF(#REF!=\"ZERO\",0))))),\"\")","v":{"$error":"#REF!"}},"",""]
["SF-00808","Betoneira monofásica 400 litros","un",0,"","",{"$f":"IF(A813<>\"\",IF(AND(#REF!=\"Padrão\",$H$4=#REF!),BDI!$B$17,IF(AND(#REF!=\"Padrão\",$H$4=#REF!),BDI!$C$17,IF(AND(#REF!=\"Diferenciado\",$H$4=#REF!),BDI!$G$17,IF(AND(#REF!=\"Diferenciado\",$H$4=#REF!),BDI!$H$17,IF(#REF!=\"ZERO\",0))))),\"\")","v":{"$error":"#REF!"}},"",""]
["SF-00809","Broxa Retangular","un",0,"","",{"$f":"IF(A814<>\"\",IF(AND(#REF!=\"Padrão\",$H$4=#REF!),BDI!$B$17,IF(AND(#REF!=\"Padrão\",$H$4=#REF!),BDI!$C$17,IF(AND(#REF!=\"Diferenciado\",$H$4=#REF!),BDI!$G$17,IF(AND(#REF!=\"Diferenciado\",$H$4=#REF!),BDI!$H$17,IF(#REF!=\"ZERO\",0))))),\"\")","v":{"$error":"#REF!"}},"",""]
["SF-00810","Caixa plástica para massas (masseira) 20 L","un",0,"","",{"$f":"IF(A815<>\"\",IF(AND(#REF!=\"Padrão\",$H$4=#REF!),BDI!$B$17,IF(AND(#REF!=\"Padrão\",$H$4=#REF!),BDI!$C$17,IF(AND(#REF!=\"Diferenciado\",$H$4=#REF!),BDI!$G$17,IF(AND(#REF!=\"Diferenciado\",$H$4=#REF!),BDI!$H$17,IF(#REF!=\"ZERO\",0))))),\"\")","v":{"$error":"#REF!"}},"",""]
["SF-00811","Colher de pedreiro 9\"","un",0,"","",{"$f":"IF(A816<>\"\",IF(AND(#REF!=\"Padrão\",$H$4=#REF!),BDI!$B$17,IF(AND(#REF!=\"Padrão\",$H$4=#REF!),BDI!$C$17,IF(AND(#REF!=\"Diferenciado\",$H$4=#REF!),BDI!$G$17,IF(AND(#REF!=\"Diferenciado\",$H$4=#REF!),BDI!$H$17,IF(#REF!=\"ZERO\",0))))),\"\")","v":{"$error":"#REF!"}},"",""]
["SF-00812","Compactador de percussão elétrico monofásico 3 CV","un",0,"","",{"$f":"IF(A817<>\"\",IF(AND(#REF!=\"Padrão\",$H$4=#REF!),BDI!$B$17,IF(AND(#REF!=\"Padrão\",$H$4=#REF!),BDI!$C$17,IF(AND(#REF!=\"Diferenciado\",$H$4=#REF!),BDI!$G$17,IF(AND(#REF!=\"Diferenciado\",$H$4=#REF!),BDI!$H$17,IF(#REF!=\"ZERO\",0))))),\"\")","v":{"$error":"#REF!"}},"",""]
["SF-00813","Desempenadeira de aço dentada","un",0,"","",{"$f":"IF(A818<>\"\",IF(AND(#REF!=\"Padrão\",$H$4=#REF!),BDI!$B$17,IF(AND(#REF!=\"Padrão\",$H$4=#REF!),BDI!$C$17,IF(AND(#REF!=\"Diferenciado\",$H$4=#REF!),BDI!$G$17,IF(AND(#REF!=\"Diferenciado\",$H$4=#REF!),BDI!$H$17,IF(#REF!=\"ZERO\",0))))),\"\")","v":{"$error":"#REF!"}},"",""]
["SF-00814","Desempenadeira de aço lisa","un",0,"","",{"$f":"IF(A819<>\"\",IF(AND(#REF!=\"Padrão\",$H$4=#REF!),BDI!$B$17,IF(AND(#REF!=\"Padrão\",$H$4=#REF!),BDI!$C$17,IF(AND(#REF!=\"Diferenciado\",$H$4=#REF!),BDI!$G$17,IF(AND(#REF!=\"Diferenciado\",$H$4=#REF!),BDI!$H$17,IF(#REF!=\"ZERO\",0))))),\"\")","v":{"$error":"#REF!"}},"",""]
["SF-00815","Desempenadeira estriada em PVC 14 x 27 cm","un",0,"","",{"$f":"IF(A820<>\"\",IF(AND(#REF!=\"Padrão\",$H$4=#REF!),BDI!$B$17,IF(AND(#REF!=\"Padrão\",$H$4=#REF!),BDI!$C$17,IF(AND(#REF!=\"Diferenciado\",$H$4=#REF!),BDI!$G$17,IF(AND(#REF!=\"Diferenciado\",$H$4=#REF!),BDI!$H$17,IF(#REF!=\"ZERO\",0))))),\"\")","v":{"$error":"#REF!"}},"",""]
["SF-00816","Desempenadeira lisa em PVC 18 x 30 cm","un",0,"","",{"$f":"IF(A821<>\"\",IF(AND(#REF!=\"Padrão\",$H$4=#REF!),BDI!$B$17,IF(AND(#REF!=\"Padrão\",$H$4=#REF!),BDI!$C$17,IF(AND(#REF!=\"Diferenciado\",$H$4=#REF!),BDI!$G$17,IF(AND(#REF!=\"Diferenciado\",$H$4=#REF!),BDI!$H$17,IF(#REF!=\"ZERO\",0))))),\"\")","v":{"$error":"#REF!"}},"",""]
["SF-00817","Martelete demolidor 1,7 kW (12 kg)","un",0,"","",{"$f":"IF(A822<>\"\",IF(AND(#REF!=\"Padrão\",$H$4=#REF!),BDI!$B$17,IF(AND(#REF!=\"Padrão\",$H$4=#REF!),BDI!$C$17,IF(AND(#REF!=\"Diferenciado\",$H$4=#REF!),BDI!$G$17,IF(AND(#REF!=\"Diferenciado\",$H$4=#REF!),BDI!$H$17,IF(#REF!=\"ZERO\",0))))),\"\")","v":{"$error":"#REF!"}},"",""]
["SF-00818","Martelete demolidor 2kW (30 kg)","un",0,"","",{"$f":"IF(A823<>\"\",IF(AND(#REF!=\"Padrão\",$H$4=#REF!),BDI!$B$17,IF(AND(#REF!=\"Padrão\",$H$4=#REF!),BDI!$C$17,IF(AND(#REF!=\"Diferenciado\",$H$4=#REF!),BDI!$G$17,IF(AND(#REF!=\"Diferenciado\",$H$4=#REF!),BDI!$H$17,IF(#REF!=\"ZERO\",0))))),\"\")","v":{"$error":"#REF!"}},"",""]
["SF-00819","Rolo lã de carneiro 23cm com suporte","un",0,"","",{"$f":"IF(A824<>\"\",IF(AND(#REF!=\"Padrão\",$H$4=#REF!),BDI!$B$17,IF(AND(#REF!=\"Padrão\",$H$4=#REF!),BDI!$C$17,IF(AND(#REF!=\"Diferenciado\",$H$4=#REF!),BDI!$G$17,IF(AND(#REF!=\"Diferenciado\",$H$4=#REF!),BDI!$H$17,IF(#REF!=\"ZERO\",0))))),\"\")","v":{"$error":"#REF!"}},"",""]
["SF-00820","Trado perfurador para terra manual 25 cm","un",0,"","",{"$f":"IF(A825<>\"\",IF(AND(#REF!=\"Padrão\",$H$4=#REF!),BDI!$B$17,IF(AND(#REF!=\"Padrão\",$H$4=#REF!),BDI!$C$17,IF(AND(#REF!=\"Diferenciado\",$H$4=#REF!),BDI!$G$17,IF(AND(#REF!=\"Diferenciado\",$H$4=#REF!),BDI!$H$17,IF(#REF!=\"ZERO\",0))))),\"\")","v":{"$error":"#REF!"}},"",""]
["SF-00821","Plataforma de trabalho aéreo articulada","dia",15,521.66999999999996,7825.0499999999993,{"$f":"BDI!$H$17","v":0.1671},608.84,9132.6]
["SF-00822","Relógio Biométrico","un",0,"","",{"$f":"IF(A827<>\"\",IF(AND(#REF!=\"Padrão\",$H$4=#REF!),BDI!$B$17,IF(AND(#REF!=\"Padrão\",$H$4=#REF!),BDI!$C$17,IF(AND(#REF!=\"Diferenciado\",$H$4=#REF!),BDI!$G$17,IF(AND(#REF!=\"Diferenciado\",$H$4=#REF!),BDI!$H$17,IF(#REF!=\"ZERO\",0))))),\"\")","v":{"$error":"#REF!"}},"",""]
["SF-00823","Camisa polo manga curta com logotipo da empresa na frente e indicação da categoria profissional nas costas","pç",0,"","",{"$f":"IF(A828<>\"\",IF(AND(#REF!=\"Padrão\",$H$4=#REF!),BDI!$B$17,IF(AND(#REF!=\"Padrão\",$H$4=#REF!),BDI!$C$17,IF(AND(#REF!=\"Diferenciado\",$H$4=#REF!),BDI!$G$17,IF(AND(#REF!=\"Diferenciado\",$H$4=#REF!),BDI!$H$17,IF(#REF!=\"ZERO\",0))))),\"\")","v":{"$error":"#REF!"}},"",""]
["SF-00824","Camisa polo manga longa com logotipo da empresa na frente e indicação da categoria profissional nas costas","pç",0,"","",{"$f":"IF(A829<>\"\",IF(AND(#REF!=\"Padrão\",$H$4=#REF!),BDI!$B$17,IF(AND(#REF!=\"Padrão\",$H$4=#REF!),BDI!$C$17,IF(AND(#REF!=\"Diferenciado\",$H$4=#REF!),BDI!$G$17,IF(AND(#REF!=\"Diferenciado\",$H$4=#REF!),BDI!$H$17,IF(#REF!=\"ZERO\",0))))),\"\")","v":{"$error":"#REF!"}},"",""]
["SF-00825","Calças de material resistente e cor escura","pç",0,"","",{"$f":"IF(A830<>\"\",IF(AND(#REF!=\"Padrão\",$H$4=#REF!),BDI!$B$17,IF(AND(#REF!=\"Padrão\",$H$4=#REF!),BDI!$C$17,IF(AND(#REF!=\"Diferenciado\",$H$4=#REF!),BDI!$G$17,IF(AND(#REF!=\"Diferenciado\",$H$4=#REF!),BDI!$H$17,IF(#REF!=\"ZERO\",0))))),\"\")","v":{"$error":"#REF!"}},"",""]
["SF-00826","Gorros com pala (boné) na mesma cor da camisa","pç",0,"","",{"$f":"IF(A831<>\"\",IF(AND(#REF!=\"Padrão\",$H$4=#REF!),BDI!$B$17,IF(AND(#REF!=\"Padrão\",$H$4=#REF!),BDI!$C$17,IF(AND(#REF!=\"Diferenciado\",$H$4=#REF!),BDI!$G$17,IF(AND(#REF!=\"Diferenciado\",$H$4=#REF!),BDI!$H$17,IF(#REF!=\"ZERO\",0))))),\"\")","v":{"$error":"#REF!"}},"",""]
["SF-00827","Bota com solado de borracha","par",0,"","",{"$f":"IF(A832<>\"\",IF(AND(#REF!=\"Padrão\",$H$4=#REF!),BDI!$B$17,IF(AND(#REF!=\"Padrão\",$H$4=#REF!),BDI!$C$17,IF(AND(#REF!=\"Diferenciado\",$H$4=#REF!),BDI!$G$17,IF(AND(#REF!=\"Diferenciado\",$H$4=#REF!),BDI!$H$17,IF(#REF!=\"ZERO\",0))))),\"\")","v":{"$error":"#REF!"}},"",""]
["SF-00828","Bota de borracha de cano longo","par",0,"","",{"$f":"IF(A833<>\"\",IF(AND(#REF!=\"Padrão\",$H$4=#REF!),BDI!$B$17,IF(AND(#REF!=\"Padrão\",$H$4=#REF!),BDI!$C$17,IF(AND(#REF!=\"Diferenciado\",$H$4=#REF!),BDI!$G$17,IF(AND(#REF!=\"Diferenciado\",$H$4=#REF!),BDI!$H$17,IF(#REF!=\"ZERO\",0))))),\"\")","v":{"$error":"#REF!"}},"",""]
["SF-00829","Capa de chuva","pç",0,"","",{"$f":"IF(A834<>\"\",IF(AND(#REF!=\"Padrão\",$H$4=#REF!),BDI!$B$17,IF(AND(#REF!=\"Padrão\",$H$4=#REF!),BDI!$C$17,IF(AND(#REF!=\"Diferenciado\",$H$4=#REF!),BDI!$G$17,IF(AND(#REF!=\"Diferenciado\",$H$4=#REF!),BDI!$H$17,IF(#REF!=\"ZERO\",0))))),\"\")","v":{"$error":"#REF!"}},"",""]
["SF-00830","Capacete de segurança","pç",0,"","",{"$f":"IF(A835<>\"\",IF(AND(#REF!=\"Padrão\",$H$4=#REF!),BDI!$B$17,IF(AND(#REF!=\"Padrão\",$H$4=#REF!),BDI!$C$17,IF(AND(#REF!=\"Diferenciado\",$H$4=#REF!),BDI!$G$17,IF(AND(#REF!=\"Diferenciado\",$H$4=#REF!),BDI!$H$17,IF(#REF!=\"ZERO\",0))))),\"\")","v":{"$error":"#REF!"}},"",""]
["SF-00831","Cinto de segurança tipo paraquedista","pç",0,"","",{"$f":"IF(A836<>\"\",IF(AND(#REF!=\"Padrão\",$H$4=#REF!),BDI!$B$17,IF(AND(#REF!=\"Padrão\",$H$4=#REF!),BDI!$C$17,IF(AND(#REF!=\"Diferenciado\",$H$4=#REF!),BDI!$G$17,IF(AND(#REF!=\"Diferenciado\",$H$4=#REF!),BDI!$H$17,IF(#REF!=\"ZERO\",0))))),\"\")","v":{"$error":"#REF!"}},"",""]
["SF-00832","Lanterna profissional","pç",0,"","",{"$f":"IF(A837<>\"\",IF(AND(#REF!=\"Padrão\",$H$4=#REF!),BDI!$B$17,IF(AND(#REF!=\"Padrão\",$H$4=#REF!),BDI!$C$17,IF(AND(#REF!=\"Diferenciado\",$H$4=#REF!),BDI!$G$17,IF(AND(#REF!=\"Diferenciado\",$H$4=#REF!),BDI!$H$17,IF(#REF!=\"ZERO\",0))))),\"\")","v":{"$error":"#REF!"}},"",""]
["SF-00833","Lanterna para capacete","pç",0,"","",{"$f":"IF(A838<>\"\",IF(AND(#REF!=\"Padrão\",$H$4=#REF!),BDI!$B$17,IF(AND(#REF!=\"Padrão\",$H$4=#REF!),BDI!$C$17,IF(AND(#REF!=\"Diferenciado\",$H$4=#REF!),BDI!$G$17,IF(AND(#REF!=\"Diferenciado\",$H$4=#REF!),BDI!$H$17,IF(#REF!=\"ZERO\",0))))),\"\")","v":{"$error":"#REF!"}},"",""]
["SF-00834","Luva de borracha","par",0,"",{"$f":"IF(ISNUMBER(E839),D839*E839,\"\")","v":""},{"$f":"IF(A839<>\"\",IF(AND(#REF!=\"Padrão\",$H$4=#REF!),BDI!$B$17,IF(AND(#REF!=\"Padrão\",$H$4=#REF!),BDI!$C$17,IF(AND(#REF!=\"Diferenciado\",$H$4=#REF!),BDI!$G$17,IF(AND(#REF!=\"Diferenciado\",$H$4=#REF!),BDI!$H$17,IF(#REF!=\"ZERO\",0))))),\"\")","v":{"$error":"#REF!"}},{"$f":"IF(ISNUMBER(E839),ROUND(E839*(1+G839),2),\"\")","v":""},{"$f":"IF(ISNUMBER(E839),ROUND(H839*D839,2),\"\")","v":""}]
["SF-00835","Máscara de proteção respiratória com válvula e com película de carbono FFP2","pç",0,"","",{"$f":"IF(A840<>\"\",IF(AND(#REF!=\"Padrão\",$H$4=#REF!),BDI!$B$17,IF(AND(#REF!=\"Padrão\",$H$4=#REF!),BDI!$C$17,IF(AND(#REF!=\"Diferenciado\",$H$4=#REF!),BDI!$G$17,IF(AND(#REF!=\"Diferenciado\",$H$4=#REF!),BDI!$H$17,IF(#REF!=\"ZERO\",0))))),\"\")","v":{"$error":"#REF!"}},"",""]
["SF-00836","Óculos de segurança com proteção lateral total","pç",0,"","",{"$f":"IF(A841<>\"\",IF(AND(#REF!=\"Padrão\",$H$4=#REF!),BDI!$B$17,IF(AND(#REF!=\"Padrão\",$H$4=#REF!),BDI!$C$17,IF(AND(#REF!=\"Diferenciado\",$H$4=#REF!),BDI!$G$17,IF(AND(#REF!=\"Diferenciado\",$H$4=#REF!),BDI!$H$17,IF(#REF!=\"ZERO\",0))))),\"\")","v":{"$error":"#REF!"}},"",""]
["SF-00837","Protetor auditivo flexível de inserção","pç",0,"","",{"$f":"IF(A842<>\"\",IF(AND(#REF!=\"Padrão\",$H$4=#REF!),BDI!$B$17,IF(AND(#REF!=\"Padrão\",$H$4=#REF!),BDI!$C$17,IF(AND(#REF!=\"Diferenciado\",$H$4=#REF!),BDI!$G$17,IF(AND(#REF!=\"Diferenciado\",$H$4=#REF!),BDI!$H$17,IF(#REF!=\"ZERO\",0))))),\"\")","v":{"$error":"#REF!"}},"",""]
["SF-00838","Protetor Facial","pç",0,"","",{"$f":"IF(A843<>\"\",IF(AND(#REF!=\"Padrão\",$H$4=#REF!),BDI!$B$17,IF(AND(#REF!=\"Padrão\",$H$4=#REF!),BDI!$C$17,IF(AND(#REF!=\"Diferenciado\",$H$4=#REF!),BDI!$G$17,IF(AND(#REF!=\"Diferenciado\",$H$4=#REF!),BDI!$H$17,IF(#REF!=\"ZERO\",0))))),\"\")","v":{"$error":"#REF!"}},"",""]
["SF-00839","Talabarte de Posicionamento (Restrição de Movimento)","pç",0,"","",{"$f":"IF(A844<>\"\",IF(AND(#REF!=\"Padrão\",$H$4=#REF!),BDI!$B$17,IF(AND(#REF!=\"Padrão\",$H$4=#REF!),BDI!$C$17,IF(AND(#REF!=\"Diferenciado\",$H$4=#REF!),BDI!$G$17,IF(AND(#REF!=\"Diferenciado\",$H$4=#REF!),BDI!$H$17,IF(#REF!=\"ZERO\",0))))),\"\")","v":{"$error":"#REF!"}},"",""]
["SF-00840","Talabarte em Y","pç",0,"","",{"$f":"IF(A845<>\"\",IF(AND(#REF!=\"Padrão\",$H$4=#REF!),BDI!$B$17,IF(AND(#REF!=\"Padrão\",$H$4=#REF!),BDI!$C$17,IF(AND(#REF!=\"Diferenciado\",$H$4=#REF!),BDI!$G$17,IF(AND(#REF!=\"Diferenciado\",$H$4=#REF!),BDI!$H$17,IF(#REF!=\"ZERO\",0))))),\"\")","v":{"$error":"#REF!"}},"",""]
["SF-00841","Travaquedas Deslizante Para Corda","pç",0,"","",{"$f":"IF(A846<>\"\",IF(AND(#REF!=\"Padrão\",$H$4=#REF!),BDI!$B$17,IF(AND(#REF!=\"Padrão\",$H$4=#REF!),BDI!$C$17,IF(AND(#REF!=\"Diferenciado\",$H$4=#REF!),BDI!$G$17,IF(AND(#REF!=\"Diferenciado\",$H$4=#REF!),BDI!$H$17,IF(#REF!=\"ZERO\",0))))),\"\")","v":{"$error":"#REF!"}},"",""]
["SF-00842","Travaquedas Deslizante Para Cabo de Aço","pç",0,"","",{"$f":"IF(A847<>\"\",IF(AND(#REF!=\"Padrão\",$H$4=#REF!),BDI!$B$17,IF(AND(#REF!=\"Padrão\",$H$4=#REF!),BDI!$C$17,IF(AND(#REF!=\"Diferenciado\",$H$4=#REF!),BDI!$G$17,IF(AND(#REF!=\"Diferenciado\",$H$4=#REF!),BDI!$H$17,IF(#REF!=\"ZERO\",0))))),\"\")","v":{"$error":"#REF!"}},"",""]
["SF-00843","Uniforme Antichamas de Proteção Contra Arcos Elétricos","pç",0,"","",{"$f":"IF(A848<>\"\",IF(AND(#REF!=\"Padrão\",$H$4=#REF!),BDI!$B$17,IF(AND(#REF!=\"Padrão\",$H$4=#REF!),BDI!$C$17,IF(AND(#REF!=\"Diferenciado\",$H$4=#REF!),BDI!$G$17,IF(AND(#REF!=\"Diferenciado\",$H$4=#REF!),BDI!$H$17,IF(#REF!=\"ZERO\",0))))),\"\")","v":{"$error":"#REF!"}},"",""]
["SF-00844","Instalação de vidro (comum, temperado, aramado ou laminado) reaproveitado","m2",0,{"$f":"OFFSET(INDEX(Composições!A:J,MATCH(Orçamentária!A849,Composições!A:A,0),8),2,0)","v":34.032799999999995},0,{"$f":"IF(A849<>\"\",IF(AND(#REF!=\"Padrão\",$H$4=#REF!),BDI!$B$17,IF(AND(#REF!=\"Padrão\",$H$4=#REF!),BDI!$C$17,IF(AND(#REF!=\"Diferenciado\",$H$4=#REF!),BDI!$G$17,IF(AND(#REF!=\"Diferenciado\",$H$4=#REF!),BDI!$H$17,IF(#REF!=\"ZERO\",0))))),\"\")","v":{"$error":"#REF!"}},{"$error":"#REF!"},{"$error":"#REF!"}]
["SF-00845","Vidro temperado incolor com 8mm de espessura","m2",0,{"$f":"OFFSET(INDEX(Composições!A:J,MATCH(Orçamentária!A850,Composições!A:A,0),8),2,0)","v":153.20079999999999},0,{"$f":"IF(A850<>\"\",IF(AND(#REF!=\"Padrão\",$H$4=#REF!),BDI!$B$17,IF(AND(#REF!=\"Padrão\",$H$4=#REF!),BDI!$C$17,IF(AND(#REF!=\"Diferenciado\",$H$4=#REF!),BDI!$G$17,IF(AND(#REF!=\"Diferenciado\",$H$4=#REF!),BDI!$H$17,IF(#REF!=\"ZERO\",0))))),\"\")","v":{"$error":"#REF!"}},{"$error":"#REF!"},{"$error":"#REF!"}]
["SF-00846","Vidro liso comum transparente 5mm","m2",0,{"$f":"OFFSET(INDEX(Composições!A:J,MATCH(Orçamentária!A851,Composições!A:A,0),8),2,0)","v":129.64175},0,{"$f":"IF(A851<>\"\",IF(AND(#REF!=\"Padrão\",$H$4=#REF!),BDI!$B$17,IF(AND(#REF!=\"Padrão\",$H$4=#REF!),BDI!$C$17,IF(AND(#REF!=\"Diferenciado\",$H$4=#REF!),BDI!$G$17,IF(AND(#REF!=\"Diferenciado\",$H$4=#REF!),BDI!$H$17,IF(#REF!=\"ZERO\",0))))),\"\")","v":{"$error":"#REF!"}},{"$error":"#REF!"},{"$error":"#REF!"}]
["SF-00847","Corte em vidro ou espelho reaproveitado","m",0,{"$f":"OFFSET(INDEX(Composições!A:J,MATCH(Orçamentária!A852,Composições!A:A,0),8),2,0)","v":16.349499999999999},0,{"$f":"IF(A852<>\"\",IF(AND(#REF!=\"Padrão\",$H$4=#REF!),BDI!$B$17,IF(AND(#REF!=\"Padrão\",$H$4=#REF!),BDI!$C$17,IF(AND(#REF!=\"Diferenciado\",$H$4=#REF!),BDI!$G$17,IF(AND(#REF!=\"Diferenciado\",$H$4=#REF!),BDI!$H$17,IF(#REF!=\"ZERO\",0))))),\"\")","v":{"$error":"#REF!"}},{"$error":"#REF!"},{"$error":"#REF!"}]
["SF-00848","Lapidação de vidro / espelho reaproveitado","m",0,{"$f":"OFFSET(INDEX(Composições!A:J,MATCH(Orçamentária!A853,Composições!A:A,0),8),2,0)","v":24.524250000000002},0,{"$f":"IF(A853<>\"\",IF(AND(#REF!=\"Padrão\",$H$4=#REF!),BDI!$B$17,IF(AND(#REF!=\"Padrão\",$H$4=#REF!),BDI!$C$17,IF(AND(#REF!=\"Diferenciado\",$H$4=#REF!),BDI!$G$17,IF(AND(#REF!=\"Diferenciado\",$H$4=#REF!),BDI!$H$17,IF(#REF!=\"ZERO\",0))))),\"\")","v":{"$error":"#REF!"}},{"$error":"#REF!"},{"$error":"#REF!"}]
["SF-00849","Vidro temperado incolor com 10 mm de espessura","m2",0,{"$f":"OFFSET(INDEX(Composições!A:J,MATCH(Orçamentária!A854,Composições!A:A,0),8),2,0)","v":160.52625},0,{"$f":"IF(A854<>\"\",IF(AND(#REF!=\"Padrão\",$H$4=#REF!),BDI!$B$17,IF(AND(#REF!=\"Padrão\",$H$4=#REF!),BDI!$C$17,IF(AND(#REF!=\"Diferenciado\",$H$4=#REF!),BDI!$G$17,IF(AND(#REF!=\"Diferenciado\",$H$4=#REF!),BDI!$H$17,IF(#REF!=\"ZERO\",0))))),\"\")","v":{"$error":"#REF!"}},{"$error":"#REF!"},{"$error":"#REF!"}]
["SF-00850","Bucha para pivô de dobradiça para vidro temperado","un",0,{"$f":"OFFSET(INDEX(Composições!A:J,MATCH(Orçamentária!A855,Composições!A:A,0),8),2,0)","v":3.6717499999999994},0,{"$f":"IF(A855<>\"\",IF(AND(#REF!=\"Padrão\",$H$4=#REF!),BDI!$B$17,IF(AND(#REF!=\"Padrão\",$H$4=#REF!),BDI!$C$17,IF(AND(#REF!=\"Diferenciado\",$H$4=#REF!),BDI!$G$17,IF(AND(#REF!=\"Diferenciado\",$H$4=#REF!),BDI!$H$17,IF(#REF!=\"ZERO\",0))))),\"\")","v":{"$error":"#REF!"}},{"$error":"#REF!"},{"$error":"#REF!"}]
["SF-00851","Suporte para bandeira de vidro temperado, com ponto de giro para dobradiça","un",0,{"$f":"OFFSET(INDEX(Composições!A:J,MATCH(Orçamentária!A856,Composições!A:A,0),8),2,0)","v":5.4434999999999993},0,{"$f":"IF(A856<>\"\",IF(AND(#REF!=\"Padrão\",$H$4=#REF!),BDI!$B$17,IF(AND(#REF!=\"Padrão\",$H$4=#REF!),BDI!$C$17,IF(AND(#REF!=\"Diferenciado\",$H$4=#REF!),BDI!$G$17,IF(AND(#REF!=\"Diferenciado\",$H$4=#REF!),BDI!$H$17,IF(#REF!=\"ZERO\",0))))),\"\")","v":{"$error":"#REF!"}},{"$error":"#REF!"},{"$error":"#REF!"}]
["SF-00852","Suporte de canto, simples, para vidro temperado","un",0,{"$f":"OFFSET(INDEX(Composições!A:J,MATCH(Orçamentária!A857,Composições!A:A,0),8),2,0)","v":2.7217499999999997},0,{"$f":"IF(A857<>\"\",IF(AND(#REF!=\"Padrão\",$H$4=#REF!),BDI!$B$17,IF(AND(#REF!=\"Padrão\",$H$4=#REF!),BDI!$C$17,IF(AND(#REF!=\"Diferenciado\",$H$4=#REF!),BDI!$G$17,IF(AND(#REF!=\"Diferenciado\",$H$4=#REF!),BDI!$H$17,IF(#REF!=\"ZERO\",0))))),\"\")","v":{"$error":"#REF!"}},{"$error":"#REF!"},{"$error":"#REF!"}]
["SF-00853","Suporte de união, sem batedor, para dois ou três vidros temperados","un",0,{"$f":"OFFSET(INDEX(Composições!A:J,MATCH(Orçamentária!A858,Composições!A:A,0),8),2,0)","v":5.4434999999999993},0,{"$f":"IF(A858<>\"\",IF(AND(#REF!=\"Padrão\",$H$4=#REF!),BDI!$B$17,IF(AND(#REF!=\"Padrão\",$H$4=#REF!),BDI!$C$17,IF(AND(#REF!=\"Diferenciado\",$H$4=#REF!),BDI!$G$17,IF(AND(#REF!=\"Diferenciado\",$H$4=#REF!),BDI!$H$17,IF(#REF!=\"ZERO\",0))))),\"\")","v":{"$error":"#REF!"}},{"$error":"#REF!"},{"$error":"#REF!"}]
["SF-00854","Botão de correção para vidro temperado","un",0,{"$f":"OFFSET(INDEX(Composições!A:J,MATCH(Orçamentária!A859,Composições!A:A,0),8),2,0)","v":2.7217499999999997},0,{"$f":"IF(A859<>\"\",IF(AND(#REF!=\"Padrão\",$H$4=#REF!),BDI!$B$17,IF(AND(#REF!=\"Padrão\",$H$4=#REF!),BDI!$C$17,IF(AND(#REF!=\"Diferenciado\",$H$4=#REF!),BDI!$G$17,IF(AND(#REF!=\"Diferenciado\",$H$4=#REF!),BDI!$H$17,IF(#REF!=\"ZERO\",0))))),\"\")","v":{"$error":"#REF!"}},{"$error":"#REF!"},{"$error":"#REF!"}]
["SF-00855","Fechadura bico-de-papagaio, com furo, para vidro temperado","un",0,{"$f":"OFFSET(INDEX(Composições!A:J,MATCH(Orçamentária!A860,Composições!A:A,0),8),2,0)","v":7.258},0,{"$f":"IF(A860<>\"\",IF(AND(#REF!=\"Padrão\",$H$4=#REF!),BDI!$B$17,IF(AND(#REF!=\"Padrão\",$H$4=#REF!),BDI!$C$17,IF(AND(#REF!=\"Diferenciado\",$H$4=#REF!),BDI!$G$17,IF(AND(#REF!=\"Diferenciado\",$H$4=#REF!),BDI!$H$17,IF(#REF!=\"ZERO\",0))))),\"\")","v":{"$error":"#REF!"}},{"$error":"#REF!"},{"$error":"#REF!"}]
["SF-00856","Fechadura bico-de-papagaio, com furo, para janela de vidro temperado","un",0,{"$f":"OFFSET(INDEX(Composições!A:J,MATCH(Orçamentária!A861,Composições!A:A,0),8),2,0)","v":7.258},0,{"$f":"IF(A861<>\"\",IF(AND(#REF!=\"Padrão\",$H$4=#REF!),BDI!$B$17,IF(AND(#REF!=\"Padrão\",$H$4=#REF!),BDI!$C$17,IF(AND(#REF!=\"Diferenciado\",$H$4=#REF!),BDI!$G$17,IF(AND(#REF!=\"Diferenciado\",$H$4=#REF!),BDI!$H$17,IF(#REF!=\"ZERO\",0))))),\"\")","v":{"$error":"#REF!"}},{"$error":"#REF!"},{"$error":"#REF!"}]
["SF-00857","Fechadura para porta de abrir de vidro temperado","un",0,{"$f":"OFFSET(INDEX(Composições!A:J,MATCH(Orçamentária!A862,Composições!A:A,0),8),2,0)","v":7.258},0,{"$f":"IF(A862<>\"\",IF(AND(#REF!=\"Padrão\",$H$4=#REF!),BDI!$B$17,IF(AND(#REF!=\"Padrão\",$H$4=#REF!),BDI!$C$17,IF(AND(#REF!=\"Diferenciado\",$H$4=#REF!),BDI!$G$17,IF(AND(#REF!=\"Diferenciado\",$H$4=#REF!),BDI!$H$17,IF(#REF!=\"ZERO\",0))))),\"\")","v":{"$error":"#REF!"}},{"$error":"#REF!"},{"$error":"#REF!"}]
["SF-00858","Contra fechadura, para alvenaria, para porta com fechadura 1520/9520","un",0,{"$f":"OFFSET(INDEX(Composições!A:J,MATCH(Orçamentária!A863,Composições!A:A,0),8),2,0)","v":4.5362499999999999},0,{"$f":"IF(A863<>\"\",IF(AND(#REF!=\"Padrão\",$H$4=#REF!),BDI!$B$17,IF(AND(#REF!=\"Padrão\",$H$4=#REF!),BDI!$C$17,IF(AND(#REF!=\"Diferenciado\",$H$4=#REF!),BDI!$G$17,IF(AND(#REF!=\"Diferenciado\",$H$4=#REF!),BDI!$H$17,IF(#REF!=\"ZERO\",0))))),\"\")","v":{"$error":"#REF!"}},{"$error":"#REF!"},{"$error":"#REF!"}]
["SF-00859","Contra fechadura de pressão para porta de vidro temperado","un",0,{"$f":"OFFSET(INDEX(Composições!A:J,MATCH(Orçamentária!A864,Composições!A:A,0),8),2,0)","v":4.5362499999999999},0,{"$f":"IF(A864<>\"\",IF(AND(#REF!=\"Padrão\",$H$4=#REF!),BDI!$B$17,IF(AND(#REF!=\"Padrão\",$H$4=#REF!),BDI!$C$17,IF(AND(#REF!=\"Diferenciado\",$H$4=#REF!),BDI!$G$17,IF(AND(#REF!=\"Diferenciado\",$H$4=#REF!),BDI!$H$17,IF(#REF!=\"ZERO\",0))))),\"\")","v":{"$error":"#REF!"}},{"$error":"#REF!"},{"$error":"#REF!"}]
["SF-00860","Contra fechadura, com furo, para porta com furo","un",0,{"$f":"OFFSET(INDEX(Composições!A:J,MATCH(Orçamentária!A865,Composições!A:A,0),8),2,0)","v":4.5362499999999999},0,{"$f":"IF(A865<>\"\",IF(AND(#REF!=\"Padrão\",$H$4=#REF!),BDI!$B$17,IF(AND(#REF!=\"Padrão\",$H$4=#REF!),BDI!$C$17,IF(AND(#REF!=\"Diferenciado\",$H$4=#REF!),BDI!$G$17,IF(AND(#REF!=\"Diferenciado\",$H$4=#REF!),BDI!$H$17,IF(#REF!=\"ZERO\",0))))),\"\")","v":{"$error":"#REF!"}},{"$error":"#REF!"},{"$error":"#REF!"}]
["SF-00861","Trinco inferior, com miolo, para porta de vidro temperado","un",0,{"$f":"OFFSET(INDEX(Composições!A:J,MATCH(Orçamentária!A866,Composições!A:A,0),8),2,0)","v":4.5362499999999999},0,{"$f":"IF(A866<>\"\",IF(AND(#REF!=\"Padrão\",$H$4=#REF!),BDI!$B$17,IF(AND(#REF!=\"Padrão\",$H$4=#REF!),BDI!$C$17,IF(AND(#REF!=\"Diferenciado\",$H$4=#REF!),BDI!$G$17,IF(AND(#REF!=\"Diferenciado\",$H$4=#REF!),BDI!$H$17,IF(#REF!=\"ZERO\",0))))),\"\")","v":{"$error":"#REF!"}},{"$error":"#REF!"},{"$error":"#REF!"}]
["SF-00862","Mola hidráulica BTS 75R","un",0,{"$f":"OFFSET(INDEX(Composições!A:J,MATCH(Orçamentária!A867,Composições!A:A,0),8),2,0)","v":38.106894000000004},0,{"$f":"IF(A867<>\"\",IF(AND(#REF!=\"Padrão\",$H$4=#REF!),BDI!$B$17,IF(AND(#REF!=\"Padrão\",$H$4=#REF!),BDI!$C$17,IF(AND(#REF!=\"Diferenciado\",$H$4=#REF!),BDI!$G$17,IF(AND(#REF!=\"Diferenciado\",$H$4=#REF!),BDI!$H$17,IF(#REF!=\"ZERO\",0))))),\"\")","v":{"$error":"#REF!"}},{"$error":"#REF!"},{"$error":"#REF!"}]
["SF-00863","Puxador redondo, padrão em poliéster, para porta de vidro temperado","un",0,{"$f":"OFFSET(INDEX(Composições!A:J,MATCH(Orçamentária!A868,Composições!A:A,0),8),2,0)","v":3.629},0,{"$f":"IF(A868<>\"\",IF(AND(#REF!=\"Padrão\",$H$4=#REF!),BDI!$B$17,IF(AND(#REF!=\"Padrão\",$H$4=#REF!),BDI!$C$17,IF(AND(#REF!=\"Diferenciado\",$H$4=#REF!),BDI!$G$17,IF(AND(#REF!=\"Diferenciado\",$H$4=#REF!),BDI!$H$17,IF(#REF!=\"ZERO\",0))))),\"\")","v":{"$error":"#REF!"}},{"$error":"#REF!"},{"$error":"#REF!"}]
["SF-00864","Puxador em aço inox sob medida – Tipo A","un",0,{"$f":"OFFSET(INDEX(Composições!A:J,MATCH(Orçamentária!A869,Composições!A:A,0),8),2,0)","v":7.258},0,{"$f":"IF(A869<>\"\",IF(AND(#REF!=\"Padrão\",$H$4=#REF!),BDI!$B$17,IF(AND(#REF!=\"Padrão\",$H$4=#REF!),BDI!$C$17,IF(AND(#REF!=\"Diferenciado\",$H$4=#REF!),BDI!$G$17,IF(AND(#REF!=\"Diferenciado\",$H$4=#REF!),BDI!$H$17,IF(#REF!=\"ZERO\",0))))),\"\")","v":{"$error":"#REF!"}},{"$error":"#REF!"},{"$error":"#REF!"}]
["SF-00865","Dobradiça superior para porta de vidro temperado","un",0,{"$f":"OFFSET(INDEX(Composições!A:J,MATCH(Orçamentária!A870,Composições!A:A,0),8),2,0)","v":5.4434999999999993},0,{"$f":"IF(A870<>\"\",IF(AND(#REF!=\"Padrão\",$H$4=#REF!),BDI!$B$17,IF(AND(#REF!=\"Padrão\",$H$4=#REF!),BDI!$C$17,IF(AND(#REF!=\"Diferenciado\",$H$4=#REF!),BDI!$G$17,IF(AND(#REF!=\"Diferenciado\",$H$4=#REF!),BDI!$H$17,IF(#REF!=\"ZERO\",0))))),\"\")","v":{"$error":"#REF!"}},{"$error":"#REF!"},{"$error":"#REF!"}]
["SF-00866","Perfil em alumínio, tipo U - abas iguais - PU 5/8\" x 5/8\" – espessura 1,58mm","m",0,{"$f":"OFFSET(INDEX(Composições!A:J,MATCH(Orçamentária!A871,Composições!A:A,0),8),2,0)","v":9.1035649999999997},0,{"$f":"IF(A871<>\"\",IF(AND(#REF!=\"Padrão\",$H$4=#REF!),BDI!$B$17,IF(AND(#REF!=\"Padrão\",$H$4=#REF!),BDI!$C$17,IF(AND(#REF!=\"Diferenciado\",$H$4=#REF!),BDI!$G$17,IF(AND(#REF!=\"Diferenciado\",$H$4=#REF!),BDI!$H$17,IF(#REF!=\"ZERO\",0))))),\"\")","v":{"$error":"#REF!"}},{"$error":"#REF!"},{"$error":"#REF!"}]
["SF-00867","Trilho superior em alumínio 60mm x 49,5mm, para vidro temperado","m",0,{"$f":"OFFSET(INDEX(Composições!A:J,MATCH(Orçamentária!A872,Composições!A:A,0),8),2,0)","v":27.7163355},0,{"$f":"IF(A872<>\"\",IF(AND(#REF!=\"Padrão\",$H$4=#REF!),BDI!$B$17,IF(AND(#REF!=\"Padrão\",$H$4=#REF!),BDI!$C$17,IF(AND(#REF!=\"Diferenciado\",$H$4=#REF!),BDI!$G$17,IF(AND(#REF!=\"Diferenciado\",$H$4=#REF!),BDI!$H$17,IF(#REF!=\"ZERO\",0))))),\"\")","v":{"$error":"#REF!"}},{"$error":"#REF!"},{"$error":"#REF!"}]
["SF-00868","Perfil em alumínio para acabamento de trilho superior","m",0,{"$f":"OFFSET(INDEX(Composições!A:J,MATCH(Orçamentária!A873,Composições!A:A,0),8),2,0)","v":11.7255935},0,{"$f":"IF(A873<>\"\",IF(AND(#REF!=\"Padrão\",$H$4=#REF!),BDI!$B$17,IF(AND(#REF!=\"Padrão\",$H$4=#REF!),BDI!$C$17,IF(AND(#REF!=\"Diferenciado\",$H$4=#REF!),BDI!$G$17,IF(AND(#REF!=\"Diferenciado\",$H$4=#REF!),BDI!$H$17,IF(#REF!=\"ZERO\",0))))),\"\")","v":{"$error":"#REF!"}},{"$error":"#REF!"},{"$error":"#REF!"}]
["SF-00869","Perfil guia inferior de alumínio 39,3 mm x 24 mm para vidro temperado 10mm","m",0,{"$f":"OFFSET(INDEX(Composições!A:J,MATCH(Orçamentária!A874,Composições!A:A,0),8),2,0)","v":18.438388499999999},0,{"$f":"IF(A874<>\"\",IF(AND(#REF!=\"Padrão\",$H$4=#REF!),BDI!$B$17,IF(AND(#REF!=\"Padrão\",$H$4=#REF!),BDI!$C$17,IF(AND(#REF!=\"Diferenciado\",$H$4=#REF!),BDI!$G$17,IF(AND(#REF!=\"Diferenciado\",$H$4=#REF!),BDI!$H$17,IF(#REF!=\"ZERO\",0))))),\"\")","v":{"$error":"#REF!"}},{"$error":"#REF!"},{"$error":"#REF!"}]
["SF-00870","Capa do Perfil Guia Inferior “Click”","m",0,{"$f":"OFFSET(INDEX(Composições!A:J,MATCH(Orçamentária!A875,Composições!A:A,0),8),2,0)","v":5.891235},0,{"$f":"IF(A875<>\"\",IF(AND(#REF!=\"Padrão\",$H$4=#REF!),BDI!$B$17,IF(AND(#REF!=\"Padrão\",$H$4=#REF!),BDI!$C$17,IF(AND(#REF!=\"Diferenciado\",$H$4=#REF!),BDI!$G$17,IF(AND(#REF!=\"Diferenciado\",$H$4=#REF!),BDI!$H$17,IF(#REF!=\"ZERO\",0))))),\"\")","v":{"$error":"#REF!"}},{"$error":"#REF!"},{"$error":"#REF!"}]
["SF-00871","Dobradiça inferior para porta de vidro temperado","un",0,{"$f":"OFFSET(INDEX(Composições!A:J,MATCH(Orçamentária!A876,Composições!A:A,0),8),2,0)","v":5.4434999999999993},0,{"$f":"IF(A876<>\"\",IF(AND(#REF!=\"Padrão\",$H$4=#REF!),BDI!$B$17,IF(AND(#REF!=\"Padrão\",$H$4=#REF!),BDI!$C$17,IF(AND(#REF!=\"Diferenciado\",$H$4=#REF!),BDI!$G$17,IF(AND(#REF!=\"Diferenciado\",$H$4=#REF!),BDI!$H$17,IF(#REF!=\"ZERO\",0))))),\"\")","v":{"$error":"#REF!"}},{"$error":"#REF!"},{"$error":"#REF!"}]
["SF-00872","Escova de vedação para vidro temperado","m",0,{"$f":"OFFSET(INDEX(Composições!A:J,MATCH(Orçamentária!A877,Composições!A:A,0),8),2,0)","v":5.4434999999999993},0,{"$f":"IF(A877<>\"\",IF(AND(#REF!=\"Padrão\",$H$4=#REF!),BDI!$B$17,IF(AND(#REF!=\"Padrão\",$H$4=#REF!),BDI!$C$17,IF(AND(#REF!=\"Diferenciado\",$H$4=#REF!),BDI!$G$17,IF(AND(#REF!=\"Diferenciado\",$H$4=#REF!),BDI!$H$17,IF(#REF!=\"ZERO\",0))))),\"\")","v":{"$error":"#REF!"}},{"$error":"#REF!"},{"$error":"#REF!"}]
["SF-00873","Roldana simples para porta de correr em vidro temperado","un",0,{"$f":"OFFSET(INDEX(Composições!A:J,MATCH(Orçamentária!A878,Composições!A:A,0),8),2,0)","v":2.7217499999999997},0,{"$f":"IF(A878<>\"\",IF(AND(#REF!=\"Padrão\",$H$4=#REF!),BDI!$B$17,IF(AND(#REF!=\"Padrão\",$H$4=#REF!),BDI!$C$17,IF(AND(#REF!=\"Diferenciado\",$H$4=#REF!),BDI!$G$17,IF(AND(#REF!=\"Diferenciado\",$H$4=#REF!),BDI!$H$17,IF(#REF!=\"ZERO\",0))))),\"\")","v":{"$error":"#REF!"}},{"$error":"#REF!"},{"$error":"#REF!"}]
["SF-00874","Roldana dupla para porta de correr em vidro temperado","un",0,{"$f":"OFFSET(INDEX(Composições!A:J,MATCH(Orçamentária!A879,Composições!A:A,0),8),2,0)","v":2.7217499999999997},0,{"$f":"IF(A879<>\"\",IF(AND(#REF!=\"Padrão\",$H$4=#REF!),BDI!$B$17,IF(AND(#REF!=\"Padrão\",$H$4=#REF!),BDI!$C$17,IF(AND(#REF!=\"Diferenciado\",$H$4=#REF!),BDI!$G$17,IF(AND(#REF!=\"Diferenciado\",$H$4=#REF!),BDI!$H$17,IF(#REF!=\"ZERO\",0))))),\"\")","v":{"$error":"#REF!"}},{"$error":"#REF!"},{"$error":"#REF!"}]
["SF-00875","Capuchinho para trinco para vidro temperado","un",0,{"$f":"OFFSET(INDEX(Composições!A:J,MATCH(Orçamentária!A880,Composições!A:A,0),8),2,0)","v":1.8145},0,{"$f":"IF(A880<>\"\",IF(AND(#REF!=\"Padrão\",$H$4=#REF!),BDI!$B$17,IF(AND(#REF!=\"Padrão\",$H$4=#REF!),BDI!$C$17,IF(AND(#REF!=\"Diferenciado\",$H$4=#REF!),BDI!$G$17,IF(AND(#REF!=\"Diferenciado\",$H$4=#REF!),BDI!$H$17,IF(#REF!=\"ZERO\",0))))),\"\")","v":{"$error":"#REF!"}},{"$error":"#REF!"},{"$error":"#REF!"}]
["SF-00876","Facão simples para lateral e bandeira de vidro temperado","un",0,{"$f":"OFFSET(INDEX(Composições!A:J,MATCH(Orçamentária!A881,Composições!A:A,0),8),2,0)","v":7.258},0,{"$f":"IF(A881<>\"\",IF(AND(#REF!=\"Padrão\",$H$4=#REF!),BDI!$B$17,IF(AND(#REF!=\"Padrão\",$H$4=#REF!),BDI!$C$17,IF(AND(#REF!=\"Diferenciado\",$H$4=#REF!),BDI!$G$17,IF(AND(#REF!=\"Diferenciado\",$H$4=#REF!),BDI!$H$17,IF(#REF!=\"ZERO\",0))))),\"\")","v":{"$error":"#REF!"}},{"$error":"#REF!"},{"$error":"#REF!"}]
["SF-00877","Fechadura de pressão para porta de abrir em vidro temperado","un",0,{"$f":"OFFSET(INDEX(Composições!A:J,MATCH(Orçamentária!A882,Composições!A:A,0),8),2,0)","v":7.258},0,{"$f":"IF(A882<>\"\",IF(AND(#REF!=\"Padrão\",$H$4=#REF!),BDI!$B$17,IF(AND(#REF!=\"Padrão\",$H$4=#REF!),BDI!$C$17,IF(AND(#REF!=\"Diferenciado\",$H$4=#REF!),BDI!$G$17,IF(AND(#REF!=\"Diferenciado\",$H$4=#REF!),BDI!$H$17,IF(#REF!=\"ZERO\",0))))),\"\")","v":{"$error":"#REF!"}},{"$error":"#REF!"},{"$error":"#REF!"}]
["SF-00878","Suporte de união, com miolo, para vidro temperado","un",0,{"$f":"OFFSET(INDEX(Composições!A:J,MATCH(Orçamentária!A883,Composições!A:A,0),8),2,0)","v":5.4434999999999993},0,{"$f":"IF(A883<>\"\",IF(AND(#REF!=\"Padrão\",$H$4=#REF!),BDI!$B$17,IF(AND(#REF!=\"Padrão\",$H$4=#REF!),BDI!$C$17,IF(AND(#REF!=\"Diferenciado\",$H$4=#REF!),BDI!$G$17,IF(AND(#REF!=\"Diferenciado\",$H$4=#REF!),BDI!$H$17,IF(#REF!=\"ZERO\",0))))),\"\")","v":{"$error":"#REF!"}},{"$error":"#REF!"},{"$error":"#REF!"}]
["SF-00879","Suporte para basculante e pivotante de vidro temperado","un",0,{"$f":"OFFSET(INDEX(Composições!A:J,MATCH(Orçamentária!A884,Composições!A:A,0),8),2,0)","v":3.629},0,{"$f":"IF(A884<>\"\",IF(AND(#REF!=\"Padrão\",$H$4=#REF!),BDI!$B$17,IF(AND(#REF!=\"Padrão\",$H$4=#REF!),BDI!$C$17,IF(AND(#REF!=\"Diferenciado\",$H$4=#REF!),BDI!$G$17,IF(AND(#REF!=\"Diferenciado\",$H$4=#REF!),BDI!$H$17,IF(#REF!=\"ZERO\",0))))),\"\")","v":{"$error":"#REF!"}},{"$error":"#REF!"},{"$error":"#REF!"}]
["SF-00880","Trinco central para basculante em vidro temperado","un",0,{"$f":"OFFSET(INDEX(Composições!A:J,MATCH(Orçamentária!A885,Composições!A:A,0),8),2,0)","v":3.629},0,{"$f":"IF(A885<>\"\",IF(AND(#REF!=\"Padrão\",$H$4=#REF!),BDI!$B$17,IF(AND(#REF!=\"Padrão\",$H$4=#REF!),BDI!$C$17,IF(AND(#REF!=\"Diferenciado\",$H$4=#REF!),BDI!$G$17,IF(AND(#REF!=\"Diferenciado\",$H$4=#REF!),BDI!$H$17,IF(#REF!=\"ZERO\",0))))),\"\")","v":{"$error":"#REF!"}},{"$error":"#REF!"},{"$error":"#REF!"}]
["SF-00881","Vidro laminado incolor de 8mm de espessura","m2",0,{"$f":"OFFSET(INDEX(Composições!A:J,MATCH(Orçamentária!A886,Composições!A:A,0),8),2,0)","v":26.082249999999998},0,{"$f":"IF(A886<>\"\",IF(AND(#REF!=\"Padrão\",$H$4=#REF!),BDI!$B$17,IF(AND(#REF!=\"Padrão\",$H$4=#REF!),BDI!$C$17,IF(AND(#REF!=\"Diferenciado\",$H$4=#REF!),BDI!$G$17,IF(AND(#REF!=\"Diferenciado\",$H$4=#REF!),BDI!$H$17,IF(#REF!=\"ZERO\",0))))),\"\")","v":{"$error":"#REF!"}},{"$error":"#REF!"},{"$error":"#REF!"}]
["SF-00882","Suporte tipo “Spiderglass” para vidro temperado","un",0,"","",{"$f":"IF(A887<>\"\",IF(AND(#REF!=\"Padrão\",$H$4=#REF!),BDI!$B$17,IF(AND(#REF!=\"Padrão\",$H$4=#REF!),BDI!$C$17,IF(AND(#REF!=\"Diferenciado\",$H$4=#REF!),BDI!$G$17,IF(AND(#REF!=\"Diferenciado\",$H$4=#REF!),BDI!$H$17,IF(#REF!=\"ZERO\",0))))),\"\")","v":{"$error":"#REF!"}},"",""]
["SF-00883","Dobradiça automática para box de vidro temperado","un",0,{"$f":"OFFSET(INDEX(Composições!A:J,MATCH(Orçamentária!A888,Composições!A:A,0),8),2,0)","v":3.629},0,{"$f":"IF(A888<>\"\",IF(AND(#REF!=\"Padrão\",$H$4=#REF!),BDI!$B$17,IF(AND(#REF!=\"Padrão\",$H$4=#REF!),BDI!$C$17,IF(AND(#REF!=\"Diferenciado\",$H$4=#REF!),BDI!$G$17,IF(AND(#REF!=\"Diferenciado\",$H$4=#REF!),BDI!$H$17,IF(#REF!=\"ZERO\",0))))),\"\")","v":{"$error":"#REF!"}},{"$error":"#REF!"},{"$error":"#REF!"}]
["SF-00884","Dobradiça horizontal para vidro basculante com trinco","un",0,{"$f":"OFFSET(INDEX(Composições!A:J,MATCH(Orçamentária!A889,Composições!A:A,0),8),2,0)","v":3.629},0,{"$f":"IF(A889<>\"\",IF(AND(#REF!=\"Padrão\",$H$4=#REF!),BDI!$B$17,IF(AND(#REF!=\"Padrão\",$H$4=#REF!),BDI!$C$17,IF(AND(#REF!=\"Diferenciado\",$H$4=#REF!),BDI!$G$17,IF(AND(#REF!=\"Diferenciado\",$H$4=#REF!),BDI!$H$17,IF(#REF!=\"ZERO\",0))))),\"\")","v":{"$error":"#REF!"}},{"$error":"#REF!"},{"$error":"#REF!"}]
["SF-00885","Dobradiça horizontal para vidro basculante","un",0,{"$f":"OFFSET(INDEX(Composições!A:J,MATCH(Orçamentária!A890,Composições!A:A,0),8),2,0)","v":3.629},0,{"$f":"IF(A890<>\"\",IF(AND(#REF!=\"Padrão\",$H$4=#REF!),BDI!$B$17,IF(AND(#REF!=\"Padrão\",$H$4=#REF!),BDI!$C$17,IF(AND(#REF!=\"Diferenciado\",$H$4=#REF!),BDI!$G$17,IF(AND(#REF!=\"Diferenciado\",$H$4=#REF!),BDI!$H$17,IF(#REF!=\"ZERO\",0))))),\"\")","v":{"$error":"#REF!"}},{"$error":"#REF!"},{"$error":"#REF!"}]
["SF-00886","Fechadura elétrica para porta de vidro temperado","un",0,{"$f":"OFFSET(INDEX(Composições!A:J,MATCH(Orçamentária!A891,Composições!A:A,0),8),2,0)","v":27.217500000000001},0,{"$f":"IF(A891<>\"\",IF(AND(#REF!=\"Padrão\",$H$4=#REF!),BDI!$B$17,IF(AND(#REF!=\"Padrão\",$H$4=#REF!),BDI!$C$17,IF(AND(#REF!=\"Diferenciado\",$H$4=#REF!),BDI!$G$17,IF(AND(#REF!=\"Diferenciado\",$H$4=#REF!),BDI!$H$17,IF(#REF!=\"ZERO\",0))))),\"\")","v":{"$error":"#REF!"}},{"$error":"#REF!"},{"$error":"#REF!"}]
["SF-00887","Porteiro eletrônico","un",0,{"$f":"OFFSET(INDEX(Composições!A:J,MATCH(Orçamentária!A892,Composições!A:A,0),8),2,0)","v":27.217500000000001},0,{"$f":"IF(A892<>\"\",IF(AND(#REF!=\"Padrão\",$H$4=#REF!),BDI!$B$17,IF(AND(#REF!=\"Padrão\",$H$4=#REF!),BDI!$C$17,IF(AND(#REF!=\"Diferenciado\",$H$4=#REF!),BDI!$G$17,IF(AND(#REF!=\"Diferenciado\",$H$4=#REF!),BDI!$H$17,IF(#REF!=\"ZERO\",0))))),\"\")","v":{"$error":"#REF!"}},{"$error":"#REF!"},{"$error":"#REF!"}]
["SF-00888","Acionador fixo","un",0,{"$f":"OFFSET(INDEX(Composições!A:J,MATCH(Orçamentária!A893,Composições!A:A,0),8),2,0)","v":18.145},0,{"$f":"IF(A893<>\"\",IF(AND(#REF!=\"Padrão\",$H$4=#REF!),BDI!$B$17,IF(AND(#REF!=\"Padrão\",$H$4=#REF!),BDI!$C$17,IF(AND(#REF!=\"Diferenciado\",$H$4=#REF!),BDI!$G$17,IF(AND(#REF!=\"Diferenciado\",$H$4=#REF!),BDI!$H$17,IF(#REF!=\"ZERO\",0))))),\"\")","v":{"$error":"#REF!"}},{"$error":"#REF!"},{"$error":"#REF!"}]
["SF-00889","Mini chapinha para trinco basculante","un",0,{"$f":"OFFSET(INDEX(Composições!A:J,MATCH(Orçamentária!A894,Composições!A:A,0),8),2,0)","v":1.8145},0,{"$f":"IF(A894<>\"\",IF(AND(#REF!=\"Padrão\",$H$4=#REF!),BDI!$B$17,IF(AND(#REF!=\"Padrão\",$H$4=#REF!),BDI!$C$17,IF(AND(#REF!=\"Diferenciado\",$H$4=#REF!),BDI!$G$17,IF(AND(#REF!=\"Diferenciado\",$H$4=#REF!),BDI!$H$17,IF(#REF!=\"ZERO\",0))))),\"\")","v":{"$error":"#REF!"}},{"$error":"#REF!"},{"$error":"#REF!"}]
["SF-00890","Puxador de latão - diâmetro 25mm","un",0,{"$f":"OFFSET(INDEX(Composições!A:J,MATCH(Orçamentária!A895,Composições!A:A,0),8),2,0)","v":3.629},0,{"$f":"IF(A895<>\"\",IF(AND(#REF!=\"Padrão\",$H$4=#REF!),BDI!$B$17,IF(AND(#REF!=\"Padrão\",$H$4=#REF!),BDI!$C$17,IF(AND(#REF!=\"Diferenciado\",$H$4=#REF!),BDI!$G$17,IF(AND(#REF!=\"Diferenciado\",$H$4=#REF!),BDI!$H$17,IF(#REF!=\"ZERO\",0))))),\"\")","v":{"$error":"#REF!"}},{"$error":"#REF!"},{"$error":"#REF!"}]
["SF-00891","Trinco sem miolo para vidro temperado","un",0,{"$f":"OFFSET(INDEX(Composições!A:J,MATCH(Orçamentária!A896,Composições!A:A,0),8),2,0)","v":3.629},0,{"$f":"IF(A896<>\"\",IF(AND(#REF!=\"Padrão\",$H$4=#REF!),BDI!$B$17,IF(AND(#REF!=\"Padrão\",$H$4=#REF!),BDI!$C$17,IF(AND(#REF!=\"Diferenciado\",$H$4=#REF!),BDI!$G$17,IF(AND(#REF!=\"Diferenciado\",$H$4=#REF!),BDI!$H$17,IF(#REF!=\"ZERO\",0))))),\"\")","v":{"$error":"#REF!"}},{"$error":"#REF!"},{"$error":"#REF!"}]
["SF-00892","Tubo de alumínio quadrado 50x50","m",0,{"$f":"OFFSET(INDEX(Composições!A:J,MATCH(Orçamentária!A897,Composições!A:A,0),8),2,0)","v":29.114165499999995},0,{"$f":"IF(A897<>\"\",IF(AND(#REF!=\"Padrão\",$H$4=#REF!),BDI!$B$17,IF(AND(#REF!=\"Padrão\",$H$4=#REF!),BDI!$C$17,IF(AND(#REF!=\"Diferenciado\",$H$4=#REF!),BDI!$G$17,IF(AND(#REF!=\"Diferenciado\",$H$4=#REF!),BDI!$H$17,IF(#REF!=\"ZERO\",0))))),\"\")","v":{"$error":"#REF!"}},{"$error":"#REF!"},{"$error":"#REF!"}]
["SF-00893","Veda fresta adesivo “E” branco","m",0,{"$f":"OFFSET(INDEX(Composições!A:J,MATCH(Orçamentária!A898,Composições!A:A,0),8),2,0)","v":3.629},0,{"$f":"IF(A898<>\"\",IF(AND(#REF!=\"Padrão\",$H$4=#REF!),BDI!$B$17,IF(AND(#REF!=\"Padrão\",$H$4=#REF!),BDI!$C$17,IF(AND(#REF!=\"Diferenciado\",$H$4=#REF!),BDI!$G$17,IF(AND(#REF!=\"Diferenciado\",$H$4=#REF!),BDI!$H$17,IF(#REF!=\"ZERO\",0))))),\"\")","v":{"$error":"#REF!"}},{"$error":"#REF!"},{"$error":"#REF!"}]
["SF-00894","Vedapress 10mm","m",0,{"$f":"OFFSET(INDEX(Composições!A:J,MATCH(Orçamentária!A899,Composições!A:A,0),8),2,0)","v":8.8723064999999988},0,{"$f":"IF(A899<>\"\",IF(AND(#REF!=\"Padrão\",$H$4=#REF!),BDI!$B$17,IF(AND(#REF!=\"Padrão\",$H$4=#REF!),BDI!$C$17,IF(AND(#REF!=\"Diferenciado\",$H$4=#REF!),BDI!$G$17,IF(AND(#REF!=\"Diferenciado\",$H$4=#REF!),BDI!$H$17,IF(#REF!=\"ZERO\",0))))),\"\")","v":{"$error":"#REF!"}},{"$error":"#REF!"},{"$error":"#REF!"}]
["SF-00895","Regulagem de ferragens","un",0,{"$f":"OFFSET(INDEX(Composições!A:J,MATCH(Orçamentária!A900,Composições!A:A,0),8),2,0)","v":27.217500000000001},0,{"$f":"IF(A900<>\"\",IF(AND(#REF!=\"Padrão\",$H$4=#REF!),BDI!$B$17,IF(AND(#REF!=\"Padrão\",$H$4=#REF!),BDI!$C$17,IF(AND(#REF!=\"Diferenciado\",$H$4=#REF!),BDI!$G$17,IF(AND(#REF!=\"Diferenciado\",$H$4=#REF!),BDI!$H$17,IF(#REF!=\"ZERO\",0))))),\"\")","v":{"$error":"#REF!"}},{"$error":"#REF!"},{"$error":"#REF!"}]
["SF-00896","Vidro fumê / bronze temperado 10mm","m2",0,{"$f":"OFFSET(INDEX(Composições!A:J,MATCH(Orçamentária!A901,Composições!A:A,0),8),2,0)","v":26.082249999999998},0,{"$f":"IF(A901<>\"\",IF(AND(#REF!=\"Padrão\",$H$4=#REF!),BDI!$B$17,IF(AND(#REF!=\"Padrão\",$H$4=#REF!),BDI!$C$17,IF(AND(#REF!=\"Diferenciado\",$H$4=#REF!),BDI!$G$17,IF(AND(#REF!=\"Diferenciado\",$H$4=#REF!),BDI!$H$17,IF(#REF!=\"ZERO\",0))))),\"\")","v":{"$error":"#REF!"}},{"$error":"#REF!"},{"$error":"#REF!"}]
["SF-00897","Puxador em aço inox sob medida – Tipo B","un",0,{"$f":"OFFSET(INDEX(Composições!A:J,MATCH(Orçamentária!A902,Composições!A:A,0),8),2,0)","v":7.258},0,{"$f":"IF(A902<>\"\",IF(AND(#REF!=\"Padrão\",$H$4=#REF!),BDI!$B$17,IF(AND(#REF!=\"Padrão\",$H$4=#REF!),BDI!$C$17,IF(AND(#REF!=\"Diferenciado\",$H$4=#REF!),BDI!$G$17,IF(AND(#REF!=\"Diferenciado\",$H$4=#REF!),BDI!$H$17,IF(#REF!=\"ZERO\",0))))),\"\")","v":{"$error":"#REF!"}},{"$error":"#REF!"},{"$error":"#REF!"}]
["SF-00898","Armação de aço CA-50 bitolas de 5,0mm a 8,00mm","kg",0,{"$f":"OFFSET(INDEX(Composições!A:J,MATCH(Orçamentária!A903,Composições!A:A,0),8),2,0)","v":10.2173336},{"$f":"IF(ISNUMBER(E903),D903*E903,\"\")","v":0},{"$f":"IF(A903<>\"\",IF(AND(#REF!=\"Padrão\",$H$4=#REF!),BDI!$B$17,IF(AND(#REF!=\"Padrão\",$H$4=#REF!),BDI!$C$17,IF(AND(#REF!=\"Diferenciado\",$H$4=#REF!),BDI!$G$17,IF(AND(#REF!=\"Diferenciado\",$H$4=#REF!),BDI!$H$17,IF(#REF!=\"ZERO\",0))))),\"\")","v":{"$error":"#REF!"}},{"$f":"IF(ISNUMBER(E903),ROUND(E903*(1+G903),2),\"\")","v":{"$error":"#REF!"}},{"$f":"IF(ISNUMBER(E903),ROUND(H903*D903,2),\"\")","v":{"$error":"#REF!"}}]
["SF-00899","Pivô para dobradiça inferior (Montagem com a 1103-TQ)","un",0,{"$f":"OFFSET(INDEX(Composições!A:J,MATCH(Orçamentária!A904,Composições!A:A,0),8),2,0)","v":3.629},0,{"$f":"IF(A904<>\"\",IF(AND(#REF!=\"Padrão\",$H$4=#REF!),BDI!$B$17,IF(AND(#REF!=\"Padrão\",$H$4=#REF!),BDI!$C$17,IF(AND(#REF!=\"Diferenciado\",$H$4=#REF!),BDI!$G$17,IF(AND(#REF!=\"Diferenciado\",$H$4=#REF!),BDI!$H$17,IF(#REF!=\"ZERO\",0))))),\"\")","v":{"$error":"#REF!"}},{"$error":"#REF!"},{"$error":"#REF!"}]
["SF-00900","Dobradiça direita inferior excêntrica","un",0,{"$f":"OFFSET(INDEX(Composições!A:J,MATCH(Orçamentária!A905,Composições!A:A,0),8),2,0)","v":5.4434999999999993},0,{"$f":"IF(A905<>\"\",IF(AND(#REF!=\"Padrão\",$H$4=#REF!),BDI!$B$17,IF(AND(#REF!=\"Padrão\",$H$4=#REF!),BDI!$C$17,IF(AND(#REF!=\"Diferenciado\",$H$4=#REF!),BDI!$G$17,IF(AND(#REF!=\"Diferenciado\",$H$4=#REF!),BDI!$H$17,IF(#REF!=\"ZERO\",0))))),\"\")","v":{"$error":"#REF!"}},{"$error":"#REF!"},{"$error":"#REF!"}]
["SF-00901","Dobradiça esquerda inferior excêntrica","un",0,{"$f":"OFFSET(INDEX(Composições!A:J,MATCH(Orçamentária!A906,Composições!A:A,0),8),2,0)","v":5.4434999999999993},0,{"$f":"IF(A906<>\"\",IF(AND(#REF!=\"Padrão\",$H$4=#REF!),BDI!$B$17,IF(AND(#REF!=\"Padrão\",$H$4=#REF!),BDI!$C$17,IF(AND(#REF!=\"Diferenciado\",$H$4=#REF!),BDI!$G$17,IF(AND(#REF!=\"Diferenciado\",$H$4=#REF!),BDI!$H$17,IF(#REF!=\"ZERO\",0))))),\"\")","v":{"$error":"#REF!"}},{"$error":"#REF!"},{"$error":"#REF!"}]
["SF-00902","Dobradiça pivotante inferior com trinco","un",0,{"$f":"OFFSET(INDEX(Composições!A:J,MATCH(Orçamentária!A907,Composições!A:A,0),8),2,0)","v":5.4434999999999993},0,{"$f":"IF(A907<>\"\",IF(AND(#REF!=\"Padrão\",$H$4=#REF!),BDI!$B$17,IF(AND(#REF!=\"Padrão\",$H$4=#REF!),BDI!$C$17,IF(AND(#REF!=\"Diferenciado\",$H$4=#REF!),BDI!$G$17,IF(AND(#REF!=\"Diferenciado\",$H$4=#REF!),BDI!$H$17,IF(#REF!=\"ZERO\",0))))),\"\")","v":{"$error":"#REF!"}},{"$error":"#REF!"},{"$error":"#REF!"}]
["SF-00903","Carrinho para porta de correr 1 roldana e 2 furos","un",0,{"$f":"OFFSET(INDEX(Composições!A:J,MATCH(Orçamentária!A908,Composições!A:A,0),8),2,0)","v":2.7217499999999997},0,{"$f":"IF(A908<>\"\",IF(AND(#REF!=\"Padrão\",$H$4=#REF!),BDI!$B$17,IF(AND(#REF!=\"Padrão\",$H$4=#REF!),BDI!$C$17,IF(AND(#REF!=\"Diferenciado\",$H$4=#REF!),BDI!$G$17,IF(AND(#REF!=\"Diferenciado\",$H$4=#REF!),BDI!$H$17,IF(#REF!=\"ZERO\",0))))),\"\")","v":{"$error":"#REF!"}},{"$error":"#REF!"},{"$error":"#REF!"}]
["SF-00904","Carrinho para porta de correr 2 roldanas e 2 furos","un",0,{"$f":"OFFSET(INDEX(Composições!A:J,MATCH(Orçamentária!A909,Composições!A:A,0),8),2,0)","v":2.7217499999999997},0,{"$f":"IF(A909<>\"\",IF(AND(#REF!=\"Padrão\",$H$4=#REF!),BDI!$B$17,IF(AND(#REF!=\"Padrão\",$H$4=#REF!),BDI!$C$17,IF(AND(#REF!=\"Diferenciado\",$H$4=#REF!),BDI!$G$17,IF(AND(#REF!=\"Diferenciado\",$H$4=#REF!),BDI!$H$17,IF(#REF!=\"ZERO\",0))))),\"\")","v":{"$error":"#REF!"}},{"$error":"#REF!"},{"$error":"#REF!"}]
["SF-00905","Carrinho para porta de correr com roldana côncava","un",0,{"$f":"OFFSET(INDEX(Composições!A:J,MATCH(Orçamentária!A910,Composições!A:A,0),8),2,0)","v":2.7217499999999997},0,{"$f":"IF(A910<>\"\",IF(AND(#REF!=\"Padrão\",$H$4=#REF!),BDI!$B$17,IF(AND(#REF!=\"Padrão\",$H$4=#REF!),BDI!$C$17,IF(AND(#REF!=\"Diferenciado\",$H$4=#REF!),BDI!$G$17,IF(AND(#REF!=\"Diferenciado\",$H$4=#REF!),BDI!$H$17,IF(#REF!=\"ZERO\",0))))),\"\")","v":{"$error":"#REF!"}},{"$error":"#REF!"},{"$error":"#REF!"}]
["SF-00906","Guia de nylon para porta de correr","un",0,{"$f":"OFFSET(INDEX(Composições!A:J,MATCH(Orçamentária!A911,Composições!A:A,0),8),2,0)","v":2.7217499999999997},0,{"$f":"IF(A911<>\"\",IF(AND(#REF!=\"Padrão\",$H$4=#REF!),BDI!$B$17,IF(AND(#REF!=\"Padrão\",$H$4=#REF!),BDI!$C$17,IF(AND(#REF!=\"Diferenciado\",$H$4=#REF!),BDI!$G$17,IF(AND(#REF!=\"Diferenciado\",$H$4=#REF!),BDI!$H$17,IF(#REF!=\"ZERO\",0))))),\"\")","v":{"$error":"#REF!"}},{"$error":"#REF!"},{"$error":"#REF!"}]
["SF-00907","Puxador H tubular em aço inox, comprimento 45cm, para portas de vidro temperado","un",0,{"$f":"OFFSET(INDEX(Composições!A:J,MATCH(Orçamentária!A912,Composições!A:A,0),8),2,0)","v":7.258},0,{"$f":"IF(A912<>\"\",IF(AND(#REF!=\"Padrão\",$H$4=#REF!),BDI!$B$17,IF(AND(#REF!=\"Padrão\",$H$4=#REF!),BDI!$C$17,IF(AND(#REF!=\"Diferenciado\",$H$4=#REF!),BDI!$G$17,IF(AND(#REF!=\"Diferenciado\",$H$4=#REF!),BDI!$H$17,IF(#REF!=\"ZERO\",0))))),\"\")","v":{"$error":"#REF!"}},{"$error":"#REF!"},{"$error":"#REF!"}]
["SF-00908","Transporte de vidros","m2 x km",0,{"$f":"OFFSET(INDEX(Composições!A:J,MATCH(Orçamentária!A913,Composições!A:A,0),8),2,0)","v":42.512233999999999},0,{"$f":"IF(A913<>\"\",IF(AND(#REF!=\"Padrão\",$H$4=#REF!),BDI!$B$17,IF(AND(#REF!=\"Padrão\",$H$4=#REF!),BDI!$C$17,IF(AND(#REF!=\"Diferenciado\",$H$4=#REF!),BDI!$G$17,IF(AND(#REF!=\"Diferenciado\",$H$4=#REF!),BDI!$H$17,IF(#REF!=\"ZERO\",0))))),\"\")","v":{"$error":"#REF!"}},{"$error":"#REF!"},{"$error":"#REF!"}]
["SF-00909","Vidro fantasia 4mm (canelado, martelado, pontilhado e mini-boreal)","m2",0,{"$f":"OFFSET(INDEX(Composições!A:J,MATCH(Orçamentária!A914,Composições!A:A,0),8),2,0)","v":109.5578},0,{"$f":"IF(A914<>\"\",IF(AND(#REF!=\"Padrão\",$H$4=#REF!),BDI!$B$17,IF(AND(#REF!=\"Padrão\",$H$4=#REF!),BDI!$C$17,IF(AND(#REF!=\"Diferenciado\",$H$4=#REF!),BDI!$G$17,IF(AND(#REF!=\"Diferenciado\",$H$4=#REF!),BDI!$H$17,IF(#REF!=\"ZERO\",0))))),\"\")","v":{"$error":"#REF!"}},{"$error":"#REF!"},{"$error":"#REF!"}]
["SF-00910","Vidro fumê/bronze 5mm","m2",0,{"$f":"OFFSET(INDEX(Composições!A:J,MATCH(Orçamentária!A915,Composições!A:A,0),8),2,0)","v":181.03579999999999},0,{"$f":"IF(A915<>\"\",IF(AND(#REF!=\"Padrão\",$H$4=#REF!),BDI!$B$17,IF(AND(#REF!=\"Padrão\",$H$4=#REF!),BDI!$C$17,IF(AND(#REF!=\"Diferenciado\",$H$4=#REF!),BDI!$G$17,IF(AND(#REF!=\"Diferenciado\",$H$4=#REF!),BDI!$H$17,IF(#REF!=\"ZERO\",0))))),\"\")","v":{"$error":"#REF!"}},{"$error":"#REF!"},{"$error":"#REF!"}]
["SF-00911","Recuperação de massa em esquadria metálica","m",0,{"$f":"OFFSET(INDEX(Composições!A:J,MATCH(Orçamentária!A916,Composições!A:A,0),8),2,0)","v":21.9355285},0,{"$f":"IF(A916<>\"\",IF(AND(#REF!=\"Padrão\",$H$4=#REF!),BDI!$B$17,IF(AND(#REF!=\"Padrão\",$H$4=#REF!),BDI!$C$17,IF(AND(#REF!=\"Diferenciado\",$H$4=#REF!),BDI!$G$17,IF(AND(#REF!=\"Diferenciado\",$H$4=#REF!),BDI!$H$17,IF(#REF!=\"ZERO\",0))))),\"\")","v":{"$error":"#REF!"}},{"$error":"#REF!"},{"$error":"#REF!"}]
["SF-00912","Instalação de espelho reaproveitado","m2",0,{"$f":"OFFSET(INDEX(Composições!A:J,MATCH(Orçamentária!A917,Composições!A:A,0),8),2,0)","v":56.133599999999994},0,{"$f":"IF(A917<>\"\",IF(AND(#REF!=\"Padrão\",$H$4=#REF!),BDI!$B$17,IF(AND(#REF!=\"Padrão\",$H$4=#REF!),BDI!$C$17,IF(AND(#REF!=\"Diferenciado\",$H$4=#REF!),BDI!$G$17,IF(AND(#REF!=\"Diferenciado\",$H$4=#REF!),BDI!$H$17,IF(#REF!=\"ZERO\",0))))),\"\")","v":{"$error":"#REF!"}},{"$error":"#REF!"},{"$error":"#REF!"}]
["SF-00913","Espelho fumê/bronze 4mm lapidado","m2",0,{"$f":"OFFSET(INDEX(Composições!A:J,MATCH(Orçamentária!A918,Composições!A:A,0),8),2,0)","v":56.133600000000001},0,{"$f":"IF(A918<>\"\",IF(AND(#REF!=\"Padrão\",$H$4=#REF!),BDI!$B$17,IF(AND(#REF!=\"Padrão\",$H$4=#REF!),BDI!$C$17,IF(AND(#REF!=\"Diferenciado\",$H$4=#REF!),BDI!$G$17,IF(AND(#REF!=\"Diferenciado\",$H$4=#REF!),BDI!$H$17,IF(#REF!=\"ZERO\",0))))),\"\")","v":{"$error":"#REF!"}},{"$error":"#REF!"},{"$error":"#REF!"}]
["SF-00914","Finesson (parafuso de fixação francês)","un",0,{"$f":"OFFSET(INDEX(Composições!A:J,MATCH(Orçamentária!A919,Composições!A:A,0),8),2,0)","v":5.3199999999999994},0,{"$f":"IF(A919<>\"\",IF(AND(#REF!=\"Padrão\",$H$4=#REF!),BDI!$B$17,IF(AND(#REF!=\"Padrão\",$H$4=#REF!),BDI!$C$17,IF(AND(#REF!=\"Diferenciado\",$H$4=#REF!),BDI!$G$17,IF(AND(#REF!=\"Diferenciado\",$H$4=#REF!),BDI!$H$17,IF(#REF!=\"ZERO\",0))))),\"\")","v":{"$error":"#REF!"}},{"$error":"#REF!"},{"$error":"#REF!"}]
["SF-00915","Graute industrializado, fck ≥ 25MPa","m3",0.31,{"$f":"OFFSET(INDEX(Composições!A:J,MATCH(Orçamentária!A920,Composições!A:A,0),8),2,0)","v":2385.2254313999997},739.41988373399988,{"$f":"BDI!$C$17","v":0.25},2981.53,924.27]
["SF-00916","Armação de aço CA-50 bitolas de 10,0mm a 12,50mm","kg",0,{"$f":"OFFSET(INDEX(Composições!A:J,MATCH(Orçamentária!A921,Composições!A:A,0),8),2,0)","v":7.3792029000000001},0,{"$f":"IF(A921<>\"\",IF(AND(#REF!=\"Padrão\",$H$4=#REF!),BDI!$B$17,IF(AND(#REF!=\"Padrão\",$H$4=#REF!),BDI!$C$17,IF(AND(#REF!=\"Diferenciado\",$H$4=#REF!),BDI!$G$17,IF(AND(#REF!=\"Diferenciado\",$H$4=#REF!),BDI!$H$17,IF(#REF!=\"ZERO\",0))))),\"\")","v":{"$error":"#REF!"}},{"$error":"#REF!"},{"$error":"#REF!"}]
["SF-00917","Armação de aço CA-50 bitolas de 16,0mm a 25,0mm","kg",0,{"$f":"OFFSET(INDEX(Composições!A:J,MATCH(Orçamentária!A922,Composições!A:A,0),8),2,0)","v":7.3698795999999991},0,{"$f":"IF(A922<>\"\",IF(AND(#REF!=\"Padrão\",$H$4=#REF!),BDI!$B$17,IF(AND(#REF!=\"Padrão\",$H$4=#REF!),BDI!$C$17,IF(AND(#REF!=\"Diferenciado\",$H$4=#REF!),BDI!$G$17,IF(AND(#REF!=\"Diferenciado\",$H$4=#REF!),BDI!$H$17,IF(#REF!=\"ZERO\",0))))),\"\")","v":{"$error":"#REF!"}},{"$error":"#REF!"},{"$error":"#REF!"}]
["SF-00918","Remoção de mola hidráulica de piso","un",0,{"$f":"OFFSET(INDEX(Composições!A:J,MATCH(Orçamentária!A923,Composições!A:A,0),8),2,0)","v":17.984450000000002},0,{"$f":"IF(A923<>\"\",IF(AND(#REF!=\"Padrão\",$H$4=#REF!),BDI!$B$17,IF(AND(#REF!=\"Padrão\",$H$4=#REF!),BDI!$C$17,IF(AND(#REF!=\"Diferenciado\",$H$4=#REF!),BDI!$G$17,IF(AND(#REF!=\"Diferenciado\",$H$4=#REF!),BDI!$H$17,IF(#REF!=\"ZERO\",0))))),\"\")","v":{"$error":"#REF!"}},{"$error":"#REF!"},{"$error":"#REF!"}]
["SF-00919","Escavação manual de valas","m3",0,{"$f":"OFFSET(INDEX(Composições!A:J,MATCH(Orçamentária!A924,Composições!A:A,0),8),2,0)","v":57.575623999999998},0,{"$f":"IF(A924<>\"\",IF(AND(#REF!=\"Padrão\",$H$4=#REF!),BDI!$B$17,IF(AND(#REF!=\"Padrão\",$H$4=#REF!),BDI!$C$17,IF(AND(#REF!=\"Diferenciado\",$H$4=#REF!),BDI!$G$17,IF(AND(#REF!=\"Diferenciado\",$H$4=#REF!),BDI!$H$17,IF(#REF!=\"ZERO\",0))))),\"\")","v":{"$error":"#REF!"}},{"$error":"#REF!"},{"$error":"#REF!"}]
["SF-00920","Reaterro de vala com compactação mecanizada","m3",0,{"$f":"OFFSET(INDEX(Composições!A:J,MATCH(Orçamentária!A925,Composições!A:A,0),8),2,0)","v":20.689204500000002},0,{"$f":"IF(A925<>\"\",IF(AND(#REF!=\"Padrão\",$H$4=#REF!),BDI!$B$17,IF(AND(#REF!=\"Padrão\",$H$4=#REF!),BDI!$C$17,IF(AND(#REF!=\"Diferenciado\",$H$4=#REF!),BDI!$G$17,IF(AND(#REF!=\"Diferenciado\",$H$4=#REF!),BDI!$H$17,IF(#REF!=\"ZERO\",0))))),\"\")","v":{"$error":"#REF!"}},{"$error":"#REF!"},{"$error":"#REF!"}]
["SF-00921","Aterro de vala com compactação mecanizada","m3",0,{"$f":"OFFSET(INDEX(Composições!A:J,MATCH(Orçamentária!A926,Composições!A:A,0),8),2,0)","v":75.522243812499994},0,{"$f":"IF(A926<>\"\",IF(AND(#REF!=\"Padrão\",$H$4=#REF!),BDI!$B$17,IF(AND(#REF!=\"Padrão\",$H$4=#REF!),BDI!$C$17,IF(AND(#REF!=\"Diferenciado\",$H$4=#REF!),BDI!$G$17,IF(AND(#REF!=\"Diferenciado\",$H$4=#REF!),BDI!$H$17,IF(#REF!=\"ZERO\",0))))),\"\")","v":{"$error":"#REF!"}},{"$error":"#REF!"},{"$error":"#REF!"}]
["SF-00922","Tubo de cobre classe \"E\" 22mm","m",0,{"$f":"OFFSET(INDEX(Composições!A:J,MATCH(Orçamentária!A927,Composições!A:A,0),8),2,0)","v":40.800048999999994},0,{"$f":"IF(A927<>\"\",IF(AND(#REF!=\"Padrão\",$H$4=#REF!),BDI!$B$17,IF(AND(#REF!=\"Padrão\",$H$4=#REF!),BDI!$C$17,IF(AND(#REF!=\"Diferenciado\",$H$4=#REF!),BDI!$G$17,IF(AND(#REF!=\"Diferenciado\",$H$4=#REF!),BDI!$H$17,IF(#REF!=\"ZERO\",0))))),\"\")","v":{"$error":"#REF!"}},{"$error":"#REF!"},{"$error":"#REF!"}]
["SF-00923","Tubo de cobre classe \"E\" 28 mm","m",0,{"$f":"OFFSET(INDEX(Composições!A:J,MATCH(Orçamentária!A928,Composições!A:A,0),8),2,0)","v":51.007073200000001},0,{"$f":"IF(A928<>\"\",IF(AND(#REF!=\"Padrão\",$H$4=#REF!),BDI!$B$17,IF(AND(#REF!=\"Padrão\",$H$4=#REF!),BDI!$C$17,IF(AND(#REF!=\"Diferenciado\",$H$4=#REF!),BDI!$G$17,IF(AND(#REF!=\"Diferenciado\",$H$4=#REF!),BDI!$H$17,IF(#REF!=\"ZERO\",0))))),\"\")","v":{"$error":"#REF!"}},{"$error":"#REF!"},{"$error":"#REF!"}]
["SF-00924","Tubo de cobre classe \"E\" 42mm","m",0,{"$f":"OFFSET(INDEX(Composições!A:J,MATCH(Orçamentária!A929,Composições!A:A,0),8),2,0)","v":91.921980049999988},0,{"$f":"IF(A929<>\"\",IF(AND(#REF!=\"Padrão\",$H$4=#REF!),BDI!$B$17,IF(AND(#REF!=\"Padrão\",$H$4=#REF!),BDI!$C$17,IF(AND(#REF!=\"Diferenciado\",$H$4=#REF!),BDI!$G$17,IF(AND(#REF!=\"Diferenciado\",$H$4=#REF!),BDI!$H$17,IF(#REF!=\"ZERO\",0))))),\"\")","v":{"$error":"#REF!"}},{"$error":"#REF!"},{"$error":"#REF!"}]
["SF-00925","Bacia convencional - Linha Acessibilidade","un",0,{"$f":"OFFSET(INDEX(Composições!A:J,MATCH(Orçamentária!A930,Composições!A:A,0),8),2,0)","v":604.12342334999994},0,{"$f":"IF(A930<>\"\",IF(AND(#REF!=\"Padrão\",$H$4=#REF!),BDI!$B$17,IF(AND(#REF!=\"Padrão\",$H$4=#REF!),BDI!$C$17,IF(AND(#REF!=\"Diferenciado\",$H$4=#REF!),BDI!$G$17,IF(AND(#REF!=\"Diferenciado\",$H$4=#REF!),BDI!$H$17,IF(#REF!=\"ZERO\",0))))),\"\")","v":{"$error":"#REF!"}},{"$error":"#REF!"},{"$error":"#REF!"}]
["SF-00926","Assento para bacia convencional - Linha Acessibilidade","un",0,{"$f":"OFFSET(INDEX(Composições!A:J,MATCH(Orçamentária!A931,Composições!A:A,0),8),2,0)","v":1.4554},0,{"$f":"IF(A931<>\"\",IF(AND(#REF!=\"Padrão\",$H$4=#REF!),BDI!$B$17,IF(AND(#REF!=\"Padrão\",$H$4=#REF!),BDI!$C$17,IF(AND(#REF!=\"Diferenciado\",$H$4=#REF!),BDI!$G$17,IF(AND(#REF!=\"Diferenciado\",$H$4=#REF!),BDI!$H$17,IF(#REF!=\"ZERO\",0))))),\"\")","v":{"$error":"#REF!"}},{"$error":"#REF!"},{"$error":"#REF!"}]
["SF-00927","Base registro de gaveta 1 1/2”","un",0,{"$f":"OFFSET(INDEX(Composições!A:J,MATCH(Orçamentária!A932,Composições!A:A,0),8),2,0)","v":27.116771499999999},0,{"$f":"IF(A932<>\"\",IF(AND(#REF!=\"Padrão\",$H$4=#REF!),BDI!$B$17,IF(AND(#REF!=\"Padrão\",$H$4=#REF!),BDI!$C$17,IF(AND(#REF!=\"Diferenciado\",$H$4=#REF!),BDI!$G$17,IF(AND(#REF!=\"Diferenciado\",$H$4=#REF!),BDI!$H$17,IF(#REF!=\"ZERO\",0))))),\"\")","v":{"$error":"#REF!"}},{"$error":"#REF!"},{"$error":"#REF!"}]
["SF-00928","Condutor 25mm²","m",0,{"$f":"OFFSET(INDEX(Composições!A:J,MATCH(Orçamentária!A933,Composições!A:A,0),8),2,0)","v":2.2756204999999996},0,{"$f":"IF(A933<>\"\",IF(AND(#REF!=\"Padrão\",$H$4=#REF!),BDI!$B$17,IF(AND(#REF!=\"Padrão\",$H$4=#REF!),BDI!$C$17,IF(AND(#REF!=\"Diferenciado\",$H$4=#REF!),BDI!$G$17,IF(AND(#REF!=\"Diferenciado\",$H$4=#REF!),BDI!$H$17,IF(#REF!=\"ZERO\",0))))),\"\")","v":{"$error":"#REF!"}},{"$error":"#REF!"},{"$error":"#REF!"}]
["SF-00929","Condutor 35mm²","m",0,{"$f":"OFFSET(INDEX(Composições!A:J,MATCH(Orçamentária!A934,Composições!A:A,0),8),2,0)","v":2.5914574999999997},0,{"$f":"IF(A934<>\"\",IF(AND(#REF!=\"Padrão\",$H$4=#REF!),BDI!$B$17,IF(AND(#REF!=\"Padrão\",$H$4=#REF!),BDI!$C$17,IF(AND(#REF!=\"Diferenciado\",$H$4=#REF!),BDI!$G$17,IF(AND(#REF!=\"Diferenciado\",$H$4=#REF!),BDI!$H$17,IF(#REF!=\"ZERO\",0))))),\"\")","v":{"$error":"#REF!"}},{"$error":"#REF!"},{"$error":"#REF!"}]
["SF-00930","Condutor 50mm²","m",0,{"$f":"OFFSET(INDEX(Composições!A:J,MATCH(Orçamentária!A935,Composições!A:A,0),8),2,0)","v":3.0827594999999999},0,{"$f":"IF(A935<>\"\",IF(AND(#REF!=\"Padrão\",$H$4=#REF!),BDI!$B$17,IF(AND(#REF!=\"Padrão\",$H$4=#REF!),BDI!$C$17,IF(AND(#REF!=\"Diferenciado\",$H$4=#REF!),BDI!$G$17,IF(AND(#REF!=\"Diferenciado\",$H$4=#REF!),BDI!$H$17,IF(#REF!=\"ZERO\",0))))),\"\")","v":{"$error":"#REF!"}},{"$error":"#REF!"},{"$error":"#REF!"}]
["SF-00931","Condutor 70mm²","m",0,{"$f":"OFFSET(INDEX(Composições!A:J,MATCH(Orçamentária!A936,Composições!A:A,0),8),2,0)","v":3.7144334999999997},0,{"$f":"IF(A936<>\"\",IF(AND(#REF!=\"Padrão\",$H$4=#REF!),BDI!$B$17,IF(AND(#REF!=\"Padrão\",$H$4=#REF!),BDI!$C$17,IF(AND(#REF!=\"Diferenciado\",$H$4=#REF!),BDI!$G$17,IF(AND(#REF!=\"Diferenciado\",$H$4=#REF!),BDI!$H$17,IF(#REF!=\"ZERO\",0))))),\"\")","v":{"$error":"#REF!"}},{"$error":"#REF!"},{"$error":"#REF!"}]
["SF-00932","Condutor 95mm²","m",0,{"$f":"OFFSET(INDEX(Composições!A:J,MATCH(Orçamentária!A937,Composições!A:A,0),8),2,0)","v":4.5215724999999996},0,{"$f":"IF(A937<>\"\",IF(AND(#REF!=\"Padrão\",$H$4=#REF!),BDI!$B$17,IF(AND(#REF!=\"Padrão\",$H$4=#REF!),BDI!$C$17,IF(AND(#REF!=\"Diferenciado\",$H$4=#REF!),BDI!$G$17,IF(AND(#REF!=\"Diferenciado\",$H$4=#REF!),BDI!$H$17,IF(#REF!=\"ZERO\",0))))),\"\")","v":{"$error":"#REF!"}},{"$error":"#REF!"},{"$error":"#REF!"}]
["SF-00933","Condutor 120mm²","m",0,{"$f":"OFFSET(INDEX(Composições!A:J,MATCH(Orçamentária!A938,Composições!A:A,0),8),2,0)","v":5.3638044999999996},0,{"$f":"IF(A938<>\"\",IF(AND(#REF!=\"Padrão\",$H$4=#REF!),BDI!$B$17,IF(AND(#REF!=\"Padrão\",$H$4=#REF!),BDI!$C$17,IF(AND(#REF!=\"Diferenciado\",$H$4=#REF!),BDI!$G$17,IF(AND(#REF!=\"Diferenciado\",$H$4=#REF!),BDI!$H$17,IF(#REF!=\"ZERO\",0))))),\"\")","v":{"$error":"#REF!"}},{"$error":"#REF!"},{"$error":"#REF!"}]
["SF-00934","Condutor 150mm²","m",0,{"$f":"OFFSET(INDEX(Composições!A:J,MATCH(Orçamentária!A939,Composições!A:A,0),8),2,0)","v":6.3113154999999992},0,{"$f":"IF(A939<>\"\",IF(AND(#REF!=\"Padrão\",$H$4=#REF!),BDI!$B$17,IF(AND(#REF!=\"Padrão\",$H$4=#REF!),BDI!$C$17,IF(AND(#REF!=\"Diferenciado\",$H$4=#REF!),BDI!$G$17,IF(AND(#REF!=\"Diferenciado\",$H$4=#REF!),BDI!$H$17,IF(#REF!=\"ZERO\",0))))),\"\")","v":{"$error":"#REF!"}},{"$error":"#REF!"},{"$error":"#REF!"}]
["SF-00935","Condutor 185mm²","m",0,{"$f":"OFFSET(INDEX(Composições!A:J,MATCH(Orçamentária!A940,Composições!A:A,0),8),2,0)","v":7.4693845000000003},0,{"$f":"IF(A940<>\"\",IF(AND(#REF!=\"Padrão\",$H$4=#REF!),BDI!$B$17,IF(AND(#REF!=\"Padrão\",$H$4=#REF!),BDI!$C$17,IF(AND(#REF!=\"Diferenciado\",$H$4=#REF!),BDI!$G$17,IF(AND(#REF!=\"Diferenciado\",$H$4=#REF!),BDI!$H$17,IF(#REF!=\"ZERO\",0))))),\"\")","v":{"$error":"#REF!"}},{"$error":"#REF!"},{"$error":"#REF!"}]
["SF-00936","Condutor 240mm²","m",0,{"$f":"OFFSET(INDEX(Composições!A:J,MATCH(Orçamentária!A941,Composições!A:A,0),8),2,0)","v":2.2756204999999996},0,{"$f":"IF(A941<>\"\",IF(AND(#REF!=\"Padrão\",$H$4=#REF!),BDI!$B$17,IF(AND(#REF!=\"Padrão\",$H$4=#REF!),BDI!$C$17,IF(AND(#REF!=\"Diferenciado\",$H$4=#REF!),BDI!$G$17,IF(AND(#REF!=\"Diferenciado\",$H$4=#REF!),BDI!$H$17,IF(#REF!=\"ZERO\",0))))),\"\")","v":{"$error":"#REF!"}},{"$error":"#REF!"},{"$error":"#REF!"}]
["SF-00937","Montagem e desmontagem de andaime fachadeiro","m2",1007.72,{"$f":"OFFSET(INDEX(Composições!A:J,MATCH(Orçamentária!A942,Composições!A:A,0),8),2,0)","v":6.7637819035599982},6815.9982998554815,{"$f":"BDI!$C$17","v":0.25},8.4499999999999993,8515.23]
["SF-00938","Montagem e desmontagem de andaime tubular","m",0,{"$f":"OFFSET(INDEX(Composições!A:J,MATCH(Orçamentária!A943,Composições!A:A,0),8),2,0)","v":12.516113154399999},0,{"$f":"IF(A943<>\"\",IF(AND(#REF!=\"Padrão\",$H$4=#REF!),BDI!$B$17,IF(AND(#REF!=\"Padrão\",$H$4=#REF!),BDI!$C$17,IF(AND(#REF!=\"Diferenciado\",$H$4=#REF!),BDI!$G$17,IF(AND(#REF!=\"Diferenciado\",$H$4=#REF!),BDI!$H$17,IF(#REF!=\"ZERO\",0))))),\"\")","v":{"$error":"#REF!"}},{"$error":"#REF!"},{"$error":"#REF!"}]
["SF-00939","Tensor com indicador de tensão para linha de vida","un",0,"","",{"$f":"IF(A944<>\"\",IF(AND(#REF!=\"Padrão\",$H$4=#REF!),BDI!$B$17,IF(AND(#REF!=\"Padrão\",$H$4=#REF!),BDI!$C$17,IF(AND(#REF!=\"Diferenciado\",$H$4=#REF!),BDI!$G$17,IF(AND(#REF!=\"Diferenciado\",$H$4=#REF!),BDI!$H$17,IF(#REF!=\"ZERO\",0))))),\"\")","v":{"$error":"#REF!"}},"",""]
["SF-00940","Locação de fechamento para andaimes com tela 100% polietileno","m2 x mês",809.75,{"$f":"OFFSET(INDEX(Composições!A:J,MATCH(Orçamentária!A945,Composições!A:A,0),8),2,0)","v":3.4655106999999998},2806.1972893249999,{"$f":"BDI!$C$17","v":0.25},4.33,3506.22]
["SF-00941","Plataforma de trabalho aéreo tesoura","dia",0,"","",{"$f":"IF(A946<>\"\",IF(AND(#REF!=\"Padrão\",$H$4=#REF!),BDI!$B$17,IF(AND(#REF!=\"Padrão\",$H$4=#REF!),BDI!$C$17,IF(AND(#REF!=\"Diferenciado\",$H$4=#REF!),BDI!$G$17,IF(AND(#REF!=\"Diferenciado\",$H$4=#REF!),BDI!$H$17,IF(#REF!=\"ZERO\",0))))),\"\")","v":{"$error":"#REF!"}},"",""]
["SF-00942","Remoção de folha de porta de enrolar","un",0,{"$f":"OFFSET(INDEX(Composições!A:J,MATCH(Orçamentária!A947,Composições!A:A,0),8),2,0)","v":127.86999999999998},0,{"$f":"IF(A947<>\"\",IF(AND(#REF!=\"Padrão\",$H$4=#REF!),BDI!$B$17,IF(AND(#REF!=\"Padrão\",$H$4=#REF!),BDI!$C$17,IF(AND(#REF!=\"Diferenciado\",$H$4=#REF!),BDI!$G$17,IF(AND(#REF!=\"Diferenciado\",$H$4=#REF!),BDI!$H$17,IF(#REF!=\"ZERO\",0))))),\"\")","v":{"$error":"#REF!"}},{"$error":"#REF!"},{"$error":"#REF!"}]
["SF-00943","Base registro de gaveta 1\"","un",0,{"$f":"OFFSET(INDEX(Composições!A:J,MATCH(Orçamentária!A948,Composições!A:A,0),8),2,0)","v":26.511065749999997},0,{"$f":"IF(A948<>\"\",IF(AND(#REF!=\"Padrão\",$H$4=#REF!),BDI!$B$17,IF(AND(#REF!=\"Padrão\",$H$4=#REF!),BDI!$C$17,IF(AND(#REF!=\"Diferenciado\",$H$4=#REF!),BDI!$G$17,IF(AND(#REF!=\"Diferenciado\",$H$4=#REF!),BDI!$H$17,IF(#REF!=\"ZERO\",0))))),\"\")","v":{"$error":"#REF!"}},{"$error":"#REF!"},{"$error":"#REF!"}]
["SF-00944","Base registro de pressão 3/4\"","un",0,{"$f":"OFFSET(INDEX(Composições!A:J,MATCH(Orçamentária!A949,Composições!A:A,0),8),2,0)","v":6.9697224999999996},0,{"$f":"IF(A949<>\"\",IF(AND(#REF!=\"Padrão\",$H$4=#REF!),BDI!$B$17,IF(AND(#REF!=\"Padrão\",$H$4=#REF!),BDI!$C$17,IF(AND(#REF!=\"Diferenciado\",$H$4=#REF!),BDI!$G$17,IF(AND(#REF!=\"Diferenciado\",$H$4=#REF!),BDI!$H$17,IF(#REF!=\"ZERO\",0))))),\"\")","v":{"$error":"#REF!"}},{"$error":"#REF!"},{"$error":"#REF!"}]
["SF-00945","Porta para box de banheiro em laminado estrutural","un",0,"","",{"$f":"IF(A950<>\"\",IF(AND(#REF!=\"Padrão\",$H$4=#REF!),BDI!$B$17,IF(AND(#REF!=\"Padrão\",$H$4=#REF!),BDI!$C$17,IF(AND(#REF!=\"Diferenciado\",$H$4=#REF!),BDI!$G$17,IF(AND(#REF!=\"Diferenciado\",$H$4=#REF!),BDI!$H$17,IF(#REF!=\"ZERO\",0))))),\"\")","v":{"$error":"#REF!"}},"",""]
["SF-00946","Tampa em ferro fundido T33","un",0,{"$f":"OFFSET(INDEX(Composições!A:J,MATCH(Orçamentária!A951,Composições!A:A,0),8),2,0)","v":213.715034694991},0,{"$f":"IF(A951<>\"\",IF(AND(#REF!=\"Padrão\",$H$4=#REF!),BDI!$B$17,IF(AND(#REF!=\"Padrão\",$H$4=#REF!),BDI!$C$17,IF(AND(#REF!=\"Diferenciado\",$H$4=#REF!),BDI!$G$17,IF(AND(#REF!=\"Diferenciado\",$H$4=#REF!),BDI!$H$17,IF(#REF!=\"ZERO\",0))))),\"\")","v":{"$error":"#REF!"}},{"$error":"#REF!"},{"$error":"#REF!"}]
["SF-00947","Arquiteto(a) com experiência em intervenção no patrimônio cultural","hh ",1200,{"$f":"OFFSET(INDEX(Composições!A:J,MATCH(Orçamentária!A952,Composições!A:A,0),8),2,0)","v":74.565499999999986},89478.599999999977,{"$f":"BDI!$C$17","v":0.25},93.21,111852]
["SF-00948","Locação de andaime suspenso tipo leve","un x mês ",5,{"$f":"OFFSET(INDEX(Composições!A:J,MATCH(Orçamentária!A953,Composições!A:A,0),8),2,0)","v":570},2850,{"$f":"BDI!$C$17","v":0.25},712.5,3562.5]
["SF-00949","Cadeira suspensa (balancim individual)","un x mês ",0,"","",{"$f":"IF(A954<>\"\",IF(AND(#REF!=\"Padrão\",$H$4=#REF!),BDI!$B$17,IF(AND(#REF!=\"Padrão\",$H$4=#REF!),BDI!$C$17,IF(AND(#REF!=\"Diferenciado\",$H$4=#REF!),BDI!$G$17,IF(AND(#REF!=\"Diferenciado\",$H$4=#REF!),BDI!$H$17,IF(#REF!=\"ZERO\",0))))),\"\")","v":{"$error":"#REF!"}},"",""]
["SF-00950","Limpeza de superfície por hidrojateamento de média pressão","m2",226,{"$f":"OFFSET(INDEX(Composições!A:J,MATCH(Orçamentária!A955,Composições!A:A,0),8),2,0)","v":1.3095560000000002},295.95965600000005,{"$f":"BDI!$C$17","v":0.25},1.64,370.64]
["SF-00951","Inspeção da integridade e adesão de placas de rocha ornamental por percussão","m2",482.16,{"$f":"OFFSET(INDEX(Composições!A:J,MATCH(Orçamentária!A956,Composições!A:A,0),8),2,0)","v":4.0826250000000002},1968.4784700000002,{"$f":"BDI!$C$17","v":0.25},5.0999999999999996,2459.02]
["SF-00952","Demolição de proteção mecânica de impermeabilização","m2",30.69,{"$f":"OFFSET(INDEX(Composições!A:J,MATCH(Orçamentária!A957,Composições!A:A,0),8),2,0)","v":18.192499999999999},558.32782499999996,{"$f":"BDI!$C$17","v":0.25},22.74,697.89]
["SF-00953","Impermeabilização com emulsão asfáltica","m2",30.69,{"$f":"OFFSET(INDEX(Composições!A:J,MATCH(Orçamentária!A958,Composições!A:A,0),8),2,0)","v":36.969696499999998},1134.599985585,{"$f":"BDI!$C$17","v":0.25},46.21,1418.18]
["SF-00954","Camada de proteção mecânica simples de impermeabilização","m2",11.8,{"$f":"OFFSET(INDEX(Composições!A:J,MATCH(Orçamentária!A959,Composições!A:A,0),8),2,0)","v":36.5370125815625},431.13674846243754,{"$f":"BDI!$C$17","v":0.25},45.67,538.91]
["SF-00955","Camada de proteção mecânica estruturada de impermeabilização","m2",18.89,{"$f":"OFFSET(INDEX(Composições!A:J,MATCH(Orçamentária!A960,Composições!A:A,0),8),2,0)","v":44.573917581562498},842.00130311571559,{"$f":"BDI!$C$17","v":0.25},55.72,1052.55]
["SF-00956","Remoção de placas  de mármore encaixadas por fixadores metálicos (modelo Ed. Principal)","m2",17.190000000000001,{"$f":"OFFSET(INDEX(Composições!A:J,MATCH(Orçamentária!A961,Composições!A:A,0),8),2,0)","v":12.3538},212.36182200000002,{"$f":"BDI!$C$17","v":0.25},15.44,265.41000000000003]
["SF-00957","Remoção de placas de rocha ornamental argamassada, para reaproveitamento","m2",177.26,{"$f":"OFFSET(INDEX(Composições!A:J,MATCH(Orçamentária!A962,Composições!A:A,0),8),2,0)","v":37.061399999999999},6569.5037639999991,{"$f":"BDI!$C$17","v":0.25},46.33,8212.4599999999991]
["SF-00958","Identificação e acondicionamento de placas de rocha ornamental","m2",164.04,{"$f":"OFFSET(INDEX(Composições!A:J,MATCH(Orçamentária!A963,Composições!A:A,0),8),2,0)","v":6.6813500000000001},1096.008654,{"$f":"BDI!$C$17","v":0.25},8.35,1369.73]
["SF-00959","Limpeza de placas de rocha ornamental argamassada, para reaproveitamento","m2",144.35,{"$f":"OFFSET(INDEX(Composições!A:J,MATCH(Orçamentária!A964,Composições!A:A,0),8),2,0)","v":4.3662000000000001},630.26097000000004,{"$f":"BDI!$C$17","v":0.25},5.46,788.15]
["SF-00960","Remoção e acondicionamento de fixadores metálicos para placas de mármore em fachada (modelo Ed. Principal)","un",6,{"$f":"OFFSET(INDEX(Composições!A:J,MATCH(Orçamentária!A965,Composições!A:A,0),8),2,0)","v":1.4554},8.7324000000000002,{"$f":"BDI!$C$17","v":0.25},1.82,10.92]
["SF-00961","Instalação de fixadores metálicos para placas de mármore em fachada reaproveitados (modelo Ed. Principal)","un",6,{"$f":"OFFSET(INDEX(Composições!A:J,MATCH(Orçamentária!A966,Composições!A:A,0),8),2,0)","v":8.384328597823},50.305971586938,{"$f":"BDI!$C$17","v":0.25},10.48,62.88]
["SF-00962","Fixadores metálicos para rochas ornamentais (tipo Ed. Principal, peça superior)","un",4,{"$f":"OFFSET(INDEX(Composições!A:J,MATCH(Orçamentária!A967,Composições!A:A,0),8),2,0)","v":40.384328597823},{"$f":"IF(ISNUMBER(E967),D967*E967,\"\")","v":161.537314391292},{"$f":"BDI!$C$17","v":0.25},{"$f":"IF(ISNUMBER(E967),ROUND(E967*(1+G967),2),\"\")","v":50.48},{"$f":"IF(ISNUMBER(E967),ROUND(H967*D967,2),\"\")","v":201.92}]
["SF-00963","Fixadores metálicos para rochas ornamentais, sob medida","un",0,"","",{"$f":"IF(A968<>\"\",IF(AND(#REF!=\"Padrão\",$H$4=#REF!),BDI!$B$17,IF(AND(#REF!=\"Padrão\",$H$4=#REF!),BDI!$C$17,IF(AND(#REF!=\"Diferenciado\",$H$4=#REF!),BDI!$G$17,IF(AND(#REF!=\"Diferenciado\",$H$4=#REF!),BDI!$H$17,IF(#REF!=\"ZERO\",0))))),\"\")","v":{"$error":"#REF!"}},"",""]
["SF-00964","Mármore Branco Especial 20mm argamassado (Ed. Principal e Anexo 1)","m2",38.25,{"$f":"OFFSET(INDEX(Composições!A:J,MATCH(Orçamentária!A969,Composições!A:A,0),8),2,0)","v":509.63977499999999},19493.721393749998,{"$f":"BDI!$C$17","v":0.25},637.04999999999995,24367.16]
["SF-00965","Mármore Branco Especial 20mm com inserts e argamassa (Ed. Principal e Anexo 1)","m2",11.33,{"$f":"OFFSET(INDEX(Composições!A:J,MATCH(Orçamentária!A970,Composições!A:A,0),8),2,0)","v":732.65191214945571},8300.9461646533327,{"$f":"BDI!$C$17","v":0.25},915.81,10376.129999999999]
["SF-00966","Mármore Branco Especial 30mm argamassado (Ed. Principal e Anexo 1)","m2",1.3,{"$f":"OFFSET(INDEX(Composições!A:J,MATCH(Orçamentária!A971,Composições!A:A,0),8),2,0)","v":625.13977499999999},812.68170750000002,{"$f":"BDI!$C$17","v":0.25},781.42,1015.85]
["SF-00967","Mármore Branco Especial 30mm com inserts e argamassa (Ed. Principal e Anexo 1)","m2",51.64,{"$f":"OFFSET(INDEX(Composições!A:J,MATCH(Orçamentária!A972,Composições!A:A,0),8),2,0)","v":848.15191214945571},43798.564743397896,{"$f":"BDI!$C$17","v":0.25},1060.19,54748.21]
["SF-00968","Mármore branco especial, e=30mm, instalação em fixadores metálicos existentes (modelo Edifício Principal)","m2",37.32,{"$f":"OFFSET(INDEX(Composições!A:J,MATCH(Orçamentária!A973,Composições!A:A,0),8),2,0)","v":595.79598714945587},22235.106240417692,{"$f":"BDI!$C$17","v":0.25},744.74,27793.7]
["SF-00969","Instalação de placas de mármore 30mm reaproveitadas em fixadores metálicos existentes (modelo Edifício Principal)","m2",0,"","",{"$f":"IF(A974<>\"\",IF(AND(#REF!=\"Padrão\",$H$4=#REF!),BDI!$B$17,IF(AND(#REF!=\"Padrão\",$H$4=#REF!),BDI!$C$17,IF(AND(#REF!=\"Diferenciado\",$H$4=#REF!),BDI!$G$17,IF(AND(#REF!=\"Diferenciado\",$H$4=#REF!),BDI!$H$17,IF(#REF!=\"ZERO\",0))))),\"\")","v":{"$error":"#REF!"}},"",""]
["SF-00970","Instalação de placas de rocha ornamental reaproveitadas, por meio de argamassa","m2",36.81,{"$f":"OFFSET(INDEX(Composições!A:J,MATCH(Orçamentária!A975,Composições!A:A,0),8),2,0)","v":37.139775000000007},1367.1151177500003,{"$f":"BDI!$C$17","v":0.25},46.42,1708.72]
["SF-00971","Instalação de placas de rocha ornamental reaproveitadas, por meio de argamassa e fixadores metálicos","m2",101.83,{"$f":"OFFSET(INDEX(Composições!A:J,MATCH(Orçamentária!A976,Composições!A:A,0),8),2,0)","v":260.15191214945571},26491.269214179076,{"$f":"BDI!$C$17","v":0.25},325.19,33114.1]
["SF-00972","Aplicação de hidrofugante à base de silano e silicone","m2",134.6,{"$f":"OFFSET(INDEX(Composições!A:J,MATCH(Orçamentária!A977,Composições!A:A,0),8),2,0)","v":18.889610000000001},2542.541506,{"$f":"BDI!$C$17","v":0.25},23.61,3177.91]
["SF-00973","Cantoneira em alumínio abas iguais 1\" x 1/8\" – Pingadeira “L”","m",319.62,{"$f":"OFFSET(INDEX(Composições!A:J,MATCH(Orçamentária!A978,Composições!A:A,0),8),2,0)","v":32.719900000000003},10457.934438,{"$f":"BDI!$C$17","v":0.25},40.9,13072.46]
["SF-00974","Granito Amarelo Maracujá para rodapé","m2",1,{"$f":"OFFSET(INDEX(Composições!A:J,MATCH(Orçamentária!A979,Composições!A:A,0),8),2,0)","v":373.08395100000001},373.08395100000001,{"$f":"BDI!$C$17","v":0.25},466.35,466.35]
["SF-00975","Acabamento das extremidades aparentes dos parafusos de fixação (lixamento e revestimento)","un",140,{"$f":"OFFSET(INDEX(Composições!A:J,MATCH(Orçamentária!A980,Composições!A:A,0),8),2,0)","v":2.3409249999999999},327.72949999999997,{"$f":"BDI!$C$17","v":0.25},2.93,410.2]
["SF-00976","Rejuntamento de placas de rocha ornamental em fachada","m2",672.51,{"$f":"OFFSET(INDEX(Composições!A:J,MATCH(Orçamentária!A981,Composições!A:A,0),8),2,0)","v":4.9049259999999997},3298.6117842599997,{"$f":"BDI!$C$17","v":0.25},6.13,4122.49]
["SF-00977","Junta de movimentação em fachada","m",738.24,{"$f":"OFFSET(INDEX(Composições!A:J,MATCH(Orçamentária!A982,Composições!A:A,0),8),2,0)","v":24.097443499999997},17789.696689439999,{"$f":"BDI!$C$17","v":0.25},30.12,22235.79]
["SF-00978","Adesivo Selante Poliuretano – fornecimento e aplicação","m",153.9,{"$f":"OFFSET(INDEX(Composições!A:J,MATCH(Orçamentária!A983,Composições!A:A,0),8),2,0)","v":12.803853},1970.5129767000001,{"$f":"BDI!$C$17","v":0.25},16,2462.4]
["SF-00979","Esquadria para fachada do Bloco 14","un",0,"","",{"$f":"IF(A984<>\"\",IF(AND(#REF!=\"Padrão\",$H$4=#REF!),BDI!$B$17,IF(AND(#REF!=\"Padrão\",$H$4=#REF!),BDI!$C$17,IF(AND(#REF!=\"Diferenciado\",$H$4=#REF!),BDI!$G$17,IF(AND(#REF!=\"Diferenciado\",$H$4=#REF!),BDI!$H$17,IF(#REF!=\"ZERO\",0))))),\"\")","v":{"$error":"#REF!"}},"",""]
["SF-00980","Chuveiro elétrico","un",0,{"$f":"OFFSET(INDEX(Composições!A:J,MATCH(Orçamentária!A985,Composições!A:A,0),8),2,0)","v":62.416085849999988},0,{"$f":"IF(A985<>\"\",IF(AND(#REF!=\"Padrão\",$H$4=#REF!),BDI!$B$17,IF(AND(#REF!=\"Padrão\",$H$4=#REF!),BDI!$C$17,IF(AND(#REF!=\"Diferenciado\",$H$4=#REF!),BDI!$G$17,IF(AND(#REF!=\"Diferenciado\",$H$4=#REF!),BDI!$H$17,IF(#REF!=\"ZERO\",0))))),\"\")","v":{"$error":"#REF!"}},{"$error":"#REF!"},{"$error":"#REF!"}]
["SF-00981","Base para pavimentação com concreto magro","m3 ",0,{"$f":"OFFSET(INDEX(Composições!A:J,MATCH(Orçamentária!A986,Composições!A:A,0),8),2,0)","v":445.9413482041},0,{"$f":"IF(A986<>\"\",IF(AND(#REF!=\"Padrão\",$H$4=#REF!),BDI!$B$17,IF(AND(#REF!=\"Padrão\",$H$4=#REF!),BDI!$C$17,IF(AND(#REF!=\"Diferenciado\",$H$4=#REF!),BDI!$G$17,IF(AND(#REF!=\"Diferenciado\",$H$4=#REF!),BDI!$H$17,IF(#REF!=\"ZERO\",0))))),\"\")","v":{"$error":"#REF!"}},{"$error":"#REF!"},{"$error":"#REF!"}]
["SF-00982","Pavimentação em concreto armado simples","m2",0,{"$f":"OFFSET(INDEX(Composições!A:J,MATCH(Orçamentária!A987,Composições!A:A,0),8),2,0)","v":71.863223099999999},0,{"$f":"IF(A987<>\"\",IF(AND(#REF!=\"Padrão\",$H$4=#REF!),BDI!$B$17,IF(AND(#REF!=\"Padrão\",$H$4=#REF!),BDI!$C$17,IF(AND(#REF!=\"Diferenciado\",$H$4=#REF!),BDI!$G$17,IF(AND(#REF!=\"Diferenciado\",$H$4=#REF!),BDI!$H$17,IF(#REF!=\"ZERO\",0))))),\"\")","v":{"$error":"#REF!"}},{"$error":"#REF!"},{"$error":"#REF!"}]
["SF-00983","Remoção de reservatório d’água","un",0,{"$f":"OFFSET(INDEX(Composições!A:J,MATCH(Orçamentária!A988,Composições!A:A,0),8),2,0)","v":134.482},0,{"$f":"IF(A988<>\"\",IF(AND(#REF!=\"Padrão\",$H$4=#REF!),BDI!$B$17,IF(AND(#REF!=\"Padrão\",$H$4=#REF!),BDI!$C$17,IF(AND(#REF!=\"Diferenciado\",$H$4=#REF!),BDI!$G$17,IF(AND(#REF!=\"Diferenciado\",$H$4=#REF!),BDI!$H$17,IF(#REF!=\"ZERO\",0))))),\"\")","v":{"$error":"#REF!"}},{"$error":"#REF!"},{"$error":"#REF!"}]
["SF-00984","Transporte e destinação final de entulho para distâncias até 30 km","m3 x km",0,{"$f":"OFFSET(INDEX(Composições!A:J,MATCH(Orçamentária!A989,Composições!A:A,0),8),2,0)","v":1.5034833000000001},0,{"$f":"IF(A989<>\"\",IF(AND(#REF!=\"Padrão\",$H$4=#REF!),BDI!$B$17,IF(AND(#REF!=\"Padrão\",$H$4=#REF!),BDI!$C$17,IF(AND(#REF!=\"Diferenciado\",$H$4=#REF!),BDI!$G$17,IF(AND(#REF!=\"Diferenciado\",$H$4=#REF!),BDI!$H$17,IF(#REF!=\"ZERO\",0))))),\"\")","v":{"$error":"#REF!"}},{"$error":"#REF!"},{"$error":"#REF!"}]
["SF-00985","Locação de Caminhão Munck","dia",0,"","",{"$f":"IF(A990<>\"\",IF(AND(#REF!=\"Padrão\",$H$4=#REF!),BDI!$B$17,IF(AND(#REF!=\"Padrão\",$H$4=#REF!),BDI!$C$17,IF(AND(#REF!=\"Diferenciado\",$H$4=#REF!),BDI!$G$17,IF(AND(#REF!=\"Diferenciado\",$H$4=#REF!),BDI!$H$17,IF(#REF!=\"ZERO\",0))))),\"\")","v":{"$error":"#REF!"}},"",""]
["SF-00986","Demolição de estrutura metálica","kg ",0,{"$f":"OFFSET(INDEX(Composições!A:J,MATCH(Orçamentária!A991,Composições!A:A,0),8),2,0)","v":2.6948459999999996},0,{"$f":"IF(A991<>\"\",IF(AND(#REF!=\"Padrão\",$H$4=#REF!),BDI!$B$17,IF(AND(#REF!=\"Padrão\",$H$4=#REF!),BDI!$C$17,IF(AND(#REF!=\"Diferenciado\",$H$4=#REF!),BDI!$G$17,IF(AND(#REF!=\"Diferenciado\",$H$4=#REF!),BDI!$H$17,IF(#REF!=\"ZERO\",0))))),\"\")","v":{"$error":"#REF!"}},{"$error":"#REF!"},{"$error":"#REF!"}]
["SF-00987","Escavação manual com profundidade maior do que 1,30 m","m3 ",0,{"$f":"OFFSET(INDEX(Composições!A:J,MATCH(Orçamentária!A992,Composições!A:A,0),8),2,0)","v":62.5822},0,{"$f":"IF(A992<>\"\",IF(AND(#REF!=\"Padrão\",$H$4=#REF!),BDI!$B$17,IF(AND(#REF!=\"Padrão\",$H$4=#REF!),BDI!$C$17,IF(AND(#REF!=\"Diferenciado\",$H$4=#REF!),BDI!$G$17,IF(AND(#REF!=\"Diferenciado\",$H$4=#REF!),BDI!$H$17,IF(#REF!=\"ZERO\",0))))),\"\")","v":{"$error":"#REF!"}},{"$error":"#REF!"},{"$error":"#REF!"}]
["SF-00988","Escavação mecânica com profundidade maior do que 1,30 m","m3 ",0,{"$f":"OFFSET(INDEX(Composições!A:J,MATCH(Orçamentária!A993,Composições!A:A,0),8),2,0)","v":4.1547157499999994},0,{"$f":"IF(A993<>\"\",IF(AND(#REF!=\"Padrão\",$H$4=#REF!),BDI!$B$17,IF(AND(#REF!=\"Padrão\",$H$4=#REF!),BDI!$C$17,IF(AND(#REF!=\"Diferenciado\",$H$4=#REF!),BDI!$G$17,IF(AND(#REF!=\"Diferenciado\",$H$4=#REF!),BDI!$H$17,IF(#REF!=\"ZERO\",0))))),\"\")","v":{"$error":"#REF!"}},{"$error":"#REF!"},{"$error":"#REF!"}]
["SF-00989","Grama Batatais em placas de 40 x 40 cm","m2",0,{"$f":"OFFSET(INDEX(Composições!A:J,MATCH(Orçamentária!A994,Composições!A:A,0),8),2,0)","v":36.992610178216005},0,{"$f":"IF(A994<>\"\",IF(AND(#REF!=\"Padrão\",$H$4=#REF!),BDI!$B$17,IF(AND(#REF!=\"Padrão\",$H$4=#REF!),BDI!$C$17,IF(AND(#REF!=\"Diferenciado\",$H$4=#REF!),BDI!$G$17,IF(AND(#REF!=\"Diferenciado\",$H$4=#REF!),BDI!$H$17,IF(#REF!=\"ZERO\",0))))),\"\")","v":{"$error":"#REF!"}},{"$error":"#REF!"},{"$error":"#REF!"}]
["SF-00990","Pintura de meios-fios com tinta acrílica","m",0,{"$f":"OFFSET(INDEX(Composições!A:J,MATCH(Orçamentária!A995,Composições!A:A,0),8),2,0)","v":4.1177730999999991},0,{"$f":"IF(A995<>\"\",IF(AND(#REF!=\"Padrão\",$H$4=#REF!),BDI!$B$17,IF(AND(#REF!=\"Padrão\",$H$4=#REF!),BDI!$C$17,IF(AND(#REF!=\"Diferenciado\",$H$4=#REF!),BDI!$G$17,IF(AND(#REF!=\"Diferenciado\",$H$4=#REF!),BDI!$H$17,IF(#REF!=\"ZERO\",0))))),\"\")","v":{"$error":"#REF!"}},{"$error":"#REF!"},{"$error":"#REF!"}]
["SF-00991","Meios-fios em concreto pré-moldado","m",0,{"$f":"OFFSET(INDEX(Composições!A:J,MATCH(Orçamentária!A996,Composições!A:A,0),8),2,0)","v":36.076246454390997},0,{"$f":"IF(A996<>\"\",IF(AND(#REF!=\"Padrão\",$H$4=#REF!),BDI!$B$17,IF(AND(#REF!=\"Padrão\",$H$4=#REF!),BDI!$C$17,IF(AND(#REF!=\"Diferenciado\",$H$4=#REF!),BDI!$G$17,IF(AND(#REF!=\"Diferenciado\",$H$4=#REF!),BDI!$H$17,IF(#REF!=\"ZERO\",0))))),\"\")","v":{"$error":"#REF!"}},{"$error":"#REF!"},{"$error":"#REF!"}]
["SF-00992","Tubo PEAD corrugado para drenagem – Diâmetro 100 mm","m",0,{"$f":"OFFSET(INDEX(Composições!A:J,MATCH(Orçamentária!A997,Composições!A:A,0),8),2,0)","v":26.211786472044999},0,{"$f":"IF(A997<>\"\",IF(AND(#REF!=\"Padrão\",$H$4=#REF!),BDI!$B$17,IF(AND(#REF!=\"Padrão\",$H$4=#REF!),BDI!$C$17,IF(AND(#REF!=\"Diferenciado\",$H$4=#REF!),BDI!$G$17,IF(AND(#REF!=\"Diferenciado\",$H$4=#REF!),BDI!$H$17,IF(#REF!=\"ZERO\",0))))),\"\")","v":{"$error":"#REF!"}},{"$error":"#REF!"},{"$error":"#REF!"}]
["SF-00993","Carpete aveludado azul royal","m2",0,"","",{"$f":"IF(A998<>\"\",IF(AND(#REF!=\"Padrão\",$H$4=#REF!),BDI!$B$17,IF(AND(#REF!=\"Padrão\",$H$4=#REF!),BDI!$C$17,IF(AND(#REF!=\"Diferenciado\",$H$4=#REF!),BDI!$G$17,IF(AND(#REF!=\"Diferenciado\",$H$4=#REF!),BDI!$H$17,IF(#REF!=\"ZERO\",0))))),\"\")","v":{"$error":"#REF!"}},"",""]
["SF-00994","Fixadores metálicos para rochas ornamentais (Modelo Edifício Principal, peça inferior)","un",4,{"$f":"OFFSET(INDEX(Composições!A:J,MATCH(Orçamentária!A999,Composições!A:A,0),8),2,0)","v":50.314328597823},201.257314391292,{"$f":"BDI!$C$17","v":0.25},62.89,251.56]
["SF-00995","Montagem e desmontagem de andaime suspenso tipo leve (balancim)","un",4,600,2400,{"$f":"BDI!$H$17","v":0.1671},700.26,2801.04]
["SF-00996","Deslocamento de andaime suspenso tipo leve (balancim)","un",18,400,7200,{"$f":"BDI!$H$17","v":0.1671},466.84,8403.1200000000008]
["SF-00997","Plataforma elevatória vertical para acessibilidade - Bloco 15 (Espaço do Servidor)","un",0,"","",{"$f":"IF(A1002<>\"\",IF(AND(#REF!=\"Padrão\",$H$4=#REF!),BDI!$B$17,IF(AND(#REF!=\"Padrão\",$H$4=#REF!),BDI!$C$17,IF(AND(#REF!=\"Diferenciado\",$H$4=#REF!),BDI!$G$17,IF(AND(#REF!=\"Diferenciado\",$H$4=#REF!),BDI!$H$17,IF(#REF!=\"ZERO\",0))))),\"\")","v":{"$error":"#REF!"}},"",""]
["SF-00998","Linha de vida horizontal em trilho","pavimento ",0,"","",{"$f":"IF(A1003<>\"\",IF(AND(#REF!=\"Padrão\",$H$4=#REF!),BDI!$B$17,IF(AND(#REF!=\"Padrão\",$H$4=#REF!),BDI!$C$17,IF(AND(#REF!=\"Diferenciado\",$H$4=#REF!),BDI!$G$17,IF(AND(#REF!=\"Diferenciado\",$H$4=#REF!),BDI!$H$17,IF(#REF!=\"ZERO\",0))))),\"\")","v":{"$error":"#REF!"}},"",""]
["SF-00999","Trava quedas retrátil","un",0,"","",{"$f":"IF(A1004<>\"\",IF(AND(#REF!=\"Padrão\",$H$4=#REF!),BDI!$B$17,IF(AND(#REF!=\"Padrão\",$H$4=#REF!),BDI!$C$17,IF(AND(#REF!=\"Diferenciado\",$H$4=#REF!),BDI!$G$17,IF(AND(#REF!=\"Diferenciado\",$H$4=#REF!),BDI!$H$17,IF(#REF!=\"ZERO\",0))))),\"\")","v":{"$error":"#REF!"}},"",""]
["SF-01000","Corda de poliéster 8mm","m",0,"","",{"$f":"IF(A1005<>\"\",IF(AND(#REF!=\"Padrão\",$H$4=#REF!),BDI!$B$17,IF(AND(#REF!=\"Padrão\",$H$4=#REF!),BDI!$C$17,IF(AND(#REF!=\"Diferenciado\",$H$4=#REF!),BDI!$G$17,IF(AND(#REF!=\"Diferenciado\",$H$4=#REF!),BDI!$H$17,IF(#REF!=\"ZERO\",0))))),\"\")","v":{"$error":"#REF!"}},"",""]
["SF-01001","Locação de Container - Escritório","mês ",0,{"$f":"OFFSET(INDEX(Composições!A:J,MATCH(Orçamentária!A1006,Composições!A:A,0),8),2,0)","v":495.9},0,{"$f":"IF(A1006<>\"\",IF(AND(#REF!=\"Padrão\",$H$4=#REF!),BDI!$B$17,IF(AND(#REF!=\"Padrão\",$H$4=#REF!),BDI!$C$17,IF(AND(#REF!=\"Diferenciado\",$H$4=#REF!),BDI!$G$17,IF(AND(#REF!=\"Diferenciado\",$H$4=#REF!),BDI!$H$17,IF(#REF!=\"ZERO\",0))))),\"\")","v":{"$error":"#REF!"}},{"$error":"#REF!"},{"$error":"#REF!"}]
["SF-01002","Dobradiça Piano","m",0,"","",{"$f":"IF(A1007<>\"\",IF(AND(#REF!=\"Padrão\",$H$4=#REF!),BDI!$B$17,IF(AND(#REF!=\"Padrão\",$H$4=#REF!),BDI!$C$17,IF(AND(#REF!=\"Diferenciado\",$H$4=#REF!),BDI!$G$17,IF(AND(#REF!=\"Diferenciado\",$H$4=#REF!),BDI!$H$17,IF(#REF!=\"ZERO\",0))))),\"\")","v":{"$error":"#REF!"}},"",""]
["SF-01003","Compensado Laminado de Imbuia em duas faces - 04 mm","m2",0,"","",{"$f":"IF(A1008<>\"\",IF(AND(#REF!=\"Padrão\",$H$4=#REF!),BDI!$B$17,IF(AND(#REF!=\"Padrão\",$H$4=#REF!),BDI!$C$17,IF(AND(#REF!=\"Diferenciado\",$H$4=#REF!),BDI!$G$17,IF(AND(#REF!=\"Diferenciado\",$H$4=#REF!),BDI!$H$17,IF(#REF!=\"ZERO\",0))))),\"\")","v":{"$error":"#REF!"}},"",""]
["SF-01004","Compensado Laminado de Imbuia em duas faces - 10 mm","m2",0,"","",{"$f":"IF(A1009<>\"\",IF(AND(#REF!=\"Padrão\",$H$4=#REF!),BDI!$B$17,IF(AND(#REF!=\"Padrão\",$H$4=#REF!),BDI!$C$17,IF(AND(#REF!=\"Diferenciado\",$H$4=#REF!),BDI!$G$17,IF(AND(#REF!=\"Diferenciado\",$H$4=#REF!),BDI!$H$17,IF(#REF!=\"ZERO\",0))))),\"\")","v":{"$error":"#REF!"}},"",""]
["SF-01005","Compensado Laminado de Freijó em duas faces - 04 mm","m2",0,"","",{"$f":"IF(A1010<>\"\",IF(AND(#REF!=\"Padrão\",$H$4=#REF!),BDI!$B$17,IF(AND(#REF!=\"Padrão\",$H$4=#REF!),BDI!$C$17,IF(AND(#REF!=\"Diferenciado\",$H$4=#REF!),BDI!$G$17,IF(AND(#REF!=\"Diferenciado\",$H$4=#REF!),BDI!$H$17,IF(#REF!=\"ZERO\",0))))),\"\")","v":{"$error":"#REF!"}},"",""]
["SF-01006","Compensado Laminado de Freijó em duas faces - 10 mm","m2",0,"","",{"$f":"IF(A1011<>\"\",IF(AND(#REF!=\"Padrão\",$H$4=#REF!),BDI!$B$17,IF(AND(#REF!=\"Padrão\",$H$4=#REF!),BDI!$C$17,IF(AND(#REF!=\"Diferenciado\",$H$4=#REF!),BDI!$G$17,IF(AND(#REF!=\"Diferenciado\",$H$4=#REF!),BDI!$H$17,IF(#REF!=\"ZERO\",0))))),\"\")","v":{"$error":"#REF!"}},"",""]
["SF-01007","Painel de MDF Laminado – Ovo - 25mm","m2",0,"","",{"$f":"IF(A1012<>\"\",IF(AND(#REF!=\"Padrão\",$H$4=#REF!),BDI!$B$17,IF(AND(#REF!=\"Padrão\",$H$4=#REF!),BDI!$C$17,IF(AND(#REF!=\"Diferenciado\",$H$4=#REF!),BDI!$G$17,IF(AND(#REF!=\"Diferenciado\",$H$4=#REF!),BDI!$H$17,IF(#REF!=\"ZERO\",0))))),\"\")","v":{"$error":"#REF!"}},"",""]
["SF-01008","Rodízio Giratório sem Freio - 2 Polegadas","un",0,"","",{"$f":"IF(A1013<>\"\",IF(AND(#REF!=\"Padrão\",$H$4=#REF!),BDI!$B$17,IF(AND(#REF!=\"Padrão\",$H$4=#REF!),BDI!$C$17,IF(AND(#REF!=\"Diferenciado\",$H$4=#REF!),BDI!$G$17,IF(AND(#REF!=\"Diferenciado\",$H$4=#REF!),BDI!$H$17,IF(#REF!=\"ZERO\",0))))),\"\")","v":{"$error":"#REF!"}},"",""]
["SF-01009","Estrutura metálica em aço – Bloco 19 (Centro de Treinamento)","kg ",0,"","",{"$f":"IF(A1014<>\"\",IF(AND(#REF!=\"Padrão\",$H$4=#REF!),BDI!$B$17,IF(AND(#REF!=\"Padrão\",$H$4=#REF!),BDI!$C$17,IF(AND(#REF!=\"Diferenciado\",$H$4=#REF!),BDI!$G$17,IF(AND(#REF!=\"Diferenciado\",$H$4=#REF!),BDI!$H$17,IF(#REF!=\"ZERO\",0))))),\"\")","v":{"$error":"#REF!"}},"",""]
["SF-01010","Mão francesa metálica","un",0,"","",{"$f":"IF(A1015<>\"\",IF(AND(#REF!=\"Padrão\",$H$4=#REF!),BDI!$B$17,IF(AND(#REF!=\"Padrão\",$H$4=#REF!),BDI!$C$17,IF(AND(#REF!=\"Diferenciado\",$H$4=#REF!),BDI!$G$17,IF(AND(#REF!=\"Diferenciado\",$H$4=#REF!),BDI!$H$17,IF(#REF!=\"ZERO\",0))))),\"\")","v":{"$error":"#REF!"}},"",""]
["SF-01011","Abertura/fechamento de rasgo em concreto","m",0,{"$f":"OFFSET(INDEX(Composições!A:J,MATCH(Orçamentária!A1016,Composições!A:A,0),8),2,0)","v":32.077889736963996},0,{"$f":"IF(A1016<>\"\",IF(AND(#REF!=\"Padrão\",$H$4=#REF!),BDI!$B$17,IF(AND(#REF!=\"Padrão\",$H$4=#REF!),BDI!$C$17,IF(AND(#REF!=\"Diferenciado\",$H$4=#REF!),BDI!$G$17,IF(AND(#REF!=\"Diferenciado\",$H$4=#REF!),BDI!$H$17,IF(#REF!=\"ZERO\",0))))),\"\")","v":{"$error":"#REF!"}},{"$error":"#REF!"},{"$error":"#REF!"}]
["SF-01012","Recomposição de rejuntamento sobre revestimentos","m2",0,{"$f":"OFFSET(INDEX(Composições!A:J,MATCH(Orçamentária!A1017,Composições!A:A,0),8),2,0)","v":7.8970460000000005},0,{"$f":"IF(A1017<>\"\",IF(AND(#REF!=\"Padrão\",$H$4=#REF!),BDI!$B$17,IF(AND(#REF!=\"Padrão\",$H$4=#REF!),BDI!$C$17,IF(AND(#REF!=\"Diferenciado\",$H$4=#REF!),BDI!$G$17,IF(AND(#REF!=\"Diferenciado\",$H$4=#REF!),BDI!$H$17,IF(#REF!=\"ZERO\",0))))),\"\")","v":{"$error":"#REF!"}},{"$error":"#REF!"},{"$error":"#REF!"}]
["SF-01013","Impermeabilização de revestimentos em pedra","m2",0,{"$f":"OFFSET(INDEX(Composições!A:J,MATCH(Orçamentária!A1018,Composições!A:A,0),8),2,0)","v":16.051199999999998},0,{"$f":"IF(A1018<>\"\",IF(AND(#REF!=\"Padrão\",$H$4=#REF!),BDI!$B$17,IF(AND(#REF!=\"Padrão\",$H$4=#REF!),BDI!$C$17,IF(AND(#REF!=\"Diferenciado\",$H$4=#REF!),BDI!$G$17,IF(AND(#REF!=\"Diferenciado\",$H$4=#REF!),BDI!$H$17,IF(#REF!=\"ZERO\",0))))),\"\")","v":{"$error":"#REF!"}},{"$error":"#REF!"},{"$error":"#REF!"}]
["SF-01014","Piso vinílico semiflexível","m2",0,{"$f":"OFFSET(INDEX(Composições!A:J,MATCH(Orçamentária!A1019,Composições!A:A,0),8),2,0)","v":101.0763805},0,{"$f":"IF(A1019<>\"\",IF(AND(#REF!=\"Padrão\",$H$4=#REF!),BDI!$B$17,IF(AND(#REF!=\"Padrão\",$H$4=#REF!),BDI!$C$17,IF(AND(#REF!=\"Diferenciado\",$H$4=#REF!),BDI!$G$17,IF(AND(#REF!=\"Diferenciado\",$H$4=#REF!),BDI!$H$17,IF(#REF!=\"ZERO\",0))))),\"\")","v":{"$error":"#REF!"}},{"$error":"#REF!"},{"$error":"#REF!"}]
["SF-01015","Porta metálica de giro com dimensões 0,92 x 2,20m","un",0,"","",{"$f":"IF(A1020<>\"\",IF(AND(#REF!=\"Padrão\",$H$4=#REF!),BDI!$B$17,IF(AND(#REF!=\"Padrão\",$H$4=#REF!),BDI!$C$17,IF(AND(#REF!=\"Diferenciado\",$H$4=#REF!),BDI!$G$17,IF(AND(#REF!=\"Diferenciado\",$H$4=#REF!),BDI!$H$17,IF(#REF!=\"ZERO\",0))))),\"\")","v":{"$error":"#REF!"}},"",""]
["SF-01016","Porta metálica de giro com dimensões 0,92 x 2,35 m","un",0,"","",{"$f":"IF(A1021<>\"\",IF(AND(#REF!=\"Padrão\",$H$4=#REF!),BDI!$B$17,IF(AND(#REF!=\"Padrão\",$H$4=#REF!),BDI!$C$17,IF(AND(#REF!=\"Diferenciado\",$H$4=#REF!),BDI!$G$17,IF(AND(#REF!=\"Diferenciado\",$H$4=#REF!),BDI!$H$17,IF(#REF!=\"ZERO\",0))))),\"\")","v":{"$error":"#REF!"}},"",""]
["SF-01017","Esquadria metálica de 4 folhas fixas com dimensões de 5,30x1,00m – Bloco 19 (Centro de Treinamento)","un",0,"","",{"$f":"IF(A1022<>\"\",IF(AND(#REF!=\"Padrão\",$H$4=#REF!),BDI!$B$17,IF(AND(#REF!=\"Padrão\",$H$4=#REF!),BDI!$C$17,IF(AND(#REF!=\"Diferenciado\",$H$4=#REF!),BDI!$G$17,IF(AND(#REF!=\"Diferenciado\",$H$4=#REF!),BDI!$H$17,IF(#REF!=\"ZERO\",0))))),\"\")","v":{"$error":"#REF!"}},"",""]
["SF-01018","Esquadria metálica de 3 folhas, sendo 2 folhas fixas e 1 de correr com dimensões de 4,10x1,15m – Bloco 19 (Centro de Treinamento)","un",0,"","",{"$f":"IF(A1023<>\"\",IF(AND(#REF!=\"Padrão\",$H$4=#REF!),BDI!$B$17,IF(AND(#REF!=\"Padrão\",$H$4=#REF!),BDI!$C$17,IF(AND(#REF!=\"Diferenciado\",$H$4=#REF!),BDI!$G$17,IF(AND(#REF!=\"Diferenciado\",$H$4=#REF!),BDI!$H$17,IF(#REF!=\"ZERO\",0))))),\"\")","v":{"$error":"#REF!"}},"",""]
["SF-01019","Esquadria metálica de 4 folhas, sendo 2 folhas fixas e 2 folhas de correr, com dimensões total de 5,15x1,00m  – Bloco 19 (Centro de Treinamento)","un",0,"","",{"$f":"IF(A1024<>\"\",IF(AND(#REF!=\"Padrão\",$H$4=#REF!),BDI!$B$17,IF(AND(#REF!=\"Padrão\",$H$4=#REF!),BDI!$C$17,IF(AND(#REF!=\"Diferenciado\",$H$4=#REF!),BDI!$G$17,IF(AND(#REF!=\"Diferenciado\",$H$4=#REF!),BDI!$H$17,IF(#REF!=\"ZERO\",0))))),\"\")","v":{"$error":"#REF!"}},"",""]
["SF-01020","Esquadria metálica de 4 folhas, sendo 2 fixas e 2 de correr dimensões de 5,30x1,15m – Bloco 19 (Centro de Treinamento)","un",0,"","",{"$f":"IF(A1025<>\"\",IF(AND(#REF!=\"Padrão\",$H$4=#REF!),BDI!$B$17,IF(AND(#REF!=\"Padrão\",$H$4=#REF!),BDI!$C$17,IF(AND(#REF!=\"Diferenciado\",$H$4=#REF!),BDI!$G$17,IF(AND(#REF!=\"Diferenciado\",$H$4=#REF!),BDI!$H$17,IF(#REF!=\"ZERO\",0))))),\"\")","v":{"$error":"#REF!"}},"",""]
["SF-01021","Esquadria metálica de 2 folhas basculante com dimensões de 2,31x0,45m – Bloco 19 (Centro de Treinamento)","un",0,"","",{"$f":"IF(A1026<>\"\",IF(AND(#REF!=\"Padrão\",$H$4=#REF!),BDI!$B$17,IF(AND(#REF!=\"Padrão\",$H$4=#REF!),BDI!$C$17,IF(AND(#REF!=\"Diferenciado\",$H$4=#REF!),BDI!$G$17,IF(AND(#REF!=\"Diferenciado\",$H$4=#REF!),BDI!$H$17,IF(#REF!=\"ZERO\",0))))),\"\")","v":{"$error":"#REF!"}},"",""]
["SF-01022","Perfil Veneziana Enrijecido 70x19mm","m",0,"","",{"$f":"IF(A1027<>\"\",IF(AND(#REF!=\"Padrão\",$H$4=#REF!),BDI!$B$17,IF(AND(#REF!=\"Padrão\",$H$4=#REF!),BDI!$C$17,IF(AND(#REF!=\"Diferenciado\",$H$4=#REF!),BDI!$G$17,IF(AND(#REF!=\"Diferenciado\",$H$4=#REF!),BDI!$H$17,IF(#REF!=\"ZERO\",0))))),\"\")","v":{"$error":"#REF!"}},"",""]
["SF-01023","Perfil U Enrijecido 150mm x 40mm x 15mm","m",0,"","",{"$f":"IF(A1028<>\"\",IF(AND(#REF!=\"Padrão\",$H$4=#REF!),BDI!$B$17,IF(AND(#REF!=\"Padrão\",$H$4=#REF!),BDI!$C$17,IF(AND(#REF!=\"Diferenciado\",$H$4=#REF!),BDI!$G$17,IF(AND(#REF!=\"Diferenciado\",$H$4=#REF!),BDI!$H$17,IF(#REF!=\"ZERO\",0))))),\"\")","v":{"$error":"#REF!"}},"",""]
["SF-01024","Perfil Trilho Peitoril - 150mm","m",0,"","",{"$f":"IF(A1029<>\"\",IF(AND(#REF!=\"Padrão\",$H$4=#REF!),BDI!$B$17,IF(AND(#REF!=\"Padrão\",$H$4=#REF!),BDI!$C$17,IF(AND(#REF!=\"Diferenciado\",$H$4=#REF!),BDI!$G$17,IF(AND(#REF!=\"Diferenciado\",$H$4=#REF!),BDI!$H$17,IF(#REF!=\"ZERO\",0))))),\"\")","v":{"$error":"#REF!"}},"",""]
["SF-01025","Perfil Marco Reto - 150 x 32 mm","m",0,"","",{"$f":"IF(A1030<>\"\",IF(AND(#REF!=\"Padrão\",$H$4=#REF!),BDI!$B$17,IF(AND(#REF!=\"Padrão\",$H$4=#REF!),BDI!$C$17,IF(AND(#REF!=\"Diferenciado\",$H$4=#REF!),BDI!$G$17,IF(AND(#REF!=\"Diferenciado\",$H$4=#REF!),BDI!$H$17,IF(#REF!=\"ZERO\",0))))),\"\")","v":{"$error":"#REF!"}},"",""]
["SF-01026","Perfil Cadeirinha Fechada – 60 x 30 mm","m",0,"",{"$f":"IF(ISNUMBER(E1031),D1031*E1031,\"\")","v":""},{"$f":"IF(A1031<>\"\",IF(AND(#REF!=\"Padrão\",$H$4=#REF!),BDI!$B$17,IF(AND(#REF!=\"Padrão\",$H$4=#REF!),BDI!$C$17,IF(AND(#REF!=\"Diferenciado\",$H$4=#REF!),BDI!$G$17,IF(AND(#REF!=\"Diferenciado\",$H$4=#REF!),BDI!$H$17,IF(#REF!=\"ZERO\",0))))),\"\")","v":{"$error":"#REF!"}},{"$f":"IF(ISNUMBER(E1031),ROUND(E1031*(1+G1031),2),\"\")","v":""},{"$f":"IF(ISNUMBER(E1031),ROUND(H1031*D1031,2),\"\")","v":""}]
["SF-01027","Perfil Cadeirinha Fechada – 50 x 35 mm","m",0,"","",{"$f":"IF(A1032<>\"\",IF(AND(#REF!=\"Padrão\",$H$4=#REF!),BDI!$B$17,IF(AND(#REF!=\"Padrão\",$H$4=#REF!),BDI!$C$17,IF(AND(#REF!=\"Diferenciado\",$H$4=#REF!),BDI!$G$17,IF(AND(#REF!=\"Diferenciado\",$H$4=#REF!),BDI!$H$17,IF(#REF!=\"ZERO\",0))))),\"\")","v":{"$error":"#REF!"}},"",""]
["SF-01028","Perfil Cadeirinha Fechada – 30 x 25 mm","m",0,"","",{"$f":"IF(A1033<>\"\",IF(AND(#REF!=\"Padrão\",$H$4=#REF!),BDI!$B$17,IF(AND(#REF!=\"Padrão\",$H$4=#REF!),BDI!$C$17,IF(AND(#REF!=\"Diferenciado\",$H$4=#REF!),BDI!$G$17,IF(AND(#REF!=\"Diferenciado\",$H$4=#REF!),BDI!$H$17,IF(#REF!=\"ZERO\",0))))),\"\")","v":{"$error":"#REF!"}},"",""]
["SF-01029","Locação de Container - Sanitário","mês ",0,{"$f":"OFFSET(INDEX(Composições!A:J,MATCH(Orçamentária!A1034,Composições!A:A,0),8),2,0)","v":619.875},0,{"$f":"IF(A1034<>\"\",IF(AND(#REF!=\"Padrão\",$H$4=#REF!),BDI!$B$17,IF(AND(#REF!=\"Padrão\",$H$4=#REF!),BDI!$C$17,IF(AND(#REF!=\"Diferenciado\",$H$4=#REF!),BDI!$G$17,IF(AND(#REF!=\"Diferenciado\",$H$4=#REF!),BDI!$H$17,IF(#REF!=\"ZERO\",0))))),\"\")","v":{"$error":"#REF!"}},{"$error":"#REF!"},{"$error":"#REF!"}]
["SF-01030","Locação de Container - Almoxarifado","mês ",0,{"$f":"OFFSET(INDEX(Composições!A:J,MATCH(Orçamentária!A1035,Composições!A:A,0),8),2,0)","v":387.41949999999997},0,{"$f":"IF(A1035<>\"\",IF(AND(#REF!=\"Padrão\",$H$4=#REF!),BDI!$B$17,IF(AND(#REF!=\"Padrão\",$H$4=#REF!),BDI!$C$17,IF(AND(#REF!=\"Diferenciado\",$H$4=#REF!),BDI!$G$17,IF(AND(#REF!=\"Diferenciado\",$H$4=#REF!),BDI!$H$17,IF(#REF!=\"ZERO\",0))))),\"\")","v":{"$error":"#REF!"}},{"$error":"#REF!"},{"$error":"#REF!"}]
["SF-01031","Placa de Obra","m2",0,{"$f":"OFFSET(INDEX(Composições!A:J,MATCH(Orçamentária!A1036,Composições!A:A,0),8),2,0)","v":285},0,{"$f":"IF(A1036<>\"\",IF(AND(#REF!=\"Padrão\",$H$4=#REF!),BDI!$B$17,IF(AND(#REF!=\"Padrão\",$H$4=#REF!),BDI!$C$17,IF(AND(#REF!=\"Diferenciado\",$H$4=#REF!),BDI!$G$17,IF(AND(#REF!=\"Diferenciado\",$H$4=#REF!),BDI!$H$17,IF(#REF!=\"ZERO\",0))))),\"\")","v":{"$error":"#REF!"}},{"$error":"#REF!"},{"$error":"#REF!"}]
["SF-01032","Supervisor(a) de Obras e Manutenção – Apoio a Projetos de Obras – Arquitetura, civil e hidrossanitária","Profissional",0,"","",{"$f":"IF(A1037<>\"\",IF(AND(#REF!=\"Padrão\",$H$4=#REF!),BDI!$B$17,IF(AND(#REF!=\"Padrão\",$H$4=#REF!),BDI!$C$17,IF(AND(#REF!=\"Diferenciado\",$H$4=#REF!),BDI!$G$17,IF(AND(#REF!=\"Diferenciado\",$H$4=#REF!),BDI!$H$17,IF(#REF!=\"ZERO\",0))))),\"\")","v":{"$error":"#REF!"}},"",""]
["SF-01033","Supervisor de Obras e Manutenção - Apoio a Projetos e Obras - Eletromecânico","Profissional",0,"","",{"$f":"IF(A1038<>\"\",IF(AND(#REF!=\"Padrão\",$H$4=#REF!),BDI!$B$17,IF(AND(#REF!=\"Padrão\",$H$4=#REF!),BDI!$C$17,IF(AND(#REF!=\"Diferenciado\",$H$4=#REF!),BDI!$G$17,IF(AND(#REF!=\"Diferenciado\",$H$4=#REF!),BDI!$H$17,IF(#REF!=\"ZERO\",0))))),\"\")","v":{"$error":"#REF!"}},"",""]
["SF-01034","Supervisor de Obras e Manutenção – Apoio a projetos e obras - Orçamentos","Profissional",0,"","",{"$f":"IF(A1039<>\"\",IF(AND(#REF!=\"Padrão\",$H$4=#REF!),BDI!$B$17,IF(AND(#REF!=\"Padrão\",$H$4=#REF!),BDI!$C$17,IF(AND(#REF!=\"Diferenciado\",$H$4=#REF!),BDI!$G$17,IF(AND(#REF!=\"Diferenciado\",$H$4=#REF!),BDI!$H$17,IF(#REF!=\"ZERO\",0))))),\"\")","v":{"$error":"#REF!"}},"",""]
["SF-01035","Supervisor de Obras e Manutenção – Apoio de campo – Sistemas de climatização","Profissional",0,"","",{"$f":"IF(A1040<>\"\",IF(AND(#REF!=\"Padrão\",$H$4=#REF!),BDI!$B$17,IF(AND(#REF!=\"Padrão\",$H$4=#REF!),BDI!$C$17,IF(AND(#REF!=\"Diferenciado\",$H$4=#REF!),BDI!$G$17,IF(AND(#REF!=\"Diferenciado\",$H$4=#REF!),BDI!$H$17,IF(#REF!=\"ZERO\",0))))),\"\")","v":{"$error":"#REF!"}},"",""]
["SF-01036","Supervisor de Obras e Manutenção – Apoio de campo - Elevadores","Profissional",0,"","",{"$f":"IF(A1041<>\"\",IF(AND(#REF!=\"Padrão\",$H$4=#REF!),BDI!$B$17,IF(AND(#REF!=\"Padrão\",$H$4=#REF!),BDI!$C$17,IF(AND(#REF!=\"Diferenciado\",$H$4=#REF!),BDI!$G$17,IF(AND(#REF!=\"Diferenciado\",$H$4=#REF!),BDI!$H$17,IF(#REF!=\"ZERO\",0))))),\"\")","v":{"$error":"#REF!"}},"",""]
["SF-01037","Supervisor de Obras e Manutenção – Apoio de campo - Eletrotécnico","Profissional",0,"","",{"$f":"IF(A1042<>\"\",IF(AND(#REF!=\"Padrão\",$H$4=#REF!),BDI!$B$17,IF(AND(#REF!=\"Padrão\",$H$4=#REF!),BDI!$C$17,IF(AND(#REF!=\"Diferenciado\",$H$4=#REF!),BDI!$G$17,IF(AND(#REF!=\"Diferenciado\",$H$4=#REF!),BDI!$H$17,IF(#REF!=\"ZERO\",0))))),\"\")","v":{"$error":"#REF!"}},"",""]
["SF-01038","Supervisor de Obras e Manutenção – Apoio de Campo - Obras Civis","Profissional",0,"","",{"$f":"IF(A1043<>\"\",IF(AND(#REF!=\"Padrão\",$H$4=#REF!),BDI!$B$17,IF(AND(#REF!=\"Padrão\",$H$4=#REF!),BDI!$C$17,IF(AND(#REF!=\"Diferenciado\",$H$4=#REF!),BDI!$G$17,IF(AND(#REF!=\"Diferenciado\",$H$4=#REF!),BDI!$H$17,IF(#REF!=\"ZERO\",0))))),\"\")","v":{"$error":"#REF!"}},"",""]
["SF-01039","Supervisor de Obras e Manutenção – Apoio de Campo - Hidrossanitário","Profissional",0,"","",{"$f":"IF(A1044<>\"\",IF(AND(#REF!=\"Padrão\",$H$4=#REF!),BDI!$B$17,IF(AND(#REF!=\"Padrão\",$H$4=#REF!),BDI!$C$17,IF(AND(#REF!=\"Diferenciado\",$H$4=#REF!),BDI!$G$17,IF(AND(#REF!=\"Diferenciado\",$H$4=#REF!),BDI!$H$17,IF(#REF!=\"ZERO\",0))))),\"\")","v":{"$error":"#REF!"}},"",""]
["SF-01040","Supervisor de Obras e Manutenção – Apoio de campo – Planejamento","Profissional",0,"","",{"$f":"IF(A1045<>\"\",IF(AND(#REF!=\"Padrão\",$H$4=#REF!),BDI!$B$17,IF(AND(#REF!=\"Padrão\",$H$4=#REF!),BDI!$C$17,IF(AND(#REF!=\"Diferenciado\",$H$4=#REF!),BDI!$G$17,IF(AND(#REF!=\"Diferenciado\",$H$4=#REF!),BDI!$H$17,IF(#REF!=\"ZERO\",0))))),\"\")","v":{"$error":"#REF!"}},"",""]
["SF-01041","Supervisor de Obras e Manutenção – Apoio de campo – Segurança do Trabalho","Profissional",0,{"$f":"OFFSET(INDEX(Composições!A:J,MATCH(Orçamentária!A1046,Composições!A:A,0),8),2,0)","v":3289.2827435999998},0,{"$f":"IF(A1046<>\"\",IF(AND(#REF!=\"Padrão\",$H$4=#REF!),BDI!$B$17,IF(AND(#REF!=\"Padrão\",$H$4=#REF!),BDI!$C$17,IF(AND(#REF!=\"Diferenciado\",$H$4=#REF!),BDI!$G$17,IF(AND(#REF!=\"Diferenciado\",$H$4=#REF!),BDI!$H$17,IF(#REF!=\"ZERO\",0))))),\"\")","v":{"$error":"#REF!"}},{"$error":"#REF!"},{"$error":"#REF!"}]
["SF-01042","Máquina fotográfica digital","pç",0,"","",{"$f":"IF(A1047<>\"\",IF(AND(#REF!=\"Padrão\",$H$4=#REF!),BDI!$B$17,IF(AND(#REF!=\"Padrão\",$H$4=#REF!),BDI!$C$17,IF(AND(#REF!=\"Diferenciado\",$H$4=#REF!),BDI!$G$17,IF(AND(#REF!=\"Diferenciado\",$H$4=#REF!),BDI!$H$17,IF(#REF!=\"ZERO\",0))))),\"\")","v":{"$error":"#REF!"}},"",""]
["SF-01043","Trena de 100m","pç",0,"","",{"$f":"IF(A1048<>\"\",IF(AND(#REF!=\"Padrão\",$H$4=#REF!),BDI!$B$17,IF(AND(#REF!=\"Padrão\",$H$4=#REF!),BDI!$C$17,IF(AND(#REF!=\"Diferenciado\",$H$4=#REF!),BDI!$G$17,IF(AND(#REF!=\"Diferenciado\",$H$4=#REF!),BDI!$H$17,IF(#REF!=\"ZERO\",0))))),\"\")","v":{"$error":"#REF!"}},"",""]
["SF-01044","Paquímetro digital","pç",0,"","",{"$f":"IF(A1049<>\"\",IF(AND(#REF!=\"Padrão\",$H$4=#REF!),BDI!$B$17,IF(AND(#REF!=\"Padrão\",$H$4=#REF!),BDI!$C$17,IF(AND(#REF!=\"Diferenciado\",$H$4=#REF!),BDI!$G$17,IF(AND(#REF!=\"Diferenciado\",$H$4=#REF!),BDI!$H$17,IF(#REF!=\"ZERO\",0))))),\"\")","v":{"$error":"#REF!"}},"",""]
["SF-01045","Nível laser","pç",0,"","",{"$f":"IF(A1050<>\"\",IF(AND(#REF!=\"Padrão\",$H$4=#REF!),BDI!$B$17,IF(AND(#REF!=\"Padrão\",$H$4=#REF!),BDI!$C$17,IF(AND(#REF!=\"Diferenciado\",$H$4=#REF!),BDI!$G$17,IF(AND(#REF!=\"Diferenciado\",$H$4=#REF!),BDI!$H$17,IF(#REF!=\"ZERO\",0))))),\"\")","v":{"$error":"#REF!"}},"",""]
["SF-01046","Trena Laser (curto alcance)","un",0,"","",{"$f":"IF(A1051<>\"\",IF(AND(#REF!=\"Padrão\",$H$4=#REF!),BDI!$B$17,IF(AND(#REF!=\"Padrão\",$H$4=#REF!),BDI!$C$17,IF(AND(#REF!=\"Diferenciado\",$H$4=#REF!),BDI!$G$17,IF(AND(#REF!=\"Diferenciado\",$H$4=#REF!),BDI!$H$17,IF(#REF!=\"ZERO\",0))))),\"\")","v":{"$error":"#REF!"}},"",""]
["SF-01047","Trena Laser (longo alcance)","cj",0,"","",{"$f":"IF(A1052<>\"\",IF(AND(#REF!=\"Padrão\",$H$4=#REF!),BDI!$B$17,IF(AND(#REF!=\"Padrão\",$H$4=#REF!),BDI!$C$17,IF(AND(#REF!=\"Diferenciado\",$H$4=#REF!),BDI!$G$17,IF(AND(#REF!=\"Diferenciado\",$H$4=#REF!),BDI!$H$17,IF(#REF!=\"ZERO\",0))))),\"\")","v":{"$error":"#REF!"}},"",""]
["SF-01048","Tripé para trena laser","cj",0,"","",{"$f":"IF(A1053<>\"\",IF(AND(#REF!=\"Padrão\",$H$4=#REF!),BDI!$B$17,IF(AND(#REF!=\"Padrão\",$H$4=#REF!),BDI!$C$17,IF(AND(#REF!=\"Diferenciado\",$H$4=#REF!),BDI!$G$17,IF(AND(#REF!=\"Diferenciado\",$H$4=#REF!),BDI!$H$17,IF(#REF!=\"ZERO\",0))))),\"\")","v":{"$error":"#REF!"}},"",""]
["SF-01049","Suporte universal para trena laser","pç",0,"","",{"$f":"IF(A1054<>\"\",IF(AND(#REF!=\"Padrão\",$H$4=#REF!),BDI!$B$17,IF(AND(#REF!=\"Padrão\",$H$4=#REF!),BDI!$C$17,IF(AND(#REF!=\"Diferenciado\",$H$4=#REF!),BDI!$G$17,IF(AND(#REF!=\"Diferenciado\",$H$4=#REF!),BDI!$H$17,IF(#REF!=\"ZERO\",0))))),\"\")","v":{"$error":"#REF!"}},"",""]
["SF-01050","Detector Multigás","pç",0,"","",{"$f":"IF(A1055<>\"\",IF(AND(#REF!=\"Padrão\",$H$4=#REF!),BDI!$B$17,IF(AND(#REF!=\"Padrão\",$H$4=#REF!),BDI!$C$17,IF(AND(#REF!=\"Diferenciado\",$H$4=#REF!),BDI!$G$17,IF(AND(#REF!=\"Diferenciado\",$H$4=#REF!),BDI!$H$17,IF(#REF!=\"ZERO\",0))))),\"\")","v":{"$error":"#REF!"}},"",""]
["SF-01051","Prancheta portátil A3","pç",0,"","",{"$f":"IF(A1056<>\"\",IF(AND(#REF!=\"Padrão\",$H$4=#REF!),BDI!$B$17,IF(AND(#REF!=\"Padrão\",$H$4=#REF!),BDI!$C$17,IF(AND(#REF!=\"Diferenciado\",$H$4=#REF!),BDI!$G$17,IF(AND(#REF!=\"Diferenciado\",$H$4=#REF!),BDI!$H$17,IF(#REF!=\"ZERO\",0))))),\"\")","v":{"$error":"#REF!"}},"",""]
["SF-01052","Luva isolante","par",0,"","",{"$f":"IF(A1057<>\"\",IF(AND(#REF!=\"Padrão\",$H$4=#REF!),BDI!$B$17,IF(AND(#REF!=\"Padrão\",$H$4=#REF!),BDI!$C$17,IF(AND(#REF!=\"Diferenciado\",$H$4=#REF!),BDI!$G$17,IF(AND(#REF!=\"Diferenciado\",$H$4=#REF!),BDI!$H$17,IF(#REF!=\"ZERO\",0))))),\"\")","v":{"$error":"#REF!"}},"",""]
["SF-01053","Reparo de placas de mármore com adesivo estrutural epóxi branco/transparente ","m2",1138.9100000000001,{"$f":"OFFSET(INDEX(Composições!A:J,MATCH(Orçamentária!A1058,Composições!A:A,0),8),2,0)","v":3.420105},3895.1917855500001,{"$f":"BDI!$C$17","v":0.25},4.28,4874.53]
["SF-01054","Perfil de chapa de aço galvanizado para esquadria (Anexo 1)","m2",32.4,{"$f":"OFFSET(INDEX(Composições!A:J,MATCH(Orçamentária!A1059,Composições!A:A,0),8),2,0)","v":49.132713877929099},1591.8999296449028,{"$f":"BDI!$C$17","v":0.25},61.42,1990.01]
["SF-01055","Modelagem, análise estrutural da edificação em programa computacional de análise estrutural e laudo com parecer técnico - Bloco 15 (Espaço do Servidor)","un",0,"","",{"$f":"IF(A1060<>\"\",IF(AND(#REF!=\"Padrão\",$H$4=#REF!),BDI!$B$17,IF(AND(#REF!=\"Padrão\",$H$4=#REF!),BDI!$C$17,IF(AND(#REF!=\"Diferenciado\",$H$4=#REF!),BDI!$G$17,IF(AND(#REF!=\"Diferenciado\",$H$4=#REF!),BDI!$H$17,IF(#REF!=\"ZERO\",0))))),\"\")","v":{"$error":"#REF!"}},"",""]
["SF-01056","Projeto de adaptação/modificação/reforço da estrutura e suas fundações para os novos usos - Bloco 15 (Espaço do Servidor)","un",0,"","",{"$f":"IF(A1061<>\"\",IF(AND(#REF!=\"Padrão\",$H$4=#REF!),BDI!$B$17,IF(AND(#REF!=\"Padrão\",$H$4=#REF!),BDI!$C$17,IF(AND(#REF!=\"Diferenciado\",$H$4=#REF!),BDI!$G$17,IF(AND(#REF!=\"Diferenciado\",$H$4=#REF!),BDI!$H$17,IF(#REF!=\"ZERO\",0))))),\"\")","v":{"$error":"#REF!"}},"",""]
["SF-01057","Estrutura metálica em aço para o Bloco 15 (Espaço do Servidor)","kg",0,"","",{"$f":"IF(A1062<>\"\",IF(AND(#REF!=\"Padrão\",$H$4=#REF!),BDI!$B$17,IF(AND(#REF!=\"Padrão\",$H$4=#REF!),BDI!$C$17,IF(AND(#REF!=\"Diferenciado\",$H$4=#REF!),BDI!$G$17,IF(AND(#REF!=\"Diferenciado\",$H$4=#REF!),BDI!$H$17,IF(#REF!=\"ZERO\",0))))),\"\")","v":{"$error":"#REF!"}},"",""]
["SF-01058","Projeto de distribuição de gás GLP","un",0,"","",{"$f":"IF(A1063<>\"\",IF(AND(#REF!=\"Padrão\",$H$4=#REF!),BDI!$B$17,IF(AND(#REF!=\"Padrão\",$H$4=#REF!),BDI!$C$17,IF(AND(#REF!=\"Diferenciado\",$H$4=#REF!),BDI!$G$17,IF(AND(#REF!=\"Diferenciado\",$H$4=#REF!),BDI!$H$17,IF(#REF!=\"ZERO\",0))))),\"\")","v":{"$error":"#REF!"}},"",""]
["SF-01059","Granito Vermelho Brasília 20 mm para bancadas","m2",0,{"$f":"OFFSET(INDEX(Composições!A:J,MATCH(Orçamentária!A1064,Composições!A:A,0),8),2,0)","v":91.958832449999989},0,{"$f":"IF(A1064<>\"\",IF(AND(#REF!=\"Padrão\",$H$4=#REF!),BDI!$B$17,IF(AND(#REF!=\"Padrão\",$H$4=#REF!),BDI!$C$17,IF(AND(#REF!=\"Diferenciado\",$H$4=#REF!),BDI!$G$17,IF(AND(#REF!=\"Diferenciado\",$H$4=#REF!),BDI!$H$17,IF(#REF!=\"ZERO\",0))))),\"\")","v":{"$error":"#REF!"}},{"$error":"#REF!"},{"$error":"#REF!"}]
["SF-01060","Porta em alumínio tipo veneziana","m2",0,{"$f":"OFFSET(INDEX(Composições!A:J,MATCH(Orçamentária!A1065,Composições!A:A,0),8),2,0)","v":381.66773734999998},0,{"$f":"IF(A1065<>\"\",IF(AND(#REF!=\"Padrão\",$H$4=#REF!),BDI!$B$17,IF(AND(#REF!=\"Padrão\",$H$4=#REF!),BDI!$C$17,IF(AND(#REF!=\"Diferenciado\",$H$4=#REF!),BDI!$G$17,IF(AND(#REF!=\"Diferenciado\",$H$4=#REF!),BDI!$H$17,IF(#REF!=\"ZERO\",0))))),\"\")","v":{"$error":"#REF!"}},{"$error":"#REF!"},{"$error":"#REF!"}]
["SF-01061","Janela em alumínio, duas seções, 120x60cm","m2",0,{"$f":"OFFSET(INDEX(Composições!A:J,MATCH(Orçamentária!A1066,Composições!A:A,0),8),2,0)","v":358.09340470000001},0,{"$f":"IF(A1066<>\"\",IF(AND(#REF!=\"Padrão\",$H$4=#REF!),BDI!$B$17,IF(AND(#REF!=\"Padrão\",$H$4=#REF!),BDI!$C$17,IF(AND(#REF!=\"Diferenciado\",$H$4=#REF!),BDI!$G$17,IF(AND(#REF!=\"Diferenciado\",$H$4=#REF!),BDI!$H$17,IF(#REF!=\"ZERO\",0))))),\"\")","v":{"$error":"#REF!"}},{"$error":"#REF!"},{"$error":"#REF!"}]
["SF-01062","Porta metálica de enrolar","m2",0,{"$f":"OFFSET(INDEX(Composições!A:J,MATCH(Orçamentária!A1067,Composições!A:A,0),8),2,0)","v":236.56752510884996},0,{"$f":"IF(A1067<>\"\",IF(AND(#REF!=\"Padrão\",$H$4=#REF!),BDI!$B$17,IF(AND(#REF!=\"Padrão\",$H$4=#REF!),BDI!$C$17,IF(AND(#REF!=\"Diferenciado\",$H$4=#REF!),BDI!$G$17,IF(AND(#REF!=\"Diferenciado\",$H$4=#REF!),BDI!$H$17,IF(#REF!=\"ZERO\",0))))),\"\")","v":{"$error":"#REF!"}},{"$error":"#REF!"},{"$error":"#REF!"}]
["SF-01063","Medidor de Gás","un",0,{"$f":"OFFSET(INDEX(Composições!A:J,MATCH(Orçamentária!A1068,Composições!A:A,0),8),2,0)","v":506.70800084999991},0,{"$f":"IF(A1068<>\"\",IF(AND(#REF!=\"Padrão\",$H$4=#REF!),BDI!$B$17,IF(AND(#REF!=\"Padrão\",$H$4=#REF!),BDI!$C$17,IF(AND(#REF!=\"Diferenciado\",$H$4=#REF!),BDI!$G$17,IF(AND(#REF!=\"Diferenciado\",$H$4=#REF!),BDI!$H$17,IF(#REF!=\"ZERO\",0))))),\"\")","v":{"$error":"#REF!"}},{"$error":"#REF!"},{"$error":"#REF!"}]
["SF-01064","Registro Esfera para Gás 3/4”","un",0,{"$f":"OFFSET(INDEX(Composições!A:J,MATCH(Orçamentária!A1069,Composições!A:A,0),8),2,0)","v":6.9697224999999996},0,{"$f":"IF(A1069<>\"\",IF(AND(#REF!=\"Padrão\",$H$4=#REF!),BDI!$B$17,IF(AND(#REF!=\"Padrão\",$H$4=#REF!),BDI!$C$17,IF(AND(#REF!=\"Diferenciado\",$H$4=#REF!),BDI!$G$17,IF(AND(#REF!=\"Diferenciado\",$H$4=#REF!),BDI!$H$17,IF(#REF!=\"ZERO\",0))))),\"\")","v":{"$error":"#REF!"}},{"$error":"#REF!"},{"$error":"#REF!"}]
["SF-01065","Placa de Concreto Pré-Moldado 15 Mpa","m3",0,{"$f":"OFFSET(INDEX(Composições!A:J,MATCH(Orçamentária!A1070,Composições!A:A,0),8),2,0)","v":2376.6703807050494},0,{"$f":"IF(A1070<>\"\",IF(AND(#REF!=\"Padrão\",$H$4=#REF!),BDI!$B$17,IF(AND(#REF!=\"Padrão\",$H$4=#REF!),BDI!$C$17,IF(AND(#REF!=\"Diferenciado\",$H$4=#REF!),BDI!$G$17,IF(AND(#REF!=\"Diferenciado\",$H$4=#REF!),BDI!$H$17,IF(#REF!=\"ZERO\",0))))),\"\")","v":{"$error":"#REF!"}},{"$error":"#REF!"},{"$error":"#REF!"}]
["SF-01066","Eletroduto PEAD 3”","m",0,{"$f":"OFFSET(INDEX(Composições!A:J,MATCH(Orçamentária!A1071,Composições!A:A,0),8),2,0)","v":14.527628},0,{"$f":"IF(A1071<>\"\",IF(AND(#REF!=\"Padrão\",$H$4=#REF!),BDI!$B$17,IF(AND(#REF!=\"Padrão\",$H$4=#REF!),BDI!$C$17,IF(AND(#REF!=\"Diferenciado\",$H$4=#REF!),BDI!$G$17,IF(AND(#REF!=\"Diferenciado\",$H$4=#REF!),BDI!$H$17,IF(#REF!=\"ZERO\",0))))),\"\")","v":{"$error":"#REF!"}},{"$error":"#REF!"},{"$error":"#REF!"}]
["SF-01067","Caixa de Proteção para Alimentação de Gás","un",0,"","",{"$f":"IF(A1072<>\"\",IF(AND(#REF!=\"Padrão\",$H$4=#REF!),BDI!$B$17,IF(AND(#REF!=\"Padrão\",$H$4=#REF!),BDI!$C$17,IF(AND(#REF!=\"Diferenciado\",$H$4=#REF!),BDI!$G$17,IF(AND(#REF!=\"Diferenciado\",$H$4=#REF!),BDI!$H$17,IF(#REF!=\"ZERO\",0))))),\"\")","v":{"$error":"#REF!"}},"",""]
["SF-01068","Eletroduto de aço galvanizado de 3”","m",0,{"$f":"OFFSET(INDEX(Composições!A:J,MATCH(Orçamentária!A1073,Composições!A:A,0),8),2,0)","v":35.092999999999996},0,{"$f":"IF(A1073<>\"\",IF(AND(#REF!=\"Padrão\",$H$4=#REF!),BDI!$B$17,IF(AND(#REF!=\"Padrão\",$H$4=#REF!),BDI!$C$17,IF(AND(#REF!=\"Diferenciado\",$H$4=#REF!),BDI!$G$17,IF(AND(#REF!=\"Diferenciado\",$H$4=#REF!),BDI!$H$17,IF(#REF!=\"ZERO\",0))))),\"\")","v":{"$error":"#REF!"}},{"$error":"#REF!"},{"$error":"#REF!"}]
["SF-01069","Grelha reta para ralo","m",0,{"$f":"OFFSET(INDEX(Composições!A:J,MATCH(Orçamentária!A1074,Composições!A:A,0),8),2,0)","v":22.799430000000001},0,{"$f":"IF(A1074<>\"\",IF(AND(#REF!=\"Padrão\",$H$4=#REF!),BDI!$B$17,IF(AND(#REF!=\"Padrão\",$H$4=#REF!),BDI!$C$17,IF(AND(#REF!=\"Diferenciado\",$H$4=#REF!),BDI!$G$17,IF(AND(#REF!=\"Diferenciado\",$H$4=#REF!),BDI!$H$17,IF(#REF!=\"ZERO\",0))))),\"\")","v":{"$error":"#REF!"}},{"$error":"#REF!"},{"$error":"#REF!"}]
["SF-01070","Granito Vermelho Brasília para soleira e peitoril","m2",0,{"$f":"OFFSET(INDEX(Composições!A:J,MATCH(Orçamentária!A1075,Composições!A:A,0),8),2,0)","v":96.825114350000007},0,{"$f":"IF(A1075<>\"\",IF(AND(#REF!=\"Padrão\",$H$4=#REF!),BDI!$B$17,IF(AND(#REF!=\"Padrão\",$H$4=#REF!),BDI!$C$17,IF(AND(#REF!=\"Diferenciado\",$H$4=#REF!),BDI!$G$17,IF(AND(#REF!=\"Diferenciado\",$H$4=#REF!),BDI!$H$17,IF(#REF!=\"ZERO\",0))))),\"\")","v":{"$error":"#REF!"}},{"$error":"#REF!"},{"$error":"#REF!"}]
["SF-01071","Luminária LED redonda de embutir","un",0,{"$f":"OFFSET(INDEX(Composições!A:J,MATCH(Orçamentária!A1076,Composições!A:A,0),8),2,0)","v":9.2624505999999993},0,{"$f":"IF(A1076<>\"\",IF(AND(#REF!=\"Padrão\",$H$4=#REF!),BDI!$B$17,IF(AND(#REF!=\"Padrão\",$H$4=#REF!),BDI!$C$17,IF(AND(#REF!=\"Diferenciado\",$H$4=#REF!),BDI!$G$17,IF(AND(#REF!=\"Diferenciado\",$H$4=#REF!),BDI!$H$17,IF(#REF!=\"ZERO\",0))))),\"\")","v":{"$error":"#REF!"}},{"$error":"#REF!"},{"$error":"#REF!"}]
["SF-01072","Piso tátil de borracha","m2",0,{"$f":"OFFSET(INDEX(Composições!A:J,MATCH(Orçamentária!A1077,Composições!A:A,0),8),2,0)","v":21.446819999999999},0,{"$f":"IF(A1077<>\"\",IF(AND(#REF!=\"Padrão\",$H$4=#REF!),BDI!$B$17,IF(AND(#REF!=\"Padrão\",$H$4=#REF!),BDI!$C$17,IF(AND(#REF!=\"Diferenciado\",$H$4=#REF!),BDI!$G$17,IF(AND(#REF!=\"Diferenciado\",$H$4=#REF!),BDI!$H$17,IF(#REF!=\"ZERO\",0))))),\"\")","v":{"$error":"#REF!"}},{"$error":"#REF!"},{"$error":"#REF!"}]
["SF-01073","Granito Vermelho Brasília 20 mm para divisória","m2",0,{"$f":"OFFSET(INDEX(Composições!A:J,MATCH(Orçamentária!A1078,Composições!A:A,0),8),2,0)","v":115.18242881232923},0,{"$f":"IF(A1078<>\"\",IF(AND(#REF!=\"Padrão\",$H$4=#REF!),BDI!$B$17,IF(AND(#REF!=\"Padrão\",$H$4=#REF!),BDI!$C$17,IF(AND(#REF!=\"Diferenciado\",$H$4=#REF!),BDI!$G$17,IF(AND(#REF!=\"Diferenciado\",$H$4=#REF!),BDI!$H$17,IF(#REF!=\"ZERO\",0))))),\"\")","v":{"$error":"#REF!"}},{"$error":"#REF!"},{"$error":"#REF!"}]
["SF-01074","Tampa em ferro fundido 20x20 cm","un",0,{"$f":"OFFSET(INDEX(Composições!A:J,MATCH(Orçamentária!A1079,Composições!A:A,0),8),2,0)","v":121.78353469499099},0,{"$f":"IF(A1079<>\"\",IF(AND(#REF!=\"Padrão\",$H$4=#REF!),BDI!$B$17,IF(AND(#REF!=\"Padrão\",$H$4=#REF!),BDI!$C$17,IF(AND(#REF!=\"Diferenciado\",$H$4=#REF!),BDI!$G$17,IF(AND(#REF!=\"Diferenciado\",$H$4=#REF!),BDI!$H$17,IF(#REF!=\"ZERO\",0))))),\"\")","v":{"$error":"#REF!"}},{"$error":"#REF!"},{"$error":"#REF!"}]
["SF-01075","Sondagem","un",0,"","",{"$f":"IF(A1080<>\"\",IF(AND(#REF!=\"Padrão\",$H$4=#REF!),BDI!$B$17,IF(AND(#REF!=\"Padrão\",$H$4=#REF!),BDI!$C$17,IF(AND(#REF!=\"Diferenciado\",$H$4=#REF!),BDI!$G$17,IF(AND(#REF!=\"Diferenciado\",$H$4=#REF!),BDI!$H$17,IF(#REF!=\"ZERO\",0))))),\"\")","v":{"$error":"#REF!"}},"",""]
["SF-01076","Cerâmica para revestimento de superfícies internas ou externas – Linha GAIL","m2",0,{"$f":"OFFSET(INDEX(Composições!A:J,MATCH(Orçamentária!A1081,Composições!A:A,0),8),2,0)","v":23.242130000000003},0,{"$f":"IF(A1081<>\"\",IF(AND(#REF!=\"Padrão\",$H$4=#REF!),BDI!$B$17,IF(AND(#REF!=\"Padrão\",$H$4=#REF!),BDI!$C$17,IF(AND(#REF!=\"Diferenciado\",$H$4=#REF!),BDI!$G$17,IF(AND(#REF!=\"Diferenciado\",$H$4=#REF!),BDI!$H$17,IF(#REF!=\"ZERO\",0))))),\"\")","v":{"$error":"#REF!"}},{"$error":"#REF!"},{"$error":"#REF!"}]
["SF-01077","Aterro de vala com areia média e compactação mecanizada","m3",0,{"$f":"OFFSET(INDEX(Composições!A:J,MATCH(Orçamentária!A1082,Composições!A:A,0),8),2,0)","v":175.33161881249998},0,{"$f":"IF(A1082<>\"\",IF(AND(#REF!=\"Padrão\",$H$4=#REF!),BDI!$B$17,IF(AND(#REF!=\"Padrão\",$H$4=#REF!),BDI!$C$17,IF(AND(#REF!=\"Diferenciado\",$H$4=#REF!),BDI!$G$17,IF(AND(#REF!=\"Diferenciado\",$H$4=#REF!),BDI!$H$17,IF(#REF!=\"ZERO\",0))))),\"\")","v":{"$error":"#REF!"}},{"$error":"#REF!"},{"$error":"#REF!"}]
["SF-01078","Guarda-corpo panorâmico","m",0,{"$f":"OFFSET(INDEX(Composições!A:J,MATCH(Orçamentária!A1083,Composições!A:A,0),8),2,0)","v":754.18168700000001},0,{"$f":"IF(A1083<>\"\",IF(AND(#REF!=\"Padrão\",$H$4=#REF!),BDI!$B$17,IF(AND(#REF!=\"Padrão\",$H$4=#REF!),BDI!$C$17,IF(AND(#REF!=\"Diferenciado\",$H$4=#REF!),BDI!$G$17,IF(AND(#REF!=\"Diferenciado\",$H$4=#REF!),BDI!$H$17,IF(#REF!=\"ZERO\",0))))),\"\")","v":{"$error":"#REF!"}},{"$error":"#REF!"},{"$error":"#REF!"}]
["SF-01079","Divisória Naval com painel liso cego e bandeira","m2",0,"","",{"$f":"IF(A1084<>\"\",IF(AND(#REF!=\"Padrão\",$H$4=#REF!),BDI!$B$17,IF(AND(#REF!=\"Padrão\",$H$4=#REF!),BDI!$C$17,IF(AND(#REF!=\"Diferenciado\",$H$4=#REF!),BDI!$G$17,IF(AND(#REF!=\"Diferenciado\",$H$4=#REF!),BDI!$H$17,IF(#REF!=\"ZERO\",0))))),\"\")","v":{"$error":"#REF!"}},"",""]
["SF-01080","Perfil “U” em aço 25 x 25mm","m",0,{"$f":"OFFSET(INDEX(Composições!A:J,MATCH(Orçamentária!A1085,Composições!A:A,0),8),2,0)","v":1.8145},0,{"$f":"IF(A1085<>\"\",IF(AND(#REF!=\"Padrão\",$H$4=#REF!),BDI!$B$17,IF(AND(#REF!=\"Padrão\",$H$4=#REF!),BDI!$C$17,IF(AND(#REF!=\"Diferenciado\",$H$4=#REF!),BDI!$G$17,IF(AND(#REF!=\"Diferenciado\",$H$4=#REF!),BDI!$H$17,IF(#REF!=\"ZERO\",0))))),\"\")","v":{"$error":"#REF!"}},{"$error":"#REF!"},{"$error":"#REF!"}]
["SF-01081","Tubo retangular em aço 100 x 50mm","m",0,"","",{"$f":"IF(A1086<>\"\",IF(AND(#REF!=\"Padrão\",$H$4=#REF!),BDI!$B$17,IF(AND(#REF!=\"Padrão\",$H$4=#REF!),BDI!$C$17,IF(AND(#REF!=\"Diferenciado\",$H$4=#REF!),BDI!$G$17,IF(AND(#REF!=\"Diferenciado\",$H$4=#REF!),BDI!$H$17,IF(#REF!=\"ZERO\",0))))),\"\")","v":{"$error":"#REF!"}},"",""]
["SF-01082","Alimentação para mão-de-obra indireta","h",0,{"$f":"OFFSET(INDEX(Composições!A:J,MATCH(Orçamentária!A1087,Composições!A:A,0),8),2,0)","v":2.4414999999999996},0,{"$f":"IF(A1087<>\"\",IF(AND(#REF!=\"Padrão\",$H$4=#REF!),BDI!$B$17,IF(AND(#REF!=\"Padrão\",$H$4=#REF!),BDI!$C$17,IF(AND(#REF!=\"Diferenciado\",$H$4=#REF!),BDI!$G$17,IF(AND(#REF!=\"Diferenciado\",$H$4=#REF!),BDI!$H$17,IF(#REF!=\"ZERO\",0))))),\"\")","v":{"$error":"#REF!"}},{"$error":"#REF!"},{"$error":"#REF!"}]
["SF-01083","Transporte para mão-de-obra indireta","h",0,{"$f":"OFFSET(INDEX(Composições!A:J,MATCH(Orçamentária!A1088,Composições!A:A,0),8),2,0)","v":1.3566},0,{"$f":"IF(A1088<>\"\",IF(AND(#REF!=\"Padrão\",$H$4=#REF!),BDI!$B$17,IF(AND(#REF!=\"Padrão\",$H$4=#REF!),BDI!$C$17,IF(AND(#REF!=\"Diferenciado\",$H$4=#REF!),BDI!$G$17,IF(AND(#REF!=\"Diferenciado\",$H$4=#REF!),BDI!$H$17,IF(#REF!=\"ZERO\",0))))),\"\")","v":{"$error":"#REF!"}},{"$error":"#REF!"},{"$error":"#REF!"}]
["SF-01084","Transporte de andaime","un",0,"","",{"$f":"IF(A1089<>\"\",IF(AND(#REF!=\"Padrão\",$H$4=#REF!),BDI!$B$17,IF(AND(#REF!=\"Padrão\",$H$4=#REF!),BDI!$C$17,IF(AND(#REF!=\"Diferenciado\",$H$4=#REF!),BDI!$G$17,IF(AND(#REF!=\"Diferenciado\",$H$4=#REF!),BDI!$H$17,IF(#REF!=\"ZERO\",0))))),\"\")","v":{"$error":"#REF!"}},"",""]
["SF-01085","Transporte de Container","un",0,"","",{"$f":"IF(A1090<>\"\",IF(AND(#REF!=\"Padrão\",$H$4=#REF!),BDI!$B$17,IF(AND(#REF!=\"Padrão\",$H$4=#REF!),BDI!$C$17,IF(AND(#REF!=\"Diferenciado\",$H$4=#REF!),BDI!$G$17,IF(AND(#REF!=\"Diferenciado\",$H$4=#REF!),BDI!$H$17,IF(#REF!=\"ZERO\",0))))),\"\")","v":{"$error":"#REF!"}},"",""]
["SF-01086","Coifa Convencional Tipo Caixa para Cozinha Industrial - Bloco 15 (Espaço do Servidor)","un",0,"","",{"$f":"IF(A1091<>\"\",IF(AND(#REF!=\"Padrão\",$H$4=#REF!),BDI!$B$17,IF(AND(#REF!=\"Padrão\",$H$4=#REF!),BDI!$C$17,IF(AND(#REF!=\"Diferenciado\",$H$4=#REF!),BDI!$G$17,IF(AND(#REF!=\"Diferenciado\",$H$4=#REF!),BDI!$H$17,IF(#REF!=\"ZERO\",0))))),\"\")","v":{"$error":"#REF!"}},"",""]
["SF-01087","Puxador com fecho embutido (punho) para janela metálica","par",0,"","",{"$f":"IF(A1092<>\"\",IF(AND(#REF!=\"Padrão\",$H$4=#REF!),BDI!$B$17,IF(AND(#REF!=\"Padrão\",$H$4=#REF!),BDI!$C$17,IF(AND(#REF!=\"Diferenciado\",$H$4=#REF!),BDI!$G$17,IF(AND(#REF!=\"Diferenciado\",$H$4=#REF!),BDI!$H$17,IF(#REF!=\"ZERO\",0))))),\"\")","v":{"$error":"#REF!"}},"",""]
["SF-01088","Cotovelo bolsa–bolsa 90° para solda em tubulação de cobre diâmetro de 1 3/8\"","un",0,{"$f":"OFFSET(INDEX(Composições!A:J,MATCH(Orçamentária!A1093,Composições!A:A,0),8),2,0)","v":32.822904700000002},0,{"$f":"IF(A1093<>\"\",IF(AND(#REF!=\"Padrão\",$H$4=#REF!),BDI!$B$17,IF(AND(#REF!=\"Padrão\",$H$4=#REF!),BDI!$C$17,IF(AND(#REF!=\"Diferenciado\",$H$4=#REF!),BDI!$G$17,IF(AND(#REF!=\"Diferenciado\",$H$4=#REF!),BDI!$H$17,IF(#REF!=\"ZERO\",0))))),\"\")","v":{"$error":"#REF!"}},{"$error":"#REF!"},{"$error":"#REF!"}]
["SF-01089","Cotovelo bolsa–bolsa 90° para solda em tubulação de cobre diâmetro de 1 5/8\"","un",0,{"$f":"OFFSET(INDEX(Composições!A:J,MATCH(Orçamentária!A1094,Composições!A:A,0),8),2,0)","v":49.744780649999996},0,{"$f":"IF(A1094<>\"\",IF(AND(#REF!=\"Padrão\",$H$4=#REF!),BDI!$B$17,IF(AND(#REF!=\"Padrão\",$H$4=#REF!),BDI!$C$17,IF(AND(#REF!=\"Diferenciado\",$H$4=#REF!),BDI!$G$17,IF(AND(#REF!=\"Diferenciado\",$H$4=#REF!),BDI!$H$17,IF(#REF!=\"ZERO\",0))))),\"\")","v":{"$error":"#REF!"}},{"$error":"#REF!"},{"$error":"#REF!"}]
["SF-01090","Cotovelo bolsa–bolsa 90° para solda em tubulação de cobre diâmetro de 7/8\"","un",0,{"$f":"OFFSET(INDEX(Composições!A:J,MATCH(Orçamentária!A1095,Composições!A:A,0),8),2,0)","v":12.235422399999999},{"$f":"IF(ISNUMBER(E1095),D1095*E1095,\"\")","v":0},{"$f":"IF(A1095<>\"\",IF(AND(#REF!=\"Padrão\",$H$4=#REF!),BDI!$B$17,IF(AND(#REF!=\"Padrão\",$H$4=#REF!),BDI!$C$17,IF(AND(#REF!=\"Diferenciado\",$H$4=#REF!),BDI!$G$17,IF(AND(#REF!=\"Diferenciado\",$H$4=#REF!),BDI!$H$17,IF(#REF!=\"ZERO\",0))))),\"\")","v":{"$error":"#REF!"}},{"$f":"IF(ISNUMBER(E1095),ROUND(E1095*(1+G1095),2),\"\")","v":{"$error":"#REF!"}},{"$f":"IF(ISNUMBER(E1095),ROUND(H1095*D1095,2),\"\")","v":{"$error":"#REF!"}}]
["SF-01091","Painel metálico para retorno","un",0,"","",{"$f":"IF(A1096<>\"\",IF(AND(#REF!=\"Padrão\",$H$4=#REF!),BDI!$B$17,IF(AND(#REF!=\"Padrão\",$H$4=#REF!),BDI!$C$17,IF(AND(#REF!=\"Diferenciado\",$H$4=#REF!),BDI!$G$17,IF(AND(#REF!=\"Diferenciado\",$H$4=#REF!),BDI!$H$17,IF(#REF!=\"ZERO\",0))))),\"\")","v":{"$error":"#REF!"}},"",""]
["SF-01092","Luva bolsa–bolsa para solda em tubulação de cobre diâmetro de 1 3/8\"","un",0,{"$f":"OFFSET(INDEX(Composições!A:J,MATCH(Orçamentária!A1097,Composições!A:A,0),8),2,0)","v":21.380534700000002},0,{"$f":"IF(A1097<>\"\",IF(AND(#REF!=\"Padrão\",$H$4=#REF!),BDI!$B$17,IF(AND(#REF!=\"Padrão\",$H$4=#REF!),BDI!$C$17,IF(AND(#REF!=\"Diferenciado\",$H$4=#REF!),BDI!$G$17,IF(AND(#REF!=\"Diferenciado\",$H$4=#REF!),BDI!$H$17,IF(#REF!=\"ZERO\",0))))),\"\")","v":{"$error":"#REF!"}},{"$error":"#REF!"},{"$error":"#REF!"}]
["SF-01093","Luva bolsa–bolsa para solda em tubulação de cobre diâmetro de 1 5/8\"","un",0,{"$f":"OFFSET(INDEX(Composições!A:J,MATCH(Orçamentária!A1098,Composições!A:A,0),8),2,0)","v":28.440308649999999},0,{"$f":"IF(A1098<>\"\",IF(AND(#REF!=\"Padrão\",$H$4=#REF!),BDI!$B$17,IF(AND(#REF!=\"Padrão\",$H$4=#REF!),BDI!$C$17,IF(AND(#REF!=\"Diferenciado\",$H$4=#REF!),BDI!$G$17,IF(AND(#REF!=\"Diferenciado\",$H$4=#REF!),BDI!$H$17,IF(#REF!=\"ZERO\",0))))),\"\")","v":{"$error":"#REF!"}},{"$error":"#REF!"},{"$error":"#REF!"}]
["SF-01094","Luva bolsa–bolsa para solda em tubulação de cobre diâmetro de 7/8\"","un",0,{"$f":"OFFSET(INDEX(Composições!A:J,MATCH(Orçamentária!A1099,Composições!A:A,0),8),2,0)","v":7.0691704},0,{"$f":"IF(A1099<>\"\",IF(AND(#REF!=\"Padrão\",$H$4=#REF!),BDI!$B$17,IF(AND(#REF!=\"Padrão\",$H$4=#REF!),BDI!$C$17,IF(AND(#REF!=\"Diferenciado\",$H$4=#REF!),BDI!$G$17,IF(AND(#REF!=\"Diferenciado\",$H$4=#REF!),BDI!$H$17,IF(#REF!=\"ZERO\",0))))),\"\")","v":{"$error":"#REF!"}},{"$error":"#REF!"},{"$error":"#REF!"}]
["SF-01095","Ar condicionado unitário com compressor montado em condensadora remota, capacidade nominal 49 kW","un",0,"","",{"$f":"IF(A1100<>\"\",IF(AND(#REF!=\"Padrão\",$H$4=#REF!),BDI!$B$17,IF(AND(#REF!=\"Padrão\",$H$4=#REF!),BDI!$C$17,IF(AND(#REF!=\"Diferenciado\",$H$4=#REF!),BDI!$G$17,IF(AND(#REF!=\"Diferenciado\",$H$4=#REF!),BDI!$H$17,IF(#REF!=\"ZERO\",0))))),\"\")","v":{"$error":"#REF!"}},"",""]
["SF-01096","Ar condicionado unitário com compressor montado em condensadora remota, capacidade nominal 64 kW","un",0,"","",{"$f":"IF(A1101<>\"\",IF(AND(#REF!=\"Padrão\",$H$4=#REF!),BDI!$B$17,IF(AND(#REF!=\"Padrão\",$H$4=#REF!),BDI!$C$17,IF(AND(#REF!=\"Diferenciado\",$H$4=#REF!),BDI!$G$17,IF(AND(#REF!=\"Diferenciado\",$H$4=#REF!),BDI!$H$17,IF(#REF!=\"ZERO\",0))))),\"\")","v":{"$error":"#REF!"}},"",""]
["SF-01097","Tubo de cobre rígido 1 3/8\"","m",0,{"$f":"OFFSET(INDEX(Composições!A:J,MATCH(Orçamentária!A1102,Composições!A:A,0),8),2,0)","v":102.67843484999997},0,{"$f":"IF(A1102<>\"\",IF(AND(#REF!=\"Padrão\",$H$4=#REF!),BDI!$B$17,IF(AND(#REF!=\"Padrão\",$H$4=#REF!),BDI!$C$17,IF(AND(#REF!=\"Diferenciado\",$H$4=#REF!),BDI!$G$17,IF(AND(#REF!=\"Diferenciado\",$H$4=#REF!),BDI!$H$17,IF(#REF!=\"ZERO\",0))))),\"\")","v":{"$error":"#REF!"}},{"$error":"#REF!"},{"$error":"#REF!"}]
["SF-01098","Tubo de cobre rígido 1 5/8\"","m",0,{"$f":"OFFSET(INDEX(Composições!A:J,MATCH(Orçamentária!A1103,Composições!A:A,0),8),2,0)","v":123.41934119999998},0,{"$f":"IF(A1103<>\"\",IF(AND(#REF!=\"Padrão\",$H$4=#REF!),BDI!$B$17,IF(AND(#REF!=\"Padrão\",$H$4=#REF!),BDI!$C$17,IF(AND(#REF!=\"Diferenciado\",$H$4=#REF!),BDI!$G$17,IF(AND(#REF!=\"Diferenciado\",$H$4=#REF!),BDI!$H$17,IF(#REF!=\"ZERO\",0))))),\"\")","v":{"$error":"#REF!"}},{"$error":"#REF!"},{"$error":"#REF!"}]
["SF-01099","Porta metálica dupla de giro com dimensões 2,00 x 2,12 m","un",0,"","",{"$f":"IF(A1104<>\"\",IF(AND(#REF!=\"Padrão\",$H$4=#REF!),BDI!$B$17,IF(AND(#REF!=\"Padrão\",$H$4=#REF!),BDI!$C$17,IF(AND(#REF!=\"Diferenciado\",$H$4=#REF!),BDI!$G$17,IF(AND(#REF!=\"Diferenciado\",$H$4=#REF!),BDI!$H$17,IF(#REF!=\"ZERO\",0))))),\"\")","v":{"$error":"#REF!"}},"",""]
["SF-01100","Conjunto de porta metálica de giro com dimensões 0,80 x 2,10m e painel fixo","un",0,"","",{"$f":"IF(A1105<>\"\",IF(AND(#REF!=\"Padrão\",$H$4=#REF!),BDI!$B$17,IF(AND(#REF!=\"Padrão\",$H$4=#REF!),BDI!$C$17,IF(AND(#REF!=\"Diferenciado\",$H$4=#REF!),BDI!$G$17,IF(AND(#REF!=\"Diferenciado\",$H$4=#REF!),BDI!$H$17,IF(#REF!=\"ZERO\",0))))),\"\")","v":{"$error":"#REF!"}},"",""]
["SF-01101","Eletroduto flexível metálico com capa de PVC 1 1/2\"","m",0,{"$f":"OFFSET(INDEX(Composições!A:J,MATCH(Orçamentária!A1106,Composições!A:A,0),8),2,0)","v":28.547779300000006},0,{"$f":"IF(A1106<>\"\",IF(AND(#REF!=\"Padrão\",$H$4=#REF!),BDI!$B$17,IF(AND(#REF!=\"Padrão\",$H$4=#REF!),BDI!$C$17,IF(AND(#REF!=\"Diferenciado\",$H$4=#REF!),BDI!$G$17,IF(AND(#REF!=\"Diferenciado\",$H$4=#REF!),BDI!$H$17,IF(#REF!=\"ZERO\",0))))),\"\")","v":{"$error":"#REF!"}},{"$error":"#REF!"},{"$error":"#REF!"}]
["SF-01102","Técnico(a) em Edificações - Planejamento de Manutenção","Profissional",0,{"$f":"OFFSET(INDEX(Composições!A:J,MATCH(Orçamentária!A1107,Composições!A:A,0),8),2,0)","v":1481.0990199999997},0,{"$f":"IF(A1107<>\"\",IF(AND(#REF!=\"Padrão\",$H$4=#REF!),BDI!$B$17,IF(AND(#REF!=\"Padrão\",$H$4=#REF!),BDI!$C$17,IF(AND(#REF!=\"Diferenciado\",$H$4=#REF!),BDI!$G$17,IF(AND(#REF!=\"Diferenciado\",$H$4=#REF!),BDI!$H$17,IF(#REF!=\"ZERO\",0))))),\"\")","v":{"$error":"#REF!"}},{"$error":"#REF!"},{"$error":"#REF!"}]
["SF-01103","Locação de Retroescavadeira com Pá Carregadeira sobre Rodas","dia",0,"","",{"$f":"IF(A1108<>\"\",IF(AND(#REF!=\"Padrão\",$H$4=#REF!),BDI!$B$17,IF(AND(#REF!=\"Padrão\",$H$4=#REF!),BDI!$C$17,IF(AND(#REF!=\"Diferenciado\",$H$4=#REF!),BDI!$G$17,IF(AND(#REF!=\"Diferenciado\",$H$4=#REF!),BDI!$H$17,IF(#REF!=\"ZERO\",0))))),\"\")","v":{"$error":"#REF!"}},"",""]
["SF-01104","Projeto de Impermeabilização","m2",0,{"$f":"OFFSET(INDEX(Composições!A:J,MATCH(Orçamentária!A1109,Composições!A:A,0),8),2,0)","v":8.1614500000000003},0,{"$f":"IF(A1109<>\"\",IF(AND(#REF!=\"Padrão\",$H$4=#REF!),BDI!$B$17,IF(AND(#REF!=\"Padrão\",$H$4=#REF!),BDI!$C$17,IF(AND(#REF!=\"Diferenciado\",$H$4=#REF!),BDI!$G$17,IF(AND(#REF!=\"Diferenciado\",$H$4=#REF!),BDI!$H$17,IF(#REF!=\"ZERO\",0))))),\"\")","v":{"$error":"#REF!"}},{"$error":"#REF!"},{"$error":"#REF!"}]
["SF-01105","Laminado decorativo de alta pressão (LDAP)","m2",0,{"$f":"OFFSET(INDEX(Composições!A:J,MATCH(Orçamentária!A1110,Composições!A:A,0),8),2,0)","v":32.755049999999997},0,{"$f":"IF(A1110<>\"\",IF(AND(#REF!=\"Padrão\",$H$4=#REF!),BDI!$B$17,IF(AND(#REF!=\"Padrão\",$H$4=#REF!),BDI!$C$17,IF(AND(#REF!=\"Diferenciado\",$H$4=#REF!),BDI!$G$17,IF(AND(#REF!=\"Diferenciado\",$H$4=#REF!),BDI!$H$17,IF(#REF!=\"ZERO\",0))))),\"\")","v":{"$error":"#REF!"}},{"$error":"#REF!"},{"$error":"#REF!"}]
["SF-01106","Granito Preto Absoluto para revestimento de superfícies internas e externas - Linha Administrativa","m2",0,{"$f":"OFFSET(INDEX(Composições!A:J,MATCH(Orçamentária!A1111,Composições!A:A,0),8),2,0)","v":39.190349999999995},0,{"$f":"IF(A1111<>\"\",IF(AND(#REF!=\"Padrão\",$H$4=#REF!),BDI!$B$17,IF(AND(#REF!=\"Padrão\",$H$4=#REF!),BDI!$C$17,IF(AND(#REF!=\"Diferenciado\",$H$4=#REF!),BDI!$G$17,IF(AND(#REF!=\"Diferenciado\",$H$4=#REF!),BDI!$H$17,IF(#REF!=\"ZERO\",0))))),\"\")","v":{"$error":"#REF!"}},{"$error":"#REF!"},{"$error":"#REF!"}]
["SF-01107","Granito Arabesco para revestimento de superfícies internas e externas - Linha Administrativa","m2",0,{"$f":"OFFSET(INDEX(Composições!A:J,MATCH(Orçamentária!A1112,Composições!A:A,0),8),2,0)","v":39.190349999999995},0,{"$f":"IF(A1112<>\"\",IF(AND(#REF!=\"Padrão\",$H$4=#REF!),BDI!$B$17,IF(AND(#REF!=\"Padrão\",$H$4=#REF!),BDI!$C$17,IF(AND(#REF!=\"Diferenciado\",$H$4=#REF!),BDI!$G$17,IF(AND(#REF!=\"Diferenciado\",$H$4=#REF!),BDI!$H$17,IF(#REF!=\"ZERO\",0))))),\"\")","v":{"$error":"#REF!"}},{"$error":"#REF!"},{"$error":"#REF!"}]
["SF-01108","Porcelanato para revestimento de superfícies internas e externas - Linha Residencial","m2",0,{"$f":"OFFSET(INDEX(Composições!A:J,MATCH(Orçamentária!A1113,Composições!A:A,0),8),2,0)","v":76.294119999999992},0,{"$f":"IF(A1113<>\"\",IF(AND(#REF!=\"Padrão\",$H$4=#REF!),BDI!$B$17,IF(AND(#REF!=\"Padrão\",$H$4=#REF!),BDI!$C$17,IF(AND(#REF!=\"Diferenciado\",$H$4=#REF!),BDI!$G$17,IF(AND(#REF!=\"Diferenciado\",$H$4=#REF!),BDI!$H$17,IF(#REF!=\"ZERO\",0))))),\"\")","v":{"$error":"#REF!"}},{"$error":"#REF!"},{"$error":"#REF!"}]
["SF-01109","Granitina para revestimento de pisos","m2",0,{"$f":"OFFSET(INDEX(Composições!A:J,MATCH(Orçamentária!A1114,Composições!A:A,0),8),2,0)","v":31.755948498658299},0,{"$f":"IF(A1114<>\"\",IF(AND(#REF!=\"Padrão\",$H$4=#REF!),BDI!$B$17,IF(AND(#REF!=\"Padrão\",$H$4=#REF!),BDI!$C$17,IF(AND(#REF!=\"Diferenciado\",$H$4=#REF!),BDI!$G$17,IF(AND(#REF!=\"Diferenciado\",$H$4=#REF!),BDI!$H$17,IF(#REF!=\"ZERO\",0))))),\"\")","v":{"$error":"#REF!"}},{"$error":"#REF!"},{"$error":"#REF!"}]
["SF-01110","Piso vinílico flexível em manta","m2",0,{"$f":"OFFSET(INDEX(Composições!A:J,MATCH(Orçamentária!A1115,Composições!A:A,0),8),2,0)","v":13.433474999999998},0,{"$f":"IF(A1115<>\"\",IF(AND(#REF!=\"Padrão\",$H$4=#REF!),BDI!$B$17,IF(AND(#REF!=\"Padrão\",$H$4=#REF!),BDI!$C$17,IF(AND(#REF!=\"Diferenciado\",$H$4=#REF!),BDI!$G$17,IF(AND(#REF!=\"Diferenciado\",$H$4=#REF!),BDI!$H$17,IF(#REF!=\"ZERO\",0))))),\"\")","v":{"$error":"#REF!"}},{"$error":"#REF!"},{"$error":"#REF!"}]
["SF-01111","Tratamento de juntas de dilatação ou movimentação","m",0,{"$f":"OFFSET(INDEX(Composições!A:J,MATCH(Orçamentária!A1116,Composições!A:A,0),8),2,0)","v":46.244289999999992},0,{"$f":"IF(A1116<>\"\",IF(AND(#REF!=\"Padrão\",$H$4=#REF!),BDI!$B$17,IF(AND(#REF!=\"Padrão\",$H$4=#REF!),BDI!$C$17,IF(AND(#REF!=\"Diferenciado\",$H$4=#REF!),BDI!$G$17,IF(AND(#REF!=\"Diferenciado\",$H$4=#REF!),BDI!$H$17,IF(#REF!=\"ZERO\",0))))),\"\")","v":{"$error":"#REF!"}},{"$error":"#REF!"},{"$error":"#REF!"}]
["SF-01112","Recuperação superficial de preparação para pintura epóxi de alto desempenho","m2",0,{"$f":"OFFSET(INDEX(Composições!A:J,MATCH(Orçamentária!A1117,Composições!A:A,0),8),2,0)","v":13.847200000000001},0,{"$f":"IF(A1117<>\"\",IF(AND(#REF!=\"Padrão\",$H$4=#REF!),BDI!$B$17,IF(AND(#REF!=\"Padrão\",$H$4=#REF!),BDI!$C$17,IF(AND(#REF!=\"Diferenciado\",$H$4=#REF!),BDI!$G$17,IF(AND(#REF!=\"Diferenciado\",$H$4=#REF!),BDI!$H$17,IF(#REF!=\"ZERO\",0))))),\"\")","v":{"$error":"#REF!"}},{"$error":"#REF!"},{"$error":"#REF!"}]
["SF-01113","Lixamento, calafetação e aplicação de sinteco em piso de madeira - Linha Residencial","m2",0,{"$f":"OFFSET(INDEX(Composições!A:J,MATCH(Orçamentária!A1118,Composições!A:A,0),8),2,0)","v":0},0,{"$f":"IF(A1118<>\"\",IF(AND(#REF!=\"Padrão\",$H$4=#REF!),BDI!$B$17,IF(AND(#REF!=\"Padrão\",$H$4=#REF!),BDI!$C$17,IF(AND(#REF!=\"Diferenciado\",$H$4=#REF!),BDI!$G$17,IF(AND(#REF!=\"Diferenciado\",$H$4=#REF!),BDI!$H$17,IF(#REF!=\"ZERO\",0))))),\"\")","v":{"$error":"#REF!"}},{"$error":"#REF!"},{"$error":"#REF!"}]
["SF-01114","Piso em taco de madeira - Linha Residencial","m2",0,{"$f":"OFFSET(INDEX(Composições!A:J,MATCH(Orçamentária!A1119,Composições!A:A,0),8),2,0)","v":131.49765099999999},0,{"$f":"IF(A1119<>\"\",IF(AND(#REF!=\"Padrão\",$H$4=#REF!),BDI!$B$17,IF(AND(#REF!=\"Padrão\",$H$4=#REF!),BDI!$C$17,IF(AND(#REF!=\"Diferenciado\",$H$4=#REF!),BDI!$G$17,IF(AND(#REF!=\"Diferenciado\",$H$4=#REF!),BDI!$H$17,IF(#REF!=\"ZERO\",0))))),\"\")","v":{"$error":"#REF!"}},{"$error":"#REF!"},{"$error":"#REF!"}]
["SF-01115","Piso de borracha antiderrapante tipo moeda","m2",0,{"$f":"OFFSET(INDEX(Composições!A:J,MATCH(Orçamentária!A1120,Composições!A:A,0),8),2,0)","v":77.585611749999998},0,{"$f":"IF(A1120<>\"\",IF(AND(#REF!=\"Padrão\",$H$4=#REF!),BDI!$B$17,IF(AND(#REF!=\"Padrão\",$H$4=#REF!),BDI!$C$17,IF(AND(#REF!=\"Diferenciado\",$H$4=#REF!),BDI!$G$17,IF(AND(#REF!=\"Diferenciado\",$H$4=#REF!),BDI!$H$17,IF(#REF!=\"ZERO\",0))))),\"\")","v":{"$error":"#REF!"}},{"$error":"#REF!"},{"$error":"#REF!"}]
["SF-01116","Piso sintético flutuante - Linha Residencial","m2",0,{"$f":"OFFSET(INDEX(Composições!A:J,MATCH(Orçamentária!A1121,Composições!A:A,0),8),2,0)","v":12.560317079999999},0,{"$f":"IF(A1121<>\"\",IF(AND(#REF!=\"Padrão\",$H$4=#REF!),BDI!$B$17,IF(AND(#REF!=\"Padrão\",$H$4=#REF!),BDI!$C$17,IF(AND(#REF!=\"Diferenciado\",$H$4=#REF!),BDI!$G$17,IF(AND(#REF!=\"Diferenciado\",$H$4=#REF!),BDI!$H$17,IF(#REF!=\"ZERO\",0))))),\"\")","v":{"$error":"#REF!"}},{"$error":"#REF!"},{"$error":"#REF!"}]
["SF-01117","Revestimento acústico perfilado - Linha Administrativa","m2",0,{"$f":"OFFSET(INDEX(Composições!A:J,MATCH(Orçamentária!A1122,Composições!A:A,0),8),2,0)","v":7.419975},0,{"$f":"IF(A1122<>\"\",IF(AND(#REF!=\"Padrão\",$H$4=#REF!),BDI!$B$17,IF(AND(#REF!=\"Padrão\",$H$4=#REF!),BDI!$C$17,IF(AND(#REF!=\"Diferenciado\",$H$4=#REF!),BDI!$G$17,IF(AND(#REF!=\"Diferenciado\",$H$4=#REF!),BDI!$H$17,IF(#REF!=\"ZERO\",0))))),\"\")","v":{"$error":"#REF!"}},{"$error":"#REF!"},{"$error":"#REF!"}]
["SF-01118","Revestimento acústico plano - Linha Administrativa","m2",0,{"$f":"OFFSET(INDEX(Composições!A:J,MATCH(Orçamentária!A1123,Composições!A:A,0),8),2,0)","v":7.419975},0,{"$f":"IF(A1123<>\"\",IF(AND(#REF!=\"Padrão\",$H$4=#REF!),BDI!$B$17,IF(AND(#REF!=\"Padrão\",$H$4=#REF!),BDI!$C$17,IF(AND(#REF!=\"Diferenciado\",$H$4=#REF!),BDI!$G$17,IF(AND(#REF!=\"Diferenciado\",$H$4=#REF!),BDI!$H$17,IF(#REF!=\"ZERO\",0))))),\"\")","v":{"$error":"#REF!"}},{"$error":"#REF!"},{"$error":"#REF!"}]
["SF-01119","Forro monolítico de gesso em placas","m2",0,{"$f":"OFFSET(INDEX(Composições!A:J,MATCH(Orçamentária!A1124,Composições!A:A,0),8),2,0)","v":36.628387150000002},0,{"$f":"IF(A1124<>\"\",IF(AND(#REF!=\"Padrão\",$H$4=#REF!),BDI!$B$17,IF(AND(#REF!=\"Padrão\",$H$4=#REF!),BDI!$C$17,IF(AND(#REF!=\"Diferenciado\",$H$4=#REF!),BDI!$G$17,IF(AND(#REF!=\"Diferenciado\",$H$4=#REF!),BDI!$H$17,IF(#REF!=\"ZERO\",0))))),\"\")","v":{"$error":"#REF!"}},{"$error":"#REF!"},{"$error":"#REF!"}]
["SF-01120","Textura acrílica - Linha Administrativa","m2",0,{"$f":"OFFSET(INDEX(Composições!A:J,MATCH(Orçamentária!A1125,Composições!A:A,0),8),2,0)","v":11.825675999999998},0,{"$f":"IF(A1125<>\"\",IF(AND(#REF!=\"Padrão\",$H$4=#REF!),BDI!$B$17,IF(AND(#REF!=\"Padrão\",$H$4=#REF!),BDI!$C$17,IF(AND(#REF!=\"Diferenciado\",$H$4=#REF!),BDI!$G$17,IF(AND(#REF!=\"Diferenciado\",$H$4=#REF!),BDI!$H$17,IF(#REF!=\"ZERO\",0))))),\"\")","v":{"$error":"#REF!"}},{"$error":"#REF!"},{"$error":"#REF!"}]
["SF-01121","Pintura com tinta látex acrílica Premium - cores especiais (sistema tintométrico)","m2",0,{"$f":"OFFSET(INDEX(Composições!A:J,MATCH(Orçamentária!A1126,Composições!A:A,0),8),2,0)","v":12.369228},0,{"$f":"IF(A1126<>\"\",IF(AND(#REF!=\"Padrão\",$H$4=#REF!),BDI!$B$17,IF(AND(#REF!=\"Padrão\",$H$4=#REF!),BDI!$C$17,IF(AND(#REF!=\"Diferenciado\",$H$4=#REF!),BDI!$G$17,IF(AND(#REF!=\"Diferenciado\",$H$4=#REF!),BDI!$H$17,IF(#REF!=\"ZERO\",0))))),\"\")","v":{"$error":"#REF!"}},{"$error":"#REF!"},{"$error":"#REF!"}]
["SF-01122","Pintura Eletrostática","m2",0,"","",{"$f":"IF(A1127<>\"\",IF(AND(#REF!=\"Padrão\",$H$4=#REF!),BDI!$B$17,IF(AND(#REF!=\"Padrão\",$H$4=#REF!),BDI!$C$17,IF(AND(#REF!=\"Diferenciado\",$H$4=#REF!),BDI!$G$17,IF(AND(#REF!=\"Diferenciado\",$H$4=#REF!),BDI!$H$17,IF(#REF!=\"ZERO\",0))))),\"\")","v":{"$error":"#REF!"}},"",""]
["SF-01123","Pintura com tinta acrílica (pisos)","m2",0,{"$f":"OFFSET(INDEX(Composições!A:J,MATCH(Orçamentária!A1128,Composições!A:A,0),8),2,0)","v":13.070195},0,{"$f":"IF(A1128<>\"\",IF(AND(#REF!=\"Padrão\",$H$4=#REF!),BDI!$B$17,IF(AND(#REF!=\"Padrão\",$H$4=#REF!),BDI!$C$17,IF(AND(#REF!=\"Diferenciado\",$H$4=#REF!),BDI!$G$17,IF(AND(#REF!=\"Diferenciado\",$H$4=#REF!),BDI!$H$17,IF(#REF!=\"ZERO\",0))))),\"\")","v":{"$error":"#REF!"}},{"$error":"#REF!"},{"$error":"#REF!"}]
["SF-01124","Pintura com tinta epóxi de alto desempenho (pisos)","m2",0,{"$f":"OFFSET(INDEX(Composições!A:J,MATCH(Orçamentária!A1129,Composições!A:A,0),8),2,0)","v":55.384422399999991},0,{"$f":"IF(A1129<>\"\",IF(AND(#REF!=\"Padrão\",$H$4=#REF!),BDI!$B$17,IF(AND(#REF!=\"Padrão\",$H$4=#REF!),BDI!$C$17,IF(AND(#REF!=\"Diferenciado\",$H$4=#REF!),BDI!$G$17,IF(AND(#REF!=\"Diferenciado\",$H$4=#REF!),BDI!$H$17,IF(#REF!=\"ZERO\",0))))),\"\")","v":{"$error":"#REF!"}},{"$error":"#REF!"},{"$error":"#REF!"}]
["SF-01125","Verniz de poliuretano sobre pintura epóxi de alto desempenho","m2",0,{"$f":"OFFSET(INDEX(Composições!A:J,MATCH(Orçamentária!A1130,Composições!A:A,0),8),2,0)","v":17.522579},0,{"$f":"IF(A1130<>\"\",IF(AND(#REF!=\"Padrão\",$H$4=#REF!),BDI!$B$17,IF(AND(#REF!=\"Padrão\",$H$4=#REF!),BDI!$C$17,IF(AND(#REF!=\"Diferenciado\",$H$4=#REF!),BDI!$G$17,IF(AND(#REF!=\"Diferenciado\",$H$4=#REF!),BDI!$H$17,IF(#REF!=\"ZERO\",0))))),\"\")","v":{"$error":"#REF!"}},{"$error":"#REF!"},{"$error":"#REF!"}]
["SF-01126","Tratamento antiderrapante em verniz de poliuretano sobre pintura epóxi","m2",0,{"$f":"OFFSET(INDEX(Composições!A:J,MATCH(Orçamentária!A1131,Composições!A:A,0),8),2,0)","v":1.0042260000000001},0,{"$f":"IF(A1131<>\"\",IF(AND(#REF!=\"Padrão\",$H$4=#REF!),BDI!$B$17,IF(AND(#REF!=\"Padrão\",$H$4=#REF!),BDI!$C$17,IF(AND(#REF!=\"Diferenciado\",$H$4=#REF!),BDI!$G$17,IF(AND(#REF!=\"Diferenciado\",$H$4=#REF!),BDI!$H$17,IF(#REF!=\"ZERO\",0))))),\"\")","v":{"$error":"#REF!"}},{"$error":"#REF!"},{"$error":"#REF!"}]
["SF-01127","Pintura para superfícies galvanizadas","m2",0,{"$f":"OFFSET(INDEX(Composições!A:J,MATCH(Orçamentária!A1132,Composições!A:A,0),8),2,0)","v":23.599633049999994},0,{"$f":"IF(A1132<>\"\",IF(AND(#REF!=\"Padrão\",$H$4=#REF!),BDI!$B$17,IF(AND(#REF!=\"Padrão\",$H$4=#REF!),BDI!$C$17,IF(AND(#REF!=\"Diferenciado\",$H$4=#REF!),BDI!$G$17,IF(AND(#REF!=\"Diferenciado\",$H$4=#REF!),BDI!$H$17,IF(#REF!=\"ZERO\",0))))),\"\")","v":{"$error":"#REF!"}},{"$error":"#REF!"},{"$error":"#REF!"}]
["SF-01128","Selagem ou resselagem de juntas em pavimentação de concreto armado","m",0,{"$f":"OFFSET(INDEX(Composições!A:J,MATCH(Orçamentária!A1133,Composições!A:A,0),8),2,0)","v":6.8899006499999995},0,{"$f":"IF(A1133<>\"\",IF(AND(#REF!=\"Padrão\",$H$4=#REF!),BDI!$B$17,IF(AND(#REF!=\"Padrão\",$H$4=#REF!),BDI!$C$17,IF(AND(#REF!=\"Diferenciado\",$H$4=#REF!),BDI!$G$17,IF(AND(#REF!=\"Diferenciado\",$H$4=#REF!),BDI!$H$17,IF(#REF!=\"ZERO\",0))))),\"\")","v":{"$error":"#REF!"}},{"$error":"#REF!"},{"$error":"#REF!"}]
["SF-01129","Pavimentação em elementos intertravados de concreto","m2",0,{"$f":"OFFSET(INDEX(Composições!A:J,MATCH(Orçamentária!A1134,Composições!A:A,0),8),2,0)","v":48.258970709580005},0,{"$f":"IF(A1134<>\"\",IF(AND(#REF!=\"Padrão\",$H$4=#REF!),BDI!$B$17,IF(AND(#REF!=\"Padrão\",$H$4=#REF!),BDI!$C$17,IF(AND(#REF!=\"Diferenciado\",$H$4=#REF!),BDI!$G$17,IF(AND(#REF!=\"Diferenciado\",$H$4=#REF!),BDI!$H$17,IF(#REF!=\"ZERO\",0))))),\"\")","v":{"$error":"#REF!"}},{"$error":"#REF!"},{"$error":"#REF!"}]
["SF-01130","Pavimentação com Asfalto Pré-Misturado a Frio (PMF)","m3",0,{"$f":"OFFSET(INDEX(Composições!A:J,MATCH(Orçamentária!A1135,Composições!A:A,0),8),2,0)","v":569.68395403800002},0,{"$f":"IF(A1135<>\"\",IF(AND(#REF!=\"Padrão\",$H$4=#REF!),BDI!$B$17,IF(AND(#REF!=\"Padrão\",$H$4=#REF!),BDI!$C$17,IF(AND(#REF!=\"Diferenciado\",$H$4=#REF!),BDI!$G$17,IF(AND(#REF!=\"Diferenciado\",$H$4=#REF!),BDI!$H$17,IF(#REF!=\"ZERO\",0))))),\"\")","v":{"$error":"#REF!"}},{"$error":"#REF!"},{"$error":"#REF!"}]
["SF-01131","Pavimentação asfáltica com CBUQ para aplicação a frio (remendo)","m3",0,{"$f":"OFFSET(INDEX(Composições!A:J,MATCH(Orçamentária!A1136,Composições!A:A,0),8),2,0)","v":174.648},0,{"$f":"IF(A1136<>\"\",IF(AND(#REF!=\"Padrão\",$H$4=#REF!),BDI!$B$17,IF(AND(#REF!=\"Padrão\",$H$4=#REF!),BDI!$C$17,IF(AND(#REF!=\"Diferenciado\",$H$4=#REF!),BDI!$G$17,IF(AND(#REF!=\"Diferenciado\",$H$4=#REF!),BDI!$H$17,IF(#REF!=\"ZERO\",0))))),\"\")","v":{"$error":"#REF!"}},{"$error":"#REF!"},{"$error":"#REF!"}]
["SF-01132","Pintura para sinalização e demarcação viária horizontal","m2",0,{"$f":"OFFSET(INDEX(Composições!A:J,MATCH(Orçamentária!A1137,Composições!A:A,0),8),2,0)","v":14.440178599999999},0,{"$f":"IF(A1137<>\"\",IF(AND(#REF!=\"Padrão\",$H$4=#REF!),BDI!$B$17,IF(AND(#REF!=\"Padrão\",$H$4=#REF!),BDI!$C$17,IF(AND(#REF!=\"Diferenciado\",$H$4=#REF!),BDI!$G$17,IF(AND(#REF!=\"Diferenciado\",$H$4=#REF!),BDI!$H$17,IF(#REF!=\"ZERO\",0))))),\"\")","v":{"$error":"#REF!"}},{"$error":"#REF!"},{"$error":"#REF!"}]
["SF-01133","Telha metálica trapezoidal galvanizada - GR-40","m2",0,{"$f":"OFFSET(INDEX(Composições!A:J,MATCH(Orçamentária!A1138,Composições!A:A,0),8),2,0)","v":51.696172799999992},0,{"$f":"IF(A1138<>\"\",IF(AND(#REF!=\"Padrão\",$H$4=#REF!),BDI!$B$17,IF(AND(#REF!=\"Padrão\",$H$4=#REF!),BDI!$C$17,IF(AND(#REF!=\"Diferenciado\",$H$4=#REF!),BDI!$G$17,IF(AND(#REF!=\"Diferenciado\",$H$4=#REF!),BDI!$H$17,IF(#REF!=\"ZERO\",0))))),\"\")","v":{"$error":"#REF!"}},{"$error":"#REF!"},{"$error":"#REF!"}]
["SF-01134","Cumeeira para telha metálica trapezoidal galvanizada - GR-40","m",0,{"$f":"OFFSET(INDEX(Composições!A:J,MATCH(Orçamentária!A1139,Composições!A:A,0),8),2,0)","v":7.0996805999999992},0,{"$f":"IF(A1139<>\"\",IF(AND(#REF!=\"Padrão\",$H$4=#REF!),BDI!$B$17,IF(AND(#REF!=\"Padrão\",$H$4=#REF!),BDI!$C$17,IF(AND(#REF!=\"Diferenciado\",$H$4=#REF!),BDI!$G$17,IF(AND(#REF!=\"Diferenciado\",$H$4=#REF!),BDI!$H$17,IF(#REF!=\"ZERO\",0))))),\"\")","v":{"$error":"#REF!"}},{"$error":"#REF!"},{"$error":"#REF!"}]
["SF-01135","Telha metálica trapezoidal galvanizada - GR-25","m2",0,{"$f":"OFFSET(INDEX(Composições!A:J,MATCH(Orçamentária!A1140,Composições!A:A,0),8),2,0)","v":8.0527928000000006},0,{"$f":"IF(A1140<>\"\",IF(AND(#REF!=\"Padrão\",$H$4=#REF!),BDI!$B$17,IF(AND(#REF!=\"Padrão\",$H$4=#REF!),BDI!$C$17,IF(AND(#REF!=\"Diferenciado\",$H$4=#REF!),BDI!$G$17,IF(AND(#REF!=\"Diferenciado\",$H$4=#REF!),BDI!$H$17,IF(#REF!=\"ZERO\",0))))),\"\")","v":{"$error":"#REF!"}},{"$error":"#REF!"},{"$error":"#REF!"}]
["SF-01136","Cumeeira para telha metálica trapezoidal galvanizada - GR-25","m",0,{"$f":"OFFSET(INDEX(Composições!A:J,MATCH(Orçamentária!A1141,Composições!A:A,0),8),2,0)","v":7.0996805999999992},0,{"$f":"IF(A1141<>\"\",IF(AND(#REF!=\"Padrão\",$H$4=#REF!),BDI!$B$17,IF(AND(#REF!=\"Padrão\",$H$4=#REF!),BDI!$C$17,IF(AND(#REF!=\"Diferenciado\",$H$4=#REF!),BDI!$G$17,IF(AND(#REF!=\"Diferenciado\",$H$4=#REF!),BDI!$H$17,IF(#REF!=\"ZERO\",0))))),\"\")","v":{"$error":"#REF!"}},{"$error":"#REF!"},{"$error":"#REF!"}]
["SF-01137","Telha de fibrocimento modulada - espessura 8mm","m2",0,{"$f":"OFFSET(INDEX(Composições!A:J,MATCH(Orçamentária!A1142,Composições!A:A,0),8),2,0)","v":14.91405},0,{"$f":"IF(A1142<>\"\",IF(AND(#REF!=\"Padrão\",$H$4=#REF!),BDI!$B$17,IF(AND(#REF!=\"Padrão\",$H$4=#REF!),BDI!$C$17,IF(AND(#REF!=\"Diferenciado\",$H$4=#REF!),BDI!$G$17,IF(AND(#REF!=\"Diferenciado\",$H$4=#REF!),BDI!$H$17,IF(#REF!=\"ZERO\",0))))),\"\")","v":{"$error":"#REF!"}},{"$error":"#REF!"},{"$error":"#REF!"}]
["SF-01138","Cumeeira articulada ABA SUPERIOR de fibrocimento para telha modulada - espessura 6 mm","m",0,{"$f":"OFFSET(INDEX(Composições!A:J,MATCH(Orçamentária!A1143,Composições!A:A,0),8),2,0)","v":2.1095699999999997},0,{"$f":"IF(A1143<>\"\",IF(AND(#REF!=\"Padrão\",$H$4=#REF!),BDI!$B$17,IF(AND(#REF!=\"Padrão\",$H$4=#REF!),BDI!$C$17,IF(AND(#REF!=\"Diferenciado\",$H$4=#REF!),BDI!$G$17,IF(AND(#REF!=\"Diferenciado\",$H$4=#REF!),BDI!$H$17,IF(#REF!=\"ZERO\",0))))),\"\")","v":{"$error":"#REF!"}},{"$error":"#REF!"},{"$error":"#REF!"}]
["SF-01139","Cumeeira articulada ABA INFERIOR de fibrocimento para telha modulada - espessura 6 mm","m",0,{"$f":"OFFSET(INDEX(Composições!A:J,MATCH(Orçamentária!A1144,Composições!A:A,0),8),2,0)","v":2.1095699999999997},0,{"$f":"IF(A1144<>\"\",IF(AND(#REF!=\"Padrão\",$H$4=#REF!),BDI!$B$17,IF(AND(#REF!=\"Padrão\",$H$4=#REF!),BDI!$C$17,IF(AND(#REF!=\"Diferenciado\",$H$4=#REF!),BDI!$G$17,IF(AND(#REF!=\"Diferenciado\",$H$4=#REF!),BDI!$H$17,IF(#REF!=\"ZERO\",0))))),\"\")","v":{"$error":"#REF!"}},{"$error":"#REF!"},{"$error":"#REF!"}]
["SF-01140","Telha de fibrocimento ondulada - espessura 6mm","m2",0,{"$f":"OFFSET(INDEX(Composições!A:J,MATCH(Orçamentária!A1145,Composições!A:A,0),8),2,0)","v":27.610151149999997},0,{"$f":"IF(A1145<>\"\",IF(AND(#REF!=\"Padrão\",$H$4=#REF!),BDI!$B$17,IF(AND(#REF!=\"Padrão\",$H$4=#REF!),BDI!$C$17,IF(AND(#REF!=\"Diferenciado\",$H$4=#REF!),BDI!$G$17,IF(AND(#REF!=\"Diferenciado\",$H$4=#REF!),BDI!$H$17,IF(#REF!=\"ZERO\",0))))),\"\")","v":{"$error":"#REF!"}},{"$error":"#REF!"},{"$error":"#REF!"}]
["SF-01141","Cumeeira UNIVERSAL para telha de fibrocimento ondulada - espessura 6 mm","m",0,{"$f":"OFFSET(INDEX(Composições!A:J,MATCH(Orçamentária!A1146,Composições!A:A,0),8),2,0)","v":35.312714100000008},0,{"$f":"IF(A1146<>\"\",IF(AND(#REF!=\"Padrão\",$H$4=#REF!),BDI!$B$17,IF(AND(#REF!=\"Padrão\",$H$4=#REF!),BDI!$C$17,IF(AND(#REF!=\"Diferenciado\",$H$4=#REF!),BDI!$G$17,IF(AND(#REF!=\"Diferenciado\",$H$4=#REF!),BDI!$H$17,IF(#REF!=\"ZERO\",0))))),\"\")","v":{"$error":"#REF!"}},{"$error":"#REF!"},{"$error":"#REF!"}]
["SF-01142","Cumeeira TIPO SHED para telha de fibrocimento ondulada - espessura 6 mm","m",0,{"$f":"OFFSET(INDEX(Composições!A:J,MATCH(Orçamentária!A1147,Composições!A:A,0),8),2,0)","v":33.896748600000002},0,{"$f":"IF(A1147<>\"\",IF(AND(#REF!=\"Padrão\",$H$4=#REF!),BDI!$B$17,IF(AND(#REF!=\"Padrão\",$H$4=#REF!),BDI!$C$17,IF(AND(#REF!=\"Diferenciado\",$H$4=#REF!),BDI!$G$17,IF(AND(#REF!=\"Diferenciado\",$H$4=#REF!),BDI!$H$17,IF(#REF!=\"ZERO\",0))))),\"\")","v":{"$error":"#REF!"}},{"$error":"#REF!"},{"$error":"#REF!"}]
["SF-01143","Telha de fibrocimento - Canalete 49 Eternit","m2",0,{"$f":"OFFSET(INDEX(Composições!A:J,MATCH(Orçamentária!A1148,Composições!A:A,0),8),2,0)","v":5.2739250000000002},0,{"$f":"IF(A1148<>\"\",IF(AND(#REF!=\"Padrão\",$H$4=#REF!),BDI!$B$17,IF(AND(#REF!=\"Padrão\",$H$4=#REF!),BDI!$C$17,IF(AND(#REF!=\"Diferenciado\",$H$4=#REF!),BDI!$G$17,IF(AND(#REF!=\"Diferenciado\",$H$4=#REF!),BDI!$H$17,IF(#REF!=\"ZERO\",0))))),\"\")","v":{"$error":"#REF!"}},{"$error":"#REF!"},{"$error":"#REF!"}]
["SF-01144","Passarela móvel para telhado (sem degraus)","un",0,"","",{"$f":"IF(A1149<>\"\",IF(AND(#REF!=\"Padrão\",$H$4=#REF!),BDI!$B$17,IF(AND(#REF!=\"Padrão\",$H$4=#REF!),BDI!$C$17,IF(AND(#REF!=\"Diferenciado\",$H$4=#REF!),BDI!$G$17,IF(AND(#REF!=\"Diferenciado\",$H$4=#REF!),BDI!$H$17,IF(#REF!=\"ZERO\",0))))),\"\")","v":{"$error":"#REF!"}},"",""]
["SF-01145","Passarela móvel para telhado (com degraus)","un",0,"","",{"$f":"IF(A1150<>\"\",IF(AND(#REF!=\"Padrão\",$H$4=#REF!),BDI!$B$17,IF(AND(#REF!=\"Padrão\",$H$4=#REF!),BDI!$C$17,IF(AND(#REF!=\"Diferenciado\",$H$4=#REF!),BDI!$G$17,IF(AND(#REF!=\"Diferenciado\",$H$4=#REF!),BDI!$H$17,IF(#REF!=\"ZERO\",0))))),\"\")","v":{"$error":"#REF!"}},"",""]
["SF-01146","Locação de guincho elétrico de coluna","conj x mês",0,"","",{"$f":"IF(A1151<>\"\",IF(AND(#REF!=\"Padrão\",$H$4=#REF!),BDI!$B$17,IF(AND(#REF!=\"Padrão\",$H$4=#REF!),BDI!$C$17,IF(AND(#REF!=\"Diferenciado\",$H$4=#REF!),BDI!$G$17,IF(AND(#REF!=\"Diferenciado\",$H$4=#REF!),BDI!$H$17,IF(#REF!=\"ZERO\",0))))),\"\")","v":{"$error":"#REF!"}},"",""]
["SF-01147","Escada tipo marinheiro COM proteção","m",0,{"$f":"OFFSET(INDEX(Composições!A:J,MATCH(Orçamentária!A1152,Composições!A:A,0),8),2,0)","v":215.70405963492175},0,{"$f":"IF(A1152<>\"\",IF(AND(#REF!=\"Padrão\",$H$4=#REF!),BDI!$B$17,IF(AND(#REF!=\"Padrão\",$H$4=#REF!),BDI!$C$17,IF(AND(#REF!=\"Diferenciado\",$H$4=#REF!),BDI!$G$17,IF(AND(#REF!=\"Diferenciado\",$H$4=#REF!),BDI!$H$17,IF(#REF!=\"ZERO\",0))))),\"\")","v":{"$error":"#REF!"}},{"$error":"#REF!"},{"$error":"#REF!"}]
["SF-01148","Escada tipo marinheiro SEM proteção","m",0,{"$f":"OFFSET(INDEX(Composições!A:J,MATCH(Orçamentária!A1153,Composições!A:A,0),8),2,0)","v":62.505919634921746},0,{"$f":"IF(A1153<>\"\",IF(AND(#REF!=\"Padrão\",$H$4=#REF!),BDI!$B$17,IF(AND(#REF!=\"Padrão\",$H$4=#REF!),BDI!$C$17,IF(AND(#REF!=\"Diferenciado\",$H$4=#REF!),BDI!$G$17,IF(AND(#REF!=\"Diferenciado\",$H$4=#REF!),BDI!$H$17,IF(#REF!=\"ZERO\",0))))),\"\")","v":{"$error":"#REF!"}},{"$error":"#REF!"},{"$error":"#REF!"}]
["SF-01149","Limpeza e Preparação do Substrato para Impermeabilização","m2",0,{"$f":"OFFSET(INDEX(Composições!A:J,MATCH(Orçamentária!A1154,Composições!A:A,0),8),2,0)","v":1.60094},0,{"$f":"IF(A1154<>\"\",IF(AND(#REF!=\"Padrão\",$H$4=#REF!),BDI!$B$17,IF(AND(#REF!=\"Padrão\",$H$4=#REF!),BDI!$C$17,IF(AND(#REF!=\"Diferenciado\",$H$4=#REF!),BDI!$G$17,IF(AND(#REF!=\"Diferenciado\",$H$4=#REF!),BDI!$H$17,IF(#REF!=\"ZERO\",0))))),\"\")","v":{"$error":"#REF!"}},{"$error":"#REF!"},{"$error":"#REF!"}]
["SF-01150","Substituição de Coletores de Águas Pluviais","un",0,{"$f":"OFFSET(INDEX(Composições!A:J,MATCH(Orçamentária!A1155,Composições!A:A,0),8),2,0)","v":153.43942004999997},0,{"$f":"IF(A1155<>\"\",IF(AND(#REF!=\"Padrão\",$H$4=#REF!),BDI!$B$17,IF(AND(#REF!=\"Padrão\",$H$4=#REF!),BDI!$C$17,IF(AND(#REF!=\"Diferenciado\",$H$4=#REF!),BDI!$G$17,IF(AND(#REF!=\"Diferenciado\",$H$4=#REF!),BDI!$H$17,IF(#REF!=\"ZERO\",0))))),\"\")","v":{"$error":"#REF!"}},{"$error":"#REF!"},{"$error":"#REF!"}]
["SF-01151","Tratamento de Tubulação Passante para Impermeabilização","un",0,{"$f":"OFFSET(INDEX(Composições!A:J,MATCH(Orçamentária!A1156,Composições!A:A,0),8),2,0)","v":32.870033249999999},0,{"$f":"IF(A1156<>\"\",IF(AND(#REF!=\"Padrão\",$H$4=#REF!),BDI!$B$17,IF(AND(#REF!=\"Padrão\",$H$4=#REF!),BDI!$C$17,IF(AND(#REF!=\"Diferenciado\",$H$4=#REF!),BDI!$G$17,IF(AND(#REF!=\"Diferenciado\",$H$4=#REF!),BDI!$H$17,IF(#REF!=\"ZERO\",0))))),\"\")","v":{"$error":"#REF!"}},{"$error":"#REF!"},{"$error":"#REF!"}]
["SF-01152","Regularização de substrato para Impermeabilização - 3cm","m2",0,{"$f":"OFFSET(INDEX(Composições!A:J,MATCH(Orçamentária!A1157,Composições!A:A,0),8),2,0)","v":33.543916703640399},0,{"$f":"IF(A1157<>\"\",IF(AND(#REF!=\"Padrão\",$H$4=#REF!),BDI!$B$17,IF(AND(#REF!=\"Padrão\",$H$4=#REF!),BDI!$C$17,IF(AND(#REF!=\"Diferenciado\",$H$4=#REF!),BDI!$G$17,IF(AND(#REF!=\"Diferenciado\",$H$4=#REF!),BDI!$H$17,IF(#REF!=\"ZERO\",0))))),\"\")","v":{"$error":"#REF!"}},{"$error":"#REF!"},{"$error":"#REF!"}]
["SF-01153","Regularização de substrato para Impermeabilização - 6cm","m2",0,{"$f":"OFFSET(INDEX(Composições!A:J,MATCH(Orçamentária!A1158,Composições!A:A,0),8),2,0)","v":40.056747572172398},0,{"$f":"IF(A1158<>\"\",IF(AND(#REF!=\"Padrão\",$H$4=#REF!),BDI!$B$17,IF(AND(#REF!=\"Padrão\",$H$4=#REF!),BDI!$C$17,IF(AND(#REF!=\"Diferenciado\",$H$4=#REF!),BDI!$G$17,IF(AND(#REF!=\"Diferenciado\",$H$4=#REF!),BDI!$H$17,IF(#REF!=\"ZERO\",0))))),\"\")","v":{"$error":"#REF!"}},{"$error":"#REF!"},{"$error":"#REF!"}]
["SF-01154","Camada Separadora para Impermeabilização","m2",0,{"$f":"OFFSET(INDEX(Composições!A:J,MATCH(Orçamentária!A1159,Composições!A:A,0),8),2,0)","v":5.5795399999999997},{"$f":"IF(ISNUMBER(E1159),D1159*E1159,\"\")","v":0},{"$f":"IF(A1159<>\"\",IF(AND(#REF!=\"Padrão\",$H$4=#REF!),BDI!$B$17,IF(AND(#REF!=\"Padrão\",$H$4=#REF!),BDI!$C$17,IF(AND(#REF!=\"Diferenciado\",$H$4=#REF!),BDI!$G$17,IF(AND(#REF!=\"Diferenciado\",$H$4=#REF!),BDI!$H$17,IF(#REF!=\"ZERO\",0))))),\"\")","v":{"$error":"#REF!"}},{"$f":"IF(ISNUMBER(E1159),ROUND(E1159*(1+G1159),2),\"\")","v":{"$error":"#REF!"}},{"$f":"IF(ISNUMBER(E1159),ROUND(H1159*D1159,2),\"\")","v":{"$error":"#REF!"}}]
["SF-01155","Camada de Proteção Térmica para Impermeabilização","m2",0,{"$f":"OFFSET(INDEX(Composições!A:J,MATCH(Orçamentária!A1160,Composições!A:A,0),8),2,0)","v":7.4109499999999997},0,{"$f":"IF(A1160<>\"\",IF(AND(#REF!=\"Padrão\",$H$4=#REF!),BDI!$B$17,IF(AND(#REF!=\"Padrão\",$H$4=#REF!),BDI!$C$17,IF(AND(#REF!=\"Diferenciado\",$H$4=#REF!),BDI!$G$17,IF(AND(#REF!=\"Diferenciado\",$H$4=#REF!),BDI!$H$17,IF(#REF!=\"ZERO\",0))))),\"\")","v":{"$error":"#REF!"}},{"$error":"#REF!"},{"$error":"#REF!"}]
["SF-01156","Camada de Amortecimento para Impermeabilização","m2",0,{"$f":"OFFSET(INDEX(Composições!A:J,MATCH(Orçamentária!A1161,Composições!A:A,0),8),2,0)","v":21.297938178273995},0,{"$f":"IF(A1161<>\"\",IF(AND(#REF!=\"Padrão\",$H$4=#REF!),BDI!$B$17,IF(AND(#REF!=\"Padrão\",$H$4=#REF!),BDI!$C$17,IF(AND(#REF!=\"Diferenciado\",$H$4=#REF!),BDI!$G$17,IF(AND(#REF!=\"Diferenciado\",$H$4=#REF!),BDI!$H$17,IF(#REF!=\"ZERO\",0))))),\"\")","v":{"$error":"#REF!"}},{"$error":"#REF!"},{"$error":"#REF!"}]
["SF-01157","Camada de Proteção Mecânica em Placas de Impermeabilização","m2",0,{"$f":"OFFSET(INDEX(Composições!A:J,MATCH(Orçamentária!A1162,Composições!A:A,0),8),2,0)","v":62.988892088249997},0,{"$f":"IF(A1162<>\"\",IF(AND(#REF!=\"Padrão\",$H$4=#REF!),BDI!$B$17,IF(AND(#REF!=\"Padrão\",$H$4=#REF!),BDI!$C$17,IF(AND(#REF!=\"Diferenciado\",$H$4=#REF!),BDI!$G$17,IF(AND(#REF!=\"Diferenciado\",$H$4=#REF!),BDI!$H$17,IF(#REF!=\"ZERO\",0))))),\"\")","v":{"$error":"#REF!"}},{"$error":"#REF!"},{"$error":"#REF!"}]
["SF-01158","Pintura Inibidora de Raízes em Estrutura Impermeabilizada","m2",0,{"$f":"OFFSET(INDEX(Composições!A:J,MATCH(Orçamentária!A1163,Composições!A:A,0),8),2,0)","v":10.5222},0,{"$f":"IF(A1163<>\"\",IF(AND(#REF!=\"Padrão\",$H$4=#REF!),BDI!$B$17,IF(AND(#REF!=\"Padrão\",$H$4=#REF!),BDI!$C$17,IF(AND(#REF!=\"Diferenciado\",$H$4=#REF!),BDI!$G$17,IF(AND(#REF!=\"Diferenciado\",$H$4=#REF!),BDI!$H$17,IF(#REF!=\"ZERO\",0))))),\"\")","v":{"$error":"#REF!"}},{"$error":"#REF!"},{"$error":"#REF!"}]
["SF-01159","Camada Drenante para Impermeabilização","m2",0,{"$f":"OFFSET(INDEX(Composições!A:J,MATCH(Orçamentária!A1164,Composições!A:A,0),8),2,0)","v":5.7250800000000002},0,{"$f":"IF(A1164<>\"\",IF(AND(#REF!=\"Padrão\",$H$4=#REF!),BDI!$B$17,IF(AND(#REF!=\"Padrão\",$H$4=#REF!),BDI!$C$17,IF(AND(#REF!=\"Diferenciado\",$H$4=#REF!),BDI!$G$17,IF(AND(#REF!=\"Diferenciado\",$H$4=#REF!),BDI!$H$17,IF(#REF!=\"ZERO\",0))))),\"\")","v":{"$error":"#REF!"}},{"$error":"#REF!"},{"$error":"#REF!"}]
["SF-01160","Calha em Chapa de Aço Galvanizado nº 24","m2",0,{"$f":"OFFSET(INDEX(Composições!A:J,MATCH(Orçamentária!A1165,Composições!A:A,0),8),2,0)","v":97.425752799999998},0,{"$f":"IF(A1165<>\"\",IF(AND(#REF!=\"Padrão\",$H$4=#REF!),BDI!$B$17,IF(AND(#REF!=\"Padrão\",$H$4=#REF!),BDI!$C$17,IF(AND(#REF!=\"Diferenciado\",$H$4=#REF!),BDI!$G$17,IF(AND(#REF!=\"Diferenciado\",$H$4=#REF!),BDI!$H$17,IF(#REF!=\"ZERO\",0))))),\"\")","v":{"$error":"#REF!"}},{"$error":"#REF!"},{"$error":"#REF!"}]
["SF-01161","Rufo em Chapa de Aço Galvanizado nº 24","m2",0,{"$f":"OFFSET(INDEX(Composições!A:J,MATCH(Orçamentária!A1166,Composições!A:A,0),8),2,0)","v":88.23794654999999},0,{"$f":"IF(A1166<>\"\",IF(AND(#REF!=\"Padrão\",$H$4=#REF!),BDI!$B$17,IF(AND(#REF!=\"Padrão\",$H$4=#REF!),BDI!$C$17,IF(AND(#REF!=\"Diferenciado\",$H$4=#REF!),BDI!$G$17,IF(AND(#REF!=\"Diferenciado\",$H$4=#REF!),BDI!$H$17,IF(#REF!=\"ZERO\",0))))),\"\")","v":{"$error":"#REF!"}},{"$error":"#REF!"},{"$error":"#REF!"}]
["SF-01162","Resina de Poliuretano para Estrutura de Concreto","kg",0,"","",{"$f":"IF(A1167<>\"\",IF(AND(#REF!=\"Padrão\",$H$4=#REF!),BDI!$B$17,IF(AND(#REF!=\"Padrão\",$H$4=#REF!),BDI!$C$17,IF(AND(#REF!=\"Diferenciado\",$H$4=#REF!),BDI!$G$17,IF(AND(#REF!=\"Diferenciado\",$H$4=#REF!),BDI!$H$17,IF(#REF!=\"ZERO\",0))))),\"\")","v":{"$error":"#REF!"}},"",""]
["SF-01163","Chapim Pré-Moldado de Concreto Aparente","m",0,{"$f":"OFFSET(INDEX(Composições!A:J,MATCH(Orçamentária!A1168,Composições!A:A,0),8),2,0)","v":84.631581088499999},0,{"$f":"IF(A1168<>\"\",IF(AND(#REF!=\"Padrão\",$H$4=#REF!),BDI!$B$17,IF(AND(#REF!=\"Padrão\",$H$4=#REF!),BDI!$C$17,IF(AND(#REF!=\"Diferenciado\",$H$4=#REF!),BDI!$G$17,IF(AND(#REF!=\"Diferenciado\",$H$4=#REF!),BDI!$H$17,IF(#REF!=\"ZERO\",0))))),\"\")","v":{"$error":"#REF!"}},{"$error":"#REF!"},{"$error":"#REF!"}]
["SF-01164","Armação em tela de aço soldado nervurada","m2",0,{"$f":"OFFSET(INDEX(Composições!A:J,MATCH(Orçamentária!A1169,Composições!A:A,0),8),2,0)","v":11.112222200000001},0,{"$f":"IF(A1169<>\"\",IF(AND(#REF!=\"Padrão\",$H$4=#REF!),BDI!$B$17,IF(AND(#REF!=\"Padrão\",$H$4=#REF!),BDI!$C$17,IF(AND(#REF!=\"Diferenciado\",$H$4=#REF!),BDI!$G$17,IF(AND(#REF!=\"Diferenciado\",$H$4=#REF!),BDI!$H$17,IF(#REF!=\"ZERO\",0))))),\"\")","v":{"$error":"#REF!"}},{"$error":"#REF!"},{"$error":"#REF!"}]
["SF-01165","Trama de aço composta por terças para telhados de até 2 águas","m2",0,{"$f":"OFFSET(INDEX(Composições!A:J,MATCH(Orçamentária!A1170,Composições!A:A,0),8),2,0)","v":28.624204899999999},0,{"$f":"IF(A1170<>\"\",IF(AND(#REF!=\"Padrão\",$H$4=#REF!),BDI!$B$17,IF(AND(#REF!=\"Padrão\",$H$4=#REF!),BDI!$C$17,IF(AND(#REF!=\"Diferenciado\",$H$4=#REF!),BDI!$G$17,IF(AND(#REF!=\"Diferenciado\",$H$4=#REF!),BDI!$H$17,IF(#REF!=\"ZERO\",0))))),\"\")","v":{"$error":"#REF!"}},{"$error":"#REF!"},{"$error":"#REF!"}]
["SF-01166","Revestimento impermeabilizante bloqueador de umidade","m2",0,{"$f":"OFFSET(INDEX(Composições!A:J,MATCH(Orçamentária!A1171,Composições!A:A,0),8),2,0)","v":5.7693500000000002},0,{"$f":"IF(A1171<>\"\",IF(AND(#REF!=\"Padrão\",$H$4=#REF!),BDI!$B$17,IF(AND(#REF!=\"Padrão\",$H$4=#REF!),BDI!$C$17,IF(AND(#REF!=\"Diferenciado\",$H$4=#REF!),BDI!$G$17,IF(AND(#REF!=\"Diferenciado\",$H$4=#REF!),BDI!$H$17,IF(#REF!=\"ZERO\",0))))),\"\")","v":{"$error":"#REF!"}},{"$error":"#REF!"},{"$error":"#REF!"}]
["SF-01167","Pintura com tinta refletiva aluminizada para impermeabilização","m2",0,{"$f":"OFFSET(INDEX(Composições!A:J,MATCH(Orçamentária!A1172,Composições!A:A,0),8),2,0)","v":5.7693500000000002},0,{"$f":"IF(A1172<>\"\",IF(AND(#REF!=\"Padrão\",$H$4=#REF!),BDI!$B$17,IF(AND(#REF!=\"Padrão\",$H$4=#REF!),BDI!$C$17,IF(AND(#REF!=\"Diferenciado\",$H$4=#REF!),BDI!$G$17,IF(AND(#REF!=\"Diferenciado\",$H$4=#REF!),BDI!$H$17,IF(#REF!=\"ZERO\",0))))),\"\")","v":{"$error":"#REF!"}},{"$error":"#REF!"},{"$error":"#REF!"}]
["SF-01168","Concreto leve com poliestireno expandido","m3",0,{"$f":"OFFSET(INDEX(Composições!A:J,MATCH(Orçamentária!A1173,Composições!A:A,0),8),2,0)","v":705.22269445910001},0,{"$f":"IF(A1173<>\"\",IF(AND(#REF!=\"Padrão\",$H$4=#REF!),BDI!$B$17,IF(AND(#REF!=\"Padrão\",$H$4=#REF!),BDI!$C$17,IF(AND(#REF!=\"Diferenciado\",$H$4=#REF!),BDI!$G$17,IF(AND(#REF!=\"Diferenciado\",$H$4=#REF!),BDI!$H$17,IF(#REF!=\"ZERO\",0))))),\"\")","v":{"$error":"#REF!"}},{"$error":"#REF!"},{"$error":"#REF!"}]
["SF-01169","Colagem da camada de proteção térmica de impermeabilização","m2",0,{"$f":"OFFSET(INDEX(Composições!A:J,MATCH(Orçamentária!A1174,Composições!A:A,0),8),2,0)","v":6.7774425000000003},0,{"$f":"IF(A1174<>\"\",IF(AND(#REF!=\"Padrão\",$H$4=#REF!),BDI!$B$17,IF(AND(#REF!=\"Padrão\",$H$4=#REF!),BDI!$C$17,IF(AND(#REF!=\"Diferenciado\",$H$4=#REF!),BDI!$G$17,IF(AND(#REF!=\"Diferenciado\",$H$4=#REF!),BDI!$H$17,IF(#REF!=\"ZERO\",0))))),\"\")","v":{"$error":"#REF!"}},{"$error":"#REF!"},{"$error":"#REF!"}]
["SF-01170","Impermeabilização com Membrana de Poliuretano","m2",0,{"$f":"OFFSET(INDEX(Composições!A:J,MATCH(Orçamentária!A1175,Composições!A:A,0),8),2,0)","v":95.621907999999991},0,{"$f":"IF(A1175<>\"\",IF(AND(#REF!=\"Padrão\",$H$4=#REF!),BDI!$B$17,IF(AND(#REF!=\"Padrão\",$H$4=#REF!),BDI!$C$17,IF(AND(#REF!=\"Diferenciado\",$H$4=#REF!),BDI!$G$17,IF(AND(#REF!=\"Diferenciado\",$H$4=#REF!),BDI!$H$17,IF(#REF!=\"ZERO\",0))))),\"\")","v":{"$error":"#REF!"}},{"$error":"#REF!"},{"$error":"#REF!"}]
["SF-01171","Impermeabilização com Manta Asfáltica","m2",0,{"$f":"OFFSET(INDEX(Composições!A:J,MATCH(Orçamentária!A1176,Composições!A:A,0),8),2,0)","v":80.784038499999994},0,{"$f":"IF(A1176<>\"\",IF(AND(#REF!=\"Padrão\",$H$4=#REF!),BDI!$B$17,IF(AND(#REF!=\"Padrão\",$H$4=#REF!),BDI!$C$17,IF(AND(#REF!=\"Diferenciado\",$H$4=#REF!),BDI!$G$17,IF(AND(#REF!=\"Diferenciado\",$H$4=#REF!),BDI!$H$17,IF(#REF!=\"ZERO\",0))))),\"\")","v":{"$error":"#REF!"}},{"$error":"#REF!"},{"$error":"#REF!"}]
["SF-01172","Impermeabilização com manta asfáltica aluminizada","m2",0,{"$f":"OFFSET(INDEX(Composições!A:J,MATCH(Orçamentária!A1177,Composições!A:A,0),8),2,0)","v":32.455163499999998},0,{"$f":"IF(A1177<>\"\",IF(AND(#REF!=\"Padrão\",$H$4=#REF!),BDI!$B$17,IF(AND(#REF!=\"Padrão\",$H$4=#REF!),BDI!$C$17,IF(AND(#REF!=\"Diferenciado\",$H$4=#REF!),BDI!$G$17,IF(AND(#REF!=\"Diferenciado\",$H$4=#REF!),BDI!$H$17,IF(#REF!=\"ZERO\",0))))),\"\")","v":{"$error":"#REF!"}},{"$error":"#REF!"},{"$error":"#REF!"}]
["SF-01173","Impermeabilização com manta elastomérica de etileno-propileno-dieno-monômero (EPDM)","m2",0,{"$f":"OFFSET(INDEX(Composições!A:J,MATCH(Orçamentária!A1178,Composições!A:A,0),8),2,0)","v":18.330249999999999},0,{"$f":"IF(A1178<>\"\",IF(AND(#REF!=\"Padrão\",$H$4=#REF!),BDI!$B$17,IF(AND(#REF!=\"Padrão\",$H$4=#REF!),BDI!$C$17,IF(AND(#REF!=\"Diferenciado\",$H$4=#REF!),BDI!$G$17,IF(AND(#REF!=\"Diferenciado\",$H$4=#REF!),BDI!$H$17,IF(#REF!=\"ZERO\",0))))),\"\")","v":{"$error":"#REF!"}},{"$error":"#REF!"},{"$error":"#REF!"}]
["SF-01174","Impermeabilização com membrana acrílica","m2",0,{"$f":"OFFSET(INDEX(Composições!A:J,MATCH(Orçamentária!A1179,Composições!A:A,0),8),2,0)","v":32.943653499999996},0,{"$f":"IF(A1179<>\"\",IF(AND(#REF!=\"Padrão\",$H$4=#REF!),BDI!$B$17,IF(AND(#REF!=\"Padrão\",$H$4=#REF!),BDI!$C$17,IF(AND(#REF!=\"Diferenciado\",$H$4=#REF!),BDI!$G$17,IF(AND(#REF!=\"Diferenciado\",$H$4=#REF!),BDI!$H$17,IF(#REF!=\"ZERO\",0))))),\"\")","v":{"$error":"#REF!"}},{"$error":"#REF!"},{"$error":"#REF!"}]
["SF-01175","Asfalto elastomérico para colagem de manta asfáltica","m2",0,{"$f":"OFFSET(INDEX(Composições!A:J,MATCH(Orçamentária!A1180,Composições!A:A,0),8),2,0)","v":3.8949999999999996},0,{"$f":"IF(A1180<>\"\",IF(AND(#REF!=\"Padrão\",$H$4=#REF!),BDI!$B$17,IF(AND(#REF!=\"Padrão\",$H$4=#REF!),BDI!$C$17,IF(AND(#REF!=\"Diferenciado\",$H$4=#REF!),BDI!$G$17,IF(AND(#REF!=\"Diferenciado\",$H$4=#REF!),BDI!$H$17,IF(#REF!=\"ZERO\",0))))),\"\")","v":{"$error":"#REF!"}},{"$error":"#REF!"},{"$error":"#REF!"}]
["SF-01176","Impermeabilização com manta dupla (com maçarico)","m2",0,{"$f":"OFFSET(INDEX(Composições!A:J,MATCH(Orçamentária!A1181,Composições!A:A,0),8),2,0)","v":131.28028149999997},0,{"$f":"IF(A1181<>\"\",IF(AND(#REF!=\"Padrão\",$H$4=#REF!),BDI!$B$17,IF(AND(#REF!=\"Padrão\",$H$4=#REF!),BDI!$C$17,IF(AND(#REF!=\"Diferenciado\",$H$4=#REF!),BDI!$G$17,IF(AND(#REF!=\"Diferenciado\",$H$4=#REF!),BDI!$H$17,IF(#REF!=\"ZERO\",0))))),\"\")","v":{"$error":"#REF!"}},{"$error":"#REF!"},{"$error":"#REF!"}]
["SF-01177","Impermeabilização com manta dupla (com asfalto elastomérico)","m2",0,{"$f":"OFFSET(INDEX(Composições!A:J,MATCH(Orçamentária!A1182,Composições!A:A,0),8),2,0)","v":133.35567049999997},0,{"$f":"IF(A1182<>\"\",IF(AND(#REF!=\"Padrão\",$H$4=#REF!),BDI!$B$17,IF(AND(#REF!=\"Padrão\",$H$4=#REF!),BDI!$C$17,IF(AND(#REF!=\"Diferenciado\",$H$4=#REF!),BDI!$G$17,IF(AND(#REF!=\"Diferenciado\",$H$4=#REF!),BDI!$H$17,IF(#REF!=\"ZERO\",0))))),\"\")","v":{"$error":"#REF!"}},{"$error":"#REF!"},{"$error":"#REF!"}]
["SF-01178","Fibra de Polipropileno","kg",0,"","",{"$f":"IF(A1183<>\"\",IF(AND(#REF!=\"Padrão\",$H$4=#REF!),BDI!$B$17,IF(AND(#REF!=\"Padrão\",$H$4=#REF!),BDI!$C$17,IF(AND(#REF!=\"Diferenciado\",$H$4=#REF!),BDI!$G$17,IF(AND(#REF!=\"Diferenciado\",$H$4=#REF!),BDI!$H$17,IF(#REF!=\"ZERO\",0))))),\"\")","v":{"$error":"#REF!"}},"",""]
["SF-01179","Aditivo Incorporador de Ar","kg",0,{"$f":"OFFSET(INDEX(Composições!A:J,MATCH(Orçamentária!A1184,Composições!A:A,0),8),2,0)","v":5.0949449999999992},0,{"$f":"IF(A1184<>\"\",IF(AND(#REF!=\"Padrão\",$H$4=#REF!),BDI!$B$17,IF(AND(#REF!=\"Padrão\",$H$4=#REF!),BDI!$C$17,IF(AND(#REF!=\"Diferenciado\",$H$4=#REF!),BDI!$G$17,IF(AND(#REF!=\"Diferenciado\",$H$4=#REF!),BDI!$H$17,IF(#REF!=\"ZERO\",0))))),\"\")","v":{"$error":"#REF!"}},{"$error":"#REF!"},{"$error":"#REF!"}]
["SF-01180","Brita Nº 2","m3",0,{"$f":"OFFSET(INDEX(Composições!A:J,MATCH(Orçamentária!A1185,Composições!A:A,0),8),2,0)","v":110.68943145},0,{"$f":"IF(A1185<>\"\",IF(AND(#REF!=\"Padrão\",$H$4=#REF!),BDI!$B$17,IF(AND(#REF!=\"Padrão\",$H$4=#REF!),BDI!$C$17,IF(AND(#REF!=\"Diferenciado\",$H$4=#REF!),BDI!$G$17,IF(AND(#REF!=\"Diferenciado\",$H$4=#REF!),BDI!$H$17,IF(#REF!=\"ZERO\",0))))),\"\")","v":{"$error":"#REF!"}},{"$error":"#REF!"},{"$error":"#REF!"}]
["SF-01181","Parafusos para fixação de telhas ou chapas","un",0,"","",{"$f":"IF(A1186<>\"\",IF(AND(#REF!=\"Padrão\",$H$4=#REF!),BDI!$B$17,IF(AND(#REF!=\"Padrão\",$H$4=#REF!),BDI!$C$17,IF(AND(#REF!=\"Diferenciado\",$H$4=#REF!),BDI!$G$17,IF(AND(#REF!=\"Diferenciado\",$H$4=#REF!),BDI!$H$17,IF(#REF!=\"ZERO\",0))))),\"\")","v":{"$error":"#REF!"}},"",""]
["SF-01182","Pino para fixação e acessórios de telha de fibrocimento modulada","un",0,"","",{"$f":"IF(A1187<>\"\",IF(AND(#REF!=\"Padrão\",$H$4=#REF!),BDI!$B$17,IF(AND(#REF!=\"Padrão\",$H$4=#REF!),BDI!$C$17,IF(AND(#REF!=\"Diferenciado\",$H$4=#REF!),BDI!$G$17,IF(AND(#REF!=\"Diferenciado\",$H$4=#REF!),BDI!$H$17,IF(#REF!=\"ZERO\",0))))),\"\")","v":{"$error":"#REF!"}},"",""]
["SF-01183","Rebite de Repuxo de 3.2 x 8 mm","un",0,"","",{"$f":"IF(A1188<>\"\",IF(AND(#REF!=\"Padrão\",$H$4=#REF!),BDI!$B$17,IF(AND(#REF!=\"Padrão\",$H$4=#REF!),BDI!$C$17,IF(AND(#REF!=\"Diferenciado\",$H$4=#REF!),BDI!$G$17,IF(AND(#REF!=\"Diferenciado\",$H$4=#REF!),BDI!$H$17,IF(#REF!=\"ZERO\",0))))),\"\")","v":{"$error":"#REF!"}},"",""]
["SF-01184","Calha em chapa de zinco # 24 - Modelo 1","m",0,"","",{"$f":"IF(A1189<>\"\",IF(AND(#REF!=\"Padrão\",$H$4=#REF!),BDI!$B$17,IF(AND(#REF!=\"Padrão\",$H$4=#REF!),BDI!$C$17,IF(AND(#REF!=\"Diferenciado\",$H$4=#REF!),BDI!$G$17,IF(AND(#REF!=\"Diferenciado\",$H$4=#REF!),BDI!$H$17,IF(#REF!=\"ZERO\",0))))),\"\")","v":{"$error":"#REF!"}},"",""]
["SF-01185","Calha em chapa de zinco # 24 - Modelo 2","m",0,"","",{"$f":"IF(A1190<>\"\",IF(AND(#REF!=\"Padrão\",$H$4=#REF!),BDI!$B$17,IF(AND(#REF!=\"Padrão\",$H$4=#REF!),BDI!$C$17,IF(AND(#REF!=\"Diferenciado\",$H$4=#REF!),BDI!$G$17,IF(AND(#REF!=\"Diferenciado\",$H$4=#REF!),BDI!$H$17,IF(#REF!=\"ZERO\",0))))),\"\")","v":{"$error":"#REF!"}},"",""]
["SF-01186","Chave de fenda de 3/8\" x 10\"","un",0,"","",{"$f":"IF(A1191<>\"\",IF(AND(#REF!=\"Padrão\",$H$4=#REF!),BDI!$B$17,IF(AND(#REF!=\"Padrão\",$H$4=#REF!),BDI!$C$17,IF(AND(#REF!=\"Diferenciado\",$H$4=#REF!),BDI!$G$17,IF(AND(#REF!=\"Diferenciado\",$H$4=#REF!),BDI!$H$17,IF(#REF!=\"ZERO\",0))))),\"\")","v":{"$error":"#REF!"}},"",""]
["SF-01187","Chave de fenda de 5/16\" x 8\"","un",0,"","",{"$f":"IF(A1192<>\"\",IF(AND(#REF!=\"Padrão\",$H$4=#REF!),BDI!$B$17,IF(AND(#REF!=\"Padrão\",$H$4=#REF!),BDI!$C$17,IF(AND(#REF!=\"Diferenciado\",$H$4=#REF!),BDI!$G$17,IF(AND(#REF!=\"Diferenciado\",$H$4=#REF!),BDI!$H$17,IF(#REF!=\"ZERO\",0))))),\"\")","v":{"$error":"#REF!"}},"",""]
["SF-01188","Chave de fenda de 1/8\" x 3\"","un",0,"","",{"$f":"IF(A1193<>\"\",IF(AND(#REF!=\"Padrão\",$H$4=#REF!),BDI!$B$17,IF(AND(#REF!=\"Padrão\",$H$4=#REF!),BDI!$C$17,IF(AND(#REF!=\"Diferenciado\",$H$4=#REF!),BDI!$G$17,IF(AND(#REF!=\"Diferenciado\",$H$4=#REF!),BDI!$H$17,IF(#REF!=\"ZERO\",0))))),\"\")","v":{"$error":"#REF!"}},"",""]
["SF-01189","Chave Philips PH2 3/16\" x 4\"","un",0,"","",{"$f":"IF(A1194<>\"\",IF(AND(#REF!=\"Padrão\",$H$4=#REF!),BDI!$B$17,IF(AND(#REF!=\"Padrão\",$H$4=#REF!),BDI!$C$17,IF(AND(#REF!=\"Diferenciado\",$H$4=#REF!),BDI!$G$17,IF(AND(#REF!=\"Diferenciado\",$H$4=#REF!),BDI!$H$17,IF(#REF!=\"ZERO\",0))))),\"\")","v":{"$error":"#REF!"}},"",""]
["SF-01190","Chave Philips PH2 3/16\" x 5\"","un",0,"","",{"$f":"IF(A1195<>\"\",IF(AND(#REF!=\"Padrão\",$H$4=#REF!),BDI!$B$17,IF(AND(#REF!=\"Padrão\",$H$4=#REF!),BDI!$C$17,IF(AND(#REF!=\"Diferenciado\",$H$4=#REF!),BDI!$G$17,IF(AND(#REF!=\"Diferenciado\",$H$4=#REF!),BDI!$H$17,IF(#REF!=\"ZERO\",0))))),\"\")","v":{"$error":"#REF!"}},"",""]
["SF-01191","Conjunto de cavadeiras (grande e pequena)","un",0,"","",{"$f":"IF(A1196<>\"\",IF(AND(#REF!=\"Padrão\",$H$4=#REF!),BDI!$B$17,IF(AND(#REF!=\"Padrão\",$H$4=#REF!),BDI!$C$17,IF(AND(#REF!=\"Diferenciado\",$H$4=#REF!),BDI!$G$17,IF(AND(#REF!=\"Diferenciado\",$H$4=#REF!),BDI!$H$17,IF(#REF!=\"ZERO\",0))))),\"\")","v":{"$error":"#REF!"}},"",""]
["SF-01192","Conjunto de chaves allen CURTAS","un",0,"","",{"$f":"IF(A1197<>\"\",IF(AND(#REF!=\"Padrão\",$H$4=#REF!),BDI!$B$17,IF(AND(#REF!=\"Padrão\",$H$4=#REF!),BDI!$C$17,IF(AND(#REF!=\"Diferenciado\",$H$4=#REF!),BDI!$G$17,IF(AND(#REF!=\"Diferenciado\",$H$4=#REF!),BDI!$H$17,IF(#REF!=\"ZERO\",0))))),\"\")","v":{"$error":"#REF!"}},"",""]
["SF-01193","Conjunto de chaves allen LONGAS","un",0,"","",{"$f":"IF(A1198<>\"\",IF(AND(#REF!=\"Padrão\",$H$4=#REF!),BDI!$B$17,IF(AND(#REF!=\"Padrão\",$H$4=#REF!),BDI!$C$17,IF(AND(#REF!=\"Diferenciado\",$H$4=#REF!),BDI!$G$17,IF(AND(#REF!=\"Diferenciado\",$H$4=#REF!),BDI!$H$17,IF(#REF!=\"ZERO\",0))))),\"\")","v":{"$error":"#REF!"}},"",""]
["SF-01194","Conjunto de chaves de boca de 6 a 36 mm","un",0,"","",{"$f":"IF(A1199<>\"\",IF(AND(#REF!=\"Padrão\",$H$4=#REF!),BDI!$B$17,IF(AND(#REF!=\"Padrão\",$H$4=#REF!),BDI!$C$17,IF(AND(#REF!=\"Diferenciado\",$H$4=#REF!),BDI!$G$17,IF(AND(#REF!=\"Diferenciado\",$H$4=#REF!),BDI!$H$17,IF(#REF!=\"ZERO\",0))))),\"\")","v":{"$error":"#REF!"}},"",""]
["SF-01195","Conjunto de chaves de boca de 1/4\" a 1 1/2\"","un",0,"","",{"$f":"IF(A1200<>\"\",IF(AND(#REF!=\"Padrão\",$H$4=#REF!),BDI!$B$17,IF(AND(#REF!=\"Padrão\",$H$4=#REF!),BDI!$C$17,IF(AND(#REF!=\"Diferenciado\",$H$4=#REF!),BDI!$G$17,IF(AND(#REF!=\"Diferenciado\",$H$4=#REF!),BDI!$H$17,IF(#REF!=\"ZERO\",0))))),\"\")","v":{"$error":"#REF!"}},"",""]
["SF-01196","Conjunto de escovas de aço (pequena, média e grande)","un",0,"","",{"$f":"IF(A1201<>\"\",IF(AND(#REF!=\"Padrão\",$H$4=#REF!),BDI!$B$17,IF(AND(#REF!=\"Padrão\",$H$4=#REF!),BDI!$C$17,IF(AND(#REF!=\"Diferenciado\",$H$4=#REF!),BDI!$G$17,IF(AND(#REF!=\"Diferenciado\",$H$4=#REF!),BDI!$H$17,IF(#REF!=\"ZERO\",0))))),\"\")","v":{"$error":"#REF!"}},"",""]
["SF-01197","Marreta de 2 kg","un",0,"","",{"$f":"IF(A1202<>\"\",IF(AND(#REF!=\"Padrão\",$H$4=#REF!),BDI!$B$17,IF(AND(#REF!=\"Padrão\",$H$4=#REF!),BDI!$C$17,IF(AND(#REF!=\"Diferenciado\",$H$4=#REF!),BDI!$G$17,IF(AND(#REF!=\"Diferenciado\",$H$4=#REF!),BDI!$H$17,IF(#REF!=\"ZERO\",0))))),\"\")","v":{"$error":"#REF!"}},"",""]
["SF-01198","Marreta de 5 kg","un",0,"","",{"$f":"IF(A1203<>\"\",IF(AND(#REF!=\"Padrão\",$H$4=#REF!),BDI!$B$17,IF(AND(#REF!=\"Padrão\",$H$4=#REF!),BDI!$C$17,IF(AND(#REF!=\"Diferenciado\",$H$4=#REF!),BDI!$G$17,IF(AND(#REF!=\"Diferenciado\",$H$4=#REF!),BDI!$H$17,IF(#REF!=\"ZERO\",0))))),\"\")","v":{"$error":"#REF!"}},"",""]
["SF-01199","Marreta de 10 kg","un",0,"","",{"$f":"IF(A1204<>\"\",IF(AND(#REF!=\"Padrão\",$H$4=#REF!),BDI!$B$17,IF(AND(#REF!=\"Padrão\",$H$4=#REF!),BDI!$C$17,IF(AND(#REF!=\"Diferenciado\",$H$4=#REF!),BDI!$G$17,IF(AND(#REF!=\"Diferenciado\",$H$4=#REF!),BDI!$H$17,IF(#REF!=\"ZERO\",0))))),\"\")","v":{"$error":"#REF!"}},"",""]
["SF-01200","Conjunto Pé de cabra 15\"\u009d x 16mm e 24\" \u009dx 19mm","un",0,"","",{"$f":"IF(A1205<>\"\",IF(AND(#REF!=\"Padrão\",$H$4=#REF!),BDI!$B$17,IF(AND(#REF!=\"Padrão\",$H$4=#REF!),BDI!$C$17,IF(AND(#REF!=\"Diferenciado\",$H$4=#REF!),BDI!$G$17,IF(AND(#REF!=\"Diferenciado\",$H$4=#REF!),BDI!$H$17,IF(#REF!=\"ZERO\",0))))),\"\")","v":{"$error":"#REF!"}},"",""]
["SF-01201","Conjunto de talhadeiras e ponteiro SIMPLES","un",0,"","",{"$f":"IF(A1206<>\"\",IF(AND(#REF!=\"Padrão\",$H$4=#REF!),BDI!$B$17,IF(AND(#REF!=\"Padrão\",$H$4=#REF!),BDI!$C$17,IF(AND(#REF!=\"Diferenciado\",$H$4=#REF!),BDI!$G$17,IF(AND(#REF!=\"Diferenciado\",$H$4=#REF!),BDI!$H$17,IF(#REF!=\"ZERO\",0))))),\"\")","v":{"$error":"#REF!"}},"",""]
["SF-01202","Serra copo diamantada (conjunto de 1/2\" a 1 1/2\")","un",0,"","",{"$f":"IF(A1207<>\"\",IF(AND(#REF!=\"Padrão\",$H$4=#REF!),BDI!$B$17,IF(AND(#REF!=\"Padrão\",$H$4=#REF!),BDI!$C$17,IF(AND(#REF!=\"Diferenciado\",$H$4=#REF!),BDI!$G$17,IF(AND(#REF!=\"Diferenciado\",$H$4=#REF!),BDI!$H$17,IF(#REF!=\"ZERO\",0))))),\"\")","v":{"$error":"#REF!"}},"",""]
["SF-01203","Cortadora de Piso a Gasolina","un",0,"","",{"$f":"IF(A1208<>\"\",IF(AND(#REF!=\"Padrão\",$H$4=#REF!),BDI!$B$17,IF(AND(#REF!=\"Padrão\",$H$4=#REF!),BDI!$C$17,IF(AND(#REF!=\"Diferenciado\",$H$4=#REF!),BDI!$G$17,IF(AND(#REF!=\"Diferenciado\",$H$4=#REF!),BDI!$H$17,IF(#REF!=\"ZERO\",0))))),\"\")","v":{"$error":"#REF!"}},"",""]
["SF-01204","Cortadora de Parede","un",0,"","",{"$f":"IF(A1209<>\"\",IF(AND(#REF!=\"Padrão\",$H$4=#REF!),BDI!$B$17,IF(AND(#REF!=\"Padrão\",$H$4=#REF!),BDI!$C$17,IF(AND(#REF!=\"Diferenciado\",$H$4=#REF!),BDI!$G$17,IF(AND(#REF!=\"Diferenciado\",$H$4=#REF!),BDI!$H$17,IF(#REF!=\"ZERO\",0))))),\"\")","v":{"$error":"#REF!"}},"",""]
["SF-01205","Enxada com cabo (2,5 libras)","pç",0,"","",{"$f":"IF(A1210<>\"\",IF(AND(#REF!=\"Padrão\",$H$4=#REF!),BDI!$B$17,IF(AND(#REF!=\"Padrão\",$H$4=#REF!),BDI!$C$17,IF(AND(#REF!=\"Diferenciado\",$H$4=#REF!),BDI!$G$17,IF(AND(#REF!=\"Diferenciado\",$H$4=#REF!),BDI!$H$17,IF(#REF!=\"ZERO\",0))))),\"\")","v":{"$error":"#REF!"}},"",""]
["SF-01206","Escada extensível de alumínio dupla 2x8","un",0,"","",{"$f":"IF(A1211<>\"\",IF(AND(#REF!=\"Padrão\",$H$4=#REF!),BDI!$B$17,IF(AND(#REF!=\"Padrão\",$H$4=#REF!),BDI!$C$17,IF(AND(#REF!=\"Diferenciado\",$H$4=#REF!),BDI!$G$17,IF(AND(#REF!=\"Diferenciado\",$H$4=#REF!),BDI!$H$17,IF(#REF!=\"ZERO\",0))))),\"\")","v":{"$error":"#REF!"}},"",""]
["SF-01207","Escada extensível de alumínio dupla 2x12","un",0,"","",{"$f":"IF(A1212<>\"\",IF(AND(#REF!=\"Padrão\",$H$4=#REF!),BDI!$B$17,IF(AND(#REF!=\"Padrão\",$H$4=#REF!),BDI!$C$17,IF(AND(#REF!=\"Diferenciado\",$H$4=#REF!),BDI!$G$17,IF(AND(#REF!=\"Diferenciado\",$H$4=#REF!),BDI!$H$17,IF(#REF!=\"ZERO\",0))))),\"\")","v":{"$error":"#REF!"}},"",""]
["SF-01208","Escada tipo tesoura duplo acesso de fibra com 12 degraus","un",0,"","",{"$f":"IF(A1213<>\"\",IF(AND(#REF!=\"Padrão\",$H$4=#REF!),BDI!$B$17,IF(AND(#REF!=\"Padrão\",$H$4=#REF!),BDI!$C$17,IF(AND(#REF!=\"Diferenciado\",$H$4=#REF!),BDI!$G$17,IF(AND(#REF!=\"Diferenciado\",$H$4=#REF!),BDI!$H$17,IF(#REF!=\"ZERO\",0))))),\"\")","v":{"$error":"#REF!"}},"",""]
["SF-01209","Exaustor para Trabalho em Espaço Confinado","un",0,"","",{"$f":"IF(A1214<>\"\",IF(AND(#REF!=\"Padrão\",$H$4=#REF!),BDI!$B$17,IF(AND(#REF!=\"Padrão\",$H$4=#REF!),BDI!$C$17,IF(AND(#REF!=\"Diferenciado\",$H$4=#REF!),BDI!$G$17,IF(AND(#REF!=\"Diferenciado\",$H$4=#REF!),BDI!$H$17,IF(#REF!=\"ZERO\",0))))),\"\")","v":{"$error":"#REF!"}},"",""]
["SF-01210","Furadeira/Parafusadeira elétrica","un",0,"","",{"$f":"IF(A1215<>\"\",IF(AND(#REF!=\"Padrão\",$H$4=#REF!),BDI!$B$17,IF(AND(#REF!=\"Padrão\",$H$4=#REF!),BDI!$C$17,IF(AND(#REF!=\"Diferenciado\",$H$4=#REF!),BDI!$G$17,IF(AND(#REF!=\"Diferenciado\",$H$4=#REF!),BDI!$H$17,IF(#REF!=\"ZERO\",0))))),\"\")","v":{"$error":"#REF!"}},"",""]
["SF-01211","Furadeira de impacto/parafusadeira à bateria","un",0,"","",{"$f":"IF(A1216<>\"\",IF(AND(#REF!=\"Padrão\",$H$4=#REF!),BDI!$B$17,IF(AND(#REF!=\"Padrão\",$H$4=#REF!),BDI!$C$17,IF(AND(#REF!=\"Diferenciado\",$H$4=#REF!),BDI!$G$17,IF(AND(#REF!=\"Diferenciado\",$H$4=#REF!),BDI!$H$17,IF(#REF!=\"ZERO\",0))))),\"\")","v":{"$error":"#REF!"}},"",""]
["SF-01212","Jogo de Bits pontas e soquetes para Furadeira/ Parafusadeira","cj",0,"","",{"$f":"IF(A1217<>\"\",IF(AND(#REF!=\"Padrão\",$H$4=#REF!),BDI!$B$17,IF(AND(#REF!=\"Padrão\",$H$4=#REF!),BDI!$C$17,IF(AND(#REF!=\"Diferenciado\",$H$4=#REF!),BDI!$G$17,IF(AND(#REF!=\"Diferenciado\",$H$4=#REF!),BDI!$H$17,IF(#REF!=\"ZERO\",0))))),\"\")","v":{"$error":"#REF!"}},"",""]
["SF-01213","Jogo de chaves Torx com 9 Peças","un",0,"","",{"$f":"IF(A1218<>\"\",IF(AND(#REF!=\"Padrão\",$H$4=#REF!),BDI!$B$17,IF(AND(#REF!=\"Padrão\",$H$4=#REF!),BDI!$C$17,IF(AND(#REF!=\"Diferenciado\",$H$4=#REF!),BDI!$G$17,IF(AND(#REF!=\"Diferenciado\",$H$4=#REF!),BDI!$H$17,IF(#REF!=\"ZERO\",0))))),\"\")","v":{"$error":"#REF!"}},"",""]
["SF-01214","Mangueira de nível de 20m","un",0,"","",{"$f":"IF(A1219<>\"\",IF(AND(#REF!=\"Padrão\",$H$4=#REF!),BDI!$B$17,IF(AND(#REF!=\"Padrão\",$H$4=#REF!),BDI!$C$17,IF(AND(#REF!=\"Diferenciado\",$H$4=#REF!),BDI!$G$17,IF(AND(#REF!=\"Diferenciado\",$H$4=#REF!),BDI!$H$17,IF(#REF!=\"ZERO\",0))))),\"\")","v":{"$error":"#REF!"}},"",""]
["SF-01215","Martelete demolidor 1kW (5 Kg)","un",0,"","",{"$f":"IF(A1220<>\"\",IF(AND(#REF!=\"Padrão\",$H$4=#REF!),BDI!$B$17,IF(AND(#REF!=\"Padrão\",$H$4=#REF!),BDI!$C$17,IF(AND(#REF!=\"Diferenciado\",$H$4=#REF!),BDI!$G$17,IF(AND(#REF!=\"Diferenciado\",$H$4=#REF!),BDI!$H$17,IF(#REF!=\"ZERO\",0))))),\"\")","v":{"$error":"#REF!"}},"",""]
["SF-01216","Pistola aplicadora de silicone e PU","un",0,"","",{"$f":"IF(A1221<>\"\",IF(AND(#REF!=\"Padrão\",$H$4=#REF!),BDI!$B$17,IF(AND(#REF!=\"Padrão\",$H$4=#REF!),BDI!$C$17,IF(AND(#REF!=\"Diferenciado\",$H$4=#REF!),BDI!$G$17,IF(AND(#REF!=\"Diferenciado\",$H$4=#REF!),BDI!$H$17,IF(#REF!=\"ZERO\",0))))),\"\")","v":{"$error":"#REF!"}},"",""]
["SF-01217","Serra mármore","un",0,"","",{"$f":"IF(A1222<>\"\",IF(AND(#REF!=\"Padrão\",$H$4=#REF!),BDI!$B$17,IF(AND(#REF!=\"Padrão\",$H$4=#REF!),BDI!$C$17,IF(AND(#REF!=\"Diferenciado\",$H$4=#REF!),BDI!$G$17,IF(AND(#REF!=\"Diferenciado\",$H$4=#REF!),BDI!$H$17,IF(#REF!=\"ZERO\",0))))),\"\")","v":{"$error":"#REF!"}},"",""]
["SF-01218","Serrote para gesso","cj",0,"",{"$f":"IF(ISNUMBER(E1223),D1223*E1223,\"\")","v":""},{"$f":"IF(A1223<>\"\",IF(AND(#REF!=\"Padrão\",$H$4=#REF!),BDI!$B$17,IF(AND(#REF!=\"Padrão\",$H$4=#REF!),BDI!$C$17,IF(AND(#REF!=\"Diferenciado\",$H$4=#REF!),BDI!$G$17,IF(AND(#REF!=\"Diferenciado\",$H$4=#REF!),BDI!$H$17,IF(#REF!=\"ZERO\",0))))),\"\")","v":{"$error":"#REF!"}},{"$f":"IF(ISNUMBER(E1223),ROUND(E1223*(1+G1223),2),\"\")","v":""},{"$f":"IF(ISNUMBER(E1223),ROUND(H1223*D1223,2),\"\")","v":""}]
["SF-01219","Talha Manual para Elevação de Cargas (2 ton)","un",0,"","",{"$f":"IF(A1224<>\"\",IF(AND(#REF!=\"Padrão\",$H$4=#REF!),BDI!$B$17,IF(AND(#REF!=\"Padrão\",$H$4=#REF!),BDI!$C$17,IF(AND(#REF!=\"Diferenciado\",$H$4=#REF!),BDI!$G$17,IF(AND(#REF!=\"Diferenciado\",$H$4=#REF!),BDI!$H$17,IF(#REF!=\"ZERO\",0))))),\"\")","v":{"$error":"#REF!"}},"",""]
["SF-01220","Veículo do tipo utilitário para transporte de mercadorias","un",0,"","",{"$f":"IF(A1225<>\"\",IF(AND(#REF!=\"Padrão\",$H$4=#REF!),BDI!$B$17,IF(AND(#REF!=\"Padrão\",$H$4=#REF!),BDI!$C$17,IF(AND(#REF!=\"Diferenciado\",$H$4=#REF!),BDI!$G$17,IF(AND(#REF!=\"Diferenciado\",$H$4=#REF!),BDI!$H$17,IF(#REF!=\"ZERO\",0))))),\"\")","v":{"$error":"#REF!"}},"",""]
["SF-01221","Plataforma de trabalho aéreo - em ambiente interno","un",0,"","",{"$f":"IF(A1226<>\"\",IF(AND(#REF!=\"Padrão\",$H$4=#REF!),BDI!$B$17,IF(AND(#REF!=\"Padrão\",$H$4=#REF!),BDI!$C$17,IF(AND(#REF!=\"Diferenciado\",$H$4=#REF!),BDI!$G$17,IF(AND(#REF!=\"Diferenciado\",$H$4=#REF!),BDI!$H$17,IF(#REF!=\"ZERO\",0))))),\"\")","v":{"$error":"#REF!"}},"",""]
["SF-01222","Dispositivo Individual Móvel de Proteção Contra Queda","un",0,"","",{"$f":"IF(A1227<>\"\",IF(AND(#REF!=\"Padrão\",$H$4=#REF!),BDI!$B$17,IF(AND(#REF!=\"Padrão\",$H$4=#REF!),BDI!$C$17,IF(AND(#REF!=\"Diferenciado\",$H$4=#REF!),BDI!$G$17,IF(AND(#REF!=\"Diferenciado\",$H$4=#REF!),BDI!$H$17,IF(#REF!=\"ZERO\",0))))),\"\")","v":{"$error":"#REF!"}},"",""]
["SF-01223","Sondagem - Perfuração adicional de furo","m",0,"","",{"$f":"IF(A1228<>\"\",IF(AND(#REF!=\"Padrão\",$H$4=#REF!),BDI!$B$17,IF(AND(#REF!=\"Padrão\",$H$4=#REF!),BDI!$C$17,IF(AND(#REF!=\"Diferenciado\",$H$4=#REF!),BDI!$G$17,IF(AND(#REF!=\"Diferenciado\",$H$4=#REF!),BDI!$H$17,IF(#REF!=\"ZERO\",0))))),\"\")","v":{"$error":"#REF!"}},"",""]
["SF-01224","Lavadora de alta pressão","un",0,"","",{"$f":"IF(A1229<>\"\",IF(AND(#REF!=\"Padrão\",$H$4=#REF!),BDI!$B$17,IF(AND(#REF!=\"Padrão\",$H$4=#REF!),BDI!$C$17,IF(AND(#REF!=\"Diferenciado\",$H$4=#REF!),BDI!$G$17,IF(AND(#REF!=\"Diferenciado\",$H$4=#REF!),BDI!$H$17,IF(#REF!=\"ZERO\",0))))),\"\")","v":{"$error":"#REF!"}},"",""]
["SF-01225","Manta autocolante aluminizada","m2",0,"","",{"$f":"IF(A1230<>\"\",IF(AND(#REF!=\"Padrão\",$H$4=#REF!),BDI!$B$17,IF(AND(#REF!=\"Padrão\",$H$4=#REF!),BDI!$C$17,IF(AND(#REF!=\"Diferenciado\",$H$4=#REF!),BDI!$G$17,IF(AND(#REF!=\"Diferenciado\",$H$4=#REF!),BDI!$H$17,IF(#REF!=\"ZERO\",0))))),\"\")","v":{"$error":"#REF!"}},"",""]
["SF-01226","Primer para aplicação de manta autocolante aluminizada","Litro",0,"","",{"$f":"IF(A1231<>\"\",IF(AND(#REF!=\"Padrão\",$H$4=#REF!),BDI!$B$17,IF(AND(#REF!=\"Padrão\",$H$4=#REF!),BDI!$C$17,IF(AND(#REF!=\"Diferenciado\",$H$4=#REF!),BDI!$G$17,IF(AND(#REF!=\"Diferenciado\",$H$4=#REF!),BDI!$H$17,IF(#REF!=\"ZERO\",0))))),\"\")","v":{"$error":"#REF!"}},"",""]
["SF-01227","Estudo de Viabilidade Técnica, Laudo Técnico, Projeto Executivo, Projeto de Segurança do Trabalho, Planejamento da Obra e Plano de Manutenção – Modernização de Elevadores na SQS309","un",0,"","",{"$f":"IF(A1232<>\"\",IF(AND(#REF!=\"Padrão\",$H$4=#REF!),BDI!$B$17,IF(AND(#REF!=\"Padrão\",$H$4=#REF!),BDI!$C$17,IF(AND(#REF!=\"Diferenciado\",$H$4=#REF!),BDI!$G$17,IF(AND(#REF!=\"Diferenciado\",$H$4=#REF!),BDI!$H$17,IF(#REF!=\"ZERO\",0))))),\"\")","v":{"$error":"#REF!"}},"",""]
["SF-01228","Serviços Preliminares (instalação de canteiro, mobilização de equipamentos e mão de obra e substituição de infraestrutura elétrica nos Blocos C e G) – Modernização de Elevadores na SQS309","un",0,"","",{"$f":"IF(A1233<>\"\",IF(AND(#REF!=\"Padrão\",$H$4=#REF!),BDI!$B$17,IF(AND(#REF!=\"Padrão\",$H$4=#REF!),BDI!$C$17,IF(AND(#REF!=\"Diferenciado\",$H$4=#REF!),BDI!$G$17,IF(AND(#REF!=\"Diferenciado\",$H$4=#REF!),BDI!$H$17,IF(#REF!=\"ZERO\",0))))),\"\")","v":{"$error":"#REF!"}},"",""]
["SF-01229","Substituição de infraestrutura elétrica no Bloco D – Modernização de Elevadores na SQS309","un",0,"","",{"$f":"IF(A1234<>\"\",IF(AND(#REF!=\"Padrão\",$H$4=#REF!),BDI!$B$17,IF(AND(#REF!=\"Padrão\",$H$4=#REF!),BDI!$C$17,IF(AND(#REF!=\"Diferenciado\",$H$4=#REF!),BDI!$G$17,IF(AND(#REF!=\"Diferenciado\",$H$4=#REF!),BDI!$H$17,IF(#REF!=\"ZERO\",0))))),\"\")","v":{"$error":"#REF!"}},"",""]
["SF-01230","Modernização dos elevadores dos Blocos C, D e G da SQS 309","un",0,"","",{"$f":"IF(A1235<>\"\",IF(AND(#REF!=\"Padrão\",$H$4=#REF!),BDI!$B$17,IF(AND(#REF!=\"Padrão\",$H$4=#REF!),BDI!$C$17,IF(AND(#REF!=\"Diferenciado\",$H$4=#REF!),BDI!$G$17,IF(AND(#REF!=\"Diferenciado\",$H$4=#REF!),BDI!$H$17,IF(#REF!=\"ZERO\",0))))),\"\")","v":{"$error":"#REF!"}},"",""]
["SF-01231","Serviços de Assistência Técnica – Modernização de Elevadores na SQS309","un",0,"","",{"$f":"IF(A1236<>\"\",IF(AND(#REF!=\"Padrão\",$H$4=#REF!),BDI!$B$17,IF(AND(#REF!=\"Padrão\",$H$4=#REF!),BDI!$C$17,IF(AND(#REF!=\"Diferenciado\",$H$4=#REF!),BDI!$G$17,IF(AND(#REF!=\"Diferenciado\",$H$4=#REF!),BDI!$H$17,IF(#REF!=\"ZERO\",0))))),\"\")","v":{"$error":"#REF!"}},"",""]
["SF-01232","Carpete aveludado azul royal - fornecimento e instalação","m2",0,{"$f":"OFFSET(INDEX(Composições!A:J,MATCH(Orçamentária!A1237,Composições!A:A,0),8),2,0)","v":10.878450000000001},0,{"$f":"IF(A1237<>\"\",IF(AND(#REF!=\"Padrão\",$H$4=#REF!),BDI!$B$17,IF(AND(#REF!=\"Padrão\",$H$4=#REF!),BDI!$C$17,IF(AND(#REF!=\"Diferenciado\",$H$4=#REF!),BDI!$G$17,IF(AND(#REF!=\"Diferenciado\",$H$4=#REF!),BDI!$H$17,IF(#REF!=\"ZERO\",0))))),\"\")","v":{"$error":"#REF!"}},{"$error":"#REF!"},{"$error":"#REF!"}]
["SF-01233","Demolição de revestimento de piso têxtil (carpete)","m2",0,{"$f":"OFFSET(INDEX(Composições!A:J,MATCH(Orçamentária!A1238,Composições!A:A,0),8),2,0)","v":1.65015},0,{"$f":"IF(A1238<>\"\",IF(AND(#REF!=\"Padrão\",$H$4=#REF!),BDI!$B$17,IF(AND(#REF!=\"Padrão\",$H$4=#REF!),BDI!$C$17,IF(AND(#REF!=\"Diferenciado\",$H$4=#REF!),BDI!$G$17,IF(AND(#REF!=\"Diferenciado\",$H$4=#REF!),BDI!$H$17,IF(#REF!=\"ZERO\",0))))),\"\")","v":{"$error":"#REF!"}},{"$error":"#REF!"},{"$error":"#REF!"}]
["SF-01234","Tapume/cortina de proteção para solda com suporte","un",0,"","",{"$f":"IF(A1239<>\"\",IF(AND(#REF!=\"Padrão\",$H$4=#REF!),BDI!$B$17,IF(AND(#REF!=\"Padrão\",$H$4=#REF!),BDI!$C$17,IF(AND(#REF!=\"Diferenciado\",$H$4=#REF!),BDI!$G$17,IF(AND(#REF!=\"Diferenciado\",$H$4=#REF!),BDI!$H$17,IF(#REF!=\"ZERO\",0))))),\"\")","v":{"$error":"#REF!"}},"",""]
["SF-01235","Bancada em granito cinza andorinha polido - 2,40 m x 0,60 m","un",0,{"$f":"OFFSET(INDEX(Composições!A:J,MATCH(Orçamentária!A1240,Composições!A:A,0),8),2,0)","v":867.13735503999987},{"$f":"IF(ISNUMBER(E1240),D1240*E1240,\"\")","v":0},{"$f":"IF(A1240<>\"\",IF(AND(#REF!=\"Padrão\",$H$4=#REF!),BDI!$B$17,IF(AND(#REF!=\"Padrão\",$H$4=#REF!),BDI!$C$17,IF(AND(#REF!=\"Diferenciado\",$H$4=#REF!),BDI!$G$17,IF(AND(#REF!=\"Diferenciado\",$H$4=#REF!),BDI!$H$17,IF(#REF!=\"ZERO\",0))))),\"\")","v":{"$error":"#REF!"}},{"$f":"IF(ISNUMBER(E1240),ROUND(E1240*(1+G1240),2),\"\")","v":{"$error":"#REF!"}},{"$f":"IF(ISNUMBER(E1240),ROUND(H1240*D1240,2),\"\")","v":{"$error":"#REF!"}}]
["SF-01236","Bancada em granito cinza andorinha polido - 2,50 m x 0,60 m","un",0,{"$f":"OFFSET(INDEX(Composições!A:J,MATCH(Orçamentária!A1241,Composições!A:A,0),8),2,0)","v":899.79881971666646},0,{"$f":"IF(A1241<>\"\",IF(AND(#REF!=\"Padrão\",$H$4=#REF!),BDI!$B$17,IF(AND(#REF!=\"Padrão\",$H$4=#REF!),BDI!$C$17,IF(AND(#REF!=\"Diferenciado\",$H$4=#REF!),BDI!$G$17,IF(AND(#REF!=\"Diferenciado\",$H$4=#REF!),BDI!$H$17,IF(#REF!=\"ZERO\",0))))),\"\")","v":{"$error":"#REF!"}},{"$error":"#REF!"},{"$error":"#REF!"}]
["SF-01237","Pedido de autorização ambiental para desativação do posto de combustíveis","un",0,"","",{"$f":"IF(A1242<>\"\",IF(AND(#REF!=\"Padrão\",$H$4=#REF!),BDI!$B$17,IF(AND(#REF!=\"Padrão\",$H$4=#REF!),BDI!$C$17,IF(AND(#REF!=\"Diferenciado\",$H$4=#REF!),BDI!$G$17,IF(AND(#REF!=\"Diferenciado\",$H$4=#REF!),BDI!$H$17,IF(#REF!=\"ZERO\",0))))),\"\")","v":{"$error":"#REF!"}},"",""]
["SF-01238","Relatório de Investigação de Passivo Ambiental - RIPA","un",0,"","",{"$f":"IF(A1243<>\"\",IF(AND(#REF!=\"Padrão\",$H$4=#REF!),BDI!$B$17,IF(AND(#REF!=\"Padrão\",$H$4=#REF!),BDI!$C$17,IF(AND(#REF!=\"Diferenciado\",$H$4=#REF!),BDI!$G$17,IF(AND(#REF!=\"Diferenciado\",$H$4=#REF!),BDI!$H$17,IF(#REF!=\"ZERO\",0))))),\"\")","v":{"$error":"#REF!"}},"",""]
["SF-01239","Remoção do Sistema de Abastecimento Subterrâneo de Combustíveis - SASC","un",0,"","",{"$f":"IF(A1244<>\"\",IF(AND(#REF!=\"Padrão\",$H$4=#REF!),BDI!$B$17,IF(AND(#REF!=\"Padrão\",$H$4=#REF!),BDI!$C$17,IF(AND(#REF!=\"Diferenciado\",$H$4=#REF!),BDI!$G$17,IF(AND(#REF!=\"Diferenciado\",$H$4=#REF!),BDI!$H$17,IF(#REF!=\"ZERO\",0))))),\"\")","v":{"$error":"#REF!"}},"",""]
["SF-01240","Batedor/limitador inferior para box de correr","un",0,{"$f":"OFFSET(INDEX(Composições!A:J,MATCH(Orçamentária!A1245,Composições!A:A,0),8),2,0)","v":2.7217499999999997},0,{"$f":"IF(A1245<>\"\",IF(AND(#REF!=\"Padrão\",$H$4=#REF!),BDI!$B$17,IF(AND(#REF!=\"Padrão\",$H$4=#REF!),BDI!$C$17,IF(AND(#REF!=\"Diferenciado\",$H$4=#REF!),BDI!$G$17,IF(AND(#REF!=\"Diferenciado\",$H$4=#REF!),BDI!$H$17,IF(#REF!=\"ZERO\",0))))),\"\")","v":{"$error":"#REF!"}},{"$error":"#REF!"},{"$error":"#REF!"}]
["SF-01241","Batedor/amortecedor lateral para box de correr","un",0,{"$f":"OFFSET(INDEX(Composições!A:J,MATCH(Orçamentária!A1246,Composições!A:A,0),8),2,0)","v":2.7217499999999997},0,{"$f":"IF(A1246<>\"\",IF(AND(#REF!=\"Padrão\",$H$4=#REF!),BDI!$B$17,IF(AND(#REF!=\"Padrão\",$H$4=#REF!),BDI!$C$17,IF(AND(#REF!=\"Diferenciado\",$H$4=#REF!),BDI!$G$17,IF(AND(#REF!=\"Diferenciado\",$H$4=#REF!),BDI!$H$17,IF(#REF!=\"ZERO\",0))))),\"\")","v":{"$error":"#REF!"}},{"$error":"#REF!"},{"$error":"#REF!"}]
["SF-01242","Batedor/limitador superior para box de correr","un",0,{"$f":"OFFSET(INDEX(Composições!A:J,MATCH(Orçamentária!A1247,Composições!A:A,0),8),2,0)","v":2.7217499999999997},0,{"$f":"IF(A1247<>\"\",IF(AND(#REF!=\"Padrão\",$H$4=#REF!),BDI!$B$17,IF(AND(#REF!=\"Padrão\",$H$4=#REF!),BDI!$C$17,IF(AND(#REF!=\"Diferenciado\",$H$4=#REF!),BDI!$G$17,IF(AND(#REF!=\"Diferenciado\",$H$4=#REF!),BDI!$H$17,IF(#REF!=\"ZERO\",0))))),\"\")","v":{"$error":"#REF!"}},{"$error":"#REF!"},{"$error":"#REF!"}]
["SF-01243","Perfil cadeirinha em alumínio com encaixe para escova de vedação para vidro temperado 8mm","m",0,{"$f":"OFFSET(INDEX(Composições!A:J,MATCH(Orçamentária!A1248,Composições!A:A,0),8),2,0)","v":7.2595010000000002},0,{"$f":"IF(A1248<>\"\",IF(AND(#REF!=\"Padrão\",$H$4=#REF!),BDI!$B$17,IF(AND(#REF!=\"Padrão\",$H$4=#REF!),BDI!$C$17,IF(AND(#REF!=\"Diferenciado\",$H$4=#REF!),BDI!$G$17,IF(AND(#REF!=\"Diferenciado\",$H$4=#REF!),BDI!$H$17,IF(#REF!=\"ZERO\",0))))),\"\")","v":{"$error":"#REF!"}},{"$error":"#REF!"},{"$error":"#REF!"}]
["SF-01244","Perfil em alumínio para acabamento de trilho superior - Vidro temperado 8mm","m",0,{"$f":"OFFSET(INDEX(Composições!A:J,MATCH(Orçamentária!A1249,Composições!A:A,0),8),2,0)","v":10.1120375},0,{"$f":"IF(A1249<>\"\",IF(AND(#REF!=\"Padrão\",$H$4=#REF!),BDI!$B$17,IF(AND(#REF!=\"Padrão\",$H$4=#REF!),BDI!$C$17,IF(AND(#REF!=\"Diferenciado\",$H$4=#REF!),BDI!$G$17,IF(AND(#REF!=\"Diferenciado\",$H$4=#REF!),BDI!$H$17,IF(#REF!=\"ZERO\",0))))),\"\")","v":{"$error":"#REF!"}},{"$error":"#REF!"},{"$error":"#REF!"}]
["SF-01245","Capa do Perfil Guia Inferior “Click” - Vidro temperado 8mm","m",0,{"$f":"OFFSET(INDEX(Composições!A:J,MATCH(Orçamentária!A1250,Composições!A:A,0),8),2,0)","v":4.3064924999999992},0,{"$f":"IF(A1250<>\"\",IF(AND(#REF!=\"Padrão\",$H$4=#REF!),BDI!$B$17,IF(AND(#REF!=\"Padrão\",$H$4=#REF!),BDI!$C$17,IF(AND(#REF!=\"Diferenciado\",$H$4=#REF!),BDI!$G$17,IF(AND(#REF!=\"Diferenciado\",$H$4=#REF!),BDI!$H$17,IF(#REF!=\"ZERO\",0))))),\"\")","v":{"$error":"#REF!"}},{"$error":"#REF!"},{"$error":"#REF!"}]
["SF-01246","Perfil guia inferior de alumínio para porta de giro em vidro temperado 8mm","m",0,{"$f":"OFFSET(INDEX(Composições!A:J,MATCH(Orçamentária!A1251,Composições!A:A,0),8),2,0)","v":11.436707999999999},0,{"$f":"IF(A1251<>\"\",IF(AND(#REF!=\"Padrão\",$H$4=#REF!),BDI!$B$17,IF(AND(#REF!=\"Padrão\",$H$4=#REF!),BDI!$C$17,IF(AND(#REF!=\"Diferenciado\",$H$4=#REF!),BDI!$G$17,IF(AND(#REF!=\"Diferenciado\",$H$4=#REF!),BDI!$H$17,IF(#REF!=\"ZERO\",0))))),\"\")","v":{"$error":"#REF!"}},{"$error":"#REF!"},{"$error":"#REF!"}]
["SF-01247","Perfil guia inferior de alumínio para porta de correr em vidro temperado 8mm","m",0,{"$f":"OFFSET(INDEX(Composições!A:J,MATCH(Orçamentária!A1252,Composições!A:A,0),8),2,0)","v":12.9061965},0,{"$f":"IF(A1252<>\"\",IF(AND(#REF!=\"Padrão\",$H$4=#REF!),BDI!$B$17,IF(AND(#REF!=\"Padrão\",$H$4=#REF!),BDI!$C$17,IF(AND(#REF!=\"Diferenciado\",$H$4=#REF!),BDI!$G$17,IF(AND(#REF!=\"Diferenciado\",$H$4=#REF!),BDI!$H$17,IF(#REF!=\"ZERO\",0))))),\"\")","v":{"$error":"#REF!"}},{"$error":"#REF!"},{"$error":"#REF!"}]
["SF-01248","Trilho superior em alumínio 53,8mm x 49,6mm, para vidro temperado","m",0,{"$f":"OFFSET(INDEX(Composições!A:J,MATCH(Orçamentária!A1253,Composições!A:A,0),8),2,0)","v":20.887536000000001},0,{"$f":"IF(A1253<>\"\",IF(AND(#REF!=\"Padrão\",$H$4=#REF!),BDI!$B$17,IF(AND(#REF!=\"Padrão\",$H$4=#REF!),BDI!$C$17,IF(AND(#REF!=\"Diferenciado\",$H$4=#REF!),BDI!$G$17,IF(AND(#REF!=\"Diferenciado\",$H$4=#REF!),BDI!$H$17,IF(#REF!=\"ZERO\",0))))),\"\")","v":{"$error":"#REF!"}},{"$error":"#REF!"},{"$error":"#REF!"}]
["SF-01249","Perfil em alumínio, tipo U - 10,5 x 20mm - para box de vidro temperado 8mm","m",0,{"$f":"OFFSET(INDEX(Composições!A:J,MATCH(Orçamentária!A1254,Composições!A:A,0),8),2,0)","v":6.6544174999999992},0,{"$f":"IF(A1254<>\"\",IF(AND(#REF!=\"Padrão\",$H$4=#REF!),BDI!$B$17,IF(AND(#REF!=\"Padrão\",$H$4=#REF!),BDI!$C$17,IF(AND(#REF!=\"Diferenciado\",$H$4=#REF!),BDI!$G$17,IF(AND(#REF!=\"Diferenciado\",$H$4=#REF!),BDI!$H$17,IF(#REF!=\"ZERO\",0))))),\"\")","v":{"$error":"#REF!"}},{"$error":"#REF!"},{"$error":"#REF!"}]
["SF-01250","Perfil em alumínio , tipo U –  14 x 20mm - para box de vidro temperado 8mm","m",0,{"$f":"OFFSET(INDEX(Composições!A:J,MATCH(Orçamentária!A1255,Composições!A:A,0),8),2,0)","v":7.0578064999999999},0,{"$f":"IF(A1255<>\"\",IF(AND(#REF!=\"Padrão\",$H$4=#REF!),BDI!$B$17,IF(AND(#REF!=\"Padrão\",$H$4=#REF!),BDI!$C$17,IF(AND(#REF!=\"Diferenciado\",$H$4=#REF!),BDI!$G$17,IF(AND(#REF!=\"Diferenciado\",$H$4=#REF!),BDI!$H$17,IF(#REF!=\"ZERO\",0))))),\"\")","v":{"$error":"#REF!"}},{"$error":"#REF!"},{"$error":"#REF!"}]
["SF-01251","Bacia convencional – Linha Residencial","un",0,{"$f":"OFFSET(INDEX(Composições!A:J,MATCH(Orçamentária!A1256,Composições!A:A,0),8),2,0)","v":55.327423349999989},0,{"$f":"IF(A1256<>\"\",IF(AND(#REF!=\"Padrão\",$H$4=#REF!),BDI!$B$17,IF(AND(#REF!=\"Padrão\",$H$4=#REF!),BDI!$C$17,IF(AND(#REF!=\"Diferenciado\",$H$4=#REF!),BDI!$G$17,IF(AND(#REF!=\"Diferenciado\",$H$4=#REF!),BDI!$H$17,IF(#REF!=\"ZERO\",0))))),\"\")","v":{"$error":"#REF!"}},{"$error":"#REF!"},{"$error":"#REF!"}]
["SF-01252","Bidê 3 furos - Linha Residencial","un",0,{"$f":"OFFSET(INDEX(Composições!A:J,MATCH(Orçamentária!A1257,Composições!A:A,0),8),2,0)","v":53.550923349999991},0,{"$f":"IF(A1257<>\"\",IF(AND(#REF!=\"Padrão\",$H$4=#REF!),BDI!$B$17,IF(AND(#REF!=\"Padrão\",$H$4=#REF!),BDI!$C$17,IF(AND(#REF!=\"Diferenciado\",$H$4=#REF!),BDI!$G$17,IF(AND(#REF!=\"Diferenciado\",$H$4=#REF!),BDI!$H$17,IF(#REF!=\"ZERO\",0))))),\"\")","v":{"$error":"#REF!"}},{"$error":"#REF!"},{"$error":"#REF!"}]
["SF-01253","Divisória de Vidro temperado para box de CORRER e ferragens – Linha Residencial","m2",0,"","",{"$f":"IF(A1258<>\"\",IF(AND(#REF!=\"Padrão\",$H$4=#REF!),BDI!$B$17,IF(AND(#REF!=\"Padrão\",$H$4=#REF!),BDI!$C$17,IF(AND(#REF!=\"Diferenciado\",$H$4=#REF!),BDI!$G$17,IF(AND(#REF!=\"Diferenciado\",$H$4=#REF!),BDI!$H$17,IF(#REF!=\"ZERO\",0))))),\"\")","v":{"$error":"#REF!"}},"",""]
["SF-01254","Divisória de Vidro temperado para box com porta de GIRO e ferragens – Linha Residencial","m2",0,"","",{"$f":"IF(A1259<>\"\",IF(AND(#REF!=\"Padrão\",$H$4=#REF!),BDI!$B$17,IF(AND(#REF!=\"Padrão\",$H$4=#REF!),BDI!$C$17,IF(AND(#REF!=\"Diferenciado\",$H$4=#REF!),BDI!$G$17,IF(AND(#REF!=\"Diferenciado\",$H$4=#REF!),BDI!$H$17,IF(#REF!=\"ZERO\",0))))),\"\")","v":{"$error":"#REF!"}},"",""]
["SF-01255","Chuveiro de metal com tubo de parede – Linha Residencial","un",0,{"$f":"OFFSET(INDEX(Composições!A:J,MATCH(Orçamentária!A1260,Composições!A:A,0),8),2,0)","v":10.631585849999999},0,{"$f":"IF(A1260<>\"\",IF(AND(#REF!=\"Padrão\",$H$4=#REF!),BDI!$B$17,IF(AND(#REF!=\"Padrão\",$H$4=#REF!),BDI!$C$17,IF(AND(#REF!=\"Diferenciado\",$H$4=#REF!),BDI!$G$17,IF(AND(#REF!=\"Diferenciado\",$H$4=#REF!),BDI!$H$17,IF(#REF!=\"ZERO\",0))))),\"\")","v":{"$error":"#REF!"}},{"$error":"#REF!"},{"$error":"#REF!"}]
["SF-01256","Misturador para bidê – Linha Residencial","un",0,{"$f":"OFFSET(INDEX(Composições!A:J,MATCH(Orçamentária!A1261,Composições!A:A,0),8),2,0)","v":11.09205845},0,{"$f":"IF(A1261<>\"\",IF(AND(#REF!=\"Padrão\",$H$4=#REF!),BDI!$B$17,IF(AND(#REF!=\"Padrão\",$H$4=#REF!),BDI!$C$17,IF(AND(#REF!=\"Diferenciado\",$H$4=#REF!),BDI!$G$17,IF(AND(#REF!=\"Diferenciado\",$H$4=#REF!),BDI!$H$17,IF(#REF!=\"ZERO\",0))))),\"\")","v":{"$error":"#REF!"}},{"$error":"#REF!"},{"$error":"#REF!"}]
["SF-01257","Misturador de mesa para cozinha bica móvel – Linha Residencial","un",0,{"$f":"OFFSET(INDEX(Composições!A:J,MATCH(Orçamentária!A1262,Composições!A:A,0),8),2,0)","v":5.4932894999999995},0,{"$f":"IF(A1262<>\"\",IF(AND(#REF!=\"Padrão\",$H$4=#REF!),BDI!$B$17,IF(AND(#REF!=\"Padrão\",$H$4=#REF!),BDI!$C$17,IF(AND(#REF!=\"Diferenciado\",$H$4=#REF!),BDI!$G$17,IF(AND(#REF!=\"Diferenciado\",$H$4=#REF!),BDI!$H$17,IF(#REF!=\"ZERO\",0))))),\"\")","v":{"$error":"#REF!"}},{"$error":"#REF!"},{"$error":"#REF!"}]
["SF-01258","Misturador de mesa para lavatório bica alta – Linha Residencial","un",0,{"$f":"OFFSET(INDEX(Composições!A:J,MATCH(Orçamentária!A1263,Composições!A:A,0),8),2,0)","v":11.09205845},0,{"$f":"IF(A1263<>\"\",IF(AND(#REF!=\"Padrão\",$H$4=#REF!),BDI!$B$17,IF(AND(#REF!=\"Padrão\",$H$4=#REF!),BDI!$C$17,IF(AND(#REF!=\"Diferenciado\",$H$4=#REF!),BDI!$G$17,IF(AND(#REF!=\"Diferenciado\",$H$4=#REF!),BDI!$H$17,IF(#REF!=\"ZERO\",0))))),\"\")","v":{"$error":"#REF!"}},{"$error":"#REF!"},{"$error":"#REF!"}]
["SF-01259","Misturador de parede para cozinha bica móvel – Linha Residencial","un",0,{"$f":"OFFSET(INDEX(Composições!A:J,MATCH(Orçamentária!A1264,Composições!A:A,0),8),2,0)","v":5.4932894999999995},0,{"$f":"IF(A1264<>\"\",IF(AND(#REF!=\"Padrão\",$H$4=#REF!),BDI!$B$17,IF(AND(#REF!=\"Padrão\",$H$4=#REF!),BDI!$C$17,IF(AND(#REF!=\"Diferenciado\",$H$4=#REF!),BDI!$G$17,IF(AND(#REF!=\"Diferenciado\",$H$4=#REF!),BDI!$H$17,IF(#REF!=\"ZERO\",0))))),\"\")","v":{"$error":"#REF!"}},{"$error":"#REF!"},{"$error":"#REF!"}]
["SF-01260","Dobradiça automática vidro/vidro para box de vidro temperado","un",0,{"$f":"OFFSET(INDEX(Composições!A:J,MATCH(Orçamentária!A1265,Composições!A:A,0),8),2,0)","v":5.4434999999999993},0,{"$f":"IF(A1265<>\"\",IF(AND(#REF!=\"Padrão\",$H$4=#REF!),BDI!$B$17,IF(AND(#REF!=\"Padrão\",$H$4=#REF!),BDI!$C$17,IF(AND(#REF!=\"Diferenciado\",$H$4=#REF!),BDI!$G$17,IF(AND(#REF!=\"Diferenciado\",$H$4=#REF!),BDI!$H$17,IF(#REF!=\"ZERO\",0))))),\"\")","v":{"$error":"#REF!"}},{"$error":"#REF!"},{"$error":"#REF!"}]
["SF-01261","Luminária tipo arandela – Linha Residencial","un",0,{"$f":"OFFSET(INDEX(Composições!A:J,MATCH(Orçamentária!A1266,Composições!A:A,0),8),2,0)","v":12.342635599999999},0,{"$f":"IF(A1266<>\"\",IF(AND(#REF!=\"Padrão\",$H$4=#REF!),BDI!$B$17,IF(AND(#REF!=\"Padrão\",$H$4=#REF!),BDI!$C$17,IF(AND(#REF!=\"Diferenciado\",$H$4=#REF!),BDI!$G$17,IF(AND(#REF!=\"Diferenciado\",$H$4=#REF!),BDI!$H$17,IF(#REF!=\"ZERO\",0))))),\"\")","v":{"$error":"#REF!"}},{"$error":"#REF!"},{"$error":"#REF!"}]
["SF-01262","Tê misturador de transição 1/2” ou 3/4” – Linha Residencial","un",0,{"$f":"OFFSET(INDEX(Composições!A:J,MATCH(Orçamentária!A1267,Composições!A:A,0),8),2,0)","v":26.845366000000002},0,{"$f":"IF(A1267<>\"\",IF(AND(#REF!=\"Padrão\",$H$4=#REF!),BDI!$B$17,IF(AND(#REF!=\"Padrão\",$H$4=#REF!),BDI!$C$17,IF(AND(#REF!=\"Diferenciado\",$H$4=#REF!),BDI!$G$17,IF(AND(#REF!=\"Diferenciado\",$H$4=#REF!),BDI!$H$17,IF(#REF!=\"ZERO\",0))))),\"\")","v":{"$error":"#REF!"}},{"$error":"#REF!"},{"$error":"#REF!"}]
["SF-01263","Base para válvula de descarga 1 1/2”","un",0,{"$f":"OFFSET(INDEX(Composições!A:J,MATCH(Orçamentária!A1268,Composições!A:A,0),8),2,0)","v":21.738000699999994},0,{"$f":"IF(A1268<>\"\",IF(AND(#REF!=\"Padrão\",$H$4=#REF!),BDI!$B$17,IF(AND(#REF!=\"Padrão\",$H$4=#REF!),BDI!$C$17,IF(AND(#REF!=\"Diferenciado\",$H$4=#REF!),BDI!$G$17,IF(AND(#REF!=\"Diferenciado\",$H$4=#REF!),BDI!$H$17,IF(#REF!=\"ZERO\",0))))),\"\")","v":{"$error":"#REF!"}},{"$error":"#REF!"},{"$error":"#REF!"}]
["SF-01264","Base para válvula de descarga 1 1/4”","un",0,{"$f":"OFFSET(INDEX(Composições!A:J,MATCH(Orçamentária!A1269,Composições!A:A,0),8),2,0)","v":21.738000699999994},0,{"$f":"IF(A1269<>\"\",IF(AND(#REF!=\"Padrão\",$H$4=#REF!),BDI!$B$17,IF(AND(#REF!=\"Padrão\",$H$4=#REF!),BDI!$C$17,IF(AND(#REF!=\"Diferenciado\",$H$4=#REF!),BDI!$G$17,IF(AND(#REF!=\"Diferenciado\",$H$4=#REF!),BDI!$H$17,IF(#REF!=\"ZERO\",0))))),\"\")","v":{"$error":"#REF!"}},{"$error":"#REF!"},{"$error":"#REF!"}]
["SF-01265","Anel de Vedação para bacia sanitária","un",0,{"$f":"OFFSET(INDEX(Composições!A:J,MATCH(Orçamentária!A1270,Composições!A:A,0),8),2,0)","v":3.6831499999999999},0,{"$f":"IF(A1270<>\"\",IF(AND(#REF!=\"Padrão\",$H$4=#REF!),BDI!$B$17,IF(AND(#REF!=\"Padrão\",$H$4=#REF!),BDI!$C$17,IF(AND(#REF!=\"Diferenciado\",$H$4=#REF!),BDI!$G$17,IF(AND(#REF!=\"Diferenciado\",$H$4=#REF!),BDI!$H$17,IF(#REF!=\"ZERO\",0))))),\"\")","v":{"$error":"#REF!"}},{"$error":"#REF!"},{"$error":"#REF!"}]
["SF-01266","Folha de porta em madeira e MDF 2,10x0,60m","un",0,{"$f":"OFFSET(INDEX(Composições!A:J,MATCH(Orçamentária!A1271,Composições!A:A,0),8),2,0)","v":198.53867600000001},0,{"$f":"IF(A1271<>\"\",IF(AND(#REF!=\"Padrão\",$H$4=#REF!),BDI!$B$17,IF(AND(#REF!=\"Padrão\",$H$4=#REF!),BDI!$C$17,IF(AND(#REF!=\"Diferenciado\",$H$4=#REF!),BDI!$G$17,IF(AND(#REF!=\"Diferenciado\",$H$4=#REF!),BDI!$H$17,IF(#REF!=\"ZERO\",0))))),\"\")","v":{"$error":"#REF!"}},{"$error":"#REF!"},{"$error":"#REF!"}]
["SF-01267","Folha de porta em madeira e MDF 2,10x0,70m","un",0,{"$f":"OFFSET(INDEX(Composições!A:J,MATCH(Orçamentária!A1272,Composições!A:A,0),8),2,0)","v":214.52915200000001},0,{"$f":"IF(A1272<>\"\",IF(AND(#REF!=\"Padrão\",$H$4=#REF!),BDI!$B$17,IF(AND(#REF!=\"Padrão\",$H$4=#REF!),BDI!$C$17,IF(AND(#REF!=\"Diferenciado\",$H$4=#REF!),BDI!$G$17,IF(AND(#REF!=\"Diferenciado\",$H$4=#REF!),BDI!$H$17,IF(#REF!=\"ZERO\",0))))),\"\")","v":{"$error":"#REF!"}},{"$error":"#REF!"},{"$error":"#REF!"}]
["SF-01268","Folha de porta em madeira e MDF 2,10x0,80m","un",0,{"$f":"OFFSET(INDEX(Composições!A:J,MATCH(Orçamentária!A1273,Composições!A:A,0),8),2,0)","v":256.85362799999996},0,{"$f":"IF(A1273<>\"\",IF(AND(#REF!=\"Padrão\",$H$4=#REF!),BDI!$B$17,IF(AND(#REF!=\"Padrão\",$H$4=#REF!),BDI!$C$17,IF(AND(#REF!=\"Diferenciado\",$H$4=#REF!),BDI!$G$17,IF(AND(#REF!=\"Diferenciado\",$H$4=#REF!),BDI!$H$17,IF(#REF!=\"ZERO\",0))))),\"\")","v":{"$error":"#REF!"}},{"$error":"#REF!"},{"$error":"#REF!"}]
["SF-01269","Folha de porta em madeira e MDF 2,10x0,90m","un",0,{"$f":"OFFSET(INDEX(Composições!A:J,MATCH(Orçamentária!A1274,Composições!A:A,0),8),2,0)","v":239.77460399999998},0,{"$f":"IF(A1274<>\"\",IF(AND(#REF!=\"Padrão\",$H$4=#REF!),BDI!$B$17,IF(AND(#REF!=\"Padrão\",$H$4=#REF!),BDI!$C$17,IF(AND(#REF!=\"Diferenciado\",$H$4=#REF!),BDI!$G$17,IF(AND(#REF!=\"Diferenciado\",$H$4=#REF!),BDI!$H$17,IF(#REF!=\"ZERO\",0))))),\"\")","v":{"$error":"#REF!"}},{"$error":"#REF!"},{"$error":"#REF!"}]
["SF-01270","Remoção de boiler","un",0,{"$f":"OFFSET(INDEX(Composições!A:J,MATCH(Orçamentária!A1275,Composições!A:A,0),8),2,0)","v":61.958999999999996},0,{"$f":"IF(A1275<>\"\",IF(AND(#REF!=\"Padrão\",$H$4=#REF!),BDI!$B$17,IF(AND(#REF!=\"Padrão\",$H$4=#REF!),BDI!$C$17,IF(AND(#REF!=\"Diferenciado\",$H$4=#REF!),BDI!$G$17,IF(AND(#REF!=\"Diferenciado\",$H$4=#REF!),BDI!$H$17,IF(#REF!=\"ZERO\",0))))),\"\")","v":{"$error":"#REF!"}},{"$error":"#REF!"},{"$error":"#REF!"}]
["SF-01271","Remoção de tacos de madeira","m2",0,{"$f":"OFFSET(INDEX(Composições!A:J,MATCH(Orçamentária!A1276,Composições!A:A,0),8),2,0)","v":22.02366},0,{"$f":"IF(A1276<>\"\",IF(AND(#REF!=\"Padrão\",$H$4=#REF!),BDI!$B$17,IF(AND(#REF!=\"Padrão\",$H$4=#REF!),BDI!$C$17,IF(AND(#REF!=\"Diferenciado\",$H$4=#REF!),BDI!$G$17,IF(AND(#REF!=\"Diferenciado\",$H$4=#REF!),BDI!$H$17,IF(#REF!=\"ZERO\",0))))),\"\")","v":{"$error":"#REF!"}},{"$error":"#REF!"},{"$error":"#REF!"}]
["SF-01272","Cerâmica 30x60cm - Glacier White - Portobello – Linha Residencial","m2",0,{"$f":"OFFSET(INDEX(Composições!A:J,MATCH(Orçamentária!A1277,Composições!A:A,0),8),2,0)","v":23.242130000000003},0,{"$f":"IF(A1277<>\"\",IF(AND(#REF!=\"Padrão\",$H$4=#REF!),BDI!$B$17,IF(AND(#REF!=\"Padrão\",$H$4=#REF!),BDI!$C$17,IF(AND(#REF!=\"Diferenciado\",$H$4=#REF!),BDI!$G$17,IF(AND(#REF!=\"Diferenciado\",$H$4=#REF!),BDI!$H$17,IF(#REF!=\"ZERO\",0))))),\"\")","v":{"$error":"#REF!"}},{"$error":"#REF!"},{"$error":"#REF!"}]
["SF-01273","Instalação de tacos de madeira reaproveitados","m2",0,{"$f":"OFFSET(INDEX(Composições!A:J,MATCH(Orçamentária!A1278,Composições!A:A,0),8),2,0)","v":25.842450999999997},0,{"$f":"IF(A1278<>\"\",IF(AND(#REF!=\"Padrão\",$H$4=#REF!),BDI!$B$17,IF(AND(#REF!=\"Padrão\",$H$4=#REF!),BDI!$C$17,IF(AND(#REF!=\"Diferenciado\",$H$4=#REF!),BDI!$G$17,IF(AND(#REF!=\"Diferenciado\",$H$4=#REF!),BDI!$H$17,IF(#REF!=\"ZERO\",0))))),\"\")","v":{"$error":"#REF!"}},{"$error":"#REF!"},{"$error":"#REF!"}]
["SF-01274","Cortina de linho sintético / BLECAUTE COM VARÃO – Linha Residencial","m",0,"","",{"$f":"IF(A1279<>\"\",IF(AND(#REF!=\"Padrão\",$H$4=#REF!),BDI!$B$17,IF(AND(#REF!=\"Padrão\",$H$4=#REF!),BDI!$C$17,IF(AND(#REF!=\"Diferenciado\",$H$4=#REF!),BDI!$G$17,IF(AND(#REF!=\"Diferenciado\",$H$4=#REF!),BDI!$H$17,IF(#REF!=\"ZERO\",0))))),\"\")","v":{"$error":"#REF!"}},"",""]
["SF-01275","Cortina de linho sintético / BLECAUTE SEM VARÃO – Linha Residencial","m",0,"","",{"$f":"IF(A1280<>\"\",IF(AND(#REF!=\"Padrão\",$H$4=#REF!),BDI!$B$17,IF(AND(#REF!=\"Padrão\",$H$4=#REF!),BDI!$C$17,IF(AND(#REF!=\"Diferenciado\",$H$4=#REF!),BDI!$G$17,IF(AND(#REF!=\"Diferenciado\",$H$4=#REF!),BDI!$H$17,IF(#REF!=\"ZERO\",0))))),\"\")","v":{"$error":"#REF!"}},"",""]
["SF-01276","Cortina de linho sintético / FORRO COM VARÃO – Linha Residencial","m",0,"","",{"$f":"IF(A1281<>\"\",IF(AND(#REF!=\"Padrão\",$H$4=#REF!),BDI!$B$17,IF(AND(#REF!=\"Padrão\",$H$4=#REF!),BDI!$C$17,IF(AND(#REF!=\"Diferenciado\",$H$4=#REF!),BDI!$G$17,IF(AND(#REF!=\"Diferenciado\",$H$4=#REF!),BDI!$H$17,IF(#REF!=\"ZERO\",0))))),\"\")","v":{"$error":"#REF!"}},"",""]
["SF-01277","Cortina de linho sintético / FORRO SEM VARÃO – Linha Residencial","m",0,"","",{"$f":"IF(A1282<>\"\",IF(AND(#REF!=\"Padrão\",$H$4=#REF!),BDI!$B$17,IF(AND(#REF!=\"Padrão\",$H$4=#REF!),BDI!$C$17,IF(AND(#REF!=\"Diferenciado\",$H$4=#REF!),BDI!$G$17,IF(AND(#REF!=\"Diferenciado\",$H$4=#REF!),BDI!$H$17,IF(#REF!=\"ZERO\",0))))),\"\")","v":{"$error":"#REF!"}},"",""]
["SF-01278","Instalação de cortinas reaproveitadas","m",0,{"$f":"OFFSET(INDEX(Composições!A:J,MATCH(Orçamentária!A1283,Composições!A:A,0),8),2,0)","v":8.5927499999999988},0,{"$f":"IF(A1283<>\"\",IF(AND(#REF!=\"Padrão\",$H$4=#REF!),BDI!$B$17,IF(AND(#REF!=\"Padrão\",$H$4=#REF!),BDI!$C$17,IF(AND(#REF!=\"Diferenciado\",$H$4=#REF!),BDI!$G$17,IF(AND(#REF!=\"Diferenciado\",$H$4=#REF!),BDI!$H$17,IF(#REF!=\"ZERO\",0))))),\"\")","v":{"$error":"#REF!"}},{"$error":"#REF!"},{"$error":"#REF!"}]
["SF-01279","Tubo CPVC soldável 22mm – Linha Residencial","m",0,{"$f":"OFFSET(INDEX(Composições!A:J,MATCH(Orçamentária!A1284,Composições!A:A,0),8),2,0)","v":21.775767000000002},0,{"$f":"IF(A1284<>\"\",IF(AND(#REF!=\"Padrão\",$H$4=#REF!),BDI!$B$17,IF(AND(#REF!=\"Padrão\",$H$4=#REF!),BDI!$C$17,IF(AND(#REF!=\"Diferenciado\",$H$4=#REF!),BDI!$G$17,IF(AND(#REF!=\"Diferenciado\",$H$4=#REF!),BDI!$H$17,IF(#REF!=\"ZERO\",0))))),\"\")","v":{"$error":"#REF!"}},{"$error":"#REF!"},{"$error":"#REF!"}]
["SF-01280","Tubo CPVC soldável 28mm – Linha Residencial","m",0,{"$f":"OFFSET(INDEX(Composições!A:J,MATCH(Orçamentária!A1285,Composições!A:A,0),8),2,0)","v":30.043825999999999},0,{"$f":"IF(A1285<>\"\",IF(AND(#REF!=\"Padrão\",$H$4=#REF!),BDI!$B$17,IF(AND(#REF!=\"Padrão\",$H$4=#REF!),BDI!$C$17,IF(AND(#REF!=\"Diferenciado\",$H$4=#REF!),BDI!$G$17,IF(AND(#REF!=\"Diferenciado\",$H$4=#REF!),BDI!$H$17,IF(#REF!=\"ZERO\",0))))),\"\")","v":{"$error":"#REF!"}},{"$error":"#REF!"},{"$error":"#REF!"}]
["SF-01281","Instalação de bidê reaproveitado","un",0,{"$f":"OFFSET(INDEX(Composições!A:J,MATCH(Orçamentária!A1286,Composições!A:A,0),8),2,0)","v":53.550923349999991},0,{"$f":"IF(A1286<>\"\",IF(AND(#REF!=\"Padrão\",$H$4=#REF!),BDI!$B$17,IF(AND(#REF!=\"Padrão\",$H$4=#REF!),BDI!$C$17,IF(AND(#REF!=\"Diferenciado\",$H$4=#REF!),BDI!$G$17,IF(AND(#REF!=\"Diferenciado\",$H$4=#REF!),BDI!$H$17,IF(#REF!=\"ZERO\",0))))),\"\")","v":{"$error":"#REF!"}},{"$error":"#REF!"},{"$error":"#REF!"}]
["SF-01282","Aquecedor elétrico para pia – Linha Residencial","un",0,{"$f":"OFFSET(INDEX(Composições!A:J,MATCH(Orçamentária!A1287,Composições!A:A,0),8),2,0)","v":17.153285499999999},0,{"$f":"IF(A1287<>\"\",IF(AND(#REF!=\"Padrão\",$H$4=#REF!),BDI!$B$17,IF(AND(#REF!=\"Padrão\",$H$4=#REF!),BDI!$C$17,IF(AND(#REF!=\"Diferenciado\",$H$4=#REF!),BDI!$G$17,IF(AND(#REF!=\"Diferenciado\",$H$4=#REF!),BDI!$H$17,IF(#REF!=\"ZERO\",0))))),\"\")","v":{"$error":"#REF!"}},{"$error":"#REF!"},{"$error":"#REF!"}]
["SF-01283","Chuveiro elétrico – Linha Residencial","un",0,{"$f":"OFFSET(INDEX(Composições!A:J,MATCH(Orçamentária!A1288,Composições!A:A,0),8),2,0)","v":10.631585849999999},0,{"$f":"IF(A1288<>\"\",IF(AND(#REF!=\"Padrão\",$H$4=#REF!),BDI!$B$17,IF(AND(#REF!=\"Padrão\",$H$4=#REF!),BDI!$C$17,IF(AND(#REF!=\"Diferenciado\",$H$4=#REF!),BDI!$G$17,IF(AND(#REF!=\"Diferenciado\",$H$4=#REF!),BDI!$H$17,IF(#REF!=\"ZERO\",0))))),\"\")","v":{"$error":"#REF!"}},{"$error":"#REF!"},{"$error":"#REF!"}]
["SF-01284","Instalação de boiler reaproveitado","un",0,{"$f":"OFFSET(INDEX(Composições!A:J,MATCH(Orçamentária!A1289,Composições!A:A,0),8),2,0)","v":206.9119},0,{"$f":"IF(A1289<>\"\",IF(AND(#REF!=\"Padrão\",$H$4=#REF!),BDI!$B$17,IF(AND(#REF!=\"Padrão\",$H$4=#REF!),BDI!$C$17,IF(AND(#REF!=\"Diferenciado\",$H$4=#REF!),BDI!$G$17,IF(AND(#REF!=\"Diferenciado\",$H$4=#REF!),BDI!$H$17,IF(#REF!=\"ZERO\",0))))),\"\")","v":{"$error":"#REF!"}},{"$error":"#REF!"},{"$error":"#REF!"}]
["SF-01285","Prateleira – Linha Residencial","un",0,{"$f":"OFFSET(INDEX(Composições!A:J,MATCH(Orçamentária!A1290,Composições!A:A,0),8),2,0)","v":14.954904749999999},0,{"$f":"IF(A1290<>\"\",IF(AND(#REF!=\"Padrão\",$H$4=#REF!),BDI!$B$17,IF(AND(#REF!=\"Padrão\",$H$4=#REF!),BDI!$C$17,IF(AND(#REF!=\"Diferenciado\",$H$4=#REF!),BDI!$G$17,IF(AND(#REF!=\"Diferenciado\",$H$4=#REF!),BDI!$H$17,IF(#REF!=\"ZERO\",0))))),\"\")","v":{"$error":"#REF!"}},{"$error":"#REF!"},{"$error":"#REF!"}]
["SF-01286","Saboneteira – Linha Residencial","un",0,{"$f":"OFFSET(INDEX(Composições!A:J,MATCH(Orçamentária!A1291,Composições!A:A,0),8),2,0)","v":7.4784056999999988},0,{"$f":"IF(A1291<>\"\",IF(AND(#REF!=\"Padrão\",$H$4=#REF!),BDI!$B$17,IF(AND(#REF!=\"Padrão\",$H$4=#REF!),BDI!$C$17,IF(AND(#REF!=\"Diferenciado\",$H$4=#REF!),BDI!$G$17,IF(AND(#REF!=\"Diferenciado\",$H$4=#REF!),BDI!$H$17,IF(#REF!=\"ZERO\",0))))),\"\")","v":{"$error":"#REF!"}},{"$error":"#REF!"},{"$error":"#REF!"}]
["SF-01287","Módulo campainha eletrônica – Linha Residencial","un",0,{"$f":"OFFSET(INDEX(Composições!A:J,MATCH(Orçamentária!A1292,Composições!A:A,0),8),2,0)","v":12.317643},{"$f":"IF(ISNUMBER(E1292),D1292*E1292,\"\")","v":0},{"$f":"IF(A1292<>\"\",IF(AND(#REF!=\"Padrão\",$H$4=#REF!),BDI!$B$17,IF(AND(#REF!=\"Padrão\",$H$4=#REF!),BDI!$C$17,IF(AND(#REF!=\"Diferenciado\",$H$4=#REF!),BDI!$G$17,IF(AND(#REF!=\"Diferenciado\",$H$4=#REF!),BDI!$H$17,IF(#REF!=\"ZERO\",0))))),\"\")","v":{"$error":"#REF!"}},{"$f":"IF(ISNUMBER(E1292),ROUND(E1292*(1+G1292),2),\"\")","v":{"$error":"#REF!"}},{"$f":"IF(ISNUMBER(E1292),ROUND(H1292*D1292,2),\"\")","v":{"$error":"#REF!"}}]
["SF-01288","Módulo pulsador – Linha Residencial","un",0,{"$f":"OFFSET(INDEX(Composições!A:J,MATCH(Orçamentária!A1293,Composições!A:A,0),8),2,0)","v":12.949925},0,{"$f":"IF(A1293<>\"\",IF(AND(#REF!=\"Padrão\",$H$4=#REF!),BDI!$B$17,IF(AND(#REF!=\"Padrão\",$H$4=#REF!),BDI!$C$17,IF(AND(#REF!=\"Diferenciado\",$H$4=#REF!),BDI!$G$17,IF(AND(#REF!=\"Diferenciado\",$H$4=#REF!),BDI!$H$17,IF(#REF!=\"ZERO\",0))))),\"\")","v":{"$error":"#REF!"}},{"$error":"#REF!"},{"$error":"#REF!"}]
["SF-01289","Luminária redonda de sobrepor (plafond) – Linha Residencial","un",0,{"$f":"OFFSET(INDEX(Composições!A:J,MATCH(Orçamentária!A1294,Composições!A:A,0),8),2,0)","v":77.356902099999985},0,{"$f":"IF(A1294<>\"\",IF(AND(#REF!=\"Padrão\",$H$4=#REF!),BDI!$B$17,IF(AND(#REF!=\"Padrão\",$H$4=#REF!),BDI!$C$17,IF(AND(#REF!=\"Diferenciado\",$H$4=#REF!),BDI!$G$17,IF(AND(#REF!=\"Diferenciado\",$H$4=#REF!),BDI!$H$17,IF(#REF!=\"ZERO\",0))))),\"\")","v":{"$error":"#REF!"}},{"$error":"#REF!"},{"$error":"#REF!"}]
["SF-01290","Acabamento Passa-fio 59mm","un",0,"","",{"$f":"IF(A1295<>\"\",IF(AND(#REF!=\"Padrão\",$H$4=#REF!),BDI!$B$17,IF(AND(#REF!=\"Padrão\",$H$4=#REF!),BDI!$C$17,IF(AND(#REF!=\"Diferenciado\",$H$4=#REF!),BDI!$G$17,IF(AND(#REF!=\"Diferenciado\",$H$4=#REF!),BDI!$H$17,IF(#REF!=\"ZERO\",0))))),\"\")","v":{"$error":"#REF!"}},"",""]
["SF-01291","Armário em MDF laminado com porta e módulo de gaveta – Linha Residencial","m2",0,"","",{"$f":"IF(A1296<>\"\",IF(AND(#REF!=\"Padrão\",$H$4=#REF!),BDI!$B$17,IF(AND(#REF!=\"Padrão\",$H$4=#REF!),BDI!$C$17,IF(AND(#REF!=\"Diferenciado\",$H$4=#REF!),BDI!$G$17,IF(AND(#REF!=\"Diferenciado\",$H$4=#REF!),BDI!$H$17,IF(#REF!=\"ZERO\",0))))),\"\")","v":{"$error":"#REF!"}},"",""]
["SF-01292","Difusor em acrílico e aro metálico para luminárias (modelo Edifício Principal - INTERIOR)","un",0,"",{"$f":"IF(ISNUMBER(E1297),D1297*E1297,\"\")","v":""},{"$f":"IF(A1297<>\"\",IF(AND(#REF!=\"Padrão\",$H$4=#REF!),BDI!$B$17,IF(AND(#REF!=\"Padrão\",$H$4=#REF!),BDI!$C$17,IF(AND(#REF!=\"Diferenciado\",$H$4=#REF!),BDI!$G$17,IF(AND(#REF!=\"Diferenciado\",$H$4=#REF!),BDI!$H$17,IF(#REF!=\"ZERO\",0))))),\"\")","v":{"$error":"#REF!"}},{"$f":"IF(ISNUMBER(E1297),ROUND(E1297*(1+G1297),2),\"\")","v":""},{"$f":"IF(ISNUMBER(E1297),ROUND(H1297*D1297,2),\"\")","v":""}]
["SF-01293","Difusor em acrílico e aro metálico para luminárias (modelo Edifício Principal - EXTERIOR)","un",0,"","",{"$f":"IF(A1298<>\"\",IF(AND(#REF!=\"Padrão\",$H$4=#REF!),BDI!$B$17,IF(AND(#REF!=\"Padrão\",$H$4=#REF!),BDI!$C$17,IF(AND(#REF!=\"Diferenciado\",$H$4=#REF!),BDI!$G$17,IF(AND(#REF!=\"Diferenciado\",$H$4=#REF!),BDI!$H$17,IF(#REF!=\"ZERO\",0))))),\"\")","v":{"$error":"#REF!"}},"",""]
["SF-01294","Difusor em acrílico e presilhas metálicas para luminárias (modelo Comissões)","un",0,"","",{"$f":"IF(A1299<>\"\",IF(AND(#REF!=\"Padrão\",$H$4=#REF!),BDI!$B$17,IF(AND(#REF!=\"Padrão\",$H$4=#REF!),BDI!$C$17,IF(AND(#REF!=\"Diferenciado\",$H$4=#REF!),BDI!$G$17,IF(AND(#REF!=\"Diferenciado\",$H$4=#REF!),BDI!$H$17,IF(#REF!=\"ZERO\",0))))),\"\")","v":{"$error":"#REF!"}},"",""]
["SF-01295","Bandeira de porta, em madeira e MDF","m²",0,{"$f":"OFFSET(INDEX(Composições!A:J,MATCH(Orçamentária!A1300,Composições!A:A,0),8),2,0)","v":171.03431807142857},{"$f":"IF(ISNUMBER(E1300),D1300*E1300,\"\")","v":0},{"$f":"IF(A1300<>\"\",IF(AND(#REF!=\"Padrão\",$H$4=#REF!),BDI!$B$17,IF(AND(#REF!=\"Padrão\",$H$4=#REF!),BDI!$C$17,IF(AND(#REF!=\"Diferenciado\",$H$4=#REF!),BDI!$G$17,IF(AND(#REF!=\"Diferenciado\",$H$4=#REF!),BDI!$H$17,IF(#REF!=\"ZERO\",0))))),\"\")","v":{"$error":"#REF!"}},{"$f":"IF(ISNUMBER(E1300),ROUND(E1300*(1+G1300),2),\"\")","v":{"$error":"#REF!"}},{"$f":"IF(ISNUMBER(E1300),ROUND(H1300*D1300,2),\"\")","v":{"$error":"#REF!"}}]
["SF-01296","Bandeira de porta, em madeira pintada","m²",0,{"$f":"OFFSET(INDEX(Composições!A:J,MATCH(Orçamentária!A1301,Composições!A:A,0),8),2,0)","v":183.15749426190473},0,{"$f":"IF(A1301<>\"\",IF(AND(#REF!=\"Padrão\",$H$4=#REF!),BDI!$B$17,IF(AND(#REF!=\"Padrão\",$H$4=#REF!),BDI!$C$17,IF(AND(#REF!=\"Diferenciado\",$H$4=#REF!),BDI!$G$17,IF(AND(#REF!=\"Diferenciado\",$H$4=#REF!),BDI!$H$17,IF(#REF!=\"ZERO\",0))))),\"\")","v":{"$error":"#REF!"}},{"$error":"#REF!"},{"$error":"#REF!"}]
["SF-01297","Levantamentos como construído (“As Built”) e Relatório de Avaliação Técnica – Bloco 01 (PRODASEN)","un",0,"","",{"$f":"IF(A1302<>\"\",IF(AND(#REF!=\"Padrão\",$H$4=#REF!),BDI!$B$17,IF(AND(#REF!=\"Padrão\",$H$4=#REF!),BDI!$C$17,IF(AND(#REF!=\"Diferenciado\",$H$4=#REF!),BDI!$G$17,IF(AND(#REF!=\"Diferenciado\",$H$4=#REF!),BDI!$H$17,IF(#REF!=\"ZERO\",0))))),\"\")","v":{"$error":"#REF!"}},"",""]
["SF-01298","Levantamentos como construído (“As Built”) e Relatório de Avaliação Técnica – Áreas Técnicas 10 (CM-3), 13 (CM-2) e Espaços Externos","un",0,"","",{"$f":"IF(A1303<>\"\",IF(AND(#REF!=\"Padrão\",$H$4=#REF!),BDI!$B$17,IF(AND(#REF!=\"Padrão\",$H$4=#REF!),BDI!$C$17,IF(AND(#REF!=\"Diferenciado\",$H$4=#REF!),BDI!$G$17,IF(AND(#REF!=\"Diferenciado\",$H$4=#REF!),BDI!$H$17,IF(#REF!=\"ZERO\",0))))),\"\")","v":{"$error":"#REF!"}},"",""]
["SF-01299","Levantamentos como construído (“As Built”) e Relatório de Avaliação Técnica - Anexo II e Túnel do Tempo","un",0,"","",{"$f":"IF(A1304<>\"\",IF(AND(#REF!=\"Padrão\",$H$4=#REF!),BDI!$B$17,IF(AND(#REF!=\"Padrão\",$H$4=#REF!),BDI!$C$17,IF(AND(#REF!=\"Diferenciado\",$H$4=#REF!),BDI!$G$17,IF(AND(#REF!=\"Diferenciado\",$H$4=#REF!),BDI!$H$17,IF(#REF!=\"ZERO\",0))))),\"\")","v":{"$error":"#REF!"}},"",""]
["SF-01300","Estudos Preliminares de Prevenção e Combate a Incêndio e Pânico (incluindo Acessibilidade e Segurança de Pessoa com Deficiência) - Bloco 01 (PRODASEN)","un",0,"","",{"$f":"IF(A1305<>\"\",IF(AND(#REF!=\"Padrão\",$H$4=#REF!),BDI!$B$17,IF(AND(#REF!=\"Padrão\",$H$4=#REF!),BDI!$C$17,IF(AND(#REF!=\"Diferenciado\",$H$4=#REF!),BDI!$G$17,IF(AND(#REF!=\"Diferenciado\",$H$4=#REF!),BDI!$H$17,IF(#REF!=\"ZERO\",0))))),\"\")","v":{"$error":"#REF!"}},"",""]
["SF-01301","Estudos Preliminares de Prevenção e Combate a Incêndio e Pânico (incluindo Acessibilidade e Segurança de Pessoa com Deficiência) - Áreas Técnicas 10 (CM-3), 13 (CM-2) e Espaços Externos","un",0,"","",{"$f":"IF(A1306<>\"\",IF(AND(#REF!=\"Padrão\",$H$4=#REF!),BDI!$B$17,IF(AND(#REF!=\"Padrão\",$H$4=#REF!),BDI!$C$17,IF(AND(#REF!=\"Diferenciado\",$H$4=#REF!),BDI!$G$17,IF(AND(#REF!=\"Diferenciado\",$H$4=#REF!),BDI!$H$17,IF(#REF!=\"ZERO\",0))))),\"\")","v":{"$error":"#REF!"}},"",""]
["SF-01302","Estudos Preliminares de Prevenção e Combate a Incêndio e Pânico (incluindo Acessibilidade e Segurança de Pessoa com Deficiência) - Anexo II e Túnel do Tempo","un",0,"","",{"$f":"IF(A1307<>\"\",IF(AND(#REF!=\"Padrão\",$H$4=#REF!),BDI!$B$17,IF(AND(#REF!=\"Padrão\",$H$4=#REF!),BDI!$C$17,IF(AND(#REF!=\"Diferenciado\",$H$4=#REF!),BDI!$G$17,IF(AND(#REF!=\"Diferenciado\",$H$4=#REF!),BDI!$H$17,IF(#REF!=\"ZERO\",0))))),\"\")","v":{"$error":"#REF!"}},"",""]
["SF-01303","Anteprojetos e Orçamentos Preliminares para Prevenção e Combate a Incêndio e Pânico (incluindo Acessibilidade e Segurança de Pessoa com Deficiência) - Bloco 01 (PRODASEN)","un",0,"","",{"$f":"IF(A1308<>\"\",IF(AND(#REF!=\"Padrão\",$H$4=#REF!),BDI!$B$17,IF(AND(#REF!=\"Padrão\",$H$4=#REF!),BDI!$C$17,IF(AND(#REF!=\"Diferenciado\",$H$4=#REF!),BDI!$G$17,IF(AND(#REF!=\"Diferenciado\",$H$4=#REF!),BDI!$H$17,IF(#REF!=\"ZERO\",0))))),\"\")","v":{"$error":"#REF!"}},"",""]
["SF-01304","Anteprojetos e Orçamentos Preliminares para Prevenção e Combate a Incêndio e Pânico (incluindo Acessibilidade e Segurança de Pessoa com Deficiência) - Áreas Técnicas 10 (CM-3), 13 (CM-2) e Espaços Externos","un",0,"","",{"$f":"IF(A1309<>\"\",IF(AND(#REF!=\"Padrão\",$H$4=#REF!),BDI!$B$17,IF(AND(#REF!=\"Padrão\",$H$4=#REF!),BDI!$C$17,IF(AND(#REF!=\"Diferenciado\",$H$4=#REF!),BDI!$G$17,IF(AND(#REF!=\"Diferenciado\",$H$4=#REF!),BDI!$H$17,IF(#REF!=\"ZERO\",0))))),\"\")","v":{"$error":"#REF!"}},"",""]
["SF-01305","Anteprojetos e Orçamentos Preliminares para Prevenção e Combate a Incêndio e Pânico (incluindo Acessibilidade e Segurança de Pessoa com Deficiência) - Anexo II e Túnel do Tempo","un",0,"","",{"$f":"IF(A1310<>\"\",IF(AND(#REF!=\"Padrão\",$H$4=#REF!),BDI!$B$17,IF(AND(#REF!=\"Padrão\",$H$4=#REF!),BDI!$C$17,IF(AND(#REF!=\"Diferenciado\",$H$4=#REF!),BDI!$G$17,IF(AND(#REF!=\"Diferenciado\",$H$4=#REF!),BDI!$H$17,IF(#REF!=\"ZERO\",0))))),\"\")","v":{"$error":"#REF!"}},"",""]
["SF-01306","Projetos Executivos de Prevenção e Combate a Incêndio e Pânico (incluindo Acessibilidade e Segurança de Pessoa com Deficiência) - Bloco 01 (PRODASEN)","un",0,"","",{"$f":"IF(A1311<>\"\",IF(AND(#REF!=\"Padrão\",$H$4=#REF!),BDI!$B$17,IF(AND(#REF!=\"Padrão\",$H$4=#REF!),BDI!$C$17,IF(AND(#REF!=\"Diferenciado\",$H$4=#REF!),BDI!$G$17,IF(AND(#REF!=\"Diferenciado\",$H$4=#REF!),BDI!$H$17,IF(#REF!=\"ZERO\",0))))),\"\")","v":{"$error":"#REF!"}},"",""]
["SF-01307","Projetos Executivos de Prevenção e Combate a Incêndio e Pânico (incluindo Acessibilidade e Segurança de Pessoa com Deficiência) - Áreas Técnicas 10 (CM-3), 13 (CM-2) e Espaços Externos","un",0,"","",{"$f":"IF(A1312<>\"\",IF(AND(#REF!=\"Padrão\",$H$4=#REF!),BDI!$B$17,IF(AND(#REF!=\"Padrão\",$H$4=#REF!),BDI!$C$17,IF(AND(#REF!=\"Diferenciado\",$H$4=#REF!),BDI!$G$17,IF(AND(#REF!=\"Diferenciado\",$H$4=#REF!),BDI!$H$17,IF(#REF!=\"ZERO\",0))))),\"\")","v":{"$error":"#REF!"}},"",""]
["SF-01308","Projetos Executivos de Prevenção e Combate a Incêndio e Pânico (incluindo Acessibilidade e Segurança de Pessoa com Deficiência) - Anexo II e Túnel do Tempo","un",0,"","",{"$f":"IF(A1313<>\"\",IF(AND(#REF!=\"Padrão\",$H$4=#REF!),BDI!$B$17,IF(AND(#REF!=\"Padrão\",$H$4=#REF!),BDI!$C$17,IF(AND(#REF!=\"Diferenciado\",$H$4=#REF!),BDI!$G$17,IF(AND(#REF!=\"Diferenciado\",$H$4=#REF!),BDI!$H$17,IF(#REF!=\"ZERO\",0))))),\"\")","v":{"$error":"#REF!"}},"",""]
["SF-01309","Orçamentos Finais e Cronograma Físico-Financeiro para intervenções de Prevenção e Combate a Incêndio e Pânico (incluindo Acessibilidade e Segurança de Pessoa com Deficiência)","un",0,"","",{"$f":"IF(A1314<>\"\",IF(AND(#REF!=\"Padrão\",$H$4=#REF!),BDI!$B$17,IF(AND(#REF!=\"Padrão\",$H$4=#REF!),BDI!$C$17,IF(AND(#REF!=\"Diferenciado\",$H$4=#REF!),BDI!$G$17,IF(AND(#REF!=\"Diferenciado\",$H$4=#REF!),BDI!$H$17,IF(#REF!=\"ZERO\",0))))),\"\")","v":{"$error":"#REF!"}},"",""]
["SF-01310","Cambota elastomérica de 8”","un",0,{"$f":"OFFSET(INDEX(Composições!A:J,MATCH(Orçamentária!A1315,Composições!A:A,0),8),2,0)","v":31.69998},0,{"$f":"IF(A1315<>\"\",IF(AND(#REF!=\"Padrão\",$H$4=#REF!),BDI!$B$17,IF(AND(#REF!=\"Padrão\",$H$4=#REF!),BDI!$C$17,IF(AND(#REF!=\"Diferenciado\",$H$4=#REF!),BDI!$G$17,IF(AND(#REF!=\"Diferenciado\",$H$4=#REF!),BDI!$H$17,IF(#REF!=\"ZERO\",0))))),\"\")","v":{"$error":"#REF!"}},{"$error":"#REF!"},{"$error":"#REF!"}]
["SF-01311","Curva raio curto 45° em aço carbono para solda de topo DN 125 (5\" NPS)","un",0,{"$f":"OFFSET(INDEX(Composições!A:J,MATCH(Orçamentária!A1316,Composições!A:A,0),8),2,0)","v":67.363272599999988},0,{"$f":"IF(A1316<>\"\",IF(AND(#REF!=\"Padrão\",$H$4=#REF!),BDI!$B$17,IF(AND(#REF!=\"Padrão\",$H$4=#REF!),BDI!$C$17,IF(AND(#REF!=\"Diferenciado\",$H$4=#REF!),BDI!$G$17,IF(AND(#REF!=\"Diferenciado\",$H$4=#REF!),BDI!$H$17,IF(#REF!=\"ZERO\",0))))),\"\")","v":{"$error":"#REF!"}},{"$error":"#REF!"},{"$error":"#REF!"}]
["SF-01312","Curva raio curto 90° em aço carbono para solda de topo DN 125 (5\" NPS)","un",0,{"$f":"OFFSET(INDEX(Composições!A:J,MATCH(Orçamentária!A1317,Composições!A:A,0),8),2,0)","v":67.363272599999988},0,{"$f":"IF(A1317<>\"\",IF(AND(#REF!=\"Padrão\",$H$4=#REF!),BDI!$B$17,IF(AND(#REF!=\"Padrão\",$H$4=#REF!),BDI!$C$17,IF(AND(#REF!=\"Diferenciado\",$H$4=#REF!),BDI!$G$17,IF(AND(#REF!=\"Diferenciado\",$H$4=#REF!),BDI!$H$17,IF(#REF!=\"ZERO\",0))))),\"\")","v":{"$error":"#REF!"}},{"$error":"#REF!"},{"$error":"#REF!"}]
["SF-01313","Curva raio longo 90° em aço carbono para solda de topo DN 125 (5\" NPS)","un",0,{"$f":"OFFSET(INDEX(Composições!A:J,MATCH(Orçamentária!A1318,Composições!A:A,0),8),2,0)","v":67.363272599999988},0,{"$f":"IF(A1318<>\"\",IF(AND(#REF!=\"Padrão\",$H$4=#REF!),BDI!$B$17,IF(AND(#REF!=\"Padrão\",$H$4=#REF!),BDI!$C$17,IF(AND(#REF!=\"Diferenciado\",$H$4=#REF!),BDI!$G$17,IF(AND(#REF!=\"Diferenciado\",$H$4=#REF!),BDI!$H$17,IF(#REF!=\"ZERO\",0))))),\"\")","v":{"$error":"#REF!"}},{"$error":"#REF!"},{"$error":"#REF!"}]
["SF-01314","Curva raio longo 90° em aço carbono para solda de topo DN 200 (8\" NPS)","un",0,{"$f":"OFFSET(INDEX(Composições!A:J,MATCH(Orçamentária!A1319,Composições!A:A,0),8),2,0)","v":77.726852999999991},0,{"$f":"IF(A1319<>\"\",IF(AND(#REF!=\"Padrão\",$H$4=#REF!),BDI!$B$17,IF(AND(#REF!=\"Padrão\",$H$4=#REF!),BDI!$C$17,IF(AND(#REF!=\"Diferenciado\",$H$4=#REF!),BDI!$G$17,IF(AND(#REF!=\"Diferenciado\",$H$4=#REF!),BDI!$H$17,IF(#REF!=\"ZERO\",0))))),\"\")","v":{"$error":"#REF!"}},{"$error":"#REF!"},{"$error":"#REF!"}]
["SF-01315","Eliminador de ar para líquidos DN 20 (3/4\" NPS)","un",0,{"$f":"OFFSET(INDEX(Composições!A:J,MATCH(Orçamentária!A1320,Composições!A:A,0),8),2,0)","v":13.361711999999999},0,{"$f":"IF(A1320<>\"\",IF(AND(#REF!=\"Padrão\",$H$4=#REF!),BDI!$B$17,IF(AND(#REF!=\"Padrão\",$H$4=#REF!),BDI!$C$17,IF(AND(#REF!=\"Diferenciado\",$H$4=#REF!),BDI!$G$17,IF(AND(#REF!=\"Diferenciado\",$H$4=#REF!),BDI!$H$17,IF(#REF!=\"ZERO\",0))))),\"\")","v":{"$error":"#REF!"}},{"$error":"#REF!"},{"$error":"#REF!"}]
["SF-01316","Flange de pescoço, aço carbono, classe 150, DN 125 (5\" NPS)","un",0,{"$f":"OFFSET(INDEX(Composições!A:J,MATCH(Orçamentária!A1321,Composições!A:A,0),8),2,0)","v":67.363272599999988},0,{"$f":"IF(A1321<>\"\",IF(AND(#REF!=\"Padrão\",$H$4=#REF!),BDI!$B$17,IF(AND(#REF!=\"Padrão\",$H$4=#REF!),BDI!$C$17,IF(AND(#REF!=\"Diferenciado\",$H$4=#REF!),BDI!$G$17,IF(AND(#REF!=\"Diferenciado\",$H$4=#REF!),BDI!$H$17,IF(#REF!=\"ZERO\",0))))),\"\")","v":{"$error":"#REF!"}},{"$error":"#REF!"},{"$error":"#REF!"}]
["SF-01317","Isolamento elastomérico para tubulações de ferro de 5”","m",0,{"$f":"OFFSET(INDEX(Composições!A:J,MATCH(Orçamentária!A1322,Composições!A:A,0),8),2,0)","v":3.2722559999999996},0,{"$f":"IF(A1322<>\"\",IF(AND(#REF!=\"Padrão\",$H$4=#REF!),BDI!$B$17,IF(AND(#REF!=\"Padrão\",$H$4=#REF!),BDI!$C$17,IF(AND(#REF!=\"Diferenciado\",$H$4=#REF!),BDI!$G$17,IF(AND(#REF!=\"Diferenciado\",$H$4=#REF!),BDI!$H$17,IF(#REF!=\"ZERO\",0))))),\"\")","v":{"$error":"#REF!"}},{"$error":"#REF!"},{"$error":"#REF!"}]
["SF-01318","Meia luva em aço carbono DN 15 (1/2\" NPS)","un",0,{"$f":"OFFSET(INDEX(Composições!A:J,MATCH(Orçamentária!A1323,Composições!A:A,0),8),2,0)","v":6.3209579999999992},0,{"$f":"IF(A1323<>\"\",IF(AND(#REF!=\"Padrão\",$H$4=#REF!),BDI!$B$17,IF(AND(#REF!=\"Padrão\",$H$4=#REF!),BDI!$C$17,IF(AND(#REF!=\"Diferenciado\",$H$4=#REF!),BDI!$G$17,IF(AND(#REF!=\"Diferenciado\",$H$4=#REF!),BDI!$H$17,IF(#REF!=\"ZERO\",0))))),\"\")","v":{"$error":"#REF!"}},{"$error":"#REF!"},{"$error":"#REF!"}]
["SF-01319","Redução concêntrica em aço carbono para solda de topo DN 200 (8\" NPS) × DN 125 (5\" NPS)","un",0,{"$f":"OFFSET(INDEX(Composições!A:J,MATCH(Orçamentária!A1324,Composições!A:A,0),8),2,0)","v":45.533165599999997},0,{"$f":"IF(A1324<>\"\",IF(AND(#REF!=\"Padrão\",$H$4=#REF!),BDI!$B$17,IF(AND(#REF!=\"Padrão\",$H$4=#REF!),BDI!$C$17,IF(AND(#REF!=\"Diferenciado\",$H$4=#REF!),BDI!$G$17,IF(AND(#REF!=\"Diferenciado\",$H$4=#REF!),BDI!$H$17,IF(#REF!=\"ZERO\",0))))),\"\")","v":{"$error":"#REF!"}},{"$error":"#REF!"},{"$error":"#REF!"}]
["SF-01320","Suporte metálico tipo T com alça","un",0,"","",{"$f":"IF(A1325<>\"\",IF(AND(#REF!=\"Padrão\",$H$4=#REF!),BDI!$B$17,IF(AND(#REF!=\"Padrão\",$H$4=#REF!),BDI!$C$17,IF(AND(#REF!=\"Diferenciado\",$H$4=#REF!),BDI!$G$17,IF(AND(#REF!=\"Diferenciado\",$H$4=#REF!),BDI!$H$17,IF(#REF!=\"ZERO\",0))))),\"\")","v":{"$error":"#REF!"}},"",""]
["SF-01321","Suporte metálico tipo T","un",0,"","",{"$f":"IF(A1326<>\"\",IF(AND(#REF!=\"Padrão\",$H$4=#REF!),BDI!$B$17,IF(AND(#REF!=\"Padrão\",$H$4=#REF!),BDI!$C$17,IF(AND(#REF!=\"Diferenciado\",$H$4=#REF!),BDI!$G$17,IF(AND(#REF!=\"Diferenciado\",$H$4=#REF!),BDI!$H$17,IF(#REF!=\"ZERO\",0))))),\"\")","v":{"$error":"#REF!"}},"",""]
["SF-01322","Suporte metálico tipo trave alta","un",0,"","",{"$f":"IF(A1327<>\"\",IF(AND(#REF!=\"Padrão\",$H$4=#REF!),BDI!$B$17,IF(AND(#REF!=\"Padrão\",$H$4=#REF!),BDI!$C$17,IF(AND(#REF!=\"Diferenciado\",$H$4=#REF!),BDI!$G$17,IF(AND(#REF!=\"Diferenciado\",$H$4=#REF!),BDI!$H$17,IF(#REF!=\"ZERO\",0))))),\"\")","v":{"$error":"#REF!"}},"",""]
["SF-01323","Suporte metálico tipo trave baixa","un",0,"","",{"$f":"IF(A1328<>\"\",IF(AND(#REF!=\"Padrão\",$H$4=#REF!),BDI!$B$17,IF(AND(#REF!=\"Padrão\",$H$4=#REF!),BDI!$C$17,IF(AND(#REF!=\"Diferenciado\",$H$4=#REF!),BDI!$G$17,IF(AND(#REF!=\"Diferenciado\",$H$4=#REF!),BDI!$H$17,IF(#REF!=\"ZERO\",0))))),\"\")","v":{"$error":"#REF!"}},"",""]
["SF-01324","Suporte metálico tipo trave com suportes desiguais","un",0,"","",{"$f":"IF(A1329<>\"\",IF(AND(#REF!=\"Padrão\",$H$4=#REF!),BDI!$B$17,IF(AND(#REF!=\"Padrão\",$H$4=#REF!),BDI!$C$17,IF(AND(#REF!=\"Diferenciado\",$H$4=#REF!),BDI!$G$17,IF(AND(#REF!=\"Diferenciado\",$H$4=#REF!),BDI!$H$17,IF(#REF!=\"ZERO\",0))))),\"\")","v":{"$error":"#REF!"}},"",""]
["SF-01325","Tê em aço carbono para solda de topo DN 200 (8\" NPS)","un",0,{"$f":"OFFSET(INDEX(Composições!A:J,MATCH(Orçamentária!A1330,Composições!A:A,0),8),2,0)","v":70.542656599999987},0,{"$f":"IF(A1330<>\"\",IF(AND(#REF!=\"Padrão\",$H$4=#REF!),BDI!$B$17,IF(AND(#REF!=\"Padrão\",$H$4=#REF!),BDI!$C$17,IF(AND(#REF!=\"Diferenciado\",$H$4=#REF!),BDI!$G$17,IF(AND(#REF!=\"Diferenciado\",$H$4=#REF!),BDI!$H$17,IF(#REF!=\"ZERO\",0))))),\"\")","v":{"$error":"#REF!"}},{"$error":"#REF!"},{"$error":"#REF!"}]
["SF-01326","Tubo de aço-carbono preto DN 125 (5\" NPS)","m",0,{"$f":"OFFSET(INDEX(Composições!A:J,MATCH(Orçamentária!A1331,Composições!A:A,0),8),2,0)","v":269.90256485000003},0,{"$f":"IF(A1331<>\"\",IF(AND(#REF!=\"Padrão\",$H$4=#REF!),BDI!$B$17,IF(AND(#REF!=\"Padrão\",$H$4=#REF!),BDI!$C$17,IF(AND(#REF!=\"Diferenciado\",$H$4=#REF!),BDI!$G$17,IF(AND(#REF!=\"Diferenciado\",$H$4=#REF!),BDI!$H$17,IF(#REF!=\"ZERO\",0))))),\"\")","v":{"$error":"#REF!"}},{"$error":"#REF!"},{"$error":"#REF!"}]
["SF-01327","Tubo de aço-carbono preto DN 200 (8\" NPS)","m",0,{"$f":"OFFSET(INDEX(Composições!A:J,MATCH(Orçamentária!A1332,Composições!A:A,0),8),2,0)","v":450.3483683},0,{"$f":"IF(A1332<>\"\",IF(AND(#REF!=\"Padrão\",$H$4=#REF!),BDI!$B$17,IF(AND(#REF!=\"Padrão\",$H$4=#REF!),BDI!$C$17,IF(AND(#REF!=\"Diferenciado\",$H$4=#REF!),BDI!$G$17,IF(AND(#REF!=\"Diferenciado\",$H$4=#REF!),BDI!$H$17,IF(#REF!=\"ZERO\",0))))),\"\")","v":{"$error":"#REF!"}},{"$error":"#REF!"},{"$error":"#REF!"}]
["SF-01328","Válvula de esfera em bronze 1/2”","un",0,{"$f":"OFFSET(INDEX(Composições!A:J,MATCH(Orçamentária!A1333,Composições!A:A,0),8),2,0)","v":66.838565749999987},0,{"$f":"IF(A1333<>\"\",IF(AND(#REF!=\"Padrão\",$H$4=#REF!),BDI!$B$17,IF(AND(#REF!=\"Padrão\",$H$4=#REF!),BDI!$C$17,IF(AND(#REF!=\"Diferenciado\",$H$4=#REF!),BDI!$G$17,IF(AND(#REF!=\"Diferenciado\",$H$4=#REF!),BDI!$H$17,IF(#REF!=\"ZERO\",0))))),\"\")","v":{"$error":"#REF!"}},{"$error":"#REF!"},{"$error":"#REF!"}]
["SF-01329","Válvula gaveta com flange DN 125 (5\" NPS)","un",0,{"$f":"OFFSET(INDEX(Composições!A:J,MATCH(Orçamentária!A1334,Composições!A:A,0),8),2,0)","v":29.539594499999993},0,{"$f":"IF(A1334<>\"\",IF(AND(#REF!=\"Padrão\",$H$4=#REF!),BDI!$B$17,IF(AND(#REF!=\"Padrão\",$H$4=#REF!),BDI!$C$17,IF(AND(#REF!=\"Diferenciado\",$H$4=#REF!),BDI!$G$17,IF(AND(#REF!=\"Diferenciado\",$H$4=#REF!),BDI!$H$17,IF(#REF!=\"ZERO\",0))))),\"\")","v":{"$error":"#REF!"}},{"$error":"#REF!"},{"$error":"#REF!"}]
["SF-01330","Ar-condicionado split hi-wall inverter 18.000 BTU/h","un",0,"","",{"$f":"IF(A1335<>\"\",IF(AND(#REF!=\"Padrão\",$H$4=#REF!),BDI!$B$17,IF(AND(#REF!=\"Padrão\",$H$4=#REF!),BDI!$C$17,IF(AND(#REF!=\"Diferenciado\",$H$4=#REF!),BDI!$G$17,IF(AND(#REF!=\"Diferenciado\",$H$4=#REF!),BDI!$H$17,IF(#REF!=\"ZERO\",0))))),\"\")","v":{"$error":"#REF!"}},"",""]
["SF-01331","Cabo de fibra óptica monomodo 12 fibras","m",0,{"$f":"OFFSET(INDEX(Composições!A:J,MATCH(Orçamentária!A1336,Composições!A:A,0),8),2,0)","v":2.4951122999999997},0,{"$f":"IF(A1336<>\"\",IF(AND(#REF!=\"Padrão\",$H$4=#REF!),BDI!$B$17,IF(AND(#REF!=\"Padrão\",$H$4=#REF!),BDI!$C$17,IF(AND(#REF!=\"Diferenciado\",$H$4=#REF!),BDI!$G$17,IF(AND(#REF!=\"Diferenciado\",$H$4=#REF!),BDI!$H$17,IF(#REF!=\"ZERO\",0))))),\"\")","v":{"$error":"#REF!"}},{"$error":"#REF!"},{"$error":"#REF!"}]
["SF-01332","Cabo de fibra óptica monomodo 144 fibras","m",0,{"$f":"OFFSET(INDEX(Composições!A:J,MATCH(Orçamentária!A1337,Composições!A:A,0),8),2,0)","v":4.8709083999999994},0,{"$f":"IF(A1337<>\"\",IF(AND(#REF!=\"Padrão\",$H$4=#REF!),BDI!$B$17,IF(AND(#REF!=\"Padrão\",$H$4=#REF!),BDI!$C$17,IF(AND(#REF!=\"Diferenciado\",$H$4=#REF!),BDI!$G$17,IF(AND(#REF!=\"Diferenciado\",$H$4=#REF!),BDI!$H$17,IF(#REF!=\"ZERO\",0))))),\"\")","v":{"$error":"#REF!"}},{"$error":"#REF!"},{"$error":"#REF!"}]
["SF-01333","Caixa de passagem em alumínio 300x300x120mm","un",0,{"$f":"OFFSET(INDEX(Composições!A:J,MATCH(Orçamentária!A1338,Composições!A:A,0),8),2,0)","v":48.265699999999995},0,{"$f":"IF(A1338<>\"\",IF(AND(#REF!=\"Padrão\",$H$4=#REF!),BDI!$B$17,IF(AND(#REF!=\"Padrão\",$H$4=#REF!),BDI!$C$17,IF(AND(#REF!=\"Diferenciado\",$H$4=#REF!),BDI!$G$17,IF(AND(#REF!=\"Diferenciado\",$H$4=#REF!),BDI!$H$17,IF(#REF!=\"ZERO\",0))))),\"\")","v":{"$error":"#REF!"}},{"$error":"#REF!"},{"$error":"#REF!"}]
["SF-01334","Caixa de Passagem Subterrânea 1600x2000mm","un",0,{"$f":"OFFSET(INDEX(Composições!A:J,MATCH(Orçamentária!A1339,Composições!A:A,0),8),2,0)","v":1467.1015261369957},0,{"$f":"IF(A1339<>\"\",IF(AND(#REF!=\"Padrão\",$H$4=#REF!),BDI!$B$17,IF(AND(#REF!=\"Padrão\",$H$4=#REF!),BDI!$C$17,IF(AND(#REF!=\"Diferenciado\",$H$4=#REF!),BDI!$G$17,IF(AND(#REF!=\"Diferenciado\",$H$4=#REF!),BDI!$H$17,IF(#REF!=\"ZERO\",0))))),\"\")","v":{"$error":"#REF!"}},{"$error":"#REF!"},{"$error":"#REF!"}]
["SF-01335","Projeto Executivo de Rede de Telecomunicações Backbone","un",0,"","",{"$f":"IF(A1340<>\"\",IF(AND(#REF!=\"Padrão\",$H$4=#REF!),BDI!$B$17,IF(AND(#REF!=\"Padrão\",$H$4=#REF!),BDI!$C$17,IF(AND(#REF!=\"Diferenciado\",$H$4=#REF!),BDI!$G$17,IF(AND(#REF!=\"Diferenciado\",$H$4=#REF!),BDI!$H$17,IF(#REF!=\"ZERO\",0))))),\"\")","v":{"$error":"#REF!"}},"",""]
["SF-01336","Eletroduto PEAD 2”","m",0,{"$f":"OFFSET(INDEX(Composições!A:J,MATCH(Orçamentária!A1341,Composições!A:A,0),8),2,0)","v":9.1501150000000013},0,{"$f":"IF(A1341<>\"\",IF(AND(#REF!=\"Padrão\",$H$4=#REF!),BDI!$B$17,IF(AND(#REF!=\"Padrão\",$H$4=#REF!),BDI!$C$17,IF(AND(#REF!=\"Diferenciado\",$H$4=#REF!),BDI!$G$17,IF(AND(#REF!=\"Diferenciado\",$H$4=#REF!),BDI!$H$17,IF(#REF!=\"ZERO\",0))))),\"\")","v":{"$error":"#REF!"}},{"$error":"#REF!"},{"$error":"#REF!"}]
["SF-01337","Furo direcional por método não-destrutivo com fornecimento de duto","m",0,"","",{"$f":"IF(A1342<>\"\",IF(AND(#REF!=\"Padrão\",$H$4=#REF!),BDI!$B$17,IF(AND(#REF!=\"Padrão\",$H$4=#REF!),BDI!$C$17,IF(AND(#REF!=\"Diferenciado\",$H$4=#REF!),BDI!$G$17,IF(AND(#REF!=\"Diferenciado\",$H$4=#REF!),BDI!$H$17,IF(#REF!=\"ZERO\",0))))),\"\")","v":{"$error":"#REF!"}},"",""]
["SF-01338","Sondagem por Radar de Penetração de Solo - GPR","m",0,"","",{"$f":"IF(A1343<>\"\",IF(AND(#REF!=\"Padrão\",$H$4=#REF!),BDI!$B$17,IF(AND(#REF!=\"Padrão\",$H$4=#REF!),BDI!$C$17,IF(AND(#REF!=\"Diferenciado\",$H$4=#REF!),BDI!$G$17,IF(AND(#REF!=\"Diferenciado\",$H$4=#REF!),BDI!$H$17,IF(#REF!=\"ZERO\",0))))),\"\")","v":{"$error":"#REF!"}},"",""]
["SF-01339","Tampa em Ferro Fundido - Circular DN-600 mm Classe 400","un",0,{"$f":"OFFSET(INDEX(Composições!A:J,MATCH(Orçamentária!A1344,Composições!A:A,0),8),2,0)","v":528.7885080182084},0,{"$f":"IF(A1344<>\"\",IF(AND(#REF!=\"Padrão\",$H$4=#REF!),BDI!$B$17,IF(AND(#REF!=\"Padrão\",$H$4=#REF!),BDI!$C$17,IF(AND(#REF!=\"Diferenciado\",$H$4=#REF!),BDI!$G$17,IF(AND(#REF!=\"Diferenciado\",$H$4=#REF!),BDI!$H$17,IF(#REF!=\"ZERO\",0))))),\"\")","v":{"$error":"#REF!"}},{"$error":"#REF!"},{"$error":"#REF!"}]
[]
[{"$f":"SUBTOTAL(103,A6:A1345)","v":52},null,null,null,null,null,null,"CUSTO DIRETO",{"$f":"SUBTOTAL(109,F6:F1345)","v":340285.61749967007}]
[null,null,null,null,null,null,null,"CUSTO TOTAL",{"$f":"SUBTOTAL(109,I6:I1345)","v":422454.1}]

{"sheet":"BDI","index":4,"n_rows":48,"n_cols":9,"rows_kept":48,"cut":false,"hidden":false,"merged":[[4,0,6,0],[4,5,6,5],[47,0,47,8]]}
[{"$f":"Orçamentária!A1","v":"Manutenção de revestimentos de mármore nas fachadas do Edifício Principal e do Anexo I do SF"}]
["BENEFÍCIOS E DESPESAS INDIRETAS - BDI"]
[]
["BDI Edificações",null,null,null,null,"BDI mero fornecimento"]
["Componentes do BDI","Cálculo sem CPRB","Cálculo com CPRB",null,null,"Componentes do BDI","Cálculo sem CPRB","Cálculo com CPRB"]
[null,"não-desonerado","desonerado",null,null,null,"não-desonerado","desonerado"]
[null,"% considerado","% considerado",null,null,null,"% considerado","% considerado"]
["AC",3.5000000000000003E-2,3.5000000000000003E-2,null,null,"AC",1.7500000000000002E-2,1.7500000000000002E-2]
["S+G",8.0000000000000002E-3,8.0000000000000002E-3,null,null,"S+G",3.8999999999999998E-3,3.8999999999999998E-3]
["R",1.2500000000000001E-2,1.2500000000000001E-2,null,null,"R",5.5999999999999999E-3,5.5999999999999999E-3]
["DF",7.6E-3,7.6E-3,null,null,"DF",8.5000000000000006E-3,8.5000000000000006E-3]
["L",6.7799999999999999E-2,6.7799999999999999E-2,null,null,"L",3.5000000000000003E-2,3.5000000000000003E-2]
["PIS",6.4999999999999997E-3,6.4999999999999997E-3,null,null,"PIS",6.4999999999999997E-3,6.4999999999999997E-3]
["COFINS",0.03,0.03,null,null,"COFINS",0.03,0.03]
["CPRB",0,4.4999999999999998E-2,null,null,"CPRB",0,4.4999999999999998E-2]
["ISS",0.01,0.01,null,null,"ISS",0,0]
["BDI Edificações",{"$f":"ROUND(((1+B8+B9+B10)*(1+B11)*(1+B12))/(1-(B13+B14+B15+B16))-1,4)","v":0.191},{"$f":"ROUND(((1+C8+C9+C10)*(1+C11)*(1+C12))/(1-(C13+C14+C15+C16))-1,4)","v":0.25},null,null,"BDI mero fornecimento",{"$f":"ROUND(((1+G8+G9+G10)*(1+G11)*(1+G12))/(1-(G13+G14+G15+G16))-1,4)","v":0.11260000000000001},{"$f":"ROUND(((1+H8+H9+H10)*(1+H11)*(1+H12))/(1-(H13+H14+H15+H16))-1,4)","v":0.1671}]
[]
["Referências TCU - BDI Edificações",null,null,null,null,"Referências TCU - BDI mero fornecimento"]
["Componentes do BDI","1º Quartil","Médio","3º Quartil",null,"Componentes do BDI","1º Quartil","Médio","3º Quartil"]
["AC",0.03,0.04,5.5E-2,null,"AC",1.4999999999999999E-2,3.4500000000000003E-2,4.4900000000000002E-2]
["S+G",8.0000000000000002E-3,8.0000000000000002E-3,0.01,null,"S+G",3.0000000000000001E-3,4.7999999999999996E-3,8.2000000000000007E-3]
["R",9.7000000000000003E-3,1.2699999999999999E-2,1.2699999999999999E-2,null,"R",5.5999999999999999E-3,8.5000000000000006E-3,8.8999999999999999E-3]
["DF",5.8999999999999999E-3,1.23E-2,1.3899999999999999E-2,null,"DF",8.5000000000000006E-3,8.5000000000000006E-3,1.11E-2]
["L",6.1600000000000002E-2,7.400000000000001E-2,8.9599999999999999E-2,null,"L",3.5000000000000003E-2,5.11E-2,6.2199999999999998E-2]
["BDI Edificações",0.2034,0.22120000000000001,0.25,null,"BDI mero fornecimento",0.111,0.14019999999999999,0.16800000000000001]
[]
[]
[]
[]
[]
[]
[]
[]
[]
[]
[]
[]
[]
[]
[]
[]
[]
[]
[]
[]
[]
["Fontes: Acórdãos 2.369/2011-TCU-Plenário e 2.622/2013-TCU-Plenário."]